Workbook

Sheet Tourist_Observations
A1: Observation_ID | B1: Destination | C1: Tourist_ID | D1: Survey_Date | E1: Stay_Days | F1: Water_Drinking_L | G1: Water_Bathing_L | H1: Water_Toilet_L | I1: Water_Washing_L | J1: Water_Kitchen_L | K1: Water_Laundry_L | L1: Water_Other_L | M1: Total_Water_L | N1: Electricity_kWh | O1: LPG_kg | P1: Diesel_L | Q1: Petrol_L | R1: Food_Rice_kg | S1: Food_Vegetables_kg | T1: Food_Fish_Meat_kg | U1: Food_Dairy_kg | V1: Food_Other_kg | W1: Total_Food_kg | X1: Waste_Organic_kg | Y1: Waste_Plastic_kg | Z1: Waste_Paper_kg | AA1: Waste_Glass_Metal_kg | AB1: Waste_Other_kg | AC1: Total_Waste_kg | AD1: CO2_Electricity_kg | AE1: CO2_LPG_kg | AF1: CO2_Diesel_kg | AG1: CO2_Petrol_kg | AH1: CO2_Food_kg | AI1: CO2_Waste_kg | AJ1: Total_CO2e_kg | AK1: Water_Footprint_L | AL1: Energy_Footprint_kWh | AM1: Carbon_Footprint_kgCO2e | AN1: Waste_Generation_kg_per_day | AO1: Water_L_per_tourist_day | AP1: Energy_kWh_per_tourist_day | AQ1: CO2_kg_per_tourist_day | AR1: EF_Water_Component | AS1: EF_Energy_Component | AT1: EF_Food_Component | AU1: EF_Carbon_Component | AV1: EF_Waste_Component | AW1: Composite_EF_Index
A2: 01-001 | B2: Sajnekhali | C2: SAJ-001 | M2: =IF(COUNTA(F2:L2)=0,"",SUM(F2:L2)) | W2: =IF(COUNTA(R2:V2)=0,"",SUM(R2:V2)) | AC2: =IF(COUNTA(X2:AB2)=0,"",SUM(X2:AB2)) | AD2: =IF(N2="","",N2*Assumptions!$B$2) | AE2: =IF(O2="","",O2*Assumptions!$B$3) | AF2: =IF(P2="","",P2*Assumptions!$B$4) | AG2: =IF(Q2="","",Q2*Assumptions!$B$5) | AH2: =IF(W2="","",W2*Assumptions!$B$6) | AI2: =IF(AC2="","",AC2*Assumptions!$B$7) | AJ2: =IF(COUNTA(AD2:AI2)=0,"",SUM(AD2:AI2)) -> 0 | AK2: =IF(M2="","",M2) | AL2: =IF(N2="","",N2) | AM2: =IF(AJ2="","",AJ2) -> 0 | AN2: =IF(AC2="","",AC2) | AO2: =IF(AND(M2<>"",E2>0),M2/E2,"") | AP2: =IF(AND(N2<>"",E2>0),N2/E2,"") | AQ2: =IF(AND(AJ2<>"",E2>0),AJ2/E2,"") | AR2: =IF(AO2="","",AO2/Assumptions!$B$9) | AS2: =IF(AP2="","",AP2/Assumptions!$B$10) | AT2: =IF(W2="","",W2/Assumptions!$B$11) | AU2: =IF(AJ2="","",AJ2/Assumptions!$B$12) -> 0 | AV2: =IF(AC2="","",AC2/Assumptions!$B$13) | AW2: =IF(COUNTA(AR2:AV2)=0,"",AVERAGE(AR2:AV2)) -> 0
A3: 01-002 | B3: Sajnekhali | C3: SAJ-002 | M3: =IF(COUNTA(F3:L3)=0,"",SUM(F3:L3)) | W3: =IF(COUNTA(R3:V3)=0,"",SUM(R3:V3)) | AC3: =IF(COUNTA(X3:AB3)=0,"",SUM(X3:AB3)) | AD3: =IF(N3="","",N3*Assumptions!$B$2) | AE3: =IF(O3="","",O3*Assumptions!$B$3) | AF3: =IF(P3="","",P3*Assumptions!$B$4) | AG3: =IF(Q3="","",Q3*Assumptions!$B$5) | AH3: =IF(W3="","",W3*Assumptions!$B$6) | AI3: =IF(AC3="","",AC3*Assumptions!$B$7) | AJ3: =IF(COUNTA(AD3:AI3)=0,"",SUM(AD3:AI3)) -> 0 | AK3: =IF(M3="","",M3) | AL3: =IF(N3="","",N3) | AM3: =IF(AJ3="","",AJ3) -> 0 | AN3: =IF(AC3="","",AC3) | AO3: =IF(AND(M3<>"",E3>0),M3/E3,"") | AP3: =IF(AND(N3<>"",E3>0),N3/E3,"") | AQ3: =IF(AND(AJ3<>"",E3>0),AJ3/E3,"") | AR3: =IF(AO3="","",AO3/Assumptions!$B$9) | AS3: =IF(AP3="","",AP3/Assumptions!$B$10) | AT3: =IF(W3="","",W3/Assumptions!$B$11) | AU3: =IF(AJ3="","",AJ3/Assumptions!$B$12) -> 0 | AV3: =IF(AC3="","",AC3/Assumptions!$B$13) | AW3: =IF(COUNTA(AR3:AV3)=0,"",AVERAGE(AR3:AV3)) -> 0
A4: 01-003 | B4: Sajnekhali | C4: SAJ-003 | M4: =IF(COUNTA(F4:L4)=0,"",SUM(F4:L4)) | W4: =IF(COUNTA(R4:V4)=0,"",SUM(R4:V4)) | AC4: =IF(COUNTA(X4:AB4)=0,"",SUM(X4:AB4)) | AD4: =IF(N4="","",N4*Assumptions!$B$2) | AE4: =IF(O4="","",O4*Assumptions!$B$3) | AF4: =IF(P4="","",P4*Assumptions!$B$4) | AG4: =IF(Q4="","",Q4*Assumptions!$B$5) | AH4: =IF(W4="","",W4*Assumptions!$B$6) | AI4: =IF(AC4="","",AC4*Assumptions!$B$7) | AJ4: =IF(COUNTA(AD4:AI4)=0,"",SUM(AD4:AI4)) -> 0 | AK4: =IF(M4="","",M4) | AL4: =IF(N4="","",N4) | AM4: =IF(AJ4="","",AJ4) -> 0 | AN4: =IF(AC4="","",AC4) | AO4: =IF(AND(M4<>"",E4>0),M4/E4,"") | AP4: =IF(AND(N4<>"",E4>0),N4/E4,"") | AQ4: =IF(AND(AJ4<>"",E4>0),AJ4/E4,"") | AR4: =IF(AO4="","",AO4/Assumptions!$B$9) | AS4: =IF(AP4="","",AP4/Assumptions!$B$10) | AT4: =IF(W4="","",W4/Assumptions!$B$11) | AU4: =IF(AJ4="","",AJ4/Assumptions!$B$12) -> 0 | AV4: =IF(AC4="","",AC4/Assumptions!$B$13) | AW4: =IF(COUNTA(AR4:AV4)=0,"",AVERAGE(AR4:AV4)) -> 0
A5: 01-004 | B5: Sajnekhali | C5: SAJ-004 | M5: =IF(COUNTA(F5:L5)=0,"",SUM(F5:L5)) | W5: =IF(COUNTA(R5:V5)=0,"",SUM(R5:V5)) | AC5: =IF(COUNTA(X5:AB5)=0,"",SUM(X5:AB5)) | AD5: =IF(N5="","",N5*Assumptions!$B$2) | AE5: =IF(O5="","",O5*Assumptions!$B$3) | AF5: =IF(P5="","",P5*Assumptions!$B$4) | AG5: =IF(Q5="","",Q5*Assumptions!$B$5) | AH5: =IF(W5="","",W5*Assumptions!$B$6) | AI5: =IF(AC5="","",AC5*Assumptions!$B$7) | AJ5: =IF(COUNTA(AD5:AI5)=0,"",SUM(AD5:AI5)) -> 0 | AK5: =IF(M5="","",M5) | AL5: =IF(N5="","",N5) | AM5: =IF(AJ5="","",AJ5) -> 0 | AN5: =IF(AC5="","",AC5) | AO5: =IF(AND(M5<>"",E5>0),M5/E5,"") | AP5: =IF(AND(N5<>"",E5>0),N5/E5,"") | AQ5: =IF(AND(AJ5<>"",E5>0),AJ5/E5,"") | AR5: =IF(AO5="","",AO5/Assumptions!$B$9) | AS5: =IF(AP5="","",AP5/Assumptions!$B$10) | AT5: =IF(W5="","",W5/Assumptions!$B$11) | AU5: =IF(AJ5="","",AJ5/Assumptions!$B$12) -> 0 | AV5: =IF(AC5="","",AC5/Assumptions!$B$13) | AW5: =IF(COUNTA(AR5:AV5)=0,"",AVERAGE(AR5:AV5)) -> 0
A6: 01-005 | B6: Sajnekhali | C6: SAJ-005 | M6: =IF(COUNTA(F6:L6)=0,"",SUM(F6:L6)) | W6: =IF(COUNTA(R6:V6)=0,"",SUM(R6:V6)) | AC6: =IF(COUNTA(X6:AB6)=0,"",SUM(X6:AB6)) | AD6: =IF(N6="","",N6*Assumptions!$B$2) | AE6: =IF(O6="","",O6*Assumptions!$B$3) | AF6: =IF(P6="","",P6*Assumptions!$B$4) | AG6: =IF(Q6="","",Q6*Assumptions!$B$5) | AH6: =IF(W6="","",W6*Assumptions!$B$6) | AI6: =IF(AC6="","",AC6*Assumptions!$B$7) | AJ6: =IF(COUNTA(AD6:AI6)=0,"",SUM(AD6:AI6)) -> 0 | AK6: =IF(M6="","",M6) | AL6: =IF(N6="","",N6) | AM6: =IF(AJ6="","",AJ6) -> 0 | AN6: =IF(AC6="","",AC6) | AO6: =IF(AND(M6<>"",E6>0),M6/E6,"") | AP6: =IF(AND(N6<>"",E6>0),N6/E6,"") | AQ6: =IF(AND(AJ6<>"",E6>0),AJ6/E6,"") | AR6: =IF(AO6="","",AO6/Assumptions!$B$9) | AS6: =IF(AP6="","",AP6/Assumptions!$B$10) | AT6: =IF(W6="","",W6/Assumptions!$B$11) | AU6: =IF(AJ6="","",AJ6/Assumptions!$B$12) -> 0 | AV6: =IF(AC6="","",AC6/Assumptions!$B$13) | AW6: =IF(COUNTA(AR6:AV6)=0,"",AVERAGE(AR6:AV6)) -> 0
A7: 01-006 | B7: Sajnekhali | C7: SAJ-006 | M7: =IF(COUNTA(F7:L7)=0,"",SUM(F7:L7)) | W7: =IF(COUNTA(R7:V7)=0,"",SUM(R7:V7)) | AC7: =IF(COUNTA(X7:AB7)=0,"",SUM(X7:AB7)) | AD7: =IF(N7="","",N7*Assumptions!$B$2) | AE7: =IF(O7="","",O7*Assumptions!$B$3) | AF7: =IF(P7="","",P7*Assumptions!$B$4) | AG7: =IF(Q7="","",Q7*Assumptions!$B$5) | AH7: =IF(W7="","",W7*Assumptions!$B$6) | AI7: =IF(AC7="","",AC7*Assumptions!$B$7) | AJ7: =IF(COUNTA(AD7:AI7)=0,"",SUM(AD7:AI7)) -> 0 | AK7: =IF(M7="","",M7) | AL7: =IF(N7="","",N7) | AM7: =IF(AJ7="","",AJ7) -> 0 | AN7: =IF(AC7="","",AC7) | AO7: =IF(AND(M7<>"",E7>0),M7/E7,"") | AP7: =IF(AND(N7<>"",E7>0),N7/E7,"") | AQ7: =IF(AND(AJ7<>"",E7>0),AJ7/E7,"") | AR7: =IF(AO7="","",AO7/Assumptions!$B$9) | AS7: =IF(AP7="","",AP7/Assumptions!$B$10) | AT7: =IF(W7="","",W7/Assumptions!$B$11) | AU7: =IF(AJ7="","",AJ7/Assumptions!$B$12) -> 0 | AV7: =IF(AC7="","",AC7/Assumptions!$B$13) | AW7: =IF(COUNTA(AR7:AV7)=0,"",AVERAGE(AR7:AV7)) -> 0
A8: 01-007 | B8: Sajnekhali | C8: SAJ-007 | M8: =IF(COUNTA(F8:L8)=0,"",SUM(F8:L8)) | W8: =IF(COUNTA(R8:V8)=0,"",SUM(R8:V8)) | AC8: =IF(COUNTA(X8:AB8)=0,"",SUM(X8:AB8)) | AD8: =IF(N8="","",N8*Assumptions!$B$2) | AE8: =IF(O8="","",O8*Assumptions!$B$3) | AF8: =IF(P8="","",P8*Assumptions!$B$4) | AG8: =IF(Q8="","",Q8*Assumptions!$B$5) | AH8: =IF(W8="","",W8*Assumptions!$B$6) | AI8: =IF(AC8="","",AC8*Assumptions!$B$7) | AJ8: =IF(COUNTA(AD8:AI8)=0,"",SUM(AD8:AI8)) -> 0 | AK8: =IF(M8="","",M8) | AL8: =IF(N8="","",N8) | AM8: =IF(AJ8="","",AJ8) -> 0 | AN8: =IF(AC8="","",AC8) | AO8: =IF(AND(M8<>"",E8>0),M8/E8,"") | AP8: =IF(AND(N8<>"",E8>0),N8/E8,"") | AQ8: =IF(AND(AJ8<>"",E8>0),AJ8/E8,"") | AR8: =IF(AO8="","",AO8/Assumptions!$B$9) | AS8: =IF(AP8="","",AP8/Assumptions!$B$10) | AT8: =IF(W8="","",W8/Assumptions!$B$11) | AU8: =IF(AJ8="","",AJ8/Assumptions!$B$12) -> 0 | AV8: =IF(AC8="","",AC8/Assumptions!$B$13) | AW8: =IF(COUNTA(AR8:AV8)=0,"",AVERAGE(AR8:AV8)) -> 0
A9: 01-008 | B9: Sajnekhali | C9: SAJ-008 | M9: =IF(COUNTA(F9:L9)=0,"",SUM(F9:L9)) | W9: =IF(COUNTA(R9:V9)=0,"",SUM(R9:V9)) | AC9: =IF(COUNTA(X9:AB9)=0,"",SUM(X9:AB9)) | AD9: =IF(N9="","",N9*Assumptions!$B$2) | AE9: =IF(O9="","",O9*Assumptions!$B$3) | AF9: =IF(P9="","",P9*Assumptions!$B$4) | AG9: =IF(Q9="","",Q9*Assumptions!$B$5) | AH9: =IF(W9="","",W9*Assumptions!$B$6) | AI9: =IF(AC9="","",AC9*Assumptions!$B$7) | AJ9: =IF(COUNTA(AD9:AI9)=0,"",SUM(AD9:AI9)) -> 0 | AK9: =IF(M9="","",M9) | AL9: =IF(N9="","",N9) | AM9: =IF(AJ9="","",AJ9) -> 0 | AN9: =IF(AC9="","",AC9) | AO9: =IF(AND(M9<>"",E9>0),M9/E9,"") | AP9: =IF(AND(N9<>"",E9>0),N9/E9,"") | AQ9: =IF(AND(AJ9<>"",E9>0),AJ9/E9,"") | AR9: =IF(AO9="","",AO9/Assumptions!$B$9) | AS9: =IF(AP9="","",AP9/Assumptions!$B$10) | AT9: =IF(W9="","",W9/Assumptions!$B$11) | AU9: =IF(AJ9="","",AJ9/Assumptions!$B$12) -> 0 | AV9: =IF(AC9="","",AC9/Assumptions!$B$13) | AW9: =IF(COUNTA(AR9:AV9)=0,"",AVERAGE(AR9:AV9)) -> 0
A10: 01-009 | B10: Sajnekhali | C10: SAJ-009 | M10: =IF(COUNTA(F10:L10)=0,"",SUM(F10:L10)) | W10: =IF(COUNTA(R10:V10)=0,"",SUM(R10:V10)) | AC10: =IF(COUNTA(X10:AB10)=0,"",SUM(X10:AB10)) | AD10: =IF(N10="","",N10*Assumptions!$B$2) | AE10: =IF(O10="","",O10*Assumptions!$B$3) | AF10: =IF(P10="","",P10*Assumptions!$B$4) | AG10: =IF(Q10="","",Q10*Assumptions!$B$5) | AH10: =IF(W10="","",W10*Assumptions!$B$6) | AI10: =IF(AC10="","",AC10*Assumptions!$B$7) | AJ10: =IF(COUNTA(AD10:AI10)=0,"",SUM(AD10:AI10)) -> 0 | AK10: =IF(M10="","",M10) | AL10: =IF(N10="","",N10) | AM10: =IF(AJ10="","",AJ10) -> 0 | AN10: =IF(AC10="","",AC10) | AO10: =IF(AND(M10<>"",E10>0),M10/E10,"") | AP10: =IF(AND(N10<>"",E10>0),N10/E10,"") | AQ10: =IF(AND(AJ10<>"",E10>0),AJ10/E10,"") | AR10: =IF(AO10="","",AO10/Assumptions!$B$9) | AS10: =IF(AP10="","",AP10/Assumptions!$B$10) | AT10: =IF(W10="","",W10/Assumptions!$B$11) | AU10: =IF(AJ10="","",AJ10/Assumptions!$B$12) -> 0 | AV10: =IF(AC10="","",AC10/Assumptions!$B$13) | AW10: =IF(COUNTA(AR10:AV10)=0,"",AVERAGE(AR10:AV10)) -> 0
A11: 01-010 | B11: Sajnekhali | C11: SAJ-010 | M11: =IF(COUNTA(F11:L11)=0,"",SUM(F11:L11)) | W11: =IF(COUNTA(R11:V11)=0,"",SUM(R11:V11)) | AC11: =IF(COUNTA(X11:AB11)=0,"",SUM(X11:AB11)) | AD11: =IF(N11="","",N11*Assumptions!$B$2) | AE11: =IF(O11="","",O11*Assumptions!$B$3) | AF11: =IF(P11="","",P11*Assumptions!$B$4) | AG11: =IF(Q11="","",Q11*Assumptions!$B$5) | AH11: =IF(W11="","",W11*Assumptions!$B$6) | AI11: =IF(AC11="","",AC11*Assumptions!$B$7) | AJ11: =IF(COUNTA(AD11:AI11)=0,"",SUM(AD11:AI11)) -> 0 | AK11: =IF(M11="","",M11) | AL11: =IF(N11="","",N11) | AM11: =IF(AJ11="","",AJ11) -> 0 | AN11: =IF(AC11="","",AC11) | AO11: =IF(AND(M11<>"",E11>0),M11/E11,"") | AP11: =IF(AND(N11<>"",E11>0),N11/E11,"") | AQ11: =IF(AND(AJ11<>"",E11>0),AJ11/E11,"") | AR11: =IF(AO11="","",AO11/Assumptions!$B$9) | AS11: =IF(AP11="","",AP11/Assumptions!$B$10) | AT11: =IF(W11="","",W11/Assumptions!$B$11) | AU11: =IF(AJ11="","",AJ11/Assumptions!$B$12) -> 0 | AV11: =IF(AC11="","",AC11/Assumptions!$B$13) | AW11: =IF(COUNTA(AR11:AV11)=0,"",AVERAGE(AR11:AV11)) -> 0
A12: 01-011 | B12: Sajnekhali | C12: SAJ-011 | M12: =IF(COUNTA(F12:L12)=0,"",SUM(F12:L12)) | W12: =IF(COUNTA(R12:V12)=0,"",SUM(R12:V12)) | AC12: =IF(COUNTA(X12:AB12)=0,"",SUM(X12:AB12)) | AD12: =IF(N12="","",N12*Assumptions!$B$2) | AE12: =IF(O12="","",O12*Assumptions!$B$3) | AF12: =IF(P12="","",P12*Assumptions!$B$4) | AG12: =IF(Q12="","",Q12*Assumptions!$B$5) | AH12: =IF(W12="","",W12*Assumptions!$B$6) | AI12: =IF(AC12="","",AC12*Assumptions!$B$7) | AJ12: =IF(COUNTA(AD12:AI12)=0,"",SUM(AD12:AI12)) -> 0 | AK12: =IF(M12="","",M12) | AL12: =IF(N12="","",N12) | AM12: =IF(AJ12="","",AJ12) -> 0 | AN12: =IF(AC12="","",AC12) | AO12: =IF(AND(M12<>"",E12>0),M12/E12,"") | AP12: =IF(AND(N12<>"",E12>0),N12/E12,"") | AQ12: =IF(AND(AJ12<>"",E12>0),AJ12/E12,"") | AR12: =IF(AO12="","",AO12/Assumptions!$B$9) | AS12: =IF(AP12="","",AP12/Assumptions!$B$10) | AT12: =IF(W12="","",W12/Assumptions!$B$11) | AU12: =IF(AJ12="","",AJ12/Assumptions!$B$12) -> 0 | AV12: =IF(AC12="","",AC12/Assumptions!$B$13) | AW12: =IF(COUNTA(AR12:AV12)=0,"",AVERAGE(AR12:AV12)) -> 0
A13: 01-012 | B13: Sajnekhali | C13: SAJ-012 | M13: =IF(COUNTA(F13:L13)=0,"",SUM(F13:L13)) | W13: =IF(COUNTA(R13:V13)=0,"",SUM(R13:V13)) | AC13: =IF(COUNTA(X13:AB13)=0,"",SUM(X13:AB13)) | AD13: =IF(N13="","",N13*Assumptions!$B$2) | AE13: =IF(O13="","",O13*Assumptions!$B$3) | AF13: =IF(P13="","",P13*Assumptions!$B$4) | AG13: =IF(Q13="","",Q13*Assumptions!$B$5) | AH13: =IF(W13="","",W13*Assumptions!$B$6) | AI13: =IF(AC13="","",AC13*Assumptions!$B$7) | AJ13: =IF(COUNTA(AD13:AI13)=0,"",SUM(AD13:AI13)) -> 0 | AK13: =IF(M13="","",M13) | AL13: =IF(N13="","",N13) | AM13: =IF(AJ13="","",AJ13) -> 0 | AN13: =IF(AC13="","",AC13) | AO13: =IF(AND(M13<>"",E13>0),M13/E13,"") | AP13: =IF(AND(N13<>"",E13>0),N13/E13,"") | AQ13: =IF(AND(AJ13<>"",E13>0),AJ13/E13,"") | AR13: =IF(AO13="","",AO13/Assumptions!$B$9) | AS13: =IF(AP13="","",AP13/Assumptions!$B$10) | AT13: =IF(W13="","",W13/Assumptions!$B$11) | AU13: =IF(AJ13="","",AJ13/Assumptions!$B$12) -> 0 | AV13: =IF(AC13="","",AC13/Assumptions!$B$13) | AW13: =IF(COUNTA(AR13:AV13)=0,"",AVERAGE(AR13:AV13)) -> 0
... A401: 08-050 | B401: Netidhopani | C401: NET-050 | M401: =IF(COUNTA(F401:L401)=0,"",SUM(F401:L401)) | W401: =IF(COUNTA(R401:V401)=0,"",SUM(R401:V401)) | AC401: =IF(COUNTA(X401:AB401)=0,"",SUM(X401:AB401)) | AD401: =IF(N401="","",N401*Assumptions!$B$2) | AE401: =IF(O401="","",O401*Assumptions!$B$3) | AF401: =IF(P401="","",P401*Assumptions!$B$4) | AG401: =IF(Q401="","",Q401*Assumptions!$B$5) | AH401: =IF(W401="","",W401*Assumptions!$B$6) | AI401: =IF(AC401="","",AC401*Assumptions!$B$7) | AJ401: =IF(COUNTA(AD401:AI401)=0,"",SUM(AD401:AI401)) -> 0 | AK401: =IF(M401="","",M401) | AL401: =IF(N401="","",N401) | AM401: =IF(AJ401="","",AJ401) -> 0 | AN401: =IF(AC401="","",AC401) | AO401: =IF(AND(M401<>"",E401>0),M401/E401,"") | AP401: =IF(AND(N401<>"",E401>0),N401/E401,"") | AQ401: =IF(AND(AJ401<>"",E401>0),AJ401/E401,"") | AR401: =IF(AO401="","",AO401/Assumptions!$B$9) | AS401: =IF(AP401="","",AP401/Assumptions!$B$10) | AT401: =IF(W401="","",W401/Assumptions!$B$11) | AU401: =IF(AJ401="","",AJ401/Assumptions!$B$12) -> 0 | AV401: =IF(AC401="","",AC401/Assumptions!$B$13) | AW401: =IF(COUNTA(AR401:AV401)=0,"",AVERAGE(AR401:AV401)) -> 0

Sheet Assumptions
A1: Parameter | B1: Value | C1: Unit / Note
A2: Electricity CO2 factor | B2: 0.71 | C2: kg CO2e/kWh; editable assumption
A3: LPG CO2 factor | B3: 3 | C3: kg CO2e/kg LPG; editable assumption
A4: Diesel CO2 factor | B4: 2.68 | C4: kg CO2e/L diesel; editable assumption
A5: Petrol CO2 factor | B5: 2.31 | C5: kg CO2e/L petrol; editable assumption
A6: Food CO2 factor | B6: 2 | C6: kg CO2e/kg mixed food; replace with study-specific factor
A7: Waste CO2 factor | B7: 0.5 | C7: kg CO2e/kg waste; replace with study-specific factor
A8: EF water benchmark | B8: 126.2 | C8: L/tourist/day; documented Jharkhali hospitality UWI benchmark
A9: EF energy benchmark | B9: 5 | C9: kWh/tourist/day; placeholder—replace with field/research benchmark
A10: EF food benchmark | B10: 2 | C10: kg food/tourist/day; placeholder—replace with research benchmark
A11: EF carbon benchmark | B11: 5 | C11: kg CO2e/tourist/day; placeholder—replace with research benchmark
A12: EF waste benchmark | B12: 1 | C12: kg waste/tourist/day; placeholder—replace with research benchmark

Sheet Read_Me
A1: Purpose | B1: 400-row Excel-ready primary survey template: 50 tourists × 8 destinations.
A2: Destinations | B2: Sajnekhali, Gosaba, Pakhiralay, Dayapur, Jharkhali, Dobanki, Sudhanyakhali, Netidhopani
A3: Data integrity | B3: The blank input fields are intentionally not populated with invented tourist observations.
A4: Published benchmark | B4: Jharkhali UWI = 126.2 litres per guest per day from a 2025 primary-survey hospitality eco-profile study.
A5: Other destinations | B5: Sajnekhali, Gosaba, Pakhiralay, Dayapur, Dobanki, Sudhanyakhali and Netidhopani require primary/verified observations for destination-specific estimates.
A6: Water footprint | B6: Initially retained as measured litres. Convert to a formal water-footprint indicator only after selecting and documenting the methodology.
A7: CO2 | B7: Emission factors are editable assumptions. Replace them with the factors required by your final methodology/reference framework.
A8: Composite EF | B8: The composite index is a normalized research template, not a validated ecological-footprint metric. Replace benchmarks/weights with your approved methodology.
A9: Recommended use | B9: Enter one tourist's consumption for the entire stay; Stay_Days is then used to derive per-tourist-day indicators.
