Workbook

Sheet Data Summary
A1: Table S3: Data Summary Conformational HEV Epitope Mappings (PEP20195081367)
A3: The data summary is based on the corrected intensity values of the conformational epitope mappings of the human serum samples against HEV antigens NSP, ORF3 and Cap of genotypes 1, 2, 3, 4 and 7.
A5: Spot Family | B5: Row | C5: Column | D5: Peptide | E5: Antigen | F5: Pooled HEV patient sera, 1:1000 | G5: Pooled healthy HEV negative sera, 1:1000
A6: THSTI, HEV Microarray, 13aa Cyclic Constrained Peptides (PEP20195081367) | B6: 5 | C6: 6 | D6: EVPALTAVETGAT | E6: Polio Control | F6: 64878.5 | G6: 26270.562
A7: THSTI, HEV Microarray, 13aa Cyclic Constrained Peptides (PEP20195081367) | B7: 5 | C7: 14 | D7: YPYDVPDYAG | E7: HA Control | F7: 0 | G7: 0
A8: THSTI, HEV Microarray, 13aa Cyclic Constrained Peptides (PEP20195081367) | B8: 5 | C8: 20 | D8: EQKLISEEDL | E8: c-Myc Control | F8: 0 | G8: 0
A9: THSTI, HEV Microarray, 13aa Cyclic Constrained Peptides (PEP20195081367) | B9: 6 | C9: 6 | D9: G | F9: 0 | G9: 0
A10: THSTI, HEV Microarray, 13aa Cyclic Constrained Peptides (PEP20195081367) | B10: 7 | C10: 6 | D10: GSGSGMEAHQFIK | E10: 1a NSP | F10: 0 | G10: 0
A11: THSTI, HEV Microarray, 13aa Cyclic Constrained Peptides (PEP20195081367) | B11: 7 | C11: 7 | D11: GSGMEAHQFIKAP | E11: 1a NSP | F11: 0 | G11: 0
A12: THSTI, HEV Microarray, 13aa Cyclic Constrained Peptides (PEP20195081367) | B12: 7 | C12: 8 | D12: GMEAHQFIKAPGI | E12: 1a NSP | F12: 0 | G12: 0
A13: THSTI, HEV Microarray, 13aa Cyclic Constrained Peptides (PEP20195081367) | B13: 7 | C13: 9 | D13: EAHQFIKAPGITT | E13: 1a NSP | F13: 0 | G13: 0
A14: THSTI, HEV Microarray, 13aa Cyclic Constrained Peptides (PEP20195081367) | B14: 7 | C14: 10 | D14: HQFIKAPGITTAI | E14: 1a NSP | F14: 0 | G14: 0
A15: THSTI, HEV Microarray, 13aa Cyclic Constrained Peptides (PEP20195081367) | B15: 7 | C15: 11 | D15: FIKAPGITTAIEQ | E15: 1a NSP | F15: 0 | G15: 0
A16: THSTI, HEV Microarray, 13aa Cyclic Constrained Peptides (PEP20195081367) | B16: 7 | C16: 12 | D16: KAPGITTAIEQAA | E16: 1a NSP | F16: 0 | G16: 0
A17: THSTI, HEV Microarray, 13aa Cyclic Constrained Peptides (PEP20195081367) | B17: 7 | C17: 13 | D17: PGITTAIEQAALA | E17: 1a NSP | F17: 0 | G17: 0
A18: THSTI, HEV Microarray, 13aa Cyclic Constrained Peptides (PEP20195081367) | B18: 7 | C18: 14 | D18: ITTAIEQAALAAA | E18: 1a NSP | F18: 0 | G18: 0
A19: THSTI, HEV Microarray, 13aa Cyclic Constrained Peptides (PEP20195081367) | B19: 7 | C19: 15 | D19: TAIEQAALAAANS | E19: 1a NSP | F19: 0 | G19: 0
A20: THSTI, HEV Microarray, 13aa Cyclic Constrained Peptides (PEP20195081367) | B20: 7 | C20: 16 | D20: IEQAALAAANSAL | E20: 1a NSP | F20: 0 | G20: 0
A21: THSTI, HEV Microarray, 13aa Cyclic Constrained Peptides (PEP20195081367) | B21: 7 | C21: 17 | D21: QAALAAANSALAN | E21: 1a NSP | F21: 0 | G21: 0
... A991: THSTI, HEV Microarray, 13aa Cyclic Constrained Peptides (PEP20195081367) | B991: 35 | C991: 35 | D991: TSPLTSSVATGTN | E991: 1a Cap | F991: 0 | G991: 0
A992: THSTI, HEV Microarray, 13aa Cyclic Constrained Peptides (PEP20195081367) | B992: 35 | C992: 36 | D992: PLTSSVATGTNLV | E992: 1a Cap | F992: 0 | G992: 0 | I992: P8
A993: THSTI, HEV Microarray, 13aa Cyclic Constrained Peptides (PEP20195081367) | B993: 35 | C993: 37 | D993: TSSVATGTNLVLY | E993: 1a Cap | F993: 0 | G993: 0
A994: THSTI, HEV Microarray, 13aa Cyclic Constrained Peptides (PEP20195081367) | B994: 35 | C994: 38 | D994: SVATGTNLVLYAA | E994: 1a Cap | F994: 0 | G994: 0
A995: THSTI, HEV Microarray, 13aa Cyclic Constrained Peptides (PEP20195081367) | B995: 35 | C995: 39 | D995: ATGTNLVLYAAPL | E995: 1a Cap | F995: 0 | G995: 0
A996: THSTI, HEV Microarray, 13aa Cyclic Constrained Peptides (PEP20195081367) | B996: 35 | C996: 40 | D996: GTNLVLYAAPLSP | E996: 1a Cap | F996: 0 | G996: 0
A997: THSTI, HEV Microarray, 13aa Cyclic Constrained Peptides (PEP20195081367) | B997: 35 | C997: 41 | D997: NLVLYAAPLSPLL | E997: 1a Cap | F997: 0 | G997: 0
A998: THSTI, HEV Microarray, 13aa Cyclic Constrained Peptides (PEP20195081367) | B998: 35 | C998: 42 | D998: VLYAAPLSPLLPL | E998: 1a Cap | F998: 0 | G998: 0
A999: THSTI, HEV Microarray, 13aa Cyclic Constrained Peptides (PEP20195081367) | B999: 35 | C999: 43 | D999: YAAPLSPLLPLQD | E999: 1a Cap | F999: 0 | G999: 0
A1000: THSTI, HEV Microarray, 13aa Cyclic Constrained Peptides (PEP20195081367) | B1000: 35 | C1000: 44 | D1000: APLSPLLPLQDGT | E1000: 1a Cap | F1000: 0 | G1000: 0
A1001: THSTI, HEV Microarray, 13aa Cyclic Constrained Peptides (PEP20195081367) | B1001: 35 | C1001: 45 | D1001: LSPLLPLQDGTNT | E1001: 1a Cap | F1001: 0 | G1001: 0
A1002: THSTI, HEV Microarray, 13aa Cyclic Constrained Peptides (PEP20195081367) | B1002: 35 | C1002: 46 | D1002: PLLPLQDGTNTHI | E1002: 1a Cap | F1002: 0 | G1002: 0
A1003: THSTI, HEV Microarray, 13aa Cyclic Constrained Peptides (PEP20195081367) | B1003: 35 | C1003: 47 | D1003: LPLQDGTNTHIMA | E1003: 1a Cap | F1003: 0 | G1003: 0
A1004: THSTI, HEV Microarray, 13aa Cyclic Constrained Peptides (PEP20195081367) | B1004: 35 | C1004: 48 | D1004: LQDGTNTHIMATE | E1004: 1a Cap | F1004: 0 | G1004: 0
... A5435: THSTI, HEV Microarray, 13aa Cyclic Constrained Peptides (PEP20195081367) | B5435: 165 | C5435: 67 | D5435: VAELQRLKMKVGK | E5435: 3ra Cap | F5435: 0 | G5435: 0

Sheet Intensity Plots

Sheet Calculation
A1: Calculation Conformational HEV Epitope Mappings (PEP20195081367)
A3: The calculation is based on the corrected intensity values of the conformational epitope mappings of the human serum samples against HEV antigens NSP, ORF3 and Cap of genotypes 1, 2, 3, 4 and 7. For a better data overview, the baselines of the intensity plot are leveled.
A5: Spot Family | B5: Row | C5: Column | D5: Peptide | E5: Pooled HEV patient sera, 1:1000 | F5: Pooled healthy HEV negative sera, 1:1000
A6: THSTI, HEV Microarray, 13aa Cyclic Constrained Peptides (PEP20195081367) | B6: 5 | C6: 6 | D6: EVPALTAVETGAT | E6: ='Data Summary'!F6+20000 -> 84878.5 | F6: ='Data Summary'!G6 -> 26270.562
A7: THSTI, HEV Microarray, 13aa Cyclic Constrained Peptides (PEP20195081367) | B7: 5 | C7: 14 | D7: YPYDVPDYAG | E7: ='Data Summary'!F7+20000 -> 20000 | F7: ='Data Summary'!G7 -> 0
A8: THSTI, HEV Microarray, 13aa Cyclic Constrained Peptides (PEP20195081367) | B8: 5 | C8: 20 | D8: EQKLISEEDL | E8: ='Data Summary'!F8+20000 -> 20000 | F8: ='Data Summary'!G8 -> 0
A9: THSTI, HEV Microarray, 13aa Cyclic Constrained Peptides (PEP20195081367) | B9: 6 | C9: 6 | D9: G | E9: ='Data Summary'!F9+20000 -> 20000 | F9: ='Data Summary'!G9 -> 0
A10: THSTI, HEV Microarray, 13aa Cyclic Constrained Peptides (PEP20195081367) | B10: 7 | C10: 6 | D10: GSGSGMEAHQFIK | E10: ='Data Summary'!F10+20000 -> 20000 | F10: ='Data Summary'!G10 -> 0
A11: THSTI, HEV Microarray, 13aa Cyclic Constrained Peptides (PEP20195081367) | B11: 7 | C11: 7 | D11: GSGMEAHQFIKAP | E11: ='Data Summary'!F11+20000 -> 20000 | F11: ='Data Summary'!G11 -> 0
A12: THSTI, HEV Microarray, 13aa Cyclic Constrained Peptides (PEP20195081367) | B12: 7 | C12: 8 | D12: GMEAHQFIKAPGI | E12: ='Data Summary'!F12+20000 -> 20000 | F12: ='Data Summary'!G12 -> 0
A13: THSTI, HEV Microarray, 13aa Cyclic Constrained Peptides (PEP20195081367) | B13: 7 | C13: 9 | D13: EAHQFIKAPGITT | E13: ='Data Summary'!F13+20000 -> 20000 | F13: ='Data Summary'!G13 -> 0
A14: THSTI, HEV Microarray, 13aa Cyclic Constrained Peptides (PEP20195081367) | B14: 7 | C14: 10 | D14: HQFIKAPGITTAI | E14: ='Data Summary'!F14+20000 -> 20000 | F14: ='Data Summary'!G14 -> 0
A15: THSTI, HEV Microarray, 13aa Cyclic Constrained Peptides (PEP20195081367) | B15: 7 | C15: 11 | D15: FIKAPGITTAIEQ | E15: ='Data Summary'!F15+20000 -> 20000 | F15: ='Data Summary'!G15 -> 0
A16: THSTI, HEV Microarray, 13aa Cyclic Constrained Peptides (PEP20195081367) | B16: 7 | C16: 12 | D16: KAPGITTAIEQAA | E16: ='Data Summary'!F16+20000 -> 20000 | F16: ='Data Summary'!G16 -> 0
A17: THSTI, HEV Microarray, 13aa Cyclic Constrained Peptides (PEP20195081367) | B17: 7 | C17: 13 | D17: PGITTAIEQAALA | E17: ='Data Summary'!F17+20000 -> 20000 | F17: ='Data Summary'!G17 -> 0
... A5435: THSTI, HEV Microarray, 13aa Cyclic Constrained Peptides (PEP20195081367) | B5435: 165 | C5435: 67 | D5435: VAELQRLKMKVGK | E5435: ='Data Summary'!F5435+20000 -> 20000 | F5435: ='Data Summary'!G5435 -> 0
