Workbook

Sheet README
A1: Supplementary dataset — raw data and summary statistics
A3: Manuscript
A4: Microencapsulation of probiotics by multiple emulsion using protein–polysaccharide blends: seawater stability and viability for aquaculture
A6: Corresponding author
A7: Iris Zuen Hernández-Hernández — iris.hernandez@enp.unam.mx
A8: Universidad Nacional Autónoma de México (UNAM)
A10: Description
A11: This file contains the complete raw data underlying all tables and figures of the manuscript, together with the summary statistics computed from them. Each formulation was produced as three independent batches (separate emulsification and spray-drying runs). The three batches are the experimental units (n = 3); values labelled Batch 1–3 are the raw measurements and are not technical replicates of a single batch.
A13: Sheets
A14: 1. Dissolution_screening — dissolution (%) after 4 h in seawater; blends A/B/C at 5/8/10 % total solids
A15: 2. Particle_size — volume-mean particle size (µm) of the final formulations A1/A2/B1/B2
A16: 3. Dissolution_final — dissolution (%) after 4 h in seawater of the final formulations
... A28: Creative Commons Attribution 4.0 International (CC BY 4.0).

Sheet Dissolution_screening
A1: Dissolution (%) after 4 h in seawater — screening (blend × total solids)
A3: Blend | B3: Composition | C3: Total solids (%) | D3: Batch 1 | E3: Batch 2 | F3: Batch 3 | G3: Mean | H3: SD | I3: SE | J3: CV (%) | K3: n
A4: A | B4: WPI/CMC/PEC | C4: 10 | D4: 5.2 | E4: 5.9 | F4: 6.3 | G4: =AVERAGE(D4:F4) -> 5.8 | H4: =STDEV(D4:F4) -> 0.55677644 | I4: =H4/SQRT(K4) -> 0.32145503 | J4: =H4/G4*100 -> 9.5995937 | K4: =COUNT(D4:F4) -> 3
A5: A | B5: WPI/CMC/PEC | C5: 8 | D5: 6.9 | E5: 7.8 | F5: 8.4 | G5: =AVERAGE(D5:F5) -> 7.7 | H5: =STDEV(D5:F5) -> 0.75498344 | I5: =H5/SQRT(K5) -> 0.43588989 | J5: =H5/G5*100 -> 9.8049798 | K5: =COUNT(D5:F5) -> 3
A6: A | B6: WPI/CMC/PEC | C6: 5 | D6: 9 | E6: 10 | F6: 10.7 | G6: =AVERAGE(D6:F6) -> 9.9 | H6: =STDEV(D6:F6) -> 0.85440037 | I6: =H6/SQRT(K6) -> 0.49328829 | J6: =H6/G6*100 -> 8.6303068 | K6: =COUNT(D6:F6) -> 3
A7: B | B7: WPI/GA/MD | C7: 10 | D7: 4.1 | E7: 4.5 | F7: 4.9 | G7: =AVERAGE(D7:F7) -> 4.5 | H7: =STDEV(D7:F7) -> 0.4 | I7: =H7/SQRT(K7) -> 0.23094011 | J7: =H7/G7*100 -> 8.8888889 | K7: =COUNT(D7:F7) -> 3
A8: B | B8: WPI/GA/MD | C8: 8 | D8: 11.5 | E8: 12.9 | F8: 14 | G8: =AVERAGE(D8:F8) -> 12.8 | H8: =STDEV(D8:F8) -> 1.2529964 | I8: =H8/SQRT(K8) -> 0.72341781 | J8: =H8/G8*100 -> 9.7890344 | K8: =COUNT(D8:F8) -> 3
A9: B | B9: WPI/GA/MD | C9: 5 | D9: 13.7 | E9: 15.3 | F9: 16.6 | G9: =AVERAGE(D9:F9) -> 15.2 | H9: =STDEV(D9:F9) -> 1.4525839 | I9: =H9/SQRT(K9) -> 0.83864971 | J9: =H9/G9*100 -> 9.5564731 | K9: =COUNT(D9:F9) -> 3
A10: C | B10: WPI/MD | C10: 10 | D10: 11.2 | E10: 12.5 | F10: 13.5 | G10: =AVERAGE(D10:F10) -> 12.4 | H10: =STDEV(D10:F10) -> 1.1532563 | I10: =H10/SQRT(K10) -> 0.66583281 | J10: =H10/G10*100 -> 9.3004537 | K10: =COUNT(D10:F10) -> 3
A11: C | B11: WPI/MD | C11: 8 | D11: 11.9 | E11: 13.3 | F11: 14.4 | G11: =AVERAGE(D11:F11) -> 13.2 | H11: =STDEV(D11:F11) -> 1.2529964 | I11: =H11/SQRT(K11) -> 0.72341781 | J11: =H11/G11*100 -> 9.492397 | K11: =COUNT(D11:F11) -> 3
A12: C | B12: WPI/MD | C12: 5 | D12: 20.4 | E12: 22.8 | F12: 24.6 | G12: =AVERAGE(D12:F12) -> 22.6 | H12: =STDEV(D12:F12) -> 2.1071308 | I12: =H12/SQRT(K12) -> 1.2165525 | J12: =H12/G12*100 -> 9.3235874 | K12: =COUNT(D12:F12) -> 3
A14: Mean ± SE, n = 3 independent batches per treatment. Two-way ANOVA (blend × total solids): blend F2,18 = 110.8, solids F2,18 = 110.5, interaction F4,18 = 16.4 (all p < 0.001).

Sheet Particle_size
A1: Volume-mean particle size (µm) of the final formulations
A3: Formulation | B3: Blend | C3: Nominal load (CFU/g) | D3: Batch 1 | E3: Batch 2 | F3: Batch 3 | G3: Mean | H3: SD | I3: SE | J3: CV (%) | K3: n
A4: A1 | B4: A (WPI/CMC/PEC) | C4: 1×10^10 | D4: 34.4 | E4: 36.2 | F4: 38 | G4: =AVERAGE(D4:F4) -> 36.2 | H4: =STDEV(D4:F4) -> 1.8 | I4: =H4/SQRT(K4) -> 1.0392305 | J4: =H4/G4*100 -> 4.9723757 | K4: =COUNT(D4:F4) -> 3
A5: A2 | B5: A (WPI/CMC/PEC) | C5: 1×10^9 | D5: 27.1 | E5: 28.7 | F5: 30 | G5: =AVERAGE(D5:F5) -> 28.6 | H5: =STDEV(D5:F5) -> 1.4525839 | I5: =H5/SQRT(K5) -> 0.83864971 | J5: =H5/G5*100 -> 5.0789647 | K5: =COUNT(D5:F5) -> 3
A6: B1 | B6: B (WPI/GA/MD) | C6: 1×10^10 | D6: 33 | E6: 34.9 | F6: 36.5 | G6: =AVERAGE(D6:F6) -> 34.8 | H6: =STDEV(D6:F6) -> 1.7521415 | I6: =H6/SQRT(K6) -> 1.0115994 | J6: =H6/G6*100 -> 5.0348895 | K6: =COUNT(D6:F6) -> 3
A7: B2 | B7: B (WPI/GA/MD) | C7: 1×10^9 | D7: 26.8 | E7: 28.3 | F7: 29.5 | G7: =AVERAGE(D7:F7) -> 28.2 | H7: =STDEV(D7:F7) -> 1.3527749 | I7: =H7/SQRT(K7) -> 0.78102497 | J7: =H7/G7*100 -> 4.7970742 | K7: =COUNT(D7:F7) -> 3

Sheet Dissolution_final
A1: Dissolution (%) after 4 h in seawater — final formulations
A3: Formulation | B3: Blend | C3: Nominal load (CFU/g) | D3: Batch 1 | E3: Batch 2 | F3: Batch 3 | G3: Mean | H3: SD | I3: SE | J3: CV (%) | K3: n
A4: A1 | B4: A (WPI/CMC/PEC) | C4: 1×10^10 | D4: 8.5 | E4: 9.4 | F4: 10.3 | G4: =AVERAGE(D4:F4) -> 9.4 | H4: =STDEV(D4:F4) -> 0.9 | I4: =H4/SQRT(K4) -> 0.51961524 | J4: =H4/G4*100 -> 9.5744681 | K4: =COUNT(D4:F4) -> 3
A5: A2 | B5: A (WPI/CMC/PEC) | C5: 1×10^9 | D5: 9.6 | E5: 10.8 | F5: 11.7 | G5: =AVERAGE(D5:F5) -> 10.7 | H5: =STDEV(D5:F5) -> 1.0535654 | I5: =H5/SQRT(K5) -> 0.60827625 | J5: =H5/G5*100 -> 9.8464054 | K5: =COUNT(D5:F5) -> 3
A6: B1 | B6: B (WPI/GA/MD) | C6: 1×10^10 | D6: 4 | E6: 4.5 | F6: 5 | G6: =AVERAGE(D6:F6) -> 4.5 | H6: =STDEV(D6:F6) -> 0.5 | I6: =H6/SQRT(K6) -> 0.28867513 | J6: =H6/G6*100 -> 11.111111 | K6: =COUNT(D6:F6) -> 3
A7: B2 | B7: B (WPI/GA/MD) | C7: 1×10^9 | D7: 4.3 | E7: 4.8 | F7: 5.3 | G7: =AVERAGE(D7:F7) -> 4.8 | H7: =STDEV(D7:F7) -> 0.5 | I7: =H7/SQRT(K7) -> 0.28867513 | J7: =H7/G7*100 -> 10.416667 | K7: =COUNT(D7:F7) -> 3

Sheet Buoyancy
A1: Buoyancy (min) of the final formulations
A3: Formulation | B3: Blend | C3: Nominal load (CFU/g) | D3: Batch 1 | E3: Batch 2 | F3: Batch 3 | G3: Mean | H3: SD | I3: SE | J3: CV (%) | K3: n
A4: A1 | B4: A (WPI/CMC/PEC) | C4: 1×10^10 | D4: 480 | E4: 500 | F4: 520 | G4: =AVERAGE(D4:F4) -> 500 | H4: =STDEV(D4:F4) -> 20 | I4: =H4/SQRT(K4) -> 11.547005 | J4: =H4/G4*100 -> 4 | K4: =COUNT(D4:F4) -> 3
A5: A2 | B5: A (WPI/CMC/PEC) | C5: 1×10^9 | D5: 490 | E5: 510 | F5: 500 | G5: =AVERAGE(D5:F5) -> 500 | H5: =STDEV(D5:F5) -> 10 | I5: =H5/SQRT(K5) -> 5.7735027 | J5: =H5/G5*100 -> 2 | K5: =COUNT(D5:F5) -> 3
A6: B1 | B6: B (WPI/GA/MD) | C6: 1×10^10 | D6: 950 | E6: 1000 | F6: 1050 | G6: =AVERAGE(D6:F6) -> 1000 | H6: =STDEV(D6:F6) -> 50 | I6: =H6/SQRT(K6) -> 28.867513 | J6: =H6/G6*100 -> 5 | K6: =COUNT(D6:F6) -> 3
A7: B2 | B7: B (WPI/GA/MD) | C7: 1×10^9 | D7: 980 | E7: 1000 | F7: 1020 | G7: =AVERAGE(D7:F7) -> 1000 | H7: =STDEV(D7:F7) -> 20 | I7: =H7/SQRT(K7) -> 11.547005 | J7: =H7/G7*100 -> 2 | K7: =COUNT(D7:F7) -> 3

Sheet Drying_survival
A1: Survival to spray drying (%) — final formulations
A3: Formulation | B3: Blend | C3: Batch 1 (%) | D3: Batch 2 (%) | E3: Batch 3 (%) | F3: Mean | G3: SD | H3: SE | I3: CV (%) | J3: n
A4: A1 | B4: A (WPI/CMC/PEC) | C4: =Storage_viability!D5/Storage_viability!D4*100 -> 39.775281 | D4: =Storage_viability!E5/Storage_viability!E4*100 -> 37.990868 | E4: =Storage_viability!F5/Storage_viability!F4*100 -> 36.363636 | F4: =AVERAGE(C4:E4) -> 38.043262 | G4: =STDEV(C4:E4) -> 1.7064256 | H4: =G4/SQRT(J4) -> 0.9852053 | I4: =G4/F4*100 -> 4.4854872 | J4: =COUNT(C4:E4) -> 3
A5: A2 | B5: A (WPI/CMC/PEC) | C5: =Storage_viability!D12/Storage_viability!D11*100 -> 33.888889 | D5: =Storage_viability!E12/Storage_viability!E11*100 -> 37.218543 | E5: =Storage_viability!F12/Storage_viability!F11*100 -> 39.775281 | F5: =AVERAGE(C5:E5) -> 36.960904 | G5: =STDEV(C5:E5) -> 2.9516412 | H5: =G5/SQRT(J5) -> 1.7041309 | I5: =G5/F5*100 -> 7.9858469 | J5: =COUNT(C5:E5) -> 3
A6: B1 | B6: B (WPI/GA/MD) | C6: =Storage_viability!D19/Storage_viability!D18*100 -> 30.923077 | D6: =Storage_viability!E19/Storage_viability!E18*100 -> 30.875 | E6: =Storage_viability!F19/Storage_viability!F18*100 -> 30.198675 | F6: =AVERAGE(C6:E6) -> 30.665584 | G6: =STDEV(C6:E6) -> 0.40506865 | H6: =G6/SQRT(J6) -> 0.23386649 | I6: =G6/F6*100 -> 1.3209226 | J6: =COUNT(C6:E6) -> 3
A7: B2 | B7: B (WPI/GA/MD) | C7: =Storage_viability!D26/Storage_viability!D25*100 -> 34.75 | D7: =Storage_viability!E26/Storage_viability!E25*100 -> 37.218543 | E7: =Storage_viability!F26/Storage_viability!F25*100 -> 39.78022 | F7: =AVERAGE(C7:E7) -> 37.249588 | G7: =STDEV(C7:E7) -> 2.5152536 | H7: =G7/SQRT(J7) -> 1.4521823 | I7: =G7/F7*100 -> 6.7524334 | J7: =COUNT(C7:E7) -> 3
A9: Survival to drying = (viable CFU/g after drying / initial CFU/g) × 100, computed per batch from the plate-count values in 'Storage_viability'! Survival to the process, not encapsulation efficiency.

Sheet Storage_viability
A1: Viable probiotic counts (CFU/g) during storage at 4 °C
A3: Formulation | B3: Method | C3: Time point | D3: Batch 1 (CFU/g) | E3: Batch 2 (CFU/g) | F3: Batch 3 (CFU/g) | G3: log10 B1 | H3: log10 B2 | I3: log10 B3 | J3: Mean log10 | K3: SD log10 | L3: n
A4: A1 | B4: Plate count (PC) | C4: Initial inoculum | D4: 17800000000 | E4: 21900000000 | F4: 27500000000 | G4: =LOG10(D4) -> 10.25042 | H4: =LOG10(E4) -> 10.340444 | I4: =LOG10(F4) -> 10.439333 | J4: =AVERAGE(G4:I4) -> 10.343399 | K4: =STDEV(G4:I4) -> 0.094491002 | L4: =COUNT(D4:F4) -> 3
A5: A1 | B5: Plate count (PC) | C5: After drying | D5: 7080000000 | E5: 8320000000 | F5: 10000000000 | G5: =LOG10(D5) -> 9.8500333 | H5: =LOG10(E5) -> 9.9201233 | I5: =LOG10(F5) -> 10 | J5: =AVERAGE(G5:I5) -> 9.9233855 | K5: =STDEV(G5:I5) -> 0.075036574 | L5: =COUNT(D5:F5) -> 3
A6: A1 | B6: Fluorescence (F) | C6: After drying | D6: 6610000000 | E6: 7940000000 | F6: 9550000000 | G6: =LOG10(D6) -> 9.8202015 | H6: =LOG10(E6) -> 9.8998205 | I6: =LOG10(F6) -> 9.9800034 | J6: =AVERAGE(G6:I6) -> 9.9000084 | K6: =STDEV(G6:I6) -> 0.079901122 | L6: =COUNT(D6:F6) -> 3
A7: A1 | B7: Plate count (PC) | C7: 2 months | D7: 4470000000 | E7: 5750000000 | F7: 7080000000 | G7: =LOG10(D7) -> 9.6503075 | H7: =LOG10(E7) -> 9.7596678 | I7: =LOG10(F7) -> 9.8500333 | J7: =AVERAGE(G7:I7) -> 9.7533362 | K7: =STDEV(G7:I7) -> 0.1000133 | L7: =COUNT(D7:F7) -> 3
A8: A1 | B8: Fluorescence (F) | C8: 2 months | D8: 4900000000 | E8: 6030000000 | F8: 7760000000 | G8: =LOG10(D8) -> 9.6901961 | H8: =LOG10(E8) -> 9.7803173 | I8: =LOG10(F8) -> 9.8898617 | J8: =AVERAGE(G8:I8) -> 9.7867917 | K8: =STDEV(G8:I8) -> 0.099990151 | L8: =COUNT(D8:F8) -> 3
A9: A1 | B9: Plate count (PC) | C9: 6 months | D9: 2820000000 | E9: 3470000000 | F9: 4370000000 | G9: =LOG10(D9) -> 9.4502491 | H9: =LOG10(E9) -> 9.5403295 | I9: =LOG10(F9) -> 9.6404814 | J9: =AVERAGE(G9:I9) -> 9.5436867 | K9: =STDEV(G9:I9) -> 0.09516059 | L9: =COUNT(D9:F9) -> 3
A10: A1 | B10: Fluorescence (F) | C10: 6 months | D10: 2880000000 | E10: 3800000000 | F10: 4790000000 | G10: =LOG10(D10) -> 9.4593925 | H10: =LOG10(E10) -> 9.5797836 | I10: =LOG10(F10) -> 9.6803355 | J10: =AVERAGE(G10:I10) -> 9.5731705 | K10: =STDEV(G10:I10) -> 0.11061987 | L10: =COUNT(D10:F10) -> 3
A11: A2 | B11: Plate count (PC) | C11: Initial inoculum | D11: 1260000000 | E11: 1510000000 | F11: 1780000000 | G11: =LOG10(D11) -> 9.1003705 | H11: =LOG10(E11) -> 9.1789769 | I11: =LOG10(F11) -> 9.25042 | J11: =AVERAGE(G11:I11) -> 9.1765892 | K11: =STDEV(G11:I11) -> 0.075053221 | L11: =COUNT(D11:F11) -> 3
A12: A2 | B12: Plate count (PC) | C12: After drying | D12: 427000000 | E12: 562000000 | F12: 708000000 | G12: =LOG10(D12) -> 8.6304279 | H12: =LOG10(E12) -> 8.7497363 | I12: =LOG10(F12) -> 8.8500333 | J12: =AVERAGE(G12:I12) -> 8.7433991 | K12: =STDEV(G12:I12) -> 0.10993976 | L12: =COUNT(D12:F12) -> 3
A13: A2 | B13: Fluorescence (F) | C13: After drying | D13: 447000000 | E13: 589000000 | F13: 776000000 | G13: =LOG10(D13) -> 8.6503075 | H13: =LOG10(E13) -> 8.7701153 | I13: =LOG10(F13) -> 8.8898617 | J13: =AVERAGE(G13:I13) -> 8.7700948 | K13: =STDEV(G13:I13) -> 0.1197771 | L13: =COUNT(D13:F13) -> 3
A14: A2 | B14: Plate count (PC) | C14: 2 months | D14: 282000000 | E14: 372000000 | F14: 479000000 | G14: =LOG10(D14) -> 8.4502491 | H14: =LOG10(E14) -> 8.5705429 | I14: =LOG10(F14) -> 8.6803355 | J14: =AVERAGE(G14:I14) -> 8.5670425 | K14: =STDEV(G14:I14) -> 0.11508314 | L14: =COUNT(D14:F14) -> 3
A15: A2 | B15: Fluorescence (F) | C15: 2 months | D15: 309000000 | E15: 407000000 | F15: 525000000 | G15: =LOG10(D15) -> 8.4899585 | H15: =LOG10(E15) -> 8.6095944 | I15: =LOG10(F15) -> 8.7201593 | J15: =AVERAGE(G15:I15) -> 8.6065707 | K15: =STDEV(G15:I15) -> 0.1151302 | L15: =COUNT(D15:F15) -> 3
... A31: B2 | B31: Fluorescence (F) | C31: 6 months | D31: 200000000 | E31: 251000000 | F31: 316000000 | G31: =LOG10(D31) -> 8.30103 | H31: =LOG10(E31) -> 8.3996737 | I31: =LOG10(F31) -> 8.4996871 | J31: =AVERAGE(G31:I31) -> 8.4001303 | K31: =STDEV(G31:I31) -> 0.09932933 | L31: =COUNT(D31:F31) -> 3
A33: PC plate count; F fluorescence. Mean log10 = mean of the three per-batch log10 values. Fluorescence was not measured on the initial inoculum.

Sheet Checklist_Table2
A1: Table 2 — Sampling, statistics and replication summary (in vitro study)
A3: Assay / Endpoint | B3: Experimental unit | C3: Biological unit analysed | D3: Animals per unit | E3: Samples analysed per batch | F3: Pooled? (Yes/No) | G3: Pooling strategy | H3: Measurements averaged before analysis? | I3: Statistical unit | J3: Biological replicates (n) per treatment | K3: Statistical test | L3: Line number(s) in manuscript
A4: Dissolution (screening, blend × solids) | B4: Encapsulation/drying batch | C4: Batch | D4: N/A (in vitro) | E4: 1 | F4: No | G4: — | H4: No | I4: Batch | J4: 3 batches per group | K4: Two-way ANOVA + Tukey HSD | L4: 135–140; Table 2 (lines 336–339)
A5: Particle size (final) | B5: Batch | C5: Batch | D5: N/A (in vitro) | E5: 1 | F5: No | G5: — | H5: No | I5: Batch | J5: 3 batches per formulation | K5: Two-way ANOVA (blend × load) | L5: 163–170; Table 3 (lines 340–343)
A6: Dissolution (final) | B6: Batch | C6: Batch | D6: N/A (in vitro) | E6: 1 | F6: No | G6: — | H6: No | I6: Batch | J6: 3 batches per formulation | K6: Two-way ANOVA + bootstrap CI | L6: 163–175; Table 3 (lines 340–343)
A7: Buoyancy | B7: Batch | C7: Batch | D7: N/A (in vitro) | E7: 1 | F7: No | G7: — | H7: No | I7: Batch | J7: 3 batches per formulation | K7: Descriptive (mean ± SD) | L7: 170–172; Table 3 (lines 340–343)
A8: Drying survival | B8: Batch | C8: Batch | D8: N/A (in vitro) | E8: 1 | F8: No | G8: — | H8: No | I8: Batch | J8: 3 batches per formulation | K8: Descriptive (mean ± SD) | L8: 163–166; Table 3 (lines 340–343)
A9: Viability — plate count (PC) | B9: Batch | C9: Batch | D9: N/A (in vitro) | E9: 1 | F9: No | G9: — | H9: No | I9: Batch | J9: 3 batches per formulation | K9: Two-way ANOVA (treatment × time) | L9: 112–114; Table 4 (lines 344–348)
A10: Viability — fluorescence (F) | B10: Batch | C10: Batch | D10: N/A (in vitro) | E10: 1 | F10: No | G10: — | H10: No | I10: Batch | J10: 3 batches per formulation | K10: Two-way ANOVA (separate analysis) | L10: 112–114; Table 4 (lines 344–348)
A11: Method agreement (PC vs F) | B11: Batch (PC–F pair) | C11: Batch | D11: N/A (in vitro) | E11: 2 (1 PC + 1 F) | F11: No | G11: — | H11: No | I11: Batch | J11: 36 pairs (4 form × 3 batches × 3 times) | K11: Bland–Altman + Lin's CCC + permutation | L11: 168–175
A12: Shelf-life projection | B12: Batch | C12: Batch | D12: N/A (in vitro) | E12: 1 | F12: No | G12: — | H12: No | I12: Batch | J12: 3 batches per formulation | K12: Bootstrap / Monte Carlo (indicative) | L12: 112–134; Fig. 3
A14: Line numbers to be completed from the numbered manuscript before submission. This study is in vitro; animal-related fields are marked N/A.
