Workbook

Sheet Tablex.1
B1: Table x.1
A2: Scottish Parliament 2011: seat allocations, under actual method (d'Hondt) and Ste-Lague
A4: Region | B4: Party | C4: List votes | D4: Constituency seats | E4: List seats (actual) | F4: List seats (Ste-Lague) | G4: Total seats (actual) | H4: Total seats (Ste-Lague)
A6: Central
B8: SNP | C8: 108261 | D8: 6 | E8: 3 | F8: 3 | G8: =SUM(D8:E8) -> 9 | H8: =SUM(D8,F8) -> 9
B9: Lab | C9: 82459 | D9: 3 | E9: 3 | F9: 3 | G9: =SUM(D9:E9) -> 6 | H9: =SUM(D9,F9) -> 6
B10: C | C10: 14870 | D10: 0 | E10: 1 | F10: 1 | G10: =SUM(D10:E10) -> 1 | H10: =SUM(D10,F10) -> 1
B11: Pens | C11: 5793
B12: Green | C12: 5634
B13: LD | C13: 3318
B14: Ch P | C14: 3173
B15: Soc Lab | C15: 2483
B16: BNP | C16: 2214
B17: SUP | C17: 1555
B18: UKIP | C18: 1263
B19: Ind (H O'Donnell) | C19: 821
B20: SSP | C20: 820
B21: Solidarity | C21: 559
B22: SHP | C22: 333
B23: Other | C23: =SUM(C11:C22) -> 27966 | D23: 0 | E23: 0 | F23: 0 | G23: 0 | H23: 0
A25: Glasgow
B27: SNP | C27: 83109 | D27: 5 | E27: 2 | F27: 2 | G27: =SUM(D27:E27) -> 7 | H27: =SUM(D27,F27) -> 7
B28: Lab | C28: 72941 | D28: 4 | E28: 3 | F28: 2 | G28: =SUM(D28:E28) -> 7 | H28: =SUM(D28,F28) -> 6
B29: C | C29: 12749 | D29: 0 | E29: 1 | F29: 1 | G29: =SUM(D29:E29) -> 1 | H29: =SUM(D29,F29) -> 1
B30: Green | C30: 12454 | D30: 0 | E30: 1 | F30: 1 | G30: =SUM(D30:E30) -> 1 | H30: =SUM(D30,F30) -> 1
B31: Respect | C31: 6972 | D31: 0 | E31: 0 | F31: 1 | G31: =SUM(D31:E31) -> 0 | H31: =SUM(D31,F31) -> 1
B32: LD | C32: 5312
B33: Pens | C33: 3750
B34: BNP | C34: 2424
B35: Soc.Lab | C35: 2276
B36: Ch P | C36: 1501
B37: SUP | C37: 1447
B38: SSP | C38: 1362
B39: UKIP | C39: 1123
B40: Pirate | C40: 581
B41: Ind (C Johnstone) | C41: 338
B42: SHP | C42: 283
B43: Other | C43: =SUM(C32:C42) -> 20397 | D43: 0 | E43: 0 | F43: 0 | G43: 0 | H43: 0
A45: Highland
B47: SNP | C47: 85082 | D47: 6 | E47: 3 | F47: 2 | G47: =SUM(D47:E47) -> 9 | H47: =SUM(D47,F47) -> 8
B48: Lab | C48: 25884 | D48: 0 | E48: 2 | F48: 2 | G48: =SUM(D48:E48) -> 2 | H48: =SUM(D48,F48) -> 2
B49: LD | C49: 21729 | D49: 2 | E49: 0 | F49: 0 | G49: =SUM(D49:E49) -> 2 | H49: =SUM(D49,F49) -> 2
B50: C | C50: 20843 | D50: 0 | E50: 2 | F50: 1 | G50: =SUM(D50:E50) -> 2 | H50: =SUM(D50,F50) -> 1
B51: Green | C51: 9076 | D51: 0 | E51: 0 | F51: 1 | G51: =SUM(D51:E51) -> 0 | H51: =SUM(D51,F51) -> 1
B52: Ch P | C52: 3541
B53: UKIP | C53: 3372
B54: Pens | C54: 2770
B55: BanBB | C55: 1764
B56: Lib | C56: 1696
B57: Soc.Lab | C57: 1406
B58: BNP | C58: 1134
B59: SSP | C59: 509
B60: Solidarity | C60: 204
B61: Other | C61: =SUM(C52:C60) -> 16396 | D61: 0 | E61: 0 | F61: 0 | G61: 0 | H61: 0
A63: Lothian
B65: SNP | C65: 110953 | D65: 8 | E65: 0 | F65: 0 | G65: =SUM(D65:E65) -> 8 | H65: =SUM(D65,F65) -> 8
B66: Lab | C66: 70544 | D66: 1 | E66: 3 | F66: 2 | G66: =SUM(D66:E66) -> 4 | H66: =SUM(D66,F66) -> 3
B67: C | C67: 33019 | D67: 0 | E67: 2 | F67: 2 | G67: =SUM(D67:E67) -> 2 | H67: =SUM(D67,F67) -> 2
B68: Green | C68: 21505 | D68: 0 | E68: 1 | F68: 1 | G68: =SUM(D68:E68) -> 1 | H68: =SUM(D68,F68) -> 1
B69: Ind (M MacDonald) | C69: 18732 | D69: 0 | E69: 1 | F69: 1 | G69: =SUM(D69:E69) -> 1 | H69: =SUM(D69,F69) -> 1
B70: LD | C70: 15588 | D70: 0 | E70: 0 | F70: 1 | G70: =SUM(D70:E70) -> 0 | H70: =SUM(D70,F70) -> 1
B71: Pens | C71: 3218
B72: BNP | C72: 1978
B73: UKIP | C73: 1822
B74: Soc.Lab | C74: 1681
B75: SSP | C75: 1183
B76: Ch P | C76: 914
B77: Lib | C77: 697
B78: SCPA | C78: 553
B79: Solidarity | C79: 327
B80: Ind (D Hogg) | C80: 294
B81: Ind (K O'Neill) | C81: 134
B82: Ind (M Brown) | C82: 61
B83: Other | C83: =SUM(C71:C82) -> 12862 | D83: 0 | E83: 0 | F83: 0 | G83: 0 | H83: 0
A85: Mid Scotland & Fife
B87: SNP | C87: 116691 | D87: 8 | E87: 1 | F87: 0 | G87: =SUM(D87:E87) -> 9 | H87: =SUM(D87,F87) -> 8
B88: Lab | C88: 64623 | D88: 1 | E88: 3 | F88: 3 | G88: =SUM(D88:E88) -> 4 | H88: =SUM(D88,F88) -> 4
B89: C | C89: 36458 | D89: 0 | E89: 2 | F89: 2 | G89: =SUM(D89:E89) -> 2 | H89: =SUM(D89,F89) -> 2
B90: LD | C90: 15103 | D90: 0 | E90: 1 | F90: 1 | G90: =SUM(D90:E90) -> 1 | H90: =SUM(D90,F90) -> 1
B91: Green | C91: 10914 | D91: 0 | E91: 0 | F91: 1 | G91: =SUM(D91:E91) -> 0 | H91: =SUM(D91,F91) -> 1
B92: Pens | C92: 4113 | G92: =SUM(D92:E92) -> 0 | H92: =SUM(D92,F92) -> 0
B93: UKIP | C93: 2838 | G93: =SUM(D93:E93) -> 0 | H93: =SUM(D93,F93) -> 0
B94: Soc Lab | C94: 1771 | G94: =SUM(D94:E94) -> 0 | H94: =SUM(D94,F94) -> 0
B95: BNP | C95: 1726 | G95: =SUM(D95:E95) -> 0 | H95: =SUM(D95,F95) -> 0
B96: Ind (A Rodger) | C96: 1466 | G96: =SUM(D96:E96) -> 0 | H96: =SUM(D96,F96) -> 0
B97: SSP | C97: 834 | G97: =SUM(D97:E97) -> 0 | H97: =SUM(D97,F97) -> 0
B98: Ch P | C98: 786 | G98: =SUM(D98:E98) -> 0 | H98: =SUM(D98,F98) -> 0
B99: SCPA | C99: 638 | G99: =SUM(D99:E99) -> 0 | H99: =SUM(D99,F99) -> 0
B100: Solidarity | C100: 202 | G100: =SUM(D100:E100) -> 0 | H100: =SUM(D100,F100) -> 0
B101: Other | C101: =SUM(C92:C100) -> 14374 | D101: 0 | E101: 0 | F101: 0 | G101: =SUM(D101:E101) -> 0 | H101: =SUM(D101,F101) -> 0
A103: NE Scotland
B105: SNP | C105: 140749 | D105: 10 | E105: 1 | F105: 0 | G105: =SUM(D105:E105) -> 11 | H105: =SUM(D105,F105) -> 10
B106: Lab | C106: 43893 | D106: 0 | E106: 3 | F106: 3 | G106: =SUM(D106:E106) -> 3 | H106: =SUM(D106,F106) -> 3
B107: C | C107: 37681 | D107: 0 | E107: 2 | F107: 2 | G107: =SUM(D107:E107) -> 2 | H107: =SUM(D107,F107) -> 2
B108: LD | C108: 18178 | D108: 0 | E108: 1 | F108: 1 | G108: =SUM(D108:E108) -> 1 | H108: =SUM(D108,F108) -> 1
B109: Green | C109: 10407 | D109: 0 | E109: 0 | F109: 1 | G109: =SUM(D109:E109) -> 0 | H109: =SUM(D109,F109) -> 1
B110: Pens | C110: 4420
B111: UKIP | C111: 2477
B112: Ch P | C112: 2159
B113: BNP | C113: 1925
...

Sheet Table x.2
A1: Table x.2
A2: Scottish Palriament election: luist votes by region and Ste-Lague calculations
A4: Votes earned
B5: SNP | C5: Lab | D5: Con | E5: Green | F5: LD | G5: Pensioner | H5: other | I5: other | J5: other | K5: other | L5: other | M5: other | O5: Seats to award | S5: Configure Here
A6: Central | B6: 108261 | C6: 82459 | D6: 14870 | E6: 5634 | F6: 3318 | G6: 5793 | H6: 3173 | I6: 2483 | J6: =Tablex.1!$C$16 -> 2214 | K6: =Tablex.1!$C$17 -> 1555 | L6: =Tablex.1!$C$18 -> 1263 | M6: =SUM(Tablex.1!$C$18:$C$22) -> 3796 | O6: 7
A7: Glasgow | B7: =Tablex.1!$C$27 -> 83109 | C7: =Tablex.1!$C$28 -> 72941 | D7: =Tablex.1!$C$29 -> 12749 | E7: =Tablex.1!$C$30 -> 12454 | F7: =Tablex.1!$C$32 -> 5312 | G7: =Tablex.1!$C$33 -> 3750 | H7: =Tablex.1!$C$31 -> 6972 | I7: =Tablex.1!$C$34 -> 2424 | J7: =Tablex.1!$C$35 -> 2276 | K7: =Tablex.1!$C$36 -> 1501 | L7: =Tablex.1!$C$37 -> 1447 | M7: =SUM(Tablex.1!$C$38:$C$42) -> 3687 | O7: 7 | S7: Regions | U7: =COUNTA(B6:B17) -> 8
A8: Highland | B8: =Tablex.1!$C$47 -> 85082 | C8: =Tablex.1!$C$48 -> 25884 | D8: =Tablex.1!$C$50 -> 20843 | E8: =Tablex.1!$C$51 -> 9076 | F8: =Tablex.1!$C$49 -> 21729 | G8: =Tablex.1!$C$54 -> 2770 | H8: =Tablex.1!$C$52 -> 3541 | I8: =Tablex.1!$C$53 -> 3372 | J8: =Tablex.1!$C$55 -> 1764 | K8: =Tablex.1!$C$56 -> 1696 | L8: =Tablex.1!$C$57 -> 1406 | M8: =Tablex.1!$C$58 -> 1134 | O8: 7 | S8: Seats per Region | U8: 7
A9: Lothian | B9: =Tablex.1!$C$65 -> 110953 | C9: =Tablex.1!$C$66 -> 70544 | D9: =Tablex.1!$C$67 -> 33019 | E9: =Tablex.1!$C$68 -> 21505 | F9: =Tablex.1!$C$70 -> 15588 | G9: =Tablex.1!$C$71 -> 3218 | H9: =Tablex.1!$C$69 -> 18732 | I9: =Tablex.1!$C$72 -> 1978 | J9: =Tablex.1!$C$73 -> 1822 | K9: =Tablex.1!$C$74 -> 1681 | L9: =Tablex.1!$C$76 -> 914 | M9: =SUM(Tablex.1!$C$77:$C$82) -> 2066 | O9: 7 | S9: Threshold | U9: 0
A10: Mid&Fife | B10: =Tablex.1!$C$87 -> 116691 | C10: =Tablex.1!$C$88 -> 64623 | D10: =Tablex.1!$C$89 -> 36458 | E10: =Tablex.1!$C$91 -> 10914 | F10: =Tablex.1!$C$90 -> 15103 | G10: =Tablex.1!$C$92 -> 4113 | H10: =Tablex.1!$C$93 -> 2838 | I10: =Tablex.1!$C$94 -> 1771 | J10: =Tablex.1!$C$95 -> 1726 | K10: =Tablex.1!$C$96 -> 1466 | L10: =Tablex.1!$C$98 -> 786 | M10: =Tablex.1!$C$99 -> 638 | O10: 7 | S10: Total Votes | U10: =SUM(B6:M13) -> 1989167
A11: NE Scotland | B11: =Tablex.1!$C$105 -> 140749 | C11: =Tablex.1!$C$106 -> 43893 | D11: =Tablex.1!$C$107 -> 37681 | E11: =Tablex.1!$C$109 -> 10407 | F11: =Tablex.1!$C$108 -> 18178 | G11: =Tablex.1!$C$110 -> 4420 | H11: =Tablex.1!$C$111 -> 2477 | I11: =Tablex.1!$C$112 -> 2159 | J11: =Tablex.1!$C$113 -> 1925 | K11: =Tablex.1!$C$114 -> 1459 | L11: =Tablex.1!$C$115 -> 1115 | M11: =SUM(Tablex.1!$C$116:$C$121) -> 2582 | O11: 7
A12: South | B12: =Tablex.1!$C$126 -> 114270 | C12: =Tablex.1!$C$127 -> 70595 | D12: =Tablex.1!$C$128 -> 54352 | E12: =Tablex.1!$C$130 -> 8535 | F12: =Tablex.1!$C$129 -> 15096 | G12: =Tablex.1!$C$131 -> 4418 | H12: =Tablex.1!$C$132 -> 3243 | I12: =Tablex.1!$C$133 -> 2906 | J12: =Tablex.1!$C$134 -> 2017 | K12: =Tablex.1!$C$135 -> 1924 | L12: =Tablex.1!$C$136 -> 813 | M12: =Tablex.1!$C$137 -> 697 | O12: 7
A13: West | B13: =Tablex.1!$C$142 -> 117306 | C13: =Tablex.1!$C$143 -> 92530 | D13: =Tablex.1!$C$144 -> 35995 | E13: =Tablex.1!$C$146 -> 8414 | F13: =Tablex.1!$C$145 -> 9148 | G13: =Tablex.1!$C$147 -> 4771 | H13: =Tablex.1!$C$148 -> 2865 | I13: =Tablex.1!$C$149 -> 2468 | J13: =Tablex.1!$C$150 -> 2162 | K13: =Tablex.1!$C$151 -> 2000 | L13: =Tablex.1!$C$152 -> 1752 | M13: =SUM(Tablex.1!$C$153:$C$156) -> 2960 | O13: 7
A14: Region 9
A15: Region 10
A16: Region 11
A17: Region 12
A18: Total | B18: =SUM(B6:B17) -> 876421 | C18: =SUM(C6:C17) -> 523469 | D18: =SUM(D6:D17) -> 245967 | E18: =SUM(E6:E17) -> 86939 | F18: =SUM(F6:F17) -> 103472 | G18: =SUM(G6:G17) -> 33253 | H18: =SUM(H6:H17) -> 43841 | I18: =SUM(I6:I17) -> 19561 | ... M18: =SUM(M6:M17) -> 17560
A20: Constituency seats earned
B21: =B5 -> SNP | C21: =C5 -> Lab | D21: =D5 -> Con | E21: =E5 -> Green | F21: =F5 -> LD | G21: =G5 -> Pensioner | H21: =H5 -> other | I21: =I5 -> other | ... M21: =M5 -> other | P21: =B21 -> SNP | Q21: =C21 -> Lab | R21: =D21 -> Con | S21: =E21 -> Green | T21: =F21 -> LD | U21: =G21 -> Pensioner | V21: =H21 -> other | W21: =I21 -> other | ... AA21: =M21 -> other
A22: =A6 -> Central | B22: 6 | C22: 3 | O22: =A22 -> Central | P22: 3 | Q22: 3 | R22: 1 | S22: 0 | T22: 0 | U22: 0 | V22: 0 | W22: 0 | X22: 0 | Y22: 0 | Z22: 0 | AA22: 0
A23: =A7 -> Glasgow | B23: =Tablex.1!$D$27 -> 5 | C23: =Tablex.1!$D$28 -> 4 | O23: =A23 -> Glasgow | P23: 2 | Q23: 2 | R23: 1 | S23: 1 | T23: 0 | U23: 0 | V23: 1 | W23: 0 | X23: 0 | Y23: 0 | Z23: 0 | AA23: 0
A24: =A8 -> Highland | B24: 6 | F24: 2 | O24: =A24 -> Highland | P24: 2 | Q24: 2 | R24: 2 | S24: 1 | T24: 0 | U24: 0 | V24: 0 | W24: 0 | X24: 0 | Y24: 0 | Z24: 0 | AA24: 0
A25: =A9 -> Lothian | B25: 8 | C25: 1 | O25: =A25 -> Lothian | P25: 0 | Q25: 2 | R25: 2 | S25: 1 | T25: 1 | U25: 0 | V25: 1 | W25: 0 | X25: 0 | Y25: 0 | Z25: 0 | AA25: 0
A26: =A10 -> Mid&Fife | B26: 8 | C26: 1 | O26: =A26 -> Mid&Fife | P26: 0 | Q26: 3 | R26: 2 | S26: 1 | T26: 1 | U26: 0 | V26: 0 | W26: 0 | X26: 0 | Y26: 0 | Z26: 0 | AA26: 0
A27: =A11 -> NE Scotland | B27: 10 | O27: =A27 -> NE Scotland | P27: 0 | Q27: 3 | R27: 2 | S27: 1 | T27: 1 | U27: 0 | V27: 0 | W27: 0 | X27: 0 | Y27: 0 | Z27: 0 | AA27: 0
A28: South | B28: 4 | C28: 2 | D28: 3 | O28: =A28 -> South | P28: 3 | Q28: 2 | R28: 0 | S28: 1 | T28: 1 | U28: 0 | V28: 0 | W28: 0 | X28: 0 | Y28: 0 | Z28: 0 | AA28: 0
A29: =A13 -> West | B29: 6 | C29: 4 | O29: =A29 -> West | P29: 1 | Q29: 2 | R29: 2 | S29: 1 | T29: 1 | U29: 0 | V29: 0 | W29: 0 | X29: 0 | Y29: 0 | Z29: 0 | AA29: 0
A31: Const. | B31: =SUM(B22:B29) -> 53 | C31: =SUM(C22:C29) -> 15 | D31: =SUM(D22:D29) -> 3 | E31: =SUM(E22:E29) -> 0 | F31: =SUM(F22:F29) -> 2 | G31: =SUM(G22:G29) -> 0 | H31: =SUM(H22:H29) -> 0 | I31: =SUM(I22:I29) -> 0 | ... M31: =SUM(M22:M29) -> 0 | O31: Prop. | P31: =SUM(P22:P29) -> 11 | Q31: =SUM(Q22:Q29) -> 19 | R31: =SUM(R22:R29) -> 12 | S31: =SUM(S22:S29) -> 7 | T31: =SUM(T22:T29) -> 5 | U31: =SUM(U22:U29) -> 0 | V31: =SUM(V22:V29) -> 2 | W31: =SUM(W22:W29) -> 0 | ... AA31: =SUM(AA22:AA29) -> 0
O33: TOTAL | P33: =B31+P31 -> 64 | Q33: =C31+Q31 -> 34 | R33: =D31+R31 -> 15 | S33: =E31+S31 -> 7 | T33: =F31+T31 -> 7 | U33: =G31+U31 -> 0 | V33: =H31+V31 -> 2 | W33: =I31+W31 -> 0 | ... AA33: =M31+AA31 -> 0
A34: Sources: as Table x.1
