Workbook

Sheet Table description
A1: Supplementary Table | B1: description
A2: Supplementary Table 1 | B2: Instrumental variants for BMI used in MR-Clust analysis and cluster-specific PRS construction
A3: Supplementary Table 2 | B3: SNP-level MR-Clust assignments and cluster membership probabilities for Cluster 1
A4: Supplementary Table 3 | B4: SNP-level MR-Clust assignments and cluster membership probabilities for Cluster 2
A5: Supplementary Table 4 | B5: SNP-level MR-Clust assignments and cluster membership probabilities for Cluster 3
A6: Supplementary Table 5 | B6: SNP-level MR-Clust assignments and cluster membership probabilities for Cluster 4
A7: Supplementary Table 6 | B7: Study cohort characteristics
A8: Supplementary Table 7 | B8: Association between cluster-specific BMI PRS and depression risk
A9: Supplementary Table 8 | B9: Cis-pQTL MR estimates for the causal effect of plasma proteins on depression risk
A10: Supplementary Table 9 | B10: Causal effect of C1 on candidate depression-associated proteins
A11: Supplementary Table 10 | B11: Causal effect of C2 on candidate depression-associated proteins
A12: Supplementary Table 11 | B12: Causal effect of C3 on candidate depression-associated proteins
... A16: Supplementary Table 15 | B16: Causal effect of C3 on candidate depression-associated IDPs

Sheet ST1
A1: Supplementary Table 1. Instrumental variants for BMI used in MR-Clust analysis and cluster-specific PRS construction.
A2: SNP | B2: CHR | C2: POS | D2: A1 | E2: A2 | F2: beta | G2: se | H2: pval | I2: eaf | J2: samplesize | K2: r2 | L2: F
A3: rs1003081 | B3: 11 | C3: 118913993 | D3: T | E3: C | F3: 0.0121 | G3: 0.0016 | H3: 1.29987e-13 | I3: 0.4497 | J3: 788712 | K3: 7.2464139e-05 | L3: 57.191406
A4: rs10048652 | B4: 2 | C4: 35449306 | D4: C | E4: T | F4: -0.0129 | G4: 0.0017 | H4: 7.10068e-14 | I4: 0.5499 | J4: 692063 | K4: 8.2376275e-05 | L4: 57.581315
A5: rs1006896 | B5: 3 | C5: 88104411 | D5: C | E5: A | F5: -0.0234 | G5: 0.0027 | H5: 5.50047e-18 | I5: 0.1061 | J5: 691892 | K5: 0.00010386424 | L5: 75.111111
A6: rs10099330 | B6: 8 | C6: 143383694 | D6: G | E6: A | F6: 0.0112 | G6: 0.0017 | H6: 1.40001e-10 | I6: 0.4436 | J6: 684190 | K6: 6.1921961e-05 | L6: 43.404844
A7: rs10118701 | B7: 9 | C7: 103061366 | D7: G | E7: A | F7: 0.0163 | G7: 0.0018 | H7: 1.10002e-18 | I7: 0.3227 | J7: 692315 | K7: 0.00011614092 | L7: 82.003086
A8: rs10132280 | B8: 14 | C8: 25928179 | D8: A | E8: C | F8: -0.0223 | G8: 0.0018 | H8: 5.60015e-35 | I8: 0.3017 | J8: 786578 | K8: 0.00020953524 | L8: 153.48457
A9: rs10163018 | B9: 15 | C9: 53525415 | D9: T | E9: C | F9: -0.0114 | G9: 0.0018 | H9: 1.5e-10 | I9: 0.3748 | J9: 689715 | K9: 6.0905744e-05 | L9: 40.111111
A10: rs10169594 | B10: 2 | C10: 41637688 | D10: C | E10: T | F10: 0.0121 | G10: 0.0018 | H10: 1.99986e-11 | I10: 0.3596 | J10: 685712 | K10: 6.7432885e-05 | L10: 45.188272
A11: rs10182181 | B11: 2 | C11: 25150296 | D11: G | E11: A | F11: 0.0325 | G11: 0.0016 | H11: 6.70039e-90 | I11: 0.4753 | J11: 792111 | K11: 0.00052683618 | L11: 412.59766
A12: rs1021066 | B12: 8 | C12: 106368050 | D12: G | E12: T | F12: 0.0096 | G12: 0.0017 | H12: 2.5e-08 | I12: 0.5237 | J12: 690198 | K12: 4.5976469e-05 | L12: 31.889273
A13: rs10211055 | B13: 2 | C13: 229016917 | D13: C | E13: T | F13: 0.0157 | G13: 0.0018 | H13: 7.19946e-18 | I13: 0.3456 | J13: 686577 | K13: 0.00011149267 | L13: 76.07716
A14: rs10236214 | B14: 7 | C14: 150668070 | D14: T | E14: C | F14: 0.0128 | G14: 0.0017 | H14: 1.50003e-13 | I14: 0.6407 | J14: 785742 | K14: 7.5433086e-05 | L14: 56.692042
... A435: rs999889 | B435: 10 | C435: 84279949 | D435: A | E435: G | F435: -0.0108 | G435: 0.0019 | H435: 1.40001e-08 | I435: 0.2818 | J435: 690572 | K435: 4.721325e-05 | L435: 32.310249
A436: SNP, rsID; CHR, chromosome; POS, genomic position (GRCh37); A1, effect allele; A2, non-effect allele; beta/se/pval, SNP-BMI effect size, standard error, and P-value; eaf, effect allele frequency; samplesize, GWAS sample size; r2, variance in BMI explained; F, F-statistic for instrument strength.

Sheet ST2
A1: Supplementary Table 2. SNP-level MR-Clust assignments and cluster membership probabilities for Cluster 1.
A2: SNP | B2: CHR | C2: POS | D2: A1 | E2: A2 | F2: beta | G2: se | H2: pval | I2: eaf | J2: samplesize | K2: cluster | L2: probability | M2: cluster mean
A3: rs10048652 | B3: 2 | C3: 35449306 | D3: C | E3: T | F3: -0.0129 | G3: 0.0017 | H3: 7.1e-14 | I3: 0.5499 | J3: 692063 | K3: 1 | L3: 0.485 | M3: 0.499
A4: rs1006896 | B4: 3 | C4: 88104411 | D4: C | E4: A | F4: -0.0234 | G4: 0.0027 | H4: 5.5e-18 | I4: 0.1061 | J4: 691892 | K4: 1 | L4: 0.954 | M4: 0.499
A5: rs10118701 | B5: 9 | C5: 103061366 | D5: G | E5: A | F5: 0.0163 | G5: 0.0018 | H5: 1.1e-18 | I5: 0.3227 | J5: 692315 | K5: 1 | L5: 0.78 | M5: 0.499
A6: rs10169594 | B6: 2 | C6: 41637688 | D6: C | E6: T | F6: 0.0121 | G6: 0.0018 | H6: 2e-11 | I6: 0.3596 | J6: 685712 | K6: 1 | L6: 0.597 | M6: 0.499
A7: rs1021066 | B7: 8 | C7: 106368050 | D7: G | E7: T | F7: 0.0096 | G7: 0.0017 | H7: 2.5e-08 | I7: 0.5237 | J7: 690198 | K7: 1 | L7: 0.391 | M7: 0.499
A8: rs10248136 | B8: 7 | C8: 39077397 | D8: T | E8: C | F8: -0.0097 | G8: 0.0017 | H8: 2e-08 | I8: 0.5142 | J8: 686892 | K8: 1 | L8: 0.775 | M8: 0.499
A9: rs1040101 | B9: 11 | C9: 131453912 | D9: G | E9: T | F9: 0.0101 | G9: 0.0017 | H9: 7.3e-09 | I9: 0.5664 | J9: 682604 | K9: 1 | L9: 0.65 | M9: 0.499
A10: rs1075901 | B10: 17 | C10: 15943910 | D10: C | E10: T | F10: 0.0121 | G10: 0.0016 | H10: 1.2e-13 | I10: 0.5639 | J10: 794789 | K10: 1 | L10: 0.44 | M10: 0.499
A11: rs10858334 | B11: 9 | C11: 137989785 | D11: G | E11: C | F11: 0.0143 | G11: 0.0026 | H11: 2.7e-08 | I11: 0.1415 | J11: 672640 | K11: 1 | L11: 0.801 | M11: 0.499
A12: rs10871781 | B12: 18 | C12: 58222141 | D12: G | E12: A | F12: -0.0111 | G12: 0.0017 | H12: 1.8e-10 | I12: 0.4284 | J12: 689915 | K12: 1 | L12: 0.441 | M12: 0.499
A13: rs10876418 | B13: 12 | C13: 39428802 | D13: T | E13: C | F13: -0.0123 | G13: 0.0019 | H13: 2.8e-10 | I13: 0.2325 | J13: 787067 | K13: 1 | L13: 0.353 | M13: 0.499
A14: rs10878946 | B14: 12 | C14: 69642315 | D14: T | E14: C | F14: -0.0141 | G14: 0.0019 | H14: 3.6e-13 | I14: 0.714 | J14: 685707 | K14: 1 | L14: 0.536 | M14: 0.499
... A162: rs9989141 | B162: 14 | C162: 94006257 | D162: T | E162: C | F162: 0.0162 | G162: 0.0017 | H162: 3.6e-21 | I162: 0.6387 | J162: 752768 | K162: 1 | L162: 0.9 | M162: 0.499

Sheet ST3
A1: Supplementary Table 3. SNP-level MR-Clust assignments and cluster membership probabilities for Cluster 2.
A2: SNP | B2: CHR | C2: POS | D2: A1 | E2: A2 | F2: beta | G2: se | H2: pval | I2: eaf | J2: samplesize | K2: cluster | L2: probability | M2: cluster mean
A3: rs10182181 | B3: 2 | C3: 25150296 | D3: G | E3: A | F3: 0.0325 | G3: 0.0016 | H3: 6.70039e-90 | I3: 0.4753 | J3: 792111 | K3: 2 | L3: 0.713 | M3: 0.137
A4: rs10269783 | B4: 7 | C4: 49616203 | D4: A | E4: G | F4: 0.0133 | G4: 0.0017 | H4: 1.39991e-15 | I4: 0.3896 | J4: 790551 | K4: 2 | L4: 0.4 | M4: 0.137
A5: rs10742752 | B5: 11 | C5: 45438374 | D5: C | E5: T | F5: 0.0124 | G5: 0.0017 | H5: 1.10002e-13 | I5: 0.6159 | J5: 792704 | K5: 2 | L5: 0.363 | M5: 0.137
A6: rs10746862 | B6: 9 | C6: 73780912 | D6: G | E6: T | F6: 0.0121 | G6: 0.0017 | H6: 5.19996e-12 | I6: 0.4076 | J6: 692414 | K6: 2 | L6: 0.402 | M6: 0.137
A7: rs10840099 | B7: 11 | C7: 8667680 | D7: C | E7: T | F7: 0.0182 | G7: 0.0017 | H7: 9.8992e-27 | I7: 0.6488 | J7: 794507 | K7: 2 | L7: 0.501 | M7: 0.137
A8: rs10962550 | B8: 9 | C8: 16720329 | D8: C | E8: G | F8: 0.0182 | G8: 0.0022 | H8: 6.20012e-16 | I8: 0.1801 | J8: 690579 | K8: 2 | L8: 0.379 | M8: 0.137
A9: rs11496125 | B9: 7 | C9: 103417557 | D9: T | E9: C | F9: 0.0169 | G9: 0.0017 | H9: 2.99985e-22 | I9: 0.4212 | J9: 684574 | K9: 2 | L9: 0.454 | M9: 0.137
A10: rs12369179 | B10: 12 | C10: 122963550 | D10: T | E10: C | F10: -0.0359 | G10: 0.0031 | H10: 2.49977e-31 | I10: 0.08782 | J10: 674260 | K10: 2 | L10: 0.48 | M10: 0.137
A11: rs12429545 | B11: 13 | C11: 54102206 | D11: A | E11: G | F11: 0.0316 | G11: 0.0025 | H11: 9.60064e-38 | I11: 0.1248 | J11: 778918 | K11: 2 | L11: 0.606 | M11: 0.137
A12: rs12641981 | B12: 4 | C12: 45179883 | D12: T | E12: C | F12: 0.0324 | G12: 0.0016 | H12: 8.00018e-86 | I12: 0.4315 | J12: 793326 | K12: 2 | L12: 0.822 | M12: 0.137
A13: rs12887636 | B13: 14 | C13: 29702590 | D13: G | E13: T | F13: -0.0176 | G13: 0.0017 | H13: 7.19946e-24 | I13: 0.3511 | J13: 783533 | K13: 2 | L13: 0.475 | M13: 0.137
A14: rs12936083 | B14: 17 | C14: 4801887 | D14: G | E14: A | F14: 0.0139 | G14: 0.0019 | H14: 4.10015e-13 | I14: 0.3267 | J14: 633615 | K14: 2 | L14: 0.401 | M14: 0.137
... A57: rs9630985 | B57: 2 | C57: 181607676 | D57: C | E57: A | F57: 0.0177 | G57: 0.0018 | H57: 4.40048e-22 | I57: 0.6756 | J57: 690619 | K57: 2 | L57: 0.467 | M57: 0.137

Sheet ST4
A1: Supplementary Table 4. SNP-level MR-Clust assignments and cluster membership probabilities for Cluster 3.
A2: SNP | B2: CHR | C2: POS | D2: A1 | E2: A2 | F2: beta | G2: se | H2: pval | I2: eaf | J2: samplesize | K2: cluster | L2: probability | M2: cluster mean
A3: rs1003081 | B3: 11 | C3: 118913993 | D3: T | E3: C | F3: 0.0121 | G3: 0.0016 | H3: 1.3e-13 | I3: 0.4497 | J3: 788712 | K3: 3 | L3: 0.466 | M3: -0.423
A4: rs10211055 | B4: 2 | C4: 229016917 | D4: C | E4: T | F4: 0.0157 | G4: 0.0018 | H4: 7.2e-18 | I4: 0.3456 | J4: 686577 | K4: 3 | L4: 0.65 | M4: -0.423
A5: rs1064213 | B5: 2 | C5: 198950240 | D5: A | E5: G | F5: 0.012 | G5: 0.0017 | H5: 2.4e-12 | I5: 0.492 | J5: 692576 | K5: 3 | L5: 0.777 | M5: -0.423
A6: rs10968114 | B6: 9 | C6: 27800007 | D6: C | E6: A | F6: -0.0113 | G6: 0.0017 | H6: 6.1e-11 | I6: 0.4681 | J6: 686025 | K6: 3 | L6: 0.678 | M6: -0.423
A7: rs11030104 | B7: 11 | C7: 27684517 | D7: G | E7: A | F7: -0.0393 | G7: 0.002 | H7: 2e-83 | I7: 0.2109 | J7: 794765 | K7: 3 | L7: 0.996 | M7: -0.423
A8: rs11150911 | B8: 18 | C8: 73498528 | D8: C | E8: A | F8: -0.0133 | G8: 0.0018 | H8: 4.7e-13 | I8: 0.7191 | J8: 781716 | K8: 3 | L8: 0.71 | M8: -0.423
A9: rs11173522 | B9: 12 | C9: 60953472 | D9: A | E9: C | F9: 0.0128 | G9: 0.0021 | H9: 1.1e-09 | I9: 0.2078 | J9: 691593 | K9: 3 | L9: 0.747 | M9: -0.423
A10: rs11538 | B10: 22 | C10: 18220831 | D10: G | E10: A | F10: 0.0135 | G10: 0.0023 | H10: 3.3e-09 | I10: 0.1805 | J10: 692349 | K10: 3 | L10: 0.814 | M10: -0.423
A11: rs11700187 | B11: 20 | C11: 47410937 | D11: A | E11: G | F11: -0.0116 | G11: 0.002 | H11: 1.4e-08 | I11: 0.234 | J11: 688950 | K11: 3 | L11: 0.848 | M11: -0.423
A12: rs11783247 | B12: 8 | C12: 10788875 | D12: T | E12: C | F12: -0.0169 | G12: 0.0016 | H12: 1.2e-24 | I12: 0.5375 | J12: 790309 | K12: 3 | L12: 0.528 | M12: -0.423
A13: rs11945861 | B13: 4 | C13: 65700865 | D13: A | E13: G | F13: -0.0148 | G13: 0.002 | H13: 5e-13 | I13: 0.2369 | J13: 682451 | K13: 3 | L13: 0.617 | M13: -0.423
A14: rs12364470 | B14: 11 | C14: 134601012 | D14: G | E14: T | F14: 0.0178 | G14: 0.0022 | H14: 1.1e-15 | I14: 0.1626 | J14: 787411 | K14: 3 | L14: 0.971 | M14: -0.423
... A82: rs999889 | B82: 10 | C82: 84279949 | D82: A | E82: G | F82: -0.0108 | G82: 0.0019 | H82: 1.4e-08 | I82: 0.2818 | J82: 690572 | K82: 3 | L82: 0.633 | M82: -0.423

Sheet ST5
A1: Supplementary Table 5. SNP-level MR-Clust assignments and cluster membership probabilities for Cluster 4.
A2: SNP | B2: CHR | C2: POS | D2: A1 | E2: A2 | F2: beta | G2: se | H2: pval | I2: eaf | J2: samplesize | K2: cluster | L2: probability | M2: cluster mean
A3: rs10099330 | B3: =VLOOKUP(A3,'ST1'!A:C,2,FALSE) -> 8 | C3: =VLOOKUP(A3,'ST1'!A:C,3,FALSE) -> 143383694 | D3: G | E3: A | F3: 0.0112 | G3: 0.0017 | H3: 1.40001e-10 | I3: 0.4436 | J3: 684190 | K3: 4 | L3: 0.462 | M3: -0.013
A4: rs10132280 | B4: =VLOOKUP(A4,'ST1'!A:C,2,FALSE) -> 14 | C4: =VLOOKUP(A4,'ST1'!A:C,3,FALSE) -> 25928179 | D4: A | E4: C | F4: -0.0223 | G4: 0.0018 | H4: 5.60015e-35 | I4: 0.3017 | J4: 786578 | K4: 4 | L4: 0.641 | M4: -0.013
A5: rs10163018 | B5: =VLOOKUP(A5,'ST1'!A:C,2,FALSE) -> 15 | C5: =VLOOKUP(A5,'ST1'!A:C,3,FALSE) -> 53525415 | D5: T | E5: C | F5: -0.0114 | G5: 0.0018 | H5: 1.5e-10 | I5: 0.3748 | J5: 689715 | K5: 4 | L5: 0.413 | M5: -0.013
A6: rs10236214 | B6: =VLOOKUP(A6,'ST1'!A:C,2,FALSE) -> 7 | C6: =VLOOKUP(A6,'ST1'!A:C,3,FALSE) -> 150668070 | D6: T | E6: C | F6: 0.0128 | G6: 0.0017 | H6: 1.50003e-13 | I6: 0.6407 | J6: 785742 | K6: 4 | L6: 0.467 | M6: -0.013
A7: rs10247983 | B7: =VLOOKUP(A7,'ST1'!A:C,2,FALSE) -> 7 | C7: =VLOOKUP(A7,'ST1'!A:C,3,FALSE) -> 114590228 | D7: A | E7: G | F7: 0.0201 | G7: 0.0033 | H7: 1.7e-09 | I7: 0.9213 | J7: 672411 | K7: 4 | L7: 0.427 | M7: -0.013
A8: rs1048932 | B8: =VLOOKUP(A8,'ST1'!A:C,2,FALSE) -> 11 | C8: =VLOOKUP(A8,'ST1'!A:C,3,FALSE) -> 115044850 | D8: A | E8: C | F8: -0.016 | G8: 0.0017 | H8: 3.80014e-22 | I8: 0.4162 | J8: 795167 | K8: 4 | L8: 0.487 | M8: -0.013
A9: rs10510419 | B9: =VLOOKUP(A9,'ST1'!A:C,2,FALSE) -> 3 | C9: =VLOOKUP(A9,'ST1'!A:C,3,FALSE) -> 12426936 | D9: T | E9: G | F9: -0.0177 | G9: 0.0023 | H9: 2.19989e-14 | I9: 0.1416 | J9: 789318 | K9: 4 | L9: 0.495 | M9: -0.013
A10: rs10733051 | B10: =VLOOKUP(A10,'ST1'!A:C,2,FALSE) -> 1 | C10: =VLOOKUP(A10,'ST1'!A:C,3,FALSE) -> 167280354 | D10: G | E10: A | F10: -0.0097 | G10: 0.0016 | H10: 2.90001e-09 | I10: 0.4802 | J10: 781928 | K10: 4 | L10: 0.408 | M10: -0.013
A11: rs10772983 | B11: =VLOOKUP(A11,'ST1'!A:C,2,FALSE) -> 12 | C11: =VLOOKUP(A11,'ST1'!A:C,3,FALSE) -> 17141582 | D11: T | E11: C | F11: -0.0108 | G11: 0.0016 | H11: 3.29989e-11 | I11: 0.5094 | J11: 791802 | K11: 4 | L11: 0.435 | M11: -0.013
A12: rs10777193 | B12: =VLOOKUP(A12,'ST1'!A:C,2,FALSE) -> 12 | C12: =VLOOKUP(A12,'ST1'!A:C,3,FALSE) -> 90142883 | D12: A | E12: G | F12: 0.015 | G12: 0.0019 | H12: 1.10002e-14 | I12: 0.7094 | J12: 775548 | K12: 4 | L12: 0.546 | M12: -0.013
A13: rs10811871 | B13: =VLOOKUP(A13,'ST1'!A:C,2,FALSE) -> 9 | C13: =VLOOKUP(A13,'ST1'!A:C,3,FALSE) -> 23200766 | D13: G | E13: A | F13: -0.0108 | G13: 0.0018 | H13: 1.6e-09 | I13: 0.3829 | J13: 686376 | K13: 4 | L13: 0.431 | M13: -0.013
A14: rs10867256 | B14: =VLOOKUP(A14,'ST1'!A:C,2,FALSE) -> 9 | C14: =VLOOKUP(A14,'ST1'!A:C,3,FALSE) -> 81367391 | D14: T | E14: C | F14: -0.0118 | G14: 0.0017 | H14: 8.69961e-12 | I14: 0.553 | J14: 689493 | K14: 4 | L14: 0.487 | M14: -0.013
... A140: rs962796 | B140: =VLOOKUP(A140,'ST1'!A:C,2,FALSE) -> 13 | C140: =VLOOKUP(A140,'ST1'!A:C,3,FALSE) -> 54385284 | D140: C | E140: T | F140: -0.0148 | G140: 0.0022 | H140: 5.90065e-12 | I140: 0.7948 | J140: 692479 | K140: 4 | L140: 0.462 | M140: -0.013

Sheet ST6
A1: Supplementary Table 6. Study cohort characteristics.
A2: n | B2: Overall | C2: Patients without depression | D2: Patients witht depression | E2: P-value
B3: n=457,929 | C3: n=378571 | D3: n=79358
A4: Age, yrs | B4: 56.77 (8.02) | C4: 56.93 (8.02) | D4: 55.99 (8.02) | E4: <0.0001
A5: Male | B5: 209319 (45.7) | C5: 179371 (47.4) | D5: 29948 (37.7) | E5: <0.0001
A6: BMI, kg/m2 | B6: 27.39 (4.77) | C6: 27.23 (4.60) | D6: 28.18 (5.43) | E6: <0.0001
A7: Smoking | E7: <0.0001
A8: Current | B8: 246182 (54.0) | C8: 208357 (55.2) | D8: 37825 (47.9)
A9: Never | B9: 162417 (35.6) | C9: 133680 (35.4) | D9: 28737 (36.4)
A10: Previous | B10: 47698 (10.5) | C10: 35213 (9.3) | D10: 12485 (15.8)
A11: Drinking | E11: <0.0001
A12: Current | B12: 14778 (3.2) | C12: 11702 (3.1) | D12: 3076 (3.9)
A13: Never | B13: 15922 (3.5) | C13: 11061 (2.9) | D13: 4861 (6.1)
A14: Previous | B14: 426818 (93.3) | C14: 355535 (94.0) | D14: 71283 (90.0)
A15: SBP, mmHg | B15: 138.06 (18.65) | C15: 138.52 (18.66) | D15: 135.84 (18.44) | E15: <0.0001
A16: DBP, mmHg | B16: 82.23 (10.13) | C16: 82.33 (10.11) | D16: 81.76 (10.24) | E16: <0.0001
A17: MET, min/week | B17: 480.00 [120.00, 1200.00] | C17: 480.00 [120.00, 1200.00] | D17: 480.00 [120.00, 1200.00] | E17: <0.0001
A18: Townsend Deprivation Index | B18: -2.26 [-3.70, 0.25] | C18: -2.37 [-3.76, 0.01] | D18: -1.62 [-3.33, 1.36] | E18: <0.0001
A19: University or college | B19: 146463 (32.3) | C19: 123880 (33.0) | D19: 22583 (28.7) | E19: <0.0001
A20: Healthy diet score | B20: 2.52 (1.22) | C20: 2.52 (1.22) | D20: 2.48 (1.23) | E20: <0.0001
A21: CKD | B21: 24940 (5.4) | C21: 19881 (5.3) | D21: 5059 (6.4) | E21: <0.0001
A22: Hypertension | B22: 130208 (28.4) | C22: 104295 (27.5) | D22: 25913 (32.7) | E22: <0.0001
A23: Stroke | B23: 7110 (1.6) | C23: 5152 (1.4) | D23: 1958 (2.5) | E23: <0.0001
A24: Diabetes | B24: 25200 (5.5) | C24: 19391 (5.1) | D24: 5809 (7.3) | E24: <0.0001
A25: HbA1c, mmol/mol | B25: 35.96 (6.51) | C25: 35.85 (6.27) | D25: 36.47 (7.52) | E25: <0.0001
A26: CHOL, mmol/L | B26: 5.71 (1.14) | C26: 5.71 (1.14) | D26: 5.70 (1.17) | E26: 0.0006
A27: TG, mmol/L | B27: 1.75 (1.02) | C27: 1.74 (1.01) | D27: 1.83 (1.09) | E27: <0.0001
A28: Lp(a), mg/L | B28: 20.20 [9.40, 59.90] | C28: 20.23 [9.40, 60.00] | D28: 20.16 [9.30, 59.75] | E28: 0.3599
A29: HDLC, mmol/L | B29: 1.45 (0.38) | C29: 1.46 (0.38) | D29: 1.44 (0.39) | E29: <0.0001
A30: LDLC, mmol/L | B30: 3.57 (0.87) | C30: 3.57 (0.86) | D30: 3.55 (0.89) | E30: <0.0001
A31: eGFR, mL/min/1.73m2 | B31: 92.57 (11.55) | C31: 92.53 (11.33) | D31: 92.78 (12.52) | E31: <0.0001
A32: Abbreviation: BMI: body mass index; SBP: systolic blood pressure; DBP: diastolic blood pressure; MET: metabolic equivalent of task; CKD: chronic kidney disease; HbA1c: hemoglobin A1c; CHOL: cholesterol; TG: triglycerides; HDLC: high-density lipoprotein cholesterol; LDLC: low-density lipoprotein cholesterol; Lp(a), Lipoprotein (a); eGFR: estimated glomerular filtration rate; RAASi: renin-angiotensin-aldosterone system inhibitors.

Sheet ST7
A1: Supplementary Table 7. Association between cluster-specific BMI PRS and depression risk.
A2: Exposure | B2: Model 1 | D2: Model 2 | F2: Model 3
A3: Outcome: Depression base on ICD-10, Read Codes V2V3 and MHQ
B4: OR (95%CI) | C4: P-value | D4: OR (95%CI) | E4: P-value | F4: OR (95%CI) | G4: P-value
A5: C1-PRS | B5: 1.67 (1.56-1.78) | C5: 4.08e-52 | D5: 1.68 (1.57-1.79) | E5: 5.326231e-53 | F5: 1.67 (1.56-1.79) | G5: 2.217483e-51
A6: C2-PRS | B6: 1.25 (1.16-1.34) | C6: 5.296095e-09 | D6: 1.26 (1.17-1.36) | E6: 1.018918e-09 | F6: 1.25 (1.16-1.35) | G6: 3.184824e-09
A7: C3-PRS | B7: 0.79 (0.72-0.87) | C7: 7.221102e-07 | D7: 0.79 (0.72-0.87) | E7: 1.036548e-06 | F7: 0.78 (0.71-0.86) | G7: 4.153506e-07
A8: C4-PRS | B8: 1.09 (1.02-1.16) | C8: 0.007736881 | D8: 1.09 (1.03-1.17) | E8: 0.005 | F8: 1.09 (1.02-1.16) | G8: 0.00755904
A9: Outcome: Depression base on ICD-10
A10: C1-PRS | B10: 1.92 (1.73-2.12) | C10: 3.661351e-37 | D10: 1.93 (1.74-2.13) | E10: 7.511633e-38 | F10: 1.92 (1.74-2.12) | G10: 3.262255e-37
A11: C2-PRS | B11: 1.35 (1.21-1.51） | C11: 1.13305e-07 | D11: 1.37 (1.22-1.53) | E11: 4.12592e-08 | F11: 1.36 (1.21-1.52) | G11: 7.881629e-08
A12: C3-PRS | B12: 0.81 (0.70-0.93) | C12: 0.003 | D12: 0.81 (0.70-0.93) | E12: 0.003272542 | F12: 0.80 (0.70-0.92) | G12: 0.002332792
A13: C4-PRS | B13: 1.14 (1.03-1.25) | C13: 0.008 | D13: 1.14 (1.04-1.26) | E13: 0.006304456 | F13: 1.13 (1.03-1.25) | G13: 0.01006253
A14: Outcome: Depression base on Read Codes V2V3
A15: C1-PRS | B15: 1.54 (1.33-1.78) | C15: 4.586097e-09 | D15: 1.55 (1.34-1.79) | E15: 3.334924e-09 | F15: 1.55 (1.34-1.80) | G15: 2.407248e-09
A16: C2-PRS | B16: 1.05 (0.89-1.23) | C16: 0.5616053 | D16: 1.06 (0.90-1.25) | E16: 0.47 | F16: 1.07 (0.91-1.25) | G16: 0.447
A17: C3-PRS | B17: 0.69 (0.56-0.85) | C17: 0.0003982902 | D17: 0.69 (0.57-0.85) | E17: 0.0004727701 | F17: 0.69 (0.56-0.85) | G17: 0.0004312116
A18: C4-PRS | B18: 1.01 (0.88-1.16) | C18: 0.906 | D18: 1.01 (0.88-1.16) | E18: 0.852 | F18: 0.99 (0.87-1.15) | G18: 0.994
A19: Outcome: Depression base on MHQ
A20: C1-PRS | B20: 1.52 (1.41-1.65) | C20: 6.732104e-25 | D20: 1.53 (1.41-1.65) | E20: 5.917334e-25 | F20: 1.53 (1.41-1.66) | G20: 3.182347e-24
A21: C2-PRS | B21: 1.20 (1.09-1.31) | C21: 8.918809e-05 | D21: 1.21 (1.10-1.32) | E21: 4.58018e-05 | F21: 1.20 (1.09-1.31) | G21: 0.0001256739
A22: C3-PRS | B22: 0.84 (0.75-0.95) | C22: 0.003 | D22: 0.85 (0.76-0.95) | E22: 0.005 | F22: 0.84 (0.74-0.94) | G22: 0.002419728
A23: C4-PRS | B23: 1.09 (1.01-1.17) | C23: 0.031 | D23: 1.09 (1.01-1.18) | E23: 0.026 | F23: 1.09 (1.01-1.18) | G23: 0.024
A24: Logistic regression models estimating the odds ratio (OR) and 95% confidence interval (CI) for the association between each cluster-specific PRS (C1–C4) and depression, using four depression case definitions: (i) combined ICD-10, Read Codes V2/V3, and mental health questionnaire (MHQ); (ii) ICD-10 only; (iii) Read Codes V2/V3 only; (iv) MHQ only. Model 1: unadjusted; Model 2: adjusted for age and sex; Model 3: adjusted for age, sex, assessment centre, genotyping batch, and the first ten genetic principal components. PRS, polygenic risk score; MHQ, mental health questionnaire.

Sheet ST8
A1: Supplementary Table 8. Cis-pQTL MR estimates for the causal effect of plasma proteins on depression risk.
A2: Exposure | B2: Method | C2: No. SNP | D2: OR (95%CI) | E2: P-value | F2: P-FDR | G2: P-pleiotropy | H2: P-heterogeneity | I2: PPH4*
A3: FES | B3: Wald ratio | C3: 1 | D3: 1.16 (1.11-1.22) | E3: 6.0543807e-10 | F3: 4.1472508e-07 | G3: - | H3: - | I3: 0.99664745
A4: PRKAR2A | B4: Wald ratio | C4: 1 | D4: 1.45 (1.28-1.64) | E4: 4.6293818e-09 | F4: 1.5855633e-06 | G4: - | H4: - | I4: 0.00465
A5: CD40 | B5: IVW | C5: 3 | D5: 0.94 (0.92-0.96) | E5: 8.784611e-09 | F5: 1.0102303e-05 | G5: 0.93174555 | H5: 0.2482904 | I5: 0.999
A6: UBE2L6 | B6: Wald ratio | C6: 1 | D6: 1.07 (1.04-1.10) | E6: 3.1044467e-07 | F6: 7.0884865e-05 | G6: - | H6: - | I6: 0.000885
A7: ZFYVE19 | B7: Wald ratio | C7: 1 | D7: 1.05 (1.03-1.07) | E7: 2.360311e-06 | F7: 0.00040420326 | G7: - | H7: - | I7: 0.195
A8: METAP1D | B8: Wald ratio | C8: 1 | D8: 0.73 (0.64-0.84) | E8: 3.5092353e-06 | F8: 0.00048076524 | G8: - | H8: - | I8: 0.596
A9: FKBPL | B9: Wald ratio | C9: 1 | D9: 1.36 (1.19-1.56) | E9: 1.1548113e-05 | F9: 0.0011300654 | G9: - | H9: - | I9: 0.547
A10: TXNDC9 | B10: Wald ratio | C10: 1 | D10: 0.74 (0.65-0.85) | E10: 1.0515671e-05 | F10: 0.0011300654 | G10: - | H10: - | I10: 0.823
A11: BTN2A1 | B11: IVW | C11: 5 | D11: 0.93 (0.90-0.96) | E11: 4.4265468e-06 | F11: 0.0025452644 | G11: 0.56627336 | H11: 0.093899956 | I11: 0.547
A12: DUSP29 | B12: Wald ratio | C12: 1 | D12: 0.91 (0.87-0.95) | E12: 3.783055e-05 | F12: 0.0032392408 | G12: - | H12: - | I12: 0.609
A13: PPP1R14D | B13: Wald ratio | C13: 1 | D13: 0.81 (0.73-0.89) | E13: 4.2710907e-05 | F13: 0.0032507746 | G13: - | H13: - | I13: 0.0381
A14: PCDH1 | B14: Wald ratio | C14: 1 | D14: 1.17 (1.09-1.27) | E14: 5.5268497e-05 | F14: 0.003785892 | G14: - | H14: - | I14: 0.659
A15: ANGPTL2 | B15: Wald ratio | C15: 1 | D15: 1.29 (1.14-1.47) | E15: 8.9768893e-05 | F15: 0.0048639951 | G15: - | H15: - | I15: 0.684
A16: DDHD2 | B16: Wald ratio | C16: 1 | D16: 1.14 (1.07-1.21) | E16: 8.9893042e-05 | F16: 0.0048639951 | G16: - | H16: - | I16: 0.561
A17: ITIH1 | B17: Wald ratio | C17: 1 | D17: 1.10 (1.05-1.15) | E17: 9.2309396e-05 | F17: 0.0048639951 | G17: - | H17: - | I17: 0.00061369471
A18: DUSP13 | B18: Wald ratio | C18: 1 | D18: 0.96 (0.93-0.98) | E18: 0.00010872906 | F18: 0.0049652938 | G18: - | H18: - | I18: 0.353
A19: HYAL1 | B19: Wald ratio | C19: 1 | D19: 1.05 (1.02-1.07) | E19: 0.00010627503 | F19: 0.0049652938 | G19: - | H19: - | I19: 1.02e-09
A20: HSPB1 | B20: IVW | C20: 5 | D20: 0.96 (0.94-0.98) | E20: 1.5200063e-05 | F20: 0.0056757833 | G20: 0.50864213 | H20: 0.63086794 | I20: 0.035696781
A21: USP28 | B21: IVW | C21: 2 | D21: 0.85 (0.79-0.92) | E21: 1.9741855e-05 | F21: 0.0056757833 | G21: - | H21: 0.63436797 | I21: 2.73e-18
A22: KHK | B22: IVW | C22: 4 | D22: 1.04 (1.02-1.06) | E22: 2.4904394e-05 | F22: 0.0057280106 | G22: 0.65693066 | H22: 0.46326683 | I22: 0.0259
A23: ERC2 | B23: Wald ratio | C23: 1 | D23: 0.79 (0.70-0.89) | E23: 0.00015614788 | F23: 0.0059641395 | G23: - | H23: - | I23: 0.468
A24: LATS1 | B24: Wald ratio | C24: 1 | D24: 0.83 (0.75-0.91) | E24: 0.00015672192 | F24: 0.0059641395 | G24: - | H24: - | I24: 0.57
A25: PARP1 | B25: Wald ratio | C25: 1 | D25: 0.91 (0.87-0.96) | E25: 0.00014772914 | F25: 0.0059641395 | G25: - | H25: - | I25: 0.000116
A26: MEP1B | B26: IVW | C26: 7 | D26: 1.02 (1.01-1.03) | E26: 3.8051038e-05 | F26: 0.0072931155 | G26: 0.35097862 | H26: 0.43003888 | I26: 0.122
A27: HLA-E | B27: IVW | C27: 5 | D27: 0.92 (0.89-0.96) | E27: 6.313678e-05 | F27: 0.010372471 | G27: 0.22875671 | H27: 0.026259567 | I27: 0.189
A28: ST13 | B28: Wald ratio | C28: 1 | D28: 1.23 (1.10-1.38) | E28: 0.00030389066 | F28: 0.010956058 | G28: - | H28: - | I28: 2.36e-07
A29: AKT3 | B29: Wald ratio | C29: 1 | D29: 0.82 (0.73-0.91) | E29: 0.00036154049 | F29: 0.012382762 | G29: - | H29: - | I29: 0.233
A30: RABEP1 | B30: Wald ratio | C30: 1 | D30: 0.86 (0.79-0.93) | E30: 0.00043832414 | F30: 0.014297716 | G30: - | H30: - | I30: 0.586
A31: PHLDB1 | B31: Wald ratio | C31: 1 | D31: 1.28 (1.11-1.48) | E31: 0.00061929953 | F31: 0.019282735 | G31: - | H31: - | I31: 0.208
A32: VWC2L | B32: Wald ratio | C32: 1 | D32: 0.88 (0.82-0.95) | E32: 0.00073074463 | F32: 0.021763481 | G32: - | H32: - | I32: 0.713
A33: OTOA | B33: Wald ratio | C33: 1 | D33: 1.22 (1.08-1.37) | E33: 0.00098471703 | F33: 0.028105465 | G33: - | H33: - | I33: 0.0437
A34: TIE1 | B34: Wald ratio | C34: 1 | D34: 1.07 (1.03-1.11) | E34: 0.0011279915 | F34: 0.030906967 | G34: - | H34: - | I34: 0.211
A35: HSPB6 | B35: Wald ratio | C35: 1 | D35: 0.77 (0.66-0.90) | E35: 0.0012510347 | F35: 0.032959952 | G35: - | H35: - | I35: 0.00143
A36: DCN | B36: Wald ratio | C36: 1 | D36: 1.23 (1.08-1.40) | E36: 0.0013908817 | F36: 0.034393269 | G36: - | H36: - | I36: 0.2
A37: PLEKHO1 | B37: Wald ratio | C37: 1 | D37: 0.84 (0.75-0.93) | E37: 0.0014383018 | F37: 0.034393269 | G37: - | H37: - | I37: 0.301
A38: TEF | B38: Wald ratio | C38: 1 | D38: 1.15 (1.06-1.26) | E38: 0.0014560654 | F38: 0.034393269 | G38: - | H38: - | I38: 5.92e-08
A39: SKAP1 | B39: Wald ratio | C39: 1 | D39: 0.83 (0.74-0.93) | E39: 0.001574476 | F39: 0.035950536 | G39: - | H39: - | I39: 0.0176
... A49: TARBP2 | B49: Wald ratio | C49: 1 | D49: 0.82 (0.72-0.93) | E49: 0.0026975818 | F49: 0.046196089 | G49: - | H49: - | I49: 0.0335
...

Sheet ST9
A1: Supplementary Table 9. Causal effect of C1 on candidate depression-associated proteins.
A2: Exposure | B2: Outcome | C2: Method | D2: No. SNP | E2: beta | F2: se | G2: pval | H2: P-FDR | I2: P-pleiotropy | J2: P-heterogeneity | K2: Same direction?
A3: Cluster 1 | B3: FURIN | C3: IVW | D3: 124 | E3: 0.20976385 | F3: 0.050211251 | G3: 2.95e-05 | H3: 0.00115453 | I3: 0.68613085 | J3: 0.99994927 | K3: No
B4: SKAP1 | C4: IVW | D4: 130 | E4: 0.20369439 | F4: 0.050174338 | G4: 4.91e-05 | H4: 0.00115453 | I4: 0.9189459 | J4: 0.9999605 | K4: No
B5: ANGPTL2 | C5: IVW | D5: 123 | E5: 0.18327388 | F5: 0.050535801 | G5: 0.000287161 | H5: 0.004498862 | I5: 0.56885514 | J5: 0.99997402 | K5: Yes
B6: MEP1B | C6: IVW | D6: 138 | E6: 0.10794547 | F6: 0.031068295 | G6: 0.000511887 | H6: 0.006014677 | I6: 0.033366193 | J6: 0.99756076 | K6: Yes
B7: HSPB6 | C7: IVW | D7: 126 | E7: 0.13975775 | F7: 0.044162721 | G7: 0.001552914 | H7: 0.014597396 | I7: 0.3115893 | J7: 0.99500065 | K7: No
B8: VWC2L | C8: IVW | D8: 132 | E8: -0.14566385 | F8: 0.049182357 | G8: 0.003059363 | H8: 0.02396501 | I8: 0.32996919 | J8: 0.99974751 | K8: Yes
B9: PHLDB1 | C9: IVW | D9: 132 | E9: 0.14239067 | F9: 0.049063673 | G9: 0.003705982 | H9: 0.024883024 | I9: 0.12081363 | J9: 0.99995299 | K9: Yes
B10: BTN2A1 | C10: IVW | D10: 131 | E10: 0.1135094 | F10: 0.04694826 | G10: 0.01561658 | H10: 0.073397924 | I10: 0.53456054 | J10: 0.97991115 | K10: -
B11: HLA-E | C11: IVW | D11: 133 | E11: 0.11136352 | F11: 0.046021892 | G11: 0.015529279 | H11: 0.073397924 | I11: 0.26692513 | J11: 0.99664284 | K11: -
B12: PARP1 | C12: IVW | D12: 128 | E12: 0.12181506 | F12: 0.04952238 | G12: 0.013901517 | H12: 0.073397924 | I12: 0.34716439 | J12: 0.99988656 | K12: -
B13: VAT1 | C13: IVW | D13: 142 | E13: 0.097333268 | F13: 0.048019283 | G13: 0.042666287 | H13: 0.18230141 | I13: 0.05614557 | J13: 0.99949527 | K13: -
B14: KHK | C14: IVW | D14: 130 | E14: 0.094595379 | F14: 0.0484566 | G14: 0.050918373 | H14: 0.19943029 | I14: 0.45778567 | J14: 0.99980619 | K14: -
B15: UBE2L6 | C15: IVW | D15: 128 | E15: 0.083589342 | F15: 0.048903527 | G15: 0.087400904 | H15: 0.31598788 | I15: 0.88117124 | J15: 0.99998476 | K15: -
... B49: ST13 | C49: IVW | D49: 131 | E49: 0.001347706 | F49: 0.048570634 | G49: 0.97786366 | H49: 0.98304176 | I49: 0.35845812 | J49: 0.99571873 | K49: -

Sheet ST10
A1: Supplementary Table 10. Causal effect of C2 on candidate depression-associated proteins.
A2: Exposure | B2: Outcome | C2: Method | D2: No. SNP | E2: beta | F2: se | G2: pval | H2: P-FDR | I2: P-pleiotropy | J2: P-heterogeneity | K2: Same direction?
A3: Cluster 2 | B3: VWC2L | C3: IVW | D3: 49 | E3: -0.31288506 | F3: 0.05156227 | G3: 1.2943158e-09 | H3: 6.0832841e-08 | I3: 0.035588173 | J3: 0.57227959 | K3: Yes
B4: FURIN | C4: IVW | D4: 46 | E4: 0.31255459 | F4: 0.05305505 | G4: 3.8354632e-09 | H4: 9.0133386e-08 | I4: 0.48569708 | J4: 0.79631281 | K4: No
B5: ANGPTL2 | C5: IVW | D5: 45 | E5: 0.24205703 | F5: 0.052027873 | G5: 3.2801592e-06 | H5: 5.1389161e-05 | I5: 0.11985719 | J5: 0.53289344 | K5: Yes
B6: HSPB6 | C6: IVW | D6: 52 | E6: 0.18064734 | F6: 0.045238063 | G6: 6.5171107e-05 | H6: 0.0007657605 | I6: 0.035726315 | J6: 0.65957012 | K6: No
B7: MEP1B | C7: IVW | D7: 47 | E7: 0.12617051 | F7: 0.03452294 | G7: 0.00025749678 | H7: 0.0024204697 | I7: 0.58025935 | J7: 0.48200307 | K7: Yes
B8: BTN2A1 | C8: IVW | D8: 48 | E8: 0.10338735 | F8: 0.050797855 | G8: 0.041823712 | H8: 0.28081635 | I8: 0.82553986 | J8: 0.43323365 | K8: -
B9: DCN | C9: IVW | D9: 50 | E9: 0.10165085 | F9: 0.049848861 | G9: 0.041431975 | H9: 0.28081635 | I9: 0.6369083 | J9: 0.95933721 | K9: -
B10: SPRED2 | C10: IVW | D10: 48 | E10: -0.10318223 | F10: 0.053459021 | G10: 0.053592194 | H10: 0.31485414 | I10: 0.8113201 | J10: 0.81093109 | K10: -
B11: PRG2 | C11: IVW | D11: 50 | E11: 0.09103473 | F11: 0.052035495 | G11: 0.080209168 | H11: 0.4188701 | I11: 0.34589851 | J11: 0.75804513 | K11: -
B12: CD40 | C12: IVW | D12: 49 | E12: 0.084434167 | F12: 0.050536612 | G12: 0.094770587 | H12: 0.44542176 | I12: 0.48266121 | J12: 0.76996691 | K12: -
B13: TIE1 | C13: IVW | D13: 49 | E13: 0.079207535 | F13: 0.04951412 | G13: 0.10966607 | H13: 0.46857319 | I13: 0.97720295 | J13: 0.98727447 | K13: -
B14: HYAL1 | C14: IVW | D14: 50 | E14: 0.074141348 | F14: 0.051550916 | G14: 0.1503728 | H14: 0.55326504 | I14: 0.95238835 | J14: 0.99489203 | K14: -
B15: PHLDB1 | C15: IVW | D15: 48 | E15: 0.072187408 | F15: 0.051967036 | G15: 0.16480235 | H15: 0.55326504 | I15: 0.41408173 | J15: 0.86971521 | K15: -
... B49: ZFYVE19 | C49: IVW | D49: 53 | E49: 0.0014515429 | F49: 0.050139497 | G49: 0.9769044 | H49: 0.9769044 | I49: 0.45766484 | J49: 0.96240792 | K49: -

Sheet ST11
A1: Supplementary Table 11. Causal effect of C3 on candidate depression-associated proteins.
A2: Exposure | B2: Outcome | C2: Method | D2: No. SNP | E2: beta | F2: se | G2: pval | H2: P-FDR | I2: P-pleiotropy | J2: P-heterogeneity | K2: Same direction?
A3: Cluster 3 | B3: MEP1B | C3: IVW | D3: 60 | E3: 0.16345314 | F3: 0.047394842 | G3: 0.00056318025 | H3: 0.026469472 | I3: 0.56349974 | J3: 0.99998959 | K3: No
B4: FURIN | C4: IVW | D4: 61 | E4: 0.21627447 | F4: 0.071540307 | G4: 0.0025018833 | H4: 0.030568819 | I4: 0.02970716 | J4: 0.98123306 | K4: Yes
B5: HLA-E | C5: IVW | D5: 69 | E5: 0.18637912 | F5: 0.064260853 | G5: 0.0037274334 | H5: 0.030568819 | I5: 0.87357981 | J5: 0.99939921 | K5: Yes
B6: HSPB6 | C6: IVW | D6: 65 | E6: 0.17768228 | F6: 0.061568144 | G6: 0.0039024025 | H6: 0.030568819 | I6: 0.10837098 | J6: 0.99039753 | K6: Yes
B7: PARP1 | C7: IVW | D7: 65 | E7: 0.21918638 | F7: 0.068621571 | G7: 0.0014025177 | H7: 0.030568819 | I7: 0.59668941 | J7: 0.99995574 | K7: Yes
B8: VWC2L | C8: IVW | D8: 66 | E8: -0.20282114 | F8: 0.067705061 | G8: 0.0027385422 | H8: 0.030568819 | I8: 0.0046674677 | J8: 0.98693602 | K8: No
B9: ANGPTL2 | C9: IVW | D9: 68 | E9: 0.19319031 | F9: 0.068455164 | G9: 0.0047703799 | H9: 0.032029694 | I9: 0.59883942 | J9: 0.99436904 | K9: No
B10: PHLDB1 | C10: IVW | D10: 72 | E10: 0.14721859 | F10: 0.066650672 | G10: 0.027187948 | H10: 0.15911039 | I10: 0.063671285 | J10: 0.98726457 | K10: -
B11: TIE1 | C11: IVW | D11: 67 | E11: 0.14110713 | F11: 0.065208035 | G11: 0.030467946 | H11: 0.15911039 | I11: 0.89903356 | J11: 0.99793534 | K11: -
B12: BTN2A1 | C12: IVW | D12: 59 | E12: 0.14055909 | F12: 0.068804329 | G12: 0.041064175 | H12: 0.19300162 | I12: 0.10444128 | J12: 0.93877266 | K12: -
B13: KHK | C13: IVW | D13: 68 | E13: 0.11571192 | F13: 0.066576943 | G13: 0.082207664 | H13: 0.35125093 | I13: 0.26946145 | J13: 0.99728847 | K13: -
B14: CD40 | C14: IVW | D14: 65 | E14: 0.088551181 | F14: 0.067801877 | G14: 0.19154288 | H14: 0.64303681 | I14: 0.65496882 | J14: 0.99828187 | K14: -
B15: PRG2 | C15: IVW | D15: 67 | E15: 0.090761619 | F15: 0.067059667 | G15: 0.17591328 | H15: 0.64303681 | I15: 0.66702187 | J15: 0.97136986 | K15: -
... B49: VAT1 | C49: IVW | D49: 65 | E49: -0.00013108057 | F49: 0.069107344 | G49: 0.9984866 | H49: 0.9984866 | I49: 0.92053241 | J49: 0.9890648 | K49: -

Sheet ST12
A1: Supplementary Table 12. Causal effect of C4 on candidate depression-associated proteins.
A2: Exposure | B2: Outcome | C2: Method | D2: No. SNP | E2: beta | F2: se | G2: P-value | H2: P-FDR | I2: P-pleiotropy | J2: P-heterogeneity | K2: Same direction?
A3: Cluster 4 | B3: FURIN | C3: IVW | D3: 121 | E3: 0.21660273 | F3: 0.044432073 | G3: 1.0885341e-06 | H3: 5.1161104e-05 | I3: 0.85199137 | J3: 0.92920889 | K3: Yes
B4: VWC2L | C4: IVW | D4: 106 | E4: -0.20895089 | F4: 0.046825717 | G4: 8.1080566e-06 | H4: 0.00019053933 | I4: 0.33896905 | J4: 0.99999635 | K4: No
B5: HSPB6 | C5: IVW | D5: 117 | E5: 0.15792593 | F5: 0.040028363 | G5: 7.9683244e-05 | H5: 0.0012483708 | I5: 0.03668746 | J5: 0.96939942 | K5: Yes
B6: BTN2A1 | C6: IVW | D6: 118 | E6: 0.15730982 | F6: 0.043739213 | G6: 0.0003224782 | H6: 0.0037891188 | I6: 0.056825637 | J6: 0.86310579 | K6: Yes
B7: ANGPTL2 | C7: IVW | D7: 117 | E7: 0.15419818 | F7: 0.044733587 | G7: 0.00056677801 | H7: 0.0053277133 | I7: 0.017741362 | J7: 0.94540873 | K7: No
B8: SKAP1 | C8: IVW | D8: 117 | E8: 0.147079 | F8: 0.045395776 | G8: 0.0011956033 | H8: 0.009365559 | I8: 0.7107952 | J8: 0.99999629 | K8: Yes
B9: KHK | C9: IVW | D9: 116 | E9: 0.13541431 | F9: 0.044517363 | G9: 0.0023514358 | H9: 0.015493174 | I9: 0.50773583 | J9: 0.98308047 | K9: No
B10: MEP1B | C10: IVW | D10: 118 | E10: 0.091158183 | F10: 0.03031386 | G10: 0.0026371361 | H10: 0.015493174 | I10: 0.58586319 | J10: 0.99443425 | K10: No
B11: PHLDB1 | C11: IVW | D11: 125 | E11: 0.12401413 | F11: 0.044874368 | G11: 0.0057170195 | H11: 0.029855546 | I11: 0.41502047 | J11: 0.99977083 | K11: No
B12: RAB6A | C12: IVW | D12: 115 | E12: -0.095465662 | F12: 0.043569235 | G12: 0.028442709 | H12: 0.12898129 | I12: 0.41799503 | J12: 0.99995518 | K12: -
B13: TMEM106A | C13: IVW | D13: 126 | E13: -0.096830667 | F13: 0.044671286 | G13: 0.03018711 | H13: 0.12898129 | I13: 0.55071436 | J13: 0.99990086 | K13: -
B14: PRG2 | C14: IVW | D14: 117 | E14: 0.091686983 | F14: 0.04436083 | G14: 0.038748712 | H14: 0.15176579 | I14: 0.16115424 | J14: 0.9810801 | K14: -
B15: HLA-E | C15: IVW | D15: 116 | E15: 0.080979778 | F15: 0.042611668 | G15: 0.05737891 | H15: 0.1926292 | I15: 0.57674552 | J15: 0.99394796 | K15: -
... B49: FKBPL | C49: IVW | D49: 124 | E49: 0.0019309616 | F49: 0.044628047 | G49: 0.96548798 | H49: 0.96548798 | I49: 0.80365906 | J49: 0.99929398 | K49: -

Sheet ST13
A1: Supplementary Table 13. Causal effect of brain IDPs on depression risk.
A2: Exposure | B2: ID | C2: Method | D2: No. SNP | E2: OR (95%CI) | F2: P-value | G2: P-FDR | H2: P-pleiotropy | I2: P-heterogeneity
A3: aparc-DKTatlas_lh_volume_rostralmiddlefrontal | B3: ubm-b-462 | C3: IVW | D3: 45 | E3: 0.94 (0.92-0.97) | F3: 2.0466467e-06 | G3: 0.0080535546 | H3: 0.47166224 | I3: 0.34815244
A4: rfMRI connectivity (ICA100 edge 907) | B4: ubm-b-3335 | C4: IVW | D4: 18 | E4: 1.09 (1.05-1.14) | F4: 1.6062845e-05 | G4: 0.063191231 | H4: 0.075317227 | I4: 0.58631171
A5: rfMRI connectivity (ICA100 edge 365) | B5: ubm-b-2793 | C5: IVW | D5: 16 | E5: 0.92 (0.88-0.96) | F5: 4.9733833e-05 | G5: 0.19560317 | H5: 0.36836768 | I5: 0.33295299
A6: rfMRI connectivity (ICA100 edge 340) | B6: ubm-b-2768 | C6: IVW | D6: 16 | E6: 1.10 (1.05-1.15) | F6: 6.1773371e-05 | G6: 0.24289289 | H6: 0.082197929 | I6: 0.28616997
A7: rfMRI connectivity (ICA100 edge 1248) | B7: ubm-b-3676 | C7: IVW | D7: 18 | E7: 1.09 (1.04-1.13) | F7: 6.419991e-05 | G7: 0.25236985 | H7: 0.62677724 | I7: 0.51668304
A8: aseg_lh_intensity_Putamen | B8: ubm-b-1345 | C8: IVW | D8: 69 | E8: 0.95 (0.93-0.98) | F8: 8.0174424e-05 | G8: 0.31508548 | H8: 0.85678579 | I8: 2.98e-07
A9: rfMRI connectivity (ICA100 edge 558) | B9: ubm-b-2986 | C9: IVW | D9: 13 | E9: 1.09 (1.04-1.15) | F9: 0.00013351516 | G9: 0.52458105 | H9: 0.23410765 | I9: 0.4403534
A10: IDP_T1_FAST_ROIs_R_putamen | B10: ubm-b-127 | C10: IVW | D10: 67 | E10: 1.04 (1.02-1.06) | F10: 0.00024665477 | G10: 0.96885993 | H10: 0.13882458 | I10: 1.88e-05
A11: aparc-a2009s_rh_area_S-temporal-sup | B11: ubm-b-1018 | C11: IVW | D11: 47 | E11: 0.96 (0.92-0.99) | F11: 0.0098267438 | G11: 0.999 | H11: 0.070442425 | I11: 4.0949332e-05
A12: aparc-Desikan_lh_thickness_precuneus | B12: ubm-b-1044 | C12: IVW | D12: 54 | E12: 0.96 (0.93-0.99) | F12: 0.012866408 | G12: 0.999 | H12: 0.77953947 | I12: 8.8053659e-07
A13: aparc-Desikan_lh_thickness_insula | B13: ubm-b-1053 | C13: IVW | D13: 39 | E13: 0.96 (0.93-1.00) | F13: 0.031987962 | G13: 0.999 | H13: 0.404733 | I13: 0.00068535055
A14: aparc-Desikan_rh_thickness_paracentral | B14: ubm-b-1070 | C14: IVW | D14: 43 | E14: 0.96 (0.93-0.99) | F14: 0.019368467 | G14: 0.999 | H14: 0.404733 | I14: 0.013860549
... A305: aparc-a2009s_rh_area_S-collat-transv-ant | B305: ubm-b-995 | C305: IVW | D305: 34 | E305: 1.04 (1.01-1.08) | F305: 0.022338604 | G305: 0.999 | H305: 0.28627295 | I305: 0.040569855
A306: Mendelian randomization estimates for the causal effect of each of 3,935 brain IDPs on depression risk, using IVs selected at P < 1×10⁻⁵ with LD clumping (r² < 0.001 within a 10,000 kb window) and the inverse-variance weighted (IVW) method. ID, unique identifier for the corresponding IDP GWAS (Oxford Brain Imaging Genetics browser); No. SNP, number of instrumental variants; OR, odds ratio per SD increase in the genetically predicted IDP; CI, confidence interval; P-FDR, false discovery rate–corrected P value; P-pleiotropy, P value from the MR-Egger intercept test; P-heterogeneity, P value from Cochran's Q test. Of 3,935 IDPs tested, 303 showed a nominally significant causal effect on depression (P < 0.05) and were retained for step 2 screening (Supplementary Tables 14–16); only aparc-DKTatlas_lh_volume_rostralmiddlefrontal survived FDR correction (P-FDR < 0.05, top row). Results are ranked by P-value; the full list of 303 nominally significant IDPs is provided.

Sheet ST14
A1: Supplementary Table 14. Causal effect of C1 on candidate depression-associated IDPs.
A2: Exposure | B2: Outcome | C2: Method | D2: No. SNP | E2: beta | F2: se | G2: P-value | H2: P-FDR | I2: P-pleiotropy | J2: P-heterogeneity | K2: Same direction?
A3: Cluster 1 | B3: wg_lh_intensity-contrast_bankssts | C3: IVW | D3: 157 | E3: -0.1196307 | F3: 0.059704543 | G3: 0.045100931 | H3: 0.56939926 | I3: 0.10722087 | J3: 0.00013783019 | K3: No
B4: rfMRI connectivity (ICA100 edge 73) | C4: IVW | D4: 159 | E4: 0.14024659 | F4: 0.052209863 | G4: 0.0072267915 | H4: 0.36495297 | I4: 0.93602544 | J4: 0.10600319 | K4: Yes
B5: rfMRI connectivity (ICA100 edge 442) | C5: IVW | D5: 159 | E5: 0.10704767 | F5: 0.051091471 | G5: 0.036151784 | H5: 0.56277954 | I5: 0.20535465 | J5: 0.19808699 | K5: Yes
B6: rfMRI connectivity (ICA100 edge 33) | C6: IVW | D6: 159 | E6: -0.10270758 | F6: 0.052259505 | G6: 0.049375152 | H6: 0.57541043 | I6: 0.83622053 | J6: 0.1028233 | K6: No
B7: rfMRI connectivity (ICA100 edge 1200) | C7: IVW | D7: 159 | E7: -0.10039769 | F7: 0.048996774 | G7: 0.040455519 | H7: 0.56277954 | I7: 0.14223117 | J7: 0.46320151 | K7: Yes
B8: rfMRI connectivity (ICA100 edge 1095) | C8: IVW | D8: 159 | E8: -0.1113553 | F8: 0.05246952 | G8: 0.033813768 | H8: 0.56277954 | I8: 0.42394587 | J8: 0.090062462 | K8: Yes
B9: rfMRI connectivity (ICA100 edge 1050) | C9: IVW | D9: 159 | E9: 0.16026104 | F9: 0.05453973 | G9: 0.003298819 | H9: 0.36495297 | I9: 0.66542593 | J9: 0.01914438 | K9: Yes
B10: rfMRI amplitudes (ICA100 node 54) | C10: IVW | D10: 159 | E10: 0.1229698 | F10: 0.052112848 | G10: 0.018290558 | H10: 0.56277954 | I10: 0.48013013 | J10: 0.1124729 | K10: Yes
B11: rfMRI amplitudes (ICA100 node 51) | C11: IVW | D11: 159 | E11: 0.15172101 | F11: 0.055587506 | G11: 0.0063448059 | H11: 0.36495297 | I11: 0.10825515 | J11: 0.0073722665 | K11: Yes
B12: rfMRI amplitudes (ICA100 node 3) | C12: IVW | D12: 159 | E12: 0.12515371 | F12: 0.053042763 | G12: 0.018300221 | H12: 0.56277954 | I12: 0.73995911 | J12: 0.061318167 | K12: No
B13: rfMRI amplitudes (ICA100 node 11) | C13: IVW | D13: 159 | E13: 0.10687562 | F13: 0.052805525 | G13: 0.042975534 | H13: 0.56615595 | I13: 0.36038877 | J13: 0.072189619 | K13: No
B14: IDP_T1_FAST_ROIs_R_supracalc_cortex | C14: IVW | D14: 159 | E14: -0.14118637 | F14: 0.050350905 | G14: 0.005046534 | H14: 0.36495297 | I14: 0.21163528 | J14: 0.1553946 | K14: Yes
B15: IDP_T1_FAST_ROIs_R_cerebellum_VIIIa | C15: IVW | D15: 156 | E15: -0.10471916 | F15: 0.053074142 | G15: 0.048487228 | H15: 0.57541043 | I15: 0.94962642 | J15: 0.058084116 | K15: Yes
... B28: AmygNuclei_rh_volume_Central-nucleus | C28: IVW | D28: 158 | E28: 0.10558285 | F28: 0.051631553 | G28: 0.040861881 | H28: 0.56277954 | I28: 0.96323518 | J28: 0.17917003 | K28: Yes
A29: Mendelian randomization estimates for the causal effect of genetically predicted C1-driven BMI increase on each of the 26 depression-associated IDPs showing a nominally significant causal association with C1 (see Methods, two-step screening), using the inverse-variance weighted (IVW) method. ID, unique identifier for the corresponding IDP GWAS (Oxford Brain Imaging Genetics browser); No. SNP, number of C1 instruments used; beta, effect of C1 on the IDP (SD units); se, standard error; P-value, unadjusted P value; P-FDR, false discovery rate–corrected P value (within-cluster correction); P-pleiotropy, P value from the MR-Egger intercept test; P-heterogeneity, P value from Cochran's Q test. "Same direction?" indicates whether the sign of the C1→IDP effect, combined with the IDP→depression effect direction, is concordant with a plausible mediating pathway from C1 through the IDP to depression risk (Yes/No). The confirmed mediator, rfMRI connectivity (ICA100 edge 73), is highlighted in bold.

Sheet ST15
A1: Supplementary Table 15. Causal effect of C3 on candidate depression-associated IDPs.
A2: Exposure | B2: Outcome | C2: Method | D2: No. SNP | E2: beta | F2: se | G2: P-value | H2: P-FDR | I2: P-pleiotropy | J2: P-heterogeneity | K2: Same direction?
A3: Cluster 3 | B3: rfMRI connectivity (ICA100 edge 762) | C3: IVW | D3: 79 | E3: 0.17483798 | F3: 0.073411279 | G3: 0.01723654 | H3: 0.58029686 | I3: 0.16356119 | J3: 0.19535907 | K3: Yes
B4: rfMRI connectivity (ICA100 edge 42) | C4: IVW | D4: 79 | E4: -0.18437121 | F4: 0.073595837 | G4: 0.012238725 | H4: 0.56686797 | I4: 0.055671731 | J4: 0.18647459 | K4: No
B5: rfMRI connectivity (ICA100 edge 411) | C5: IVW | D5: 74 | E5: -0.15701145 | F5: 0.073560779 | G5: 0.032806356 | H5: 0.8283605 | I5: 0.90871094 | J5: 0.48246615 | K5: No
B6: rfMRI connectivity (ICA100 edge 38) | C6: IVW | D6: 79 | E6: 0.16505107 | F6: 0.068920499 | G6: 0.016629263 | H6: 0.58029686 | I6: 0.8858727 | J6: 0.91383433 | K6: Yes
B7: rfMRI connectivity (ICA100 edge 1068) | C7: IVW | D7: 79 | E7: 0.13631096 | F7: 0.068920356 | G7: 0.047950816 | H7: 0.87410402 | I7: 0.45289266 | J7: 0.59095162 | K7: No
B8: rfMRI amplitudes (ICA100 node 54) | C8: IVW | D8: 79 | E8: 0.20176918 | F8: 0.076928889 | G8: 0.0087210159 | H8: 0.56686797 | I8: 0.83226905 | J8: 0.06974453 | K8: No
B9: rfMRI amplitudes (ICA100 node 3) | C9: IVW | D9: 79 | E9: 0.21406584 | F9: 0.074394265 | G9: 0.0040090235 | H9: 0.56686797 | I9: 0.93479866 | J9: 0.15096417 | K9: Yes
B10: IDP_T1_FAST_ROIs_R_ventral_striatum | C10: IVW | D10: 79 | E10: -0.1643802 | F10: 0.080221643 | G10: 0.040454732 | H10: 0.87410402 | I10: 0.516158 | J10: 0.0086998215 | K10: Yes
B11: IDP_T1_FAST_ROIs_R_putamen | C11: IVW | D11: 77 | E11: -0.25560142 | F11: 0.077838775 | G11: 0.001024435 | H11: 0.31040382 | I11: 0.41464591 | J11: 0.036156294 | K11: Yes
B12: IDP_T1_FAST_ROIs_R_cerebellum_VIIIa | C12: IVW | D12: 78 | E12: -0.19479579 | F12: 0.084624657 | G12: 0.02134195 | H12: 0.64666108 | I12: 0.1423437 | J12: 0.0011596184 | K12: No
B13: IDP_T1_FAST_ROIs_L_putamen | C13: IVW | D13: 77 | E13: -0.2077853 | F13: 0.080572649 | G13: 0.0099127945 | H13: 0.56686797 | I13: 0.42923093 | J13: 0.011631168 | K13: Yes
B14: aseg_rh_intensity_vessel | C14: IVW | D14: 79 | E14: 0.1702682 | F14: 0.068624737 | G14: 0.01309596 | H14: 0.56686797 | I14: 0.82117299 | J14: 0.52395157 | K14: No
B15: aseg_lh_intensity_Accumbens-area | C15: IVW | D15: 79 | E15: 0.1412157 | F15: 0.068625225 | G15: 0.039611137 | H15: 0.87410402 | I15: 0.39595092 | J15: 0.84120176 | K15: Yes
... B17: AmygNuclei_rh_volume_Lateral-nucleus | C17: IVW | D17: 79 | E17: -0.21447634 | F17: 0.08526416 | G17: 0.011888604 | H17: 0.56686797 | I17: 0.8184052 | J17: 0.001467685 | K17: No
A18: Mendelian randomization estimates for the causal effect of genetically predicted C3-driven BMI increase on each of the 15 depression-associated IDPs showing a nominally significant causal association with C3 (see Methods, two-step screening), using the inverse-variance weighted (IVW) method. ID, unique identifier for the corresponding IDP GWAS (Oxford Brain Imaging Genetics browser); No. SNP, number of C3 instruments used; beta, effect of C3 on the IDP (SD units); se, standard error; P-value, unadjusted P value; P-FDR, false discovery rate–corrected P value (within-cluster correction); P-pleiotropy, P value from the MR-Egger intercept test; P-heterogeneity, P value from Cochran's Q test. "Same direction?" indicates whether the sign of the C3→IDP effect, combined with the IDP→depression effect direction, is concordant with a plausible mediating pathway from C3 through the IDP to depression risk (Yes/No). The confirmed mediator, right putamen T1-weighted signal intensity (IDP_T1_FAST_ROIs_R_putamen), is highlighted in bold.
