Workbook
Name _Hlk79939650: Parameters!$B$17

Sheet Waste plastic data in 2019
A1: Scale of waste plastics production by various industries in China in 2019
A2: Industries | B2: Waste plastic production in 2019 (10,000 tons) | C2: Data Sources
A3: Building materials | B3: 472.5 | C3: ( Ke, 2018; Recycling Plastics Branch of Association, 2020)
A4: Automobile | B4: 315 | C4: ( Recycling Plastics Branch of Association, 2020)
A5: Agriculture and fisheries | B5: 252 | C5: ( Recycling Plastics Branch of Association, 2020)
A6: Industrial packing | B6: 630 | C6: ( Ke, 2018; Recycling Plastics Branch of Association, 2020)
A7: Textile | B7: 525 | C7: ( Ke, 2018; Recycling Plastics Branch of Association, 2020)
A8: Domestic | B8: 3244.5 | C8: (Ke, 2018; Recycling Plastics Branch of Association, 2020)
A9: High recycling value | B9: 1320.5 | C9: ( Ke, 2018; Recycling Plastics Branch of Association, 2020)
A10: Low recycling value | B10: 1924 | C10: (Ke, 2018; Recycling Plastics Branch of Association, 2020)
A11: WEEE | B11: 441 | C11: ( Recycling Plastics Branch of Association, 2020)
A12: Total | B12: 6300 | C12: ( Recycling Plastics Branch of Association, 2020)

Sheet Parameters
A1: Recycling process-related parameters
B2: Parameters | C2: Numerical value | D2: Data source
A3: WEEE to Recycle | C3: 0.5209 | D3: (Li et al., 2021)
A4: WEEE to Transfer or idle | C4: 0.4421 | D4: (Li et al., 2021)
A5: WEEE to Discard to mixed waste | C5: 0.037 | D5: (Commerce, 2016)
A6: High recovery value waste plastic to Discard to mixed waste | C6: 0.27 | D6: (Thanh et al., 2011)
A7: High recovery value waste plastic to keep for sale | C7: 0.69 | D7: (Thanh et al., 2011)
A8: High recovery value waste plastic to reuse | C8: 0.04 | D8: (Thanh et al., 2011)
A9: Low recovery value waste plastic to Discard to mixed waste | C9: 0.64 | D9: (Thanh et al., 2011)
A10: Low recovery value waste plastic to keep for sale | C10: 0.28 | D10: (Thanh et al., 2011)
A11: Low recovery value waste plastic to reuse | C11: 0.08 | D11: (Thanh et al., 2011)
A12: Mixed waste to classification recovery | C12: 0.037 | D12: (Editorial Board Of Statistics, 2020)
A13: Mixed waste to landfill | C13: 0.456 | D13: (Editorial Board Of Statistics, 2020)
A14: Mixed waste to incineration | C14: 0.507 | D14: (Editorial Board Of Statistics, 2020)
... A29: Dioxin emitted into the atmosphere by incineration of waste plasticsμg TEQ/10000t | C29: 300000 | D29: (United Nations Environment Programme Division, 2005)

Sheet Base year analysis
A1: Refurbushment | B1: Transfer or Idle | C1: Reuse | D1: Sorting | E1: Waste plastics markrt | F1: Recycling plant | G1: Mixed waste | H1: Incineration | I1: Fly ASH | J1: BOTTLE ASH | K1: Building filler | L1: Reused products | M1: High-end applications | N1: Low-end applications | O1: Energy | P1: Energy(MJ) | Q1: Landfill | R1: LOST | S1: CE | T1: CR | U1: DE(ug) | V1: DE(g)
A2: ='Waste plastic data in 2019'!B11*Parameters!C3 -> 229.7169 | B2: ='Waste plastic data in 2019'!B11*Parameters!C4 -> 194.9661 | C2: ='Waste plastic data in 2019'!B9*Parameters!C8+Parameters!C11*'Waste plastic data in 2019'!B10 -> 206.74 | D2: ='Waste plastic data in 2019'!B11*Parameters!C5+'Waste plastic data in 2019'!B9*Parameters!C6+Parameters!C9*'Waste plastic data in 2019'!B10 -> 1604.212 | E2: =D2*Parameters!C12+'Base year analysis'!A2*(1-Parameters!C15)+'Waste plastic data in 2019'!B9*Parameters!C7+Parameters!C10*'Waste plastic data in 2019'!B10 -> 1624.0793 | F2: =E2*Parameters!C16 -> 1023.17 | G2: =E2*(1-Parameters!C16) -> 600.90934 | H2: =D2*Parameters!C14+'Base year analysis'!G2*Parameters!C18 -> 1053.6992 | I2: =H2*Parameters!C20 -> 31.610977 | J2: =H2*Parameters!C19 -> 231.81383 | K2: =J2*Parameters!C23 -> 227.17755 | L2: =A2*Parameters!C15 -> 114.85845 | M2: =F2*Parameters!C21 -> 838.99936 | N2: =K2+F2*(1-Parameters!C21)*Parameters!C23 -> 407.66473 | O2: =H2*Parameters!C22*Parameters!C25 -> 202.31025 | P2: =O2*Parameters!C24*10000000 -> 8.901651e+10 | Q2: =D2*Parameters!C13+'Base year analysis'!I2+'Base year analysis'!J2*(1-Parameters!C23)+'Base year analysis'!G2*Parameters!C17+'Base year analysis'!F2*(1-Parameters!C21)*(1-Parameters!C23) -> 1131.9969 | R2: =Q2+H2*Parameters!C22*(1-Parameters!C25) -> 1719.9611 | S2: =M2*Parameters!C27+'Base year analysis'!H2*Parameters!C22*Parameters!C26 -> 3490.4836 | T2: ='Base year analysis'!M2*(Parameters!C28-Parameters!C27) -> 2447.3611 | U2: =H2*Parameters!C29 -> 3.1610977e+08 | V2: =U2/1000000 -> 316.10977
A3: High recovery value waste plastic
C4: ='Waste plastic data in 2019'!B9*Parameters!C8 -> 52.82 | D4: ='Waste plastic data in 2019'!B9*Parameters!C6 -> 356.535 | E4: =D4*Parameters!C12+'Waste plastic data in 2019'!B9*Parameters!C7 -> 924.33679 | F4: =E4*Parameters!C16 -> 582.33218 | G4: =E4*(1-Parameters!C16) -> 342.00461 | H4: =D4*Parameters!C14+'Base year analysis'!G4*Parameters!C18 -> 317.56509 | I4: =H4*Parameters!C20 -> 9.5269527 | J4: =H4*Parameters!C19 -> 69.86432 | K4: =J4*Parameters!C23 -> 68.467034 | M4: =F4*Parameters!C21 -> 477.51239 | N4: =F4*(1-Parameters!C21)*Parameters!C23+K4 -> 171.19043 | O4: =H4*Parameters!C22*Parameters!C25 -> 60.972497 | P4: =O4*Parameters!C24*10000000 -> 2.6827899e+10 | Q4: =D4*Parameters!C13+'Base year analysis'!I4+'Base year analysis'!J4*(1-Parameters!C23)+'Base year analysis'!G4*Parameters!C17+'Base year analysis'!F4*(1-Parameters!C21)*(1-Parameters!C23) -> 380.80336 | R4: =Q4+H4*Parameters!C22*(1-Parameters!C25) -> 558.00468 | S4: =M4*Parameters!C27+Parameters!C26*Parameters!C22*'Base year analysis'!H4 -> 1404.6724 | T4: =M4*(Parameters!C28-Parameters!C27) -> 1392.9036 | U4: =H4*Parameters!C29 -> 95269527 | V4: =U4/1000000 -> 95.269527
A5: Low recovery value waste plastic
C6: ='Waste plastic data in 2019'!B10*Parameters!C11 -> 153.92 | D6: ='Waste plastic data in 2019'!B10*Parameters!C9 -> 1231.36 | E6: =D6*Parameters!C12+'Waste plastic data in 2019'!B10*Parameters!C10 -> 584.28032 | F6: =E6*Parameters!C16 -> 368.0966 | G6: =E6*(1-Parameters!C16) -> 216.18372 | H6: =D6*Parameters!C14+Parameters!C18*'Base year analysis'!G6 -> 710.77301 | I6: =H6*Parameters!C20 -> 21.32319 | J6: =H6*Parameters!C19 -> 156.37006 | K6: =J6*Parameters!C23 -> 153.24266 | M6: =F6*Parameters!C21 -> 301.83921 | N6: =F6*(1-Parameters!C21)*Parameters!C23+'Base year analysis'!K6 -> 218.1749 | O6: =H6*Parameters!C25*Parameters!C22 -> 136.46842 | P6: =O6*Parameters!C24*10000000 -> 6.0046104e+10 | Q6: =D6*Parameters!C13+'Base year analysis'!I6+'Base year analysis'!J6*(1-Parameters!C23)+'Base year analysis'!G6*Parameters!C17+'Base year analysis'!F6*(1-Parameters!C21)*(1-Parameters!C23) -> 716.98613 | R6: =Q6+H6*Parameters!C22*(1-Parameters!C25) -> 1113.5975 | S6: =M6*Parameters!C27+Parameters!C26*Parameters!C22*'Base year analysis'!H6 -> 1939.8569 | T6: =M6*(Parameters!C28-Parameters!C27) -> 880.46499 | U6: =H6*Parameters!C29 -> 2.132319e+08 | V6: =U6/1000000 -> 213.2319
A7: WEEE
A8: ='Waste plastic data in 2019'!B11*Parameters!C3 -> 229.7169 | B8: ='Waste plastic data in 2019'!B11*Parameters!C4 -> 194.9661 | D8: ='Waste plastic data in 2019'!B11*Parameters!C5 -> 16.317 | E8: =A8*(1-Parameters!C15)+D8*Parameters!C12 -> 115.46218 | F8: =E8*Parameters!C16 -> 72.741173 | G8: =E8*(1-Parameters!C16) -> 42.721006 | H8: =D8*Parameters!C14+Parameters!C18*'Base year analysis'!G8 -> 25.361121 | I8: =H8*Parameters!C20 -> 0.76083364 | J8: =H8*Parameters!C19 -> 5.5794467 | K8: =J8*Parameters!C23 -> 5.4678578 | L8: =A8*Parameters!C15 -> 114.85845 | M8: =F8*Parameters!C21 -> 59.647762 | N8: =F8*(1-Parameters!C21)*Parameters!C23+'Base year analysis'!K8 -> 18.299401 | O8: =H8*Parameters!C22*Parameters!C25 -> 4.8693353 | P8: =O8*Parameters!C24*10000000 -> 2.1425075e+09 | Q8: =D8*Parameters!C13+'Base year analysis'!I8+'Base year analysis'!J8*(1-Parameters!C23)+'Base year analysis'!G8*Parameters!C17+'Base year analysis'!F8*(1-Parameters!C21)*(1-Parameters!C23) -> 34.207447 | R8: =Q8+'Base year analysis'!H8*Parameters!C22*(1-Parameters!C25) -> 48.358952 | S8: =M8*Parameters!C27+Parameters!C26*Parameters!C22*'Base year analysis'!H8 -> 145.9543 | T8: =M8*(Parameters!C28-Parameters!C27) -> 173.99252 | U8: =H8*Parameters!C29 -> 7608336.4 | V8: =U8/1000000 -> 7.6083364

Sheet Sensitivty analysis-
C1: Refurbushment | D1: Transfer or Idle | E1: Reuse | F1: Sorting | G1: Waste plastics markrt | H1: Recycling plant | I1: Mixed waste | J1: Incineration | K1: Fly ASH | L1: BOTTLE ASH | M1: Building filler | N1: Reused products | O1: High-end applications | P1: Low-end applications | Q1: Energy | R1: Energy(MJ) | S1: Landfill | T1: LOST | U1: CE | V1: CR | W1: DE(ug) | X1: DE(g)
A2: 0.5209 | B2: 0.037 | C2: ='Waste plastic data in 2019'!$B$11*A2 -> 229.7169 | D2: ='Waste plastic data in 2019'!$B$11*Parameters!$C$4 -> 194.9661 | E2: ='Waste plastic data in 2019'!$B$9*Parameters!$C$8+Parameters!$C$11*'Waste plastic data in 2019'!$B$10 -> 206.74 | F2: ='Waste plastic data in 2019'!$B$11*B2+'Waste plastic data in 2019'!$B$9*Parameters!$C$6+Parameters!$C$9*'Waste plastic data in 2019'!$B$10 -> 1604.212 | G2: =F2*Parameters!$C$12+'Sensitivty analysis-'!C2*(1-Parameters!$C$15)+'Waste plastic data in 2019'!$B$9*Parameters!$C$7+Parameters!$C$10*'Waste plastic data in 2019'!$B$10 -> 1624.0793 | H2: =G2*Parameters!$C$16 -> 1023.17 | I2: =G2*(1-Parameters!$C$16) -> 600.90934 | J2: =F2*Parameters!$C$14+'Sensitivty analysis-'!I2*Parameters!$C$18 -> 1053.6992 | K2: =J2*Parameters!$C$20 -> 31.610977 | L2: =J2*Parameters!$C$19 -> 231.81383 | M2: =L2*Parameters!$C$23 -> 227.17755 | N2: =C2*Parameters!$C$15 -> 114.85845 | O2: =H2*Parameters!$C$21 -> 838.99936 | P2: =M2+H2*(1-Parameters!$C$21)*Parameters!$C$23 -> 407.66473 | Q2: =J2*Parameters!$C$22*Parameters!$C$25 -> 202.31025 | R2: =Q2*Parameters!$C$24*10000000 -> 8.901651e+10 | S2: =F2*Parameters!$C$13+'Sensitivty analysis-'!K2+'Sensitivty analysis-'!L2*(1-Parameters!$C$23)+'Sensitivty analysis-'!I2*Parameters!$C$17+'Sensitivty analysis-'!H2*(1-Parameters!$C$21)*(1-Parameters!$C$23) -> 1131.9969 | T2: =S2+J2*Parameters!$C$22*(1-Parameters!$C$25) -> 1719.9611 | U2: =O2*Parameters!$C$27+'Sensitivty analysis-'!J2*Parameters!$C$22*Parameters!$C$26 -> 3490.4836 | V2: ='Sensitivty analysis-'!O2*(Parameters!$C$28-Parameters!$C$27) -> 2447.3611 | W2: =J2*Parameters!$C$29 -> 3.1610977e+08 | X2: =W2/1000000 -> 316.10977
A3: =A2+0.005 -> 0.5259 | B3: =B2-0.005 -> 0.032 | C3: ='Waste plastic data in 2019'!$B$11*A3 -> 231.9219 | D3: ='Waste plastic data in 2019'!$B$11*Parameters!C5 -> 16.317 | E3: ='Waste plastic data in 2019'!$B$9*Parameters!$C$8+Parameters!$C$11*'Waste plastic data in 2019'!$B$10 -> 206.74 | F3: ='Waste plastic data in 2019'!$B$11*B3+'Waste plastic data in 2019'!$B$9*Parameters!$C$6+Parameters!$C$9*'Waste plastic data in 2019'!$B$10 -> 1602.007 | G3: =F3*Parameters!$C$12+'Sensitivty analysis-'!C3*(1-Parameters!$C$15)+'Waste plastic data in 2019'!$B$9*Parameters!$C$7+Parameters!$C$10*'Waste plastic data in 2019'!$B$10 -> 1625.1002 | H3: =G3*Parameters!$C$16 -> 1023.8131 | I3: =G3*(1-Parameters!$C$16) -> 601.28708 | J3: =F3*Parameters!$C$14+'Sensitivty analysis-'!I3*Parameters!$C$18 -> 1052.7324 | K3: =J3*Parameters!$C$20 -> 31.581971 | L3: =J3*Parameters!$C$19 -> 231.60112 | M3: =L3*Parameters!$C$23 -> 226.9691 | N3: =C3*Parameters!$C$15 -> 115.96095 | O3: =H3*Parameters!$C$21 -> 839.52677 | P3: =M3+H3*(1-Parameters!$C$21)*Parameters!$C$23 -> 407.56974 | Q3: =J3*Parameters!$C$22*Parameters!$C$25 -> 202.12462 | R3: =Q3*Parameters!$C$24*10000000 -> 8.8934831e+10 | S3: =F3*Parameters!$C$13+'Sensitivty analysis-'!K3+'Sensitivty analysis-'!L3*(1-Parameters!$C$23)+'Sensitivty analysis-'!I3*Parameters!$C$17+'Sensitivty analysis-'!H3*(1-Parameters!$C$21)*(1-Parameters!$C$23) -> 1131.1872 | T3: =S3+J3*Parameters!$C$22*(1-Parameters!$C$25) -> 1718.6118 | U3: =O3*Parameters!$C$27+'Sensitivty analysis-'!J3*Parameters!$C$22*Parameters!$C$26 -> 3489.3176 | V3: ='Sensitivty analysis-'!O3*(Parameters!$C$28-Parameters!$C$27) -> 2448.8996 | W3: =J3*Parameters!$C$29 -> 3.1581971e+08 | X3: =W3/1000000 -> 315.81971
A4: =A3+0.005 -> 0.5309 | B4: =B3-0.005 -> 0.027 | C4: ='Waste plastic data in 2019'!$B$11*A4 -> 234.1269 | D4: ='Waste plastic data in 2019'!$B$11*Parameters!C6 -> 119.07 | E4: ='Waste plastic data in 2019'!$B$9*Parameters!$C$8+Parameters!$C$11*'Waste plastic data in 2019'!$B$10 -> 206.74 | F4: ='Waste plastic data in 2019'!$B$11*B4+'Waste plastic data in 2019'!$B$9*Parameters!$C$6+Parameters!$C$9*'Waste plastic data in 2019'!$B$10 -> 1599.802 | G4: =F4*Parameters!$C$12+'Sensitivty analysis-'!C4*(1-Parameters!$C$15)+'Waste plastic data in 2019'!$B$9*Parameters!$C$7+Parameters!$C$10*'Waste plastic data in 2019'!$B$10 -> 1626.1211 | H4: =G4*Parameters!$C$16 -> 1024.4563 | I4: =G4*(1-Parameters!$C$16) -> 601.66482 | J4: =F4*Parameters!$C$14+'Sensitivty analysis-'!I4*Parameters!$C$18 -> 1051.7655 | K4: =J4*Parameters!$C$20 -> 31.552966 | L4: =J4*Parameters!$C$19 -> 231.38842 | M4: =L4*Parameters!$C$23 -> 226.76065 | N4: =C4*Parameters!$C$15 -> 117.06345 | O4: =H4*Parameters!$C$21 -> 840.05417 | P4: =M4+H4*(1-Parameters!$C$21)*Parameters!$C$23 -> 407.47474 | Q4: =J4*Parameters!$C$22*Parameters!$C$25 -> 201.93898 | R4: =Q4*Parameters!$C$24*10000000 -> 8.8853153e+10 | S4: =F4*Parameters!$C$13+'Sensitivty analysis-'!K4+'Sensitivty analysis-'!L4*(1-Parameters!$C$23)+'Sensitivty analysis-'!I4*Parameters!$C$17+'Sensitivty analysis-'!H4*(1-Parameters!$C$21)*(1-Parameters!$C$23) -> 1130.3774 | T4: =S4+J4*Parameters!$C$22*(1-Parameters!$C$25) -> 1717.2626 | U4: =O4*Parameters!$C$27+'Sensitivty analysis-'!J4*Parameters!$C$22*Parameters!$C$26 -> 3488.1515 | V4: ='Sensitivty analysis-'!O4*(Parameters!$C$28-Parameters!$C$27) -> 2450.438 | W4: =J4*Parameters!$C$29 -> 3.1552966e+08 | X4: =W4/1000000 -> 315.52966
A5: =A4+0.005 -> 0.5359 | B5: =B4-0.005 -> 0.022 | C5: ='Waste plastic data in 2019'!$B$11*A5 -> 236.3319 | D5: ='Waste plastic data in 2019'!$B$11*Parameters!C7 -> 304.29 | E5: ='Waste plastic data in 2019'!$B$9*Parameters!$C$8+Parameters!$C$11*'Waste plastic data in 2019'!$B$10 -> 206.74 | F5: ='Waste plastic data in 2019'!$B$11*B5+'Waste plastic data in 2019'!$B$9*Parameters!$C$6+Parameters!$C$9*'Waste plastic data in 2019'!$B$10 -> 1597.597 | G5: =F5*Parameters!$C$12+'Sensitivty analysis-'!C5*(1-Parameters!$C$15)+'Waste plastic data in 2019'!$B$9*Parameters!$C$7+Parameters!$C$10*'Waste plastic data in 2019'!$B$10 -> 1627.142 | H5: =G5*Parameters!$C$16 -> 1025.0995 | I5: =G5*(1-Parameters!$C$16) -> 602.04255 | J5: =F5*Parameters!$C$14+'Sensitivty analysis-'!I5*Parameters!$C$18 -> 1050.7987 | K5: =J5*Parameters!$C$20 -> 31.523961 | L5: =J5*Parameters!$C$19 -> 231.17571 | M5: =L5*Parameters!$C$23 -> 226.5522 | N5: =C5*Parameters!$C$15 -> 118.16595 | O5: =H5*Parameters!$C$21 -> 840.58158 | P5: =M5+H5*(1-Parameters!$C$21)*Parameters!$C$23 -> 407.37975 | Q5: =J5*Parameters!$C$22*Parameters!$C$25 -> 201.75335 | R5: =Q5*Parameters!$C$24*10000000 -> 8.8771474e+10 | S5: =F5*Parameters!$C$13+'Sensitivty analysis-'!K5+'Sensitivty analysis-'!L5*(1-Parameters!$C$23)+'Sensitivty analysis-'!I5*Parameters!$C$17+'Sensitivty analysis-'!H5*(1-Parameters!$C$21)*(1-Parameters!$C$23) -> 1129.5676 | T5: =S5+J5*Parameters!$C$22*(1-Parameters!$C$25) -> 1715.9133 | U5: =O5*Parameters!$C$27+'Sensitivty analysis-'!J5*Parameters!$C$22*Parameters!$C$26 -> 3486.9854 | V5: ='Sensitivty analysis-'!O5*(Parameters!$C$28-Parameters!$C$27) -> 2451.9765 | W5: =J5*Parameters!$C$29 -> 3.1523961e+08 | X5: =W5/1000000 -> 315.23961
A6: =A5+0.005 -> 0.5409 | B6: =B5-0.005 -> 0.017 | C6: ='Waste plastic data in 2019'!$B$11*A6 -> 238.5369 | D6: ='Waste plastic data in 2019'!$B$11*Parameters!C8 -> 17.64 | E6: ='Waste plastic data in 2019'!$B$9*Parameters!$C$8+Parameters!$C$11*'Waste plastic data in 2019'!$B$10 -> 206.74 | F6: ='Waste plastic data in 2019'!$B$11*B6+'Waste plastic data in 2019'!$B$9*Parameters!$C$6+Parameters!$C$9*'Waste plastic data in 2019'!$B$10 -> 1595.392 | G6: =F6*Parameters!$C$12+'Sensitivty analysis-'!C6*(1-Parameters!$C$15)+'Waste plastic data in 2019'!$B$9*Parameters!$C$7+Parameters!$C$10*'Waste plastic data in 2019'!$B$10 -> 1628.163 | H6: =G6*Parameters!$C$16 -> 1025.7427 | I6: =G6*(1-Parameters!$C$16) -> 602.42029 | J6: =F6*Parameters!$C$14+'Sensitivty analysis-'!I6*Parameters!$C$18 -> 1049.8319 | K6: =J6*Parameters!$C$20 -> 31.494956 | L6: =J6*Parameters!$C$19 -> 230.96301 | M6: =L6*Parameters!$C$23 -> 226.34375 | N6: =C6*Parameters!$C$15 -> 119.26845 | O6: =H6*Parameters!$C$21 -> 841.10898 | P6: =M6+H6*(1-Parameters!$C$21)*Parameters!$C$23 -> 407.28475 | Q6: =J6*Parameters!$C$22*Parameters!$C$25 -> 201.56772 | R6: =Q6*Parameters!$C$24*10000000 -> 8.8689796e+10 | S6: =F6*Parameters!$C$13+'Sensitivty analysis-'!K6+'Sensitivty analysis-'!L6*(1-Parameters!$C$23)+'Sensitivty analysis-'!I6*Parameters!$C$17+'Sensitivty analysis-'!H6*(1-Parameters!$C$21)*(1-Parameters!$C$23) -> 1128.7578 | T6: =S6+J6*Parameters!$C$22*(1-Parameters!$C$25) -> 1714.564 | U6: =O6*Parameters!$C$27+'Sensitivty analysis-'!J6*Parameters!$C$22*Parameters!$C$26 -> 3485.8193 | V6: ='Sensitivty analysis-'!O6*(Parameters!$C$28-Parameters!$C$27) -> 2453.5149 | W6: =J6*Parameters!$C$29 -> 3.1494956e+08 | X6: =W6/1000000 -> 314.94956
A7: =A6+0.005 -> 0.5459 | B7: =B6-0.005 -> 0.012 | C7: ='Waste plastic data in 2019'!$B$11*A7 -> 240.7419 | D7: ='Waste plastic data in 2019'!$B$11*Parameters!C9 -> 282.24 | E7: ='Waste plastic data in 2019'!$B$9*Parameters!$C$8+Parameters!$C$11*'Waste plastic data in 2019'!$B$10 -> 206.74 | F7: ='Waste plastic data in 2019'!$B$11*B7+'Waste plastic data in 2019'!$B$9*Parameters!$C$6+Parameters!$C$9*'Waste plastic data in 2019'!$B$10 -> 1593.187 | G7: =F7*Parameters!$C$12+'Sensitivty analysis-'!C7*(1-Parameters!$C$15)+'Waste plastic data in 2019'!$B$9*Parameters!$C$7+Parameters!$C$10*'Waste plastic data in 2019'!$B$10 -> 1629.1839 | H7: =G7*Parameters!$C$16 -> 1026.3858 | I7: =G7*(1-Parameters!$C$16) -> 602.79803 | J7: =F7*Parameters!$C$14+'Sensitivty analysis-'!I7*Parameters!$C$18 -> 1048.865 | K7: =J7*Parameters!$C$20 -> 31.465951 | L7: =J7*Parameters!$C$19 -> 230.7503 | M7: =L7*Parameters!$C$23 -> 226.1353 | N7: =C7*Parameters!$C$15 -> 120.37095 | O7: =H7*Parameters!$C$21 -> 841.63639 | P7: =M7+H7*(1-Parameters!$C$21)*Parameters!$C$23 -> 407.18976 | Q7: =J7*Parameters!$C$22*Parameters!$C$25 -> 201.38208 | R7: =Q7*Parameters!$C$24*10000000 -> 8.8608117e+10 | S7: =F7*Parameters!$C$13+'Sensitivty analysis-'!K7+'Sensitivty analysis-'!L7*(1-Parameters!$C$23)+'Sensitivty analysis-'!I7*Parameters!$C$17+'Sensitivty analysis-'!H7*(1-Parameters!$C$21)*(1-Parameters!$C$23) -> 1127.948 | T7: =S7+J7*Parameters!$C$22*(1-Parameters!$C$25) -> 1713.2147 | U7: =O7*Parameters!$C$27+'Sensitivty analysis-'!J7*Parameters!$C$22*Parameters!$C$26 -> 3484.6532 | V7: ='Sensitivty analysis-'!O7*(Parameters!$C$28-Parameters!$C$27) -> 2455.0533 | W7: =J7*Parameters!$C$29 -> 3.1465951e+08 | X7: =W7/1000000 -> 314.65951
C8: Refurbushment | D8: Transfer or Idle | E8: Reuse | F8: Sorting | G8: Waste plastics markrt | H8: Recycling plant | I8: Mixed waste | J8: Incineration | K8: Fly ASH | L8: BOTTLE ASH | M8: Building filler | N8: Reused products | O8: High-end applications | P8: Low-end applications | Q8: Energy | R8: Energy(MJ) | S8: Landfill | T8: LOST | U8: CE | V8: CR | W8: DE(ug) | X8: DE(g)
A9: 0.69 | B9: 0.27 | C9: ='Waste plastic data in 2019'!$B$11*$A$2 -> 229.7169 | D9: ='Waste plastic data in 2019'!$B$11*Parameters!$C$4 -> 194.9661 | E9: ='Waste plastic data in 2019'!$B$9*Parameters!$C$8+Parameters!$C$11*'Waste plastic data in 2019'!$B$10 -> 206.74 | F9: ='Waste plastic data in 2019'!$B$11*$B$2+'Waste plastic data in 2019'!$B$9*B9+Parameters!$C$9*'Waste plastic data in 2019'!$B$10 -> 1604.212 | G9: =F9*Parameters!$C$12+'Sensitivty analysis-'!C9*(1-Parameters!$C$15)+'Waste plastic data in 2019'!$B$9*A9+Parameters!$C$10*'Waste plastic data in 2019'!$B$10 -> 1624.0793 | H9: =G9*Parameters!$C$16 -> 1023.17 | I9: =G9*(1-Parameters!$C$16) -> 600.90934 | J9: =F9*Parameters!$C$14+'Sensitivty analysis-'!I9*Parameters!$C$18 -> 1053.6992 | K9: =J9*Parameters!$C$20 -> 31.610977 | L9: =J9*Parameters!$C$19 -> 231.81383 | M9: =L9*Parameters!$C$23 -> 227.17755 | N9: =C9*Parameters!$C$15 -> 114.85845 | O9: =H9*Parameters!$C$21 -> 838.99936 | P9: =M9+H9*(1-Parameters!$C$21)*Parameters!$C$23 -> 407.66473 | Q9: =J9*Parameters!$C$22*Parameters!$C$25 -> 202.31025 | R9: =Q9*Parameters!$C$24*10000000 -> 8.901651e+10 | S9: =F9*Parameters!$C$13+'Sensitivty analysis-'!K9+'Sensitivty analysis-'!L9*(1-Parameters!$C$23)+'Sensitivty analysis-'!I9*Parameters!$C$17+'Sensitivty analysis-'!H9*(1-Parameters!$C$21)*(1-Parameters!$C$23) -> 1131.9969 | T9: =S9+J9*Parameters!$C$22*(1-Parameters!$C$25) -> 1719.9611 | U9: =O9*Parameters!$C$27+'Sensitivty analysis-'!J9*Parameters!$C$22*Parameters!$C$26 -> 3490.4836 | V9: ='Sensitivty analysis-'!O9*(Parameters!$C$28-Parameters!$C$27) -> 2447.3611 | W9: =J9*Parameters!$C$29 -> 3.1610977e+08 | X9: =W9/1000000 -> 316.10977
A10: =A9+0.05 -> 0.74 | B10: =B9-0.05 -> 0.22 | C10: ='Waste plastic data in 2019'!$B$11*$A$2 -> 229.7169 | D10: ='Waste plastic data in 2019'!$B$11*Parameters!$C$4 -> 194.9661 | E10: ='Waste plastic data in 2019'!$B$9*Parameters!$C$8+Parameters!$C$11*'Waste plastic data in 2019'!$B$10 -> 206.74 | F10: ='Waste plastic data in 2019'!$B$11*$B$2+'Waste plastic data in 2019'!$B$9*B10+Parameters!$C$9*'Waste plastic data in 2019'!$B$10 -> 1538.187 | G10: =F10*Parameters!$C$12+'Sensitivty analysis-'!C10*(1-Parameters!$C$15)+'Waste plastic data in 2019'!$B$9*A10+Parameters!$C$10*'Waste plastic data in 2019'!$B$10 -> 1687.6614 | H10: =G10*Parameters!$C$16 -> 1063.2267 | I10: =G10*(1-Parameters!$C$16) -> 624.43471 | J10: =F10*Parameters!$C$14+'Sensitivty analysis-'!I10*Parameters!$C$18 -> 1029.6347 | K10: =J10*Parameters!$C$20 -> 30.889041 | L10: =J10*Parameters!$C$19 -> 226.51963 | M10: =L10*Parameters!$C$23 -> 221.98924 | N10: =C10*Parameters!$C$15 -> 114.85845 | O10: =H10*Parameters!$C$21 -> 871.84586 | P10: =M10+H10*(1-Parameters!$C$21)*Parameters!$C$23 -> 409.54242 | Q10: =J10*Parameters!$C$22*Parameters!$C$25 -> 197.68986 | R10: =Q10*Parameters!$C$24*10000000 -> 8.6983539e+10 | S10: =F10*Parameters!$C$13+'Sensitivty analysis-'!K10+'Sensitivty analysis-'!L10*(1-Parameters!$C$23)+'Sensitivty analysis-'!I10*Parameters!$C$17+'Sensitivty analysis-'!H10*(1-Parameters!$C$21)*(1-Parameters!$C$23) -> 1115.3211 | T10: =S10+J10*Parameters!$C$22*(1-Parameters!$C$25) -> 1689.8573 | U10: =O10*Parameters!$C$27+'Sensitivty analysis-'!J10*Parameters!$C$22*Parameters!$C$26 -> 3492.4196 | V10: ='Sensitivty analysis-'!O10*(Parameters!$C$28-Parameters!$C$27) -> 2543.1744 | W10: =J10*Parameters!$C$29 -> 3.0889041e+08 | X10: =W10/1000000 -> 308.89041
A11: =A10+0.05 -> 0.79 | B11: =B10-0.05 -> 0.17 | C11: ='Waste plastic data in 2019'!$B$11*$A$2 -> 229.7169 | D11: ='Waste plastic data in 2019'!$B$11*Parameters!$C$4 -> 194.9661 | E11: ='Waste plastic data in 2019'!$B$9*Parameters!$C$8+Parameters!$C$11*'Waste plastic data in 2019'!$B$10 -> 206.74 | F11: ='Waste plastic data in 2019'!$B$11*$B$2+'Waste plastic data in 2019'!$B$9*B11+Parameters!$C$9*'Waste plastic data in 2019'!$B$10 -> 1472.162 | G11: =F11*Parameters!$C$12+'Sensitivty analysis-'!C11*(1-Parameters!$C$15)+'Waste plastic data in 2019'!$B$9*A11+Parameters!$C$10*'Waste plastic data in 2019'!$B$10 -> 1751.2434 | H11: =G11*Parameters!$C$16 -> 1103.2834 | I11: =G11*(1-Parameters!$C$16) -> 647.96007 | J11: =F11*Parameters!$C$14+'Sensitivty analysis-'!I11*Parameters!$C$18 -> 1005.5702 | K11: =J11*Parameters!$C$20 -> 30.167105 | L11: =J11*Parameters!$C$19 -> 221.22544 | M11: =L11*Parameters!$C$23 -> 216.80093 | N11: =C11*Parameters!$C$15 -> 114.85845 | O11: =H11*Parameters!$C$21 -> 904.69236 | P11: =M11+H11*(1-Parameters!$C$21)*Parameters!$C$23 -> 411.42011 | Q11: =J11*Parameters!$C$22*Parameters!$C$25 -> 193.06947 | R11: =Q11*Parameters!$C$24*10000000 -> 8.4950567e+10 | S11: =F11*Parameters!$C$13+'Sensitivty analysis-'!K11+'Sensitivty analysis-'!L11*(1-Parameters!$C$23)+'Sensitivty analysis-'!I11*Parameters!$C$17+'Sensitivty analysis-'!H11*(1-Parameters!$C$21)*(1-Parameters!$C$23) -> 1098.6454 | T11: =S11+J11*Parameters!$C$22*(1-Parameters!$C$25) -> 1659.7535 | U11: =O11*Parameters!$C$27+'Sensitivty analysis-'!J11*Parameters!$C$22*Parameters!$C$26 -> 3494.3555 | V11: ='Sensitivty analysis-'!O11*(Parameters!$C$28-Parameters!$C$27) -> 2638.9876 | W11: =J11*Parameters!$C$29 -> 3.0167105e+08 | X11: =W11/1000000 -> 301.67105
A12: =A11+0.05 -> 0.84 | B12: =B11-0.05 -> 0.12 | C12: ='Waste plastic data in 2019'!$B$11*$A$2 -> 229.7169 | D12: ='Waste plastic data in 2019'!$B$11*Parameters!$C$4 -> 194.9661 | E12: ='Waste plastic data in 2019'!$B$9*Parameters!$C$8+Parameters!$C$11*'Waste plastic data in 2019'!$B$10 -> 206.74 | F12: ='Waste plastic data in 2019'!$B$11*$B$2+'Waste plastic data in 2019'!$B$9*B12+Parameters!$C$9*'Waste plastic data in 2019'!$B$10 -> 1406.137 | G12: =F12*Parameters!$C$12+'Sensitivty analysis-'!C12*(1-Parameters!$C$15)+'Waste plastic data in 2019'!$B$9*A12+Parameters!$C$10*'Waste plastic data in 2019'!$B$10 -> 1814.8255 | H12: =G12*Parameters!$C$16 -> 1143.3401 | I12: =G12*(1-Parameters!$C$16) -> 671.48544 | J12: =F12*Parameters!$C$14+'Sensitivty analysis-'!I12*Parameters!$C$18 -> 981.50564 | K12: =J12*Parameters!$C$20 -> 29.445169 | L12: =J12*Parameters!$C$19 -> 215.93124 | M12: =L12*Parameters!$C$23 -> 211.61262 | N12: =C12*Parameters!$C$15 -> 114.85845 | O12: =H12*Parameters!$C$21 -> 937.53886 | P12: =M12+H12*(1-Parameters!$C$21)*Parameters!$C$23 -> 413.2978 | Q12: =J12*Parameters!$C$22*Parameters!$C$25 -> 188.44908 | R12: =Q12*Parameters!$C$24*10000000 -> 8.2917596e+10 | S12: =F12*Parameters!$C$13+'Sensitivty analysis-'!K12+'Sensitivty analysis-'!L12*(1-Parameters!$C$23)+'Sensitivty analysis-'!I12*Parameters!$C$17+'Sensitivty analysis-'!H12*(1-Parameters!$C$21)*(1-Parameters!$C$23) -> 1081.9696 | T12: =S12+J12*Parameters!$C$22*(1-Parameters!$C$25) -> 1629.6497 | U12: =O12*Parameters!$C$27+'Sensitivty analysis-'!J12*Parameters!$C$22*Parameters!$C$26 -> 3496.2914 | V12: ='Sensitivty analysis-'!O12*(Parameters!$C$28-Parameters!$C$27) -> 2734.8009 | W12: =J12*Parameters!$C$29 -> 2.9445169e+08 | X12: =W12/1000000 -> 294.45169
A13: =A12+0.05 -> 0.89 | B13: =B12-0.05 -> 0.07 | C13: ='Waste plastic data in 2019'!$B$11*$A$2 -> 229.7169 | D13: ='Waste plastic data in 2019'!$B$11*Parameters!$C$4 -> 194.9661 | E13: ='Waste plastic data in 2019'!$B$9*Parameters!$C$8+Parameters!$C$11*'Waste plastic data in 2019'!$B$10 -> 206.74 | F13: ='Waste plastic data in 2019'!$B$11*$B$2+'Waste plastic data in 2019'!$B$9*B13+Parameters!$C$9*'Waste plastic data in 2019'!$B$10 -> 1340.112 | G13: =F13*Parameters!$C$12+'Sensitivty analysis-'!C13*(1-Parameters!$C$15)+'Waste plastic data in 2019'!$B$9*A13+Parameters!$C$10*'Waste plastic data in 2019'!$B$10 -> 1878.4076 | H13: =G13*Parameters!$C$16 -> 1183.3968 | I13: =G13*(1-Parameters!$C$16) -> 695.01081 | J13: =F13*Parameters!$C$14+'Sensitivty analysis-'!I13*Parameters!$C$18 -> 957.44111 | K13: =J13*Parameters!$C$20 -> 28.723233 | L13: =J13*Parameters!$C$19 -> 210.63704 | M13: =L13*Parameters!$C$23 -> 206.4243 | N13: =C13*Parameters!$C$15 -> 114.85845 | O13: =H13*Parameters!$C$21 -> 970.38536 | P13: =M13+H13*(1-Parameters!$C$21)*Parameters!$C$23 -> 415.1755 | Q13: =J13*Parameters!$C$22*Parameters!$C$25 -> 183.82869 | R13: =Q13*Parameters!$C$24*10000000 -> 8.0884625e+10 | S13: =F13*Parameters!$C$13+'Sensitivty analysis-'!K13+'Sensitivty analysis-'!L13*(1-Parameters!$C$23)+'Sensitivty analysis-'!I13*Parameters!$C$17+'Sensitivty analysis-'!H13*(1-Parameters!$C$21)*(1-Parameters!$C$23) -> 1065.2938 | T13: =S13+J13*Parameters!$C$22*(1-Parameters!$C$25) -> 1599.5459 | U13: =O13*Parameters!$C$27+'Sensitivty analysis-'!J13*Parameters!$C$22*Parameters!$C$26 -> 3498.2273 | V13: ='Sensitivty analysis-'!O13*(Parameters!$C$28-Parameters!$C$27) -> 2830.6141 | W13: =J13*Parameters!$C$29 -> 2.8723233e+08 | X13: =W13/1000000 -> 287.23233
A14: =A13+0.05 -> 0.94 | B14: =B13-0.05 -> 0.02 | C14: ='Waste plastic data in 2019'!$B$11*$A$2 -> 229.7169 | D14: ='Waste plastic data in 2019'!$B$11*Parameters!$C$4 -> 194.9661 | E14: ='Waste plastic data in 2019'!$B$9*Parameters!$C$8+Parameters!$C$11*'Waste plastic data in 2019'!$B$10 -> 206.74 | F14: ='Waste plastic data in 2019'!$B$11*$B$2+'Waste plastic data in 2019'!$B$9*B14+Parameters!$C$9*'Waste plastic data in 2019'!$B$10 -> 1274.087 | G14: =F14*Parameters!$C$12+'Sensitivty analysis-'!C14*(1-Parameters!$C$15)+'Waste plastic data in 2019'!$B$9*A14+Parameters!$C$10*'Waste plastic data in 2019'!$B$10 -> 1941.9897 | H14: =G14*Parameters!$C$16 -> 1223.4535 | I14: =G14*(1-Parameters!$C$16) -> 718.53618 | J14: =F14*Parameters!$C$14+'Sensitivty analysis-'!I14*Parameters!$C$18 -> 933.37658 | K14: =J14*Parameters!$C$20 -> 28.001297 | L14: =J14*Parameters!$C$19 -> 205.34285 | M14: =L14*Parameters!$C$23 -> 201.23599 | N14: =C14*Parameters!$C$15 -> 114.85845 | O14: =H14*Parameters!$C$21 -> 1003.2319 | P14: =M14+H14*(1-Parameters!$C$21)*Parameters!$C$23 -> 417.05319 | Q14: =J14*Parameters!$C$22*Parameters!$C$25 -> 179.2083 | R14: =Q14*Parameters!$C$24*10000000 -> 7.8851653e+10 | S14: =F14*Parameters!$C$13+'Sensitivty analysis-'!K14+'Sensitivty analysis-'!L14*(1-Parameters!$C$23)+'Sensitivty analysis-'!I14*Parameters!$C$17+'Sensitivty analysis-'!H14*(1-Parameters!$C$21)*(1-Parameters!$C$23) -> 1048.618 | T14: =S14+J14*Parameters!$C$22*(1-Parameters!$C$25) -> 1569.4421 | U14: =O14*Parameters!$C$27+'Sensitivty analysis-'!J14*Parameters!$C$22*Parameters!$C$26 -> 3500.1632 | V14: ='Sensitivty analysis-'!O14*(Parameters!$C$28-Parameters!$C$27) -> 2926.4273 | W14: =J14*Parameters!$C$29 -> 2.8001297e+08 | X14: =W14/1000000 -> 280.01297
C15: Refurbushment | D15: Transfer or Idle | E15: Reuse | F15: Sorting | G15: Waste plastics markrt | H15: Recycling plant | I15: Mixed waste | J15: Incineration | K15: Fly ASH | L15: BOTTLE ASH | M15: Building filler | N15: Reused products | O15: High-end applications | P15: Low-end applications | Q15: Energy | R15: Energy(MJ) | S15: Landfill | T15: LOST | U15: CE | V15: CR | W15: DE(ug) | X15: DE(g)
A16: 0.28 | B16: 0.64 | C16: ='Waste plastic data in 2019'!$B$11*$A$2 -> 229.7169 | D16: ='Waste plastic data in 2019'!$B$11*Parameters!$C$4 -> 194.9661 | E16: ='Waste plastic data in 2019'!$B$9*Parameters!$C$8+Parameters!$C$11*'Waste plastic data in 2019'!$B$10 -> 206.74 | F16: ='Waste plastic data in 2019'!$B$11*$B$2+'Waste plastic data in 2019'!$B$9*$B$9+B16*'Waste plastic data in 2019'!$B$10 -> 1604.212 | G16: =F16*Parameters!$C$12+'Sensitivty analysis-'!C16*(1-Parameters!$C$15)+'Waste plastic data in 2019'!$B$9*$A$9+A16*'Waste plastic data in 2019'!$B$10 -> 1624.0793 | H16: =G16*Parameters!$C$16 -> 1023.17 | I16: =G16*(1-Parameters!$C$16) -> 600.90934 | J16: =F16*Parameters!$C$14+'Sensitivty analysis-'!I16*Parameters!$C$18 -> 1053.6992 | K16: =J16*Parameters!$C$20 -> 31.610977 | L16: =J16*Parameters!$C$19 -> 231.81383 | M16: =L16*Parameters!$C$23 -> 227.17755 | N16: =C16*Parameters!$C$15 -> 114.85845 | O16: =H16*Parameters!$C$21 -> 838.99936 | P16: =M16+H16*(1-Parameters!$C$21)*Parameters!$C$23 -> 407.66473 | Q16: =J16*Parameters!$C$22*Parameters!$C$25 -> 202.31025 | R16: =Q16*Parameters!$C$24*10000000 -> 8.901651e+10 | S16: =F16*Parameters!$C$13+'Sensitivty analysis-'!K16+'Sensitivty analysis-'!L16*(1-Parameters!$C$23)+'Sensitivty analysis-'!I16*Parameters!$C$17+'Sensitivty analysis-'!H16*(1-Parameters!$C$21)*(1-Parameters!$C$23) -> 1131.9969 | T16: =S16+J16*Parameters!$C$22*(1-Parameters!$C$25) -> 1719.9611 | U16: =O16*Parameters!$C$27+'Sensitivty analysis-'!J16*Parameters!$C$22*Parameters!$C$26 -> 3490.4836 | V16: ='Sensitivty analysis-'!O16*(Parameters!$C$28-Parameters!$C$27) -> 2447.3611 | W16: =J16*Parameters!$C$29 -> 3.1610977e+08 | X16: =W16/1000000 -> 316.10977
A17: =A16+0.05 -> 0.33 | B17: =B16-0.05 -> 0.59 | C17: ='Waste plastic data in 2019'!$B$11*$A$2 -> 229.7169 | D17: ='Waste plastic data in 2019'!$B$11*Parameters!$C$4 -> 194.9661 | E17: ='Waste plastic data in 2019'!$B$9*Parameters!$C$8+Parameters!$C$11*'Waste plastic data in 2019'!$B$10 -> 206.74 | F17: ='Waste plastic data in 2019'!$B$11*$B$2+'Waste plastic data in 2019'!$B$9*$B$9+B17*'Waste plastic data in 2019'!$B$10 -> 1508.012 | G17: =F17*Parameters!$C$12+'Sensitivty analysis-'!C17*(1-Parameters!$C$15)+'Waste plastic data in 2019'!$B$9*$A$9+A17*'Waste plastic data in 2019'!$B$10 -> 1716.7199 | H17: =G17*Parameters!$C$16 -> 1081.5335 | I17: =G17*(1-Parameters!$C$16) -> 635.18636 | J17: =F17*Parameters!$C$14+'Sensitivty analysis-'!I17*Parameters!$C$18 -> 1018.6366 | K17: =J17*Parameters!$C$20 -> 30.559099 | L17: =J17*Parameters!$C$19 -> 224.10006 | M17: =L17*Parameters!$C$23 -> 219.61806 | N17: =C17*Parameters!$C$15 -> 114.85845 | O17: =H17*Parameters!$C$21 -> 886.8575 | P17: =M17+H17*(1-Parameters!$C$21)*Parameters!$C$23 -> 410.40057 | Q17: =J17*Parameters!$C$22*Parameters!$C$25 -> 195.57823 | R17: =Q17*Parameters!$C$24*10000000 -> 8.6054422e+10 | S17: =F17*Parameters!$C$13+'Sensitivty analysis-'!K17+'Sensitivty analysis-'!L17*(1-Parameters!$C$23)+'Sensitivty analysis-'!I17*Parameters!$C$17+'Sensitivty analysis-'!H17*(1-Parameters!$C$21)*(1-Parameters!$C$23) -> 1107.6999 | T17: =S17+J17*Parameters!$C$22*(1-Parameters!$C$25) -> 1676.0991 | U17: =O17*Parameters!$C$27+'Sensitivty analysis-'!J17*Parameters!$C$22*Parameters!$C$26 -> 3493.3043 | V17: ='Sensitivty analysis-'!O17*(Parameters!$C$28-Parameters!$C$27) -> 2586.9633 | W17: =J17*Parameters!$C$29 -> 3.0559099e+08 | X17: =W17/1000000 -> 305.59099
A18: =A17+0.05 -> 0.38 | B18: =B17-0.05 -> 0.54 | C18: ='Waste plastic data in 2019'!$B$11*$A$2 -> 229.7169 | D18: ='Waste plastic data in 2019'!$B$11*Parameters!$C$4 -> 194.9661 | E18: ='Waste plastic data in 2019'!$B$9*Parameters!$C$8+Parameters!$C$11*'Waste plastic data in 2019'!$B$10 -> 206.74 | F18: ='Waste plastic data in 2019'!$B$11*$B$2+'Waste plastic data in 2019'!$B$9*$B$9+B18*'Waste plastic data in 2019'!$B$10 -> 1411.812 | G18: =F18*Parameters!$C$12+'Sensitivty analysis-'!C18*(1-Parameters!$C$15)+'Waste plastic data in 2019'!$B$9*$A$9+A18*'Waste plastic data in 2019'!$B$10 -> 1809.3605 | H18: =G18*Parameters!$C$16 -> 1139.8971 | I18: =G18*(1-Parameters!$C$16) -> 669.46338 | J18: =F18*Parameters!$C$14+'Sensitivty analysis-'!I18*Parameters!$C$18 -> 983.57404 | K18: =J18*Parameters!$C$20 -> 29.507221 | L18: =J18*Parameters!$C$19 -> 216.38629 | M18: =L18*Parameters!$C$23 -> 212.05856 | N18: =C18*Parameters!$C$15 -> 114.85845 | O18: =H18*Parameters!$C$21 -> 934.71563 | P18: =M18+H18*(1-Parameters!$C$21)*Parameters!$C$23 -> 413.13641 | Q18: =J18*Parameters!$C$22*Parameters!$C$25 -> 188.84622 | R18: =Q18*Parameters!$C$24*10000000 -> 8.3092335e+10 | S18: =F18*Parameters!$C$13+'Sensitivty analysis-'!K18+'Sensitivty analysis-'!L18*(1-Parameters!$C$23)+'Sensitivty analysis-'!I18*Parameters!$C$17+'Sensitivty analysis-'!H18*(1-Parameters!$C$21)*(1-Parameters!$C$23) -> 1083.4029 | T18: =S18+J18*Parameters!$C$22*(1-Parameters!$C$25) -> 1632.2372 | U18: =O18*Parameters!$C$27+'Sensitivty analysis-'!J18*Parameters!$C$22*Parameters!$C$26 -> 3496.125 | V18: ='Sensitivty analysis-'!O18*(Parameters!$C$28-Parameters!$C$27) -> 2726.5655 | W18: =J18*Parameters!$C$29 -> 2.9507221e+08 | X18: =W18/1000000 -> 295.07221
A19: =A18+0.05 -> 0.43 | B19: =B18-0.05 -> 0.49 | C19: ='Waste plastic data in 2019'!$B$11*$A$2 -> 229.7169 | D19: ='Waste plastic data in 2019'!$B$11*Parameters!$C$4 -> 194.9661 | E19: ='Waste plastic data in 2019'!$B$9*Parameters!$C$8+Parameters!$C$11*'Waste plastic data in 2019'!$B$10 -> 206.74 | F19: ='Waste plastic data in 2019'!$B$11*$B$2+'Waste plastic data in 2019'!$B$9*$B$9+B19*'Waste plastic data in 2019'!$B$10 -> 1315.612 | G19: =F19*Parameters!$C$12+'Sensitivty analysis-'!C19*(1-Parameters!$C$15)+'Waste plastic data in 2019'!$B$9*$A$9+A19*'Waste plastic data in 2019'!$B$10 -> 1902.0011 | H19: =G19*Parameters!$C$16 -> 1198.2607 | I19: =G19*(1-Parameters!$C$16) -> 703.7404 | J19: =F19*Parameters!$C$14+'Sensitivty analysis-'!I19*Parameters!$C$18 -> 948.51145 | K19: =J19*Parameters!$C$20 -> 28.455343 | L19: =J19*Parameters!$C$19 -> 208.67252 | M19: =L19*Parameters!$C$23 -> 204.49907 | N19: =C19*Parameters!$C$15 -> 114.85845 | O19: =H19*Parameters!$C$21 -> 982.57377 | P19: =M19+H19*(1-Parameters!$C$21)*Parameters!$C$23 -> 415.87225 | Q19: =J19*Parameters!$C$22*Parameters!$C$25 -> 182.1142 | R19: =Q19*Parameters!$C$24*10000000 -> 8.0130247e+10 | S19: =F19*Parameters!$C$13+'Sensitivty analysis-'!K19+'Sensitivty analysis-'!L19*(1-Parameters!$C$23)+'Sensitivty analysis-'!I19*Parameters!$C$17+'Sensitivty analysis-'!H19*(1-Parameters!$C$21)*(1-Parameters!$C$23) -> 1059.1058 | T19: =S19+J19*Parameters!$C$22*(1-Parameters!$C$25) -> 1588.3752 | U19: =O19*Parameters!$C$27+'Sensitivty analysis-'!J19*Parameters!$C$22*Parameters!$C$26 -> 3498.9457 | V19: ='Sensitivty analysis-'!O19*(Parameters!$C$28-Parameters!$C$27) -> 2866.1677 | W19: =J19*Parameters!$C$29 -> 2.8455343e+08 | X19: =W19/1000000 -> 284.55343
A20: =A19+0.05 -> 0.48 | B20: =B19-0.05 -> 0.44 | C20: ='Waste plastic data in 2019'!$B$11*$A$2 -> 229.7169 | D20: ='Waste plastic data in 2019'!$B$11*Parameters!$C$4 -> 194.9661 | E20: ='Waste plastic data in 2019'!$B$9*Parameters!$C$8+Parameters!$C$11*'Waste plastic data in 2019'!$B$10 -> 206.74 | F20: ='Waste plastic data in 2019'!$B$11*$B$2+'Waste plastic data in 2019'!$B$9*$B$9+B20*'Waste plastic data in 2019'!$B$10 -> 1219.412 | G20: =F20*Parameters!$C$12+'Sensitivty analysis-'!C20*(1-Parameters!$C$15)+'Waste plastic data in 2019'!$B$9*$A$9+A20*'Waste plastic data in 2019'!$B$10 -> 1994.6417 | H20: =G20*Parameters!$C$16 -> 1256.6243 | I20: =G20*(1-Parameters!$C$16) -> 738.01743 | J20: =F20*Parameters!$C$14+'Sensitivty analysis-'!I20*Parameters!$C$18 -> 913.44885 | K20: =J20*Parameters!$C$20 -> 27.403466 | L20: =J20*Parameters!$C$19 -> 200.95875 | M20: =L20*Parameters!$C$23 -> 196.93957 | N20: =C20*Parameters!$C$15 -> 114.85845 | O20: =H20*Parameters!$C$21 -> 1030.4319 | P20: =M20+H20*(1-Parameters!$C$21)*Parameters!$C$23 -> 418.60809 | Q20: =J20*Parameters!$C$22*Parameters!$C$25 -> 175.38218 | R20: =Q20*Parameters!$C$24*10000000 -> 7.7168159e+10 | S20: =F20*Parameters!$C$13+'Sensitivty analysis-'!K20+'Sensitivty analysis-'!L20*(1-Parameters!$C$23)+'Sensitivty analysis-'!I20*Parameters!$C$17+'Sensitivty analysis-'!H20*(1-Parameters!$C$21)*(1-Parameters!$C$23) -> 1034.8088 | T20: =S20+J20*Parameters!$C$22*(1-Parameters!$C$25) -> 1544.5133 | U20: =O20*Parameters!$C$27+'Sensitivty analysis-'!J20*Parameters!$C$22*Parameters!$C$26 -> 3501.7663 | V20: ='Sensitivty analysis-'!O20*(Parameters!$C$28-Parameters!$C$27) -> 3005.7698 | W20: =J20*Parameters!$C$29 -> 2.7403466e+08 | X20: =W20/1000000 -> 274.03466
A21: =A20+0.05 -> 0.53 | B21: =B20-0.05 -> 0.39 | C21: ='Waste plastic data in 2019'!$B$11*$A$2 -> 229.7169 | D21: ='Waste plastic data in 2019'!$B$11*Parameters!$C$4 -> 194.9661 | E21: ='Waste plastic data in 2019'!$B$9*Parameters!$C$8+Parameters!$C$11*'Waste plastic data in 2019'!$B$10 -> 206.74 | F21: ='Waste plastic data in 2019'!$B$11*$B$2+'Waste plastic data in 2019'!$B$9*$B$9+B21*'Waste plastic data in 2019'!$B$10 -> 1123.212 | G21: =F21*Parameters!$C$12+'Sensitivty analysis-'!C21*(1-Parameters!$C$15)+'Waste plastic data in 2019'!$B$9*$A$9+A21*'Waste plastic data in 2019'!$B$10 -> 2087.2823 | H21: =G21*Parameters!$C$16 -> 1314.9878 | I21: =G21*(1-Parameters!$C$16) -> 772.29445 | J21: =F21*Parameters!$C$14+'Sensitivty analysis-'!I21*Parameters!$C$18 -> 878.38626 | K21: =J21*Parameters!$C$20 -> 26.351588 | L21: =J21*Parameters!$C$19 -> 193.24498 | M21: =L21*Parameters!$C$23 -> 189.38008 | N21: =C21*Parameters!$C$15 -> 114.85845 | O21: =H21*Parameters!$C$21 -> 1078.29 | P21: =M21+H21*(1-Parameters!$C$21)*Parameters!$C$23 -> 421.34393 | Q21: =J21*Parameters!$C$22*Parameters!$C$25 -> 168.65016 | R21: =Q21*Parameters!$C$24*10000000 -> 7.4206072e+10 | S21: =F21*Parameters!$C$13+'Sensitivty analysis-'!K21+'Sensitivty analysis-'!L21*(1-Parameters!$C$23)+'Sensitivty analysis-'!I21*Parameters!$C$17+'Sensitivty analysis-'!H21*(1-Parameters!$C$21)*(1-Parameters!$C$23) -> 1010.5118 | T21: =S21+J21*Parameters!$C$22*(1-Parameters!$C$25) -> 1500.6513 | U21: =O21*Parameters!$C$27+'Sensitivty analysis-'!J21*Parameters!$C$22*Parameters!$C$26 -> 3504.587 | V21: ='Sensitivty analysis-'!O21*(Parameters!$C$28-Parameters!$C$27) -> 3145.372 | W21: =J21*Parameters!$C$29 -> 2.6351588e+08 | X21: =W21/1000000 -> 263.51588
C22: Refurbushment | D22: Transfer or Idle | E22: Reuse | F22: Sorting | G22: Waste plastics markrt | H22: Recycling plant | I22: Mixed waste | J22: Incineration | K22: Fly ASH | L22: BOTTLE ASH | M22: Building filler | N22: Reused products | O22: High-end applications | P22: Low-end applications | Q22: Energy | R22: Energy(MJ) | S22: Landfill | T22: LOST | U22: CE | V22: CR | W22: DE(ug) | X22: DE(g)
A23: 0.5 | C23: ='Waste plastic data in 2019'!$B$11*$A$2 -> 229.7169 | D23: ='Waste plastic data in 2019'!$B$11*Parameters!$C$4 -> 194.9661 | E23: ='Waste plastic data in 2019'!$B$9*Parameters!$C$8+Parameters!$C$11*'Waste plastic data in 2019'!$B$10 -> 206.74 | F23: ='Waste plastic data in 2019'!$B$11*$B$2+'Waste plastic data in 2019'!$B$9*$B$9+$B$16*'Waste plastic data in 2019'!$B$10 -> 1604.212 | G23: =F23*Parameters!$C$12+'Sensitivty analysis-'!C23*(1-A23)+'Waste plastic data in 2019'!$B$9*$A$9+$A$16*'Waste plastic data in 2019'!$B$10 -> 1624.0793 | H23: =G23*Parameters!$C$16 -> 1023.17 | I23: =G23*(1-Parameters!$C$16) -> 600.90934 | J23: =F23*Parameters!$C$14+'Sensitivty analysis-'!I23*Parameters!$C$18 -> 1053.6992 | K23: =J23*Parameters!$C$20 -> 31.610977 | L23: =J23*Parameters!$C$19 -> 231.81383 | M23: =L23*Parameters!$C$23 -> 227.17755 | N23: =C23*A23 -> 114.85845 | O23: =H23*Parameters!$C$21 -> 838.99936 | P23: =M23+H23*(1-Parameters!$C$21)*Parameters!$C$23 -> 407.66473 | Q23: =J23*Parameters!$C$22*Parameters!$C$25 -> 202.31025 | R23: =Q23*Parameters!$C$24*10000000 -> 8.901651e+10 | S23: =F23*Parameters!$C$13+'Sensitivty analysis-'!K23+'Sensitivty analysis-'!L23*(1-Parameters!$C$23)+'Sensitivty analysis-'!I23*Parameters!$C$17+'Sensitivty analysis-'!H23*(1-Parameters!$C$21)*(1-Parameters!$C$23) -> 1131.9969 | T23: =S23+J23*Parameters!$C$22*(1-Parameters!$C$25) -> 1719.9611 | U23: =O23*Parameters!$C$27+'Sensitivty analysis-'!J23*Parameters!$C$22*Parameters!$C$26 -> 3490.4836 | V23: ='Sensitivty analysis-'!O23*(Parameters!$C$28-Parameters!$C$27) -> 2447.3611 | W23: =J23*Parameters!$C$29 -> 3.1610977e+08 | X23: =W23/1000000 -> 316.10977
A24: =A23+0.05 -> 0.55 | C24: ='Waste plastic data in 2019'!$B$11*$A$2 -> 229.7169 | D24: ='Waste plastic data in 2019'!$B$11*Parameters!$C$4 -> 194.9661 | E24: ='Waste plastic data in 2019'!$B$9*Parameters!$C$8+Parameters!$C$11*'Waste plastic data in 2019'!$B$10 -> 206.74 | F24: ='Waste plastic data in 2019'!$B$11*$B$2+'Waste plastic data in 2019'!$B$9*$B$9+$B$16*'Waste plastic data in 2019'!$B$10 -> 1604.212 | G24: =F24*Parameters!$C$12+'Sensitivty analysis-'!C24*(1-A24)+'Waste plastic data in 2019'!$B$9*$A$9+$A$16*'Waste plastic data in 2019'!$B$10 -> 1612.5934 | H24: =G24*Parameters!$C$16 -> 1015.9339 | I24: =G24*(1-Parameters!$C$16) -> 596.65958 | J24: =F24*Parameters!$C$14+'Sensitivty analysis-'!I24*Parameters!$C$18 -> 1051.9993 | K24: =J24*Parameters!$C$20 -> 31.559979 | L24: =J24*Parameters!$C$19 -> 231.43985 | M24: =L24*Parameters!$C$23 -> 226.81105 | N24: =C24*A24 -> 126.3443 | O24: =H24*Parameters!$C$21 -> 833.06578 | P24: =M24+H24*(1-Parameters!$C$21)*Parameters!$C$23 -> 406.02179 | Q24: =J24*Parameters!$C$22*Parameters!$C$25 -> 201.98387 | R24: =Q24*Parameters!$C$24*10000000 -> 8.8872902e+10 | S24: =F24*Parameters!$C$13+'Sensitivty analysis-'!K24+'Sensitivty analysis-'!L24*(1-Parameters!$C$23)+'Sensitivty analysis-'!I24*Parameters!$C$17+'Sensitivty analysis-'!H24*(1-Parameters!$C$21)*(1-Parameters!$C$23) -> 1129.3626 | T24: =S24+J24*Parameters!$C$22*(1-Parameters!$C$25) -> 1716.3782 | U24: =O24*Parameters!$C$27+'Sensitivty analysis-'!J24*Parameters!$C$22*Parameters!$C$26 -> 3477.6619 | V24: ='Sensitivty analysis-'!O24*(Parameters!$C$28-Parameters!$C$27) -> 2430.0529 | W24: =J24*Parameters!$C$29 -> 3.1559979e+08 | X24: =W24/1000000 -> 315.59979
A25: =A24+0.05 -> 0.6 | C25: ='Waste plastic data in 2019'!$B$11*$A$2 -> 229.7169 | D25: ='Waste plastic data in 2019'!$B$11*Parameters!$C$4 -> 194.9661 | E25: ='Waste plastic data in 2019'!$B$9*Parameters!$C$8+Parameters!$C$11*'Waste plastic data in 2019'!$B$10 -> 206.74 | F25: ='Waste plastic data in 2019'!$B$11*$B$2+'Waste plastic data in 2019'!$B$9*$B$9+$B$16*'Waste plastic data in 2019'!$B$10 -> 1604.212 | G25: =F25*Parameters!$C$12+'Sensitivty analysis-'!C25*(1-A25)+'Waste plastic data in 2019'!$B$9*$A$9+$A$16*'Waste plastic data in 2019'!$B$10 -> 1601.1076 | H25: =G25*Parameters!$C$16 -> 1008.6978 | I25: =G25*(1-Parameters!$C$16) -> 592.40981 | J25: =F25*Parameters!$C$14+'Sensitivty analysis-'!I25*Parameters!$C$18 -> 1050.2994 | K25: =J25*Parameters!$C$20 -> 31.508982 | L25: =J25*Parameters!$C$19 -> 231.06587 | M25: =L25*Parameters!$C$23 -> 226.44455 | N25: =C25*A25 -> 137.83014 | O25: =H25*Parameters!$C$21 -> 827.13219 | P25: =M25+H25*(1-Parameters!$C$21)*Parameters!$C$23 -> 404.37884 | Q25: =J25*Parameters!$C$22*Parameters!$C$25 -> 201.65749 | R25: =Q25*Parameters!$C$24*10000000 -> 8.8729294e+10 | S25: =F25*Parameters!$C$13+'Sensitivty analysis-'!K25+'Sensitivty analysis-'!L25*(1-Parameters!$C$23)+'Sensitivty analysis-'!I25*Parameters!$C$17+'Sensitivty analysis-'!H25*(1-Parameters!$C$21)*(1-Parameters!$C$23) -> 1126.7282 | T25: =S25+J25*Parameters!$C$22*(1-Parameters!$C$25) -> 1712.7952 | U25: =O25*Parameters!$C$27+'Sensitivty analysis-'!J25*Parameters!$C$22*Parameters!$C$26 -> 3464.8401 | V25: ='Sensitivty analysis-'!O25*(Parameters!$C$28-Parameters!$C$27) -> 2412.7446 | W25: =J25*Parameters!$C$29 -> 3.1508982e+08 | X25: =W25/1000000 -> 315.08982
A26: =A25+0.05 -> 0.65 | C26: ='Waste plastic data in 2019'!$B$11*$A$2 -> 229.7169 | D26: ='Waste plastic data in 2019'!$B$11*Parameters!$C$4 -> 194.9661 | E26: ='Waste plastic data in 2019'!$B$9*Parameters!$C$8+Parameters!$C$11*'Waste plastic data in 2019'!$B$10 -> 206.74 | F26: ='Waste plastic data in 2019'!$B$11*$B$2+'Waste plastic data in 2019'!$B$9*$B$9+$B$16*'Waste plastic data in 2019'!$B$10 -> 1604.212 | G26: =F26*Parameters!$C$12+'Sensitivty analysis-'!C26*(1-A26)+'Waste plastic data in 2019'!$B$9*$A$9+$A$16*'Waste plastic data in 2019'!$B$10 -> 1589.6218 | H26: =G26*Parameters!$C$16 -> 1001.4617 | I26: =G26*(1-Parameters!$C$16) -> 588.16005 | J26: =F26*Parameters!$C$14+'Sensitivty analysis-'!I26*Parameters!$C$18 -> 1048.5995 | K26: =J26*Parameters!$C$20 -> 31.457985 | L26: =J26*Parameters!$C$19 -> 230.69189 | M26: =L26*Parameters!$C$23 -> 226.07805 | N26: =C26*A26 -> 149.31599 | O26: =H26*Parameters!$C$21 -> 821.1986 | P26: =M26+H26*(1-Parameters!$C$21)*Parameters!$C$23 -> 402.7359 | Q26: =J26*Parameters!$C$22*Parameters!$C$25 -> 201.3311 | R26: =Q26*Parameters!$C$24*10000000 -> 8.8585686e+10 | S26: =F26*Parameters!$C$13+'Sensitivty analysis-'!K26+'Sensitivty analysis-'!L26*(1-Parameters!$C$23)+'Sensitivty analysis-'!I26*Parameters!$C$17+'Sensitivty analysis-'!H26*(1-Parameters!$C$21)*(1-Parameters!$C$23) -> 1124.0938 | T26: =S26+J26*Parameters!$C$22*(1-Parameters!$C$25) -> 1709.2123 | U26: =O26*Parameters!$C$27+'Sensitivty analysis-'!J26*Parameters!$C$22*Parameters!$C$26 -> 3452.0183 | V26: ='Sensitivty analysis-'!O26*(Parameters!$C$28-Parameters!$C$27) -> 2395.4363 | W26: =J26*Parameters!$C$29 -> 3.1457985e+08 | X26: =W26/1000000 -> 314.57985
A27: =A26+0.05 -> 0.7 | C27: ='Waste plastic data in 2019'!$B$11*$A$2 -> 229.7169 | D27: ='Waste plastic data in 2019'!$B$11*Parameters!$C$4 -> 194.9661 | E27: ='Waste plastic data in 2019'!$B$9*Parameters!$C$8+Parameters!$C$11*'Waste plastic data in 2019'!$B$10 -> 206.74 | F27: ='Waste plastic data in 2019'!$B$11*$B$2+'Waste plastic data in 2019'!$B$9*$B$9+$B$16*'Waste plastic data in 2019'!$B$10 -> 1604.212 | G27: =F27*Parameters!$C$12+'Sensitivty analysis-'!C27*(1-A27)+'Waste plastic data in 2019'!$B$9*$A$9+$A$16*'Waste plastic data in 2019'!$B$10 -> 1578.1359 | H27: =G27*Parameters!$C$16 -> 994.22563 | I27: =G27*(1-Parameters!$C$16) -> 583.91029 | J27: =F27*Parameters!$C$14+'Sensitivty analysis-'!I27*Parameters!$C$18 -> 1046.8996 | K27: =J27*Parameters!$C$20 -> 31.406988 | L27: =J27*Parameters!$C$19 -> 230.31791 | M27: =L27*Parameters!$C$23 -> 225.71155 | N27: =C27*A27 -> 160.80183 | O27: =H27*Parameters!$C$21 -> 815.26501 | P27: =M27+H27*(1-Parameters!$C$21)*Parameters!$C$23 -> 401.09295 | Q27: =J27*Parameters!$C$22*Parameters!$C$25 -> 201.00472 | R27: =Q27*Parameters!$C$24*10000000 -> 8.8442078e+10 | S27: =F27*Parameters!$C$13+'Sensitivty analysis-'!K27+'Sensitivty analysis-'!L27*(1-Parameters!$C$23)+'Sensitivty analysis-'!I27*Parameters!$C$17+'Sensitivty analysis-'!H27*(1-Parameters!$C$21)*(1-Parameters!$C$23) -> 1121.4594 | T27: =S27+J27*Parameters!$C$22*(1-Parameters!$C$25) -> 1705.6294 | U27: =O27*Parameters!$C$27+'Sensitivty analysis-'!J27*Parameters!$C$22*Parameters!$C$26 -> 3439.1965 | V27: ='Sensitivty analysis-'!O27*(Parameters!$C$28-Parameters!$C$27) -> 2378.128 | W27: =J27*Parameters!$C$29 -> 3.1406988e+08 | X27: =W27/1000000 -> 314.06988
A28: =A27+0.05 -> 0.75 | C28: ='Waste plastic data in 2019'!$B$11*$A$2 -> 229.7169 | D28: ='Waste plastic data in 2019'!$B$11*Parameters!$C$4 -> 194.9661 | E28: ='Waste plastic data in 2019'!$B$9*Parameters!$C$8+Parameters!$C$11*'Waste plastic data in 2019'!$B$10 -> 206.74 | F28: ='Waste plastic data in 2019'!$B$11*$B$2+'Waste plastic data in 2019'!$B$9*$B$9+$B$16*'Waste plastic data in 2019'!$B$10 -> 1604.212 | G28: =F28*Parameters!$C$12+'Sensitivty analysis-'!C28*(1-A28)+'Waste plastic data in 2019'!$B$9*$A$9+$A$16*'Waste plastic data in 2019'!$B$10 -> 1566.6501 | H28: =G28*Parameters!$C$16 -> 986.98954 | I28: =G28*(1-Parameters!$C$16) -> 579.66053 | J28: =F28*Parameters!$C$14+'Sensitivty analysis-'!I28*Parameters!$C$18 -> 1045.1997 | K28: =J28*Parameters!$C$20 -> 31.355991 | L28: =J28*Parameters!$C$19 -> 229.94393 | M28: =L28*Parameters!$C$23 -> 225.34505 | N28: =C28*A28 -> 172.28768 | O28: =H28*Parameters!$C$21 -> 809.33143 | P28: =M28+H28*(1-Parameters!$C$21)*Parameters!$C$23 -> 399.45001 | Q28: =J28*Parameters!$C$22*Parameters!$C$25 -> 200.67834 | R28: =Q28*Parameters!$C$24*10000000 -> 8.829847e+10 | S28: =F28*Parameters!$C$13+'Sensitivty analysis-'!K28+'Sensitivty analysis-'!L28*(1-Parameters!$C$23)+'Sensitivty analysis-'!I28*Parameters!$C$17+'Sensitivty analysis-'!H28*(1-Parameters!$C$21)*(1-Parameters!$C$23) -> 1118.825 | T28: =S28+J28*Parameters!$C$22*(1-Parameters!$C$25) -> 1702.0464 | U28: =O28*Parameters!$C$27+'Sensitivty analysis-'!J28*Parameters!$C$22*Parameters!$C$26 -> 3426.3747 | V28: ='Sensitivty analysis-'!O28*(Parameters!$C$28-Parameters!$C$27) -> 2360.8198 | W28: =J28*Parameters!$C$29 -> 3.1355991e+08 | X28: =W28/1000000 -> 313.55991
C29: Refurbushment | D29: Transfer or Idle | E29: Reuse | F29: Sorting | G29: Waste plastics markrt | H29: Recycling plant | I29: Mixed waste | J29: Incineration | K29: Fly ASH | L29: BOTTLE ASH | M29: Building filler | N29: Reused products | O29: High-end applications | P29: Low-end applications | Q29: Energy | R29: Energy(MJ) | S29: Landfill | T29: LOST | U29: CE | V29: CR | W29: DE(ug) | X29: DE(g)
A30: 0.63 | C30: ='Waste plastic data in 2019'!$B$11*$A$2 -> 229.7169 | D30: ='Waste plastic data in 2019'!$B$11*Parameters!$C$4 -> 194.9661 | E30: ='Waste plastic data in 2019'!$B$9*Parameters!$C$8+Parameters!$C$11*'Waste plastic data in 2019'!$B$10 -> 206.74 | F30: ='Waste plastic data in 2019'!$B$11*$B$2+'Waste plastic data in 2019'!$B$9*$B$9+$B$16*'Waste plastic data in 2019'!$B$10 -> 1604.212 | G30: =F30*Parameters!$C$12+'Sensitivty analysis-'!C30*(1-$A$23)+'Waste plastic data in 2019'!$B$9*$A$9+$A$16*'Waste plastic data in 2019'!$B$10 -> 1624.0793 | H30: =G30*A30 -> 1023.17 | I30: =G30*(1-A30) -> 600.90934 | J30: =F30*Parameters!$C$14+'Sensitivty analysis-'!I30*Parameters!$C$18 -> 1053.6992 | K30: =J30*Parameters!$C$20 -> 31.610977 | L30: =J30*Parameters!$C$19 -> 231.81383 | M30: =L30*Parameters!$C$23 -> 227.17755 | N30: =C30*$A$23 -> 114.85845 | O30: =H30*Parameters!$C$21 -> 838.99936 | P30: =M30+H30*(1-Parameters!$C$21)*Parameters!$C$23 -> 407.66473 | Q30: =J30*Parameters!$C$22*Parameters!$C$25 -> 202.31025 | R30: =Q30*Parameters!$C$24*10000000 -> 8.901651e+10 | S30: =F30*Parameters!$C$13+'Sensitivty analysis-'!K30+'Sensitivty analysis-'!L30*(1-Parameters!$C$23)+'Sensitivty analysis-'!I30*Parameters!$C$17+'Sensitivty analysis-'!H30*(1-Parameters!$C$21)*(1-Parameters!$C$23) -> 1131.9969 | T30: =S30+J30*Parameters!$C$22*(1-Parameters!$C$25) -> 1719.9611 | U30: =O30*Parameters!$C$27+'Sensitivty analysis-'!J30*Parameters!$C$22*Parameters!$C$26 -> 3490.4836 | V30: ='Sensitivty analysis-'!O30*(Parameters!$C$28-Parameters!$C$27) -> 2447.3611 | W30: =J30*Parameters!$C$29 -> 3.1610977e+08 | X30: =W30/1000000 -> 316.10977
A31: =A30+0.05 -> 0.68 | C31: ='Waste plastic data in 2019'!$B$11*$A$2 -> 229.7169 | D31: ='Waste plastic data in 2019'!$B$11*Parameters!$C$4 -> 194.9661 | E31: ='Waste plastic data in 2019'!$B$9*Parameters!$C$8+Parameters!$C$11*'Waste plastic data in 2019'!$B$10 -> 206.74 | F31: ='Waste plastic data in 2019'!$B$11*$B$2+'Waste plastic data in 2019'!$B$9*$B$9+$B$16*'Waste plastic data in 2019'!$B$10 -> 1604.212 | G31: =F31*Parameters!$C$12+'Sensitivty analysis-'!C31*(1-$A$23)+'Waste plastic data in 2019'!$B$9*$A$9+$A$16*'Waste plastic data in 2019'!$B$10 -> 1624.0793 | H31: =G31*A31 -> 1104.3739 | I31: =G31*(1-A31) -> 519.70537 | J31: =F31*Parameters!$C$14+'Sensitivty analysis-'!I31*Parameters!$C$18 -> 1021.2176 | K31: =J31*Parameters!$C$20 -> 30.636529 | L31: =J31*Parameters!$C$19 -> 224.66788 | M31: =L31*Parameters!$C$23 -> 220.17452 | N31: =C31*$A$23 -> 114.85845 | O31: =H31*Parameters!$C$21 -> 905.58661 | P31: =M31+H31*(1-Parameters!$C$21)*Parameters!$C$23 -> 414.98608 | Q31: =J31*Parameters!$C$22*Parameters!$C$25 -> 196.07379 | R31: =Q31*Parameters!$C$24*10000000 -> 8.6272466e+10 | S31: =F31*Parameters!$C$13+'Sensitivty analysis-'!K31+'Sensitivty analysis-'!L31*(1-Parameters!$C$23)+'Sensitivty analysis-'!I31*Parameters!$C$17+'Sensitivty analysis-'!H31*(1-Parameters!$C$21)*(1-Parameters!$C$23) -> 1082.4495 | T31: =S31+J31*Parameters!$C$22*(1-Parameters!$C$25) -> 1652.289 | U31: =O31*Parameters!$C$27+'Sensitivty analysis-'!J31*Parameters!$C$22*Parameters!$C$26 -> 3528.0324 | V31: ='Sensitivty analysis-'!O31*(Parameters!$C$28-Parameters!$C$27) -> 2641.5962 | W31: =J31*Parameters!$C$29 -> 3.0636529e+08 | X31: =W31/1000000 -> 306.36529
A32: =A31+0.05 -> 0.73 | C32: ='Waste plastic data in 2019'!$B$11*$A$2 -> 229.7169 | D32: ='Waste plastic data in 2019'!$B$11*Parameters!$C$4 -> 194.9661 | E32: ='Waste plastic data in 2019'!$B$9*Parameters!$C$8+Parameters!$C$11*'Waste plastic data in 2019'!$B$10 -> 206.74 | F32: ='Waste plastic data in 2019'!$B$11*$B$2+'Waste plastic data in 2019'!$B$9*$B$9+$B$16*'Waste plastic data in 2019'!$B$10 -> 1604.212 | G32: =F32*Parameters!$C$12+'Sensitivty analysis-'!C32*(1-$A$23)+'Waste plastic data in 2019'!$B$9*$A$9+$A$16*'Waste plastic data in 2019'!$B$10 -> 1624.0793 | H32: =G32*A32 -> 1185.5779 | I32: =G32*(1-A32) -> 438.50141 | J32: =F32*Parameters!$C$14+'Sensitivty analysis-'!I32*Parameters!$C$18 -> 988.73605 | K32: =J32*Parameters!$C$20 -> 29.662081 | L32: =J32*Parameters!$C$19 -> 217.52193 | M32: =L32*Parameters!$C$23 -> 213.17149 | N32: =C32*$A$23 -> 114.85845 | O32: =H32*Parameters!$C$21 -> 972.17387 | P32: =M32+H32*(1-Parameters!$C$21)*Parameters!$C$23 -> 422.30743 | Q32: =J32*Parameters!$C$22*Parameters!$C$25 -> 189.83732 | R32: =Q32*Parameters!$C$24*10000000 -> 8.3528421e+10 | S32: =F32*Parameters!$C$13+'Sensitivty analysis-'!K32+'Sensitivty analysis-'!L32*(1-Parameters!$C$23)+'Sensitivty analysis-'!I32*Parameters!$C$17+'Sensitivty analysis-'!H32*(1-Parameters!$C$21)*(1-Parameters!$C$23) -> 1032.9021 | T32: =S32+J32*Parameters!$C$22*(1-Parameters!$C$25) -> 1584.6168 | U32: =O32*Parameters!$C$27+'Sensitivty analysis-'!J32*Parameters!$C$22*Parameters!$C$26 -> 3565.5811 | V32: ='Sensitivty analysis-'!O32*(Parameters!$C$28-Parameters!$C$27) -> 2835.8312 | W32: =J32*Parameters!$C$29 -> 2.9662081e+08 | X32: =W32/1000000 -> 296.62081
A33: =A32+0.05 -> 0.78 | C33: ='Waste plastic data in 2019'!$B$11*$A$2 -> 229.7169 | D33: ='Waste plastic data in 2019'!$B$11*Parameters!$C$4 -> 194.9661 | E33: ='Waste plastic data in 2019'!$B$9*Parameters!$C$8+Parameters!$C$11*'Waste plastic data in 2019'!$B$10 -> 206.74 | F33: ='Waste plastic data in 2019'!$B$11*$B$2+'Waste plastic data in 2019'!$B$9*$B$9+$B$16*'Waste plastic data in 2019'!$B$10 -> 1604.212 | G33: =F33*Parameters!$C$12+'Sensitivty analysis-'!C33*(1-$A$23)+'Waste plastic data in 2019'!$B$9*$A$9+$A$16*'Waste plastic data in 2019'!$B$10 -> 1624.0793 | H33: =G33*A33 -> 1266.7818 | I33: =G33*(1-A33) -> 357.29744 | J33: =F33*Parameters!$C$14+'Sensitivty analysis-'!I33*Parameters!$C$18 -> 956.25446 | K33: =J33*Parameters!$C$20 -> 28.687634 | L33: =J33*Parameters!$C$19 -> 210.37598 | M33: =L33*Parameters!$C$23 -> 206.16846 | N33: =C33*$A$23 -> 114.85845 | O33: =H33*Parameters!$C$21 -> 1038.7611 | P33: =M33+H33*(1-Parameters!$C$21)*Parameters!$C$23 -> 429.62878 | Q33: =J33*Parameters!$C$22*Parameters!$C$25 -> 183.60086 | R33: =Q33*Parameters!$C$24*10000000 -> 8.0784377e+10 | S33: =F33*Parameters!$C$13+'Sensitivty analysis-'!K33+'Sensitivty analysis-'!L33*(1-Parameters!$C$23)+'Sensitivty analysis-'!I33*Parameters!$C$17+'Sensitivty analysis-'!H33*(1-Parameters!$C$21)*(1-Parameters!$C$23) -> 983.35471 | T33: =S33+J33*Parameters!$C$22*(1-Parameters!$C$25) -> 1516.9447 | U33: =O33*Parameters!$C$27+'Sensitivty analysis-'!J33*Parameters!$C$22*Parameters!$C$26 -> 3603.1298 | V33: ='Sensitivty analysis-'!O33*(Parameters!$C$28-Parameters!$C$27) -> 3030.0662 | W33: =J33*Parameters!$C$29 -> 2.8687634e+08 | X33: =W33/1000000 -> 286.87634
A34: =A33+0.05 -> 0.83 | C34: ='Waste plastic data in 2019'!$B$11*$A$2 -> 229.7169 | D34: ='Waste plastic data in 2019'!$B$11*Parameters!$C$4 -> 194.9661 | E34: ='Waste plastic data in 2019'!$B$9*Parameters!$C$8+Parameters!$C$11*'Waste plastic data in 2019'!$B$10 -> 206.74 | F34: ='Waste plastic data in 2019'!$B$11*$B$2+'Waste plastic data in 2019'!$B$9*$B$9+$B$16*'Waste plastic data in 2019'!$B$10 -> 1604.212 | G34: =F34*Parameters!$C$12+'Sensitivty analysis-'!C34*(1-$A$23)+'Waste plastic data in 2019'!$B$9*$A$9+$A$16*'Waste plastic data in 2019'!$B$10 -> 1624.0793 | H34: =G34*A34 -> 1347.9858 | I34: =G34*(1-A34) -> 276.09348 | J34: =F34*Parameters!$C$14+'Sensitivty analysis-'!I34*Parameters!$C$18 -> 923.77288 | K34: =J34*Parameters!$C$20 -> 27.713186 | L34: =J34*Parameters!$C$19 -> 203.23003 | M34: =L34*Parameters!$C$23 -> 199.16543 | N34: =C34*$A$23 -> 114.85845 | O34: =H34*Parameters!$C$21 -> 1105.3484 | P34: =M34+H34*(1-Parameters!$C$21)*Parameters!$C$23 -> 436.95013 | Q34: =J34*Parameters!$C$22*Parameters!$C$25 -> 177.36439 | R34: =Q34*Parameters!$C$24*10000000 -> 7.8040333e+10 | S34: =F34*Parameters!$C$13+'Sensitivty analysis-'!K34+'Sensitivty analysis-'!L34*(1-Parameters!$C$23)+'Sensitivty analysis-'!I34*Parameters!$C$17+'Sensitivty analysis-'!H34*(1-Parameters!$C$21)*(1-Parameters!$C$23) -> 933.8073 | T34: =S34+J34*Parameters!$C$22*(1-Parameters!$C$25) -> 1449.2726 | U34: =O34*Parameters!$C$27+'Sensitivty analysis-'!J34*Parameters!$C$22*Parameters!$C$26 -> 3640.6785 | V34: ='Sensitivty analysis-'!O34*(Parameters!$C$28-Parameters!$C$27) -> 3224.3012 | W34: =J34*Parameters!$C$29 -> 2.7713186e+08 | X34: =W34/1000000 -> 277.13186
A35: =A34+0.05 -> 0.88 | C35: ='Waste plastic data in 2019'!$B$11*$A$2 -> 229.7169 | D35: ='Waste plastic data in 2019'!$B$11*Parameters!$C$4 -> 194.9661 | E35: ='Waste plastic data in 2019'!$B$9*Parameters!$C$8+Parameters!$C$11*'Waste plastic data in 2019'!$B$10 -> 206.74 | F35: ='Waste plastic data in 2019'!$B$11*$B$2+'Waste plastic data in 2019'!$B$9*$B$9+$B$16*'Waste plastic data in 2019'!$B$10 -> 1604.212 | G35: =F35*Parameters!$C$12+'Sensitivty analysis-'!C35*(1-$A$23)+'Waste plastic data in 2019'!$B$9*$A$9+$A$16*'Waste plastic data in 2019'!$B$10 -> 1624.0793 | H35: =G35*A35 -> 1429.1898 | I35: =G35*(1-A35) -> 194.88952 | J35: =F35*Parameters!$C$14+'Sensitivty analysis-'!I35*Parameters!$C$18 -> 891.29129 | K35: =J35*Parameters!$C$20 -> 26.738739 | L35: =J35*Parameters!$C$19 -> 196.08408 | M35: =L35*Parameters!$C$23 -> 192.1624 | N35: =C35*$A$23 -> 114.85845 | O35: =H35*Parameters!$C$21 -> 1171.9356 | P35: =M35+H35*(1-Parameters!$C$21)*Parameters!$C$23 -> 444.27148 | Q35: =J35*Parameters!$C$22*Parameters!$C$25 -> 171.12793 | R35: =Q35*Parameters!$C$24*10000000 -> 7.5296288e+10 | S35: =F35*Parameters!$C$13+'Sensitivty analysis-'!K35+'Sensitivty analysis-'!L35*(1-Parameters!$C$23)+'Sensitivty analysis-'!I35*Parameters!$C$17+'Sensitivty analysis-'!H35*(1-Parameters!$C$21)*(1-Parameters!$C$23) -> 884.25988 | T35: =S35+J35*Parameters!$C$22*(1-Parameters!$C$25) -> 1381.6004 | U35: =O35*Parameters!$C$27+'Sensitivty analysis-'!J35*Parameters!$C$22*Parameters!$C$26 -> 3678.2272 | V35: ='Sensitivty analysis-'!O35*(Parameters!$C$28-Parameters!$C$27) -> 3418.5362 | W35: =J35*Parameters!$C$29 -> 2.6738739e+08 | X35: =W35/1000000 -> 267.38739
C36: Refurbushment | D36: Transfer or Idle | E36: Reuse | F36: Sorting | G36: Waste plastics markrt | H36: Recycling plant | I36: Mixed waste | J36: Incineration | K36: Fly ASH | L36: BOTTLE ASH | M36: Building filler | N36: Reused products | O36: High-end applications | P36: Low-end applications | Q36: Energy | R36: Energy(MJ) | S36: Landfill | T36: LOST | U36: CE | V36: CR | W36: DE(ug) | X36: DE(g)
A37: 0.75 | C37: ='Waste plastic data in 2019'!$B$11*$A$2 -> 229.7169 | D37: ='Waste plastic data in 2019'!$B$11*Parameters!$C$4 -> 194.9661 | E37: ='Waste plastic data in 2019'!$B$9*Parameters!$C$8+Parameters!$C$11*'Waste plastic data in 2019'!$B$10 -> 206.74 | F37: ='Waste plastic data in 2019'!$B$11*$B$2+'Waste plastic data in 2019'!$B$9*$B$9+$B$16*'Waste plastic data in 2019'!$B$10 -> 1604.212 | G37: =F37*Parameters!$C$12+'Sensitivty analysis-'!C37*(1-$A$23)+'Waste plastic data in 2019'!$B$9*$A$9+$A$16*'Waste plastic data in 2019'!$B$10 -> 1624.0793 | H37: =G37*$A$30 -> 1023.17 | I37: =G37*(1-$A$30) -> 600.90934 | J37: =F37*Parameters!$C$14+'Sensitivty analysis-'!I37*Parameters!$C$18 -> 1053.6992 | K37: =J37*Z37 -> 31.610977 | L37: =J37*Y37 -> 231.81383 | M37: =L37*Parameters!$C$23 -> 227.17755 | N37: =C37*$A$23 -> 114.85845 | O37: =H37*Parameters!$C$21 -> 838.99936 | P37: =M37+H37*(1-Parameters!$C$21)*Parameters!$C$23 -> 407.66473 | Q37: =J37*A37*Parameters!$C$25 -> 202.31025 | R37: =Q37*Parameters!$C$24*10000000 -> 8.901651e+10 | S37: =F37*Parameters!$C$13+'Sensitivty analysis-'!K37+'Sensitivty analysis-'!L37*(1-Parameters!$C$23)+'Sensitivty analysis-'!I37*Parameters!$C$17+'Sensitivty analysis-'!H37*(1-Parameters!$C$21)*(1-Parameters!$C$23) -> 1131.9969 | T37: =S37+J37*A37*(1-Parameters!$C$25) -> 1719.9611 | U37: =O37*Parameters!$C$27+'Sensitivty analysis-'!J37*A37*Parameters!$C$26 -> 3490.4836 | V37: ='Sensitivty analysis-'!O37*(Parameters!$C$28-Parameters!$C$27) -> 2447.3611 | W37: =J37*Parameters!$C$29 -> 3.1610977e+08 | X37: =W37/1000000 -> 316.10977 | Y37: 0.22 | Z37: 0.03
A38: =A37+0.05 -> 0.8 | C38: ='Waste plastic data in 2019'!$B$11*$A$2 -> 229.7169 | D38: ='Waste plastic data in 2019'!$B$11*Parameters!$C$4 -> 194.9661 | E38: ='Waste plastic data in 2019'!$B$9*Parameters!$C$8+Parameters!$C$11*'Waste plastic data in 2019'!$B$10 -> 206.74 | F38: ='Waste plastic data in 2019'!$B$11*$B$2+'Waste plastic data in 2019'!$B$9*$B$9+$B$16*'Waste plastic data in 2019'!$B$10 -> 1604.212 | G38: =F38*Parameters!$C$12+'Sensitivty analysis-'!C38*(1-$A$23)+'Waste plastic data in 2019'!$B$9*$A$9+$A$16*'Waste plastic data in 2019'!$B$10 -> 1624.0793 | H38: =G38*$A$30 -> 1023.17 | I38: =G38*(1-$A$30) -> 600.90934 | J38: =F38*Parameters!$C$14+'Sensitivty analysis-'!I38*Parameters!$C$18 -> 1053.6992 | K38: =J38*Z38 -> 25.288781 | L38: =J38*Y38 -> 185.45106 | M38: =L38*Parameters!$C$23 -> 181.74204 | N38: =C38*$A$23 -> 114.85845 | O38: =H38*Parameters!$C$21 -> 838.99936 | P38: =M38+H38*(1-Parameters!$C$21)*Parameters!$C$23 -> 362.22922 | Q38: =J38*A38*Parameters!$C$25 -> 215.7976 | R38: =Q38*Parameters!$C$24*10000000 -> 9.4950944e+10 | S38: =F38*Parameters!$C$13+'Sensitivty analysis-'!K38+'Sensitivty analysis-'!L38*(1-Parameters!$C$23)+'Sensitivty analysis-'!I38*Parameters!$C$17+'Sensitivty analysis-'!H38*(1-Parameters!$C$21)*(1-Parameters!$C$23) -> 1124.7475 | T38: =S38+J38*A38*(1-Parameters!$C$25) -> 1751.9093 | U38: =O38*Parameters!$C$27+'Sensitivty analysis-'!J38*A38*Parameters!$C$26 -> 3635.3673 | V38: ='Sensitivty analysis-'!O38*(Parameters!$C$28-Parameters!$C$27) -> 2447.3611 | W38: =J38*Parameters!$C$29 -> 3.1610977e+08 | X38: =W38/1000000 -> 316.10977 | Y38: =Y37-0.044 -> 0.176 | Z38: =Z37-0.006 -> 0.024
A39: =A38+0.05 -> 0.85 | C39: ='Waste plastic data in 2019'!$B$11*$A$2 -> 229.7169 | D39: ='Waste plastic data in 2019'!$B$11*Parameters!$C$4 -> 194.9661 | E39: ='Waste plastic data in 2019'!$B$9*Parameters!$C$8+Parameters!$C$11*'Waste plastic data in 2019'!$B$10 -> 206.74 | F39: ='Waste plastic data in 2019'!$B$11*$B$2+'Waste plastic data in 2019'!$B$9*$B$9+$B$16*'Waste plastic data in 2019'!$B$10 -> 1604.212 | G39: =F39*Parameters!$C$12+'Sensitivty analysis-'!C39*(1-$A$23)+'Waste plastic data in 2019'!$B$9*$A$9+$A$16*'Waste plastic data in 2019'!$B$10 -> 1624.0793 | H39: =G39*$A$30 -> 1023.17 | I39: =G39*(1-$A$30) -> 600.90934 | J39: =F39*Parameters!$C$14+'Sensitivty analysis-'!I39*Parameters!$C$18 -> 1053.6992 | K39: =J39*Z39 -> 18.966586 | L39: =J39*Y39 -> 139.0883 | M39: =L39*Parameters!$C$23 -> 136.30653 | N39: =C39*$A$23 -> 114.85845 | O39: =H39*Parameters!$C$21 -> 838.99936 | P39: =M39+H39*(1-Parameters!$C$21)*Parameters!$C$23 -> 316.79371 | Q39: =J39*A39*Parameters!$C$25 -> 229.28495 | R39: =Q39*Parameters!$C$24*10000000 -> 1.0088538e+11 | S39: =F39*Parameters!$C$13+'Sensitivty analysis-'!K39+'Sensitivty analysis-'!L39*(1-Parameters!$C$23)+'Sensitivty analysis-'!I39*Parameters!$C$17+'Sensitivty analysis-'!H39*(1-Parameters!$C$21)*(1-Parameters!$C$23) -> 1117.498 | T39: =S39+J39*A39*(1-Parameters!$C$25) -> 1783.8574 | U39: =O39*Parameters!$C$27+'Sensitivty analysis-'!J39*A39*Parameters!$C$26 -> 3780.2509 | V39: ='Sensitivty analysis-'!O39*(Parameters!$C$28-Parameters!$C$27) -> 2447.3611 | W39: =J39*Parameters!$C$29 -> 3.1610977e+08 | X39: =W39/1000000 -> 316.10977 | Y39: =Y38-0.044 -> 0.132 | Z39: =Z38-0.006 -> 0.018
A40: =A39+0.05 -> 0.9 | C40: ='Waste plastic data in 2019'!$B$11*$A$2 -> 229.7169 | D40: ='Waste plastic data in 2019'!$B$11*Parameters!$C$4 -> 194.9661 | E40: ='Waste plastic data in 2019'!$B$9*Parameters!$C$8+Parameters!$C$11*'Waste plastic data in 2019'!$B$10 -> 206.74 | F40: ='Waste plastic data in 2019'!$B$11*$B$2+'Waste plastic data in 2019'!$B$9*$B$9+$B$16*'Waste plastic data in 2019'!$B$10 -> 1604.212 | G40: =F40*Parameters!$C$12+'Sensitivty analysis-'!C40*(1-$A$23)+'Waste plastic data in 2019'!$B$9*$A$9+$A$16*'Waste plastic data in 2019'!$B$10 -> 1624.0793 | H40: =G40*$A$30 -> 1023.17 | I40: =G40*(1-$A$30) -> 600.90934 | J40: =F40*Parameters!$C$14+'Sensitivty analysis-'!I40*Parameters!$C$18 -> 1053.6992 | K40: =J40*Z40 -> 12.644391 | L40: =J40*Y40 -> 92.725531 | M40: =L40*Parameters!$C$23 -> 90.871021 | N40: =C40*$A$23 -> 114.85845 | O40: =H40*Parameters!$C$21 -> 838.99936 | P40: =M40+H40*(1-Parameters!$C$21)*Parameters!$C$23 -> 271.3582 | Q40: =J40*A40*Parameters!$C$25 -> 242.7723 | R40: =Q40*Parameters!$C$24*10000000 -> 1.0681981e+11 | S40: =F40*Parameters!$C$13+'Sensitivty analysis-'!K40+'Sensitivty analysis-'!L40*(1-Parameters!$C$23)+'Sensitivty analysis-'!I40*Parameters!$C$17+'Sensitivty analysis-'!H40*(1-Parameters!$C$21)*(1-Parameters!$C$23) -> 1110.2486 | T40: =S40+J40*A40*(1-Parameters!$C$25) -> 1815.8056 | U40: =O40*Parameters!$C$27+'Sensitivty analysis-'!J40*A40*Parameters!$C$26 -> 3925.1346 | V40: ='Sensitivty analysis-'!O40*(Parameters!$C$28-Parameters!$C$27) -> 2447.3611 | W40: =J40*Parameters!$C$29 -> 3.1610977e+08 | X40: =W40/1000000 -> 316.10977 | Y40: =Y39-0.044 -> 0.088 | Z40: =Z39-0.006 -> 0.012
A41: =A40+0.05 -> 0.95 | C41: ='Waste plastic data in 2019'!$B$11*$A$2 -> 229.7169 | D41: ='Waste plastic data in 2019'!$B$11*Parameters!$C$4 -> 194.9661 | E41: ='Waste plastic data in 2019'!$B$9*Parameters!$C$8+Parameters!$C$11*'Waste plastic data in 2019'!$B$10 -> 206.74 | F41: ='Waste plastic data in 2019'!$B$11*$B$2+'Waste plastic data in 2019'!$B$9*$B$9+$B$16*'Waste plastic data in 2019'!$B$10 -> 1604.212 | G41: =F41*Parameters!$C$12+'Sensitivty analysis-'!C41*(1-$A$23)+'Waste plastic data in 2019'!$B$9*$A$9+$A$16*'Waste plastic data in 2019'!$B$10 -> 1624.0793 | H41: =G41*$A$30 -> 1023.17 | I41: =G41*(1-$A$30) -> 600.90934 | J41: =F41*Parameters!$C$14+'Sensitivty analysis-'!I41*Parameters!$C$18 -> 1053.6992 | K41: =J41*Z41 -> 6.3221953 | L41: =J41*Y41 -> 46.362766 | M41: =L41*Parameters!$C$23 -> 45.43551 | N41: =C41*$A$23 -> 114.85845 | O41: =H41*Parameters!$C$21 -> 838.99936 | P41: =M41+H41*(1-Parameters!$C$21)*Parameters!$C$23 -> 225.92269 | Q41: =J41*A41*Parameters!$C$25 -> 256.25965 | R41: =Q41*Parameters!$C$24*10000000 -> 1.1275425e+11 | S41: =F41*Parameters!$C$13+'Sensitivty analysis-'!K41+'Sensitivty analysis-'!L41*(1-Parameters!$C$23)+'Sensitivty analysis-'!I41*Parameters!$C$17+'Sensitivty analysis-'!H41*(1-Parameters!$C$21)*(1-Parameters!$C$23) -> 1102.9991 | T41: =S41+J41*A41*(1-Parameters!$C$25) -> 1847.7537 | U41: =O41*Parameters!$C$27+'Sensitivty analysis-'!J41*A41*Parameters!$C$26 -> 4070.0182 | V41: ='Sensitivty analysis-'!O41*(Parameters!$C$28-Parameters!$C$27) -> 2447.3611 | W41: =J41*Parameters!$C$29 -> 3.1610977e+08 | X41: =W41/1000000 -> 316.10977 | Y41: =Y40-0.044 -> 0.044 | Z41: =Z40-0.006 -> 0.006
A42: =A41+0.05 -> 1 | C42: ='Waste plastic data in 2019'!$B$11*$A$2 -> 229.7169 | D42: ='Waste plastic data in 2019'!$B$11*Parameters!$C$4 -> 194.9661 | E42: ='Waste plastic data in 2019'!$B$9*Parameters!$C$8+Parameters!$C$11*'Waste plastic data in 2019'!$B$10 -> 206.74 | F42: ='Waste plastic data in 2019'!$B$11*$B$2+'Waste plastic data in 2019'!$B$9*$B$9+$B$16*'Waste plastic data in 2019'!$B$10 -> 1604.212 | G42: =F42*Parameters!$C$12+'Sensitivty analysis-'!C42*(1-$A$23)+'Waste plastic data in 2019'!$B$9*$A$9+$A$16*'Waste plastic data in 2019'!$B$10 -> 1624.0793 | H42: =G42*$A$30 -> 1023.17 | I42: =G42*(1-$A$30) -> 600.90934 | J42: =F42*Parameters!$C$14+'Sensitivty analysis-'!I42*Parameters!$C$18 -> 1053.6992 | K42: =J42*Z42 -> 0 | L42: =J42*Y42 -> 0 | M42: =L42*Parameters!$C$23 -> 0 | N42: =C42*$A$23 -> 114.85845 | O42: =H42*Parameters!$C$21 -> 838.99936 | P42: =M42+H42*(1-Parameters!$C$21)*Parameters!$C$23 -> 180.48718 | Q42: =J42*A42*Parameters!$C$25 -> 269.747 | R42: =Q42*Parameters!$C$24*10000000 -> 1.1868868e+11 | S42: =F42*Parameters!$C$13+'Sensitivty analysis-'!K42+'Sensitivty analysis-'!L42*(1-Parameters!$C$23)+'Sensitivty analysis-'!I42*Parameters!$C$17+'Sensitivty analysis-'!H42*(1-Parameters!$C$21)*(1-Parameters!$C$23) -> 1095.7497 | T42: =S42+J42*A42*(1-Parameters!$C$25) -> 1879.7019 | U42: =O42*Parameters!$C$27+'Sensitivty analysis-'!J42*A42*Parameters!$C$26 -> 4214.9019 | V42: ='Sensitivty analysis-'!O42*(Parameters!$C$28-Parameters!$C$27) -> 2447.3611 | W42: =J42*Parameters!$C$29 -> 3.1610977e+08 | X42: =W42/1000000 -> 316.10977 | Y42: =Y41-0.044 -> 0 | Z42: =Z41-0.006 -> 0
C43: Refurbushment | D43: Transfer or Idle | E43: Reuse | F43: Sorting | G43: Waste plastics markrt | H43: Recycling plant | I43: Mixed waste | J43: Incineration | K43: Fly ASH | L43: BOTTLE ASH | M43: Building filler | N43: Reused products | O43: High-end applications | P43: Low-end applications | Q43: Energy | R43: Energy(MJ) | S43: Landfill | T43: LOST | U43: CE | V43: CR | W43: DE(ug) | X43: DE(g)
A44: 0.82 | C44: ='Waste plastic data in 2019'!$B$11*$A$2 -> 229.7169 | D44: ='Waste plastic data in 2019'!$B$11*Parameters!$C$4 -> 194.9661 | E44: ='Waste plastic data in 2019'!$B$9*Parameters!$C$8+Parameters!$C$11*'Waste plastic data in 2019'!$B$10 -> 206.74 | F44: ='Waste plastic data in 2019'!$B$11*$B$2+'Waste plastic data in 2019'!$B$9*$B$9+$B$16*'Waste plastic data in 2019'!$B$10 -> 1604.212 | G44: =F44*Parameters!$C$12+'Sensitivty analysis-'!C44*(1-$A$23)+'Waste plastic data in 2019'!$B$9*$A$9+$A$16*'Waste plastic data in 2019'!$B$10 -> 1624.0793 | H44: =G44*$A$30 -> 1023.17 | I44: =G44*(1-$A$30) -> 600.90934 | J44: =F44*Parameters!$C$14+'Sensitivty analysis-'!I44*Parameters!$C$18 -> 1053.6992 | K44: =J44*$Z$37 -> 31.610977 | L44: =J44*$Y$37 -> 231.81383 | M44: =L44*Parameters!$C$23 -> 227.17755 | N44: =C44*$A$23 -> 114.85845 | O44: =H44*A44 -> 838.99936 | P44: =M44+H44*(1-A44)*Parameters!$C$23 -> 407.66473 | Q44: =J44*$A$37*Parameters!$C$25 -> 202.31025 | R44: =Q44*Parameters!$C$24*10000000 -> 8.901651e+10 | S44: =F44*Parameters!$C$13+'Sensitivty analysis-'!K44+'Sensitivty analysis-'!L44*(1-Parameters!$C$23)+'Sensitivty analysis-'!I44*Parameters!$C$17+'Sensitivty analysis-'!H44*(1-A44)*(1-Parameters!$C$23) -> 1131.9969 | T44: =S44+J44*$A$37*(1-Parameters!$C$25) -> 1719.9611 | U44: =O44*Parameters!$C$27+'Sensitivty analysis-'!J44*Parameters!$C$22*Parameters!$C$26 -> 3490.4836 | V44: ='Sensitivty analysis-'!O44*(Parameters!$C$28-Parameters!$C$27) -> 2447.3611 | W44: =J44*Parameters!$C$29 -> 3.1610977e+08 | X44: =W44/1000000 -> 316.10977
A45: =A44+0.005 -> 0.825 | C45: ='Waste plastic data in 2019'!$B$11*$A$2 -> 229.7169 | D45: ='Waste plastic data in 2019'!$B$11*Parameters!$C$4 -> 194.9661 | E45: ='Waste plastic data in 2019'!$B$9*Parameters!$C$8+Parameters!$C$11*'Waste plastic data in 2019'!$B$10 -> 206.74 | F45: ='Waste plastic data in 2019'!$B$11*$B$2+'Waste plastic data in 2019'!$B$9*$B$9+$B$16*'Waste plastic data in 2019'!$B$10 -> 1604.212 | G45: =F45*Parameters!$C$12+'Sensitivty analysis-'!C45*(1-$A$23)+'Waste plastic data in 2019'!$B$9*$A$9+$A$16*'Waste plastic data in 2019'!$B$10 -> 1624.0793 | H45: =G45*$A$30 -> 1023.17 | I45: =G45*(1-$A$30) -> 600.90934 | J45: =F45*Parameters!$C$14+'Sensitivty analysis-'!I45*Parameters!$C$18 -> 1053.6992 | K45: =J45*$Z$37 -> 31.610977 | L45: =J45*$Y$37 -> 231.81383 | M45: =L45*Parameters!$C$23 -> 227.17755 | N45: =C45*$A$23 -> 114.85845 | O45: =H45*A45 -> 844.11521 | P45: =M45+H45*(1-A45)*Parameters!$C$23 -> 402.6512 | Q45: =J45*$A$37*Parameters!$C$25 -> 202.31025 | R45: =Q45*Parameters!$C$24*10000000 -> 8.901651e+10 | S45: =F45*Parameters!$C$13+'Sensitivty analysis-'!K45+'Sensitivty analysis-'!L45*(1-Parameters!$C$23)+'Sensitivty analysis-'!I45*Parameters!$C$17+'Sensitivty analysis-'!H45*(1-A45)*(1-Parameters!$C$23) -> 1131.8946 | T45: =S45+J45*$A$37*(1-Parameters!$C$25) -> 1719.8588 | U45: =O45*Parameters!$C$27+'Sensitivty analysis-'!J45*Parameters!$C$22*Parameters!$C$26 -> 3498.5155 | V45: ='Sensitivty analysis-'!O45*(Parameters!$C$28-Parameters!$C$27) -> 2462.2841 | W45: =J45*Parameters!$C$29 -> 3.1610977e+08 | X45: =W45/1000000 -> 316.10977
A46: =A45+0.005 -> 0.83 | C46: ='Waste plastic data in 2019'!$B$11*$A$2 -> 229.7169 | D46: ='Waste plastic data in 2019'!$B$11*Parameters!$C$4 -> 194.9661 | E46: ='Waste plastic data in 2019'!$B$9*Parameters!$C$8+Parameters!$C$11*'Waste plastic data in 2019'!$B$10 -> 206.74 | F46: ='Waste plastic data in 2019'!$B$11*$B$2+'Waste plastic data in 2019'!$B$9*$B$9+$B$16*'Waste plastic data in 2019'!$B$10 -> 1604.212 | G46: =F46*Parameters!$C$12+'Sensitivty analysis-'!C46*(1-$A$23)+'Waste plastic data in 2019'!$B$9*$A$9+$A$16*'Waste plastic data in 2019'!$B$10 -> 1624.0793 | H46: =G46*$A$30 -> 1023.17 | I46: =G46*(1-$A$30) -> 600.90934 | J46: =F46*Parameters!$C$14+'Sensitivty analysis-'!I46*Parameters!$C$18 -> 1053.6992 | K46: =J46*$Z$37 -> 31.610977 | L46: =J46*$Y$37 -> 231.81383 | M46: =L46*Parameters!$C$23 -> 227.17755 | N46: =C46*$A$23 -> 114.85845 | O46: =H46*A46 -> 849.23106 | P46: =M46+H46*(1-A46)*Parameters!$C$23 -> 397.63767 | Q46: =J46*$A$37*Parameters!$C$25 -> 202.31025 | R46: =Q46*Parameters!$C$24*10000000 -> 8.901651e+10 | S46: =F46*Parameters!$C$13+'Sensitivty analysis-'!K46+'Sensitivty analysis-'!L46*(1-Parameters!$C$23)+'Sensitivty analysis-'!I46*Parameters!$C$17+'Sensitivty analysis-'!H46*(1-A46)*(1-Parameters!$C$23) -> 1131.7923 | T46: =S46+J46*$A$37*(1-Parameters!$C$25) -> 1719.7565 | U46: =O46*Parameters!$C$27+'Sensitivty analysis-'!J46*Parameters!$C$22*Parameters!$C$26 -> 3506.5474 | V46: ='Sensitivty analysis-'!O46*(Parameters!$C$28-Parameters!$C$27) -> 2477.207 | W46: =J46*Parameters!$C$29 -> 3.1610977e+08 | X46: =W46/1000000 -> 316.10977
A47: =A46+0.005 -> 0.835 | C47: ='Waste plastic data in 2019'!$B$11*$A$2 -> 229.7169 | D47: ='Waste plastic data in 2019'!$B$11*Parameters!$C$4 -> 194.9661 | E47: ='Waste plastic data in 2019'!$B$9*Parameters!$C$8+Parameters!$C$11*'Waste plastic data in 2019'!$B$10 -> 206.74 | F47: ='Waste plastic data in 2019'!$B$11*$B$2+'Waste plastic data in 2019'!$B$9*$B$9+$B$16*'Waste plastic data in 2019'!$B$10 -> 1604.212 | G47: =F47*Parameters!$C$12+'Sensitivty analysis-'!C47*(1-$A$23)+'Waste plastic data in 2019'!$B$9*$A$9+$A$16*'Waste plastic data in 2019'!$B$10 -> 1624.0793 | H47: =G47*$A$30 -> 1023.17 | I47: =G47*(1-$A$30) -> 600.90934 | J47: =F47*Parameters!$C$14+'Sensitivty analysis-'!I47*Parameters!$C$18 -> 1053.6992 | K47: =J47*$Z$37 -> 31.610977 | L47: =J47*$Y$37 -> 231.81383 | M47: =L47*Parameters!$C$23 -> 227.17755 | N47: =C47*$A$23 -> 114.85845 | O47: =H47*A47 -> 854.34691 | P47: =M47+H47*(1-A47)*Parameters!$C$23 -> 392.62413 | Q47: =J47*$A$37*Parameters!$C$25 -> 202.31025 | R47: =Q47*Parameters!$C$24*10000000 -> 8.901651e+10 | S47: =F47*Parameters!$C$13+'Sensitivty analysis-'!K47+'Sensitivty analysis-'!L47*(1-Parameters!$C$23)+'Sensitivty analysis-'!I47*Parameters!$C$17+'Sensitivty analysis-'!H47*(1-A47)*(1-Parameters!$C$23) -> 1131.69 | T47: =S47+J47*$A$37*(1-Parameters!$C$25) -> 1719.6542 | U47: =O47*Parameters!$C$27+'Sensitivty analysis-'!J47*Parameters!$C$22*Parameters!$C$26 -> 3514.5793 | V47: ='Sensitivty analysis-'!O47*(Parameters!$C$28-Parameters!$C$27) -> 2492.1299 | W47: =J47*Parameters!$C$29 -> 3.1610977e+08 | X47: =W47/1000000 -> 316.10977
A48: =A47+0.005 -> 0.84 | C48: ='Waste plastic data in 2019'!$B$11*$A$2 -> 229.7169 | D48: ='Waste plastic data in 2019'!$B$11*Parameters!$C$4 -> 194.9661 | E48: ='Waste plastic data in 2019'!$B$9*Parameters!$C$8+Parameters!$C$11*'Waste plastic data in 2019'!$B$10 -> 206.74 | F48: ='Waste plastic data in 2019'!$B$11*$B$2+'Waste plastic data in 2019'!$B$9*$B$9+$B$16*'Waste plastic data in 2019'!$B$10 -> 1604.212 | G48: =F48*Parameters!$C$12+'Sensitivty analysis-'!C48*(1-$A$23)+'Waste plastic data in 2019'!$B$9*$A$9+$A$16*'Waste plastic data in 2019'!$B$10 -> 1624.0793 | H48: =G48*$A$30 -> 1023.17 | I48: =G48*(1-$A$30) -> 600.90934 | J48: =F48*Parameters!$C$14+'Sensitivty analysis-'!I48*Parameters!$C$18 -> 1053.6992 | K48: =J48*$Z$37 -> 31.610977 | L48: =J48*$Y$37 -> 231.81383 | M48: =L48*Parameters!$C$23 -> 227.17755 | N48: =C48*$A$23 -> 114.85845 | O48: =H48*A48 -> 859.46276 | P48: =M48+H48*(1-A48)*Parameters!$C$23 -> 387.6106 | Q48: =J48*$A$37*Parameters!$C$25 -> 202.31025 | R48: =Q48*Parameters!$C$24*10000000 -> 8.901651e+10 | S48: =F48*Parameters!$C$13+'Sensitivty analysis-'!K48+'Sensitivty analysis-'!L48*(1-Parameters!$C$23)+'Sensitivty analysis-'!I48*Parameters!$C$17+'Sensitivty analysis-'!H48*(1-A48)*(1-Parameters!$C$23) -> 1131.5877 | T48: =S48+J48*$A$37*(1-Parameters!$C$25) -> 1719.5518 | U48: =O48*Parameters!$C$27+'Sensitivty analysis-'!J48*Parameters!$C$22*Parameters!$C$26 -> 3522.6112 | V48: ='Sensitivty analysis-'!O48*(Parameters!$C$28-Parameters!$C$27) -> 2507.0529 | W48: =J48*Parameters!$C$29 -> 3.1610977e+08 | X48: =W48/1000000 -> 316.10977
A49: =A48+0.005 -> 0.845 | C49: ='Waste plastic data in 2019'!$B$11*$A$2 -> 229.7169 | D49: ='Waste plastic data in 2019'!$B$11*Parameters!$C$4 -> 194.9661 | E49: ='Waste plastic data in 2019'!$B$9*Parameters!$C$8+Parameters!$C$11*'Waste plastic data in 2019'!$B$10 -> 206.74 | F49: ='Waste plastic data in 2019'!$B$11*$B$2+'Waste plastic data in 2019'!$B$9*$B$9+$B$16*'Waste plastic data in 2019'!$B$10 -> 1604.212 | G49: =F49*Parameters!$C$12+'Sensitivty analysis-'!C49*(1-$A$23)+'Waste plastic data in 2019'!$B$9*$A$9+$A$16*'Waste plastic data in 2019'!$B$10 -> 1624.0793 | H49: =G49*$A$30 -> 1023.17 | I49: =G49*(1-$A$30) -> 600.90934 | J49: =F49*Parameters!$C$14+'Sensitivty analysis-'!I49*Parameters!$C$18 -> 1053.6992 | K49: =J49*$Z$37 -> 31.610977 | L49: =J49*$Y$37 -> 231.81383 | M49: =L49*Parameters!$C$23 -> 227.17755 | N49: =C49*$A$23 -> 114.85845 | O49: =H49*A49 -> 864.57861 | P49: =M49+H49*(1-A49)*Parameters!$C$23 -> 382.59707 | Q49: =J49*$A$37*Parameters!$C$25 -> 202.31025 | R49: =Q49*Parameters!$C$24*10000000 -> 8.901651e+10 | S49: =F49*Parameters!$C$13+'Sensitivty analysis-'!K49+'Sensitivty analysis-'!L49*(1-Parameters!$C$23)+'Sensitivty analysis-'!I49*Parameters!$C$17+'Sensitivty analysis-'!H49*(1-A49)*(1-Parameters!$C$23) -> 1131.4854 | T49: =S49+J49*$A$37*(1-Parameters!$C$25) -> 1719.4495 | U49: =O49*Parameters!$C$27+'Sensitivty analysis-'!J49*Parameters!$C$22*Parameters!$C$26 -> 3530.6431 | V49: ='Sensitivty analysis-'!O49*(Parameters!$C$28-Parameters!$C$27) -> 2521.9758 | W49: =J49*Parameters!$C$29 -> 3.1610977e+08 | X49: =W49/1000000 -> 316.10977
C50: Refurbushment | D50: Transfer or Idle | E50: Reuse | F50: Sorting | G50: Waste plastics markrt | H50: Recycling plant | I50: Mixed waste | J50: Incineration | K50: Fly ASH | L50: BOTTLE ASH | M50: Building filler | N50: Reused products | O50: High-end applications | P50: Low-end applications | Q50: Energy | R50: Energy(MJ) | S50: Landfill | T50: LOST | U50: CE | V50: CR | W50: DE(ug) | X50: DE(g)
A51: 0.256 | C51: ='Waste plastic data in 2019'!$B$11*$A$2 -> 229.7169 | D51: ='Waste plastic data in 2019'!$B$11*Parameters!$C$4 -> 194.9661 | E51: ='Waste plastic data in 2019'!$B$9*Parameters!$C$8+Parameters!$C$11*'Waste plastic data in 2019'!$B$10 -> 206.74 | F51: ='Waste plastic data in 2019'!$B$11*$B$2+'Waste plastic data in 2019'!$B$9*$B$9+$B$16*'Waste plastic data in 2019'!$B$10 -> 1604.212 | G51: =F51*Parameters!$C$12+'Sensitivty analysis-'!C51*(1-$A$23)+'Waste plastic data in 2019'!$B$9*$A$9+$A$16*'Waste plastic data in 2019'!$B$10 -> 1624.0793 | H51: =G51*$A$30 -> 1023.17 | I51: =G51*(1-$A$30) -> 600.90934 | J51: =F51*Parameters!$C$14+'Sensitivty analysis-'!I51*Parameters!$C$18 -> 1053.6992 | K51: =J51*$Z$37 -> 31.610977 | L51: =J51*$Y$37 -> 231.81383 | M51: =L51*Parameters!$C$23 -> 227.17755 | N51: =C51*$A$23 -> 114.85845 | O51: =H51*$A$44 -> 838.99936 | P51: =M51+H51*(1-$A$44)*Parameters!$C$23 -> 407.66473 | Q51: =J51*$A$37*A51 -> 202.31025 | R51: =Q51*Parameters!$C$24*10000000 -> 8.901651e+10 | S51: =F51*Parameters!$C$13+'Sensitivty analysis-'!K51+'Sensitivty analysis-'!L51*(1-Parameters!$C$23)+'Sensitivty analysis-'!I51*Parameters!$C$17+'Sensitivty analysis-'!H51*(1-$A$44)*(1-Parameters!$C$23) -> 1131.9969 | T51: =S51+J51*$A$37*(1-A51) -> 1719.9611 | U51: =O51*Parameters!$C$27+'Sensitivty analysis-'!J51*Parameters!$C$22*Parameters!$C$26 -> 3490.4836 | V51: ='Sensitivty analysis-'!O51*(Parameters!$C$28-Parameters!$C$27) -> 2447.3611 | W51: =J51*Parameters!$C$29 -> 3.1610977e+08 | X51: =W51/1000000 -> 316.10977
A52: =A51+0.05 -> 0.306 | C52: ='Waste plastic data in 2019'!$B$11*$A$2 -> 229.7169 | D52: ='Waste plastic data in 2019'!$B$11*Parameters!$C$4 -> 194.9661 | E52: ='Waste plastic data in 2019'!$B$9*Parameters!$C$8+Parameters!$C$11*'Waste plastic data in 2019'!$B$10 -> 206.74 | F52: ='Waste plastic data in 2019'!$B$11*$B$2+'Waste plastic data in 2019'!$B$9*$B$9+$B$16*'Waste plastic data in 2019'!$B$10 -> 1604.212 | G52: =F52*Parameters!$C$12+'Sensitivty analysis-'!C52*(1-$A$23)+'Waste plastic data in 2019'!$B$9*$A$9+$A$16*'Waste plastic data in 2019'!$B$10 -> 1624.0793 | H52: =G52*$A$30 -> 1023.17 | I52: =G52*(1-$A$30) -> 600.90934 | J52: =F52*Parameters!$C$14+'Sensitivty analysis-'!I52*Parameters!$C$18 -> 1053.6992 | K52: =J52*$Z$37 -> 31.610977 | L52: =J52*$Y$37 -> 231.81383 | M52: =L52*Parameters!$C$23 -> 227.17755 | N52: =C52*$A$23 -> 114.85845 | O52: =H52*$A$44 -> 838.99936 | P52: =M52+H52*(1-$A$44)*Parameters!$C$23 -> 407.66473 | Q52: =J52*$A$37*A52 -> 241.82397 | R52: =Q52*Parameters!$C$24*10000000 -> 1.0640255e+11 | S52: =F52*Parameters!$C$13+'Sensitivty analysis-'!K52+'Sensitivty analysis-'!L52*(1-Parameters!$C$23)+'Sensitivty analysis-'!I52*Parameters!$C$17+'Sensitivty analysis-'!H52*(1-$A$44)*(1-Parameters!$C$23) -> 1131.9969 | T52: =S52+J52*$A$37*(1-A52) -> 1680.4474 | U52: =O52*Parameters!$C$27+'Sensitivty analysis-'!J52*Parameters!$C$22*Parameters!$C$26 -> 3490.4836 | V52: ='Sensitivty analysis-'!O52*(Parameters!$C$28-Parameters!$C$27) -> 2447.3611 | W52: =J52*Parameters!$C$29 -> 3.1610977e+08 | X52: =W52/1000000 -> 316.10977
A53: =A52+0.05 -> 0.356 | C53: ='Waste plastic data in 2019'!$B$11*$A$2 -> 229.7169 | D53: ='Waste plastic data in 2019'!$B$11*Parameters!$C$4 -> 194.9661 | E53: ='Waste plastic data in 2019'!$B$9*Parameters!$C$8+Parameters!$C$11*'Waste plastic data in 2019'!$B$10 -> 206.74 | F53: ='Waste plastic data in 2019'!$B$11*$B$2+'Waste plastic data in 2019'!$B$9*$B$9+$B$16*'Waste plastic data in 2019'!$B$10 -> 1604.212 | G53: =F53*Parameters!$C$12+'Sensitivty analysis-'!C53*(1-$A$23)+'Waste plastic data in 2019'!$B$9*$A$9+$A$16*'Waste plastic data in 2019'!$B$10 -> 1624.0793 | H53: =G53*$A$30 -> 1023.17 | I53: =G53*(1-$A$30) -> 600.90934 | J53: =F53*Parameters!$C$14+'Sensitivty analysis-'!I53*Parameters!$C$18 -> 1053.6992 | K53: =J53*$Z$37 -> 31.610977 | L53: =J53*$Y$37 -> 231.81383 | M53: =L53*Parameters!$C$23 -> 227.17755 | N53: =C53*$A$23 -> 114.85845 | O53: =H53*$A$44 -> 838.99936 | P53: =M53+H53*(1-$A$44)*Parameters!$C$23 -> 407.66473 | Q53: =J53*$A$37*A53 -> 281.33769 | R53: =Q53*Parameters!$C$24*10000000 -> 1.2378858e+11 | S53: =F53*Parameters!$C$13+'Sensitivty analysis-'!K53+'Sensitivty analysis-'!L53*(1-Parameters!$C$23)+'Sensitivty analysis-'!I53*Parameters!$C$17+'Sensitivty analysis-'!H53*(1-$A$44)*(1-Parameters!$C$23) -> 1131.9969 | T53: =S53+J53*$A$37*(1-A53) -> 1640.9337 | U53: =O53*Parameters!$C$27+'Sensitivty analysis-'!J53*Parameters!$C$22*Parameters!$C$26 -> 3490.4836 | V53: ='Sensitivty analysis-'!O53*(Parameters!$C$28-Parameters!$C$27) -> 2447.3611 | W53: =J53*Parameters!$C$29 -> 3.1610977e+08 | X53: =W53/1000000 -> 316.10977
A54: =A53+0.05 -> 0.406 | C54: ='Waste plastic data in 2019'!$B$11*$A$2 -> 229.7169 | D54: ='Waste plastic data in 2019'!$B$11*Parameters!$C$4 -> 194.9661 | E54: ='Waste plastic data in 2019'!$B$9*Parameters!$C$8+Parameters!$C$11*'Waste plastic data in 2019'!$B$10 -> 206.74 | F54: ='Waste plastic data in 2019'!$B$11*$B$2+'Waste plastic data in 2019'!$B$9*$B$9+$B$16*'Waste plastic data in 2019'!$B$10 -> 1604.212 | G54: =F54*Parameters!$C$12+'Sensitivty analysis-'!C54*(1-$A$23)+'Waste plastic data in 2019'!$B$9*$A$9+$A$16*'Waste plastic data in 2019'!$B$10 -> 1624.0793 | H54: =G54*$A$30 -> 1023.17 | I54: =G54*(1-$A$30) -> 600.90934 | J54: =F54*Parameters!$C$14+'Sensitivty analysis-'!I54*Parameters!$C$18 -> 1053.6992 | K54: =J54*$Z$37 -> 31.610977 | L54: =J54*$Y$37 -> 231.81383 | M54: =L54*Parameters!$C$23 -> 227.17755 | N54: =C54*$A$23 -> 114.85845 | O54: =H54*$A$44 -> 838.99936 | P54: =M54+H54*(1-$A$44)*Parameters!$C$23 -> 407.66473 | Q54: =J54*$A$37*A54 -> 320.85141 | R54: =Q54*Parameters!$C$24*10000000 -> 1.4117462e+11 | S54: =F54*Parameters!$C$13+'Sensitivty analysis-'!K54+'Sensitivty analysis-'!L54*(1-Parameters!$C$23)+'Sensitivty analysis-'!I54*Parameters!$C$17+'Sensitivty analysis-'!H54*(1-$A$44)*(1-Parameters!$C$23) -> 1131.9969 | T54: =S54+J54*$A$37*(1-A54) -> 1601.4199 | U54: =O54*Parameters!$C$27+'Sensitivty analysis-'!J54*Parameters!$C$22*Parameters!$C$26 -> 3490.4836 | V54: ='Sensitivty analysis-'!O54*(Parameters!$C$28-Parameters!$C$27) -> 2447.3611 | W54: =J54*Parameters!$C$29 -> 3.1610977e+08 | X54: =W54/1000000 -> 316.10977
A55: =A54+0.05 -> 0.456 | C55: ='Waste plastic data in 2019'!$B$11*$A$2 -> 229.7169 | D55: ='Waste plastic data in 2019'!$B$11*Parameters!$C$4 -> 194.9661 | E55: ='Waste plastic data in 2019'!$B$9*Parameters!$C$8+Parameters!$C$11*'Waste plastic data in 2019'!$B$10 -> 206.74 | F55: ='Waste plastic data in 2019'!$B$11*$B$2+'Waste plastic data in 2019'!$B$9*$B$9+$B$16*'Waste plastic data in 2019'!$B$10 -> 1604.212 | G55: =F55*Parameters!$C$12+'Sensitivty analysis-'!C55*(1-$A$23)+'Waste plastic data in 2019'!$B$9*$A$9+$A$16*'Waste plastic data in 2019'!$B$10 -> 1624.0793 | H55: =G55*$A$30 -> 1023.17 | I55: =G55*(1-$A$30) -> 600.90934 | J55: =F55*Parameters!$C$14+'Sensitivty analysis-'!I55*Parameters!$C$18 -> 1053.6992 | K55: =J55*$Z$37 -> 31.610977 | L55: =J55*$Y$37 -> 231.81383 | M55: =L55*Parameters!$C$23 -> 227.17755 | N55: =C55*$A$23 -> 114.85845 | O55: =H55*$A$44 -> 838.99936 | P55: =M55+H55*(1-$A$44)*Parameters!$C$23 -> 407.66473 | Q55: =J55*$A$37*A55 -> 360.36513 | R55: =Q55*Parameters!$C$24*10000000 -> 1.5856066e+11 | S55: =F55*Parameters!$C$13+'Sensitivty analysis-'!K55+'Sensitivty analysis-'!L55*(1-Parameters!$C$23)+'Sensitivty analysis-'!I55*Parameters!$C$17+'Sensitivty analysis-'!H55*(1-$A$44)*(1-Parameters!$C$23) -> 1131.9969 | T55: =S55+J55*$A$37*(1-A55) -> 1561.9062 | U55: =O55*Parameters!$C$27+'Sensitivty analysis-'!J55*Parameters!$C$22*Parameters!$C$26 -> 3490.4836 | V55: ='Sensitivty analysis-'!O55*(Parameters!$C$28-Parameters!$C$27) -> 2447.3611 | W55: =J55*Parameters!$C$29 -> 3.1610977e+08 | X55: =W55/1000000 -> 316.10977
A56: =A55+0.05 -> 0.506 | C56: ='Waste plastic data in 2019'!$B$11*$A$2 -> 229.7169 | D56: ='Waste plastic data in 2019'!$B$11*Parameters!$C$4 -> 194.9661 | E56: ='Waste plastic data in 2019'!$B$9*Parameters!$C$8+Parameters!$C$11*'Waste plastic data in 2019'!$B$10 -> 206.74 | F56: ='Waste plastic data in 2019'!$B$11*$B$2+'Waste plastic data in 2019'!$B$9*$B$9+$B$16*'Waste plastic data in 2019'!$B$10 -> 1604.212 | G56: =F56*Parameters!$C$12+'Sensitivty analysis-'!C56*(1-$A$23)+'Waste plastic data in 2019'!$B$9*$A$9+$A$16*'Waste plastic data in 2019'!$B$10 -> 1624.0793 | H56: =G56*$A$30 -> 1023.17 | I56: =G56*(1-$A$30) -> 600.90934 | J56: =F56*Parameters!$C$14+'Sensitivty analysis-'!I56*Parameters!$C$18 -> 1053.6992 | K56: =J56*$Z$37 -> 31.610977 | L56: =J56*$Y$37 -> 231.81383 | M56: =L56*Parameters!$C$23 -> 227.17755 | N56: =C56*$A$23 -> 114.85845 | O56: =H56*$A$44 -> 838.99936 | P56: =M56+H56*(1-$A$44)*Parameters!$C$23 -> 407.66473 | Q56: =J56*$A$37*A56 -> 399.87885 | R56: =Q56*Parameters!$C$24*10000000 -> 1.759467e+11 | S56: =F56*Parameters!$C$13+'Sensitivty analysis-'!K56+'Sensitivty analysis-'!L56*(1-Parameters!$C$23)+'Sensitivty analysis-'!I56*Parameters!$C$17+'Sensitivty analysis-'!H56*(1-$A$44)*(1-Parameters!$C$23) -> 1131.9969 | T56: =S56+J56*$A$37*(1-A56) -> 1522.3925 | U56: =O56*Parameters!$C$27+'Sensitivty analysis-'!J56*Parameters!$C$22*Parameters!$C$26 -> 3490.4836 | V56: ='Sensitivty analysis-'!O56*(Parameters!$C$28-Parameters!$C$27) -> 2447.3611 | W56: =J56*Parameters!$C$29 -> 3.1610977e+08 | X56: =W56/1000000 -> 316.10977
C57: Refurbushment | D57: Transfer or Idle | E57: Reuse | F57: Sorting | G57: Waste plastics markrt | H57: Recycling plant | I57: Mixed waste | J57: Incineration | K57: Fly ASH | L57: BOTTLE ASH | M57: Building filler | N57: Reused products | O57: High-end applications | P57: Low-end applications | Q57: Energy | R57: Energy(MJ) | S57: Landfill | T57: LOST | U57: CE | V57: CR | W57: DE(ug) | X57: DE(g)
A58: 0.037 | C58: ='Waste plastic data in 2019'!$B$11*$A$2 -> 229.7169 | D58: ='Waste plastic data in 2019'!$B$11*Parameters!$C$4 -> 194.9661 | E58: ='Waste plastic data in 2019'!$B$9*Parameters!$C$8+Parameters!$C$11*'Waste plastic data in 2019'!$B$10 -> 206.74 | F58: ='Waste plastic data in 2019'!$B$11*$B$2+'Waste plastic data in 2019'!$B$9*$B$9+$B$16*'Waste plastic data in 2019'!$B$10 -> 1604.212 | G58: =F58*A58+'Sensitivty analysis-'!C58*(1-$A$23)+'Waste plastic data in 2019'!$B$9*$A$9+$A$16*'Waste plastic data in 2019'!$B$10 -> 1624.0793 | H58: =G58*$A$30 -> 1023.17 | I58: =G58*(1-$A$30) -> 600.90934 | J58: =F58*Z58+'Sensitivty analysis-'!I58*Parameters!$C$18 -> 1053.6992 | K58: =J58*$Z$37 -> 31.610977 | L58: =J58*$Y$37 -> 231.81383 | M58: =L58*Parameters!$C$23 -> 227.17755 | N58: =C58*$A$23 -> 114.85845 | O58: =H58*$A$44 -> 838.99936 | P58: =M58+H58*(1-$A$44)*Parameters!$C$23 -> 407.66473 | Q58: =J58*$A$37*$A$51 -> 202.31025 | R58: =Q58*Parameters!$C$24*10000000 -> 8.901651e+10 | S58: =F58*Y58+'Sensitivty analysis-'!K58+'Sensitivty analysis-'!L58*(1-Parameters!$C$23)+'Sensitivty analysis-'!I58*Parameters!$C$17+'Sensitivty analysis-'!H58*(1-$A$44)*(1-Parameters!$C$23) -> 1131.9969 | T58: =S58+J58*$A$37*(1-$A$51) -> 1719.9611 | U58: =O58*Parameters!$C$27+'Sensitivty analysis-'!J58*Parameters!$C$22*Parameters!$C$26 -> 3490.4836 | V58: ='Sensitivty analysis-'!O58*(Parameters!$C$28-Parameters!$C$27) -> 2447.3611 | W58: =J58*Parameters!$C$29 -> 3.1610977e+08 | X58: =W58/1000000 -> 316.10977 | Y58: 0.456 | Z58: 0.507
A59: =A58+0.05 -> 0.087 | C59: ='Waste plastic data in 2019'!$B$11*$A$2 -> 229.7169 | D59: ='Waste plastic data in 2019'!$B$11*Parameters!$C$4 -> 194.9661 | E59: ='Waste plastic data in 2019'!$B$9*Parameters!$C$8+Parameters!$C$11*'Waste plastic data in 2019'!$B$10 -> 206.74 | F59: ='Waste plastic data in 2019'!$B$11*$B$2+'Waste plastic data in 2019'!$B$9*$B$9+$B$16*'Waste plastic data in 2019'!$B$10 -> 1604.212 | G59: =F59*A59+'Sensitivty analysis-'!C59*(1-$A$23)+'Waste plastic data in 2019'!$B$9*$A$9+$A$16*'Waste plastic data in 2019'!$B$10 -> 1704.2899 | H59: =G59*$A$30 -> 1073.7026 | I59: =G59*(1-$A$30) -> 630.58726 | J59: =F59*Z59+'Sensitivty analysis-'!I59*Parameters!$C$18 -> 1065.5704 | K59: =J59*$Z$37 -> 31.967112 | L59: =J59*$Y$37 -> 234.42549 | M59: =L59*Parameters!$C$23 -> 229.73698 | N59: =C59*$A$23 -> 114.85845 | O59: =H59*$A$44 -> 880.43616 | P59: =M59+H59*(1-$A$44)*Parameters!$C$23 -> 419.13812 | Q59: =J59*$A$37*$A$51 -> 204.58951 | R59: =Q59*Parameters!$C$24*10000000 -> 9.0019386e+10 | S59: =F59*Y59+'Sensitivty analysis-'!K59+'Sensitivty analysis-'!L59*(1-Parameters!$C$23)+'Sensitivty analysis-'!I59*Parameters!$C$17+'Sensitivty analysis-'!H59*(1-$A$44)*(1-Parameters!$C$23) -> 1070.1834 | T59: =S59+J59*$A$37*(1-$A$51) -> 1664.7717 | U59: =O59*Parameters!$C$27+'Sensitivty analysis-'!J59*Parameters!$C$22*Parameters!$C$26 -> 3580.0237 | V59: ='Sensitivty analysis-'!O59*(Parameters!$C$28-Parameters!$C$27) -> 2568.2323 | W59: =J59*Parameters!$C$29 -> 3.1967112e+08 | X59: =W59/1000000 -> 319.67112 | Y59: =Y58-0.05 -> 0.406 | Z59: 0.507
A60: =A59+0.05 -> 0.137 | C60: ='Waste plastic data in 2019'!$B$11*$A$2 -> 229.7169 | D60: ='Waste plastic data in 2019'!$B$11*Parameters!$C$4 -> 194.9661 | E60: ='Waste plastic data in 2019'!$B$9*Parameters!$C$8+Parameters!$C$11*'Waste plastic data in 2019'!$B$10 -> 206.74 | F60: ='Waste plastic data in 2019'!$B$11*$B$2+'Waste plastic data in 2019'!$B$9*$B$9+$B$16*'Waste plastic data in 2019'!$B$10 -> 1604.212 | G60: =F60*A60+'Sensitivty analysis-'!C60*(1-$A$23)+'Waste plastic data in 2019'!$B$9*$A$9+$A$16*'Waste plastic data in 2019'!$B$10 -> 1784.5005 | H60: =G60*$A$30 -> 1124.2353 | I60: =G60*(1-$A$30) -> 660.26518 | J60: =F60*Z60+'Sensitivty analysis-'!I60*Parameters!$C$18 -> 1077.4416 | K60: =J60*$Z$37 -> 32.323247 | L60: =J60*$Y$37 -> 237.03714 | M60: =L60*Parameters!$C$23 -> 232.2964 | N60: =C60*$A$23 -> 114.85845 | O60: =H60*$A$44 -> 921.87296 | P60: =M60+H60*(1-$A$44)*Parameters!$C$23 -> 430.61151 | Q60: =J60*$A$37*$A$51 -> 206.86878 | R60: =Q60*Parameters!$C$24*10000000 -> 9.1022263e+10 | S60: =F60*Y60+'Sensitivty analysis-'!K60+'Sensitivty analysis-'!L60*(1-Parameters!$C$23)+'Sensitivty analysis-'!I60*Parameters!$C$17+'Sensitivty analysis-'!H60*(1-$A$44)*(1-Parameters!$C$23) -> 1008.3698 | T60: =S60+J60*$A$37*(1-$A$51) -> 1609.5822 | U60: =O60*Parameters!$C$27+'Sensitivty analysis-'!J60*Parameters!$C$22*Parameters!$C$26 -> 3669.5638 | V60: ='Sensitivty analysis-'!O60*(Parameters!$C$28-Parameters!$C$27) -> 2689.1034 | W60: =J60*Parameters!$C$29 -> 3.2323247e+08 | X60: =W60/1000000 -> 323.23247 | Y60: =Y59-0.05 -> 0.356 | Z60: 0.507
A61: =A60+0.05 -> 0.187 | C61: ='Waste plastic data in 2019'!$B$11*$A$2 -> 229.7169 | D61: ='Waste plastic data in 2019'!$B$11*Parameters!$C$4 -> 194.9661 | E61: ='Waste plastic data in 2019'!$B$9*Parameters!$C$8+Parameters!$C$11*'Waste plastic data in 2019'!$B$10 -> 206.74 | F61: ='Waste plastic data in 2019'!$B$11*$B$2+'Waste plastic data in 2019'!$B$9*$B$9+$B$16*'Waste plastic data in 2019'!$B$10 -> 1604.212 | G61: =F61*A61+'Sensitivty analysis-'!C61*(1-$A$23)+'Waste plastic data in 2019'!$B$9*$A$9+$A$16*'Waste plastic data in 2019'!$B$10 -> 1864.7111 | H61: =G61*$A$30 -> 1174.768 | I61: =G61*(1-$A$30) -> 689.9431 | J61: =F61*Z61+'Sensitivty analysis-'!I61*Parameters!$C$18 -> 1089.3127 | K61: =J61*$Z$37 -> 32.679382 | L61: =J61*$Y$37 -> 239.6488 | M61: =L61*Parameters!$C$23 -> 234.85582 | N61: =C61*$A$23 -> 114.85845 | O61: =H61*$A$44 -> 963.30975 | P61: =M61+H61*(1-$A$44)*Parameters!$C$23 -> 442.0849 | Q61: =J61*$A$37*$A$51 -> 209.14804 | R61: =Q61*Parameters!$C$24*10000000 -> 9.2025139e+10 | S61: =F61*Y61+'Sensitivty analysis-'!K61+'Sensitivty analysis-'!L61*(1-Parameters!$C$23)+'Sensitivty analysis-'!I61*Parameters!$C$17+'Sensitivty analysis-'!H61*(1-$A$44)*(1-Parameters!$C$23) -> 946.55626 | T61: =S61+J61*$A$37*(1-$A$51) -> 1554.3928 | U61: =O61*Parameters!$C$27+'Sensitivty analysis-'!J61*Parameters!$C$22*Parameters!$C$26 -> 3759.1038 | V61: ='Sensitivty analysis-'!O61*(Parameters!$C$28-Parameters!$C$27) -> 2809.9745 | W61: =J61*Parameters!$C$29 -> 3.2679382e+08 | X61: =W61/1000000 -> 326.79382 | Y61: =Y60-0.05 -> 0.306 | Z61: 0.507
A62: =A61+0.05 -> 0.237 | C62: ='Waste plastic data in 2019'!$B$11*$A$2 -> 229.7169 | D62: ='Waste plastic data in 2019'!$B$11*Parameters!$C$4 -> 194.9661 | E62: ='Waste plastic data in 2019'!$B$9*Parameters!$C$8+Parameters!$C$11*'Waste plastic data in 2019'!$B$10 -> 206.74 | F62: ='Waste plastic data in 2019'!$B$11*$B$2+'Waste plastic data in 2019'!$B$9*$B$9+$B$16*'Waste plastic data in 2019'!$B$10 -> 1604.212 | G62: =F62*A62+'Sensitivty analysis-'!C62*(1-$A$23)+'Waste plastic data in 2019'!$B$9*$A$9+$A$16*'Waste plastic data in 2019'!$B$10 -> 1944.9217 | H62: =G62*$A$30 -> 1225.3007 | I62: =G62*(1-$A$30) -> 719.62103 | J62: =F62*Z62+'Sensitivty analysis-'!I62*Parameters!$C$18 -> 1101.1839 | K62: =J62*$Z$37 -> 33.035517 | L62: =J62*$Y$37 -> 242.26046 | M62: =L62*Parameters!$C$23 -> 237.41525 | N62: =C62*$A$23 -> 114.85845 | O62: =H62*$A$44 -> 1004.7465 | P62: =M62+H62*(1-$A$44)*Parameters!$C$23 -> 453.55829 | Q62: =J62*$A$37*$A$51 -> 211.42731 | R62: =Q62*Parameters!$C$24*10000000 -> 9.3028015e+10 | S62: =F62*Y62+'Sensitivty analysis-'!K62+'Sensitivty analysis-'!L62*(1-Parameters!$C$23)+'Sensitivty analysis-'!I62*Parameters!$C$17+'Sensitivty analysis-'!H62*(1-$A$44)*(1-Parameters!$C$23) -> 884.7427 | T62: =S62+J62*$A$37*(1-$A$51) -> 1499.2033 | U62: =O62*Parameters!$C$27+'Sensitivty analysis-'!J62*Parameters!$C$22*Parameters!$C$26 -> 3848.6439 | V62: ='Sensitivty analysis-'!O62*(Parameters!$C$28-Parameters!$C$27) -> 2930.8457 | W62: =J62*Parameters!$C$29 -> 3.3035517e+08 | X62: =W62/1000000 -> 330.35517 | Y62: =Y61-0.05 -> 0.256 | Z62: 0.507
A63: =A62+0.05 -> 0.287 | C63: ='Waste plastic data in 2019'!$B$11*$A$2 -> 229.7169 | D63: ='Waste plastic data in 2019'!$B$11*Parameters!$C$4 -> 194.9661 | E63: ='Waste plastic data in 2019'!$B$9*Parameters!$C$8+Parameters!$C$11*'Waste plastic data in 2019'!$B$10 -> 206.74 | F63: ='Waste plastic data in 2019'!$B$11*$B$2+'Waste plastic data in 2019'!$B$9*$B$9+$B$16*'Waste plastic data in 2019'!$B$10 -> 1604.212 | G63: =F63*A63+'Sensitivty analysis-'!C63*(1-$A$23)+'Waste plastic data in 2019'!$B$9*$A$9+$A$16*'Waste plastic data in 2019'!$B$10 -> 2025.1323 | H63: =G63*$A$30 -> 1275.8333 | I63: =G63*(1-$A$30) -> 749.29895 | J63: =F63*Z63+'Sensitivty analysis-'!I63*Parameters!$C$18 -> 1032.8445 | K63: =J63*$Z$37 -> 30.985334 | L63: =J63*$Y$37 -> 227.22578 | M63: =L63*Parameters!$C$23 -> 222.68127 | N63: =C63*$A$23 -> 114.85845 | O63: =H63*$A$44 -> 1046.1833 | P63: =M63+H63*(1-$A$44)*Parameters!$C$23 -> 447.73827 | Q63: =J63*$A$37*$A$51 -> 198.30614 | R63: =Q63*Parameters!$C$24*10000000 -> 8.72547e+10 | S63: =F63*Y63+'Sensitivty analysis-'!K63+'Sensitivty analysis-'!L63*(1-Parameters!$C$23)+'Sensitivty analysis-'!I63*Parameters!$C$17+'Sensitivty analysis-'!H63*(1-$A$44)*(1-Parameters!$C$23) -> 900.38049 | T63: =S63+J63*$A$37*(1-$A$51) -> 1476.7077 | U63: =O63*Parameters!$C$27+'Sensitivty analysis-'!J63*Parameters!$C$22*Parameters!$C$26 -> 3772.7496 | V63: ='Sensitivty analysis-'!O63*(Parameters!$C$28-Parameters!$C$27) -> 3051.7168 | W63: =J63*Parameters!$C$29 -> 3.0985334e+08 | X63: =W63/1000000 -> 309.85334 | Y63: 0.256 | Z63: =Z58-0.05 -> 0.457
A64: =A63+0.05 -> 0.337 | C64: ='Waste plastic data in 2019'!$B$11*$A$2 -> 229.7169 | D64: ='Waste plastic data in 2019'!$B$11*Parameters!$C$4 -> 194.9661 | E64: ='Waste plastic data in 2019'!$B$9*Parameters!$C$8+Parameters!$C$11*'Waste plastic data in 2019'!$B$10 -> 206.74 | F64: ='Waste plastic data in 2019'!$B$11*$B$2+'Waste plastic data in 2019'!$B$9*$B$9+$B$16*'Waste plastic data in 2019'!$B$10 -> 1604.212 | G64: =F64*A64+'Sensitivty analysis-'!C64*(1-$A$23)+'Waste plastic data in 2019'!$B$9*$A$9+$A$16*'Waste plastic data in 2019'!$B$10 -> 2105.3429 | H64: =G64*$A$30 -> 1326.366 | I64: =G64*(1-$A$30) -> 778.97687 | J64: =F64*Z64+'Sensitivty analysis-'!I64*Parameters!$C$18 -> 964.50503 | K64: =J64*$Z$37 -> 28.935151 | L64: =J64*$Y$37 -> 212.19111 | M64: =L64*Parameters!$C$23 -> 207.94728 | N64: =C64*$A$23 -> 114.85845 | O64: =H64*$A$44 -> 1087.6201 | P64: =M64+H64*(1-$A$44)*Parameters!$C$23 -> 441.91825 | Q64: =J64*$A$37*$A$51 -> 185.18497 | R64: =Q64*Parameters!$C$24*10000000 -> 8.1481385e+10 | S64: =F64*Y64+'Sensitivty analysis-'!K64+'Sensitivty analysis-'!L64*(1-Parameters!$C$23)+'Sensitivty analysis-'!I64*Parameters!$C$17+'Sensitivty analysis-'!H64*(1-$A$44)*(1-Parameters!$C$23) -> 916.01829 | T64: =S64+J64*$A$37*(1-$A$51) -> 1454.2121 | U64: =O64*Parameters!$C$27+'Sensitivty analysis-'!J64*Parameters!$C$22*Parameters!$C$26 -> 3696.8552 | V64: ='Sensitivty analysis-'!O64*(Parameters!$C$28-Parameters!$C$27) -> 3172.5879 | W64: =J64*Parameters!$C$29 -> 2.8935151e+08 | X64: =W64/1000000 -> 289.35151 | Y64: 0.256 | Z64: =Z63-0.05 -> 0.407
A65: =A64+0.05 -> 0.387 | C65: ='Waste plastic data in 2019'!$B$11*$A$2 -> 229.7169 | D65: ='Waste plastic data in 2019'!$B$11*Parameters!$C$4 -> 194.9661 | E65: ='Waste plastic data in 2019'!$B$9*Parameters!$C$8+Parameters!$C$11*'Waste plastic data in 2019'!$B$10 -> 206.74 | F65: ='Waste plastic data in 2019'!$B$11*$B$2+'Waste plastic data in 2019'!$B$9*$B$9+$B$16*'Waste plastic data in 2019'!$B$10 -> 1604.212 | G65: =F65*A65+'Sensitivty analysis-'!C65*(1-$A$23)+'Waste plastic data in 2019'!$B$9*$A$9+$A$16*'Waste plastic data in 2019'!$B$10 -> 2185.5535 | H65: =G65*$A$30 -> 1376.8987 | I65: =G65*(1-$A$30) -> 808.65479 | J65: =F65*Z65+'Sensitivty analysis-'!I65*Parameters!$C$18 -> 896.1656 | K65: =J65*$Z$37 -> 26.884968 | L65: =J65*$Y$37 -> 197.15643 | M65: =L65*Parameters!$C$23 -> 193.2133 | N65: =C65*$A$23 -> 114.85845 | O65: =H65*$A$44 -> 1129.0569 | P65: =M65+H65*(1-$A$44)*Parameters!$C$23 -> 436.09823 | Q65: =J65*$A$37*$A$51 -> 172.0638 | R65: =Q65*Parameters!$C$24*10000000 -> 7.570807e+10 | S65: =F65*Y65+'Sensitivty analysis-'!K65+'Sensitivty analysis-'!L65*(1-Parameters!$C$23)+'Sensitivty analysis-'!I65*Parameters!$C$17+'Sensitivty analysis-'!H65*(1-$A$44)*(1-Parameters!$C$23) -> 931.65608 | T65: =S65+J65*$A$37*(1-$A$51) -> 1431.7165 | U65: =O65*Parameters!$C$27+'Sensitivty analysis-'!J65*Parameters!$C$22*Parameters!$C$26 -> 3620.9609 | V65: ='Sensitivty analysis-'!O65*(Parameters!$C$28-Parameters!$C$27) -> 3293.4591 | W65: =J65*Parameters!$C$29 -> 2.6884968e+08 | X65: =W65/1000000 -> 268.84968 | Y65: 0.256 | Z65: =Z64-0.05 -> 0.357
A66: =A65+0.05 -> 0.437 | C66: ='Waste plastic data in 2019'!$B$11*$A$2 -> 229.7169 | D66: ='Waste plastic data in 2019'!$B$11*Parameters!$C$4 -> 194.9661 | E66: ='Waste plastic data in 2019'!$B$9*Parameters!$C$8+Parameters!$C$11*'Waste plastic data in 2019'!$B$10 -> 206.74 | F66: ='Waste plastic data in 2019'!$B$11*$B$2+'Waste plastic data in 2019'!$B$9*$B$9+$B$16*'Waste plastic data in 2019'!$B$10 -> 1604.212 | G66: =F66*A66+'Sensitivty analysis-'!C66*(1-$A$23)+'Waste plastic data in 2019'!$B$9*$A$9+$A$16*'Waste plastic data in 2019'!$B$10 -> 2265.7641 | H66: =G66*$A$30 -> 1427.4314 | I66: =G66*(1-$A$30) -> 838.33271 | J66: =F66*Z66+'Sensitivty analysis-'!I66*Parameters!$C$18 -> 827.82617 | K66: =J66*$Z$37 -> 24.834785 | L66: =J66*$Y$37 -> 182.12176 | M66: =L66*Parameters!$C$23 -> 178.47932 | N66: =C66*$A$23 -> 114.85845 | O66: =H66*$A$44 -> 1170.4937 | P66: =M66+H66*(1-$A$44)*Parameters!$C$23 -> 430.27822 | Q66: =J66*$A$37*$A$51 -> 158.94262 | R66: =Q66*Parameters!$C$24*10000000 -> 6.9934755e+10 | S66: =F66*Y66+'Sensitivty analysis-'!K66+'Sensitivty analysis-'!L66*(1-Parameters!$C$23)+'Sensitivty analysis-'!I66*Parameters!$C$17+'Sensitivty analysis-'!H66*(1-$A$44)*(1-Parameters!$C$23) -> 947.29387 | T66: =S66+J66*$A$37*(1-$A$51) -> 1409.2209 | U66: =O66*Parameters!$C$27+'Sensitivty analysis-'!J66*Parameters!$C$22*Parameters!$C$26 -> 3545.0666 | V66: ='Sensitivty analysis-'!O66*(Parameters!$C$28-Parameters!$C$27) -> 3414.3302 | W66: =J66*Parameters!$C$29 -> 2.4834785e+08 | X66: =W66/1000000 -> 248.34785 | Y66: 0.256 | Z66: =Z65-0.05 -> 0.307
C67: Refurbushment | D67: Transfer or Idle | E67: Reuse | F67: Sorting | G67: Waste plastics markrt | H67: Recycling plant | I67: Mixed waste | J67: Incineration | K67: Fly ASH | L67: BOTTLE ASH | M67: Building filler | N67: Reused products | O67: High-end applications | P67: Low-end applications | Q67: Energy | R67: Energy(MJ) | S67: Landfill | T67: LOST | U67: CE | V67: CR | W67: DE(ug) | X67: DE(g)
A68: 0.4 | B68: 0.6 | C68: ='Waste plastic data in 2019'!$B$11*$A$2 -> 229.7169 | D68: ='Waste plastic data in 2019'!$B$11*Parameters!$C$4 -> 194.9661 | E68: ='Waste plastic data in 2019'!$B$9*Parameters!$C$8+Parameters!$C$11*'Waste plastic data in 2019'!$B$10 -> 206.74 | F68: ='Waste plastic data in 2019'!$B$11*$B$2+'Waste plastic data in 2019'!$B$9*$B$9+$B$16*'Waste plastic data in 2019'!$B$10 -> 1604.212 | G68: =F68*$A$58+'Sensitivty analysis-'!C68*(1-$A$23)+'Waste plastic data in 2019'!$B$9*$A$9+$A$16*'Waste plastic data in 2019'!$B$10 -> 1624.0793 | H68: =G68*$A$30 -> 1023.17 | I68: =G68*(1-$A$30) -> 600.90934 | J68: =F68*$Z$58+'Sensitivty analysis-'!I68*A68 -> 1053.6992 | K68: =J68*$Z$37 -> 31.610977 | L68: =J68*$Y$37 -> 231.81383 | M68: =L68*Parameters!$C$23 -> 227.17755 | N68: =C68*$A$23 -> 114.85845 | O68: =H68*$A$44 -> 838.99936 | P68: =M68+H68*(1-$A$44)*Parameters!$C$23 -> 407.66473 | Q68: =J68*$A$37*$A$51 -> 202.31025 | R68: =Q68*Parameters!$C$24*10000000 -> 8.901651e+10 | S68: =F68*$Y$58+'Sensitivty analysis-'!K68+'Sensitivty analysis-'!L68*(1-Parameters!$C$23)+'Sensitivty analysis-'!I68*B68+'Sensitivty analysis-'!H68*(1-$A$44)*(1-Parameters!$C$23) -> 1131.9969 | T68: =S68+J68*$A$37*(1-$A$51) -> 1719.9611 | U68: =O68*Parameters!$C$27+'Sensitivty analysis-'!J68*Parameters!$C$22*Parameters!$C$26 -> 3490.4836 | V68: ='Sensitivty analysis-'!O68*(Parameters!$C$28-Parameters!$C$27) -> 2447.3611 | W68: =J68*Parameters!$C$29 -> 3.1610977e+08 | X68: =W68/1000000 -> 316.10977
A69: =A68+0.05 -> 0.45 | B69: =B68-0.05 -> 0.55 | C69: ='Waste plastic data in 2019'!$B$11*$A$2 -> 229.7169 | D69: ='Waste plastic data in 2019'!$B$11*Parameters!$C$4 -> 194.9661 | E69: ='Waste plastic data in 2019'!$B$9*Parameters!$C$8+Parameters!$C$11*'Waste plastic data in 2019'!$B$10 -> 206.74 | F69: ='Waste plastic data in 2019'!$B$11*$B$2+'Waste plastic data in 2019'!$B$9*$B$9+$B$16*'Waste plastic data in 2019'!$B$10 -> 1604.212 | G69: =F69*$A$58+'Sensitivty analysis-'!C69*(1-$A$23)+'Waste plastic data in 2019'!$B$9*$A$9+$A$16*'Waste plastic data in 2019'!$B$10 -> 1624.0793 | H69: =G69*$A$30 -> 1023.17 | I69: =G69*(1-$A$30) -> 600.90934 | J69: =F69*$Z$58+'Sensitivty analysis-'!I69*A69 -> 1083.7447 | K69: =J69*$Z$37 -> 32.512341 | L69: =J69*$Y$37 -> 238.42383 | M69: =L69*Parameters!$C$23 -> 233.65535 | N69: =C69*$A$23 -> 114.85845 | O69: =H69*$A$44 -> 838.99936 | P69: =M69+H69*(1-$A$44)*Parameters!$C$23 -> 414.14253 | Q69: =J69*$A$37*$A$51 -> 208.07898 | R69: =Q69*Parameters!$C$24*10000000 -> 9.1554751e+10 | S69: =F69*$Y$58+'Sensitivty analysis-'!K69+'Sensitivty analysis-'!L69*(1-Parameters!$C$23)+'Sensitivty analysis-'!I69*B69+'Sensitivty analysis-'!H69*(1-$A$44)*(1-Parameters!$C$23) -> 1102.985 | T69: =S69+J69*$A$37*(1-$A$51) -> 1707.7146 | U69: =O69*Parameters!$C$27+'Sensitivty analysis-'!J69*Parameters!$C$22*Parameters!$C$26 -> 3552.4524 | V69: ='Sensitivty analysis-'!O69*(Parameters!$C$28-Parameters!$C$27) -> 2447.3611 | W69: =J69*Parameters!$C$29 -> 3.2512341e+08 | X69: =W69/1000000 -> 325.12341
A70: =A69+0.05 -> 0.5 | B70: =B69-0.05 -> 0.5 | C70: ='Waste plastic data in 2019'!$B$11*$A$2 -> 229.7169 | D70: ='Waste plastic data in 2019'!$B$11*Parameters!$C$4 -> 194.9661 | E70: ='Waste plastic data in 2019'!$B$9*Parameters!$C$8+Parameters!$C$11*'Waste plastic data in 2019'!$B$10 -> 206.74 | F70: ='Waste plastic data in 2019'!$B$11*$B$2+'Waste plastic data in 2019'!$B$9*$B$9+$B$16*'Waste plastic data in 2019'!$B$10 -> 1604.212 | G70: =F70*$A$58+'Sensitivty analysis-'!C70*(1-$A$23)+'Waste plastic data in 2019'!$B$9*$A$9+$A$16*'Waste plastic data in 2019'!$B$10 -> 1624.0793 | H70: =G70*$A$30 -> 1023.17 | I70: =G70*(1-$A$30) -> 600.90934 | J70: =F70*$Z$58+'Sensitivty analysis-'!I70*A70 -> 1113.7902 | K70: =J70*$Z$37 -> 33.413705 | L70: =J70*$Y$37 -> 245.03383 | M70: =L70*Parameters!$C$23 -> 240.13316 | N70: =C70*$A$23 -> 114.85845 | O70: =H70*$A$44 -> 838.99936 | P70: =M70+H70*(1-$A$44)*Parameters!$C$23 -> 420.62034 | Q70: =J70*$A$37*$A$51 -> 213.84771 | R70: =Q70*Parameters!$C$24*10000000 -> 9.4092992e+10 | S70: =F70*$Y$58+'Sensitivty analysis-'!K70+'Sensitivty analysis-'!L70*(1-Parameters!$C$23)+'Sensitivty analysis-'!I70*B70+'Sensitivty analysis-'!H70*(1-$A$44)*(1-Parameters!$C$23) -> 1073.9731 | T70: =S70+J70*$A$37*(1-$A$51) -> 1695.468 | U70: =O70*Parameters!$C$27+'Sensitivty analysis-'!J70*Parameters!$C$22*Parameters!$C$26 -> 3614.4212 | V70: ='Sensitivty analysis-'!O70*(Parameters!$C$28-Parameters!$C$27) -> 2447.3611 | W70: =J70*Parameters!$C$29 -> 3.3413705e+08 | X70: =W70/1000000 -> 334.13705
A71: =A70+0.05 -> 0.55 | B71: =B70-0.05 -> 0.45 | C71: ='Waste plastic data in 2019'!$B$11*$A$2 -> 229.7169 | D71: ='Waste plastic data in 2019'!$B$11*Parameters!$C$4 -> 194.9661 | E71: ='Waste plastic data in 2019'!$B$9*Parameters!$C$8+Parameters!$C$11*'Waste plastic data in 2019'!$B$10 -> 206.74 | F71: ='Waste plastic data in 2019'!$B$11*$B$2+'Waste plastic data in 2019'!$B$9*$B$9+$B$16*'Waste plastic data in 2019'!$B$10 -> 1604.212 | G71: =F71*$A$58+'Sensitivty analysis-'!C71*(1-$A$23)+'Waste plastic data in 2019'!$B$9*$A$9+$A$16*'Waste plastic data in 2019'!$B$10 -> 1624.0793 | H71: =G71*$A$30 -> 1023.17 | I71: =G71*(1-$A$30) -> 600.90934 | J71: =F71*$Z$58+'Sensitivty analysis-'!I71*A71 -> 1143.8356 | K71: =J71*$Z$37 -> 34.315069 | L71: =J71*$Y$37 -> 251.64384 | M71: =L71*Parameters!$C$23 -> 246.61096 | N71: =C71*$A$23 -> 114.85845 | O71: =H71*$A$44 -> 838.99936 | P71: =M71+H71*(1-$A$44)*Parameters!$C$23 -> 427.09814 | Q71: =J71*$A$37*$A$51 -> 219.61644 | R71: =Q71*Parameters!$C$24*10000000 -> 9.6631233e+10 | S71: =F71*$Y$58+'Sensitivty analysis-'!K71+'Sensitivty analysis-'!L71*(1-Parameters!$C$23)+'Sensitivty analysis-'!I71*B71+'Sensitivty analysis-'!H71*(1-$A$44)*(1-Parameters!$C$23) -> 1044.9612 | T71: =S71+J71*$A$37*(1-$A$51) -> 1683.2215 | U71: =O71*Parameters!$C$27+'Sensitivty analysis-'!J71*Parameters!$C$22*Parameters!$C$26 -> 3676.39 | V71: ='Sensitivty analysis-'!O71*(Parameters!$C$28-Parameters!$C$27) -> 2447.3611 | W71: =J71*Parameters!$C$29 -> 3.4315069e+08 | X71: =W71/1000000 -> 343.15069
A72: =A71+0.05 -> 0.6 | B72: =B71-0.05 -> 0.4 | C72: ='Waste plastic data in 2019'!$B$11*$A$2 -> 229.7169 | D72: ='Waste plastic data in 2019'!$B$11*Parameters!$C$4 -> 194.9661 | E72: ='Waste plastic data in 2019'!$B$9*Parameters!$C$8+Parameters!$C$11*'Waste plastic data in 2019'!$B$10 -> 206.74 | F72: ='Waste plastic data in 2019'!$B$11*$B$2+'Waste plastic data in 2019'!$B$9*$B$9+$B$16*'Waste plastic data in 2019'!$B$10 -> 1604.212 | G72: =F72*$A$58+'Sensitivty analysis-'!C72*(1-$A$23)+'Waste plastic data in 2019'!$B$9*$A$9+$A$16*'Waste plastic data in 2019'!$B$10 -> 1624.0793 | H72: =G72*$A$30 -> 1023.17 | I72: =G72*(1-$A$30) -> 600.90934 | J72: =F72*$Z$58+'Sensitivty analysis-'!I72*A72 -> 1173.8811 | K72: =J72*$Z$37 -> 35.216433 | L72: =J72*$Y$37 -> 258.25384 | M72: =L72*Parameters!$C$23 -> 253.08876 | N72: =C72*$A$23 -> 114.85845 | O72: =H72*$A$44 -> 838.99936 | P72: =M72+H72*(1-$A$44)*Parameters!$C$23 -> 433.57594 | Q72: =J72*$A$37*$A$51 -> 225.38517 | R72: =Q72*Parameters!$C$24*10000000 -> 9.9169474e+10 | S72: =F72*$Y$58+'Sensitivty analysis-'!K72+'Sensitivty analysis-'!L72*(1-Parameters!$C$23)+'Sensitivty analysis-'!I72*B72+'Sensitivty analysis-'!H72*(1-$A$44)*(1-Parameters!$C$23) -> 1015.9493 | T72: =S72+J72*$A$37*(1-$A$51) -> 1670.975 | U72: =O72*Parameters!$C$27+'Sensitivty analysis-'!J72*Parameters!$C$22*Parameters!$C$26 -> 3738.3587 | V72: ='Sensitivty analysis-'!O72*(Parameters!$C$28-Parameters!$C$27) -> 2447.3611 | W72: =J72*Parameters!$C$29 -> 3.5216433e+08 | X72: =W72/1000000 -> 352.16433
A73: =A72+0.05 -> 0.65 | B73: =B72-0.05 -> 0.35 | C73: ='Waste plastic data in 2019'!$B$11*$A$2 -> 229.7169 | D73: ='Waste plastic data in 2019'!$B$11*Parameters!$C$4 -> 194.9661 | E73: ='Waste plastic data in 2019'!$B$9*Parameters!$C$8+Parameters!$C$11*'Waste plastic data in 2019'!$B$10 -> 206.74 | F73: ='Waste plastic data in 2019'!$B$11*$B$2+'Waste plastic data in 2019'!$B$9*$B$9+$B$16*'Waste plastic data in 2019'!$B$10 -> 1604.212 | G73: =F73*$A$58+'Sensitivty analysis-'!C73*(1-$A$23)+'Waste plastic data in 2019'!$B$9*$A$9+$A$16*'Waste plastic data in 2019'!$B$10 -> 1624.0793 | H73: =G73*$A$30 -> 1023.17 | I73: =G73*(1-$A$30) -> 600.90934 | J73: =F73*$Z$58+'Sensitivty analysis-'!I73*A73 -> 1203.9266 | K73: =J73*$Z$37 -> 36.117797 | L73: =J73*$Y$37 -> 264.86384 | M73: =L73*Parameters!$C$23 -> 259.56657 | N73: =C73*$A$23 -> 114.85845 | O73: =H73*$A$44 -> 838.99936 | P73: =M73+H73*(1-$A$44)*Parameters!$C$23 -> 440.05375 | Q73: =J73*$A$37*$A$51 -> 231.1539 | R73: =Q73*Parameters!$C$24*10000000 -> 1.0170772e+11 | S73: =F73*$Y$58+'Sensitivty analysis-'!K73+'Sensitivty analysis-'!L73*(1-Parameters!$C$23)+'Sensitivty analysis-'!I73*B73+'Sensitivty analysis-'!H73*(1-$A$44)*(1-Parameters!$C$23) -> 986.93743 | T73: =S73+J73*$A$37*(1-$A$51) -> 1658.7284 | U73: =O73*Parameters!$C$27+'Sensitivty analysis-'!J73*Parameters!$C$22*Parameters!$C$26 -> 3800.3275 | V73: ='Sensitivty analysis-'!O73*(Parameters!$C$28-Parameters!$C$27) -> 2447.3611 | W73: =J73*Parameters!$C$29 -> 3.6117797e+08 | X73: =W73/1000000 -> 361.17797
C74: Refurbushment | D74: Transfer or Idle | E74: Reuse | F74: Sorting | G74: Waste plastics markrt | H74: Recycling plant | I74: Mixed waste | J74: Incineration | K74: Fly ASH | L74: BOTTLE ASH | M74: Building filler | N74: Reused products | O74: High-end applications | P74: Low-end applications | Q74: Energy | R74: Energy(MJ) | S74: Landfill | T74: LOST | U74: CE | V74: CR | W74: DE(ug) | X74: DE(g)
A75: 0.507 | B75: 0.456 | C75: ='Waste plastic data in 2019'!$B$11*$A$2 -> 229.7169 | D75: ='Waste plastic data in 2019'!$B$11*Parameters!$C$4 -> 194.9661 | E75: ='Waste plastic data in 2019'!$B$9*Parameters!$C$8+Parameters!$C$11*'Waste plastic data in 2019'!$B$10 -> 206.74 | F75: ='Waste plastic data in 2019'!$B$11*$B$2+'Waste plastic data in 2019'!$B$9*$B$9+$B$16*'Waste plastic data in 2019'!$B$10 -> 1604.212 | G75: =F75*$A$58+'Sensitivty analysis-'!C75*(1-$A$23)+'Waste plastic data in 2019'!$B$9*$A$9+$A$16*'Waste plastic data in 2019'!$B$10 -> 1624.0793 | H75: =G75*$A$30 -> 1023.17 | I75: =G75*(1-$A$30) -> 600.90934 | J75: =F75*A75+'Sensitivty analysis-'!I75*$A$68 -> 1053.6992 | K75: =J75*$Z$37 -> 31.610977 | L75: =J75*$Y$37 -> 231.81383 | M75: =L75*Parameters!$C$23 -> 227.17755 | N75: =C75*$A$23 -> 114.85845 | O75: =H75*$A$44 -> 838.99936 | P75: =M75+H75*(1-$A$44)*Parameters!$C$23 -> 407.66473 | Q75: =J75*$A$37*$A$51 -> 202.31025 | R75: =Q75*Parameters!$C$24*10000000 -> 8.901651e+10 | S75: =F75*B75+'Sensitivty analysis-'!K75+'Sensitivty analysis-'!L75*(1-Parameters!$C$23)+'Sensitivty analysis-'!I75*$B$68+'Sensitivty analysis-'!H75*(1-$A$44)*(1-Parameters!$C$23) -> 1131.9969 | T75: =S75+J75*$A$37*(1-$A$51) -> 1719.9611 | U75: =O75*Parameters!$C$27+'Sensitivty analysis-'!J75*Parameters!$C$22*Parameters!$C$26 -> 3490.4836 | V75: ='Sensitivty analysis-'!O75*(Parameters!$C$28-Parameters!$C$27) -> 2447.3611 | W75: =J75*Parameters!$C$29 -> 3.1610977e+08 | X75: =W75/1000000 -> 316.10977
A76: =A75+0.05 -> 0.557 | B76: =B75-0.05 -> 0.406 | C76: ='Waste plastic data in 2019'!$B$11*$A$2 -> 229.7169 | D76: ='Waste plastic data in 2019'!$B$11*Parameters!$C$4 -> 194.9661 | E76: ='Waste plastic data in 2019'!$B$9*Parameters!$C$8+Parameters!$C$11*'Waste plastic data in 2019'!$B$10 -> 206.74 | F76: ='Waste plastic data in 2019'!$B$11*$B$2+'Waste plastic data in 2019'!$B$9*$B$9+$B$16*'Waste plastic data in 2019'!$B$10 -> 1604.212 | G76: =F76*$A$58+'Sensitivty analysis-'!C76*(1-$A$23)+'Waste plastic data in 2019'!$B$9*$A$9+$A$16*'Waste plastic data in 2019'!$B$10 -> 1624.0793 | H76: =G76*$A$30 -> 1023.17 | I76: =G76*(1-$A$30) -> 600.90934 | J76: =F76*A76+'Sensitivty analysis-'!I76*$A$68 -> 1133.9098 | K76: =J76*$Z$37 -> 34.017295 | L76: =J76*$Y$37 -> 249.46016 | M76: =L76*Parameters!$C$23 -> 244.47096 | N76: =C76*$A$23 -> 114.85845 | O76: =H76*$A$44 -> 838.99936 | P76: =M76+H76*(1-$A$44)*Parameters!$C$23 -> 424.95814 | Q76: =J76*$A$37*$A$51 -> 217.71069 | R76: =Q76*Parameters!$C$24*10000000 -> 9.5792702e+10 | S76: =F76*B76+'Sensitivty analysis-'!K76+'Sensitivty analysis-'!L76*(1-Parameters!$C$23)+'Sensitivty analysis-'!I76*$B$68+'Sensitivty analysis-'!H76*(1-$A$44)*(1-Parameters!$C$23) -> 1054.5456 | T76: =S76+J76*$A$37*(1-$A$51) -> 1687.2673 | U76: =O76*Parameters!$C$27+'Sensitivty analysis-'!J76*Parameters!$C$22*Parameters!$C$26 -> 3655.918 | V76: ='Sensitivty analysis-'!O76*(Parameters!$C$28-Parameters!$C$27) -> 2447.3611 | W76: =J76*Parameters!$C$29 -> 3.4017295e+08 | X76: =W76/1000000 -> 340.17295
A77: =A76+0.05 -> 0.607 | B77: =B76-0.05 -> 0.356 | C77: ='Waste plastic data in 2019'!$B$11*$A$2 -> 229.7169 | D77: ='Waste plastic data in 2019'!$B$11*Parameters!$C$4 -> 194.9661 | E77: ='Waste plastic data in 2019'!$B$9*Parameters!$C$8+Parameters!$C$11*'Waste plastic data in 2019'!$B$10 -> 206.74 | F77: ='Waste plastic data in 2019'!$B$11*$B$2+'Waste plastic data in 2019'!$B$9*$B$9+$B$16*'Waste plastic data in 2019'!$B$10 -> 1604.212 | G77: =F77*$A$58+'Sensitivty analysis-'!C77*(1-$A$23)+'Waste plastic data in 2019'!$B$9*$A$9+$A$16*'Waste plastic data in 2019'!$B$10 -> 1624.0793 | H77: =G77*$A$30 -> 1023.17 | I77: =G77*(1-$A$30) -> 600.90934 | J77: =F77*A77+'Sensitivty analysis-'!I77*$A$68 -> 1214.1204 | K77: =J77*$Z$37 -> 36.423613 | L77: =J77*$Y$37 -> 267.10649 | M77: =L77*Parameters!$C$23 -> 261.76436 | N77: =C77*$A$23 -> 114.85845 | O77: =H77*$A$44 -> 838.99936 | P77: =M77+H77*(1-$A$44)*Parameters!$C$23 -> 442.25154 | Q77: =J77*$A$37*$A$51 -> 233.11112 | R77: =Q77*Parameters!$C$24*10000000 -> 1.0256889e+11 | S77: =F77*B77+'Sensitivty analysis-'!K77+'Sensitivty analysis-'!L77*(1-Parameters!$C$23)+'Sensitivty analysis-'!I77*$B$68+'Sensitivty analysis-'!H77*(1-$A$44)*(1-Parameters!$C$23) -> 977.09423 | T77: =S77+J77*$A$37*(1-$A$51) -> 1654.5734 | U77: =O77*Parameters!$C$27+'Sensitivty analysis-'!J77*Parameters!$C$22*Parameters!$C$26 -> 3821.3524 | V77: ='Sensitivty analysis-'!O77*(Parameters!$C$28-Parameters!$C$27) -> 2447.3611 | W77: =J77*Parameters!$C$29 -> 3.6423613e+08 | X77: =W77/1000000 -> 364.23613
A78: =A77+0.05 -> 0.657 | B78: =B77-0.05 -> 0.306 | C78: ='Waste plastic data in 2019'!$B$11*$A$2 -> 229.7169 | D78: ='Waste plastic data in 2019'!$B$11*Parameters!$C$4 -> 194.9661 | E78: ='Waste plastic data in 2019'!$B$9*Parameters!$C$8+Parameters!$C$11*'Waste plastic data in 2019'!$B$10 -> 206.74 | F78: ='Waste plastic data in 2019'!$B$11*$B$2+'Waste plastic data in 2019'!$B$9*$B$9+$B$16*'Waste plastic data in 2019'!$B$10 -> 1604.212 | G78: =F78*$A$58+'Sensitivty analysis-'!C78*(1-$A$23)+'Waste plastic data in 2019'!$B$9*$A$9+$A$16*'Waste plastic data in 2019'!$B$10 -> 1624.0793 | H78: =G78*$A$30 -> 1023.17 | I78: =G78*(1-$A$30) -> 600.90934 | J78: =F78*A78+'Sensitivty analysis-'!I78*$A$68 -> 1294.331 | K78: =J78*$Z$37 -> 38.829931 | L78: =J78*$Y$37 -> 284.75282 | M78: =L78*Parameters!$C$23 -> 279.05777 | N78: =C78*$A$23 -> 114.85845 | O78: =H78*$A$44 -> 838.99936 | P78: =M78+H78*(1-$A$44)*Parameters!$C$23 -> 459.54495 | Q78: =J78*$A$37*$A$51 -> 248.51156 | R78: =Q78*Parameters!$C$24*10000000 -> 1.0934508e+11 | S78: =F78*B78+'Sensitivty analysis-'!K78+'Sensitivty analysis-'!L78*(1-Parameters!$C$23)+'Sensitivty analysis-'!I78*$B$68+'Sensitivty analysis-'!H78*(1-$A$44)*(1-Parameters!$C$23) -> 899.64287 | T78: =S78+J78*$A$37*(1-$A$51) -> 1621.8796 | U78: =O78*Parameters!$C$27+'Sensitivty analysis-'!J78*Parameters!$C$22*Parameters!$C$26 -> 3986.7867 | V78: ='Sensitivty analysis-'!O78*(Parameters!$C$28-Parameters!$C$27) -> 2447.3611 | W78: =J78*Parameters!$C$29 -> 3.8829931e+08 | X78: =W78/1000000 -> 388.29931
A79: =A78+0.05 -> 0.707 | B79: =B78-0.05 -> 0.256 | C79: ='Waste plastic data in 2019'!$B$11*$A$2 -> 229.7169 | D79: ='Waste plastic data in 2019'!$B$11*Parameters!$C$4 -> 194.9661 | E79: ='Waste plastic data in 2019'!$B$9*Parameters!$C$8+Parameters!$C$11*'Waste plastic data in 2019'!$B$10 -> 206.74 | F79: ='Waste plastic data in 2019'!$B$11*$B$2+'Waste plastic data in 2019'!$B$9*$B$9+$B$16*'Waste plastic data in 2019'!$B$10 -> 1604.212 | G79: =F79*$A$58+'Sensitivty analysis-'!C79*(1-$A$23)+'Waste plastic data in 2019'!$B$9*$A$9+$A$16*'Waste plastic data in 2019'!$B$10 -> 1624.0793 | H79: =G79*$A$30 -> 1023.17 | I79: =G79*(1-$A$30) -> 600.90934 | J79: =F79*A79+'Sensitivty analysis-'!I79*$A$68 -> 1374.5416 | K79: =J79*$Z$37 -> 41.236249 | L79: =J79*$Y$37 -> 302.39916 | M79: =L79*Parameters!$C$23 -> 296.35117 | N79: =C79*$A$23 -> 114.85845 | O79: =H79*$A$44 -> 838.99936 | P79: =M79+H79*(1-$A$44)*Parameters!$C$23 -> 476.83835 | Q79: =J79*$A$37*$A$51 -> 263.91199 | R79: =Q79*Parameters!$C$24*10000000 -> 1.1612128e+11 | S79: =F79*B79+'Sensitivty analysis-'!K79+'Sensitivty analysis-'!L79*(1-Parameters!$C$23)+'Sensitivty analysis-'!I79*$B$68+'Sensitivty analysis-'!H79*(1-$A$44)*(1-Parameters!$C$23) -> 822.19152 | T79: =S79+J79*$A$37*(1-$A$51) -> 1589.1857 | U79: =O79*Parameters!$C$27+'Sensitivty analysis-'!J79*Parameters!$C$22*Parameters!$C$26 -> 4152.2211 | V79: ='Sensitivty analysis-'!O79*(Parameters!$C$28-Parameters!$C$27) -> 2447.3611 | W79: =J79*Parameters!$C$29 -> 4.1236249e+08 | X79: =W79/1000000 -> 412.36249
A80: =A79+0.05 -> 0.757 | B80: =B79-0.05 -> 0.206 | C80: ='Waste plastic data in 2019'!$B$11*$A$2 -> 229.7169 | D80: ='Waste plastic data in 2019'!$B$11*Parameters!$C$4 -> 194.9661 | E80: ='Waste plastic data in 2019'!$B$9*Parameters!$C$8+Parameters!$C$11*'Waste plastic data in 2019'!$B$10 -> 206.74 | F80: ='Waste plastic data in 2019'!$B$11*$B$2+'Waste plastic data in 2019'!$B$9*$B$9+$B$16*'Waste plastic data in 2019'!$B$10 -> 1604.212 | G80: =F80*$A$58+'Sensitivty analysis-'!C80*(1-$A$23)+'Waste plastic data in 2019'!$B$9*$A$9+$A$16*'Waste plastic data in 2019'!$B$10 -> 1624.0793 | H80: =G80*$A$30 -> 1023.17 | I80: =G80*(1-$A$30) -> 600.90934 | J80: =F80*A80+'Sensitivty analysis-'!I80*$A$68 -> 1454.7522 | K80: =J80*$Z$37 -> 43.642567 | L80: =J80*$Y$37 -> 320.04549 | M80: =L80*Parameters!$C$23 -> 313.64458 | N80: =C80*$A$23 -> 114.85845 | O80: =H80*$A$44 -> 838.99936 | P80: =M80+H80*(1-$A$44)*Parameters!$C$23 -> 494.13176 | Q80: =J80*$A$37*$A$51 -> 279.31243 | R80: =Q80*Parameters!$C$24*10000000 -> 1.2289747e+11 | S80: =F80*B80+'Sensitivty analysis-'!K80+'Sensitivty analysis-'!L80*(1-Parameters!$C$23)+'Sensitivty analysis-'!I80*$B$68+'Sensitivty analysis-'!H80*(1-$A$44)*(1-Parameters!$C$23) -> 744.74016 | T80: =S80+J80*$A$37*(1-$A$51) -> 1556.4919 | U80: =O80*Parameters!$C$27+'Sensitivty analysis-'!J80*Parameters!$C$22*Parameters!$C$26 -> 4317.6555 | V80: ='Sensitivty analysis-'!O80*(Parameters!$C$28-Parameters!$C$27) -> 2447.3611 | W80: =J80*Parameters!$C$29 -> 4.3642567e+08 | X80: =W80/1000000 -> 436.42567

Sheet Forecast Output
A1: Year | B1: Waste plastic output | C1: 1+r | D1: WEEE | E1: domestic | F1: High recycling value | G1: Low recycling value
A2: 2019 | B2: 6300 | C2: 1.025 | D2: =B2*('Waste plastic data in 2019'!$B$11/'Waste plastic data in 2019'!$B$12) -> 441 | E2: =B2*('Waste plastic data in 2019'!$B$8/'Waste plastic data in 2019'!$B$12) -> 3244.5 | F2: =E2*('Waste plastic data in 2019'!$B$9/'Waste plastic data in 2019'!$B$8) -> 1320.5 | G2: =E2*('Waste plastic data in 2019'!$B$10/'Waste plastic data in 2019'!$B$8) -> 1924
A3: 2020 | B3: =B2*C2 -> 6457.5 | C3: 1.025 | D3: =B3*('Waste plastic data in 2019'!$B$11/'Waste plastic data in 2019'!$B$12) -> 452.025 | E3: =B3*('Waste plastic data in 2019'!$B$8/'Waste plastic data in 2019'!$B$12) -> 3325.6125 | F3: =E3*('Waste plastic data in 2019'!$B$9/'Waste plastic data in 2019'!$B$8) -> 1353.5125 | G3: =E3*('Waste plastic data in 2019'!$B$10/'Waste plastic data in 2019'!$B$8) -> 1972.1
A4: 2021 | B4: =B3*C3 -> 6618.9375 | C4: 1.025 | D4: =B4*('Waste plastic data in 2019'!$B$11/'Waste plastic data in 2019'!$B$12) -> 463.32562 | E4: =B4*('Waste plastic data in 2019'!$B$8/'Waste plastic data in 2019'!$B$12) -> 3408.7528 | F4: =E4*('Waste plastic data in 2019'!$B$9/'Waste plastic data in 2019'!$B$8) -> 1387.3503 | G4: =E4*('Waste plastic data in 2019'!$B$10/'Waste plastic data in 2019'!$B$8) -> 2021.4025
A5: 2022 | B5: =B4*C4 -> 6784.4109 | C5: 1.025 | D5: =B5*('Waste plastic data in 2019'!$B$11/'Waste plastic data in 2019'!$B$12) -> 474.90877 | E5: =B5*('Waste plastic data in 2019'!$B$8/'Waste plastic data in 2019'!$B$12) -> 3493.9716 | F5: =E5*('Waste plastic data in 2019'!$B$9/'Waste plastic data in 2019'!$B$8) -> 1422.0341 | G5: =E5*('Waste plastic data in 2019'!$B$10/'Waste plastic data in 2019'!$B$8) -> 2071.9376
A6: 2023 | B6: =B5*C5 -> 6954.0212 | C6: 1.025 | D6: =B6*('Waste plastic data in 2019'!$B$11/'Waste plastic data in 2019'!$B$12) -> 486.78148 | E6: =B6*('Waste plastic data in 2019'!$B$8/'Waste plastic data in 2019'!$B$12) -> 3581.3209 | F6: =E6*('Waste plastic data in 2019'!$B$9/'Waste plastic data in 2019'!$B$8) -> 1457.5849 | G6: =E6*('Waste plastic data in 2019'!$B$10/'Waste plastic data in 2019'!$B$8) -> 2123.736
A7: 2024 | B7: =B6*C6 -> 7127.8717 | C7: 1.025 | D7: =B7*('Waste plastic data in 2019'!$B$11/'Waste plastic data in 2019'!$B$12) -> 498.95102 | E7: =B7*('Waste plastic data in 2019'!$B$8/'Waste plastic data in 2019'!$B$12) -> 3670.8539 | F7: =E7*('Waste plastic data in 2019'!$B$9/'Waste plastic data in 2019'!$B$8) -> 1494.0245 | G7: =E7*('Waste plastic data in 2019'!$B$10/'Waste plastic data in 2019'!$B$8) -> 2176.8294
A8: 2025 | B8: =B7*C7 -> 7306.0685 | C8: 1.025 | D8: =B8*('Waste plastic data in 2019'!$B$11/'Waste plastic data in 2019'!$B$12) -> 511.4248 | E8: =B8*('Waste plastic data in 2019'!$B$8/'Waste plastic data in 2019'!$B$12) -> 3762.6253 | F8: =E8*('Waste plastic data in 2019'!$B$9/'Waste plastic data in 2019'!$B$8) -> 1531.3752 | G8: =E8*('Waste plastic data in 2019'!$B$10/'Waste plastic data in 2019'!$B$8) -> 2231.2501
A9: 2026 | B9: =B8*C8 -> 7488.7202 | C9: 1.025 | D9: =B9*('Waste plastic data in 2019'!$B$11/'Waste plastic data in 2019'!$B$12) -> 524.21042 | E9: =B9*('Waste plastic data in 2019'!$B$8/'Waste plastic data in 2019'!$B$12) -> 3856.6909 | F9: =E9*('Waste plastic data in 2019'!$B$9/'Waste plastic data in 2019'!$B$8) -> 1569.6595 | G9: =E9*('Waste plastic data in 2019'!$B$10/'Waste plastic data in 2019'!$B$8) -> 2287.0314
A10: 2027 | B10: =B9*C9 -> 7675.9383 | C10: 1.025 | D10: =B10*('Waste plastic data in 2019'!$B$11/'Waste plastic data in 2019'!$B$12) -> 537.31568 | E10: =B10*('Waste plastic data in 2019'!$B$8/'Waste plastic data in 2019'!$B$12) -> 3953.1082 | F10: =E10*('Waste plastic data in 2019'!$B$9/'Waste plastic data in 2019'!$B$8) -> 1608.901 | G10: =E10*('Waste plastic data in 2019'!$B$10/'Waste plastic data in 2019'!$B$8) -> 2344.2072
A11: 2028 | B11: =B10*C10 -> 7867.8367 | C11: 1.025 | D11: =B11*('Waste plastic data in 2019'!$B$11/'Waste plastic data in 2019'!$B$12) -> 550.74857 | E11: =B11*('Waste plastic data in 2019'!$B$8/'Waste plastic data in 2019'!$B$12) -> 4051.9359 | F11: =E11*('Waste plastic data in 2019'!$B$9/'Waste plastic data in 2019'!$B$8) -> 1649.1236 | G11: =E11*('Waste plastic data in 2019'!$B$10/'Waste plastic data in 2019'!$B$8) -> 2402.8124
A12: 2029 | B12: =B11*C11 -> 8064.5326 | C12: 1.025 | D12: =B12*('Waste plastic data in 2019'!$B$11/'Waste plastic data in 2019'!$B$12) -> 564.51728 | E12: =B12*('Waste plastic data in 2019'!$B$8/'Waste plastic data in 2019'!$B$12) -> 4153.2343 | F12: =E12*('Waste plastic data in 2019'!$B$9/'Waste plastic data in 2019'!$B$8) -> 1690.3516 | G12: =E12*('Waste plastic data in 2019'!$B$10/'Waste plastic data in 2019'!$B$8) -> 2462.8827
A13: 2030 | B13: =B12*C12 -> 8266.1459 | C13: 1.025 | D13: =B13*('Waste plastic data in 2019'!$B$11/'Waste plastic data in 2019'!$B$12) -> 578.63022 | E13: =B13*('Waste plastic data in 2019'!$B$8/'Waste plastic data in 2019'!$B$12) -> 4257.0652 | F13: =E13*('Waste plastic data in 2019'!$B$9/'Waste plastic data in 2019'!$B$8) -> 1732.6104 | G13: =E13*('Waste plastic data in 2019'!$B$10/'Waste plastic data in 2019'!$B$8) -> 2524.4547
A14: 2031 | B14: =B13*C13 -> 8472.7996 | C14: 1.025 | D14: =B14*('Waste plastic data in 2019'!$B$11/'Waste plastic data in 2019'!$B$12) -> 593.09597 | E14: =B14*('Waste plastic data in 2019'!$B$8/'Waste plastic data in 2019'!$B$12) -> 4363.4918 | F14: =E14*('Waste plastic data in 2019'!$B$9/'Waste plastic data in 2019'!$B$8) -> 1775.9257 | G14: =E14*('Waste plastic data in 2019'!$B$10/'Waste plastic data in 2019'!$B$8) -> 2587.5661
... A17: 2034 | B17: =B16*C16 -> 9124.2784 | C17: 1.025 | D17: =B17*('Waste plastic data in 2019'!$B$11/'Waste plastic data in 2019'!$B$12) -> 638.69949 | E17: =B17*('Waste plastic data in 2019'!$B$8/'Waste plastic data in 2019'!$B$12) -> 4699.0034 | F17: =E17*('Waste plastic data in 2019'!$B$9/'Waste plastic data in 2019'!$B$8) -> 1912.4777 | G17: =E17*('Waste plastic data in 2019'!$B$10/'Waste plastic data in 2019'!$B$8) -> 2786.5257
A18: 2035 | B18: =B17*C17 -> 9352.3854 | D18: =B18*('Waste plastic data in 2019'!$B$11/'Waste plastic data in 2019'!$B$12) -> 654.66698 | E18: =B18*('Waste plastic data in 2019'!$B$8/'Waste plastic data in 2019'!$B$12) -> 4816.4785 | F18: =E18*('Waste plastic data in 2019'!$B$9/'Waste plastic data in 2019'!$B$8) -> 1960.2897 | G18: =E18*('Waste plastic data in 2019'!$B$10/'Waste plastic data in 2019'!$B$8) -> 2856.1888

Sheet Scenario prediction
A1: Year | B1: WEEE | C1: High recovery value waste plastic | D1: Low recovery value waste plastic
A2: 2019 | B2: 441 | C2: 1320.5 | D2: 1924 | E2: 0.5209 | F2: 0.037 | G2: 0.69 | H2: 0.27 | I2: 0.28 | J2: 0.64 | K2: 0.037 | L2: 0.507 | M2: 0.456 | N2: 0.63 | O2: 0.4
A3: 2020 | B3: 452.025 | C3: 1353.5125 | D3: 1972.1 | E3: =E2+0.005 -> 0.5259 | F3: =F2-0.005 -> 0.032 | G3: 0.71 | H3: 0.25 | I3: =I2+0.05 -> 0.33 | J3: =J2-0.05 -> 0.59 | K3: =K2+0.15 -> 0.187 | L3: =L2-0.05 -> 0.457 | M3: =M2-0.1 -> 0.356 | N3: =N2+0.04 -> 0.67 | O3: 1
A4: 2021 | B4: 463.32562 | C4: 1387.3503 | D4: 2021.4025 | E4: =E3+0.005 -> 0.5309 | F4: =F3-0.005 -> 0.027 | G4: 0.73 | H4: 0.23 | I4: =I3+0.05 -> 0.38 | J4: =J3-0.05 -> 0.54 | K4: =K3+0.15 -> 0.337 | L4: =L3-0.05 -> 0.407 | M4: =M3-0.1 -> 0.256 | N4: =N3+0.04 -> 0.71 | O4: 1
A5: 2022 | B5: 474.90877 | C5: 1422.0341 | D5: 2071.9376 | E5: =E4+0.005 -> 0.5359 | F5: =F4-0.005 -> 0.022 | G5: 0.75 | H5: 0.21 | I5: =I4+0.05 -> 0.43 | J5: =J4-0.05 -> 0.49 | K5: =K4+0.15 -> 0.487 | L5: =L4-0.05 -> 0.357 | M5: =M4-0.1 -> 0.156 | N5: =N4+0.04 -> 0.75 | O5: 1
A6: 2023 | B6: 486.78148 | C6: 1457.5849 | D6: 2123.736 | E6: =E5+0.005 -> 0.5409 | F6: =F5-0.005 -> 0.017 | G6: 0.77 | H6: 0.19 | I6: =I5+0.05 -> 0.48 | J6: =J5-0.05 -> 0.44 | K6: =K5+0.15 -> 0.637 | L6: =L5-0.05 -> 0.307 | M6: =M5-0.1 -> 0.056 | N6: =N5+0.02 -> 0.77 | O6: 1
A7: 2024 | B7: 498.95102 | C7: 1494.0245 | D7: 2176.8294 | E7: =E6+0.005 -> 0.5459 | F7: =F6-0.005 -> 0.012 | G7: 0.79 | H7: 0.17 | I7: =I6+0.05 -> 0.53 | J7: =J6-0.05 -> 0.39 | K7: =K6+0.07 -> 0.707 | L7: =L6-0.02 -> 0.287 | M7: =M6-0.05 -> 0.006 | N7: =N6+0.02 -> 0.79 | O7: 1
A8: 2025 | B8: 511.4248 | C8: 1531.3752 | D8: 2231.2501 | E8: =E7+0.001 -> 0.5469 | F8: =F7-0.001 -> 0.011 | G8: 0.8 | H8: 0.16 | I8: =I7+0.05 -> 0.58 | J8: =J7-0.05 -> 0.34 | K8: =K7+0.026 -> 0.733 | L8: =L7-0.02 -> 0.267 | M8: 0 | N8: =N7+0.02 -> 0.81 | O8: 1
A9: 2026 | B9: 524.21042 | C9: 1569.6595 | D9: 2287.0314 | E9: =E8+0.001 -> 0.5479 | F9: =F8-0.001 -> 0.01 | G9: 0.81 | H9: 0.15 | I9: =I8+0.03 -> 0.61 | J9: =J8-0.03 -> 0.31 | K9: =K8+0.02 -> 0.753 | L9: =L8-0.02 -> 0.247 | M9: 0 | N9: =N8+0.01 -> 0.82 | O9: 1
A10: 2027 | B10: 537.31568 | C10: 1608.901 | D10: 2344.2072 | E10: =E9+0.001 -> 0.5489 | F10: =F9-0.001 -> 0.009 | G10: 0.82 | H10: 0.14 | I10: =I9+0.03 -> 0.64 | J10: =J9-0.03 -> 0.28 | K10: =K9+0.01 -> 0.763 | L10: =L9-0.01 -> 0.237 | M10: 0 | N10: =N9+0.01 -> 0.83 | O10: 1
A11: 2028 | B11: 550.74857 | C11: 1649.1236 | D11: 2402.8124 | E11: =E10+0.001 -> 0.5499 | F11: =F10-0.001 -> 0.008 | G11: 0.83 | H11: 0.13 | I11: =I10+0.03 -> 0.67 | J11: =J10-0.03 -> 0.25 | K11: =K10+0.01 -> 0.773 | L11: =L10-0.01 -> 0.227 | M11: 0 | N11: =N10+0.01 -> 0.84 | O11: 1
A12: 2029 | B12: 564.51728 | C12: 1690.3516 | D12: 2462.8827 | E12: =E11+0.0001 -> 0.55 | F12: 0.0079 | G12: 0.84 | H12: 0.12 | I12: =I11+0.03 -> 0.7 | J12: =J11-0.03 -> 0.22 | K12: =K11+0.01 -> 0.783 | L12: =L11-0.01 -> 0.217 | M12: 0 | N12: =N11+0.01 -> 0.85 | O12: 1
A13: 2030 | B13: 578.63022 | C13: 1732.6104 | D13: 2524.4547 | E13: 0.55 | F13: 0.0079 | G13: 0.85 | H13: 0.11 | I13: =I12+0.03 -> 0.73 | J13: =J12-0.03 -> 0.19 | K13: =K12+0.01 -> 0.793 | L13: =L12-0.01 -> 0.207 | M13: 0 | N13: =N12+0.01 -> 0.86 | O13: 1
A14: 2031 | B14: 593.09597 | C14: 1775.9257 | D14: 2587.5661 | E14: 0.55 | F14: 0.0079 | G14: 0.86 | H14: 0.1 | I14: =I13+0.03 -> 0.76 | J14: =J13-0.03 -> 0.16 | K14: =K13+0.002 -> 0.795 | L14: =L13-0.002 -> 0.205 | M14: 0 | N14: =N13+0.01 -> 0.87 | O14: 1
A15: 2032 | B15: 607.92337 | C15: 1820.3238 | D15: 2652.2553 | E15: 0.55 | F15: 0.0079 | G15: 0.87 | H15: 0.09 | I15: =I14+0.01 -> 0.77 | J15: =J14-0.01 -> 0.15 | K15: =K14+0.002 -> 0.797 | L15: =L14-0.002 -> 0.203 | M15: 0 | N15: =N14+0.01 -> 0.88 | O15: 1
A16: 2033 | B16: 623.12146 | C16: 1865.8319 | D16: 2718.5616 | E16: 0.55 | F16: 0.0079 | G16: 0.88 | H16: 0.08 | I16: =I15+0.01 -> 0.78 | J16: =J15-0.01 -> 0.14 | K16: =K15+0.001 -> 0.798 | L16: =L15-0.001 -> 0.202 | M16: 0 | N16: =N15+0.005 -> 0.885 | O16: 1
A17: 2034 | B17: 638.69949 | C17: 1912.4777 | D17: 2786.5257 | E17: 0.55 | F17: 0.0079 | G17: 0.89 | H17: 0.07 | I17: =I16+0.01 -> 0.79 | J17: =J16-0.01 -> 0.13 | K17: =K16+0.001 -> 0.799 | L17: =L16-0.001 -> 0.201 | M17: 0 | N17: =N16+0.01 -> 0.895 | O17: 1
A18: 2035 | B18: 654.66698 | C18: 1960.2897 | D18: 2856.1888 | E18: 0.55 | F18: 0.0079 | G18: 0.9 | H18: 0.06 | I18: 0.8 | J18: 0.12 | K18: 0.8 | L18: 0.2 | M18: 0 | N18: 0.9 | O18: 1
A19: Scenario 1
A20: Year | B20: Refurbushment | C20: Transfer or Idle | D20: Reuse | E20: Sorting | F20: Waste plastics markrt | G20: Recycling plant | H20: Mixed waste | I20: Incineration | J20: Fly ASH | K20: BOTTLE ASH | L20: Building filler | M20: Reused products | N20: High-end applications | O20: Low-end applications | P20: Energy | Q20: Energy(MJ) | R20: Landfill | S20: LOST | T20: CE | U20: CR | V20: DE(ug) | W20: DE(g)
A21: 2019 | B21: =B2*E2 -> 229.7169 | C21: =B2*Parameters!$C$4 -> 194.9661 | D21: =C2*Parameters!$C$8+D2*Parameters!$C$11 -> 206.74 | E21: =B2*F2+H2*C2+J2*D2 -> 1604.212 | F21: =B21*(1-Parameters!$C$15)+E21*$K$2+C2*G2+D2*I2 -> 1624.0793 | G21: =F21*$N$2 -> 1023.17 | H21: =F21*(1-$N$2) -> 600.90934 | I21: =E21*$L$2+H21*$O$2 -> 1053.6992 | J21: =I21*Parameters!$C$20 -> 31.610977 | K21: =I21*Parameters!$C$19 -> 231.81383 | L21: =K21*Parameters!$C$23 -> 227.17755 | M21: =B21*Parameters!$C$15 -> 114.85845 | N21: =G21*Parameters!$C$21 -> 838.99936 | O21: =L21+G21*(1-Parameters!$C$21)*Parameters!$C$23 -> 407.66473 | P21: =I21*Parameters!$C$22*Parameters!$C$25 -> 202.31025 | Q21: =P21*Parameters!$C$24*10000000 -> 8.901651e+10 | R21: =E21*$M$2+J21+H21*(1-$O$2)+K21*(1-Parameters!$C$23)+'Scenario prediction'!G21*(1-Parameters!$C$21)*(1-Parameters!$C$23) -> 1131.9969 | S21: =R21+I21*Parameters!$C$22*(1-Parameters!$C$25) -> 1719.9611 | T21: =N21*Parameters!$C$27+Parameters!$C$26*Parameters!$C$22*'Scenario prediction'!I21 -> 3490.4836 | U21: =N21*(Parameters!$C$28-Parameters!$C$27) -> 2447.3611 | V21: =I21*Parameters!$C$29 -> 3.1610977e+08 | W21: =V21/1000000 -> 316.10977
A22: 2020 | B22: =B3*E3 -> 237.71995 | C22: =B3*Parameters!$C$4 -> 199.84025 | D22: =C3*Parameters!$C$8+D3*Parameters!$C$11 -> 211.9085 | E22: =B3*F3+H3*C3+J3*D3 -> 1516.3819 | F22: =B22*(1-Parameters!$C$15)+E22*$K$2+C3*G3+D3*I3 -> 1786.753 | G22: =F22*$N$2 -> 1125.6544 | H22: =F22*(1-$N$2) -> 661.0986 | I22: =E22*$L$2+H22*$O$2 -> 1033.2451 | J22: =I22*Parameters!$C$20 -> 30.997352 | K22: =I22*Parameters!$C$19 -> 227.31392 | L22: =K22*Parameters!$C$23 -> 222.76764 | M22: =B22*Parameters!$C$15 -> 118.85997 | N22: =G22*Parameters!$C$21 -> 923.03659 | O22: =L22+G22*(1-Parameters!$C$21)*Parameters!$C$23 -> 421.33307 | P22: =I22*Parameters!$C$22*Parameters!$C$25 -> 198.38305 | Q22: =P22*Parameters!$C$24*10000000 -> 8.7288544e+10 | R22: =E22*$M$2+J22+H22*(1-$O$2)+K22*(1-Parameters!$C$23)+'Scenario prediction'!G22*(1-Parameters!$C$21)*(1-Parameters!$C$23) -> 1127.7253 | S22: =R22+I22*Parameters!$C$22*(1-Parameters!$C$25) -> 1704.2761 | T22: =N22*Parameters!$C$27+Parameters!$C$26*Parameters!$C$22*'Scenario prediction'!I22 -> 3580.2354 | U22: =N22*(Parameters!$C$28-Parameters!$C$27) -> 2692.4977 | V22: =I22*Parameters!$C$29 -> 3.0997352e+08 | W22: =V22/1000000 -> 309.97352
A23: 2021 | B23: =B4*E4 -> 245.97957 | C23: =B4*Parameters!$C$4 -> 204.83626 | D23: =C4*Parameters!$C$8+D4*Parameters!$C$11 -> 217.20621 | E23: =B4*F4+H4*C4+J4*D4 -> 1423.1577 | F23: =B23*(1-Parameters!$C$15)+E23*$K$2+C4*G4+D4*I4 -> 1956.5453 | G23: =F23*$N$2 -> 1232.6235 | H23: =F23*(1-$N$2) -> 723.92176 | I23: =E23*$L$2+H23*$O$2 -> 1011.1097 | J23: =I23*Parameters!$C$20 -> 30.33329 | K23: =I23*Parameters!$C$19 -> 222.44413 | L23: =K23*Parameters!$C$23 -> 217.99524 | M23: =B23*Parameters!$C$15 -> 122.98979 | N23: =G23*Parameters!$C$21 -> 1010.7513 | O23: =L23+G23*(1-Parameters!$C$21)*Parameters!$C$23 -> 435.43004 | P23: =I23*Parameters!$C$22*Parameters!$C$25 -> 194.13306 | Q23: =P23*Parameters!$C$24*10000000 -> 8.5418545e+10 | R23: =E23*$M$2+J23+H23*(1-$O$2)+K23*(1-Parameters!$C$23)+'Scenario prediction'!G23*(1-Parameters!$C$21)*(1-Parameters!$C$23) -> 1122.5326 | S23: =R23+I23*Parameters!$C$22*(1-Parameters!$C$25) -> 1686.7318 | T23: =N23*Parameters!$C$27+Parameters!$C$26*Parameters!$C$22*'Scenario prediction'!I23 -> 3672.2932 | U23: =N23*(Parameters!$C$28-Parameters!$C$27) -> 2948.3615 | V23: =I23*Parameters!$C$29 -> 3.033329e+08 | W23: =V23/1000000 -> 303.3329
A24: 2022 | B24: =B5*E5 -> 254.50361 | C24: =B5*Parameters!$C$4 -> 209.95717 | D24: =C5*Parameters!$C$8+D5*Parameters!$C$11 -> 222.63637 | E24: =B5*F5+H5*C5+J5*D5 -> 1324.3246 | F24: =B24*(1-Parameters!$C$15)+E24*$K$2+C5*G5+D5*I5 -> 2133.7105 | G24: =F24*$N$2 -> 1344.2376 | H24: =F24*(1-$N$2) -> 789.47289 | I24: =E24*$L$2+H24*$O$2 -> 987.2217 | J24: =I24*Parameters!$C$20 -> 29.616651 | K24: =I24*Parameters!$C$19 -> 217.18878 | L24: =K24*Parameters!$C$23 -> 212.845 | M24: =B24*Parameters!$C$15 -> 127.2518 | N24: =G24*Parameters!$C$21 -> 1102.2749 | O24: =L24+G24*(1-Parameters!$C$21)*Parameters!$C$23 -> 449.96852 | P24: =I24*Parameters!$C$22*Parameters!$C$25 -> 189.54657 | Q24: =P24*Parameters!$C$24*10000000 -> 8.340049e+10 | R24: =E24*$M$2+J24+H24*(1-$O$2)+K24*(1-Parameters!$C$23)+'Scenario prediction'!G24*(1-Parameters!$C$21)*(1-Parameters!$C$23) -> 1116.3754 | S24: =R24+I24*Parameters!$C$22*(1-Parameters!$C$25) -> 1667.2451 | T24: =N24*Parameters!$C$27+Parameters!$C$26*Parameters!$C$22*'Scenario prediction'!I24 -> 3766.7163 | U24: =N24*(Parameters!$C$28-Parameters!$C$27) -> 3215.3357 | V24: =I24*Parameters!$C$29 -> 2.9616651e+08 | W24: =V24/1000000 -> 296.16651
A25: 2023 | B25: =B6*E6 -> 263.30011 | C25: =B6*Parameters!$C$4 -> 215.20609 | D25: =C6*Parameters!$C$8+D6*Parameters!$C$11 -> 228.20228 | E25: =B6*F6+H6*C6+J6*D6 -> 1219.6603 | F25: =B25*(1-Parameters!$C$15)+E25*$K$2+C6*G6+D6*I6 -> 2318.5112 | G25: =F25*$N$2 -> 1460.662 | H25: =F25*(1-$N$2) -> 857.84913 | I25: =E25*$L$2+H25*$O$2 -> 961.5074 | J25: =I25*Parameters!$C$20 -> 28.845222 | K25: =I25*Parameters!$C$19 -> 211.53163 | L25: =K25*Parameters!$C$23 -> 207.301 | M25: =B25*Parameters!$C$15 -> 131.65005 | N25: =G25*Parameters!$C$21 -> 1197.7429 | O25: =L25+G25*(1-Parameters!$C$21)*Parameters!$C$23 -> 464.96178 | P25: =I25*Parameters!$C$22*Parameters!$C$25 -> 184.60942 | Q25: =P25*Parameters!$C$24*10000000 -> 8.1228145e+10 | R25: =E25*$M$2+J25+H25*(1-$O$2)+K25*(1-Parameters!$C$23)+'Scenario prediction'!G25*(1-Parameters!$C$21)*(1-Parameters!$C$23) -> 1109.2088 | S25: =R25+I25*Parameters!$C$22*(1-Parameters!$C$25) -> 1645.7299 | T25: =N25*Parameters!$C$27+Parameters!$C$26*Parameters!$C$22*'Scenario prediction'!I25 -> 3863.5653 | U25: =N25*(Parameters!$C$28-Parameters!$C$27) -> 3493.8159 | V25: =I25*Parameters!$C$29 -> 2.8845222e+08 | W25: =V25/1000000 -> 288.45222
A26: 2024 | B26: =B7*E7 -> 272.37736 | C26: =B7*Parameters!$C$4 -> 220.58625 | D26: =C7*Parameters!$C$8+D7*Parameters!$C$11 -> 233.90733 | E26: =B7*F7+H7*C7+J7*D7 -> 1108.9351 | F26: =B26*(1-Parameters!$C$15)+E26*$K$2+C7*G7+D7*I7 -> 2511.2183 | G26: =F26*$N$2 -> 1582.0675 | H26: =F26*(1-$N$2) -> 929.15075 | I26: =E26*$L$2+H26*$O$2 -> 933.89037 | J26: =I26*Parameters!$C$20 -> 28.016711 | K26: =I26*Parameters!$C$19 -> 205.45588 | L26: =K26*Parameters!$C$23 -> 201.34676 | M26: =B26*Parameters!$C$15 -> 136.18868 | N26: =G26*Parameters!$C$21 -> 1297.2953 | O26: =L26+G26*(1-Parameters!$C$21)*Parameters!$C$23 -> 480.42347 | P26: =I26*Parameters!$C$22*Parameters!$C$25 -> 179.30695 | Q26: =P26*Parameters!$C$24*10000000 -> 7.8895059e+10 | R26: =E26*$M$2+J26+H26*(1-$O$2)+K26*(1-Parameters!$C$23)+'Scenario prediction'!G26*(1-Parameters!$C$21)*(1-Parameters!$C$23) -> 1100.9861 | S26: =R26+I26*Parameters!$C$22*(1-Parameters!$C$25) -> 1622.0969 | T26: =N26*Parameters!$C$27+Parameters!$C$26*Parameters!$C$22*'Scenario prediction'!I26 -> 3962.9026 | U26: =N26*(Parameters!$C$28-Parameters!$C$27) -> 3784.2105 | V26: =I26*Parameters!$C$29 -> 2.8016711e+08 | W26: =V26/1000000 -> 280.16711
A27: 2025 | B27: =B8*E8 -> 279.69822 | C27: =B8*Parameters!$C$4 -> 226.1009 | D27: =C8*Parameters!$C$8+D8*Parameters!$C$11 -> 239.75502 | E27: =B8*F8+H8*C8+J8*D8 -> 1009.2707 | F27: =B27*(1-Parameters!$C$15)+E27*$K$2+C8*G8+D8*I8 -> 2696.4173 | G27: =F27*$N$2 -> 1698.7429 | H27: =F27*(1-$N$2) -> 997.67441 | I27: =E27*$L$2+H27*$O$2 -> 910.77003 | J27: =I27*Parameters!$C$20 -> 27.323101 | K27: =I27*Parameters!$C$19 -> 200.36941 | L27: =K27*Parameters!$C$23 -> 196.36202 | M27: =B27*Parameters!$C$15 -> 139.84911 | N27: =G27*Parameters!$C$21 -> 1392.9692 | O27: =L27+G27*(1-Parameters!$C$21)*Parameters!$C$23 -> 496.02027 | P27: =I27*Parameters!$C$22*Parameters!$C$25 -> 174.86785 | Q27: =P27*Parameters!$C$24*10000000 -> 7.6941852e+10 | R27: =E27*$M$2+J27+H27*(1-$O$2)+K27*(1-Parameters!$C$23)+'Scenario prediction'!G27*(1-Parameters!$C$21)*(1-Parameters!$C$23) -> 1096.2781 | S27: =R27+I27*Parameters!$C$22*(1-Parameters!$C$25) -> 1604.4877 | T27: =N27*Parameters!$C$27+Parameters!$C$26*Parameters!$C$22*'Scenario prediction'!I27 -> 4065.4248 | U27: =N27*(Parameters!$C$28-Parameters!$C$27) -> 4063.2911 | V27: =I27*Parameters!$C$29 -> 2.7323101e+08 | W27: =V27/1000000 -> 273.23101
A28: 2026 | B28: =B9*E9 -> 287.21489 | C28: =B9*Parameters!$C$4 -> 231.75343 | D28: =C9*Parameters!$C$8+D9*Parameters!$C$11 -> 245.74889 | E28: =B9*F9+H9*C9+J9*D9 -> 949.67077 | F28: =B28*(1-Parameters!$C$15)+E28*$K$2+C9*G9+D9*I9 -> 2845.2586 | G28: =F28*$N$2 -> 1792.5129 | H28: =F28*(1-$N$2) -> 1052.7457 | I28: =E28*$L$2+H28*$O$2 -> 902.58136 | J28: =I28*Parameters!$C$20 -> 27.077441 | K28: =I28*Parameters!$C$19 -> 198.5679 | L28: =K28*Parameters!$C$23 -> 194.59654 | M28: =B28*Parameters!$C$15 -> 143.60744 | N28: =G28*Parameters!$C$21 -> 1469.8606 | O28: =L28+G28*(1-Parameters!$C$21)*Parameters!$C$23 -> 510.79582 | P28: =I28*Parameters!$C$22*Parameters!$C$25 -> 173.29562 | Q28: =P28*Parameters!$C$24*10000000 -> 7.6250073e+10 | R28: =E28*$M$2+J28+H28*(1-$O$2)+K28*(1-Parameters!$C$23)+'Scenario prediction'!G28*(1-Parameters!$C$21)*(1-Parameters!$C$23) -> 1102.1991 | S28: =R28+I28*Parameters!$C$22*(1-Parameters!$C$25) -> 1605.8395 | T28: =N28*Parameters!$C$27+Parameters!$C$26*Parameters!$C$22*'Scenario prediction'!I28 -> 4169.2552 | U28: =N28*(Parameters!$C$28-Parameters!$C$27) -> 4287.5834 | V28: =I28*Parameters!$C$29 -> 2.7077441e+08 | W28: =V28/1000000 -> 270.77441
A29: 2027 | B29: =B10*E10 -> 294.93258 | C29: =B10*Parameters!$C$4 -> 237.54726 | D29: =C10*Parameters!$C$8+D10*Parameters!$C$11 -> 251.89262 | E29: =B10*F10+H10*C10+J10*D10 -> 886.45999 | F29: =B29*(1-Parameters!$C$15)+E29*$K$2+C10*G10+D10*I10 -> 2999.8567 | G29: =F29*$N$2 -> 1889.9097 | H29: =F29*(1-$N$2) -> 1109.947 | I29: =E29*$L$2+H29*$O$2 -> 893.41401 | J29: =I29*Parameters!$C$20 -> 26.80242 | K29: =I29*Parameters!$C$19 -> 196.55108 | L29: =K29*Parameters!$C$23 -> 192.62006 | M29: =B29*Parameters!$C$15 -> 147.46629 | N29: =G29*Parameters!$C$21 -> 1549.726 | O29: =L29+G29*(1-Parameters!$C$21)*Parameters!$C$23 -> 526.00014 | P29: =I29*Parameters!$C$22*Parameters!$C$25 -> 171.53549 | Q29: =P29*Parameters!$C$24*10000000 -> 7.5475616e+10 | R29: =E29*$M$2+J29+H29*(1-$O$2)+K29*(1-Parameters!$C$23)+'Scenario prediction'!G29*(1-Parameters!$C$21)*(1-Parameters!$C$23) -> 1107.7311 | S29: =R29+I29*Parameters!$C$22*(1-Parameters!$C$25) -> 1606.2561 | T29: =N29*Parameters!$C$27+Parameters!$C$26*Parameters!$C$22*'Scenario prediction'!I29 -> 4275.7362 | U29: =N29*(Parameters!$C$28-Parameters!$C$27) -> 4520.5507 | V29: =I29*Parameters!$C$29 -> 2.680242e+08 | W29: =V29/1000000 -> 268.0242
A30: 2028 | B30: =B11*E11 -> 302.85664 | C30: =B11*Parameters!$C$4 -> 243.48594 | D30: =C11*Parameters!$C$8+D11*Parameters!$C$11 -> 258.18993 | E30: =B11*F11+H11*C11+J11*D11 -> 819.49514 | F30: =B30*(1-Parameters!$C$15)+E30*$K$2+C11*G11+D11*I11 -> 3160.4065 | G30: =F30*$N$2 -> 1991.0561 | H30: =F30*(1-$N$2) -> 1169.3504 | I30: =E30*$L$2+H30*$O$2 -> 883.22419 | J30: =I30*Parameters!$C$20 -> 26.496726 | K30: =I30*Parameters!$C$19 -> 194.30932 | L30: =K30*Parameters!$C$23 -> 190.42314 | M30: =B30*Parameters!$C$15 -> 151.42832 | N30: =G30*Parameters!$C$21 -> 1632.666 | O30: =L30+G30*(1-Parameters!$C$21)*Parameters!$C$23 -> 541.64543 | P30: =I30*Parameters!$C$22*Parameters!$C$25 -> 169.57904 | Q30: =P30*Parameters!$C$24*10000000 -> 7.461478e+10 | R30: =E30*$M$2+J30+H30*(1-$O$2)+K30*(1-Parameters!$C$23)+'Scenario prediction'!G30*(1-Parameters!$C$21)*(1-Parameters!$C$23) -> 1112.8507 | S30: =R30+I30*Parameters!$C$22*(1-Parameters!$C$25) -> 1605.6898 | T30: =N30*Parameters!$C$27+Parameters!$C$26*Parameters!$C$22*'Scenario prediction'!I30 -> 4384.9355 | U30: =N30*(Parameters!$C$28-Parameters!$C$27) -> 4762.4867 | V30: =I30*Parameters!$C$29 -> 2.6496726e+08 | W30: =V30/1000000 -> 264.96726
A31: 2029 | B31: =B12*E12 -> 310.48451 | C31: =B12*Parameters!$C$4 -> 249.57309 | D31: =C12*Parameters!$C$8+D12*Parameters!$C$11 -> 264.64468 | E31: =B12*F12+H12*C12+J12*D12 -> 749.13607 | F31: =B31*(1-Parameters!$C$15)+E31*$K$2+C12*G12+D12*I12 -> 3326.8735 | G31: =F31*$N$2 -> 2095.9303 | H31: =F31*(1-$N$2) -> 1230.9432 | I31: =E31*$L$2+H31*$O$2 -> 872.18927 | J31: =I31*Parameters!$C$20 -> 26.165678 | K31: =I31*Parameters!$C$19 -> 191.88164 | L31: =K31*Parameters!$C$23 -> 188.04401 | M31: =B31*Parameters!$C$15 -> 155.24225 | N31: =G31*Parameters!$C$21 -> 1718.6629 | O31: =L31+G31*(1-Parameters!$C$21)*Parameters!$C$23 -> 557.76612 | P31: =I31*Parameters!$C$22*Parameters!$C$25 -> 167.46034 | Q31: =P31*Parameters!$C$24*10000000 -> 7.3682549e+10 | R31: =E31*$M$2+J31+H31*(1-$O$2)+K31*(1-Parameters!$C$23)+'Scenario prediction'!G31*(1-Parameters!$C$21)*(1-Parameters!$C$23) -> 1117.7206 | S31: =R31+I31*Parameters!$C$22*(1-Parameters!$C$25) -> 1604.4022 | T31: =N31*Parameters!$C$27+Parameters!$C$26*Parameters!$C$22*'Scenario prediction'!I31 -> 4497.1911 | U31: =N31*(Parameters!$C$28-Parameters!$C$27) -> 5013.3396 | V31: =I31*Parameters!$C$29 -> 2.6165678e+08 | W31: =V31/1000000 -> 261.65678
A32: 2030 | B32: =B13*E13 -> 318.24662 | C32: =B13*Parameters!$C$4 -> 255.81242 | D32: =C13*Parameters!$C$8+D13*Parameters!$C$11 -> 271.2608 | E32: =B13*F13+H13*C13+J13*D13 -> 674.80472 | F32: =B32*(1-Parameters!$C$15)+E32*$K$2+C13*G13+D13*I13 -> 3499.6619 | G32: =F32*$N$2 -> 2204.787 | H32: =F32*(1-$N$2) -> 1294.8749 | I32: =E32*$L$2+H32*$O$2 -> 860.07596 | J32: =I32*Parameters!$C$20 -> 25.802279 | K32: =I32*Parameters!$C$19 -> 189.21671 | L32: =K32*Parameters!$C$23 -> 185.43238 | M32: =B32*Parameters!$C$15 -> 159.12331 | N32: =G32*Parameters!$C$21 -> 1807.9253 | O32: =L32+G32*(1-Parameters!$C$21)*Parameters!$C$23 -> 574.3568 | P32: =I32*Parameters!$C$22*Parameters!$C$25 -> 165.13458 | Q32: =P32*Parameters!$C$24*10000000 -> 7.2659217e+10 | R32: =E32*$M$2+J32+H32*(1-$O$2)+K32*(1-Parameters!$C$23)+'Scenario prediction'!G32*(1-Parameters!$C$21)*(1-Parameters!$C$23) -> 1122.1597 | S32: =R32+I32*Parameters!$C$22*(1-Parameters!$C$25) -> 1602.0821 | T32: =N32*Parameters!$C$27+Parameters!$C$26*Parameters!$C$22*'Scenario prediction'!I32 -> 4612.3494 | U32: =N32*(Parameters!$C$28-Parameters!$C$27) -> 5273.7182 | V32: =I32*Parameters!$C$29 -> 2.5802279e+08 | W32: =V32/1000000 -> 258.02279
... A37: 2035 | B37: =B18*E18 -> 360.06684 | C37: =B18*Parameters!$C$4 -> 289.42827 | D37: =C18*Parameters!$C$8+D18*Parameters!$C$11 -> 306.90669 | E37: =B18*F18+H18*C18+J18*D18 -> 465.53191 | F37: =B37*(1-Parameters!$C$15)+E37*$K$2+C18*G18+D18*I18 -> 4246.4699 | G37: =F37*$N$2 -> 2675.276 | H37: =F37*(1-$N$2) -> 1571.1938 | I37: =E37*$L$2+H37*$O$2 -> 864.50222 | J37: =I37*Parameters!$C$20 -> 25.935066 | K37: =I37*Parameters!$C$19 -> 190.19049 | L37: =K37*Parameters!$C$23 -> 186.38668 | M37: =B37*Parameters!$C$15 -> 180.03342 | N37: =G37*Parameters!$C$21 -> 2193.7263 | O37: =L37+G37*(1-Parameters!$C$21)*Parameters!$C$23 -> 658.30537 | P37: =I37*Parameters!$C$22*Parameters!$C$25 -> 165.98443 | Q37: =P37*Parameters!$C$24*10000000 -> 7.3033147e+10 | R37: =E37*$M$2+J37+H37*(1-$O$2)+K37*(1-Parameters!$C$23)+'Scenario prediction'!G37*(1-Parameters!$C$21)*(1-Parameters!$C$23) -> 1194.3687 | S37: =R37+I37*Parameters!$C$22*(1-Parameters!$C$25) -> 1676.761 | T37: =N37*Parameters!$C$27+Parameters!$C$26*Parameters!$C$22*'Scenario prediction'!I37 -> 5227.1862 | U37: =N37*(Parameters!$C$28-Parameters!$C$27) -> 6399.0997 | V37: =I37*Parameters!$C$29 -> 2.5935066e+08 | W37: =V37/1000000 -> 259.35066
A38: Scenario 2
A39: Year | B39: Refurbushment | C39: Transfer or Idle | D39: Reuse | E39: Sorting | F39: Waste plastics markrt | G39: Recycling plant | H39: Mixed waste | I39: Incineration | J39: Fly ASH | K39: BOTTLE ASH | L39: Building filler | M39: Reused products | N39: High-end applications | O39: Low-end applications | P39: Energy | Q39: Energy(MJ) | R39: Landfill | S39: LOST | T39: CE | U39: CR | V39: DE(ug) | W39: DE(g)
A40: 2019 | B40: =B2*$E$2 -> 229.7169 | C40: =B2*Parameters!$C$4 -> 194.9661 | D40: =C2*Parameters!$C$8+D2*Parameters!$C$11 -> 206.74 | E40: =B2*$F$2+$H$2*C2+$J$2*D2 -> 1604.212 | F40: =B40*(1-Parameters!$C$15)+E40*K2+C2*$G$2+D2*$I$2 -> 1624.0793 | G40: =F40*$N$2 -> 1023.17 | H40: =F40*(1-$N$2) -> 600.90934 | I40: =E40*L2+H40*O2 -> 1053.6992 | J40: =I40*Parameters!$C$20 -> 31.610977 | K40: =I40*Parameters!$C$19 -> 231.81383 | L40: =K40*Parameters!$C$23 -> 227.17755 | M40: =B40*Parameters!$C$15 -> 114.85845 | N40: =G40*Parameters!$C$21 -> 838.99936 | O40: =L40+G40*(1-Parameters!$C$21)*Parameters!$C$23 -> 407.66473 | P40: =I40*Parameters!$C$22*Parameters!$C$25 -> 202.31025 | Q40: =P40*Parameters!$C$24*10000000 -> 8.901651e+10 | R40: =E40*M2+J40+H40*(1-O2)+K40*(1-Parameters!$C$23)+'Scenario prediction'!G40*(1-Parameters!$C$21)*(1-Parameters!$C$23) -> 1131.9969 | S40: =R40+I40*Parameters!$C$22*(1-Parameters!$C$25) -> 1719.9611 | T40: =N40*Parameters!$C$27+Parameters!$C$26*Parameters!$C$22*'Scenario prediction'!I40 -> 3490.4836 | U40: =N40*(Parameters!$C$28-Parameters!$C$27) -> 2447.3611 | V40: =I40*Parameters!$C$29 -> 3.1610977e+08 | W40: =V40/1000000 -> 316.10977
A41: 2020 | B41: =B3*$E$2 -> 235.45982 | C41: =B3*Parameters!$C$4 -> 199.84025 | D41: =C3*Parameters!$C$8+D3*Parameters!$C$11 -> 211.9085 | E41: =B3*$F$2+$H$2*C3+$J$2*D3 -> 1644.3173 | F41: =B41*(1-Parameters!$C$15)+E41*K3+C3*$G$2+D3*$I$2 -> 1911.3289 | G41: =F41*$N$2 -> 1204.1372 | H41: =F41*(1-$N$2) -> 707.19168 | I41: =E41*L3+H41*O3 -> 1458.6447 | J41: =I41*Parameters!$C$20 -> 43.759341 | K41: =I41*Parameters!$C$19 -> 320.90183 | L41: =K41*Parameters!$C$23 -> 314.48379 | M41: =B41*Parameters!$C$15 -> 117.72991 | N41: =G41*Parameters!$C$21 -> 987.39249 | O41: =L41+G41*(1-Parameters!$C$21)*Parameters!$C$23 -> 526.89359 | P41: =I41*Parameters!$C$22*Parameters!$C$25 -> 280.05978 | Q41: =P41*Parameters!$C$24*10000000 -> 1.232263e+11 | R41: =E41*M3+J41+H41*(1-O3)+K41*(1-Parameters!$C$23)+'Scenario prediction'!G41*(1-Parameters!$C$21)*(1-Parameters!$C$23) -> 639.88923 | S41: =R41+I41*Parameters!$C$22*(1-Parameters!$C$25) -> 1453.813 | T41: =N41*Parameters!$C$27+Parameters!$C$26*Parameters!$C$22*'Scenario prediction'!I41 -> 4558.6609 | U41: =N41*(Parameters!$C$28-Parameters!$C$27) -> 2880.2239 | V41: =I41*Parameters!$C$29 -> 4.3759341e+08 | W41: =V41/1000000 -> 437.59341
A42: 2021 | B42: =B4*$E$2 -> 241.34632 | C42: =B4*Parameters!$C$4 -> 204.83626 | D42: =C4*Parameters!$C$8+D4*Parameters!$C$11 -> 217.20621 | E42: =B4*$F$2+$H$2*C4+$J$2*D4 -> 1685.4252 | F42: =B42*(1-Parameters!$C$15)+E42*K4+C4*$G$2+D4*$I$2 -> 2211.9259 | G42: =F42*$N$2 -> 1393.5133 | H42: =F42*(1-$N$2) -> 818.41257 | I42: =E42*L4+H42*O4 -> 1504.3806 | J42: =I42*Parameters!$C$20 -> 45.131419 | K42: =I42*Parameters!$C$19 -> 330.96374 | L42: =K42*Parameters!$C$23 -> 324.34447 | M42: =B42*Parameters!$C$15 -> 120.67316 | N42: =G42*Parameters!$C$21 -> 1142.6809 | O42: =L42+G42*(1-Parameters!$C$21)*Parameters!$C$23 -> 570.16021 | P42: =I42*Parameters!$C$22*Parameters!$C$25 -> 288.84108 | Q42: =P42*Parameters!$C$24*10000000 -> 1.2709008e+11 | R42: =E42*M4+J42+H42*(1-O4)+K42*(1-Parameters!$C$23)+'Scenario prediction'!G42*(1-Parameters!$C$21)*(1-Parameters!$C$23) -> 488.2362 | S42: =R42+I42*Parameters!$C$22*(1-Parameters!$C$25) -> 1327.6806 | T42: =N42*Parameters!$C$27+Parameters!$C$26*Parameters!$C$22*'Scenario prediction'!I42 -> 4896.7941 | U42: =N42*(Parameters!$C$28-Parameters!$C$27) -> 3333.2002 | V42: =I42*Parameters!$C$29 -> 4.5131419e+08 | W42: =V42/1000000 -> 451.31419
A43: 2022 | B43: =B5*$E$2 -> 247.37998 | C43: =B5*Parameters!$C$4 -> 209.95717 | D43: =C5*Parameters!$C$8+D5*Parameters!$C$11 -> 222.63637 | E43: =B5*$F$2+$H$2*C5+$J$2*D5 -> 1727.5609 | F43: =B43*(1-Parameters!$C$15)+E43*K5+C5*$G$2+D5*$I$2 -> 2526.3582 | G43: =F43*$N$2 -> 1591.6056 | H43: =F43*(1-$N$2) -> 934.75252 | I43: =E43*L5+H43*O5 -> 1551.4917 | J43: =I43*Parameters!$C$20 -> 46.544752 | K43: =I43*Parameters!$C$19 -> 341.32818 | L43: =K43*Parameters!$C$23 -> 334.50162 | M43: =B43*Parameters!$C$15 -> 123.68999 | N43: =G43*Parameters!$C$21 -> 1305.1166 | O43: =L43+G43*(1-Parameters!$C$21)*Parameters!$C$23 -> 615.26085 | P43: =I43*Parameters!$C$22*Parameters!$C$25 -> 297.88642 | Q43: =P43*Parameters!$C$24*10000000 -> 1.3107002e+11 | R43: =E43*M5+J43+H43*(1-O5)+K43*(1-Parameters!$C$23)+'Scenario prediction'!G43*(1-Parameters!$C$21)*(1-Parameters!$C$23) -> 328.60059 | S43: =R43+I43*Parameters!$C$22*(1-Parameters!$C$25) -> 1194.333 | T43: =N43*Parameters!$C$27+Parameters!$C$26*Parameters!$C$22*'Scenario prediction'!I43 -> 5248.9848 | U43: =N43*(Parameters!$C$28-Parameters!$C$27) -> 3807.0252 | V43: =I43*Parameters!$C$29 -> 4.6544752e+08 | W43: =V43/1000000 -> 465.44752
A44: 2023 | B44: =B6*$E$2 -> 253.56448 | C44: =B6*Parameters!$C$4 -> 215.20609 | D44: =C6*Parameters!$C$8+D6*Parameters!$C$11 -> 228.20228 | E44: =B6*$F$2+$H$2*C6+$J$2*D6 -> 1770.7499 | F44: =B44*(1-Parameters!$C$15)+E44*K6+C6*$G$2+D6*$I$2 -> 2855.1296 | G44: =F44*$N$2 -> 1798.7316 | H44: =F44*(1-$N$2) -> 1056.3979 | I44: =E44*L6+H44*O6 -> 1600.0182 | J44: =I44*Parameters!$C$20 -> 48.000545 | K44: =I44*Parameters!$C$19 -> 352.004 | L44: =K44*Parameters!$C$23 -> 344.96392 | M44: =B44*Parameters!$C$15 -> 126.78224 | N44: =G44*Parameters!$C$21 -> 1474.9599 | O44: =L44+G44*(1-Parameters!$C$21)*Parameters!$C$23 -> 662.26018 | P44: =I44*Parameters!$C$22*Parameters!$C$25 -> 307.20349 | Q44: =P44*Parameters!$C$24*10000000 -> 1.3516953e+11 | R44: =E44*M6+J44+H44*(1-O6)+K44*(1-Parameters!$C$23)+'Scenario prediction'!G44*(1-Parameters!$C$21)*(1-Parameters!$C$23) -> 160.67805 | S44: =R44+I44*Parameters!$C$22*(1-Parameters!$C$25) -> 1053.4882 | T44: =N44*Parameters!$C$27+Parameters!$C$26*Parameters!$C$22*'Scenario prediction'!I44 -> 5615.7246 | U44: =N44*(Parameters!$C$28-Parameters!$C$27) -> 4302.4582 | V44: =I44*Parameters!$C$29 -> 4.8000545e+08 | W44: =V44/1000000 -> 480.00545
A45: 2024 | B45: =B7*$E$2 -> 259.90359 | C45: =B7*Parameters!$C$4 -> 220.58625 | D45: =C7*Parameters!$C$8+D7*Parameters!$C$11 -> 233.90733 | E45: =B7*$F$2+$H$2*C7+$J$2*D7 -> 1815.0186 | F45: =B45*(1-Parameters!$C$15)+E45*K7+C7*$G$2+D7*$I$2 -> 3053.5591 | G45: =F45*$N$2 -> 1923.7423 | H45: =F45*(1-$N$2) -> 1129.8169 | I45: =E45*L7+H45*O7 -> 1650.7272 | J45: =I45*Parameters!$C$20 -> 49.521817 | K45: =I45*Parameters!$C$19 -> 363.15999 | L45: =K45*Parameters!$C$23 -> 355.89679 | M45: =B45*Parameters!$C$15 -> 129.95179 | N45: =G45*Parameters!$C$21 -> 1577.4686 | O45: =L45+G45*(1-Parameters!$C$21)*Parameters!$C$23 -> 695.24492 | P45: =I45*Parameters!$C$22*Parameters!$C$25 -> 316.93963 | Q45: =P45*Parameters!$C$24*10000000 -> 1.3945344e+11 | R45: =E45*M7+J45+H45*(1-O7)+K45*(1-Parameters!$C$23)+'Scenario prediction'!G45*(1-Parameters!$C$21)*(1-Parameters!$C$23) -> 74.600601 | S45: =R45+I45*Parameters!$C$22*(1-Parameters!$C$25) -> 995.70639 | T45: =N45*Parameters!$C$27+Parameters!$C$26*Parameters!$C$22*'Scenario prediction'!I45 -> 5881.2507 | U45: =N45*(Parameters!$C$28-Parameters!$C$27) -> 4601.476 | V45: =I45*Parameters!$C$29 -> 4.9521817e+08 | W45: =V45/1000000 -> 495.21817
A46: 2025 | B46: =B8*$E$2 -> 266.40118 | C46: =B8*Parameters!$C$4 -> 226.1009 | D46: =C8*Parameters!$C$8+D8*Parameters!$C$11 -> 239.75502 | E46: =B8*$F$2+$H$2*C8+$J$2*D8 -> 1860.3941 | F46: =B46*(1-Parameters!$C$15)+E46*K8+C8*$G$2+D8*$I$2 -> 3178.2684 | G46: =F46*$N$2 -> 2002.3091 | H46: =F46*(1-$N$2) -> 1175.9593 | I46: =E46*L8+H46*O8 -> 1672.6845 | J46: =I46*Parameters!$C$20 -> 50.180536 | K46: =I46*Parameters!$C$19 -> 367.99059 | L46: =K46*Parameters!$C$23 -> 360.63078 | M46: =B46*Parameters!$C$15 -> 133.20059 | N46: =G46*Parameters!$C$21 -> 1641.8934 | O46: =L46+G46*(1-Parameters!$C$21)*Parameters!$C$23 -> 713.8381 | P46: =I46*Parameters!$C$22*Parameters!$C$25 -> 321.15543 | Q46: =P46*Parameters!$C$24*10000000 -> 1.4130839e+11 | R46: =E46*M8+J46+H46*(1-O8)+K46*(1-Parameters!$C$23)+'Scenario prediction'!G46*(1-Parameters!$C$21)*(1-Parameters!$C$23) -> 64.74866 | S46: =R46+I46*Parameters!$C$22*(1-Parameters!$C$25) -> 998.10662 | T46: =N46*Parameters!$C$27+Parameters!$C$26*Parameters!$C$22*'Scenario prediction'!I46 -> 6027.6845 | U46: =N46*(Parameters!$C$28-Parameters!$C$27) -> 4789.4031 | V46: =I46*Parameters!$C$29 -> 5.0180536e+08 | W46: =V46/1000000 -> 501.80536
A47: 2026 | B47: =B9*$E$2 -> 273.06121 | C47: =B9*Parameters!$C$4 -> 231.75343 | D47: =C9*Parameters!$C$8+D9*Parameters!$C$11 -> 245.74889 | E47: =B9*$F$2+$H$2*C9+$J$2*D9 -> 1906.904 | F47: =B47*(1-Parameters!$C$15)+E47*K9+C9*$G$2+D9*$I$2 -> 3295.8631 | G47: =F47*$N$2 -> 2076.3938 | H47: =F47*(1-$N$2) -> 1219.4694 | I47: =E47*L9+H47*O9 -> 1690.4746 | J47: =I47*Parameters!$C$20 -> 50.714239 | K47: =I47*Parameters!$C$19 -> 371.90442 | L47: =K47*Parameters!$C$23 -> 364.46633 | M47: =B47*Parameters!$C$15 -> 136.5306 | N47: =G47*Parameters!$C$21 -> 1702.6429 | O47: =L47+G47*(1-Parameters!$C$21)*Parameters!$C$23 -> 730.7422 | P47: =I47*Parameters!$C$22*Parameters!$C$25 -> 324.57113 | Q47: =P47*Parameters!$C$24*10000000 -> 1.428113e+11 | R47: =E47*M9+J47+H47*(1-O9)+K47*(1-Parameters!$C$23)+'Scenario prediction'!G47*(1-Parameters!$C$21)*(1-Parameters!$C$23) -> 65.627345 | S47: =R47+I47*Parameters!$C$22*(1-Parameters!$C$25) -> 1008.9122 | T47: =N47*Parameters!$C$27+Parameters!$C$26*Parameters!$C$22*'Scenario prediction'!I47 -> 6159.7533 | U47: =N47*(Parameters!$C$28-Parameters!$C$27) -> 4966.6093 | V47: =I47*Parameters!$C$29 -> 5.0714239e+08 | W47: =V47/1000000 -> 507.14239
A48: 2027 | B48: =B10*$E$2 -> 279.88774 | C48: =B10*Parameters!$C$4 -> 237.54726 | D48: =C10*Parameters!$C$8+D10*Parameters!$C$11 -> 251.89262 | E48: =B10*$F$2+$H$2*C10+$J$2*D10 -> 1954.5765 | F48: =B48*(1-Parameters!$C$15)+E48*K10+C10*$G$2+D10*$I$2 -> 3397.8055 | G48: =F48*$N$2 -> 2140.6175 | H48: =F48*(1-$N$2) -> 1257.188 | I48: =E48*L10+H48*O10 -> 1720.4227 | J48: =I48*Parameters!$C$20 -> 51.61268 | K48: =I48*Parameters!$C$19 -> 378.49299 | L48: =K48*Parameters!$C$23 -> 370.92313 | M48: =B48*Parameters!$C$15 -> 139.94387 | N48: =G48*Parameters!$C$21 -> 1755.3063 | O48: =L48+G48*(1-Parameters!$C$21)*Parameters!$C$23 -> 748.52805 | P48: =I48*Parameters!$C$22*Parameters!$C$25 -> 330.32115 | Q48: =P48*Parameters!$C$24*10000000 -> 1.4534131e+11 | R48: =E48*M10+J48+H48*(1-O10)+K48*(1-Parameters!$C$23)+'Scenario prediction'!G48*(1-Parameters!$C$21)*(1-Parameters!$C$23) -> 66.888763 | S48: =R48+I48*Parameters!$C$22*(1-Parameters!$C$25) -> 1026.8846 | T48: =N48*Parameters!$C$27+Parameters!$C$26*Parameters!$C$22*'Scenario prediction'!I48 -> 6304.2027 | U48: =N48*(Parameters!$C$28-Parameters!$C$27) -> 5120.2285 | V48: =I48*Parameters!$C$29 -> 5.161268e+08 | W48: =V48/1000000 -> 516.1268
A49: 2028 | B49: =B11*$E$2 -> 286.88493 | C49: =B11*Parameters!$C$4 -> 243.48594 | D49: =C11*Parameters!$C$8+D11*Parameters!$C$11 -> 258.18993 | E49: =B11*$F$2+$H$2*C11+$J$2*D11 -> 2003.441 | F49: =B49*(1-Parameters!$C$15)+E49*K11+C11*$G$2+D11*$I$2 -> 3502.785 | G49: =F49*$N$2 -> 2206.7546 | H49: =F49*(1-$N$2) -> 1296.0305 | I49: =E49*L11+H49*O11 -> 1750.8116 | J49: =I49*Parameters!$C$20 -> 52.524347 | K49: =I49*Parameters!$C$19 -> 385.17854 | L49: =K49*Parameters!$C$23 -> 377.47497 | M49: =B49*Parameters!$C$15 -> 143.44246 | N49: =G49*Parameters!$C$21 -> 1809.5388 | O49: =L49+G49*(1-Parameters!$C$21)*Parameters!$C$23 -> 766.74648 | P49: =I49*Parameters!$C$22*Parameters!$C$25 -> 336.15582 | Q49: =P49*Parameters!$C$24*10000000 -> 1.4790856e+11 | R49: =E49*M11+J49+H49*(1-O11)+K49*(1-Parameters!$C$23)+'Scenario prediction'!G49*(1-Parameters!$C$21)*(1-Parameters!$C$23) -> 68.172234 | S49: =R49+I49*Parameters!$C$22*(1-Parameters!$C$25) -> 1045.1251 | T49: =N49*Parameters!$C$27+Parameters!$C$26*Parameters!$C$22*'Scenario prediction'!I49 -> 6452.0247 | U49: =N49*(Parameters!$C$28-Parameters!$C$27) -> 5278.4245 | V49: =I49*Parameters!$C$29 -> 5.2524347e+08 | W49: =V49/1000000 -> 525.24347
A50: 2029 | B50: =B12*$E$2 -> 294.05705 | C50: =B12*Parameters!$C$4 -> 249.57309 | D50: =C12*Parameters!$C$8+D12*Parameters!$C$11 -> 264.64468 | E50: =B12*$F$2+$H$2*C12+$J$2*D12 -> 2053.527 | F50: =B50*(1-Parameters!$C$15)+E50*K12+C12*$G$2+D12*$I$2 -> 3610.8899 | G50: =F50*$N$2 -> 2274.8607 | H50: =F50*(1-$N$2) -> 1336.0293 | I50: =E50*L12+H50*O12 -> 1781.6446 | J50: =I50*Parameters!$C$20 -> 53.449339 | K50: =I50*Parameters!$C$19 -> 391.96182 | L50: =K50*Parameters!$C$23 -> 384.12258 | M50: =B50*Parameters!$C$15 -> 147.02853 | N50: =G50*Parameters!$C$21 -> 1865.3857 | O50: =L50+G50*(1-Parameters!$C$21)*Parameters!$C$23 -> 785.408 | P50: =I50*Parameters!$C$22*Parameters!$C$25 -> 342.07577 | Q50: =P50*Parameters!$C$24*10000000 -> 1.5051334e+11 | R50: =E50*M12+J50+H50*(1-O12)+K50*(1-Parameters!$C$23)+'Scenario prediction'!G50*(1-Parameters!$C$21)*(1-Parameters!$C$23) -> 69.478074 | S50: =R50+I50*Parameters!$C$22*(1-Parameters!$C$25) -> 1063.6358 | T50: =N50*Parameters!$C$27+Parameters!$C$26*Parameters!$C$22*'Scenario prediction'!I50 -> 6603.2977 | U50: =N50*(Parameters!$C$28-Parameters!$C$27) -> 5441.3302 | V50: =I50*Parameters!$C$29 -> 5.3449339e+08 | W50: =V50/1000000 -> 534.49339
A51: 2030 | B51: =B13*$E$2 -> 301.40848 | C51: =B13*Parameters!$C$4 -> 255.81242 | D51: =C13*Parameters!$C$8+D13*Parameters!$C$11 -> 271.2608 | E51: =B13*$F$2+$H$2*C13+$J$2*D13 -> 2104.8652 | F51: =B51*(1-Parameters!$C$15)+E51*K13+C13*$G$2+D13*$I$2 -> 3722.2108 | G51: =F51*$N$2 -> 2344.9928 | H51: =F51*(1-$N$2) -> 1377.218 | I51: =E51*L13+H51*O13 -> 1812.9251 | J51: =I51*Parameters!$C$20 -> 54.387753 | K51: =I51*Parameters!$C$19 -> 398.84352 | L51: =K51*Parameters!$C$23 -> 390.86665 | M51: =B51*Parameters!$C$15 -> 150.70424 | N51: =G51*Parameters!$C$21 -> 1922.8941 | O51: =L51+G51*(1-Parameters!$C$21)*Parameters!$C$23 -> 804.52339 | P51: =I51*Parameters!$C$22*Parameters!$C$25 -> 348.08162 | Q51: =P51*Parameters!$C$24*10000000 -> 1.5315591e+11 | R51: =E51*M13+J51+H51*(1-O13)+K51*(1-Parameters!$C$23)+'Scenario prediction'!G51*(1-Parameters!$C$21)*(1-Parameters!$C$23) -> 70.806598 | S51: =R51+I51*Parameters!$C$22*(1-Parameters!$C$25) -> 1082.4188 | T51: =N51*Parameters!$C$27+Parameters!$C$26*Parameters!$C$22*'Scenario prediction'!I51 -> 6758.1018 | U51: =N51*(Parameters!$C$28-Parameters!$C$27) -> 5609.0821 | V51: =I51*Parameters!$C$29 -> 5.4387753e+08 | W51: =V51/1000000 -> 543.87753
... A56: 2035 | B56: =B18*$E$2 -> 341.01603 | C56: =B18*Parameters!$C$4 -> 289.42827 | D56: =C18*Parameters!$C$8+D18*Parameters!$C$11 -> 306.90669 | E56: =B18*$F$2+$H$2*C18+$J$2*D18 -> 2381.4617 | F56: =B56*(1-Parameters!$C$15)+E56*K18+C18*$G$2+D18*$I$2 -> 4228.0101 | G56: =F56*$N$2 -> 2663.6464 | H56: =F56*(1-$N$2) -> 1564.3638 | I56: =E56*L18+H56*O18 -> 2040.6561 | J56: =I56*Parameters!$C$20 -> 61.219683 | K56: =I56*Parameters!$C$19 -> 448.94434 | L56: =K56*Parameters!$C$23 -> 439.96545 | M56: =B56*Parameters!$C$15 -> 170.50801 | N56: =G56*Parameters!$C$21 -> 2184.19 | O56: =L56+G56*(1-Parameters!$C$21)*Parameters!$C$23 -> 909.83268 | P56: =I56*Parameters!$C$22*Parameters!$C$25 -> 391.80597 | Q56: =P56*Parameters!$C$24*10000000 -> 1.7239463e+11 | R56: =E56*M18+J56+H56*(1-O18)+K56*(1-Parameters!$C$23)+'Scenario prediction'!G56*(1-Parameters!$C$21)*(1-Parameters!$C$23) -> 79.787697 | S56: =R56+I56*Parameters!$C$22*(1-Parameters!$C$25) -> 1218.4738 | T56: =N56*Parameters!$C$27+Parameters!$C$26*Parameters!$C$22*'Scenario prediction'!I56 -> 7638.0316 | U56: =N56*(Parameters!$C$28-Parameters!$C$27) -> 6371.2823 | V56: =I56*Parameters!$C$29 -> 6.1219683e+08 | W56: =V56/1000000 -> 612.19683
A57: Scenario 3
A58: Year | B58: Refurbushment | C58: Transfer or Idle | D58: Reuse | E58: Sorting | F58: Waste plastics markrt | G58: Recycling plant | H58: Mixed waste | I58: Incineration | J58: Fly ASH | K58: BOTTLE ASH | L58: Building filler | M58: Reused products | N58: High-end applications | O58: Low-end applications | P58: Energy | Q58: Energy(MJ) | R58: Landfill | S58: LOST | T58: CE | U58: CR | V58: DE(ug) | W58: DE(g)
A59: 2019 | B59: =B2*$E$2 -> 229.7169 | C59: =B2*Parameters!$C$4 -> 194.9661 | D59: =C2*Parameters!$C$8+D2*Parameters!$C$11 -> 206.74 | E59: =B2*$F$2+$H$2*C2+$J$2*D2 -> 1604.212 | F59: =B59*(1-Parameters!$C$15)+E59*$K$2+C2*$G$2+D2*$I$2 -> 1624.0793 | G59: =F59*N2 -> 1023.17 | H59: =F59*(1-N2) -> 600.90934 | I59: =E59*$L$2+H59*$O$2 -> 1053.6992 | J59: =I59*Parameters!$C$20 -> 31.610977 | K59: =I59*Parameters!$C$19 -> 231.81383 | L59: =K59*Parameters!$C$23 -> 227.17755 | M59: =B59*Parameters!$C$15 -> 114.85845 | N59: =G59*Parameters!$C$21 -> 838.99936 | O59: =L59+G59*(1-Parameters!$C$21)*Parameters!$C$23 -> 407.66473 | P59: =I59*Parameters!$C$22*Parameters!$C$25 -> 202.31025 | Q59: =P59*Parameters!$C$24*10000000 -> 8.901651e+10 | R59: =E59*$M$2+J59+H59*(1-$O$2)+K59*(1-Parameters!$C$23)+'Scenario prediction'!G59*(1-Parameters!$C$21)*(1-Parameters!$C$23) -> 1131.9969 | S59: =R59+I59*Parameters!$C$22*(1-Parameters!$C$25) -> 1719.9611 | T59: =N59*Parameters!$C$27+Parameters!$C$26*Parameters!$C$22*'Scenario prediction'!I59 -> 3490.4836 | U59: =N59*(Parameters!$C$28-Parameters!$C$27) -> 2447.3611 | V59: =I59*Parameters!$C$29 -> 3.1610977e+08 | W59: =V59/1000000 -> 316.10977
A60: 2020 | B60: =B3*$E$2 -> 235.45982 | C60: =B3*Parameters!$C$4 -> 199.84025 | D60: =C3*Parameters!$C$8+D3*Parameters!$C$11 -> 211.9085 | E60: =B3*$F$2+$H$2*C3+$J$2*D3 -> 1644.3173 | F60: =B60*(1-Parameters!$C$15)+E60*$K$2+C3*$G$2+D3*$I$2 -> 1664.6813 | G60: =F60*N3 -> 1115.3365 | H60: =F60*(1-N3) -> 549.34482 | I60: =E60*$L$2+H60*$O$2 -> 1053.4068 | J60: =I60*Parameters!$C$20 -> 31.602204 | K60: =I60*Parameters!$C$19 -> 231.7495 | L60: =K60*Parameters!$C$23 -> 227.11451 | M60: =B60*Parameters!$C$15 -> 117.72991 | N60: =G60*Parameters!$C$21 -> 914.57589 | O60: =L60+G60*(1-Parameters!$C$21)*Parameters!$C$23 -> 423.85986 | P60: =I60*Parameters!$C$22*Parameters!$C$25 -> 202.25411 | Q60: =P60*Parameters!$C$24*10000000 -> 8.8991806e+10 | R60: =E60*$M$2+J60+H60*(1-$O$2)+K60*(1-Parameters!$C$23)+'Scenario prediction'!G60*(1-Parameters!$C$21)*(1-Parameters!$C$23) -> 1119.668 | S60: =R60+I60*Parameters!$C$22*(1-Parameters!$C$25) -> 1707.469 | T60: =N60*Parameters!$C$27+Parameters!$C$26*Parameters!$C$22*'Scenario prediction'!I60 -> 3608.5357 | U60: =N60*(Parameters!$C$28-Parameters!$C$27) -> 2667.8179 | V60: =I60*Parameters!$C$29 -> 3.1602204e+08 | W60: =V60/1000000 -> 316.02204
A61: 2021 | B61: =B4*$E$2 -> 241.34632 | C61: =B4*Parameters!$C$4 -> 204.83626 | D61: =C4*Parameters!$C$8+D4*Parameters!$C$11 -> 217.20621 | E61: =B4*$F$2+$H$2*C4+$J$2*D4 -> 1685.4252 | F61: =B61*(1-Parameters!$C$15)+E61*$K$2+C4*$G$2+D4*$I$2 -> 1706.2983 | G61: =F61*N4 -> 1211.4718 | H61: =F61*(1-N4) -> 494.82651 | I61: =E61*$L$2+H61*$O$2 -> 1052.4412 | J61: =I61*Parameters!$C$20 -> 31.573236 | K61: =I61*Parameters!$C$19 -> 231.53706 | L61: =K61*Parameters!$C$23 -> 226.90632 | M61: =B61*Parameters!$C$15 -> 120.67316 | N61: =G61*Parameters!$C$21 -> 993.40688 | O61: =L61+G61*(1-Parameters!$C$21)*Parameters!$C$23 -> 440.60995 | P61: =I61*Parameters!$C$22*Parameters!$C$25 -> 202.06871 | Q61: =P61*Parameters!$C$24*10000000 -> 8.8910232e+10 | R61: =E61*$M$2+J61+H61*(1-$O$2)+K61*(1-Parameters!$C$23)+'Scenario prediction'!G61*(1-Parameters!$C$21)*(1-Parameters!$C$23) -> 1106.0151 | S61: =R61+I61*Parameters!$C$22*(1-Parameters!$C$25) -> 1693.2773 | T61: =N61*Parameters!$C$27+Parameters!$C$26*Parameters!$C$22*'Scenario prediction'!I61 -> 3730.3088 | U61: =N61*(Parameters!$C$28-Parameters!$C$27) -> 2897.7679 | V61: =I61*Parameters!$C$29 -> 3.1573236e+08 | W61: =V61/1000000 -> 315.73236
A62: 2022 | B62: =B5*$E$2 -> 247.37998 | C62: =B5*Parameters!$C$4 -> 209.95717 | D62: =C5*Parameters!$C$8+D5*Parameters!$C$11 -> 222.63637 | E62: =B5*$F$2+$H$2*C5+$J$2*D5 -> 1727.5609 | F62: =B62*(1-Parameters!$C$15)+E62*$K$2+C5*$G$2+D5*$I$2 -> 1748.9558 | G62: =F62*N5 -> 1311.7168 | H62: =F62*(1-N5) -> 437.23894 | I62: =E62*$L$2+H62*$O$2 -> 1050.7689 | J62: =I62*Parameters!$C$20 -> 31.523068 | K62: =I62*Parameters!$C$19 -> 231.16917 | L62: =K62*Parameters!$C$23 -> 226.54578 | M62: =B62*Parameters!$C$15 -> 123.68999 | N62: =G62*Parameters!$C$21 -> 1075.6078 | O62: =L62+G62*(1-Parameters!$C$21)*Parameters!$C$23 -> 457.93263 | P62: =I62*Parameters!$C$22*Parameters!$C$25 -> 201.74764 | Q62: =P62*Parameters!$C$24*10000000 -> 8.876896e+10 | R62: =E62*$M$2+J62+H62*(1-$O$2)+K62*(1-Parameters!$C$23)+'Scenario prediction'!G62*(1-Parameters!$C$21)*(1-Parameters!$C$23) -> 1090.9798 | S62: =R62+I62*Parameters!$C$22*(1-Parameters!$C$25) -> 1677.3088 | T62: =N62*Parameters!$C$27+Parameters!$C$26*Parameters!$C$22*'Scenario prediction'!I62 -> 3855.9152 | U62: =N62*(Parameters!$C$28-Parameters!$C$27) -> 3137.5479 | V62: =I62*Parameters!$C$29 -> 3.1523068e+08 | W62: =V62/1000000 -> 315.23068
A63: 2023 | B63: =B6*$E$2 -> 253.56448 | C63: =B6*Parameters!$C$4 -> 215.20609 | D63: =C6*Parameters!$C$8+D6*Parameters!$C$11 -> 228.20228 | E63: =B6*$F$2+$H$2*C6+$J$2*D6 -> 1770.7499 | F63: =B63*(1-Parameters!$C$15)+E63*$K$2+C6*$G$2+D6*$I$2 -> 1792.6797 | G63: =F63*N6 -> 1380.3633 | H63: =F63*(1-N6) -> 412.31632 | I63: =E63*$L$2+H63*$O$2 -> 1062.6967 | J63: =I63*Parameters!$C$20 -> 31.880902 | K63: =I63*Parameters!$C$19 -> 233.79328 | L63: =K63*Parameters!$C$23 -> 229.11741 | M63: =B63*Parameters!$C$15 -> 126.78224 | N63: =G63*Parameters!$C$21 -> 1131.8979 | O63: =L63+G63*(1-Parameters!$C$21)*Parameters!$C$23 -> 472.61351 | P63: =I63*Parameters!$C$22*Parameters!$C$25 -> 204.03777 | Q63: =P63*Parameters!$C$24*10000000 -> 8.9776619e+10 | R63: =E63*$M$2+J63+H63*(1-$O$2)+K63*(1-Parameters!$C$23)+'Scenario prediction'!G63*(1-Parameters!$C$21)*(1-Parameters!$C$23) -> 1096.3778 | S63: =R63+I63*Parameters!$C$22*(1-Parameters!$C$25) -> 1689.3626 | T63: =N63*Parameters!$C$27+Parameters!$C$26*Parameters!$C$22*'Scenario prediction'!I63 -> 3968.8917 | U63: =N63*(Parameters!$C$28-Parameters!$C$27) -> 3301.7463 | V63: =I63*Parameters!$C$29 -> 3.1880902e+08 | W63: =V63/1000000 -> 318.80902
A64: 2024 | B64: =B7*$E$2 -> 259.90359 | C64: =B7*Parameters!$C$4 -> 220.58625 | D64: =C7*Parameters!$C$8+D7*Parameters!$C$11 -> 233.90733 | E64: =B7*$F$2+$H$2*C7+$J$2*D7 -> 1815.0186 | F64: =B64*(1-Parameters!$C$15)+E64*$K$2+C7*$G$2+D7*$I$2 -> 1837.4967 | G64: =F64*N7 -> 1451.6224 | H64: =F64*(1-N7) -> 385.8743 | I64: =E64*$L$2+H64*$O$2 -> 1074.5642 | J64: =I64*Parameters!$C$20 -> 32.236925 | K64: =I64*Parameters!$C$19 -> 236.40412 | L64: =K64*Parameters!$C$23 -> 231.67603 | M64: =B64*Parameters!$C$15 -> 129.95179 | N64: =G64*Parameters!$C$21 -> 1190.3303 | O64: =L64+G64*(1-Parameters!$C$21)*Parameters!$C$23 -> 487.74222 | P64: =I64*Parameters!$C$22*Parameters!$C$25 -> 206.31632 | Q64: =P64*Parameters!$C$24*10000000 -> 9.0779181e+10 | R64: =E64*$M$2+J64+H64*(1-$O$2)+K64*(1-Parameters!$C$23)+'Scenario prediction'!G64*(1-Parameters!$C$21)*(1-Parameters!$C$23) -> 1101.3639 | S64: =R64+I64*Parameters!$C$22*(1-Parameters!$C$25) -> 1700.9707 | T64: =N64*Parameters!$C$27+Parameters!$C$26*Parameters!$C$22*'Scenario prediction'!I64 -> 4085.1072 | U64: =N64*(Parameters!$C$28-Parameters!$C$27) -> 3472.1936 | V64: =I64*Parameters!$C$29 -> 3.2236925e+08 | W64: =V64/1000000 -> 322.36925
A65: 2025 | B65: =B8*$E$2 -> 266.40118 | C65: =B8*Parameters!$C$4 -> 226.1009 | D65: =C8*Parameters!$C$8+D8*Parameters!$C$11 -> 239.75502 | E65: =B8*$F$2+$H$2*C8+$J$2*D8 -> 1860.3941 | F65: =B65*(1-Parameters!$C$15)+E65*$K$2+C8*$G$2+D8*$I$2 -> 1883.4341 | G65: =F65*N8 -> 1525.5816 | H65: =F65*(1-N8) -> 357.85247 | I65: =E65*$L$2+H65*$O$2 -> 1086.3608 | J65: =I65*Parameters!$C$20 -> 32.590824 | K65: =I65*Parameters!$C$19 -> 238.99938 | L65: =K65*Parameters!$C$23 -> 234.21939 | M65: =B65*Parameters!$C$15 -> 133.20059 | N65: =G65*Parameters!$C$21 -> 1250.9769 | O65: =L65+G65*(1-Parameters!$C$21)*Parameters!$C$23 -> 503.33198 | P65: =I65*Parameters!$C$22*Parameters!$C$25 -> 208.58127 | Q65: =P65*Parameters!$C$24*10000000 -> 9.177576e+10 | R65: =E65*$M$2+J65+H65*(1-$O$2)+K65*(1-Parameters!$C$23)+'Scenario prediction'!G65*(1-Parameters!$C$21)*(1-Parameters!$C$23) -> 1105.9141 | S65: =R65+I65*Parameters!$C$22*(1-Parameters!$C$25) -> 1712.1034 | T65: =N65*Parameters!$C$27+Parameters!$C$26*Parameters!$C$22*'Scenario prediction'!I65 -> 4204.6529 | U65: =N65*(Parameters!$C$28-Parameters!$C$27) -> 3649.0996 | V65: =I65*Parameters!$C$29 -> 3.2590824e+08 | W65: =V65/1000000 -> 325.90824
A66: 2026 | B66: =B9*$E$2 -> 273.06121 | C66: =B9*Parameters!$C$4 -> 231.75343 | D66: =C9*Parameters!$C$8+D9*Parameters!$C$11 -> 245.74889 | E66: =B9*$F$2+$H$2*C9+$J$2*D9 -> 1906.904 | F66: =B66*(1-Parameters!$C$15)+E66*$K$2+C9*$G$2+D9*$I$2 -> 1930.5199 | G66: =F66*N9 -> 1583.0263 | H66: =F66*(1-N9) -> 347.49359 | I66: =E66*$L$2+H66*$O$2 -> 1105.7977 | J66: =I66*Parameters!$C$20 -> 33.173932 | K66: =I66*Parameters!$C$19 -> 243.2755 | L66: =K66*Parameters!$C$23 -> 238.40999 | M66: =B66*Parameters!$C$15 -> 136.5306 | N66: =G66*Parameters!$C$21 -> 1298.0816 | O66: =L66+G66*(1-Parameters!$C$21)*Parameters!$C$23 -> 517.65584 | P66: =I66*Parameters!$C$22*Parameters!$C$25 -> 212.31317 | Q66: =P66*Parameters!$C$24*10000000 -> 9.3417793e+10 | R66: =E66*$M$2+J66+H66*(1-$O$2)+K66*(1-Parameters!$C$23)+'Scenario prediction'!G66*(1-Parameters!$C$21)*(1-Parameters!$C$23) -> 1121.7827 | S66: =R66+I66*Parameters!$C$22*(1-Parameters!$C$25) -> 1738.8178 | T66: =N66*Parameters!$C$27+Parameters!$C$26*Parameters!$C$22*'Scenario prediction'!I66 -> 4318.6959 | U66: =N66*(Parameters!$C$28-Parameters!$C$27) -> 3786.504 | V66: =I66*Parameters!$C$29 -> 3.3173932e+08 | W66: =V66/1000000 -> 331.73932
A67: 2027 | B67: =B10*$E$2 -> 279.88774 | C67: =B10*Parameters!$C$4 -> 237.54726 | D67: =C10*Parameters!$C$8+D10*Parameters!$C$11 -> 251.89262 | E67: =B10*$F$2+$H$2*C10+$J$2*D10 -> 1954.5765 | F67: =B67*(1-Parameters!$C$15)+E67*$K$2+C10*$G$2+D10*$I$2 -> 1978.7829 | G67: =F67*N10 -> 1642.3898 | H67: =F67*(1-N10) -> 336.3931 | I67: =E67*$L$2+H67*$O$2 -> 1125.5275 | J67: =I67*Parameters!$C$20 -> 33.765826 | K67: =I67*Parameters!$C$19 -> 247.61606 | L67: =K67*Parameters!$C$23 -> 242.66374 | M67: =B67*Parameters!$C$15 -> 139.94387 | N67: =G67*Parameters!$C$21 -> 1346.7597 | O67: =L67+G67*(1-Parameters!$C$21)*Parameters!$C$23 -> 532.3813 | P67: =I67*Parameters!$C$22*Parameters!$C$25 -> 216.10129 | Q67: =P67*Parameters!$C$24*10000000 -> 9.5084567e+10 | R67: =E67*$M$2+J67+H67*(1-$O$2)+K67*(1-Parameters!$C$23)+'Scenario prediction'!G67*(1-Parameters!$C$21)*(1-Parameters!$C$23) -> 1137.7535 | S67: =R67+I67*Parameters!$C$22*(1-Parameters!$C$25) -> 1765.7979 | T67: =N67*Parameters!$C$27+Parameters!$C$26*Parameters!$C$22*'Scenario prediction'!I67 -> 4435.8132 | U67: =N67*(Parameters!$C$28-Parameters!$C$27) -> 3928.4979 | V67: =I67*Parameters!$C$29 -> 3.3765826e+08 | W67: =V67/1000000 -> 337.65826
A68: 2028 | B68: =B11*$E$2 -> 286.88493 | C68: =B11*Parameters!$C$4 -> 243.48594 | D68: =C11*Parameters!$C$8+D11*Parameters!$C$11 -> 258.18993 | E68: =B11*$F$2+$H$2*C11+$J$2*D11 -> 2003.441 | F68: =B68*(1-Parameters!$C$15)+E68*$K$2+C11*$G$2+D11*$I$2 -> 2028.2525 | G68: =F68*N11 -> 1703.7321 | H68: =F68*(1-N11) -> 324.5204 | I68: =E68*$L$2+H68*$O$2 -> 1145.5527 | J68: =I68*Parameters!$C$20 -> 34.366582 | K68: =I68*Parameters!$C$19 -> 252.0216 | L68: =K68*Parameters!$C$23 -> 246.98117 | M68: =B68*Parameters!$C$15 -> 143.44246 | N68: =G68*Parameters!$C$21 -> 1397.0603 | O68: =L68+G68*(1-Parameters!$C$21)*Parameters!$C$23 -> 547.51951 | P68: =I68*Parameters!$C$22*Parameters!$C$25 -> 219.94612 | Q68: =P68*Parameters!$C$24*10000000 -> 9.6776294e+10 | R68: =E68*$M$2+J68+H68*(1-$O$2)+K68*(1-Parameters!$C$23)+'Scenario prediction'!G68*(1-Parameters!$C$21)*(1-Parameters!$C$23) -> 1153.8218 | S68: =R68+I68*Parameters!$C$22*(1-Parameters!$C$25) -> 1793.0402 | T68: =N68*Parameters!$C$27+Parameters!$C$26*Parameters!$C$22*'Scenario prediction'!I68 -> 4556.0872 | U68: =N68*(Parameters!$C$28-Parameters!$C$27) -> 4075.2249 | V68: =I68*Parameters!$C$29 -> 3.4366582e+08 | W68: =V68/1000000 -> 343.66582
A69: 2029 | B69: =B12*$E$2 -> 294.05705 | C69: =B12*Parameters!$C$4 -> 249.57309 | D69: =C12*Parameters!$C$8+D12*Parameters!$C$11 -> 264.64468 | E69: =B12*$F$2+$H$2*C12+$J$2*D12 -> 2053.527 | F69: =B69*(1-Parameters!$C$15)+E69*$K$2+C12*$G$2+D12*$I$2 -> 2078.9588 | G69: =F69*N12 -> 1767.115 | H69: =F69*(1-N12) -> 311.84382 | I69: =E69*$L$2+H69*$O$2 -> 1165.8757 | J69: =I69*Parameters!$C$20 -> 34.976271 | K69: =I69*Parameters!$C$19 -> 256.49266 | L69: =K69*Parameters!$C$23 -> 251.3628 | M69: =B69*Parameters!$C$15 -> 147.02853 | N69: =G69*Parameters!$C$21 -> 1449.0343 | O69: =L69+G69*(1-Parameters!$C$21)*Parameters!$C$23 -> 563.08189 | P69: =I69*Parameters!$C$22*Parameters!$C$25 -> 223.84814 | Q69: =P69*Parameters!$C$24*10000000 -> 9.849318e+10 | R69: =E69*$M$2+J69+H69*(1-$O$2)+K69*(1-Parameters!$C$23)+'Scenario prediction'!G69*(1-Parameters!$C$21)*(1-Parameters!$C$23) -> 1169.9823 | S69: =R69+I69*Parameters!$C$22*(1-Parameters!$C$25) -> 1820.541 | T69: =N69*Parameters!$C$27+Parameters!$C$26*Parameters!$C$22*'Scenario prediction'!I69 -> 4679.6025 | U69: =N69*(Parameters!$C$28-Parameters!$C$27) -> 4226.833 | V69: =I69*Parameters!$C$29 -> 3.4976271e+08 | W69: =V69/1000000 -> 349.76271
A70: 2030 | B70: =B13*$E$2 -> 301.40848 | C70: =B13*Parameters!$C$4 -> 255.81242 | D70: =C13*Parameters!$C$8+D13*Parameters!$C$11 -> 271.2608 | E70: =B13*$F$2+$H$2*C13+$J$2*D13 -> 2104.8652 | F70: =B70*(1-Parameters!$C$15)+E70*$K$2+C13*$G$2+D13*$I$2 -> 2130.9328 | G70: =F70*N13 -> 1832.6022 | H70: =F70*(1-N13) -> 298.33059 | I70: =E70*$L$2+H70*$O$2 -> 1186.4989 | J70: =I70*Parameters!$C$20 -> 35.594966 | K70: =I70*Parameters!$C$19 -> 261.02975 | L70: =K70*Parameters!$C$23 -> 255.80916 | M70: =B70*Parameters!$C$15 -> 150.70424 | N70: =G70*Parameters!$C$21 -> 1502.7338 | O70: =L70+G70*(1-Parameters!$C$21)*Parameters!$C$23 -> 579.08018 | P70: =I70*Parameters!$C$22*Parameters!$C$25 -> 227.80778 | Q70: =P70*Parameters!$C$24*10000000 -> 1.0023542e+11 | R70: =E70*$M$2+J70+H70*(1-$O$2)+K70*(1-Parameters!$C$23)+'Scenario prediction'!G70*(1-Parameters!$C$21)*(1-Parameters!$C$23) -> 1186.2298 | S70: =R70+I70*Parameters!$C$22*(1-Parameters!$C$25) -> 1848.2962 | T70: =N70*Parameters!$C$27+Parameters!$C$26*Parameters!$C$22*'Scenario prediction'!I70 -> 4806.446 | U70: =N70*(Parameters!$C$28-Parameters!$C$27) -> 4383.4745 | V70: =I70*Parameters!$C$29 -> 3.5594966e+08 | W70: =V70/1000000 -> 355.94966
... A75: 2035 | B75: =B18*$E$2 -> 341.01603 | C75: =B18*Parameters!$C$4 -> 289.42827 | D75: =C18*Parameters!$C$8+D18*Parameters!$C$11 -> 306.90669 | E75: =B18*$F$2+$H$2*C18+$J$2*D18 -> 2381.4617 | F75: =B75*(1-Parameters!$C$15)+E75*$K$2+C18*$G$2+D18*$I$2 -> 2410.9548 | G75: =F75*N18 -> 2169.8594 | H75: =F75*(1-N18) -> 241.09548 | I75: =E75*$L$2+H75*$O$2 -> 1303.8393 | J75: =I75*Parameters!$C$20 -> 39.115179 | K75: =I75*Parameters!$C$19 -> 286.84464 | L75: =K75*Parameters!$C$23 -> 281.10775 | M75: =B75*Parameters!$C$15 -> 170.50801 | N75: =G75*Parameters!$C$21 -> 1779.2847 | O75: =L75+G75*(1-Parameters!$C$21)*Parameters!$C$23 -> 663.87094 | P75: =I75*Parameters!$C$22*Parameters!$C$25 -> 250.33714 | Q75: =P75*Parameters!$C$24*10000000 -> 1.1014834e+11 | R75: =E75*$M$2+J75+H75*(1-$O$2)+K75*(1-Parameters!$C$23)+'Scenario prediction'!G75*(1-Parameters!$C$21)*(1-Parameters!$C$23) -> 1283.2674 | S75: =R75+I75*Parameters!$C$22*(1-Parameters!$C$25) -> 2010.8097 | T75: =N75*Parameters!$C$27+Parameters!$C$26*Parameters!$C$22*'Scenario prediction'!I75 -> 5482.6455 | U75: =N75*(Parameters!$C$28-Parameters!$C$27) -> 5190.1734 | V75: =I75*Parameters!$C$29 -> 3.9115179e+08 | W75: =V75/1000000 -> 391.15179
A76: Scenario 4
A77: Year | B77: Refurbushment | C77: Transfer or Idle | D77: Reuse | E77: Sorting | F77: Waste plastics markrt | G77: Recycling plant | H77: Mixed waste | I77: Incineration | J77: Fly ASH | K77: BOTTLE ASH | L77: Building filler | M77: Reused products | N77: High-end applications | O77: Low-end applications | P77: Energy | Q77: Energy(MJ) | R77: Landfill | S77: LOST | T77: CE | U77: CR | V77: DE(ug) | W77: DE(g)
A78: 2019 | B78: =B2*E2 -> 229.7169 | C78: =B2*Parameters!$C$4 -> 194.9661 | D78: =C2*Parameters!$C$8+D2*Parameters!$C$11 -> 206.74 | E78: =B2*F2+H2*C2+J2*D2 -> 1604.212 | F78: =B78*(1-Parameters!$C$15)+E78*K2+C2*G2+D2*I2 -> 1624.0793 | G78: =F78*N2 -> 1023.17 | H78: =F78*(1-N2) -> 600.90934 | I78: =E78*L2+H78*O2 -> 1053.6992 | J78: =I78*Parameters!$C$20 -> 31.610977 | K78: =I78*Parameters!$C$19 -> 231.81383 | L78: =K78*Parameters!$C$23 -> 227.17755 | M78: =B78*Parameters!$C$15 -> 114.85845 | N78: =G78*Parameters!$C$21 -> 838.99936 | O78: =L78+G78*(1-Parameters!$C$21)*Parameters!$C$23 -> 407.66473 | P78: =I78*Parameters!$C$22*Parameters!$C$25 -> 202.31025 | Q78: =P78*Parameters!$C$24*10000000 -> 8.901651e+10 | R78: =E78*M2+J78+H78*(1-O2)+K78*(1-Parameters!$C$23)+'Scenario prediction'!G78*(1-Parameters!$C$21)*(1-Parameters!$C$23) -> 1131.9969 | S78: =R78+I78*Parameters!$C$22*(1-Parameters!$C$25) -> 1719.9611 | T78: =N78*Parameters!$C$27+Parameters!$C$26*Parameters!$C$22*'Scenario prediction'!I78 -> 3490.4836 | U78: =N78*(Parameters!$C$28-Parameters!$C$27) -> 2447.3611 | V78: =I78*Parameters!$C$29 -> 3.1610977e+08 | W78: =V78/1000000 -> 316.10977
A79: 2020 | B79: =B3*E3 -> 237.71995 | C79: =B3*Parameters!$C$4 -> 199.84025 | D79: =C3*Parameters!$C$8+D3*Parameters!$C$11 -> 211.9085 | E79: =B3*F3+H3*C3+J3*D3 -> 1516.3819 | F79: =B79*(1-Parameters!$C$15)+E79*K3+C3*G3+D3*I3 -> 2014.2103 | G79: =F79*N3 -> 1349.5209 | H79: =F79*(1-N3) -> 664.68939 | I79: =E79*L3+H79*O3 -> 1357.6759 | J79: =I79*Parameters!$C$20 -> 40.730278 | K79: =I79*Parameters!$C$19 -> 298.6887 | L79: =K79*Parameters!$C$23 -> 292.71493 | M79: =B79*Parameters!$C$15 -> 118.85997 | N79: =G79*Parameters!$C$21 -> 1106.6071 | O79: =L79+G79*(1-Parameters!$C$21)*Parameters!$C$23 -> 530.77041 | P79: =I79*Parameters!$C$22*Parameters!$C$25 -> 260.67378 | Q79: =P79*Parameters!$C$24*10000000 -> 1.1469646e+11 | R79: =E79*M3+J79+H79*(1-O3)+K79*(1-Parameters!$C$23)+'Scenario prediction'!G79*(1-Parameters!$C$21)*(1-Parameters!$C$23) -> 591.39429 | S79: =R79+I79*Parameters!$C$22*(1-Parameters!$C$25) -> 1348.9775 | T79: =N79*Parameters!$C$27+Parameters!$C$26*Parameters!$C$22*'Scenario prediction'!I79 -> 4537.5798 | U79: =N79*(Parameters!$C$28-Parameters!$C$27) -> 3227.973 | V79: =I79*Parameters!$C$29 -> 4.0730278e+08 | W79: =V79/1000000 -> 407.30278
A80: 2021 | B80: =B4*E4 -> 245.97957 | C80: =B4*Parameters!$C$4 -> 204.83626 | D80: =C4*Parameters!$C$8+D4*Parameters!$C$11 -> 217.20621 | E80: =B4*F4+H4*C4+J4*D4 -> 1423.1577 | F80: =B80*(1-Parameters!$C$15)+E80*K4+C4*G4+D4*I4 -> 2383.4926 | G80: =F80*N4 -> 1692.2798 | H80: =F80*(1-N4) -> 691.21286 | I80: =E80*L4+H80*O4 -> 1270.438 | J80: =I80*Parameters!$C$20 -> 38.113141 | K80: =I80*Parameters!$C$19 -> 279.49637 | L80: =K80*Parameters!$C$23 -> 273.90644 | M80: =B80*Parameters!$C$15 -> 122.98979 | N80: =G80*Parameters!$C$21 -> 1387.6694 | O80: =L80+G80*(1-Parameters!$C$21)*Parameters!$C$23 -> 572.42459 | P80: =I80*Parameters!$C$22*Parameters!$C$25 -> 243.92411 | Q80: =P80*Parameters!$C$24*10000000 -> 1.0732661e+11 | R80: =E80*M4+J80+H80*(1-O4)+K80*(1-Parameters!$C$23)+'Scenario prediction'!G80*(1-Parameters!$C$21)*(1-Parameters!$C$23) -> 414.12365 | S80: =R80+I80*Parameters!$C$22*(1-Parameters!$C$25) -> 1123.0281 | T80: =N80*Parameters!$C$27+Parameters!$C$26*Parameters!$C$22*'Scenario prediction'!I80 -> 4798.9194 | U80: =N80*(Parameters!$C$28-Parameters!$C$27) -> 4047.8316 | V80: =I80*Parameters!$C$29 -> 3.8113141e+08 | W80: =V80/1000000 -> 381.13141
A81: 2022 | B81: =B5*E5 -> 254.50361 | C81: =B5*Parameters!$C$4 -> 209.95717 | D81: =C5*Parameters!$C$8+D5*Parameters!$C$11 -> 222.63637 | E81: =B5*F5+H5*C5+J5*D5 -> 1324.3246 | F81: =B81*(1-Parameters!$C$15)+E81*K5+C5*G5+D5*I5 -> 2729.6566 | G81: =F81*N5 -> 2047.2424 | H81: =F81*(1-N5) -> 682.41414 | I81: =E81*L5+H81*O5 -> 1155.198 | J81: =I81*Parameters!$C$20 -> 34.65594 | K81: =I81*Parameters!$C$19 -> 254.14356 | L81: =K81*Parameters!$C$23 -> 249.06069 | M81: =B81*Parameters!$C$15 -> 127.2518 | N81: =G81*Parameters!$C$21 -> 1678.7388 | O81: =L81+G81*(1-Parameters!$C$21)*Parameters!$C$23 -> 610.19425 | P81: =I81*Parameters!$C$22*Parameters!$C$25 -> 221.79802 | Q81: =P81*Parameters!$C$24*10000000 -> 9.7591128e+10 | R81: =E81*M5+J81+H81*(1-O5)+K81*(1-Parameters!$C$23)+'Scenario prediction'!G81*(1-Parameters!$C$21)*(1-Parameters!$C$23) -> 253.70351 | S81: =R81+I81*Parameters!$C$22*(1-Parameters!$C$25) -> 898.304 | T81: =N81*Parameters!$C$27+Parameters!$C$26*Parameters!$C$22*'Scenario prediction'!I81 -> 5018.2158 | U81: =N81*(Parameters!$C$28-Parameters!$C$27) -> 4896.881 | V81: =I81*Parameters!$C$29 -> 3.465594e+08 | W81: =V81/1000000 -> 346.5594
A82: 2023 | B82: =B6*E6 -> 263.30011 | C82: =B6*Parameters!$C$4 -> 215.20609 | D82: =C6*Parameters!$C$8+D6*Parameters!$C$11 -> 228.20228 | E82: =B6*F6+H6*C6+J6*D6 -> 1219.6603 | F82: =B82*(1-Parameters!$C$15)+E82*K6+C6*G6+D6*I6 -> 3050.3073 | G82: =F82*N6 -> 2348.7366 | H82: =F82*(1-N6) -> 701.57068 | I82: =E82*L6+H82*O6 -> 1076.0064 | J82: =I82*Parameters!$C$20 -> 32.280191 | K82: =I82*Parameters!$C$19 -> 236.7214 | L82: =K82*Parameters!$C$23 -> 231.98698 | M82: =B82*Parameters!$C$15 -> 131.65005 | N82: =G82*Parameters!$C$21 -> 1925.964 | O82: =L82+G82*(1-Parameters!$C$21)*Parameters!$C$23 -> 646.30412 | P82: =I82*Parameters!$C$22*Parameters!$C$25 -> 206.59323 | Q82: =P82*Parameters!$C$24*10000000 -> 9.0901019e+10 | R82: =E82*M6+J82+H82*(1-O6)+K82*(1-Parameters!$C$23)+'Scenario prediction'!G82*(1-Parameters!$C$21)*(1-Parameters!$C$23) -> 113.77105 | S82: =R82+I82*Parameters!$C$22*(1-Parameters!$C$25) -> 714.18261 | T82: =N82*Parameters!$C$27+Parameters!$C$26*Parameters!$C$22*'Scenario prediction'!I82 -> 5243.0267 | U82: =N82*(Parameters!$C$28-Parameters!$C$27) -> 5618.0371 | V82: =I82*Parameters!$C$29 -> 3.2280191e+08 | W82: =V82/1000000 -> 322.80191
A83: 2024 | B83: =B7*E7 -> 272.37736 | C83: =B7*Parameters!$C$4 -> 220.58625 | D83: =C7*Parameters!$C$8+D7*Parameters!$C$11 -> 233.90733 | E83: =B7*F7+H7*C7+J7*D7 -> 1108.9351 | F83: =B83*(1-Parameters!$C$15)+E83*K7+C7*G7+D7*I7 -> 3254.2047 | G83: =F83*N7 -> 2570.8217 | H83: =F83*(1-N7) -> 683.38299 | I83: =E83*L7+H83*O7 -> 1001.6474 | J83: =I83*Parameters!$C$20 -> 30.049421 | K83: =I83*Parameters!$C$19 -> 220.36242 | L83: =K83*Parameters!$C$23 -> 215.95517 | M83: =B83*Parameters!$C$15 -> 136.18868 | N83: =G83*Parameters!$C$21 -> 2108.0738 | O83: =L83+G83*(1-Parameters!$C$21)*Parameters!$C$23 -> 669.44812 | P83: =I83*Parameters!$C$22*Parameters!$C$25 -> 192.31629 | Q83: =P83*Parameters!$C$24*10000000 -> 8.4619169e+10 | R83: =E83*M7+J83+H83*(1-O7)+K83*(1-Parameters!$C$23)+'Scenario prediction'!G83*(1-Parameters!$C$21)*(1-Parameters!$C$23) -> 50.365238 | S83: =R83+I83*Parameters!$C$22*(1-Parameters!$C$25) -> 609.28446 | T83: =N83*Parameters!$C$27+Parameters!$C$26*Parameters!$C$22*'Scenario prediction'!I83 -> 5375.5736 | U83: =N83*(Parameters!$C$28-Parameters!$C$27) -> 6149.2514 | V83: =I83*Parameters!$C$29 -> 3.0049421e+08 | W83: =V83/1000000 -> 300.49421
A84: 2025 | B84: =B8*E8 -> 279.69822 | C84: =B8*Parameters!$C$4 -> 226.1009 | D84: =C8*Parameters!$C$8+D8*Parameters!$C$11 -> 239.75502 | E84: =B8*F8+H8*C8+J8*D8 -> 1009.2707 | F84: =B84*(1-Parameters!$C$15)+E84*K8+C8*G8+D8*I8 -> 3398.8698 | G84: =F84*N8 -> 2753.0845 | H84: =F84*(1-N8) -> 645.78526 | I84: =E84*L8+H84*O8 -> 915.26055 | J84: =I84*Parameters!$C$20 -> 27.457816 | K84: =I84*Parameters!$C$19 -> 201.35732 | L84: =K84*Parameters!$C$23 -> 197.33017 | M84: =B84*Parameters!$C$15 -> 139.84911 | N84: =G84*Parameters!$C$21 -> 2257.5293 | O84: =L84+G84*(1-Parameters!$C$21)*Parameters!$C$23 -> 682.97428 | P84: =I84*Parameters!$C$22*Parameters!$C$25 -> 175.73002 | Q84: =P84*Parameters!$C$24*10000000 -> 7.7321211e+10 | R84: =E84*M8+J84+H84*(1-O8)+K84*(1-Parameters!$C$23)+'Scenario prediction'!G84*(1-Parameters!$C$21)*(1-Parameters!$C$23) -> 41.396067 | S84: =R84+I84*Parameters!$C$22*(1-Parameters!$C$25) -> 552.11145 | T84: =N84*Parameters!$C$27+Parameters!$C$26*Parameters!$C$22*'Scenario prediction'!I84 -> 5432.0459 | U84: =N84*(Parameters!$C$28-Parameters!$C$27) -> 6585.213 | V84: =I84*Parameters!$C$29 -> 2.7457816e+08 | W84: =V84/1000000 -> 274.57816
A85: 2026 | B85: =B9*E9 -> 287.21489 | C85: =B9*Parameters!$C$4 -> 231.75343 | D85: =C9*Parameters!$C$8+D9*Parameters!$C$11 -> 245.74889 | E85: =B9*F9+H9*C9+J9*D9 -> 949.67077 | F85: =B85*(1-Parameters!$C$15)+E85*K9+C9*G9+D9*I9 -> 3525.2229 | G85: =F85*N9 -> 2890.6828 | H85: =F85*(1-N9) -> 634.54012 | I85: =E85*L9+H85*O9 -> 869.1088 | J85: =I85*Parameters!$C$20 -> 26.073264 | K85: =I85*Parameters!$C$19 -> 191.20394 | L85: =K85*Parameters!$C$23 -> 187.37986 | M85: =B85*Parameters!$C$15 -> 143.60744 | N85: =G85*Parameters!$C$21 -> 2370.3599 | O85: =L85+G85*(1-Parameters!$C$21)*Parameters!$C$23 -> 697.2963 | P85: =I85*Parameters!$C$22*Parameters!$C$25 -> 166.86889 | Q85: =P85*Parameters!$C$24*10000000 -> 7.3422312e+10 | R85: =E85*M9+J85+H85*(1-O9)+K85*(1-Parameters!$C$23)+'Scenario prediction'!G85*(1-Parameters!$C$21)*(1-Parameters!$C$23) -> 40.303801 | S85: =R85+I85*Parameters!$C$22*(1-Parameters!$C$25) -> 525.26651 | T85: =N85*Parameters!$C$27+Parameters!$C$26*Parameters!$C$22*'Scenario prediction'!I85 -> 5514.0019 | U85: =N85*(Parameters!$C$28-Parameters!$C$27) -> 6914.3398 | V85: =I85*Parameters!$C$29 -> 2.6073264e+08 | W85: =V85/1000000 -> 260.73264
A86: 2027 | B86: =B10*E10 -> 294.93258 | C86: =B10*Parameters!$C$4 -> 237.54726 | D86: =C10*Parameters!$C$8+D10*Parameters!$C$11 -> 251.89262 | E86: =B10*F10+H10*C10+J10*D10 -> 886.45999 | F86: =B86*(1-Parameters!$C$15)+E86*K10+C10*G10+D10*I10 -> 3643.4267 | G86: =F86*N10 -> 3024.0442 | H86: =F86*(1-N10) -> 619.38254 | I86: =E86*L10+H86*O10 -> 829.47356 | J86: =I86*Parameters!$C$20 -> 24.884207 | K86: =I86*Parameters!$C$19 -> 182.48418 | L86: =K86*Parameters!$C$23 -> 178.8345 | M86: =B86*Parameters!$C$15 -> 147.46629 | N86: =G86*Parameters!$C$21 -> 2479.7162 | O86: =L86+G86*(1-Parameters!$C$21)*Parameters!$C$23 -> 712.27589 | P86: =I86*Parameters!$C$22*Parameters!$C$25 -> 159.25892 | Q86: =P86*Parameters!$C$24*10000000 -> 7.0073926e+10 | R86: =E86*M10+J86+H86*(1-O10)+K86*(1-Parameters!$C$23)+'Scenario prediction'!G86*(1-Parameters!$C$21)*(1-Parameters!$C$23) -> 39.420449 | S86: =R86+I86*Parameters!$C$22*(1-Parameters!$C$25) -> 502.26669 | T86: =N86*Parameters!$C$27+Parameters!$C$26*Parameters!$C$22*'Scenario prediction'!I86 -> 5603.9437 | U86: =N86*(Parameters!$C$28-Parameters!$C$27) -> 7233.3322 | V86: =I86*Parameters!$C$29 -> 2.4884207e+08 | W86: =V86/1000000 -> 248.84207
A87: 2028 | B87: =B11*E11 -> 302.85664 | C87: =B11*Parameters!$C$4 -> 243.48594 | D87: =C11*Parameters!$C$8+D11*Parameters!$C$11 -> 258.18993 | E87: =B11*F11+H11*C11+J11*D11 -> 819.49514 | F87: =B87*(1-Parameters!$C$15)+E87*K11+C11*G11+D11*I11 -> 3763.5549 | G87: =F87*N11 -> 3161.3861 | H87: =F87*(1-N11) -> 602.16878 | I87: =E87*L11+H87*O11 -> 788.19418 | J87: =I87*Parameters!$C$20 -> 23.645825 | K87: =I87*Parameters!$C$19 -> 173.40272 | L87: =K87*Parameters!$C$23 -> 169.93466 | M87: =B87*Parameters!$C$15 -> 151.42832 | N87: =G87*Parameters!$C$21 -> 2592.3366 | O87: =L87+G87*(1-Parameters!$C$21)*Parameters!$C$23 -> 727.60317 | P87: =I87*Parameters!$C$22*Parameters!$C$25 -> 151.33328 | Q87: =P87*Parameters!$C$24*10000000 -> 6.6586644e+10 | R87: =E87*M11+J87+H87*(1-O11)+K87*(1-Parameters!$C$23)+'Scenario prediction'!G87*(1-Parameters!$C$21)*(1-Parameters!$C$23) -> 38.49487 | S87: =R87+I87*Parameters!$C$22*(1-Parameters!$C$25) -> 478.30722 | T87: =N87*Parameters!$C$27+Parameters!$C$26*Parameters!$C$22*'Scenario prediction'!I87 -> 5695.619 | U87: =N87*(Parameters!$C$28-Parameters!$C$27) -> 7561.8459 | V87: =I87*Parameters!$C$29 -> 2.3645825e+08 | W87: =V87/1000000 -> 236.45825
A88: 2029 | B88: =B12*E12 -> 310.48451 | C88: =B12*Parameters!$C$4 -> 249.57309 | D88: =C12*Parameters!$C$8+D12*Parameters!$C$11 -> 264.64468 | E88: =B12*F12+H12*C12+J12*D12 -> 749.13607 | F88: =B88*(1-Parameters!$C$15)+E88*K12+C12*G12+D12*I12 -> 3885.729 | G88: =F88*N12 -> 3302.8697 | H88: =F88*(1-N12) -> 582.85936 | I88: =E88*L12+H88*O12 -> 745.42188 | J88: =I88*Parameters!$C$20 -> 22.362656 | K88: =I88*Parameters!$C$19 -> 163.99281 | L88: =K88*Parameters!$C$23 -> 160.71296 | M88: =B88*Parameters!$C$15 -> 155.24225 | N88: =G88*Parameters!$C$21 -> 2708.3531 | O88: =L88+G88*(1-Parameters!$C$21)*Parameters!$C$23 -> 743.33917 | P88: =I88*Parameters!$C$22*Parameters!$C$25 -> 143.121 | Q88: =P88*Parameters!$C$24*10000000 -> 6.2973241e+10 | R88: =E88*M12+J88+H88*(1-O12)+K88*(1-Parameters!$C$23)+'Scenario prediction'!G88*(1-Parameters!$C$21)*(1-Parameters!$C$23) -> 37.532844 | S88: =R88+I88*Parameters!$C$22*(1-Parameters!$C$25) -> 453.47825 | T88: =N88*Parameters!$C$27+Parameters!$C$26*Parameters!$C$22*'Scenario prediction'!I88 -> 5789.5471 | U88: =N88*(Parameters!$C$28-Parameters!$C$27) -> 7900.2661 | V88: =I88*Parameters!$C$29 -> 2.2362656e+08 | W88: =V88/1000000 -> 223.62656
A89: 2030 | B89: =B13*E13 -> 318.24662 | C89: =B13*Parameters!$C$4 -> 255.81242 | D89: =C13*Parameters!$C$8+D13*Parameters!$C$11 -> 271.2608 | E89: =B13*F13+H13*C13+J13*D13 -> 674.80472 | F89: =B89*(1-Parameters!$C$15)+E89*K13+C13*G13+D13*I13 -> 4009.8143 | G89: =F89*N13 -> 3448.4403 | H89: =F89*(1-N13) -> 561.374 | I89: =E89*L13+H89*O13 -> 701.05858 | J89: =I89*Parameters!$C$20 -> 21.031757 | K89: =I89*Parameters!$C$19 -> 154.23289 | L89: =K89*Parameters!$C$23 -> 151.14823 | M89: =B89*Parameters!$C$15 -> 159.12331 | N89: =G89*Parameters!$C$21 -> 2827.721 | O89: =L89+G89*(1-Parameters!$C$21)*Parameters!$C$23 -> 759.45309 | P89: =I89*Parameters!$C$22*Parameters!$C$25 -> 134.60325 | Q89: =P89*Parameters!$C$24*10000000 -> 5.9225429e+10 | R89: =E89*M13+J89+H89*(1-O13)+K89*(1-Parameters!$C$23)+'Scenario prediction'!G89*(1-Parameters!$C$21)*(1-Parameters!$C$23) -> 36.5308 | S89: =R89+I89*Parameters!$C$22*(1-Parameters!$C$25) -> 427.72149 | T89: =N89*Parameters!$C$27+Parameters!$C$26*Parameters!$C$22*'Scenario prediction'!I89 -> 5885.4553 | U89: =N89*(Parameters!$C$28-Parameters!$C$27) -> 8248.4622 | V89: =I89*Parameters!$C$29 -> 2.1031757e+08 | W89: =V89/1000000 -> 210.31757
... A94: 2035 | B94: =B18*E18 -> 360.06684 | C94: =B18*Parameters!$C$4 -> 289.42827 | D94: =C18*Parameters!$C$8+D18*Parameters!$C$11 -> 306.90669 | E94: =B18*F18+H18*C18+J18*D18 -> 465.53191 | F94: =B94*(1-Parameters!$C$15)+E94*K18+C18*G18+D18*I18 -> 4601.6707 | G94: =F94*N18 -> 4141.5036 | H94: =F94*(1-N18) -> 460.16707 | I94: =E94*L18+H94*O18 -> 553.27345 | J94: =I94*Parameters!$C$20 -> 16.598204 | K94: =I94*Parameters!$C$19 -> 121.72016 | L94: =K94*Parameters!$C$23 -> 119.28576 | M94: =B94*Parameters!$C$15 -> 180.03342 | N94: =G94*Parameters!$C$21 -> 3396.033 | O94: =L94+G94*(1-Parameters!$C$21)*Parameters!$C$23 -> 849.847 | P94: =I94*Parameters!$C$22*Parameters!$C$25 -> 106.2285 | Q94: =P94*Parameters!$C$24*10000000 -> 4.6740541e+10 | R94: =E94*M18+J94+H94*(1-O18)+K94*(1-Parameters!$C$23)+'Scenario prediction'!G94*(1-Parameters!$C$21)*(1-Parameters!$C$23) -> 33.94202 | S94: =R94+I94*Parameters!$C$22*(1-Parameters!$C$25) -> 342.66861 | T94: =N94*Parameters!$C$27+Parameters!$C$26*Parameters!$C$22*'Scenario prediction'!I94 -> 6472.8983 | U94: =N94*(Parameters!$C$28-Parameters!$C$27) -> 9906.2282 | V94: =I94*Parameters!$C$29 -> 1.6598204e+08 | W94: =V94/1000000 -> 165.98204
