Workbook
Name _Hlk79939650: Parameters!$B$17

Sheet Waste plastic data in 2019
A1: Scale of waste plastics production by various industries in China in 2019
A2: Industries | B2: Waste plastic production in 2019 (10,000 tons) | C2: Data Sources
A3: Building materials | B3: 472.5 | C3: ( Ke, 2018; Recycling Plastics Branch of Association, 2020)
A4: Automobile | B4: 315 | C4: ( Recycling Plastics Branch of Association, 2020)
A5: Agriculture and fisheries | B5: 252 | C5: ( Recycling Plastics Branch of Association, 2020)
A6: Industrial packing | B6: 630 | C6: ( Ke, 2018; Recycling Plastics Branch of Association, 2020)
A7: Textile | B7: 525 | C7: ( Ke, 2018; Recycling Plastics Branch of Association, 2020)
A8: Domestic | B8: 3244.5 | C8: (Ke, 2018; Recycling Plastics Branch of Association, 2020)
A9: High recycling value | B9: 1320.5 | C9: ( Ke, 2018; Recycling Plastics Branch of Association, 2020)
A10: Low recycling value | B10: 1924 | C10: (Ke, 2018; Recycling Plastics Branch of Association, 2020)
A11: WEEE | B11: 441 | C11: ( Recycling Plastics Branch of Association, 2020)
A12: Total | B12: 6300 | C12: ( Recycling Plastics Branch of Association, 2020)

Sheet Parameters
A1: Recycling process-related parameters
B2: Parameters | C2: Numerical value | D2: Data source
A3: WEEE to Recycle | C3: 0.5209 | D3: (Li et al., 2021)
A4: WEEE to Transfer or idle | C4: 0.4421 | D4: (Li et al., 2021)
A5: WEEE to Discard to mixed waste | C5: 0.037 | D5: (Commerce, 2016)
A6: High recovery value waste plastic to Discard to mixed waste | C6: 0.27 | D6: (Thanh et al., 2011)
A7: High recovery value waste plastic to keep for sale | C7: 0.69 | D7: (Thanh et al., 2011)
A8: High recovery value waste plastic to reuse | C8: 0.04 | D8: (Thanh et al., 2011)
A9: Low recovery value waste plastic to Discard to mixed waste | C9: 0.64 | D9: (Thanh et al., 2011)
A10: Low recovery value waste plastic to keep for sale | C10: 0.28 | D10: (Thanh et al., 2011)
A11: Low recovery value waste plastic to reuse | C11: 0.08 | D11: (Thanh et al., 2011)
A12: Mixed waste to classification recovery | C12: 0.037 | D12: (Editorial Board Of Statistics, 2020)
A13: Mixed waste to landfill | C13: 0.456 | D13: (Editorial Board Of Statistics, 2020)
A14: Mixed waste to incineration | C14: 0.507 | D14: (Editorial Board Of Statistics, 2020)
... A29: Dioxin emitted into the atmosphere by incineration of waste plasticsμg TEQ/10000t | C29: 300000 | D29: (United Nations Environment Programme Division, 2005)

Sheet Base year analysis
A1: Refurbushment | B1: Transfer or Idle | C1: Reuse | D1: Sorting | E1: Waste plastics markrt | F1: Recycling plant | G1: Mixed waste | H1: Incineration | I1: Fly ASH | J1: BOTTLE ASH | K1: Building filler | L1: Reused products | M1: High-end applications | N1: Low-end applications | O1: Energy | P1: Energy(MJ) | Q1: Landfill | R1: LOST | S1: CE | T1: CR | U1: DE(ug) | V1: DE(g)
A2: ='Waste plastic data in 2019'!B11*Parameters!C3 -> 229.7169 | B2: ='Waste plastic data in 2019'!B11*Parameters!C4 -> 194.9661 | C2: ='Waste plastic data in 2019'!B9*Parameters!C8+Parameters!C11*'Waste plastic data in 2019'!B10 -> 206.74 | D2: ='Waste plastic data in 2019'!B11*Parameters!C5+'Waste plastic data in 2019'!B9*Parameters!C6+Parameters!C9*'Waste plastic data in 2019'!B10 -> 1604.212 | E2: =D2*Parameters!C12+'Base year analysis'!A2*(1-Parameters!C15)+'Waste plastic data in 2019'!B9*Parameters!C7+Parameters!C10*'Waste plastic data in 2019'!B10 -> 1624.0793 | F2: =E2*Parameters!C16 -> 1023.17 | G2: =E2*(1-Parameters!C16) -> 600.90934 | H2: =D2*Parameters!C14+'Base year analysis'!G2*Parameters!C18 -> 1053.6992 | I2: =H2*Parameters!C20 -> 31.610977 | J2: =H2*Parameters!C19 -> 231.81383 | K2: =J2*Parameters!C23 -> 227.17755 | L2: =A2*Parameters!C15 -> 114.85845 | M2: =F2*Parameters!C21 -> 838.99936 | N2: =K2+F2*(1-Parameters!C21)*Parameters!C23 -> 407.66473 | O2: =H2*Parameters!C22*Parameters!C25 -> 202.31025 | P2: =O2*Parameters!C24*10000000 -> 8.901651e+10 | Q2: =D2*Parameters!C13+'Base year analysis'!I2+'Base year analysis'!J2*(1-Parameters!C23)+'Base year analysis'!G2*Parameters!C17+'Base year analysis'!F2*(1-Parameters!C21)*(1-Parameters!C23) -> 1131.9969 | R2: =Q2+H2*Parameters!C22*(1-Parameters!C25) -> 1719.9611 | S2: =M2*Parameters!C27+'Base year analysis'!H2*Parameters!C22*Parameters!C26 -> 3490.4836 | T2: ='Base year analysis'!M2*(Parameters!C28-Parameters!C27) -> 2447.3611 | U2: =H2*Parameters!C29 -> 3.1610977e+08 | V2: =U2/1000000 -> 316.10977
A3: High recovery value waste plastic
C4: ='Waste plastic data in 2019'!B9*Parameters!C8 -> 52.82 | D4: ='Waste plastic data in 2019'!B9*Parameters!C6 -> 356.535 | E4: =D4*Parameters!C12+'Waste plastic data in 2019'!B9*Parameters!C7 -> 924.33679 | F4: =E4*Parameters!C16 -> 582.33218 | G4: =E4*(1-Parameters!C16) -> 342.00461 | H4: =D4*Parameters!C14+'Base year analysis'!G4*Parameters!C18 -> 317.56509 | I4: =H4*Parameters!C20 -> 9.5269527 | J4: =H4*Parameters!C19 -> 69.86432 | K4: =J4*Parameters!C23 -> 68.467034 | M4: =F4*Parameters!C21 -> 477.51239 | N4: =F4*(1-Parameters!C21)*Parameters!C23+K4 -> 171.19043 | O4: =H4*Parameters!C22*Parameters!C25 -> 60.972497 | P4: =O4*Parameters!C24*10000000 -> 2.6827899e+10 | Q4: =D4*Parameters!C13+'Base year analysis'!I4+'Base year analysis'!J4*(1-Parameters!C23)+'Base year analysis'!G4*Parameters!C17+'Base year analysis'!F4*(1-Parameters!C21)*(1-Parameters!C23) -> 380.80336 | R4: =Q4+H4*Parameters!C22*(1-Parameters!C25) -> 558.00468 | S4: =M4*Parameters!C27+Parameters!C26*Parameters!C22*'Base year analysis'!H4 -> 1404.6724 | T4: =M4*(Parameters!C28-Parameters!C27) -> 1392.9036 | U4: =H4*Parameters!C29 -> 95269527 | V4: =U4/1000000 -> 95.269527
A5: Low recovery value waste plastic
C6: ='Waste plastic data in 2019'!B10*Parameters!C11 -> 153.92 | D6: ='Waste plastic data in 2019'!B10*Parameters!C9 -> 1231.36 | E6: =D6*Parameters!C12+'Waste plastic data in 2019'!B10*Parameters!C10 -> 584.28032 | F6: =E6*Parameters!C16 -> 368.0966 | G6: =E6*(1-Parameters!C16) -> 216.18372 | H6: =D6*Parameters!C14+Parameters!C18*'Base year analysis'!G6 -> 710.77301 | I6: =H6*Parameters!C20 -> 21.32319 | J6: =H6*Parameters!C19 -> 156.37006 | K6: =J6*Parameters!C23 -> 153.24266 | M6: =F6*Parameters!C21 -> 301.83921 | N6: =F6*(1-Parameters!C21)*Parameters!C23+'Base year analysis'!K6 -> 218.1749 | O6: =H6*Parameters!C25*Parameters!C22 -> 136.46842 | P6: =O6*Parameters!C24*10000000 -> 6.0046104e+10 | Q6: =D6*Parameters!C13+'Base year analysis'!I6+'Base year analysis'!J6*(1-Parameters!C23)+'Base year analysis'!G6*Parameters!C17+'Base year analysis'!F6*(1-Parameters!C21)*(1-Parameters!C23) -> 716.98613 | R6: =Q6+H6*Parameters!C22*(1-Parameters!C25) -> 1113.5975 | S6: =M6*Parameters!C27+Parameters!C26*Parameters!C22*'Base year analysis'!H6 -> 1939.8569 | T6: =M6*(Parameters!C28-Parameters!C27) -> 880.46499 | U6: =H6*Parameters!C29 -> 2.132319e+08 | V6: =U6/1000000 -> 213.2319
A7: WEEE
A8: ='Waste plastic data in 2019'!B11*Parameters!C3 -> 229.7169 | B8: ='Waste plastic data in 2019'!B11*Parameters!C4 -> 194.9661 | D8: ='Waste plastic data in 2019'!B11*Parameters!C5 -> 16.317 | E8: =A8*(1-Parameters!C15)+D8*Parameters!C12 -> 115.46218 | F8: =E8*Parameters!C16 -> 72.741173 | G8: =E8*(1-Parameters!C16) -> 42.721006 | H8: =D8*Parameters!C14+Parameters!C18*'Base year analysis'!G8 -> 25.361121 | I8: =H8*Parameters!C20 -> 0.76083364 | J8: =H8*Parameters!C19 -> 5.5794467 | K8: =J8*Parameters!C23 -> 5.4678578 | L8: =A8*Parameters!C15 -> 114.85845 | M8: =F8*Parameters!C21 -> 59.647762 | N8: =F8*(1-Parameters!C21)*Parameters!C23+'Base year analysis'!K8 -> 18.299401 | O8: =H8*Parameters!C22*Parameters!C25 -> 4.8693353 | P8: =O8*Parameters!C24*10000000 -> 2.1425075e+09 | Q8: =D8*Parameters!C13+'Base year analysis'!I8+'Base year analysis'!J8*(1-Parameters!C23)+'Base year analysis'!G8*Parameters!C17+'Base year analysis'!F8*(1-Parameters!C21)*(1-Parameters!C23) -> 34.207447 | R8: =Q8+'Base year analysis'!H8*Parameters!C22*(1-Parameters!C25) -> 48.358952 | S8: =M8*Parameters!C27+Parameters!C26*Parameters!C22*'Base year analysis'!H8 -> 145.9543 | T8: =M8*(Parameters!C28-Parameters!C27) -> 173.99252 | U8: =H8*Parameters!C29 -> 7608336.4 | V8: =U8/1000000 -> 7.6083364

Sheet Sensitivty analysis-
C1: Refurbushment | D1: Transfer or Idle | E1: Reuse | F1: Sorting | G1: Waste plastics markrt | H1: Recycling plant | I1: Mixed waste | J1: Incineration | K1: Fly ASH | L1: BOTTLE ASH | M1: Building filler | N1: Reused products | O1: High-end applications | P1: Low-end applications | Q1: Energy | R1: Energy(MJ) | S1: Landfill | T1: LOST | U1: CE | V1: CR | W1: DE(ug) | X1: DE(g)
A2: 0.5209 | B2: 0.037 | C2: ='Waste plastic data in 2019'!$B$11*A2 -> 229.7169 | D2: ='Waste plastic data in 2019'!$B$11*Parameters!$C$4 -> 194.9661 | E2: ='Waste plastic data in 2019'!$B$9*Parameters!$C$8+Parameters!$C$11*'Waste plastic data in 2019'!$B$10 -> 206.74 | F2: ='Waste plastic data in 2019'!$B$11*B2+'Waste plastic data in 2019'!$B$9*Parameters!$C$6+Parameters!$C$9*'Waste plastic data in 2019'!$B$10 -> 1604.212 | G2: =F2*Parameters!$C$12+'Sensitivty analysis-'!C2*(1-Parameters!$C$15)+'Waste plastic data in 2019'!$B$9*Parameters!$C$7+Parameters!$C$10*'Waste plastic data in 2019'!$B$10 -> 1624.0793 | H2: =G2*Parameters!$C$16 -> 1023.17 | I2: =G2*(1-Parameters!$C$16) -> 600.90934 | J2: =F2*Parameters!$C$14+'Sensitivty analysis-'!I2*Parameters!$C$18 -> 1053.6992 | K2: =J2*Parameters!$C$20 -> 31.610977 | L2: =J2*Parameters!$C$19 -> 231.81383 | M2: =L2*Parameters!$C$23 -> 227.17755 | N2: =C2*Parameters!$C$15 -> 114.85845 | O2: =H2*Parameters!$C$21 -> 838.99936 | P2: =M2+H2*(1-Parameters!$C$21)*Parameters!$C$23 -> 407.66473 | Q2: =J2*Parameters!$C$22*Parameters!$C$25 -> 202.31025 | R2: =Q2*Parameters!$C$24*10000000 -> 8.901651e+10 | S2: =F2*Parameters!$C$13+'Sensitivty analysis-'!K2+'Sensitivty analysis-'!L2*(1-Parameters!$C$23)+'Sensitivty analysis-'!I2*Parameters!$C$17+'Sensitivty analysis-'!H2*(1-Parameters!$C$21)*(1-Parameters!$C$23) -> 1131.9969 | T2: =S2+J2*Parameters!$C$22*(1-Parameters!$C$25) -> 1719.9611 | U2: =O2*Parameters!$C$27+'Sensitivty analysis-'!J2*Parameters!$C$22*Parameters!$C$26 -> 3490.4836 | V2: ='Sensitivty analysis-'!O2*(Parameters!$C$28-Parameters!$C$27) -> 2447.3611 | W2: =J2*Parameters!$C$29 -> 3.1610977e+08 | X2: =W2/1000000 -> 316.10977
A3: =A2+0.005 -> 0.5259 | B3: =B2-0.005 -> 0.032 | C3: ='Waste plastic data in 2019'!$B$11*A3 -> 231.9219 | D3: ='Waste plastic data in 2019'!$B$11*Parameters!C5 -> 16.317 | E3: ='Waste plastic data in 2019'!$B$9*Parameters!$C$8+Parameters!$C$11*'Waste plastic data in 2019'!$B$10 -> 206.74 | F3: ='Waste plastic data in 2019'!$B$11*B3+'Waste plastic data in 2019'!$B$9*Parameters!$C$6+Parameters!$C$9*'Waste plastic data in 2019'!$B$10 -> 1602.007 | G3: =F3*Parameters!$C$12+'Sensitivty analysis-'!C3*(1-Parameters!$C$15)+'Waste plastic data in 2019'!$B$9*Parameters!$C$7+Parameters!$C$10*'Waste plastic data in 2019'!$B$10 -> 1625.1002 | H3: =G3*Parameters!$C$16 -> 1023.8131 | I3: =G3*(1-Parameters!$C$16) -> 601.28708 | J3: =F3*Parameters!$C$14+'Sensitivty analysis-'!I3*Parameters!$C$18 -> 1052.7324 | K3: =J3*Parameters!$C$20 -> 31.581971 | L3: =J3*Parameters!$C$19 -> 231.60112 | M3: =L3*Parameters!$C$23 -> 226.9691 | N3: =C3*Parameters!$C$15 -> 115.96095 | O3: =H3*Parameters!$C$21 -> 839.52677 | P3: =M3+H3*(1-Parameters!$C$21)*Parameters!$C$23 -> 407.56974 | Q3: =J3*Parameters!$C$22*Parameters!$C$25 -> 202.12462 | R3: =Q3*Parameters!$C$24*10000000 -> 8.8934831e+10 | S3: =F3*Parameters!$C$13+'Sensitivty analysis-'!K3+'Sensitivty analysis-'!L3*(1-Parameters!$C$23)+'Sensitivty analysis-'!I3*Parameters!$C$17+'Sensitivty analysis-'!H3*(1-Parameters!$C$21)*(1-Parameters!$C$23) -> 1131.1872 | T3: =S3+J3*Parameters!$C$22*(1-Parameters!$C$25) -> 1718.6118 | U3: =O3*Parameters!$C$27+'Sensitivty analysis-'!J3*Parameters!$C$22*Parameters!$C$26 -> 3489.3176 | V3: ='Sensitivty analysis-'!O3*(Parameters!$C$28-Parameters!$C$27) -> 2448.8996 | W3: =J3*Parameters!$C$29 -> 3.1581971e+08 | X3: =W3/1000000 -> 315.81971
A4: =A3+0.005 -> 0.5309 | B4: =B3-0.005 -> 0.027 | C4: ='Waste plastic data in 2019'!$B$11*A4 -> 234.1269 | D4: ='Waste plastic data in 2019'!$B$11*Parameters!C6 -> 119.07 | E4: ='Waste plastic data in 2019'!$B$9*Parameters!$C$8+Parameters!$C$11*'Waste plastic data in 2019'!$B$10 -> 206.74 | F4: ='Waste plastic data in 2019'!$B$11*B4+'Waste plastic data in 2019'!$B$9*Parameters!$C$6+Parameters!$C$9*'Waste plastic data in 2019'!$B$10 -> 1599.802 | G4: =F4*Parameters!$C$12+'Sensitivty analysis-'!C4*(1-Parameters!$C$15)+'Waste plastic data in 2019'!$B$9*Parameters!$C$7+Parameters!$C$10*'Waste plastic data in 2019'!$B$10 -> 1626.1211 | H4: =G4*Parameters!$C$16 -> 1024.4563 | I4: =G4*(1-Parameters!$C$16) -> 601.66482 | J4: =F4*Parameters!$C$14+'Sensitivty analysis-'!I4*Parameters!$C$18 -> 1051.7655 | K4: =J4*Parameters!$C$20 -> 31.552966 | L4: =J4*Parameters!$C$19 -> 231.38842 | M4: =L4*Parameters!$C$23 -> 226.76065 | N4: =C4*Parameters!$C$15 -> 117.06345 | O4: =H4*Parameters!$C$21 -> 840.05417 | P4: =M4+H4*(1-Parameters!$C$21)*Parameters!$C$23 -> 407.47474 | Q4: =J4*Parameters!$C$22*Parameters!$C$25 -> 201.93898 | R4: =Q4*Parameters!$C$24*10000000 -> 8.8853153e+10 | S4: =F4*Parameters!$C$13+'Sensitivty analysis-'!K4+'Sensitivty analysis-'!L4*(1-Parameters!$C$23)+'Sensitivty analysis-'!I4*Parameters!$C$17+'Sensitivty analysis-'!H4*(1-Parameters!$C$21)*(1-Parameters!$C$23) -> 1130.3774 | T4: =S4+J4*Parameters!$C$22*(1-Parameters!$C$25) -> 1717.2626 | U4: =O4*Parameters!$C$27+'Sensitivty analysis-'!J4*Parameters!$C$22*Parameters!$C$26 -> 3488.1515 | V4: ='Sensitivty analysis-'!O4*(Parameters!$C$28-Parameters!$C$27) -> 2450.438 | W4: =J4*Parameters!$C$29 -> 3.1552966e+08 | X4: =W4/1000000 -> 315.52966
A5: =A4+0.005 -> 0.5359 | B5: =B4-0.005 -> 0.022 | C5: ='Waste plastic data in 2019'!$B$11*A5 -> 236.3319 | D5: ='Waste plastic data in 2019'!$B$11*Parameters!C7 -> 304.29 | E5: ='Waste plastic data in 2019'!$B$9*Parameters!$C$8+Parameters!$C$11*'Waste plastic data in 2019'!$B$10 -> 206.74 | F5: ='Waste plastic data in 2019'!$B$11*B5+'Waste plastic data in 2019'!$B$9*Parameters!$C$6+Parameters!$C$9*'Waste plastic data in 2019'!$B$10 -> 1597.597 | G5: =F5*Parameters!$C$12+'Sensitivty analysis-'!C5*(1-Parameters!$C$15)+'Waste plastic data in 2019'!$B$9*Parameters!$C$7+Parameters!$C$10*'Waste plastic data in 2019'!$B$10 -> 1627.142 | H5: =G5*Parameters!$C$16 -> 1025.0995 | I5: =G5*(1-Parameters!$C$16) -> 602.04255 | J5: =F5*Parameters!$C$14+'Sensitivty analysis-'!I5*Parameters!$C$18 -> 1050.7987 | K5: =J5*Parameters!$C$20 -> 31.523961 | L5: =J5*Parameters!$C$19 -> 231.17571 | M5: =L5*Parameters!$C$23 -> 226.5522 | N5: =C5*Parameters!$C$15 -> 118.16595 | O5: =H5*Parameters!$C$21 -> 840.58158 | P5: =M5+H5*(1-Parameters!$C$21)*Parameters!$C$23 -> 407.37975 | Q5: =J5*Parameters!$C$22*Parameters!$C$25 -> 201.75335 | R5: =Q5*Parameters!$C$24*10000000 -> 8.8771474e+10 | S5: =F5*Parameters!$C$13+'Sensitivty analysis-'!K5+'Sensitivty analysis-'!L5*(1-Parameters!$C$23)+'Sensitivty analysis-'!I5*Parameters!$C$17+'Sensitivty analysis-'!H5*(1-Parameters!$C$21)*(1-Parameters!$C$23) -> 1129.5676 | T5: =S5+J5*Parameters!$C$22*(1-Parameters!$C$25) -> 1715.9133 | U5: =O5*Parameters!$C$27+'Sensitivty analysis-'!J5*Parameters!$C$22*Parameters!$C$26 -> 3486.9854 | V5: ='Sensitivty analysis-'!O5*(Parameters!$C$28-Parameters!$C$27) -> 2451.9765 | W5: =J5*Parameters!$C$29 -> 3.1523961e+08 | X5: =W5/1000000 -> 315.23961
A6: =A5+0.005 -> 0.5409 | B6: =B5-0.005 -> 0.017 | C6: ='Waste plastic data in 2019'!$B$11*A6 -> 238.5369 | D6: ='Waste plastic data in 2019'!$B$11*Parameters!C8 -> 17.64 | E6: ='Waste plastic data in 2019'!$B$9*Parameters!$C$8+Parameters!$C$11*'Waste plastic data in 2019'!$B$10 -> 206.74 | F6: ='Waste plastic data in 2019'!$B$11*B6+'Waste plastic data in 2019'!$B$9*Parameters!$C$6+Parameters!$C$9*'Waste plastic data in 2019'!$B$10 -> 1595.392 | G6: =F6*Parameters!$C$12+'Sensitivty analysis-'!C6*(1-Parameters!$C$15)+'Waste plastic data in 2019'!$B$9*Parameters!$C$7+Parameters!$C$10*'Waste plastic data in 2019'!$B$10 -> 1628.163 | H6: =G6*Parameters!$C$16 -> 1025.7427 | I6: =G6*(1-Parameters!$C$16) -> 602.42029 | J6: =F6*Parameters!$C$14+'Sensitivty analysis-'!I6*Parameters!$C$18 -> 1049.8319 | K6: =J6*Parameters!$C$20 -> 31.494956 | L6: =J6*Parameters!$C$19 -> 230.96301 | M6: =L6*Parameters!$C$23 -> 226.34375 | N6: =C6*Parameters!$C$15 -> 119.26845 | O6: =H6*Parameters!$C$21 -> 841.10898 | P6: =M6+H6*(1-Parameters!$C$21)*Parameters!$C$23 -> 407.28475 | Q6: =J6*Parameters!$C$22*Parameters!$C$25 -> 201.56772 | R6: =Q6*Parameters!$C$24*10000000 -> 8.8689796e+10 | S6: =F6*Parameters!$C$13+'Sensitivty analysis-'!K6+'Sensitivty analysis-'!L6*(1-Parameters!$C$23)+'Sensitivty analysis-'!I6*Parameters!$C$17+'Sensitivty analysis-'!H6*(1-Parameters!$C$21)*(1-Parameters!$C$23) -> 1128.7578 | T6: =S6+J6*Parameters!$C$22*(1-Parameters!$C$25) -> 1714.564 | U6: =O6*Parameters!$C$27+'Sensitivty analysis-'!J6*Parameters!$C$22*Parameters!$C$26 -> 3485.8193 | V6: ='Sensitivty analysis-'!O6*(Parameters!$C$28-Parameters!$C$27) -> 2453.5149 | W6: =J6*Parameters!$C$29 -> 3.1494956e+08 | X6: =W6/1000000 -> 314.94956
A7: =A6+0.005 -> 0.5459 | B7: =B6-0.005 -> 0.012 | C7: ='Waste plastic data in 2019'!$B$11*A7 -> 240.7419 | D7: ='Waste plastic data in 2019'!$B$11*Parameters!C9 -> 282.24 | E7: ='Waste plastic data in 2019'!$B$9*Parameters!$C$8+Parameters!$C$11*'Waste plastic data in 2019'!$B$10 -> 206.74 | F7: ='Waste plastic data in 2019'!$B$11*B7+'Waste plastic data in 2019'!$B$9*Parameters!$C$6+Parameters!$C$9*'Waste plastic data in 2019'!$B$10 -> 1593.187 | G7: =F7*Parameters!$C$12+'Sensitivty analysis-'!C7*(1-Parameters!$C$15)+'Waste plastic data in 2019'!$B$9*Parameters!$C$7+Parameters!$C$10*'Waste plastic data in 2019'!$B$10 -> 1629.1839 | H7: =G7*Parameters!$C$16 -> 1026.3858 | I7: =G7*(1-Parameters!$C$16) -> 602.79803 | J7: =F7*Parameters!$C$14+'Sensitivty analysis-'!I7*Parameters!$C$18 -> 1048.865 | K7: =J7*Parameters!$C$20 -> 31.465951 | L7: =J7*Parameters!$C$19 -> 230.7503 | M7: =L7*Parameters!$C$23 -> 226.1353 | N7: =C7*Parameters!$C$15 -> 120.37095 | O7: =H7*Parameters!$C$21 -> 841.63639 | P7: =M7+H7*(1-Parameters!$C$21)*Parameters!$C$23 -> 407.18976 | Q7: =J7*Parameters!$C$22*Parameters!$C$25 -> 201.38208 | R7: =Q7*Parameters!$C$24*10000000 -> 8.8608117e+10 | S7: =F7*Parameters!$C$13+'Sensitivty analysis-'!K7+'Sensitivty analysis-'!L7*(1-Parameters!$C$23)+'Sensitivty analysis-'!I7*Parameters!$C$17+'Sensitivty analysis-'!H7*(1-Parameters!$C$21)*(1-Parameters!$C$23) -> 1127.948 | T7: =S7+J7*Parameters!$C$22*(1-Parameters!$C$25) -> 1713.2147 | U7: =O7*Parameters!$C$27+'Sensitivty analysis-'!J7*Parameters!$C$22*Parameters!$C$26 -> 3484.6532 | V7: ='Sensitivty analysis-'!O7*(Parameters!$C$28-Parameters!$C$27) -> 2455.0533 | W7: =J7*Parameters!$C$29 -> 3.1465951e+08 | X7: =W7/1000000 -> 314.65951
C8: Refurbushment | D8: Transfer or Idle | E8: Reuse | F8: Sorting | G8: Waste plastics markrt | H8: Recycling plant | I8: Mixed waste | J8: Incineration | K8: Fly ASH | L8: BOTTLE ASH | M8: Building filler | N8: Reused products | O8: High-end applications | P8: Low-end applications | Q8: Energy | R8: Energy(MJ) | S8: Landfill | T8: LOST | U8: CE | V8: CR | W8: DE(ug) | X8: DE(g)
A9: 0.69 | B9: 0.27 | C9: ='Waste plastic data in 2019'!$B$11*$A$2 -> 229.7169 | D9: ='Waste plastic data in 2019'!$B$11*Parameters!$C$4 -> 194.9661 | E9: ='Waste plastic data in 2019'!$B$9*Parameters!$C$8+Parameters!$C$11*'Waste plastic data in 2019'!$B$10 -> 206.74 | F9: ='Waste plastic data in 2019'!$B$11*$B$2+'Waste plastic data in 2019'!$B$9*B9+Parameters!$C$9*'Waste plastic data in 2019'!$B$10 -> 1604.212 | G9: =F9*Parameters!$C$12+'Sensitivty analysis-'!C9*(1-Parameters!$C$15)+'Waste plastic data in 2019'!$B$9*A9+Parameters!$C$10*'Waste plastic data in 2019'!$B$10 -> 1624.0793 | H9: =G9*Parameters!$C$16 -> 1023.17 | I9: =G9*(1-Parameters!$C$16) -> 600.90934 | J9: =F9*Parameters!$C$14+'Sensitivty analysis-'!I9*Parameters!$C$18 -> 1053.6992 | K9: =J9*Parameters!$C$20 -> 31.610977 | L9: =J9*Parameters!$C$19 -> 231.81383 | M9: =L9*Parameters!$C$23 -> 227.17755 | N9: =C9*Parameters!$C$15 -> 114.85845 | O9: =H9*Parameters!$C$21 -> 838.99936 | P9: =M9+H9*(1-Parameters!$C$21)*Parameters!$C$23 -> 407.66473 | Q9: =J9*Parameters!$C$22*Parameters!$C$25 -> 202.31025 | R9: =Q9*Parameters!$C$24*10000000 -> 8.901651e+10 | S9: =F9*Parameters!$C$13+'Sensitivty analysis-'!K9+'Sensitivty analysis-'!L9*(1-Parameters!$C$23)+'Sensitivty analysis-'!I9*Parameters!$C$17+'Sensitivty analysis-'!H9*(1-Parameters!$C$21)*(1-Parameters!$C$23) -> 1131.9969 | T9: =S9+J9*Parameters!$C$22*(1-Parameters!$C$25) -> 1719.9611 | U9: =O9*Parameters!$C$27+'Sensitivty analysis-'!J9*Parameters!$C$22*Parameters!$C$26 -> 3490.4836 | V9: ='Sensitivty analysis-'!O9*(Parameters!$C$28-Parameters!$C$27) -> 2447.3611 | W9: =J9*Parameters!$C$29 -> 3.1610977e+08 | X9: =W9/1000000 -> 316.10977
A10: =A9+0.05 -> 0.74 | B10: =B9-0.05 -> 0.22 | C10: ='Waste plastic data in 2019'!$B$11*$A$2 -> 229.7169 | D10: ='Waste plastic data in 2019'!$B$11*Parameters!$C$4 -> 194.9661 | E10: ='Waste plastic data in 2019'!$B$9*Parameters!$C$8+Parameters!$C$11*'Waste plastic data in 2019'!$B$10 -> 206.74 | F10: ='Waste plastic data in 2019'!$B$11*$B$2+'Waste plastic data in 2019'!$B$9*B10+Parameters!$C$9*'Waste plastic data in 2019'!$B$10 -> 1538.187 | G10: =F10*Parameters!$C$12+'Sensitivty analysis-'!C10*(1-Parameters!$C$15)+'Waste plastic data in 2019'!$B$9*A10+Parameters!$C$10*'Waste plastic data in 2019'!$B$10 -> 1687.6614 | H10: =G10*Parameters!$C$16 -> 1063.2267 | I10: =G10*(1-Parameters!$C$16) -> 624.43471 | J10: =F10*Parameters!$C$14+'Sensitivty analysis-'!I10*Parameters!$C$18 -> 1029.6347 | K10: =J10*Parameters!$C$20 -> 30.889041 | L10: =J10*Parameters!$C$19 -> 226.51963 | M10: =L10*Parameters!$C$23 -> 221.98924 | N10: =C10*Parameters!$C$15 -> 114.85845 | O10: =H10*Parameters!$C$21 -> 871.84586 | P10: =M10+H10*(1-Parameters!$C$21)*Parameters!$C$23 -> 409.54242 | Q10: =J10*Parameters!$C$22*Parameters!$C$25 -> 197.68986 | R10: =Q10*Parameters!$C$24*10000000 -> 8.6983539e+10 | S10: =F10*Parameters!$C$13+'Sensitivty analysis-'!K10+'Sensitivty analysis-'!L10*(1-Parameters!$C$23)+'Sensitivty analysis-'!I10*Parameters!$C$17+'Sensitivty analysis-'!H10*(1-Parameters!$C$21)*(1-Parameters!$C$23) -> 1115.3211 | T10: =S10+J10*Parameters!$C$22*(1-Parameters!$C$25) -> 1689.8573 | U10: =O10*Parameters!$C$27+'Sensitivty analysis-'!J10*Parameters!$C$22*Parameters!$C$26 -> 3492.4196 | V10: ='Sensitivty analysis-'!O10*(Parameters!$C$28-Parameters!$C$27) -> 2543.1744 | W10: =J10*Parameters!$C$29 -> 3.0889041e+08 | X10: =W10/1000000 -> 308.89041
A11: =A10+0.05 -> 0.79 | B11: =B10-0.05 -> 0.17 | C11: ='Waste plastic data in 2019'!$B$11*$A$2 -> 229.7169 | D11: ='Waste plastic data in 2019'!$B$11*Parameters!$C$4 -> 194.9661 | E11: ='Waste plastic data in 2019'!$B$9*Parameters!$C$8+Parameters!$C$11*'Waste plastic data in 2019'!$B$10 -> 206.74 | F11: ='Waste plastic data in 2019'!$B$11*$B$2+'Waste plastic data in 2019'!$B$9*B11+Parameters!$C$9*'Waste plastic data in 2019'!$B$10 -> 1472.162 | G11: =F11*Parameters!$C$12+'Sensitivty analysis-'!C11*(1-Parameters!$C$15)+'Waste plastic data in 2019'!$B$9*A11+Parameters!$C$10*'Waste plastic data in 2019'!$B$10 -> 1751.2434 | H11: =G11*Parameters!$C$16 -> 1103.2834 | I11: =G11*(1-Parameters!$C$16) -> 647.96007 | J11: =F11*Parameters!$C$14+'Sensitivty analysis-'!I11*Parameters!$C$18 -> 1005.5702 | K11: =J11*Parameters!$C$20 -> 30.167105 | L11: =J11*Parameters!$C$19 -> 221.22544 | M11: =L11*Parameters!$C$23 -> 216.80093 | N11: =C11*Parameters!$C$15 -> 114.85845 | O11: =H11*Parameters!$C$21 -> 904.69236 | P11: =M11+H11*(1-Parameters!$C$21)*Parameters!$C$23 -> 411.42011 | Q11: =J11*Parameters!$C$22*Parameters!$C$25 -> 193.06947 | R11: =Q11*Parameters!$C$24*10000000 -> 8.4950567e+10 | S11: =F11*Parameters!$C$13+'Sensitivty analysis-'!K11+'Sensitivty analysis-'!L11*(1-Parameters!$C$23)+'Sensitivty analysis-'!I11*Parameters!$C$17+'Sensitivty analysis-'!H11*(1-Parameters!$C$21)*(1-Parameters!$C$23) -> 1098.6454 | T11: =S11+J11*Parameters!$C$22*(1-Parameters!$C$25) -> 1659.7535 | U11: =O11*Parameters!$C$27+'Sensitivty analysis-'!J11*Parameters!$C$22*Parameters!$C$26 -> 3494.3555 | V11: ='Sensitivty analysis-'!O11*(Parameters!$C$28-Parameters!$C$27) -> 2638.9876 | W11: =J11*Parameters!$C$29 -> 3.0167105e+08 | X11: =W11/1000000 -> 301.67105
A12: =A11+0.05 -> 0.84 | B12: =B11-0.05 -> 0.12 | C12: ='Waste plastic data in 2019'!$B$11*$A$2 -> 229.7169 | D12: ='Waste plastic data in 2019'!$B$11*Parameters!$C$4 -> 194.9661 | E12: ='Waste plastic data in 2019'!$B$9*Parameters!$C$8+Parameters!$C$11*'Waste plastic data in 2019'!$B$10 -> 206.74 | F12: ='Waste plastic data in 2019'!$B$11*$B$2+'Waste plastic data in 2019'!$B$9*B12+Parameters!$C$9*'Waste plastic data in 2019'!$B$10 -> 1406.137 | G12: =F12*Parameters!$C$12+'Sensitivty analysis-'!C12*(1-Parameters!$C$15)+'Waste plastic data in 2019'!$B$9*A12+Parameters!$C$10*'Waste plastic data in 2019'!$B$10 -> 1814.8255 | H12: =G12*Parameters!$C$16 -> 1143.3401 | I12: =G12*(1-Parameters!$C$16) -> 671.48544 | J12: =F12*Parameters!$C$14+'Sensitivty analysis-'!I12*Parameters!$C$18 -> 981.50564 | K12: =J12*Parameters!$C$20 -> 29.445169 | L12: =J12*Parameters!$C$19 -> 215.93124 | M12: =L12*Parameters!$C$23 -> 211.61262 | N12: =C12*Parameters!$C$15 -> 114.85845 | O12: =H12*Parameters!$C$21 -> 937.53886 | P12: =M12+H12*(1-Parameters!$C$21)*Parameters!$C$23 -> 413.2978 | Q12: =J12*Parameters!$C$22*Parameters!$C$25 -> 188.44908 | R12: =Q12*Parameters!$C$24*10000000 -> 8.2917596e+10 | S12: =F12*Parameters!$C$13+'Sensitivty analysis-'!K12+'Sensitivty analysis-'!L12*(1-Parameters!$C$23)+'Sensitivty analysis-'!I12*Parameters!$C$17+'Sensitivty analysis-'!H12*(1-Parameters!$C$21)*(1-Parameters!$C$23) -> 1081.9696 | T12: =S12+J12*Parameters!$C$22*(1-Parameters!$C$25) -> 1629.6497 | U12: =O12*Parameters!$C$27+'Sensitivty analysis-'!J12*Parameters!$C$22*Parameters!$C$26 -> 3496.2914 | V12: ='Sensitivty analysis-'!O12*(Parameters!$C$28-Parameters!$C$27) -> 2734.8009 | W12: =J12*Parameters!$C$29 -> 2.9445169e+08 | X12: =W12/1000000 -> 294.45169
A13: =A12+0.05 -> 0.89 | B13: =B12-0.05 -> 0.07 | C13: ='Waste plastic data in 2019'!$B$11*$A$2 -> 229.7169 | D13: ='Waste plastic data in 2019'!$B$11*Parameters!$C$4 -> 194.9661 | E13: ='Waste plastic data in 2019'!$B$9*Parameters!$C$8+Parameters!$C$11*'Waste plastic data in 2019'!$B$10 -> 206.74 | F13: ='Waste plastic data in 2019'!$B$11*$B$2+'Waste plastic data in 2019'!$B$9*B13+Parameters!$C$9*'Waste plastic data in 2019'!$B$10 -> 1340.112 | G13: =F13*Parameters!$C$12+'Sensitivty analysis-'!C13*(1-Parameters!$C$15)+'Waste plastic data in 2019'!$B$9*A13+Parameters!$C$10*'Waste plastic data in 2019'!$B$10 -> 1878.4076 | H13: =G13*Parameters!$C$16 -> 1183.3968 | I13: =G13*(1-Parameters!$C$16) -> 695.01081 | J13: =F13*Parameters!$C$14+'Sensitivty analysis-'!I13*Parameters!$C$18 -> 957.44111 | K13: =J13*Parameters!$C$20 -> 28.723233 | L13: =J13*Parameters!$C$19 -> 210.63704 | M13: =L13*Parameters!$C$23 -> 206.4243 | N13: =C13*Parameters!$C$15 -> 114.85845 | O13: =H13*Parameters!$C$21 -> 970.38536 | P13: =M13+H13*(1-Parameters!$C$21)*Parameters!$C$23 -> 415.1755 | Q13: =J13*Parameters!$C$22*Parameters!$C$25 -> 183.82869 | R13: =Q13*Parameters!$C$24*10000000 -> 8.0884625e+10 | S13: =F13*Parameters!$C$13+'Sensitivty analysis-'!K13+'Sensitivty analysis-'!L13*(1-Parameters!$C$23)+'Sensitivty analysis-'!I13*Parameters!$C$17+'Sensitivty analysis-'!H13*(1-Parameters!$C$21)*(1-Parameters!$C$23) -> 1065.2938 | T13: =S13+J13*Parameters!$C$22*(1-Parameters!$C$25) -> 1599.5459 | U13: =O13*Parameters!$C$27+'Sensitivty analysis-'!J13*Parameters!$C$22*Parameters!$C$26 -> 3498.2273 | V13: ='Sensitivty analysis-'!O13*(Parameters!$C$28-Parameters!$C$27) -> 2830.6141 | W13: =J13*Parameters!$C$29 -> 2.8723233e+08 | X13: =W13/1000000 -> 287.23233
A14: =A13+0.05 -> 0.94 | B14: =B13-0.05 -> 0.02 | C14: ='Waste plastic data in 2019'!$B$11*$A$2 -> 229.7169 | D14: ='Waste plastic data in 2019'!$B$11*Parameters!$C$4 -> 194.9661 | E14: ='Waste plastic data in 2019'!$B$9*Parameters!$C$8+Parameters!$C$11*'Waste plastic data in 2019'!$B$10 -> 206.74 | F14: ='Waste plastic data in 2019'!$B$11*$B$2+'Waste plastic data in 2019'!$B$9*B14+Parameters!$C$9*'Waste plastic data in 2019'!$B$10 -> 1274.087 | G14: =F14*Parameters!$C$12+'Sensitivty analysis-'!C14*(1-Parameters!$C$15)+'Waste plastic data in 2019'!$B$9*A14+Parameters!$C$10*'Waste plastic data in 2019'!$B$10 -> 1941.9897 | H14: =G14*Parameters!$C$16 -> 1223.4535 | I14: =G14*(1-Parameters!$C$16) -> 718.53618 | J14: =F14*Parameters!$C$14+'Sensitivty analysis-'!I14*Parameters!$C$18 -> 933.37658 | K14: =J14*Parameters!$C$20 -> 28.001297 | L14: =J14*Parameters!$C$19 -> 205.34285 | M14: =L14*Parameters!$C$23 -> 201.23599 | N14: =C14*Parameters!$C$15 -> 114.85845 | O14: =H14*Parameters!$C$21 -> 1003.2319 | P14: =M14+H14*(1-Parameters!$C$21)*Parameters!$C$23 -> 417.05319 | Q14: =J14*Parameters!$C$22*Parameters!$C$25 -> 179.2083 | R14: =Q14*Parameters!$C$24*10000000 -> 7.8851653e+10 | S14: =F14*Parameters!$C$13+'Sensitivty analysis-'!K14+'Sensitivty analysis-'!L14*(1-Parameters!$C$23)+'Sensitivty analysis-'!I14*Parameters!$C$17+'Sensitivty analysis-'!H14*(1-Parameters!$C$21)*(1-Parameters!$C$23) -> 1048.618 | T14: =S14+J14*Parameters!$C$22*(1-Parameters!$C$25) -> 1569.4421 | U14: =O14*Parameters!$C$27+'Sensitivty analysis-'!J14*Parameters!$C$22*Parameters!$C$26 -> 3500.1632 | V14: ='Sensitivty analysis-'!O14*(Parameters!$C$28-Parameters!$C$27) -> 2926.4273 | W14: =J14*Parameters!$C$29 -> 2.8001297e+08 | X14: =W14/1000000 -> 280.01297
C15: Refurbushment | D15: Transfer or Idle | E15: Reuse | F15: Sorting | G15: Waste plastics markrt | H15: Recycling plant | I15: Mixed waste | J15: Incineration | K15: Fly ASH | L15: BOTTLE ASH | M15: Building filler | N15: Reused products | O15: High-end applications | P15: Low-end applications | Q15: Energy | R15: Energy(MJ) | S15: Landfill | T15: LOST | U15: CE | V15: CR | W15: DE(ug) | X15: DE(g)
A16: 0.28 | B16: 0.64 | C16: ='Waste plastic data in 2019'!$B$11*$A$2 -> 229.7169 | D16: ='Waste plastic data in 2019'!$B$11*Parameters!$C$4 -> 194.9661 | E16: ='Waste plastic data in 2019'!$B$9*Parameters!$C$8+Parameters!$C$11*'Waste plastic data in 2019'!$B$10 -> 206.74 | F16: ='Waste plastic data in 2019'!$B$11*$B$2+'Waste plastic data in 2019'!$B$9*$B$9+B16*'Waste plastic data in 2019'!$B$10 -> 1604.212 | G16: =F16*Parameters!$C$12+'Sensitivty analysis-'!C16*(1-Parameters!$C$15)+'Waste plastic data in 2019'!$B$9*$A$9+A16*'Waste plastic data in 2019'!$B$10 -> 1624.0793 | H16: =G16*Parameters!$C$16 -> 1023.17 | I16: =G16*(1-Parameters!$C$16) -> 600.90934 | J16: =F16*Parameters!$C$14+'Sensitivty analysis-'!I16*Parameters!$C$18 -> 1053.6992 | K16: =J16*Parameters!$C$20 -> 31.610977 | L16: =J16*Parameters!$C$19 -> 231.81383 | M16: =L16*Parameters!$C$23 -> 227.17755 | N16: =C16*Parameters!$C$15 -> 114.85845 | O16: =H16*Parameters!$C$21 -> 838.99936 | P16: =M16+H16*(1-Parameters!$C$21)*Parameters!$C$23 -> 407.66473 | Q16: =J16*Parameters!$C$22*Parameters!$C$25 -> 202.31025 | R16: =Q16*Parameters!$C$24*10000000 -> 8.901651e+10 | S16: =F16*Parameters!$C$13+'Sensitivty analysis-'!K16+'Sensitivty analysis-'!L16*(1-Parameters!$C$23)+'Sensitivty analysis-'!I16*Parameters!$C$17+'Sensitivty analysis-'!H16*(1-Parameters!$C$21)*(1-Parameters!$C$23) -> 1131.9969 | T16: =S16+J16*Parameters!$C$22*(1-Parameters!$C$25) -> 1719.9611 | U16: =O16*Parameters!$C$27+'Sensitivty analysis-'!J16*Parameters!$C$22*Parameters!$C$26 -> 3490.4836 | V16: ='Sensitivty analysis-'!O16*(Parameters!$C$28-Parameters!$C$27) -> 2447.3611 | W16: =J16*Parameters!$C$29 -> 3.1610977e+08 | X16: =W16/1000000 -> 316.10977
A17: =A16+0.05 -> 0.33 | B17: =B16-0.05 -> 0.59 | C17: ='Waste plastic data in 2019'!$B$11*$A$2 -> 229.7169 | D17: ='Waste plastic data in 2019'!$B$11*Parameters!$C$4 -> 194.9661 | E17: ='Waste plastic data in 2019'!$B$9*Parameters!$C$8+Parameters!$C$11*'Waste plastic data in 2019'!$B$10 -> 206.74 | F17: ='Waste plastic data in 2019'!$B$11*$B$2+'Waste plastic data in 2019'!$B$9*$B$9+B17*'Waste plastic data in 2019'!$B$10 -> 1508.012 | G17: =F17*Parameters!$C$12+'Sensitivty analysis-'!C17*(1-Parameters!$C$15)+'Waste plastic data in 2019'!$B$9*$A$9+A17*'Waste plastic data in 2019'!$B$10 -> 1716.7199 | H17: =G17*Parameters!$C$16 -> 1081.5335 | I17: =G17*(1-Parameters!$C$16) -> 635.18636 | J17: =F17*Parameters!$C$14+'Sensitivty analysis-'!I17*Parameters!$C$18 -> 1018.6366 | K17: =J17*Parameters!$C$20 -> 30.559099 | L17: =J17*Parameters!$C$19 -> 224.10006 | M17: =L17*Parameters!$C$23 -> 219.61806 | N17: =C17*Parameters!$C$15 -> 114.85845 | O17: =H17*Parameters!$C$21 -> 886.8575 | P17: =M17+H17*(1-Parameters!$C$21)*Parameters!$C$23 -> 410.40057 | Q17: =J17*Parameters!$C$22*Parameters!$C$25 -> 195.57823 | R17: =Q17*Parameters!$C$24*10000000 -> 8.6054422e+10 | S17: =F17*Parameters!$C$13+'Sensitivty analysis-'!K17+'Sensitivty analysis-'!L17*(1-Parameters!$C$23)+'Sensitivty analysis-'!I17*Parameters!$C$17+'Sensitivty analysis-'!H17*(1-Parameters!$C$21)*(1-Parameters!$C$23) -> 1107.6999 | T17: =S17+J17*Parameters!$C$22*(1-Parameters!$C$25) -> 1676.0991 | U17: =O17*Parameters!$C$27+'Sensitivty analysis-'!J17*Parameters!$C$22*Parameters!$C$26 -> 3493.3043 | V17: ='Sensitivty analysis-'!O17*(Parameters!$C$28-Parameters!$C$27) -> 2586.9633 | W17: =J17*Parameters!$C$29 -> 3.0559099e+08 | X17: =W17/1000000 -> 305.59099
A18: =A17+0.05 -> 0.38 | B18: =B17-0.05 -> 0.54 | C18: ='Waste plastic data in 2019'!$B$11*$A$2 -> 229.7169 | D18: ='Waste plastic data in 2019'!$B$11*Parameters!$C$4 -> 194.9661 | E18: ='Waste plastic data in 2019'!$B$9*Parameters!$C$8+Parameters!$C$11*'Waste plastic data in 2019'!$B$10 -> 206.74 | F18: ='Waste plastic data in 2019'!$B$11*$B$2+'Waste plastic data in 2019'!$B$9*$B$9+B18*'Waste plastic data in 2019'!$B$10 -> 1411.812 | G18: =F18*Parameters!$C$12+'Sensitivty analysis-'!C18*(1-Parameters!$C$15)+'Waste plastic data in 2019'!$B$9*$A$9+A18*'Waste plastic data in 2019'!$B$10 -> 1809.3605 | H18: =G18*Parameters!$C$16 -> 1139.8971 | I18: =G18*(1-Parameters!$C$16) -> 669.46338 | J18: =F18*Parameters!$C$14+'Sensitivty analysis-'!I18*Parameters!$C$18 -> 983.57404 | K18: =J18*Parameters!$C$20 -> 29.507221 | L18: =J18*Parameters!$C$19 -> 216.38629 | M18: =L18*Parameters!$C$23 -> 212.05856 | N18: =C18*Parameters!$C$15 -> 114.85845 | O18: =H18*Parameters!$C$21 -> 934.71563 | P18: =M18+H18*(1-Parameters!$C$21)*Parameters!$C$23 -> 413.13641 | Q18: =J18*Parameters!$C$22*Parameters!$C$25 -> 188.84622 | R18: =Q18*Parameters!$C$24*10000000 -> 8.3092335e+10 | S18: =F18*Parameters!$C$13+'Sensitivty analysis-'!K18+'Sensitivty analysis-'!L18*(1-Parameters!$C$23)+'Sensitivty analysis-'!I18*Parameters!$C$17+'Sensitivty analysis-'!H18*(1-Parameters!$C$21)*(1-Parameters!$C$23) -> 1083.4029 | T18: =S18+J18*Parameters!$C$22*(1-Parameters!$C$25) -> 1632.2372 | U18: =O18*Parameters!$C$27+'Sensitivty analysis-'!J18*Parameters!$C$22*Parameters!$C$26 -> 3496.125 | V18: ='Sensitivty analysis-'!O18*(Parameters!$C$28-Parameters!$C$27) -> 2726.5655 | W18: =J18*Parameters!$C$29 -> 2.9507221e+08 | X18: =W18/1000000 -> 295.07221
A19: =A18+0.05 -> 0.43 | B19: =B18-0.05 -> 0.49 | C19: ='Waste plastic data in 2019'!$B$11*$A$2 -> 229.7169 | D19: ='Waste plastic data in 2019'!$B$11*Parameters!$C$4 -> 194.9661 | E19: ='Waste plastic data in 2019'!$B$9*Parameters!$C$8+Parameters!$C$11*'Waste plastic data in 2019'!$B$10 -> 206.74 | F19: ='Waste plastic data in 2019'!$B$11*$B$2+'Waste plastic data in 2019'!$B$9*$B$9+B19*'Waste plastic data in 2019'!$B$10 -> 1315.612 | G19: =F19*Parameters!$C$12+'Sensitivty analysis-'!C19*(1-Parameters!$C$15)+'Waste plastic data in 2019'!$B$9*$A$9+A19*'Waste plastic data in 2019'!$B$10 -> 1902.0011 | H19: =G19*Parameters!$C$16 -> 1198.2607 | I19: =G19*(1-Parameters!$C$16) -> 703.7404 | J19: =F19*Parameters!$C$14+'Sensitivty analysis-'!I19*Parameters!$C$18 -> 948.51145 | K19: =J19*Parameters!$C$20 -> 28.455343 | L19: =J19*Parameters!$C$19 -> 208.67252 | M19: =L19*Parameters!$C$23 -> 204.49907 | N19: =C19*Parameters!$C$15 -> 114.85845 | O19: =H19*Parameters!$C$21 -> 982.57377 | P19: =M19+H19*(1-Parameters!$C$21)*Parameters!$C$23 -> 415.87225 | Q19: =J19*Parameters!$C$22*Parameters!$C$25 -> 182.1142 | R19: =Q19*Parameters!$C$24*10000000 -> 8.0130247e+10 | S19: =F19*Parameters!$C$13+'Sensitivty analysis-'!K19+'Sensitivty analysis-'!L19*(1-Parameters!$C$23)+'Sensitivty analysis-'!I19*Parameters!$C$17+'Sensitivty analysis-'!H19*(1-Parameters!$C$21)*(1-Parameters!$C$23) -> 1059.1058 | T19: =S19+J19*Parameters!$C$22*(1-Parameters!$C$25) -> 1588.3752 | U19: =O19*Parameters!$C$27+'Sensitivty analysis-'!J19*Parameters!$C$22*Parameters!$C$26 -> 3498.9457 | V19: ='Sensitivty analysis-'!O19*(Parameters!$C$28-Parameters!$C$27) -> 2866.1677 | W19: =J19*Parameters!$C$29 -> 2.8455343e+08 | X19: =W19/1000000 -> 284.55343
A20: =A19+0.05 -> 0.48 | B20: =B19-0.05 -> 0.44 | C20: ='Waste plastic data in 2019'!$B$11*$A$2 -> 229.7169 | D20: ='Waste plastic data in 2019'!$B$11*Parameters!$C$4 -> 194.9661 | E20: ='Waste plastic data in 2019'!$B$9*Parameters!$C$8+Parameters!$C$11*'Waste plastic data in 2019'!$B$10 -> 206.74 | F20: ='Waste plastic data in 2019'!$B$11*$B$2+'Waste plastic data in 2019'!$B$9*$B$9+B20*'Waste plastic data in 2019'!$B$10 -> 1219.412 | G20: =F20*Parameters!$C$12+'Sensitivty analysis-'!C20*(1-Parameters!$C$15)+'Waste plastic data in 2019'!$B$9*$A$9+A20*'Waste plastic data in 2019'!$B$10 -> 1994.6417 | H20: =G20*Parameters!$C$16 -> 1256.6243 | I20: =G20*(1-Parameters!$C$16) -> 738.01743 | J20: =F20*Parameters!$C$14+'Sensitivty analysis-'!I20*Parameters!$C$18 -> 913.44885 | K20: =J20*Parameters!$C$20 -> 27.403466 | L20: =J20*Parameters!$C$19 -> 200.95875 | M20: =L20*Parameters!$C$23 -> 196.93957 | N20: =C20*Parameters!$C$15 -> 114.85845 | O20: =H20*Parameters!$C$21 -> 1030.4319 | P20: =M20+H20*(1-Parameters!$C$21)*Parameters!$C$23 -> 418.60809 | Q20: =J20*Parameters!$C$22*Parameters!$C$25 -> 175.38218 | R20: =Q20*Parameters!$C$24*10000000 -> 7.7168159e+10 | S20: =F20*Parameters!$C$13+'Sensitivty analysis-'!K20+'Sensitivty analysis-'!L20*(1-Parameters!$C$23)+'Sensitivty analysis-'!I20*Parameters!$C$17+'Sensitivty analysis-'!H20*(1-Parameters!$C$21)*(1-Parameters!$C$23) -> 1034.8088 | T20: =S20+J20*Parameters!$C$22*(1-Parameters!$C$25) -> 1544.5133 | U20: =O20*Parameters!$C$27+'Sensitivty analysis-'!J20*Parameters!$C$22*Parameters!$C$26 -> 3501.7663 | V20: ='Sensitivty analysis-'!O20*(Parameters!$C$28-Parameters!$C$27) -> 3005.7698 | W20: =J20*Parameters!$C$29 -> 2.7403466e+08 | X20: =W20/1000000 -> 274.03466
A21: =A20+0.05 -> 0.53 | B21: =B20-0.05 -> 0.39 | C21: ='Waste plastic data in 2019'!$B$11*$A$2 -> 229.7169 | D21: ='Waste plastic data in 2019'!$B$11*Parameters!$C$4 -> 194.9661 | E21: ='Waste plastic data in 2019'!$B$9*Parameters!$C$8+Parameters!$C$11*'Waste plastic data in 2019'!$B$10 -> 206.74 | F21: ='Waste plastic data in 2019'!$B$11*$B$2+'Waste plastic data in 2019'!$B$9*$B$9+B21*'Waste plastic data in 2019'!$B$10 -> 1123.212 | G21: =F21*Parameters!$C$12+'Sensitivty analysis-'!C21*(1-Parameters!$C$15)+'Waste plastic data in 2019'!$B$9*$A$9+A21*'Waste plastic data in 2019'!$B$10 -> 2087.2823 | H21: =G21*Parameters!$C$16 -> 1314.9878 | I21: =G21*(1-Parameters!$C$16) -> 772.29445 | J21: =F21*Parameters!$C$14+'Sensitivty analysis-'!I21*Parameters!$C$18 -> 878.38626 | K21: =J21*Parameters!$C$20 -> 26.351588 | L21: =J21*Parameters!$C$19 -> 193.24498 | M21: =L21*Parameters!$C$23 -> 189.38008 | N21: =C21*Parameters!$C$15 -> 114.85845 | O21: =H21*Parameters!$C$21 -> 1078.29 | P21: =M21+H21*(1-Parameters!$C$21)*Parameters!$C$23 -> 421.34393 | Q21: =J21*Parameters!$C$22*Parameters!$C$25 -> 168.65016 | R21: =Q21*Parameters!$C$24*10000000 -> 7.4206072e+10 | S21: =F21*Parameters!$C$13+'Sensitivty analysis-'!K21+'Sensitivty analysis-'!L21*(1-Parameters!$C$23)+'Sensitivty analysis-'!I21*Parameters!$C$17+'Sensitivty analysis-'!H21*(1-Parameters!$C$21)*(1-Parameters!$C$23) -> 1010.5118 | T21: =S21+J21*Parameters!$C$22*(1-Parameters!$C$25) -> 1500.6513 | U21: =O21*Parameters!$C$27+'Sensitivty analysis-'!J21*Parameters!$C$22*Parameters!$C$26 -> 3504.587 | V21: ='Sensitivty analysis-'!O21*(Parameters!$C$28-Parameters!$C$27) -> 3145.372 | W21: =J21*Parameters!$C$29 -> 2.6351588e+08 | X21: =W21/1000000 -> 263.51588
C22: Refurbushment | D22: Transfer or Idle | E22: Reuse | F22: Sorting | G22: Waste plastics markrt | H22: Recycling plant | I22: Mixed waste | J22: Incineration | K22: Fly ASH | L22: BOTTLE ASH | M22: Building filler | N22: Reused products | O22: High-end applications | P22: Low-end applications | Q22: Energy | R22: Energy(MJ) | S22: Landfill | T22: LOST | U22: CE | V22: CR | W22: DE(ug) | X22: DE(g)
A23: 0.5 | C23: ='Waste plastic data in 2019'!$B$11*$A$2 -> 229.7169 | D23: ='Waste plastic data in 2019'!$B$11*Parameters!$C$4 -> 194.9661 | E23: ='Waste plastic data in 2019'!$B$9*Parameters!$C$8+Parameters!$C$11*'Waste plastic data in 2019'!$B$10 -> 206.74 | F23: ='Waste plastic data in 2019'!$B$11*$B$2+'Waste plastic data in 2019'!$B$9*$B$9+$B$16*'Waste plastic data in 2019'!$B$10 -> 1604.212 | G23: =F23*Parameters!$C$12+'Sensitivty analysis-'!C23*(1-A23)+'Waste plastic data in 2019'!$B$9*$A$9+$A$16*'Waste plastic data in 2019'!$B$10 -> 1624.0793 | H23: =G23*Parameters!$C$16 -> 1023.17 | I23: =G23*(1-Parameters!$C$16) -> 600.90934 | J23: =F23*Parameters!$C$14+'Sensitivty analysis-'!I23*Parameters!$C$18 -> 1053.6992 | K23: =J23*Parameters!$C$20 -> 31.610977 | L23: =J23*Parameters!$C$19 -> 231.81383 | M23: =L23*Parameters!$C$23 -> 227.17755 | N23: =C23*A23 -> 114.85845 | O23: =H23*Parameters!$C$21 -> 838.99936 | P23: =M23+H23*(1-Parameters!$C$21)*Parameters!$C$23 -> 407.66473 | Q23: =J23*Parameters!$C$22*Parameters!$C$25 -> 202.31025 | R23: =Q23*Parameters!$C$24*10000000 -> 8.901651e+10 | S23: =F23*Parameters!$C$13+'Sensitivty analysis-'!K23+'Sensitivty analysis-'!L23*(1-Parameters!$C$23)+'Sensitivty analysis-'!I23*Parameters!$C$17+'Sensitivty analysis-'!H23*(1-Parameters!$C$21)*(1-Parameters!$C$23) -> 1131.9969 | T23: =S23+J23*Parameters!$C$22*(1-Parameters!$C$25) -> 1719.9611 | U23: =O23*Parameters!$C$27+'Sensitivty analysis-'!J23*Parameters!$C$22*Parameters!$C$26 -> 3490.4836 | V23: ='Sensitivty analysis-'!O23*(Parameters!$C$28-Parameters!$C$27) -> 2447.3611 | W23: =J23*Parameters!$C$29 -> 3.1610977e+08 | X23: =W23/1000000 -> 316.10977
A24: =A23+0.05 -> 0.55 | C24: ='Waste plastic data in 2019'!$B$11*$A$2 -> 229.7169 | D24: ='Waste plastic data in 2019'!$B$11*Parameters!$C$4 -> 194.9661 | E24: ='Waste plastic data in 2019'!$B$9*Parameters!$C$8+Parameters!$C$11*'Waste plastic data in 2019'!$B$10 -> 206.74 | F24: ='Waste plastic data in 2019'!$B$11*$B$2+'Waste plastic data in 2019'!$B$9*$B$9+$B$16*'Waste plastic data in 2019'!$B$10 -> 1604.212 | G24: =F24*Parameters!$C$12+'Sensitivty analysis-'!C24*(1-A24)+'Waste plastic data in 2019'!$B$9*$A$9+$A$16*'Waste plastic data in 2019'!$B$10 -> 1612.5934 | H24: =G24*Parameters!$C$16 -> 1015.9339 | I24: =G24*(1-Parameters!$C$16) -> 596.65958 | J24: =F24*Parameters!$C$14+'Sensitivty analysis-'!I24*Parameters!$C$18 -> 1051.9993 | K24: =J24*Parameters!$C$20 -> 31.559979 | L24: =J24*Parameters!$C$19 -> 231.43985 | M24: =L24*Parameters!$C$23 -> 226.81105 | N24: =C24*A24 -> 126.3443 | O24: =H24*Parameters!$C$21 -> 833.06578 | P24: =M24+H24*(1-Parameters!$C$21)*Parameters!$C$23 -> 406.02179 | Q24: =J24*Parameters!$C$22*Parameters!$C$25 -> 201.98387 | R24: =Q24*Parameters!$C$24*10000000 -> 8.8872902e+10 | S24: =F24*Parameters!$C$13+'Sensitivty analysis-'!K24+'Sensitivty analysis-'!L24*(1-Parameters!$C$23)+'Sensitivty analysis-'!I24*Parameters!$C$17+'Sensitivty analysis-'!H24*(1-Parameters!$C$21)*(1-Parameters!$C$23) -> 1129.3626 | T24: =S24+J24*Parameters!$C$22*(1-Parameters!$C$25) -> 1716.3782 | U24: =O24*Parameters!$C$27+'Sensitivty analysis-'!J24*Parameters!$C$22*Parameters!$C$26 -> 3477.6619 | V24: ='Sensitivty analysis-'!O24*(Parameters!$C$28-Parameters!$C$27) -> 2430.0529 | W24: =J24*Parameters!$C$29 -> 3.1559979e+08 | X24: =W24/1000000 -> 315.59979
A25: =A24+0.05 -> 0.6 | C25: ='Waste plastic data in 2019'!$B$11*$A$2 -> 229.7169 | D25: ='Waste plastic data in 2019'!$B$11*Parameters!$C$4 -> 194.9661 | E25: ='Waste plastic data in 2019'!$B$9*Parameters!$C$8+Parameters!$C$11*'Waste plastic data in 2019'!$B$10 -> 206.74 | F25: ='Waste plastic data in 2019'!$B$11*$B$2+'Waste plastic data in 2019'!$B$9*$B$9+$B$16*'Waste plastic data in 2019'!$B$10 -> 1604.212 | G25: =F25*Parameters!$C$12+'Sensitivty analysis-'!C25*(1-A25)+'Waste plastic data in 2019'!$B$9*$A$9+$A$16*'Waste plastic data in 2019'!$B$10 -> 1601.1076 | H25: =G25*Parameters!$C$16 -> 1008.6978 | I25: =G25*(1-Parameters!$C$16) -> 592.40981 | J25: =F25*Parameters!$C$14+'Sensitivty analysis-'!I25*Parameters!$C$18 -> 1050.2994 | K25: =J25*Parameters!$C$20 -> 31.508982 | L25: =J25*Parameters!$C$19 -> 231.06587 | M25: =L25*Parameters!$C$23 -> 226.44455 | N25: =C25*A25 -> 137.83014 | O25: =H25*Parameters!$C$21 -> 827.13219 | P25: =M25+H25*(1-Parameters!$C$21)*Parameters!$C$23 -> 404.37884 | Q25: =J25*Parameters!$C$22*Parameters!$C$25 -> 201.65749 | R25: =Q25*Parameters!$C$24*10000000 -> 8.8729294e+10 | S25: =F25*Parameters!$C$13+'Sensitivty analysis-'!K25+'Sensitivty analysis-'!L25*(1-Parameters!$C$23)+'Sensitivty analysis-'!I25*Parameters!$C$17+'Sensitivty analysis-'!H25*(1-Parameters!$C$21)*(1-Parameters!$C$23) -> 1126.7282 | T25: =S25+J25*Parameters!$C$22*(1-Parameters!$C$25) -> 1712.7952 | U25: =O25*Parameters!$C$27+'Sensitivty analysis-'!J25*Parameters!$C$22*Parameters!$C$26 -> 3464.8401 | V25: ='Sensitivty analysis-'!O25*(Parameters!$C$28-Parameters!$C$27) -> 2412.7446 | W25: =J25*Parameters!$C$29 -> 3.1508982e+08 | X25: =W25/1000000 -> 315.08982
A26: =A25+0.05 -> 0.65 | C26: ='Waste plastic data in 2019'!$B$11*$A$2 -> 229.7169 | D26: ='Waste plastic data in 2019'!$B$11*Parameters!$C$4 -> 194.9661 | E26: ='Waste plastic data in 2019'!$B$9*Parameters!$C$8+Parameters!$C$11*'Waste plastic data in 2019'!$B$10 -> 206.74 | F26: ='Waste plastic data in 2019'!$B$11*$B$2+'Waste plastic data in 2019'!$B$9*$B$9+$B$16*'Waste plastic data in 2019'!$B$10 -> 1604.212 | G26: =F26*Parameters!$C$12+'Sensitivty analysis-'!C26*(1-A26)+'Waste plastic data in 2019'!$B$9*$A$9+$A$16*'Waste plastic data in 2019'!$B$10 -> 1589.6218 | H26: =G26*Parameters!$C$16 -> 1001.4617 | I26: =G26*(1-Parameters!$C$16) -> 588.16005 | J26: =F26*Parameters!$C$14+'Sensitivty analysis-'!I26*Parameters!$C$18 -> 1048.5995 | K26: =J26*Parameters!$C$20 -> 31.457985 | L26: =J26*Parameters!$C$19 -> 230.69189 | M26: =L26*Parameters!$C$23 -> 226.07805 | N26: =C26*A26 -> 149.31599 | O26: =H26*Parameters!$C$21 -> 821.1986 | P26: =M26+H26*(1-Parameters!$C$21)*Parameters!$C$23 -> 402.7359 | Q26: =J26*Parameters!$C$22*Parameters!$C$25 -> 201.3311 | R26: =Q26*Parameters!$C$24*10000000 -> 8.8585686e+10 | S26: =F26*Parameters!$C$13+'Sensitivty analysis-'!K26+'Sensitivty analysis-'!L26*(1-Parameters!$C$23)+'Sensitivty analysis-'!I26*Parameters!$C$17+'Sensitivty analysis-'!H26*(1-Parameters!$C$21)*(1-Parameters!$C$23) -> 1124.0938 | T26: =S26+J26*Parameters!$C$22*(1-Parameters!$C$25) -> 1709.2123 | U26: =O26*Parameters!$C$27+'Sensitivty analysis-'!J26*Parameters!$C$22*Parameters!$C$26 -> 3452.0183 | V26: ='Sensitivty analysis-'!O26*(Parameters!$C$28-Parameters!$C$27) -> 2395.4363 | W26: =J26*Parameters!$C$29 -> 3.1457985e+08 | X26: =W26/1000000 -> 314.57985
A27: =A26+0.05 -> 0.7 | C27: ='Waste plastic data in 2019'!$B$11*$A$2 -> 229.7169 | D27: ='Waste plastic data in 2019'!$B$11*Parameters!$C$4 -> 194.9661 | E27: ='Waste plastic data in 2019'!$B$9*Parameters!$C$8+Parameters!$C$11*'Waste plastic data in 2019'!$B$10 -> 206.74 | F27: ='Waste plastic data in 2019'!$B$11*$B$2+'Waste plastic data in 2019'!$B$9*$B$9+$B$16*'Waste plastic data in 2019'!$B$10 -> 1604.212 | G27: =F27*Parameters!$C$12+'Sensitivty analysis-'!C27*(1-A27)+'Waste plastic data in 2019'!$B$9*$A$9+$A$16*'Waste plastic data in 2019'!$B$10 -> 1578.1359 | H27: =G27*Parameters!$C$16 -> 994.22563 | I27: =G27*(1-Parameters!$C$16) -> 583.91029 | J27: =F27*Parameters!$C$14+'Sensitivty analysis-'!I27*Parameters!$C$18 -> 1046.8996 | K27: =J27*Parameters!$C$20 -> 31.406988 | L27: =J27*Parameters!$C$19 -> 230.31791 | M27: =L27*Parameters!$C$23 -> 225.71155 | N27: =C27*A27 -> 160.80183 | O27: =H27*Parameters!$C$21 -> 815.26501 | P27: =M27+H27*(1-Parameters!$C$21)*Parameters!$C$23 -> 401.09295 | Q27: =J27*Parameters!$C$22*Parameters!$C$25 -> 201.00472 | R27: =Q27*Parameters!$C$24*10000000 -> 8.8442078e+10 | S27: =F27*Parameters!$C$13+'Sensitivty analysis-'!K27+'Sensitivty analysis-'!L27*(1-Parameters!$C$23)+'Sensitivty analysis-'!I27*Parameters!$C$17+'Sensitivty analysis-'!H27*(1-Parameters!$C$21)*(1-Parameters!$C$23) -> 1121.4594 | T27: =S27+J27*Parameters!$C$22*(1-Parameters!$C$25) -> 1705.6294 | U27: =O27*Parameters!$C$27+'Sensitivty analysis-'!J27*Parameters!$C$22*Parameters!$C$26 -> 3439.1965 | V27: ='Sensitivty analysis-'!O27*(Parameters!$C$28-Parameters!$C$27) -> 2378.128 | W27: =J27*Parameters!$C$29 -> 3.1406988e+08 | X27: =W27/1000000 -> 314.06988
A28: =A27+0.05 -> 0.75 | C28: ='Waste plastic data in 2019'!$B$11*$A$2 -> 229.7169 | D28: ='Waste plastic data in 2019'!$B$11*Parameters!$C$4 -> 194.9661 | E28: ='Waste plastic data in 2019'!$B$9*Parameters!$C$8+Parameters!$C$11*'Waste plastic data in 2019'!$B$10 -> 206.74 | F28: ='Waste plastic data in 2019'!$B$11*$B$2+'Waste plastic data in 2019'!$B$9*$B$9+$B$16*'Waste plastic data in 2019'!$B$10 -> 1604.212 | G28: =F28*Parameters!$C$12+'Sensitivty analysis-'!C28*(1-A28)+'Waste plastic data in 2019'!$B$9*$A$9+$A$16*'Waste plastic data in 2019'!$B$10 -> 1566.6501 | H28: =G28*Parameters!$C$16 -> 986.98954 | I28: =G28*(1-Parameters!$C$16) -> 579.66053 | J28: =F28*Parameters!$C$14+'Sensitivty analysis-'!I28*Parameters!$C$18 -> 1045.1997 | K28: =J28*Parameters!$C$20 -> 31.355991 | L28: =J28*Parameters!$C$19 -> 229.94393 | M28: =L28*Parameters!$C$23 -> 225.34505 | N28: =C28*A28 -> 172.28768 | O28: =H28*Parameters!$C$21 -> 809.33143 | P28: =M28+H28*(1-Parameters!$C$21)*Parameters!$C$23 -> 399.45001 | Q28: =J28*Parameters!$C$22*Parameters!$C$25 -> 200.67834 | R28: =Q28*Parameters!$C$24*10000000 -> 8.829847e+10 | S28: =F28*Parameters!$C$13+'Sensitivty analysis-'!K28+'Sensitivty analysis-'!L28*(1-Parameters!$C$23)+'Sensitivty analysis-'!I28*Parameters!$C$17+'Sensitivty analysis-'!H28*(1-Parameters!$C$21)*(1-Parameters!$C$23) -> 1118.825 | T28: =S28+J28*Parameters!$C$22*(1-Parameters!$C$25) -> 1702.0464 | U28: =O28*Parameters!$C$27+'Sensitivty analysis-'!J28*Parameters!$C$22*Parameters!$C$26 -> 3426.3747 | V28: ='Sensitivty analysis-'!O28*(Parameters!$C$28-Parameters!$C$27) -> 2360.8198 | W28: =J28*Parameters!$C$29 -> 3.1355991e+08 | X28: =W28/1000000 -> 313.55991
C29: Refurbushment | D29: Transfer or Idle | E29: Reuse | F29: Sorting | G29: Waste plastics markrt | H29: Recycling plant | I29: Mixed waste | J29: Incineration | K29: Fly ASH | L29: BOTTLE ASH | M29: Building filler | N29: Reused products | O29: High-end applications | P29: Low-end applications | Q29: Energy | R29: Energy(MJ) | S29: Landfill | T29: LOST | U29: CE | V29: CR | W29: DE(ug) | X29: DE(g)
A30: 0.63 | C30: ='Waste plastic data in 2019'!$B$11*$A$2 -> 229.7169 | D30: ='Waste plastic data in 2019'!$B$11*Parameters!$C$4 -> 194.9661 | E30: ='Waste plastic data in 2019'!$B$9*Parameters!$C$8+Parameters!$C$11*'Waste plastic data in 2019'!$B$10 -> 206.74 | F30: ='Waste plastic data in 2019'!$B$11*$B$2+'Waste plastic data in 2019'!$B$9*$B$9+$B$16*'Waste plastic data in 2019'!$B$10 -> 1604.212 | G30: =F30*Parameters!$C$12+'Sensitivty analysis-'!C30*(1-$A$23)+'Waste plastic data in 2019'!$B$9*$A$9+$A$16*'Waste plastic data in 2019'!$B$10 -> 1624.0793 | H30: =G30*A30 -> 1023.17 | I30: =G30*(1-A30) -> 600.90934 | J30: =F30*Parameters!$C$14+'Sensitivty analysis-'!I30*Parameters!$C$18 -> 1053.6992 | K30: =J30*Parameters!$C$20 -> 31.610977 | L30: =J30*Parameters!$C$19 -> 231.81383 | M30: =L30*Parameters!$C$23 -> 227.17755 | N30: =C30*$A$23 -> 114.85845 | O30: =H30*Parameters!$C$21 -> 838.99936 | P30: =M30+H30*(1-Parameters!$C$21)*Parameters!$C$23 -> 407.66473 | Q30: =J30*Parameters!$C$22*Parameters!$C$25 -> 202.31025 | R30: =Q30*Parameters!$C$24*10000000 -> 8.901651e+10 | S30: =F30*Parameters!$C$13+'Sensitivty analysis-'!K30+'Sensitivty analysis-'!L30*(1-Parameters!$C$23)+'Sensitivty analysis-'!I30*Parameters!$C$17+'Sensitivty analysis-'!H30*(1-Parameters!$C$21)*(1-Parameters!$C$23) -> 1131.9969 | T30: =S30+J30*Parameters!$C$22*(1-Parameters!$C$25) -> 1719.9611 | U30: =O30*Parameters!$C$27+'Sensitivty analysis-'!J30*Parameters!$C$22*Parameters!$C$26 -> 3490.4836 | V30: ='Sensitivty analysis-'!O30*(Parameters!$C$28-Parameters!$C$27) -> 2447.3611 | W30: =J30*Parameters!$C$29 -> 3.1610977e+08 | X30: =W30/1000000 -> 316.10977
A31: =A30+0.05 -> 0.68 | C31: ='Waste plastic data in 2019'!$B$11*$A$2 -> 229.7169 | D31: ='Waste plastic data in 2019'!$B$11*Parameters!$C$4 -> 194.9661 | E31: ='Waste plastic data in 2019'!$B$9*Parameters!$C$8+Parameters!$C$11*'Waste plastic data in 2019'!$B$10 -> 206.74 | F31: ='Waste plastic data in 2019'!$B$11*$B$2+'Waste plastic data in 2019'!$B$9*$B$9+$B$16*'Waste plastic data in 2019'!$B$10 -> 1604.212 | G31: =F31*Parameters!$C$12+'Sensitivty analysis-'!C31*(1-$A$23)+'Waste plastic data in 2019'!$B$9*$A$9+$A$16*'Waste plastic data in 2019'!$B$10 -> 1624.0793 | H31: =G31*A31 -> 1104.3739 | I31: =G31*(1-A31) -> 519.70537 | J31: =F31*Parameters!$C$14+'Sensitivty analysis-'!I31*Parameters!$C$18 -> 1021.2176 | K31: =J31*Parameters!$C$20 -> 30.636529 | L31: =J31*Parameters!$C$19 -> 224.66788 | M31: =L31*Parameters!$C$23 -> 220.17452 | N31: =C31*$A$23 -> 114.85845 | O31: =H31*Parameters!$C$21 -> 905.58661 | P31: =M31+H31*(1-Parameters!$C$21)*Parameters!$C$23 -> 414.98608 | Q31: =J31*Parameters!$C$22*Parameters!$C$25 -> 196.07379 | R31: =Q31*Parameters!$C$24*10000000 -> 8.6272466e+10 | S31: =F31*Parameters!$C$13+'Sensitivty analysis-'!K31+'Sensitivty analysis-'!L31*(1-Parameters!$C$23)+'Sensitivty analysis-'!I31*Parameters!$C$17+'Sensitivty analysis-'!H31*(1-Parameters!$C$21)*(1-Parameters!$C$23) -> 1082.4495 | T31: =S31+J31*Parameters!$C$22*(1-Parameters!$C$25) -> 1652.289 | U31: =O31*Parameters!$C$27+'Sensitivty analysis-'!J31*Parameters!$C$22*Parameters!$C$26 -> 3528.0324 | V31: ='Sensitivty analysis-'!O31*(Parameters!$C$28-Parameters!$C$27) -> 2641.5962 | W31: =J31*Parameters!$C$29 -> 3.0636529e+08 | X31: =W31/1000000 -> 306.36529
A32: =A31+0.05 -> 0.73 | C32: ='Waste plastic data in 2019'!$B$11*$A$2 -> 229.7169 | D32: ='Waste plastic data in 2019'!$B$11*Parameters!$C$4 -> 194.9661 | E32: ='Waste plastic data in 2019'!$B$9*Parameters!$C$8+Parameters!$C$11*'Waste plastic data in 2019'!$B$10 -> 206.74 | F32: ='Waste plastic data in 2019'!$B$11*$B$2+'Waste plastic data in 2019'!$B$9*$B$9+$B$16*'Waste plastic data in 2019'!$B$10 -> 1604.212 | G32: =F32*Parameters!$C$12+'Sensitivty analysis-'!C32*(1-$A$23)+'Waste plastic data in 2019'!$B$9*$A$9+$A$16*'Waste plastic data in 2019'!$B$10 -> 1624.0793 | H32: =G32*A32 -> 1185.5779 | I32: =G32*(1-A32) -> 438.50141 | J32: =F32*Parameters!$C$14+'Sensitivty analysis-'!I32*Parameters!$C$18 -> 988.73605 | K32: =J32*Parameters!$C$20 -> 29.662081 | L32: =J32*Parameters!$C$19 -> 217.52193 | M32: =L32*Parameters!$C$23 -> 213.17149 | N32: =C32*$A$23 -> 114.85845 | O32: =H32*Parameters!$C$21 -> 972.17387 | P32: =M32+H32*(1-Parameters!$C$21)*Parameters!$C$23 -> 422.30743 | Q32: =J32*Parameters!$C$22*Parameters!$C$25 -> 189.83732 | R32: =Q32*Parameters!$C$24*10000000 -> 8.3528421e+10 | S32: =F32*Parameters!$C$13+'Sensitivty analysis-'!K32+'Sensitivty analysis-'!L32*(1-Parameters!$C$23)+'Sensitivty analysis-'!I32*Parameters!$C$17+'Sensitivty analysis-'!H32*(1-Parameters!$C$21)*(1-Parameters!$C$23) -> 1032.9021 | T32: =S32+J32*Parameters!$C$22*(1-Parameters!$C$25) -> 1584.6168 | U32: =O32*Parameters!$C$27+'Sensitivty analysis-'!J32*Parameters!$C$22*Parameters!$C$26 -> 3565.5811 | V32: ='Sensitivty analysis-'!O32*(Parameters!$C$28-Parameters!$C$27) -> 2835.8312 | W32: =J32*Parameters!$C$29 -> 2.9662081e+08 | X32: =W32/1000000 -> 296.62081
A33: =A32+0.05 -> 0.78 | C33: ='Waste plastic data in 2019'!$B$11*$A$2 -> 229.7169 | D33: ='Waste plastic data in 2019'!$B$11*Parameters!$C$4 -> 194.9661 | E33: ='Waste plastic data in 2019'!$B$9*Parameters!$C$8+Parameters!$C$11*'Waste plastic data in 2019'!$B$10 -> 206.74 | F33: ='Waste plastic data in 2019'!$B$11*$B$2+'Waste plastic data in 2019'!$B$9*$B$9+$B$16*'Waste plastic data in 2019'!$B$10 -> 1604.212 | G33: =F33*Parameters!$C$12+'Sensitivty analysis-'!C33*(1-$A$23)+'Waste plastic data in 2019'!$B$9*$A$9+$A$16*'Waste plastic data in 2019'!$B$10 -> 1624.0793 | H33: =G33*A33 -> 1266.7818 | I33: =G33*(1-A33) -> 357.29744 | J33: =F33*Parameters!$C$14+'Sensitivty analysis-'!I33*Parameters!$C$18 -> 956.25446 | K33: =J33*Parameters!$C$20 -> 28.687634 | L33: =J33*Parameters!$C$19 -> 210.37598 | M33: =L33*Parameters!$C$23 -> 206.16846 | N33: =C33*$A$23 -> 114.85845 | O33: =H33*Parameters!$C$21 -> 1038.7611 | P33: =M33+H33*(1-Parameters!$C$21)*Parameters!$C$23 -> 429.62878 | Q33: =J33*Parameters!$C$22*Parameters!$C$25 -> 183.60086 | R33: =Q33*Parameters!$C$24*10000000 -> 8.0784377e+10 | S33: =F33*Parameters!$C$13+'Sensitivty analysis-'!K33+'Sensitivty analysis-'!L33*(1-Parameters!$C$23)+'Sensitivty analysis-'!I33*Parameters!$C$17+'Sensitivty analysis-'!H33*(1-Parameters!$C$21)*(1-Parameters!$C$23) -> 983.35471 | T33: =S33+J33*Parameters!$C$22*(1-Parameters!$C$25) -> 1516.9447 | U33: =O33*Parameters!$C$27+'Sensitivty analysis-'!J33*Parameters!$C$22*Parameters!$C$26 -> 3603.1298 | V33: ='Sensitivty analysis-'!O33*(Parameters!$C$28-Parameters!$C$27) -> 3030.0662 | W33: =J33*Parameters!$C$29 -> 2.8687634e+08 | X33: =W33/1000000 -> 286.87634
A34: =A33+0.05 -> 0.83 | C34: ='Waste plastic data in 2019'!$B$11*$A$2 -> 229.7169 | D34: ='Waste plastic data in 2019'!$B$11*Parameters!$C$4 -> 194.9661 | E34: ='Waste plastic data in 2019'!$B$9*Parameters!$C$8+Parameters!$C$11*'Waste plastic data in 2019'!$B$10 -> 206.74 | F34: ='Waste plastic data in 2019'!$B$11*$B$2+'Waste plastic data in 2019'!$B$9*$B$9+$B$16*'Waste plastic data in 2019'!$B$10 -> 1604.212 | G34: =F34*Parameters!$C$12+'Sensitivty analysis-'!C34*(1-$A$23)+'Waste plastic data in 2019'!$B$9*$A$9+$A$16*'Waste plastic data in 2019'!$B$10 -> 1624.0793 | H34: =G34*A34 -> 1347.9858 | I34: =G34*(1-A34) -> 276.09348 | J34: =F34*Parameters!$C$14+'Sensitivty analysis-'!I34*Parameters!$C$18 -> 923.77288 | K34: =J34*Parameters!$C$20 -> 27.713186 | L34: =J34*Parameters!$C$19 -> 203.23003 | M34: =L34*Parameters!$C$23 -> 199.16543 | N34: =C34*$A$23 -> 114.85845 | O34: =H34*Parameters!$C$21 -> 1105.3484 | P34: =M34+H34*(1-Parameters!$C$21)*Parameters!$C$23 -> 436.95013 | Q34: =J34*Parameters!$C$22*Parameters!$C$25 -> 177.36439 | R34: =Q34*Parameters!$C$24*10000000 -> 7.8040333e+10 | S34: =F34*Parameters!$C$13+'Sensitivty analysis-'!K34+'Sensitivty analysis-'!L34*(1-Parameters!$C$23)+'Sensitivty analysis-'!I34*Parameters!$C$17+'Sensitivty analysis-'!H34*(1-Parameters!$C$21)*(1-Parameters!$C$23) -> 933.8073 | T34: =S34+J34*Parameters!$C$22*(1-Parameters!$C$25) -> 1449.2726 | U34: =O34*Parameters!$C$27+'Sensitivty analysis-'!J34*Parameters!$C$22*Parameters!$C$26 -> 3640.6785 | V34: ='Sensitivty analysis-'!O34*(Parameters!$C$28-Parameters!$C$27) -> 3224.3012 | W34: =J34*Parameters!$C$29 -> 2.7713186e+08 | X34: =W34/1000000 -> 277.13186
