Workbook

Sheet Information
A1: Online Resource | B1: 2
A2: Resource title | B2: RT-qPCR expression data and statistical analyses of 13 marker genes
A3: Article title | B3: Genotype- and biostimulant-dependent organization of the cotton response to salinity: sequential screening and multivariate transcriptional analysis
A4: Journal | B4: Journal of Crop Health
A5: Author(s) | B5: Venera S. Kamburova; Ilkhom B. Salakhutdinov; Dmitriy A. Mirzabaev; Farkhod S. Radjapov; Shukhrat E. Shermatov; Dinara I. Tojiboeva; Elena F. Nazarova
A6: Corresponding author affiliation | B6: Center of Genomics and Bioinformatics of the Academy of Sciences of the Republic of Uzbekistan, Kibray, Tashkent Region 111215, Uzbekistan
A7: Corresponding author e-mail | B7: venera.k75@gmail.com
A8: File description | B8: Relative-expression values, log2-transformed data, summary statistics, gene/module annotations, ANOVA results and diagnostics, Tukey HSD comparisons, and grouping letters for the 13 marker genes.

Sheet Contents
A1: Column1 | B1: Column2 | C1: Column3 | D1: Column4
A2: qPCR_Raw_data | B2: qPCR_Raw_data | C2: 313 | D2: 11
A3: qPCR_Log2_data | B3: qPCR_Log2_data | C3: 313 | D3: 16
A4: qPCR_Summary | B4: qPCR_Summary | C4: 313 | D4: 13
A5: qPCR_Figure3_data | B5: qPCR_Figure3_data | C5: 97 | D5: 13
A6: qPCR_Figure4A_data | B6: qPCR_Figure4A_data | C6: 145 | D6: 13
A7: qPCR_Figure4B_data | B7: qPCR_Figure4B_data | C7: 73 | D7: 13
A8: qPCR_Statistical_tests | B8: qPCR_Statistical_tests | C8: 20 | D8: 9
A9: qPCR_ANOVA_results | B9: qPCR_ANOVA_results | C9: 118 | D9: 11
A10: qPCR_ANOVA_diagnostics | B10: qPCR_ANOVA_diagnostics | C10: 14 | D10: 18
A11: qPCR_Tukey_all | B11: qPCR_Tukey_all | C11: 3589 | D11: 16
A12: qPCR_Tukey_by_NaCl | B12: qPCR_Tukey_by_NaCl | C12: 1717 | D12: 17
A13: qPCR_Tukey_letters | B13: qPCR_Tukey_letters | C13: 313 | D13: 7
A14: qPCR_Data_dictionary | B14: qPCR_Data_dictionary | C14: 49 | D14: 3

Sheet qPCR_Raw_data
A1: Gene | B1: Genotype | C1: NaCl, mM | D1: Treatment | E1: Bio_rep_1 | F1: Bio_rep_2 | G1: Bio_rep_3 | H1: Bio_rep_4 | I1: Bio_rep_5 | J1: Mean | K1: SD
A2: Gh_NCED5 | B2: Ishonch | C2: 0 | D2: Control | E2: 1 | F2: 0.99 | G2: 1 | H2: 1.01 | I2: 1 | J2: 1 | K2: 0.0070710678
A3: Gh_NCED5 | B3: Ishonch | C3: 0 | D3: Rizokom-1 | E3: 1.59 | F3: 1.57 | G3: 1.55 | H3: 1.63 | I3: 1.61 | J3: 1.59 | K3: 0.031622777
A4: Gh_NCED5 | B4: Ishonch | C4: 0 | D4: Mikrozim-1 | E4: 1.45 | F4: 1.43 | G4: 1.47 | H4: 1.48 | I4: 1.42 | J4: 1.45 | K4: 0.025495098
A5: Gh_NCED5 | B5: Ishonch | C5: 0 | D5: Serhosil | E5: 1.31 | F5: 1.29 | G5: 1.28 | H5: 1.34 | I5: 1.33 | J5: 1.31 | K5: 0.025495098
A6: Gh_NCED5 | B6: Ishonch | C6: 150 | D6: Control | E6: 0.3 | F6: 0.29 | G6: 0.29 | H6: 0.31 | I6: 0.31 | J6: 0.3 | K6: 0.01
A7: Gh_NCED5 | B7: Ishonch | C7: 150 | D7: Rizokom-1 | E7: 0.44 | F7: 0.43 | G7: 0.41 | H7: 0.47 | I7: 0.45 | J7: 0.44 | K7: 0.02236068
A8: Gh_NCED5 | B8: Ishonch | C8: 150 | D8: Mikrozim-1 | E8: 0.41 | F8: 0.39 | G8: 0.41 | H8: 0.43 | I8: 0.41 | J8: 0.41 | K8: 0.014142136
A9: Gh_NCED5 | B9: Ishonch | C9: 150 | D9: Serhosil | E9: 0.36 | F9: 0.34 | G9: 0.36 | H9: 0.36 | I9: 0.38 | J9: 0.36 | K9: 0.014142136
A10: Gh_NCED5 | B10: Ravnaq-1 | C10: 0 | D10: Control | E10: 1 | F10: 0.99 | G10: 1.01 | H10: 0.98 | I10: 1.02 | J10: 1 | K10: 0.015811388
A11: Gh_NCED5 | B11: Ravnaq-1 | C11: 0 | D11: Rizokom-1 | E11: 1.47 | F11: 1.47 | G11: 1.45 | H11: 1.47 | I11: 1.49 | J11: 1.47 | K11: 0.014142136
A12: Gh_NCED5 | B12: Ravnaq-1 | C12: 0 | D12: Mikrozim-1 | E12: 1.32 | F12: 1.3 | G12: 1.32 | H12: 1.34 | I12: 1.32 | J12: 1.32 | K12: 0.014142136
A13: Gh_NCED5 | B13: Ravnaq-1 | C13: 0 | D13: Serhosil | E13: 1.24 | F13: 1.25 | G13: 1.26 | H13: 1.23 | I13: 1.22 | J13: 1.24 | K13: 0.015811388
... A313: Gh_SuSy | B313: Porloq-1 | C313: 150 | D313: Serhosil | E313: 1.46 | F313: 1.4 | G313: 1.5 | H313: 1.42 | I313: 1.52 | J313: 1.46 | K313: 0.050990195

Sheet qPCR_Log2_data
A1: Gene | B1: Genotype | C1: NaCl, mM | D1: Treatment | E1: Log2_rep_1 | F1: Log2_rep_2 | G1: Log2_rep_3 | H1: Log2_rep_4 | I1: Log2_rep_5 | J1: Mean_log2_FC | K1: SD_log2_FC | L1: SE_log2_FC | M1: CI95_low | N1: CI95_high | O1: n | P1: Source_row
A2: Gh_NCED5 | B2: Ishonch | C2: 0 | D2: Control | E2: =LN(qPCR_Raw_data!E2)/LN(2) -> 0 | F2: =LN(qPCR_Raw_data!F2)/LN(2) -> -0.01449957 | G2: =LN(qPCR_Raw_data!G2)/LN(2) -> 0 | H2: =LN(qPCR_Raw_data!H2)/LN(2) -> 0.014355293 | I2: =LN(qPCR_Raw_data!I2)/LN(2) -> 0 | J2: =AVERAGE(E2:I2) -> -2.8855344e-05 | K2: =STDEV(E2:I2) -> 0.010201811 | L2: =K2/SQRT(O2) -> 0.0045623886 | M2: =J2-qPCR_Data_dictionary!$B$5*L2 -> -0.012696077 | N2: =J2+qPCR_Data_dictionary!$B$5*L2 -> 0.012638366 | O2: 5 | P2: 2
A3: Gh_NCED5 | B3: Ishonch | C3: 0 | D3: Rizokom-1 | E3: =LN(qPCR_Raw_data!E3)/LN(2) -> 0.66902677 | F3: =LN(qPCR_Raw_data!F3)/LN(2) -> 0.65076456 | G3: =LN(qPCR_Raw_data!G3)/LN(2) -> 0.63226822 | H3: =LN(qPCR_Raw_data!H3)/LN(2) -> 0.70487196 | I3: =LN(qPCR_Raw_data!I3)/LN(2) -> 0.68706069 | J3: =AVERAGE(E3:I3) -> 0.66879844 | K3: =STDEV(E3:I3) -> 0.028699038 | L3: =K3/SQRT(O3) -> 0.0128346 | M3: =J3-qPCR_Data_dictionary!$B$5*L3 -> 0.63316388 | N3: =J3+qPCR_Data_dictionary!$B$5*L3 -> 0.704433 | O3: 5 | P3: 3
A4: Gh_NCED5 | B4: Ishonch | C4: 0 | D4: Mikrozim-1 | E4: =LN(qPCR_Raw_data!E4)/LN(2) -> 0.5360529 | F4: =LN(qPCR_Raw_data!F4)/LN(2) -> 0.51601515 | G4: =LN(qPCR_Raw_data!G4)/LN(2) -> 0.55581616 | H4: =LN(qPCR_Raw_data!H4)/LN(2) -> 0.56559718 | I4: =LN(qPCR_Raw_data!I4)/LN(2) -> 0.50589093 | J4: =AVERAGE(E4:I4) -> 0.53587446 | K4: =STDEV(E4:I4) -> 0.025369998 | L4: =K4/SQRT(O4) -> 0.011345808 | M4: =J4-qPCR_Data_dictionary!$B$5*L4 -> 0.50437345 | N4: =J4+qPCR_Data_dictionary!$B$5*L4 -> 0.56737548 | O4: 5 | P4: 4
A5: Gh_NCED5 | B5: Ishonch | C5: 0 | D5: Serhosil | E5: =LN(qPCR_Raw_data!E5)/LN(2) -> 0.38956681 | F5: =LN(qPCR_Raw_data!F5)/LN(2) -> 0.36737107 | G5: =LN(qPCR_Raw_data!G5)/LN(2) -> 0.35614381 | H5: =LN(qPCR_Raw_data!H5)/LN(2) -> 0.422233 | I5: =LN(qPCR_Raw_data!I5)/LN(2) -> 0.41142625 | J5: =AVERAGE(E5:I5) -> 0.38934819 | K5: =STDEV(E5:I5) -> 0.028082129 | L5: =K5/SQRT(O5) -> 0.01255871 | M5: =J5-qPCR_Data_dictionary!$B$5*L5 -> 0.35447962 | N5: =J5+qPCR_Data_dictionary!$B$5*L5 -> 0.42421676 | O5: 5 | P5: 5
A6: Gh_NCED5 | B6: Ishonch | C6: 150 | D6: Control | E6: =LN(qPCR_Raw_data!E6)/LN(2) -> -1.7369656 | F6: =LN(qPCR_Raw_data!F6)/LN(2) -> -1.7858752 | G6: =LN(qPCR_Raw_data!G6)/LN(2) -> -1.7858752 | H6: =LN(qPCR_Raw_data!H6)/LN(2) -> -1.6896599 | I6: =LN(qPCR_Raw_data!I6)/LN(2) -> -1.6896599 | J6: =AVERAGE(E6:I6) -> -1.7376071 | K6: =STDEV(E6:I6) -> 0.048108994 | L6: =K6/SQRT(O6) -> 0.021514996 | M6: =J6-qPCR_Data_dictionary!$B$5*L6 -> -1.7973424 | N6: =J6+qPCR_Data_dictionary!$B$5*L6 -> -1.6778719 | O6: 5 | P6: 6
A7: Gh_NCED5 | B7: Ishonch | C7: 150 | D7: Rizokom-1 | E7: =LN(qPCR_Raw_data!E7)/LN(2) -> -1.1844246 | F7: =LN(qPCR_Raw_data!F7)/LN(2) -> -1.2175914 | G7: =LN(qPCR_Raw_data!G7)/LN(2) -> -1.2863042 | H7: =LN(qPCR_Raw_data!H7)/LN(2) -> -1.0892673 | I7: =LN(qPCR_Raw_data!I7)/LN(2) -> -1.1520031 | J7: =AVERAGE(E7:I7) -> -1.1859181 | K7: =STDEV(E7:I7) -> 0.073441123 | L7: =K7/SQRT(O7) -> 0.032843869 | M7: =J7-qPCR_Data_dictionary!$B$5*L7 -> -1.2771073 | N7: =J7+qPCR_Data_dictionary!$B$5*L7 -> -1.0947289 | O7: 5 | P7: 7
A8: Gh_NCED5 | B8: Ishonch | C8: 150 | D8: Mikrozim-1 | E8: =LN(qPCR_Raw_data!E8)/LN(2) -> -1.2863042 | F8: =LN(qPCR_Raw_data!F8)/LN(2) -> -1.358454 | G8: =LN(qPCR_Raw_data!G8)/LN(2) -> -1.2863042 | H8: =LN(qPCR_Raw_data!H8)/LN(2) -> -1.2175914 | I8: =LN(qPCR_Raw_data!I8)/LN(2) -> -1.2863042 | J8: =AVERAGE(E8:I8) -> -1.2869916 | K8: =STDEV(E8:I8) -> 0.049811321 | L8: =K8/SQRT(O8) -> 0.0222763 | M8: =J8-qPCR_Data_dictionary!$B$5*L8 -> -1.3488405 | N8: =J8+qPCR_Data_dictionary!$B$5*L8 -> -1.2251427 | O8: 5 | P8: 8
A9: Gh_NCED5 | B9: Ishonch | C9: 150 | D9: Serhosil | E9: =LN(qPCR_Raw_data!E9)/LN(2) -> -1.4739312 | F9: =LN(qPCR_Raw_data!F9)/LN(2) -> -1.5563933 | G9: =LN(qPCR_Raw_data!G9)/LN(2) -> -1.4739312 | H9: =LN(qPCR_Raw_data!H9)/LN(2) -> -1.4739312 | I9: =LN(qPCR_Raw_data!I9)/LN(2) -> -1.3959287 | J9: =AVERAGE(E9:I9) -> -1.4748231 | K9: =STDEV(E9:I9) -> 0.056745974 | L9: =K9/SQRT(O9) -> 0.025377571 | M9: =J9-qPCR_Data_dictionary!$B$5*L9 -> -1.5452826 | N9: =J9+qPCR_Data_dictionary!$B$5*L9 -> -1.4043637 | O9: 5 | P9: 9
A10: Gh_NCED5 | B10: Ravnaq-1 | C10: 0 | D10: Control | E10: =LN(qPCR_Raw_data!E10)/LN(2) -> 0 | F10: =LN(qPCR_Raw_data!F10)/LN(2) -> -0.01449957 | G10: =LN(qPCR_Raw_data!G10)/LN(2) -> 0.014355293 | H10: =LN(qPCR_Raw_data!H10)/LN(2) -> -0.029146346 | I10: =LN(qPCR_Raw_data!I10)/LN(2) -> 0.028569152 | J10: =AVERAGE(E10:I10) -> -0.00014429404 | K10: =STDEV(E10:I10) -> 0.022813997 | L10: =K10/SQRT(O10) -> 0.010202729 | M10: =J10-qPCR_Data_dictionary!$B$5*L10 -> -0.028471612 | N10: =J10+qPCR_Data_dictionary!$B$5*L10 -> 0.028183024 | O10: 5 | P10: 10
A11: Gh_NCED5 | B11: Ravnaq-1 | C11: 0 | D11: Rizokom-1 | E11: =LN(qPCR_Raw_data!E11)/LN(2) -> 0.55581616 | F11: =LN(qPCR_Raw_data!F11)/LN(2) -> 0.55581616 | G11: =LN(qPCR_Raw_data!G11)/LN(2) -> 0.5360529 | H11: =LN(qPCR_Raw_data!H11)/LN(2) -> 0.55581616 | I11: =LN(qPCR_Raw_data!I11)/LN(2) -> 0.57531233 | J11: =AVERAGE(E11:I11) -> 0.55576274 | K11: =STDEV(E11:I11) -> 0.013880497 | L11: =K11/SQRT(O11) -> 0.0062075472 | M11: =J11-qPCR_Data_dictionary!$B$5*L11 -> 0.53852783 | N11: =J11+qPCR_Data_dictionary!$B$5*L11 -> 0.57299765 | O11: 5 | P11: 11
A12: Gh_NCED5 | B12: Ravnaq-1 | C12: 0 | D12: Mikrozim-1 | E12: =LN(qPCR_Raw_data!E12)/LN(2) -> 0.40053793 | F12: =LN(qPCR_Raw_data!F12)/LN(2) -> 0.37851162 | G12: =LN(qPCR_Raw_data!G12)/LN(2) -> 0.40053793 | H12: =LN(qPCR_Raw_data!H12)/LN(2) -> 0.422233 | I12: =LN(qPCR_Raw_data!I12)/LN(2) -> 0.40053793 | J12: =AVERAGE(E12:I12) -> 0.40047168 | K12: =STDEV(E12:I12) -> 0.015458107 | L12: =K12/SQRT(O12) -> 0.0069130758 | M12: =J12-qPCR_Data_dictionary!$B$5*L12 -> 0.38127791 | N12: =J12+qPCR_Data_dictionary!$B$5*L12 -> 0.41966546 | O12: 5 | P12: 12
A13: Gh_NCED5 | B13: Ravnaq-1 | C13: 0 | D13: Serhosil | E13: =LN(qPCR_Raw_data!E13)/LN(2) -> 0.31034012 | F13: =LN(qPCR_Raw_data!F13)/LN(2) -> 0.32192809 | G13: =LN(qPCR_Raw_data!G13)/LN(2) -> 0.33342373 | H13: =LN(qPCR_Raw_data!H13)/LN(2) -> 0.29865832 | I13: =LN(qPCR_Raw_data!I13)/LN(2) -> 0.28688115 | J13: =AVERAGE(E13:I13) -> 0.31024628 | K13: =STDEV(E13:I13) -> 0.018397543 | L13: =K13/SQRT(O13) -> 0.0082276312 | M13: =J13-qPCR_Data_dictionary!$B$5*L13 -> 0.28740272 | N13: =J13+qPCR_Data_dictionary!$B$5*L13 -> 0.33308985 | O13: 5 | P13: 13
... A313: Gh_SuSy | B313: Porloq-1 | C313: 150 | D313: Serhosil | E313: =LN(qPCR_Raw_data!E313)/LN(2) -> 0.54596837 | F313: =LN(qPCR_Raw_data!F313)/LN(2) -> 0.48542683 | G313: =LN(qPCR_Raw_data!G313)/LN(2) -> 0.5849625 | H313: =LN(qPCR_Raw_data!H313)/LN(2) -> 0.50589093 | I313: =LN(qPCR_Raw_data!I313)/LN(2) -> 0.60407132 | J313: =AVERAGE(E313:I313) -> 0.54526399 | K313: =STDEV(E313:I313) -> 0.050412038 | L313: =K313/SQRT(O313) -> 0.022544949 | M313: =J313-qPCR_Data_dictionary!$B$5*L313 -> 0.48266918 | N313: =J313+qPCR_Data_dictionary!$B$5*L313 -> 0.6078588 | O313: 5 | P313: 313

Sheet qPCR_Summary
A1: Gene | B1: Module | C1: Genotype | D1: NaCl, mM | E1: Treatment | F1: Mean_log2_FC | G1: SD_log2_FC | H1: SE_log2_FC | I1: CI95_low | J1: CI95_high | K1: n | L1: Geometric_mean_FC | M1: Source_row
A2: Gh_NCED5 | B2: Hormonal regulation | C2: Ishonch | D2: 0 | E2: Control | F2: =qPCR_Log2_data!J2 -> -2.8855344e-05 | G2: =qPCR_Log2_data!K2 -> 0.010201811 | H2: =qPCR_Log2_data!L2 -> 0.0045623886 | I2: =qPCR_Log2_data!M2 -> -0.012696077 | J2: =qPCR_Log2_data!N2 -> 0.012638366 | K2: 5 | L2: =POWER(2,F2) -> 0.99998 | M2: 2
A3: Gh_NCED5 | B3: Hormonal regulation | C3: Ishonch | D3: 0 | E3: Rizokom-1 | F3: =qPCR_Log2_data!J3 -> 0.66879844 | G3: =qPCR_Log2_data!K3 -> 0.028699038 | H3: =qPCR_Log2_data!L3 -> 0.0128346 | I3: =qPCR_Log2_data!M3 -> 0.63316388 | J3: =qPCR_Log2_data!N3 -> 0.704433 | K3: 5 | L3: =POWER(2,F3) -> 1.5897484 | M3: 3
A4: Gh_NCED5 | B4: Hormonal regulation | C4: Ishonch | D4: 0 | E4: Mikrozim-1 | F4: =qPCR_Log2_data!J4 -> 0.53587446 | G4: =qPCR_Log2_data!K4 -> 0.025369998 | H4: =qPCR_Log2_data!L4 -> 0.011345808 | I4: =qPCR_Log2_data!M4 -> 0.50437345 | J4: =qPCR_Log2_data!N4 -> 0.56737548 | K4: 5 | L4: =POWER(2,F4) -> 1.4498207 | M4: 4
A5: Gh_NCED5 | B5: Hormonal regulation | C5: Ishonch | D5: 0 | E5: Serhosil | F5: =qPCR_Log2_data!J5 -> 0.38934819 | G5: =qPCR_Log2_data!K5 -> 0.028082129 | H5: =qPCR_Log2_data!L5 -> 0.01255871 | I5: =qPCR_Log2_data!M5 -> 0.35447962 | J5: =qPCR_Log2_data!N5 -> 0.42421676 | K5: 5 | L5: =POWER(2,F5) -> 1.3098015 | M5: 5
A6: Gh_NCED5 | B6: Hormonal regulation | C6: Ishonch | D6: 150 | E6: Control | F6: =qPCR_Log2_data!J6 -> -1.7376071 | G6: =qPCR_Log2_data!K6 -> 0.048108994 | H6: =qPCR_Log2_data!L6 -> 0.021514996 | I6: =qPCR_Log2_data!M6 -> -1.7973424 | J6: =qPCR_Log2_data!N6 -> -1.6778719 | K6: 5 | L6: =POWER(2,F6) -> 0.29986662 | M6: 6
A7: Gh_NCED5 | B7: Hormonal regulation | C7: Ishonch | D7: 150 | E7: Rizokom-1 | F7: =qPCR_Log2_data!J7 -> -1.1859181 | G7: =qPCR_Log2_data!K7 -> 0.073441123 | H7: =qPCR_Log2_data!L7 -> 0.032843869 | I7: =qPCR_Log2_data!M7 -> -1.2771073 | J7: =qPCR_Log2_data!N7 -> -1.0947289 | K7: 5 | L7: =POWER(2,F7) -> 0.43954472 | M7: 7
A8: Gh_NCED5 | B8: Hormonal regulation | C8: Ishonch | D8: 150 | E8: Mikrozim-1 | F8: =qPCR_Log2_data!J8 -> -1.2869916 | G8: =qPCR_Log2_data!K8 -> 0.049811321 | H8: =qPCR_Log2_data!L8 -> 0.0222763 | I8: =qPCR_Log2_data!M8 -> -1.3488405 | J8: =qPCR_Log2_data!N8 -> -1.2251427 | K8: 5 | L8: =POWER(2,F8) -> 0.40980469 | M8: 8
A9: Gh_NCED5 | B9: Hormonal regulation | C9: Ishonch | D9: 150 | E9: Serhosil | F9: =qPCR_Log2_data!J9 -> -1.4748231 | G9: =qPCR_Log2_data!K9 -> 0.056745974 | H9: =qPCR_Log2_data!L9 -> 0.025377571 | I9: =qPCR_Log2_data!M9 -> -1.5452826 | J9: =qPCR_Log2_data!N9 -> -1.4043637 | K9: 5 | L9: =POWER(2,F9) -> 0.3597775 | M9: 9
A10: Gh_NCED5 | B10: Hormonal regulation | C10: Ravnaq-1 | D10: 0 | E10: Control | F10: =qPCR_Log2_data!J10 -> -0.00014429404 | G10: =qPCR_Log2_data!K10 -> 0.022813997 | H10: =qPCR_Log2_data!L10 -> 0.010202729 | I10: =qPCR_Log2_data!M10 -> -0.028471612 | J10: =qPCR_Log2_data!N10 -> 0.028183024 | K10: 5 | L10: =POWER(2,F10) -> 0.99989999 | M10: 10
A11: Gh_NCED5 | B11: Hormonal regulation | C11: Ravnaq-1 | D11: 0 | E11: Rizokom-1 | F11: =qPCR_Log2_data!J11 -> 0.55576274 | G11: =qPCR_Log2_data!K11 -> 0.013880497 | H11: =qPCR_Log2_data!L11 -> 0.0062075472 | I11: =qPCR_Log2_data!M11 -> 0.53852783 | J11: =qPCR_Log2_data!N11 -> 0.57299765 | K11: 5 | L11: =POWER(2,F11) -> 1.4699456 | M11: 11
A12: Gh_NCED5 | B12: Hormonal regulation | C12: Ravnaq-1 | D12: 0 | E12: Mikrozim-1 | F12: =qPCR_Log2_data!J12 -> 0.40047168 | G12: =qPCR_Log2_data!K12 -> 0.015458107 | H12: =qPCR_Log2_data!L12 -> 0.0069130758 | I12: =qPCR_Log2_data!M12 -> 0.38127791 | J12: =qPCR_Log2_data!N12 -> 0.41966546 | K12: 5 | L12: =POWER(2,F12) -> 1.3199394 | M12: 12
A13: Gh_NCED5 | B13: Hormonal regulation | C13: Ravnaq-1 | D13: 0 | E13: Serhosil | F13: =qPCR_Log2_data!J13 -> 0.31024628 | G13: =qPCR_Log2_data!K13 -> 0.018397543 | H13: =qPCR_Log2_data!L13 -> 0.0082276312 | I13: =qPCR_Log2_data!M13 -> 0.28740272 | J13: =qPCR_Log2_data!N13 -> 0.33308985 | K13: 5 | L13: =POWER(2,F13) -> 1.2399193 | M13: 13
... A313: Gh_SuSy | B313: Metabolic/osmoprotective | C313: Porloq-1 | D313: 150 | E313: Serhosil | F313: =qPCR_Log2_data!J313 -> 0.54526399 | G313: =qPCR_Log2_data!K313 -> 0.050412038 | H313: =qPCR_Log2_data!L313 -> 0.022544949 | I313: =qPCR_Log2_data!M313 -> 0.48266918 | J313: =qPCR_Log2_data!N313 -> 0.6078588 | K313: 5 | L313: =POWER(2,F313) -> 1.4592873 | M313: 313

Sheet qPCR_Figure3_data
A1: Gene | B1: Module | C1: NaCl, mM | D1: Treatment | E1: Genotype | F1: Summary_row | G1: Mean_log2_FC | H1: SD_log2_FC | I1: SE_log2_FC | J1: CI95_low | K1: CI95_high | L1: n | M1: Tukey_letters
A2: Gh_NCED5 | B2: Hormonal regulation | C2: 0 | D2: Control | E2: Ishonch | F2: 2 | G2: =qPCR_Summary!F2 -> -2.8855344e-05 | H2: =qPCR_Summary!G2 -> 0.010201811 | I2: =qPCR_Summary!H2 -> 0.0045623886 | J2: =qPCR_Summary!I2 -> -0.012696077 | K2: =qPCR_Summary!J2 -> 0.012638366 | L2: 5 | M2: g
A3: Gh_NCED5 | B3: Hormonal regulation | C3: 0 | D3: Control | E3: Ravnaq-1 | F3: 10 | G3: =qPCR_Summary!F10 -> -0.00014429404 | H3: =qPCR_Summary!G10 -> 0.022813997 | I3: =qPCR_Summary!H10 -> 0.010202729 | J3: =qPCR_Summary!I10 -> -0.028471612 | K3: =qPCR_Summary!J10 -> 0.028183024 | L3: 5 | M3: g
A4: Gh_NCED5 | B4: Hormonal regulation | C4: 0 | D4: Control | E4: Porloq-1 | F4: 18 | G4: =qPCR_Summary!F18 -> -0.00014429404 | H4: =qPCR_Summary!G18 -> 0.022813997 | I4: =qPCR_Summary!H18 -> 0.010202729 | J4: =qPCR_Summary!I18 -> -0.028471612 | K4: =qPCR_Summary!J18 -> 0.028183024 | L4: 5 | M4: g
A5: Gh_NCED5 | B5: Hormonal regulation | C5: 0 | D5: Rizokom-1 | E5: Ishonch | F5: 3 | G5: =qPCR_Summary!F3 -> 0.66879844 | H5: =qPCR_Summary!G3 -> 0.028699038 | I5: =qPCR_Summary!H3 -> 0.0128346 | J5: =qPCR_Summary!I3 -> 0.63316388 | K5: =qPCR_Summary!J3 -> 0.704433 | L5: 5 | M5: a
A6: Gh_NCED5 | B6: Hormonal regulation | C6: 0 | D6: Rizokom-1 | E6: Ravnaq-1 | F6: 11 | G6: =qPCR_Summary!F11 -> 0.55576274 | H6: =qPCR_Summary!G11 -> 0.013880497 | I6: =qPCR_Summary!H11 -> 0.0062075472 | J6: =qPCR_Summary!I11 -> 0.53852783 | K6: =qPCR_Summary!J11 -> 0.57299765 | L6: 5 | M6: b
A7: Gh_NCED5 | B7: Hormonal regulation | C7: 0 | D7: Rizokom-1 | E7: Porloq-1 | F7: 19 | G7: =qPCR_Summary!F19 -> 0.453976 | H7: =qPCR_Summary!G19 -> 0.026851884 | I7: =qPCR_Summary!H19 -> 0.012008527 | J7: =qPCR_Summary!I19 -> 0.42063499 | K7: =qPCR_Summary!J19 -> 0.48731702 | L7: 5 | M7: c
A8: Gh_NCED5 | B8: Hormonal regulation | C8: 0 | D8: Mikrozim-1 | E8: Ishonch | F8: 4 | G8: =qPCR_Summary!F4 -> 0.53587446 | H8: =qPCR_Summary!G4 -> 0.025369998 | I8: =qPCR_Summary!H4 -> 0.011345808 | J8: =qPCR_Summary!I4 -> 0.50437345 | K8: =qPCR_Summary!J4 -> 0.56737548 | L8: 5 | M8: b
A9: Gh_NCED5 | B9: Hormonal regulation | C9: 0 | D9: Mikrozim-1 | E9: Ravnaq-1 | F9: 12 | G9: =qPCR_Summary!F12 -> 0.40047168 | H9: =qPCR_Summary!G12 -> 0.015458107 | I9: =qPCR_Summary!H12 -> 0.0069130758 | J9: =qPCR_Summary!I12 -> 0.38127791 | K9: =qPCR_Summary!J12 -> 0.41966546 | L9: 5 | M9: d
A10: Gh_NCED5 | B10: Hormonal regulation | C10: 0 | D10: Mikrozim-1 | E10: Porloq-1 | F10: 20 | G10: =qPCR_Summary!F20 -> 0.28662907 | H10: =qPCR_Summary!G20 -> 0.030154507 | I10: =qPCR_Summary!H20 -> 0.013485505 | J10: =qPCR_Summary!I20 -> 0.2491873 | K10: =qPCR_Summary!J20 -> 0.32407083 | L10: 5 | M10: e
A11: Gh_NCED5 | B11: Hormonal regulation | C11: 0 | D11: Serhosil | E11: Ishonch | F11: 5 | G11: =qPCR_Summary!F5 -> 0.38934819 | H11: =qPCR_Summary!G5 -> 0.028082129 | I11: =qPCR_Summary!H5 -> 0.01255871 | J11: =qPCR_Summary!I5 -> 0.35447962 | K11: =qPCR_Summary!J5 -> 0.42421676 | L11: 5 | M11: d
A12: Gh_NCED5 | B12: Hormonal regulation | C12: 0 | D12: Serhosil | E12: Ravnaq-1 | F12: 13 | G12: =qPCR_Summary!F13 -> 0.31024628 | H12: =qPCR_Summary!G13 -> 0.018397543 | I12: =qPCR_Summary!H13 -> 0.0082276312 | J12: =qPCR_Summary!I13 -> 0.28740272 | K12: =qPCR_Summary!J13 -> 0.33308985 | L12: 5 | M12: e
A13: Gh_NCED5 | B13: Hormonal regulation | C13: 0 | D13: Serhosil | E13: Porloq-1 | F13: 21 | G13: =qPCR_Summary!F21 -> 0.20154658 | H13: =qPCR_Summary!G21 -> 0.017743747 | I13: =qPCR_Summary!H21 -> 0.007935245 | J13: =qPCR_Summary!I21 -> 0.17951481 | K13: =qPCR_Summary!J21 -> 0.22357835 | L13: 5 | M13: f
A14: Gh_NCED5 | B14: Hormonal regulation | C14: 150 | D14: Control | E14: Ishonch | F14: 6 | G14: =qPCR_Summary!F6 -> -1.7376071 | H14: =qPCR_Summary!G6 -> 0.048108994 | I14: =qPCR_Summary!H6 -> 0.021514996 | J14: =qPCR_Summary!I6 -> -1.7973424 | K14: =qPCR_Summary!J6 -> -1.6778719 | L14: 5 | M14: i
A15: Gh_NCED5 | B15: Hormonal regulation | C15: 150 | D15: Control | E15: Ravnaq-1 | F15: 14 | G15: =qPCR_Summary!F14 -> 0.20152476 | H15: =qPCR_Summary!G14 -> 0.019837625 | I15: =qPCR_Summary!H14 -> 0.0088716555 | J15: =qPCR_Summary!I14 -> 0.17689309 | K15: =qPCR_Summary!J14 -> 0.22615642 | L15: 5 | M15: e
A16: Gh_NCED5 | B16: Hormonal regulation | C16: 150 | D16: Control | E16: Porloq-1 | F16: 22 | G16: =qPCR_Summary!F22 -> 0.28668724 | H16: =qPCR_Summary!G22 -> 0.02644812 | I16: =qPCR_Summary!H22 -> 0.011827959 | J16: =qPCR_Summary!I22 -> 0.25384756 | K16: =qPCR_Summary!J22 -> 0.31952691 | L16: 5 | M16: d
A17: Gh_NCED5 | B17: Hormonal regulation | C17: 150 | D17: Rizokom-1 | E17: Ishonch | F17: 7 | G17: =qPCR_Summary!F7 -> -1.1859181 | H17: =qPCR_Summary!G7 -> 0.073441123 | I17: =qPCR_Summary!H7 -> 0.032843869 | J17: =qPCR_Summary!I7 -> -1.2771073 | K17: =qPCR_Summary!J7 -> -1.0947289 | L17: 5 | M17: f
A18: Gh_NCED5 | B18: Hormonal regulation | C18: 150 | D18: Rizokom-1 | E18: Ravnaq-1 | F18: 15 | G18: =qPCR_Summary!F15 -> 0.66887837 | H18: =qPCR_Summary!G15 -> 0.023135649 | I18: =qPCR_Summary!H15 -> 0.010346577 | J18: =qPCR_Summary!I15 -> 0.64015167 | K18: =qPCR_Summary!J15 -> 0.69760507 | L18: 5 | M18: a
A19: Gh_NCED5 | B19: Hormonal regulation | C19: 150 | D19: Rizokom-1 | E19: Porloq-1 | F19: 23 | G19: =qPCR_Summary!F23 -> 0.65064748 | H19: =qPCR_Summary!G23 -> 0.020550259 | I19: =qPCR_Summary!H23 -> 0.0091903554 | J19: =qPCR_Summary!I23 -> 0.62513096 | K19: =qPCR_Summary!J23 -> 0.676164 | L19: 5 | M19: a
A20: Gh_NCED5 | B20: Hormonal regulation | C20: 150 | D20: Mikrozim-1 | E20: Ishonch | F20: 8 | G20: =qPCR_Summary!F8 -> -1.2869916 | H20: =qPCR_Summary!G8 -> 0.049811321 | I20: =qPCR_Summary!H8 -> 0.0222763 | J20: =qPCR_Summary!I8 -> -1.3488405 | K20: =qPCR_Summary!J8 -> -1.2251427 | L20: 5 | M20: g
A21: Gh_NCED5 | B21: Hormonal regulation | C21: 150 | D21: Mikrozim-1 | E21: Ravnaq-1 | F21: 16 | G21: =qPCR_Summary!F16 -> 0.52601315 | H21: =qPCR_Summary!G16 -> 0.01416972 | I21: =qPCR_Summary!H16 -> 0.0063368912 | J21: =qPCR_Summary!I16 -> 0.50841912 | K21: =qPCR_Summary!J16 -> 0.54360718 | L21: 5 | M21: b
A22: Gh_NCED5 | B22: Hormonal regulation | C22: 150 | D22: Mikrozim-1 | E22: Porloq-1 | F22: 24 | G22: =qPCR_Summary!F24 -> 0.51583168 | H22: =qPCR_Summary!G24 -> 0.025724919 | I22: =qPCR_Summary!H24 -> 0.011504534 | J22: =qPCR_Summary!I24 -> 0.48388998 | K22: =qPCR_Summary!J24 -> 0.54777339 | L22: 5 | M22: b
A23: Gh_NCED5 | B23: Hormonal regulation | C23: 150 | D23: Serhosil | E23: Ishonch | F23: 9 | G23: =qPCR_Summary!F9 -> -1.4748231 | H23: =qPCR_Summary!G9 -> 0.056745974 | I23: =qPCR_Summary!H9 -> 0.025377571 | J23: =qPCR_Summary!I9 -> -1.5452826 | K23: =qPCR_Summary!J9 -> -1.4043637 | L23: 5 | M23: h
A24: Gh_NCED5 | B24: Hormonal regulation | C24: 150 | D24: Serhosil | E24: Ravnaq-1 | F24: 17 | G24: =qPCR_Summary!F17 -> 0.44340381 | H24: =qPCR_Summary!G17 -> 0.027049383 | I24: =qPCR_Summary!H17 -> 0.012096852 | J24: =qPCR_Summary!I17 -> 0.40981756 | K24: =qPCR_Summary!J17 -> 0.47699005 | L24: 5 | M24: b c
A25: Gh_NCED5 | B25: Hormonal regulation | C25: 150 | D25: Serhosil | E25: Porloq-1 | F25: 25 | G25: =qPCR_Summary!F25 -> 0.41121415 | H25: =qPCR_Summary!G25 -> 0.027659708 | I25: =qPCR_Summary!H25 -> 0.012369798 | J25: =qPCR_Summary!I25 -> 0.37687008 | K25: =qPCR_Summary!J25 -> 0.44555821 | L25: 5 | M25: c
A26: Gh_GH3.17 | B26: Hormonal regulation | C26: 0 | D26: Control | E26: Ishonch | F26: 26 | G26: =qPCR_Summary!F26 -> -0.00014429404 | H26: =qPCR_Summary!G26 -> 0.022813997 | I26: =qPCR_Summary!H26 -> 0.010202729 | J26: =qPCR_Summary!I26 -> -0.028471612 | K26: =qPCR_Summary!J26 -> 0.028183024 | L26: 5 | M26: g
A27: Gh_GH3.17 | B27: Hormonal regulation | C27: 0 | D27: Control | E27: Ravnaq-1 | F27: 34 | G27: =qPCR_Summary!F34 -> -0.00014429404 | H27: =qPCR_Summary!G34 -> 0.022813997 | I27: =qPCR_Summary!H34 -> 0.010202729 | J27: =qPCR_Summary!I34 -> -0.028471612 | K27: =qPCR_Summary!J34 -> 0.028183024 | L27: 5 | M27: g
A28: Gh_GH3.17 | B28: Hormonal regulation | C28: 0 | D28: Control | E28: Porloq-1 | F28: 42 | G28: =qPCR_Summary!F42 -> -0.00014429404 | H28: =qPCR_Summary!G42 -> 0.022813997 | I28: =qPCR_Summary!H42 -> 0.010202729 | J28: =qPCR_Summary!I42 -> -0.028471612 | K28: =qPCR_Summary!J42 -> 0.028183024 | L28: 5 | M28: g
A29: Gh_GH3.17 | B29: Hormonal regulation | C29: 0 | D29: Rizokom-1 | E29: Ishonch | F29: 27 | G29: =qPCR_Summary!F27 -> 0.60390894 | H29: =qPCR_Summary!G27 -> 0.024201356 | I29: =qPCR_Summary!H27 -> 0.010823176 | J29: =qPCR_Summary!I27 -> 0.57385899 | K29: =qPCR_Summary!J27 -> 0.6339589 | L29: 5 | M29: a
A30: Gh_GH3.17 | B30: Hormonal regulation | C30: 0 | D30: Rizokom-1 | E30: Ravnaq-1 | F30: 35 | G30: =qPCR_Summary!F35 -> 0.52588789 | H30: =qPCR_Summary!G35 -> 0.025546226 | I30: =qPCR_Summary!H35 -> 0.01142462 | J30: =qPCR_Summary!I35 -> 0.49416806 | K30: =qPCR_Summary!J35 -> 0.55760771 | L30: 5 | M30: b
A31: Gh_GH3.17 | B31: Hormonal regulation | C31: 0 | D31: Rizokom-1 | E31: Porloq-1 | F31: 43 | G31: =qPCR_Summary!F43 -> 0.43275355 | H31: =qPCR_Summary!G43 -> 0.027249809 | I31: =qPCR_Summary!H43 -> 0.012186485 | J31: =qPCR_Summary!I43 -> 0.39891844 | K31: =qPCR_Summary!J43 -> 0.46658866 | L31: 5 | M31: c d
A32: Gh_GH3.17 | B32: Hormonal regulation | C32: 0 | D32: Mikrozim-1 | E32: Ishonch | F32: 28 | G32: =qPCR_Summary!F28 -> 0.46428935 | H32: =qPCR_Summary!G28 -> 0.036971144 | I32: =qPCR_Summary!H28 -> 0.016533998 | J32: =qPCR_Summary!I28 -> 0.41838362 | K32: =qPCR_Summary!J28 -> 0.51019509 | L32: 5 | M32: c
A33: Gh_GH3.17 | B33: Hormonal regulation | C33: 0 | D33: Mikrozim-1 | E33: Ravnaq-1 | F33: 36 | G33: =qPCR_Summary!F36 -> 0.40032261 | H33: =qPCR_Summary!G36 -> 0.027869318 | I33: =qPCR_Summary!H36 -> 0.012463538 | J33: =qPCR_Summary!I36 -> 0.36571828 | K33: =qPCR_Summary!J36 -> 0.43492693 | L33: 5 | M33: d
A34: Gh_GH3.17 | B34: Hormonal regulation | C34: 0 | D34: Mikrozim-1 | E34: Porloq-1 | F34: 44 | G34: =qPCR_Summary!F44 -> 0.31009611 | H34: =qPCR_Summary!G44 -> 0.029667967 | I34: =qPCR_Summary!H44 -> 0.013267918 | J34: =qPCR_Summary!I44 -> 0.27325846 | K34: =qPCR_Summary!J44 -> 0.34693376 | L34: 5 | M34: e
A35: Gh_GH3.17 | B35: Hormonal regulation | C35: 0 | D35: Serhosil | E35: Ishonch | F35: 29 | G35: =qPCR_Summary!F29 -> 0.33318741 | H35: =qPCR_Summary!G29 -> 0.029196881 | I35: =qPCR_Summary!H29 -> 0.013057242 | J35: =qPCR_Summary!I29 -> 0.29693469 | K35: =qPCR_Summary!J29 -> 0.36944013 | L35: 5 | M35: e
A36: Gh_GH3.17 | B36: Hormonal regulation | C36: 0 | D36: Serhosil | E36: Ravnaq-1 | F36: 37 | G36: =qPCR_Summary!F37 -> 0.27475078 | H36: =qPCR_Summary!G37 -> 0.030403811 | I36: =qPCR_Summary!H37 -> 0.013596998 | J36: =qPCR_Summary!I37 -> 0.23699947 | K36: =qPCR_Summary!J37 -> 0.3125021 | L36: 5 | M36: e f
A37: Gh_GH3.17 | B37: Hormonal regulation | C37: 0 | D37: Serhosil | E37: Porloq-1 | F37: 45 | G37: =qPCR_Summary!F45 -> 0.22623444 | H37: =qPCR_Summary!G45 -> 0.031443672 | I37: =qPCR_Summary!H45 -> 0.014062038 | J37: =qPCR_Summary!I45 -> 0.18719196 | K37: =qPCR_Summary!J45 -> 0.26527691 | L37: 5 | M37: f
A38: Gh_GH3.17 | B38: Hormonal regulation | C38: 150 | D38: Control | E38: Ishonch | F38: 30 | G38: =qPCR_Summary!F30 -> -1.6911638 | H38: =qPCR_Summary!G30 -> 0.073684346 | I38: =qPCR_Summary!H30 -> 0.032952641 | J38: =qPCR_Summary!I30 -> -1.782655 | K38: =qPCR_Summary!J30 -> -1.5996726 | L38: 5 | M38: i
A39: Gh_GH3.17 | B39: Hormonal regulation | C39: 150 | D39: Control | E39: Ravnaq-1 | F39: 38 | G39: =qPCR_Summary!F38 -> -0.16859653 | H39: =qPCR_Summary!G38 -> 0.041342159 | I39: =qPCR_Summary!H38 -> 0.018488776 | J39: =qPCR_Summary!I38 -> -0.2199296 | K39: =qPCR_Summary!J38 -> -0.11726346 | L39: 5 | M39: f
A40: Gh_GH3.17 | B40: Hormonal regulation | C40: 150 | D40: Control | E40: Porloq-1 | F40: 46 | G40: =qPCR_Summary!F46 -> 0.34459588 | H40: =qPCR_Summary!G46 -> 0.028966905 | I40: =qPCR_Summary!H46 -> 0.012954394 | J40: =qPCR_Summary!I46 -> 0.30862872 | K40: =qPCR_Summary!J46 -> 0.38056304 | L40: 5 | M40: c
...

Sheet qPCR_Figure4A_data
A1: Gene | B1: Module | C1: NaCl, mM | D1: Treatment | E1: Genotype | F1: Summary_row | G1: Mean_log2_FC | H1: SD_log2_FC | I1: SE_log2_FC | J1: CI95_low | K1: CI95_high | L1: n | M1: Tukey_letters
A2: Gh_SOD | B2: Antioxidant defense | C2: 0 | D2: Control | E2: Ishonch | F2: 98 | G2: =qPCR_Summary!F98 -> -0.00014429404 | H2: =qPCR_Summary!G98 -> 0.022813997 | I2: =qPCR_Summary!H98 -> 0.010202729 | J2: =qPCR_Summary!I98 -> -0.028471612 | K2: =qPCR_Summary!J98 -> 0.028183024 | L2: 5 | M2: g
A3: Gh_SOD | B3: Antioxidant defense | C3: 0 | D3: Control | E3: Ravnaq-1 | F3: 106 | G3: =qPCR_Summary!F106 -> -0.00037524073 | H3: =qPCR_Summary!G106 -> 0.036791844 | I3: =qPCR_Summary!H106 -> 0.016453813 | J3: =qPCR_Summary!I106 -> -0.046058349 | K3: =qPCR_Summary!J106 -> 0.045307868 | L3: 5 | M3: g
A4: Gh_SOD | B4: Antioxidant defense | C4: 0 | D4: Control | E4: Porloq-1 | F4: 114 | G4: =qPCR_Summary!F114 -> -0.00037524073 | H4: =qPCR_Summary!G114 -> 0.036791844 | I4: =qPCR_Summary!H114 -> 0.016453813 | J4: =qPCR_Summary!I114 -> -0.046058349 | K4: =qPCR_Summary!J114 -> 0.045307868 | L4: 5 | M4: g
A5: Gh_SOD | B5: Antioxidant defense | C5: 0 | D5: Rizokom-1 | E5: Ishonch | F5: 99 | G5: =qPCR_Summary!F99 -> 1.0702257 | H5: =qPCR_Summary!G99 -> 0.024291749 | I5: =qPCR_Summary!H99 -> 0.010863601 | J5: =qPCR_Summary!I99 -> 1.0400635 | K5: =qPCR_Summary!J99 -> 1.1003879 | L5: 5 | M5: a
A6: Gh_SOD | B6: Antioxidant defense | C6: 0 | D6: Rizokom-1 | E6: Ravnaq-1 | F6: 107 | G6: =qPCR_Summary!F107 -> 0.91805495 | H6: =qPCR_Summary!G107 -> 0.034568816 | I6: =qPCR_Summary!H107 -> 0.015459645 | J6: =qPCR_Summary!I107 -> 0.8751321 | K6: =qPCR_Summary!J107 -> 0.96097781 | L6: 5 | M6: b
A7: Gh_SOD | B7: Antioxidant defense | C7: 0 | D7: Rizokom-1 | E7: Porloq-1 | F7: 115 | G7: =qPCR_Summary!F115 -> 0.64092911 | H7: =qPCR_Summary!G115 -> 0.04717745 | I7: =qPCR_Summary!H115 -> 0.021098397 | J7: =qPCR_Summary!I115 -> 0.58235057 | K7: =qPCR_Summary!J115 -> 0.69950766 | L7: 5 | M7: d
A8: Gh_SOD | B8: Antioxidant defense | C8: 0 | D8: Mikrozim-1 | E8: Ishonch | F8: 100 | G8: =qPCR_Summary!F100 -> 0.83164952 | H8: =qPCR_Summary!G100 -> 0.028660061 | I8: =qPCR_Summary!H100 -> 0.012817169 | J8: =qPCR_Summary!I100 -> 0.79606336 | K8: =qPCR_Summary!J100 -> 0.86723569 | L8: 5 | M8: c
A9: Gh_SOD | B9: Antioxidant defense | C9: 0 | D9: Mikrozim-1 | E9: Ravnaq-1 | F9: 108 | G9: =qPCR_Summary!F108 -> 0.71342755 | H9: =qPCR_Summary!G108 -> 0.031107513 | I9: =qPCR_Summary!H108 -> 0.013911703 | J9: =qPCR_Summary!I108 -> 0.67480247 | K9: =qPCR_Summary!J108 -> 0.75205263 | L9: 5 | M9: d
A10: Gh_SOD | B10: Antioxidant defense | C10: 0 | D10: Mikrozim-1 | E10: Porloq-1 | F10: 116 | G10: =qPCR_Summary!F116 -> 0.50560464 | H10: =qPCR_Summary!G116 -> 0.032136528 | I10: =qPCR_Summary!H116 -> 0.014371892 | J10: =qPCR_Summary!I116 -> 0.46570187 | K10: =qPCR_Summary!J116 -> 0.54550741 | L10: 5 | M10: e
A11: Gh_SOD | B11: Antioxidant defense | C11: 0 | D11: Serhosil | E11: Ishonch | F11: 101 | G11: =qPCR_Summary!F101 -> 0.69571888 | H11: =qPCR_Summary!G101 -> 0.0314917 | I11: =qPCR_Summary!H101 -> 0.014083516 | J11: =qPCR_Summary!I101 -> 0.65661677 | K11: =qPCR_Summary!J101 -> 0.73482099 | L11: 5 | M11: d
A12: Gh_SOD | B12: Antioxidant defense | C12: 0 | D12: Serhosil | E12: Ravnaq-1 | F12: 109 | G12: =qPCR_Summary!F109 -> 0.55536194 | H12: =qPCR_Summary!G109 -> 0.040479846 | I12: =qPCR_Summary!H109 -> 0.018103138 | J12: =qPCR_Summary!I109 -> 0.50509958 | K12: =qPCR_Summary!J109 -> 0.60562431 | L12: 5 | M12: e
A13: Gh_SOD | B13: Antioxidant defense | C13: 0 | D13: Serhosil | E13: Porloq-1 | F13: 117 | G13: =qPCR_Summary!F117 -> 0.37817002 | H13: =qPCR_Summary!G117 -> 0.035104738 | I13: =qPCR_Summary!H117 -> 0.015699316 | J13: =qPCR_Summary!I117 -> 0.33458173 | K13: =qPCR_Summary!J117 -> 0.42175831 | L13: 5 | M13: f
A14: Gh_SOD | B14: Antioxidant defense | C14: 150 | D14: Control | E14: Ishonch | F14: 102 | G14: =qPCR_Summary!F102 -> -0.64456134 | H14: =qPCR_Summary!G102 -> 0.050445843 | I14: =qPCR_Summary!H102 -> 0.022560067 | J14: =qPCR_Summary!I102 -> -0.70719812 | K14: =qPCR_Summary!J102 -> -0.58192455 | L14: 5 | M14: i
A15: Gh_SOD | B15: Antioxidant defense | C15: 150 | D15: Control | E15: Ravnaq-1 | F15: 110 | G15: =qPCR_Summary!F110 -> 0.64134441 | H15: =qPCR_Summary!G110 -> 0.026969191 | I15: =qPCR_Summary!H110 -> 0.012060989 | J15: =qPCR_Summary!I110 -> 0.60785773 | K15: =qPCR_Summary!J110 -> 0.67483108 | L15: 5 | M15: e
A16: Gh_SOD | B16: Antioxidant defense | C16: 150 | D16: Control | E16: Porloq-1 | F16: 118 | G16: =qPCR_Summary!F118 -> 0.97046294 | H16: =qPCR_Summary!G118 -> 0.037543127 | I16: =qPCR_Summary!H118 -> 0.016789797 | J16: =qPCR_Summary!I118 -> 0.92384699 | K16: =qPCR_Summary!J118 -> 1.0170789 | L16: 5 | M16: d
A17: Gh_SOD | B17: Antioxidant defense | C17: 150 | D17: Rizokom-1 | E17: Ishonch | F17: 103 | G17: =qPCR_Summary!F103 -> 0.12401232 | H17: =qPCR_Summary!G103 -> 0.033752504 | I17: =qPCR_Summary!H103 -> 0.015094579 | J17: =qPCR_Summary!I103 -> 0.082103052 | K17: =qPCR_Summary!J103 -> 0.16592159 | L17: 5 | M17: f
A18: Gh_SOD | B18: Antioxidant defense | C18: 150 | D18: Rizokom-1 | E18: Ravnaq-1 | F18: 111 | G18: =qPCR_Summary!F111 -> 1.321688 | H18: =qPCR_Summary!G111 -> 0.029430539 | I18: =qPCR_Summary!H111 -> 0.013161737 | J18: =qPCR_Summary!I111 -> 1.2851451 | K18: =qPCR_Summary!J111 -> 1.3582308 | L18: 5 | M18: a
A19: Gh_SOD | B19: Antioxidant defense | C19: 150 | D19: Rizokom-1 | E19: Porloq-1 | F19: 119 | G19: =qPCR_Summary!F119 -> 1.3728058 | H19: =qPCR_Summary!G119 -> 0.022969411 | I19: =qPCR_Summary!H119 -> 0.010272233 | J19: =qPCR_Summary!I119 -> 1.3442855 | K19: =qPCR_Summary!J119 -> 1.4013261 | L19: 5 | M19: a
A20: Gh_SOD | B20: Antioxidant defense | C20: 150 | D20: Mikrozim-1 | E20: Ishonch | F20: 104 | G20: =qPCR_Summary!F104 -> -0.014882432 | H20: =qPCR_Summary!G104 -> 0.037163688 | I20: =qPCR_Summary!H104 -> 0.016620107 | J20: =qPCR_Summary!I104 -> -0.061027246 | K20: =qPCR_Summary!J104 -> 0.031262381 | L20: 5 | M20: g
A21: Gh_SOD | B21: Antioxidant defense | C21: 150 | D21: Mikrozim-1 | E21: Ravnaq-1 | F21: 112 | G21: =qPCR_Summary!F112 -> 1.2014975 | H21: =qPCR_Summary!G112 -> 0.022179011 | I21: =qPCR_Summary!H112 -> 0.0099187552 | J21: =qPCR_Summary!I112 -> 1.1739586 | K21: =qPCR_Summary!J112 -> 1.2290364 | L21: 5 | M21: b
A22: Gh_SOD | B22: Antioxidant defense | C22: 150 | D22: Mikrozim-1 | E22: Porloq-1 | F22: 120 | G22: =qPCR_Summary!F120 -> 1.2201492 | H22: =qPCR_Summary!G120 -> 0.025533222 | I22: =qPCR_Summary!H120 -> 0.011418804 | J22: =qPCR_Summary!I120 -> 1.1884455 | K22: =qPCR_Summary!J120 -> 1.2518529 | L22: 5 | M22: b
A23: Gh_SOD | B23: Antioxidant defense | C23: 150 | D23: Serhosil | E23: Ishonch | F23: 105 | G23: =qPCR_Summary!F105 -> -0.18490918 | H23: =qPCR_Summary!G105 -> 0.041812291 | I23: =qPCR_Summary!H105 -> 0.018699025 | J23: =qPCR_Summary!I105 -> -0.236826 | K23: =qPCR_Summary!J105 -> -0.13299236 | L23: 5 | M23: h
A24: Gh_SOD | B24: Antioxidant defense | C24: 150 | D24: Serhosil | E24: Ravnaq-1 | F24: 113 | G24: =qPCR_Summary!F113 -> 1.0070169 | H24: =qPCR_Summary!G113 -> 0.025379699 | I24: =qPCR_Summary!H113 -> 0.011350147 | J24: =qPCR_Summary!I113 -> 0.97550387 | K24: =qPCR_Summary!J113 -> 1.03853 | L24: 5 | M24: c d
A25: Gh_SOD | B25: Antioxidant defense | C25: 150 | D25: Serhosil | E25: Porloq-1 | F25: 121 | G25: =qPCR_Summary!F121 -> 1.070121 | H25: =qPCR_Summary!G121 -> 0.031110643 | I25: =qPCR_Summary!H121 -> 0.013913103 | J25: =qPCR_Summary!I121 -> 1.031492 | K25: =qPCR_Summary!J121 -> 1.10875 | L25: 5 | M25: c
A26: Gh_CAT1 | B26: Antioxidant defense | C26: 0 | D26: Control | E26: Ishonch | F26: 146 | G26: =qPCR_Summary!F146 -> -0.00028865738 | H26: =qPCR_Summary!G146 -> 0.032270159 | I26: =qPCR_Summary!H146 -> 0.014431654 | J26: =qPCR_Summary!I146 -> -0.040357352 | K26: =qPCR_Summary!J146 -> 0.039780037 | L26: 5 | M26: f
A27: Gh_CAT1 | B27: Antioxidant defense | C27: 0 | D27: Control | E27: Ravnaq-1 | F27: 154 | G27: =qPCR_Summary!F154 -> -0.00014429404 | H27: =qPCR_Summary!G154 -> 0.022813997 | I27: =qPCR_Summary!H154 -> 0.010202729 | J27: =qPCR_Summary!I154 -> -0.028471612 | K27: =qPCR_Summary!J154 -> 0.028183024 | L27: 5 | M27: f
A28: Gh_CAT1 | B28: Antioxidant defense | C28: 0 | D28: Control | E28: Porloq-1 | F28: 162 | G28: =qPCR_Summary!F162 -> -0.00014429404 | H28: =qPCR_Summary!G162 -> 0.022813997 | I28: =qPCR_Summary!H162 -> 0.010202729 | J28: =qPCR_Summary!I162 -> -0.028471612 | K28: =qPCR_Summary!J162 -> 0.028183024 | L28: 5 | M28: f
A29: Gh_CAT1 | B29: Antioxidant defense | C29: 0 | D29: Rizokom-1 | E29: Ishonch | F29: 147 | G29: =qPCR_Summary!F147 -> 0.83959025 | H29: =qPCR_Summary!G147 -> 0.036500951 | I29: =qPCR_Summary!H147 -> 0.016323721 | J29: =qPCR_Summary!I147 -> 0.79426833 | K29: =qPCR_Summary!J147 -> 0.88491216 | L29: 5 | M29: a
A30: Gh_CAT1 | B30: Antioxidant defense | C30: 0 | D30: Rizokom-1 | E30: Ravnaq-1 | F30: 155 | G30: =qPCR_Summary!F155 -> 0.77386803 | H30: =qPCR_Summary!G155 -> 0.021511775 | I30: =qPCR_Summary!H155 -> 0.0096203583 | J30: =qPCR_Summary!I155 -> 0.74715763 | K30: =qPCR_Summary!J155 -> 0.80057843 | L30: 5 | M30: a b
A31: Gh_CAT1 | B31: Antioxidant defense | C31: 0 | D31: Rizokom-1 | E31: Porloq-1 | F31: 163 | G31: =qPCR_Summary!F163 -> 0.65036639 | H31: =qPCR_Summary!G163 -> 0.037899819 | I31: =qPCR_Summary!H163 -> 0.016949315 | J31: =qPCR_Summary!I163 -> 0.60330755 | K31: =qPCR_Summary!J163 -> 0.69742523 | L31: 5 | M31: c
A32: Gh_CAT1 | B32: Antioxidant defense | C32: 0 | D32: Mikrozim-1 | E32: Ishonch | F32: 148 | G32: =qPCR_Summary!F148 -> 0.74804192 | H32: =qPCR_Summary!G148 -> 0.038892175 | I32: =qPCR_Summary!H148 -> 0.017393109 | J32: =qPCR_Summary!I148 -> 0.69975091 | K32: =qPCR_Summary!J148 -> 0.79633294 | L32: 5 | M32: b
A33: Gh_CAT1 | B33: Antioxidant defense | C33: 0 | D33: Mikrozim-1 | E33: Ravnaq-1 | F33: 156 | G33: =qPCR_Summary!F156 -> 0.66874136 | H33: =qPCR_Summary!G156 -> 0.032086113 | I33: =qPCR_Summary!H156 -> 0.014349346 | J33: =qPCR_Summary!I156 -> 0.62890119 | K33: =qPCR_Summary!J156 -> 0.70858153 | L33: 5 | M33: c
A34: Gh_CAT1 | B34: Antioxidant defense | C34: 0 | D34: Mikrozim-1 | E34: Porloq-1 | F34: 164 | G34: =qPCR_Summary!F164 -> 0.52549801 | H34: =qPCR_Summary!G164 -> 0.045378735 | I34: =qPCR_Summary!H164 -> 0.020293987 | J34: =qPCR_Summary!I164 -> 0.46915286 | K34: =qPCR_Summary!J164 -> 0.58184315 | L34: 5 | M34: d
A35: Gh_CAT1 | B35: Antioxidant defense | C35: 0 | D35: Serhosil | E35: Ishonch | F35: 149 | G35: =qPCR_Summary!F149 -> 0.6410597 | H35: =qPCR_Summary!G149 -> 0.041885731 | I35: =qPCR_Summary!H149 -> 0.018731868 | J35: =qPCR_Summary!I149 -> 0.58905169 | K35: =qPCR_Summary!J149 -> 0.6930677 | L35: 5 | M35: c
A36: Gh_CAT1 | B36: Antioxidant defense | C36: 0 | D36: Serhosil | E36: Ravnaq-1 | F36: 157 | G36: =qPCR_Summary!F157 -> 0.55554902 | H36: =qPCR_Summary!G157 -> 0.031042909 | I36: =qPCR_Summary!H157 -> 0.013882811 | J36: =qPCR_Summary!I157 -> 0.51700415 | K36: =qPCR_Summary!J157 -> 0.59409388 | L36: 5 | M36: d
A37: Gh_CAT1 | B37: Antioxidant defense | C37: 0 | D37: Serhosil | E37: Porloq-1 | F37: 165 | G37: =qPCR_Summary!F165 -> 0.332696 | H37: =qPCR_Summary!G165 -> 0.051247878 | I37: =qPCR_Summary!H165 -> 0.022918748 | J37: =qPCR_Summary!I165 -> 0.26906336 | K37: =qPCR_Summary!J165 -> 0.39632864 | L37: 5 | M37: e
A38: Gh_CAT1 | B38: Antioxidant defense | C38: 150 | D38: Control | E38: Ishonch | F38: 150 | G38: =qPCR_Summary!F150 -> -1.030711 | H38: =qPCR_Summary!G150 -> 0.07515138 | I38: =qPCR_Summary!H150 -> 0.033608719 | J38: =qPCR_Summary!I150 -> -1.1240238 | K38: =qPCR_Summary!J150 -> -0.93739828 | L38: 5 | M38: g
A39: Gh_CAT1 | B39: Antioxidant defense | C39: 150 | D39: Control | E39: Ravnaq-1 | F39: 158 | G39: =qPCR_Summary!F158 -> 0.36665971 | H39: =qPCR_Summary!G158 -> 0.050660026 | I39: =qPCR_Summary!H158 -> 0.022655852 | J39: =qPCR_Summary!I158 -> 0.30375698 | K39: =qPCR_Summary!J158 -> 0.42956244 | L39: 5 | M39: d
A40: Gh_CAT1 | B40: Antioxidant defense | C40: 150 | D40: Control | E40: Porloq-1 | F40: 166 | G40: =qPCR_Summary!F166 -> 0.46415285 | H40: =qPCR_Summary!G166 -> 0.043121939 | I40: =qPCR_Summary!H166 -> 0.019284718 | J40: =qPCR_Summary!I166 -> 0.41060989 | K40: =qPCR_Summary!J166 -> 0.51769581 | L40: 5 | M40: d
...

Sheet qPCR_Figure4B_data
A1: Gene | B1: Module | C1: NaCl, mM | D1: Treatment | E1: Genotype | F1: Summary_row | G1: Mean_log2_FC | H1: SD_log2_FC | I1: SE_log2_FC | J1: CI95_low | K1: CI95_high | L1: n | M1: Tukey_letters
A2: Gh_P5CS | B2: Metabolic/osmoprotective | C2: 0 | D2: Control | E2: Ishonch | F2: 242 | G2: =qPCR_Summary!F242 -> -0.00014429404 | H2: =qPCR_Summary!G242 -> 0.022813997 | I2: =qPCR_Summary!H242 -> 0.010202729 | J2: =qPCR_Summary!I242 -> -0.028471612 | K2: =qPCR_Summary!J242 -> 0.028183024 | L2: 5 | M2: h
A3: Gh_P5CS | B3: Metabolic/osmoprotective | C3: 0 | D3: Control | E3: Ravnaq-1 | F3: 250 | G3: =qPCR_Summary!F250 -> -0.00014429404 | H3: =qPCR_Summary!G250 -> 0.022813997 | I3: =qPCR_Summary!H250 -> 0.010202729 | J3: =qPCR_Summary!I250 -> -0.028471612 | K3: =qPCR_Summary!J250 -> 0.028183024 | L3: 5 | M3: h
A4: Gh_P5CS | B4: Metabolic/osmoprotective | C4: 0 | D4: Control | E4: Porloq-1 | F4: 258 | G4: =qPCR_Summary!F258 -> -0.00014429404 | H4: =qPCR_Summary!G258 -> 0.022813997 | I4: =qPCR_Summary!H258 -> 0.010202729 | J4: =qPCR_Summary!I258 -> -0.028471612 | K4: =qPCR_Summary!J258 -> 0.028183024 | L4: 5 | M4: h
A5: Gh_P5CS | B5: Metabolic/osmoprotective | C5: 0 | D5: Rizokom-1 | E5: Ishonch | F5: 243 | G5: =qPCR_Summary!F243 -> 1.2076116 | H5: =qPCR_Summary!G243 -> 0.0318522 | I5: =qPCR_Summary!H243 -> 0.014244737 | J5: =qPCR_Summary!I243 -> 1.1680619 | K5: =qPCR_Summary!J243 -> 1.2471613 | L5: 5 | M5: a
A6: Gh_P5CS | B6: Metabolic/osmoprotective | C6: 0 | D6: Rizokom-1 | E6: Ravnaq-1 | F6: 251 | G6: =qPCR_Summary!F251 -> 0.89479363 | H6: =qPCR_Summary!G251 -> 0.04285036 | I6: =qPCR_Summary!H251 -> 0.019163264 | J6: =qPCR_Summary!I251 -> 0.84158789 | K6: =qPCR_Summary!J251 -> 0.94799938 | L6: 5 | M6: c
A7: Gh_P5CS | B7: Metabolic/osmoprotective | C7: 0 | D7: Rizokom-1 | E7: Porloq-1 | F7: 259 | G7: =qPCR_Summary!F259 -> 0.73063845 | H7: =qPCR_Summary!G259 -> 0.044333073 | I7: =qPCR_Summary!H259 -> 0.019826353 | J7: =qPCR_Summary!I259 -> 0.67559167 | K7: =qPCR_Summary!J259 -> 0.78568524 | L7: 5 | M7: d
A8: Gh_P5CS | B8: Metabolic/osmoprotective | C8: 0 | D8: Mikrozim-1 | E8: Ishonch | F8: 244 | G8: =qPCR_Summary!F244 -> 1.0699049 | H8: =qPCR_Summary!G244 -> 0.041802698 | I8: =qPCR_Summary!H244 -> 0.018694735 | J8: =qPCR_Summary!I244 -> 1.018 | K8: =qPCR_Summary!J244 -> 1.1218098 | L8: 5 | M8: b
A9: Gh_P5CS | B9: Metabolic/osmoprotective | C9: 0 | D9: Mikrozim-1 | E9: Ravnaq-1 | F9: 252 | G9: =qPCR_Summary!F252 -> 0.75660889 | H9: =qPCR_Summary!G252 -> 0.038661918 | I9: =qPCR_Summary!H252 -> 0.017290135 | J9: =qPCR_Summary!I252 -> 0.70860377 | K9: =qPCR_Summary!J252 -> 0.804614 | L9: 5 | M9: d
A10: Gh_P5CS | B10: Metabolic/osmoprotective | C10: 0 | D10: Mikrozim-1 | E10: Porloq-1 | F10: 260 | G10: =qPCR_Summary!F260 -> 0.53521513 | H10: =qPCR_Summary!G260 -> 0.054978357 | I10: =qPCR_Summary!H260 -> 0.024587069 | J10: =qPCR_Summary!I260 -> 0.46695049 | K10: =qPCR_Summary!J260 -> 0.60347978 | L10: 5 | M10: e
A11: Gh_P5CS | B11: Metabolic/osmoprotective | C11: 0 | D11: Serhosil | E11: Ishonch | F11: 245 | G11: =qPCR_Summary!F245 -> 0.60355905 | H11: =qPCR_Summary!G245 -> 0.042988722 | I11: =qPCR_Summary!H245 -> 0.019225141 | J11: =qPCR_Summary!I245 -> 0.5501815 | K11: =qPCR_Summary!J245 -> 0.6569366 | L11: 5 | M11: e
A12: Gh_P5CS | B12: Metabolic/osmoprotective | C12: 0 | D12: Serhosil | E12: Ravnaq-1 | F12: 253 | G12: =qPCR_Summary!F253 -> 0.40012377 | H12: =qPCR_Summary!G253 -> 0.038652581 | I12: =qPCR_Summary!H253 -> 0.01728596 | J12: =qPCR_Summary!I253 -> 0.35213025 | K12: =qPCR_Summary!J253 -> 0.44811729 | L12: 5 | M12: f
A13: Gh_P5CS | B13: Metabolic/osmoprotective | C13: 0 | D13: Serhosil | E13: Porloq-1 | F13: 261 | G13: =qPCR_Summary!F261 -> 0.25012554 | H13: =qPCR_Summary!G261 -> 0.054921684 | I13: =qPCR_Summary!H261 -> 0.024561724 | J13: =qPCR_Summary!I261 -> 0.18193126 | K13: =qPCR_Summary!J261 -> 0.31831982 | L13: 5 | M13: g
A14: Gh_P5CS | B14: Metabolic/osmoprotective | C14: 150 | D14: Control | E14: Ishonch | F14: 246 | G14: =qPCR_Summary!F246 -> -0.6447728 | H14: =qPCR_Summary!G246 -> 0.057510244 | I14: =qPCR_Summary!H246 -> 0.025719363 | J14: =qPCR_Summary!I246 -> -0.7161812 | K14: =qPCR_Summary!J246 -> -0.5733644 | L14: 5 | M14: i
A15: Gh_P5CS | B15: Metabolic/osmoprotective | C15: 150 | D15: Control | E15: Ravnaq-1 | F15: 254 | G15: =qPCR_Summary!F254 -> 0.87949266 | H15: =qPCR_Summary!G254 -> 0.027725217 | I15: =qPCR_Summary!H254 -> 0.012399094 | J15: =qPCR_Summary!I254 -> 0.84506726 | K15: =qPCR_Summary!J254 -> 0.91391806 | L15: 5 | M15: e
A16: Gh_P5CS | B16: Metabolic/osmoprotective | C16: 150 | D16: Control | E16: Porloq-1 | F16: 262 | G16: =qPCR_Summary!F262 -> 1.0142634 | H16: =qPCR_Summary!G262 -> 0.018209974 | I16: =qPCR_Summary!H262 -> 0.0081437481 | J16: =qPCR_Summary!I262 -> 0.99165269 | K16: =qPCR_Summary!J262 -> 1.036874 | L16: 5 | M16: d
A17: Gh_P5CS | B17: Metabolic/osmoprotective | C17: 150 | D17: Rizokom-1 | E17: Ishonch | F17: 247 | G17: =qPCR_Summary!F247 -> 0.4949399 | H17: =qPCR_Summary!G247 -> 0.05220166 | I17: =qPCR_Summary!H247 -> 0.023345292 | J17: =qPCR_Summary!I247 -> 0.43012298 | K17: =qPCR_Summary!J247 -> 0.55975683 | L17: 5 | M17: f
A18: Gh_P5CS | B18: Metabolic/osmoprotective | C18: 150 | D18: Rizokom-1 | E18: Ravnaq-1 | F18: 255 | G18: =qPCR_Summary!F255 -> 1.6551046 | H18: =qPCR_Summary!G255 -> 0.029862565 | I18: =qPCR_Summary!H255 -> 0.013354945 | J18: =qPCR_Summary!I255 -> 1.6180253 | K18: =qPCR_Summary!J255 -> 1.6921839 | L18: 5 | M18: a
A19: Gh_P5CS | B19: Metabolic/osmoprotective | C19: 150 | D19: Rizokom-1 | E19: Porloq-1 | F19: 263 | G19: =qPCR_Summary!F263 -> 1.6733154 | H19: =qPCR_Summary!G263 -> 0.029487997 | I19: =qPCR_Summary!H263 -> 0.013187433 | J19: =qPCR_Summary!I263 -> 1.6367012 | K19: =qPCR_Summary!J263 -> 1.7099295 | L19: 5 | M19: a
A20: Gh_P5CS | B20: Metabolic/osmoprotective | C20: 150 | D20: Mikrozim-1 | E20: Ishonch | F20: 248 | G20: =qPCR_Summary!F248 -> 0.39997456 | H20: =qPCR_Summary!G248 -> 0.04508375 | I20: =qPCR_Summary!H248 -> 0.020162066 | J20: =qPCR_Summary!I248 -> 0.34399569 | K20: =qPCR_Summary!J248 -> 0.45595343 | L20: 5 | M20: g
A21: Gh_P5CS | B21: Metabolic/osmoprotective | C21: 150 | D21: Mikrozim-1 | E21: Ravnaq-1 | F21: 256 | G21: =qPCR_Summary!F256 -> 1.5004957 | H21: =qPCR_Summary!G256 -> 0.033240507 | I21: =qPCR_Summary!H256 -> 0.014865607 | J21: =qPCR_Summary!I256 -> 1.4592222 | K21: =qPCR_Summary!J256 -> 1.5417693 | L21: 5 | M21: b
A22: Gh_P5CS | B22: Metabolic/osmoprotective | C22: 150 | D22: Mikrozim-1 | E22: Porloq-1 | F22: 264 | G22: =qPCR_Summary!F264 -> 1.5408419 | H22: =qPCR_Summary!G264 -> 0.025282793 | I22: =qPCR_Summary!H264 -> 0.011306809 | J22: =qPCR_Summary!I264 -> 1.5094492 | K22: =qPCR_Summary!J264 -> 1.5722347 | L22: 5 | M22: b
A23: Gh_P5CS | B23: Metabolic/osmoprotective | C23: 150 | D23: Serhosil | E23: Ishonch | F23: 249 | G23: =qPCR_Summary!F249 -> -0.21837241 | H23: =qPCR_Summary!G249 -> 0.053086451 | I23: =qPCR_Summary!H249 -> 0.023740983 | J23: =qPCR_Summary!I249 -> -0.28428795 | K23: =qPCR_Summary!J249 -> -0.15245688 | L23: 5 | M23: h
A24: Gh_P5CS | B24: Metabolic/osmoprotective | C24: 150 | D24: Serhosil | E24: Ravnaq-1 | F24: 257 | G24: =qPCR_Summary!F257 -> 1.1436859 | H24: =qPCR_Summary!G257 -> 0.036060641 | I24: =qPCR_Summary!H257 -> 0.016126809 | J24: =qPCR_Summary!I257 -> 1.0989107 | K24: =qPCR_Summary!J257 -> 1.1884611 | L24: 5 | M24: c
A25: Gh_P5CS | B25: Metabolic/osmoprotective | C25: 150 | D25: Serhosil | E25: Porloq-1 | F25: 265 | G25: =qPCR_Summary!F265 -> 1.1759781 | H25: =qPCR_Summary!G265 -> 0.035262479 | I25: =qPCR_Summary!H265 -> 0.01576986 | J25: =qPCR_Summary!I265 -> 1.1321939 | K25: =qPCR_Summary!J265 -> 1.2197622 | L25: 5 | M25: c
A26: Gh_SPS | B26: Metabolic/osmoprotective | C26: 0 | D26: Control | E26: Ishonch | F26: 266 | G26: =qPCR_Summary!F266 -> -0.00014429404 | H26: =qPCR_Summary!G266 -> 0.022813997 | I26: =qPCR_Summary!H266 -> 0.010202729 | J26: =qPCR_Summary!I266 -> -0.028471612 | K26: =qPCR_Summary!J266 -> 0.028183024 | L26: 5 | M26: h
A27: Gh_SPS | B27: Metabolic/osmoprotective | C27: 0 | D27: Control | E27: Ravnaq-1 | F27: 274 | G27: =qPCR_Summary!F274 -> -0.00014429404 | H27: =qPCR_Summary!G274 -> 0.022813997 | I27: =qPCR_Summary!H274 -> 0.010202729 | J27: =qPCR_Summary!I274 -> -0.028471612 | K27: =qPCR_Summary!J274 -> 0.028183024 | L27: 5 | M27: h
A28: Gh_SPS | B28: Metabolic/osmoprotective | C28: 0 | D28: Control | E28: Porloq-1 | F28: 282 | G28: =qPCR_Summary!F282 -> -0.00014429404 | H28: =qPCR_Summary!G282 -> 0.022813997 | I28: =qPCR_Summary!H282 -> 0.010202729 | J28: =qPCR_Summary!I282 -> -0.028471612 | K28: =qPCR_Summary!J282 -> 0.028183024 | L28: 5 | M28: h
A29: Gh_SPS | B29: Metabolic/osmoprotective | C29: 0 | D29: Rizokom-1 | E29: Ishonch | F29: 267 | G29: =qPCR_Summary!F267 -> 1.3098097 | H29: =qPCR_Summary!G267 -> 0.043741465 | I29: =qPCR_Summary!H267 -> 0.019561778 | J29: =qPCR_Summary!I267 -> 1.2554975 | K29: =qPCR_Summary!J267 -> 1.3641219 | L29: 5 | M29: a
A30: Gh_SPS | B30: Metabolic/osmoprotective | C30: 0 | D30: Rizokom-1 | E30: Ravnaq-1 | F30: 275 | G30: =qPCR_Summary!F275 -> 0.97764516 | H30: =qPCR_Summary!G275 -> 0.044563326 | I30: =qPCR_Summary!H275 -> 0.019929325 | J30: =qPCR_Summary!I275 -> 0.92231248 | K30: =qPCR_Summary!J275 -> 1.0329778 | L30: 5 | M30: c
A31: Gh_SPS | B31: Metabolic/osmoprotective | C31: 0 | D31: Rizokom-1 | E31: Porloq-1 | F31: 283 | G31: =qPCR_Summary!F283 -> 0.74730484 | H31: =qPCR_Summary!G283 -> 0.064596401 | I31: =qPCR_Summary!H283 -> 0.028888389 | J31: =qPCR_Summary!I283 -> 0.66709781 | K31: =qPCR_Summary!J283 -> 0.82751186 | L31: 5 | M31: d
A32: Gh_SPS | B32: Metabolic/osmoprotective | C32: 0 | D32: Mikrozim-1 | E32: Ishonch | F32: 268 | G32: =qPCR_Summary!F268 -> 1.1631478 | H32: =qPCR_Summary!G268 -> 0.035577465 | I32: =qPCR_Summary!H268 -> 0.015910726 | J32: =qPCR_Summary!I268 -> 1.1189726 | K32: =qPCR_Summary!J268 -> 1.2073231 | L32: 5 | M32: b
A33: Gh_SPS | B33: Metabolic/osmoprotective | C33: 0 | D33: Mikrozim-1 | E33: Ravnaq-1 | F33: 276 | G33: =qPCR_Summary!F276 -> 0.83132145 | H33: =qPCR_Summary!G276 -> 0.044777574 | I33: =qPCR_Summary!H276 -> 0.02002514 | J33: =qPCR_Summary!I276 -> 0.77572275 | K33: =qPCR_Summary!J276 -> 0.88692015 | L33: 5 | M33: d
A34: Gh_SPS | B34: Metabolic/osmoprotective | C34: 0 | D34: Mikrozim-1 | E34: Porloq-1 | F34: 284 | G34: =qPCR_Summary!F284 -> 0.59402946 | H34: =qPCR_Summary!G284 -> 0.04327361 | I34: =qPCR_Summary!H284 -> 0.019352547 | J34: =qPCR_Summary!I284 -> 0.54029818 | K34: =qPCR_Summary!J284 -> 0.64776075 | L34: 5 | M34: e
A35: Gh_SPS | B35: Metabolic/osmoprotective | C35: 0 | D35: Serhosil | E35: Ishonch | F35: 269 | G35: =qPCR_Summary!F269 -> 0.44265424 | H35: =qPCR_Summary!G269 -> 0.058620977 | I35: =qPCR_Summary!H269 -> 0.026216098 | J35: =qPCR_Summary!I269 -> 0.36986668 | K35: =qPCR_Summary!J269 -> 0.51544179 | L35: 5 | M35: f
A36: Gh_SPS | B36: Metabolic/osmoprotective | C36: 0 | D36: Serhosil | E36: Ravnaq-1 | F36: 277 | G36: =qPCR_Summary!F277 -> 0.38914631 | H36: =qPCR_Summary!G277 -> 0.038947808 | I36: =qPCR_Summary!H277 -> 0.017417989 | J36: =qPCR_Summary!I277 -> 0.34078621 | K36: =qPCR_Summary!J277 -> 0.4375064 | L36: 5 | M36: f
A37: Gh_SPS | B37: Metabolic/osmoprotective | C37: 0 | D37: Serhosil | E37: Porloq-1 | F37: 285 | G37: =qPCR_Summary!F285 -> 0.27451413 | H37: =qPCR_Summary!G285 -> 0.042168721 | I37: =qPCR_Summary!H285 -> 0.018858425 | J37: =qPCR_Summary!I285 -> 0.22215475 | K37: =qPCR_Summary!J285 -> 0.32687351 | L37: 5 | M37: g
A38: Gh_SPS | B38: Metabolic/osmoprotective | C38: 150 | D38: Control | E38: Ishonch | F38: 270 | G38: =qPCR_Summary!F270 -> -0.76229186 | H38: =qPCR_Summary!G270 -> 0.062391462 | I38: =qPCR_Summary!H270 -> 0.02790231 | J38: =qPCR_Summary!I270 -> -0.8397611 | K38: =qPCR_Summary!J270 -> -0.68482263 | L38: 5 | M38: h
A39: Gh_SPS | B39: Metabolic/osmoprotective | C39: 150 | D39: Control | E39: Ravnaq-1 | F39: 278 | G39: =qPCR_Summary!F278 -> 0.25069662 | H39: =qPCR_Summary!G278 -> 0.030914998 | I39: =qPCR_Summary!H278 -> 0.013825608 | J39: =qPCR_Summary!I278 -> 0.21231058 | K39: =qPCR_Summary!J278 -> 0.28908266 | L39: 5 | M39: f
A40: Gh_SPS | B40: Metabolic/osmoprotective | C40: 150 | D40: Control | E40: Porloq-1 | F40: 286 | G40: =qPCR_Summary!F286 -> 0.52572083 | H40: =qPCR_Summary!G286 -> 0.035429931 | I40: =qPCR_Summary!H286 -> 0.015844747 | J40: =qPCR_Summary!I286 -> 0.48172876 | K40: =qPCR_Summary!J286 -> 0.5697129 | L40: 5 | M40: e
...

Sheet qPCR_Statistical_tests
A2: Response | B2: Individual log2(Fold change) values
A3: Model | B3: Genotype × NaCl × Treatment for each gene; all interactions included
A4: Post hoc | B4: Tukey HSD: all 24 groups and separate 12-group families within each NaCl level
A5: Threshold | B5: α = 0.05; figures report mean ± SD, n = 5
A7: Gene | B7: Module | C7: Significant_ANOVA_effects | D7: Min_ANOVA_p | E7: Tukey_all_significant_pairs | F7: Tukey_by_NaCl_significant_pairs | G7: Shapiro_p | H7: Levene_p | I7: Diagnostic_flag
A8: Gh_NCED5 | B8: Hormonal regulation | C8: Genotype; NaCl; Treatment; Genotype × NaCl; Genotype × Treatment; NaCl × Treatment | D8: 2.5170258e-118 | E8: 247 | F8: 121 | G8: 0.00046736524 | H8: 0.11192192 | I8: Review residual normality
A9: Gh_GH3.17 | B9: Hormonal regulation | C9: Genotype; NaCl; Treatment; Genotype × NaCl; Genotype × Treatment; NaCl × Treatment | D9: 1.1635585e-108 | E9: 243 | F9: 118 | G9: 0.075397082 | H9: 0.5792648 | I9: No flag
A10: Gh_OPR3 | B10: Hormonal regulation | C10: Genotype; NaCl; Treatment; Genotype × NaCl; Genotype × Treatment; NaCl × Treatment; Genotype × NaCl × Treatment | D10: 3.4099355e-112 | E10: 254 | F10: 122 | G10: 0.06263112 | H10: 0.053452461 | I10: No flag
A11: Gh_ICS1 | B11: Hormonal regulation | C11: Genotype; NaCl; Treatment; Genotype × NaCl; Genotype × Treatment; Genotype × NaCl × Treatment | D11: 1.3625667e-117 | E11: 257 | F11: 116 | G11: 0.00016328627 | H11: 6.0792072e-08 | I11: Review residual normality; Review variance homogeneity
A12: Gh_SOD | B12: Antioxidant defense | C12: Genotype; NaCl; Treatment; Genotype × NaCl; Genotype × Treatment; NaCl × Treatment; Genotype × NaCl × Treatment | D12: 2.5111152e-103 | E12: 256 | F12: 121 | G12: 0.00049428545 | H12: 0.93560659 | I12: Review residual normality
A13: Gh_CAT1 | B13: Antioxidant defense | C13: Genotype; NaCl; Treatment; Genotype × NaCl; Genotype × Treatment; NaCl × Treatment | D13: 4.3043145e-91 | E13: 245 | F13: 116 | G13: 0.046378466 | H13: 0.065045497 | I13: Review residual normality
A14: Gh_POD1 | B14: Antioxidant defense | C14: Genotype; NaCl; Treatment; Genotype × NaCl; Genotype × Treatment; NaCl × Treatment | D14: 5.8297775e-98 | E14: 255 | F14: 119 | G14: 0.0034323426 | H14: 0.38131449 | I14: Review residual normality
A15: Gh_APX | B15: Antioxidant defense | C15: Genotype; NaCl; Treatment; Genotype × NaCl; Genotype × Treatment; NaCl × Treatment; Genotype × NaCl × Treatment | D15: 6.4388239e-95 | E15: 250 | F15: 121 | G15: 0.0017893081 | H15: 0.5656831 | I15: Review residual normality
A16: Gh_GPX | B16: Antioxidant defense | C16: Genotype; NaCl; Treatment; Genotype × NaCl; Genotype × Treatment; NaCl × Treatment | D16: 4.5187122e-105 | E16: 253 | F16: 122 | G16: 0.073445142 | H16: 0.00052909655 | I16: Review variance homogeneity
A17: Gh_GR | B17: Antioxidant defense | C17: Genotype; NaCl; Treatment; Genotype × NaCl; Genotype × Treatment; NaCl × Treatment | D17: 6.6579875e-91 | E17: 246 | F17: 111 | G17: 0.003591046 | H17: 0.091151029 | I17: Review residual normality
A18: Gh_P5CS | B18: Metabolic/osmoprotective | C18: Genotype; NaCl; Treatment; Genotype × NaCl; Genotype × Treatment; NaCl × Treatment; Genotype × NaCl × Treatment | D18: 8.4113401e-100 | E18: 261 | F18: 124 | G18: 0.0005379075 | H18: 0.25658772 | I18: Review residual normality
A19: Gh_SPS | B19: Metabolic/osmoprotective | C19: Genotype; NaCl; Treatment; Genotype × NaCl; Genotype × Treatment; NaCl × Treatment | D19: 2.2183049e-92 | E19: 249 | F19: 120 | G19: 0.00017545082 | H19: 0.19644084 | I19: Review residual normality
A20: Gh_SuSy | B20: Metabolic/osmoprotective | C20: Genotype; NaCl; Treatment; Genotype × NaCl; Genotype × Treatment; NaCl × Treatment; Genotype × NaCl × Treatment | D20: 3.9654845e-108 | E20: 251 | F20: 123 | G20: 0.022577266 | H20: 0.10996285 | I20: Review residual normality

Sheet qPCR_ANOVA_results
A1: Gene | B1: Module | C1: Effect | D1: df | E1: SS | F1: MS | G1: F | H1: p_value | I1: Partial_eta_squared | J1: Omega_squared | K1: Significant_p_0.05
A2: Gh_NCED5 | B2: Hormonal regulation | C2: Genotype | D2: 2 | E2: 20.723476 | F2: 10.361738 | G2: 10389.706 | H2: 6.4052571e-113 | I2: 0.99540129 | J2: 0.350596 | K2: TRUE
A3: Gh_NCED5 | B3: Hormonal regulation | C3: NaCl | D3: 1 | E3: 6.9684556 | F3: 6.9684556 | G3: 6987.2645 | H3: 1.7798719e-91 | I3: 0.98644693 | J3: 0.11788554 | K3: TRUE
A4: Gh_NCED5 | B4: Hormonal regulation | C4: Treatment | D4: 3 | E4: 4.2096124 | F4: 1.4032041 | G4: 1406.9916 | H4: 3.565047e-79 | I4: 0.97776221 | J4: 0.071173689 | K4: TRUE
A5: Gh_NCED5 | B5: Hormonal regulation | C5: Genotype × NaCl | D5: 2 | E5: 26.886753 | F5: 13.443376 | G5: 13479.662 | H5: 2.5170258e-118 | I5: 0.99645172 | J5: 0.45487522 | K5: TRUE
A6: Gh_NCED5 | B6: Hormonal regulation | C6: Genotype × Treatment | D6: 6 | E6: 0.16993487 | F6: 0.028322478 | G6: 28.398925 | H6: 2.7155664e-19 | I6: 0.63963091 | J6: 0.0027739605 | K6: TRUE
A7: Gh_NCED5 | B7: Hormonal regulation | C7: NaCl × Treatment | D7: 3 | E7: 0.045609824 | F7: 0.015203275 | G7: 15.244311 | H7: 3.4535869e-08 | I7: 0.32266976 | J7: 0.00072107126 | K7: TRUE
A8: Gh_NCED5 | B8: Hormonal regulation | C8: Genotype × NaCl × Treatment | D8: 6 | E8: 0.0030084029 | F8: 0.00050140049 | G8: 0.50275384 | H8: 0.80489601 | I8: 0.030464845 | J8: 0 | K8: FALSE
A9: Gh_NCED5 | B9: Hormonal regulation | C9: Residual | D9: 96 | E9: 0.095741579 | F9: 0.00099730812
A10: Gh_NCED5 | B10: Hormonal regulation | C10: Total | D10: 119 | E10: 59.102592
A11: Gh_GH3.17 | B11: Hormonal regulation | C11: Genotype | D11: 2 | E11: 18.358341 | F11: 9.1791704 | G11: 6910.0622 | H11: 1.8202903e-104 | I11: 0.99310153 | J11: 0.33801897 | K11: TRUE
A12: Gh_GH3.17 | B12: Hormonal regulation | C12: NaCl | D12: 1 | E12: 9.7499043 | F12: 9.7499043 | G12: 7339.7097 | H12: 1.7297372e-92 | I12: 0.98708933 | J12: 0.17951952 | K12: TRUE
A13: Gh_GH3.17 | B13: Hormonal regulation | C13: Treatment | D13: 3 | E13: 3.4409344 | F13: 1.1469781 | G13: 863.44298 | H13: 2.7421125e-69 | I13: 0.9642635 | J13: 0.063291242 | K13: TRUE
A14: Gh_GH3.17 | B14: Hormonal regulation | C14: Genotype × NaCl | D14: 2 | E14: 22.478392 | F14: 11.239196 | G14: 8460.8457 | H14: 1.1635585e-108 | I14: 0.99435881 | J14: 0.4138895 | K14: TRUE
A15: Gh_GH3.17 | B15: Hormonal regulation | C15: Genotype × Treatment | D15: 6 | E15: 0.080080492 | F15: 0.013346749 | G15: 10.047407 | H15: 1.3488708e-08 | I15: 0.38573541 | J15: 0.0013279061 | K15: TRUE
A16: Gh_GH3.17 | B16: Hormonal regulation | C16: NaCl × Treatment | D16: 3 | E16: 0.064680715 | F16: 0.021560238 | G16: 16.230507 | H16: 1.3067493e-08 | I16: 0.33651952 | J16: 0.001117706 | K16: TRUE
A17: Gh_GH3.17 | B17: Hormonal regulation | C17: Genotype × NaCl × Treatment | D17: 6 | E17: 0.0025245838 | F17: 0.00042076397 | G17: 0.31675032 | H17: 0.92683556 | I17: 0.019412586 | J17: 0 | K17: FALSE
A18: Gh_GH3.17 | B18: Hormonal regulation | C18: Residual | D18: 96 | E18: 0.12752423 | F18: 0.0013283774
A19: Gh_GH3.17 | B19: Hormonal regulation | C19: Total | D19: 119 | E19: 54.302382
A20: Gh_OPR3 | B20: Hormonal regulation | C20: Genotype | D20: 2 | E20: 15.743121 | F20: 7.8715604 | G20: 6159.1009 | H20: 4.3743836e-102 | I20: 0.99226692 | J20: 0.31408108 | K20: TRUE
