Workbook

Sheet Information
A1: Online Resource | B1: 2
A2: Resource title | B2: RT-qPCR expression data and statistical analyses of 13 marker genes
A3: Article title | B3: Genotype- and biostimulant-dependent organization of the cotton response to salinity: sequential screening and multivariate transcriptional analysis
A4: Journal | B4: Journal of Crop Health
A5: Author(s) | B5: Venera S. Kamburova; Ilkhom B. Salakhutdinov; Dmitriy A. Mirzabaev; Farkhod S. Radjapov; Shukhrat E. Shermatov; Dinara I. Tojiboeva; Elena F. Nazarova
A6: Corresponding author affiliation | B6: Center of Genomics and Bioinformatics of the Academy of Sciences of the Republic of Uzbekistan, Kibray, Tashkent Region 111215, Uzbekistan
A7: Corresponding author e-mail | B7: venera.k75@gmail.com
A8: File description | B8: Relative-expression values, log2-transformed data, summary statistics, gene/module annotations, ANOVA results and diagnostics, Tukey HSD comparisons, and grouping letters for the 13 marker genes.

Sheet Contents
A1: Column1 | B1: Column2 | C1: Column3 | D1: Column4
A2: qPCR_Raw_data | B2: qPCR_Raw_data | C2: 313 | D2: 11
A3: qPCR_Log2_data | B3: qPCR_Log2_data | C3: 313 | D3: 16
A4: qPCR_Summary | B4: qPCR_Summary | C4: 313 | D4: 13
A5: qPCR_Figure3_data | B5: qPCR_Figure3_data | C5: 97 | D5: 13
A6: qPCR_Figure4A_data | B6: qPCR_Figure4A_data | C6: 145 | D6: 13
A7: qPCR_Figure4B_data | B7: qPCR_Figure4B_data | C7: 73 | D7: 13
A8: qPCR_Statistical_tests | B8: qPCR_Statistical_tests | C8: 20 | D8: 9
A9: qPCR_ANOVA_results | B9: qPCR_ANOVA_results | C9: 118 | D9: 11
A10: qPCR_ANOVA_diagnostics | B10: qPCR_ANOVA_diagnostics | C10: 14 | D10: 18
A11: qPCR_Tukey_all | B11: qPCR_Tukey_all | C11: 3589 | D11: 16
A12: qPCR_Tukey_by_NaCl | B12: qPCR_Tukey_by_NaCl | C12: 1717 | D12: 17
A13: qPCR_Tukey_letters | B13: qPCR_Tukey_letters | C13: 313 | D13: 7
A14: qPCR_Data_dictionary | B14: qPCR_Data_dictionary | C14: 49 | D14: 3

Sheet qPCR_Raw_data
A1: Gene | B1: Genotype | C1: NaCl, mM | D1: Treatment | E1: Bio_rep_1 | F1: Bio_rep_2 | G1: Bio_rep_3 | H1: Bio_rep_4 | I1: Bio_rep_5 | J1: Mean | K1: SD
A2: Gh_NCED5 | B2: Ishonch | C2: 0 | D2: Control | E2: 1 | F2: 0.99 | G2: 1 | H2: 1.01 | I2: 1 | J2: 1 | K2: 0.0070710678
A3: Gh_NCED5 | B3: Ishonch | C3: 0 | D3: Rizokom-1 | E3: 1.59 | F3: 1.57 | G3: 1.55 | H3: 1.63 | I3: 1.61 | J3: 1.59 | K3: 0.031622777
A4: Gh_NCED5 | B4: Ishonch | C4: 0 | D4: Mikrozim-1 | E4: 1.45 | F4: 1.43 | G4: 1.47 | H4: 1.48 | I4: 1.42 | J4: 1.45 | K4: 0.025495098
A5: Gh_NCED5 | B5: Ishonch | C5: 0 | D5: Serhosil | E5: 1.31 | F5: 1.29 | G5: 1.28 | H5: 1.34 | I5: 1.33 | J5: 1.31 | K5: 0.025495098
A6: Gh_NCED5 | B6: Ishonch | C6: 150 | D6: Control | E6: 0.3 | F6: 0.29 | G6: 0.29 | H6: 0.31 | I6: 0.31 | J6: 0.3 | K6: 0.01
A7: Gh_NCED5 | B7: Ishonch | C7: 150 | D7: Rizokom-1 | E7: 0.44 | F7: 0.43 | G7: 0.41 | H7: 0.47 | I7: 0.45 | J7: 0.44 | K7: 0.02236068
A8: Gh_NCED5 | B8: Ishonch | C8: 150 | D8: Mikrozim-1 | E8: 0.41 | F8: 0.39 | G8: 0.41 | H8: 0.43 | I8: 0.41 | J8: 0.41 | K8: 0.014142136
A9: Gh_NCED5 | B9: Ishonch | C9: 150 | D9: Serhosil | E9: 0.36 | F9: 0.34 | G9: 0.36 | H9: 0.36 | I9: 0.38 | J9: 0.36 | K9: 0.014142136
A10: Gh_NCED5 | B10: Ravnaq-1 | C10: 0 | D10: Control | E10: 1 | F10: 0.99 | G10: 1.01 | H10: 0.98 | I10: 1.02 | J10: 1 | K10: 0.015811388
A11: Gh_NCED5 | B11: Ravnaq-1 | C11: 0 | D11: Rizokom-1 | E11: 1.47 | F11: 1.47 | G11: 1.45 | H11: 1.47 | I11: 1.49 | J11: 1.47 | K11: 0.014142136
A12: Gh_NCED5 | B12: Ravnaq-1 | C12: 0 | D12: Mikrozim-1 | E12: 1.32 | F12: 1.3 | G12: 1.32 | H12: 1.34 | I12: 1.32 | J12: 1.32 | K12: 0.014142136
A13: Gh_NCED5 | B13: Ravnaq-1 | C13: 0 | D13: Serhosil | E13: 1.24 | F13: 1.25 | G13: 1.26 | H13: 1.23 | I13: 1.22 | J13: 1.24 | K13: 0.015811388
... A313: Gh_SuSy | B313: Porloq-1 | C313: 150 | D313: Serhosil | E313: 1.46 | F313: 1.4 | G313: 1.5 | H313: 1.42 | I313: 1.52 | J313: 1.46 | K313: 0.050990195

Sheet qPCR_Log2_data
A1: Gene | B1: Genotype | C1: NaCl, mM | D1: Treatment | E1: Log2_rep_1 | F1: Log2_rep_2 | G1: Log2_rep_3 | H1: Log2_rep_4 | I1: Log2_rep_5 | J1: Mean_log2_FC | K1: SD_log2_FC | L1: SE_log2_FC | M1: CI95_low | N1: CI95_high | O1: n | P1: Source_row
A2: Gh_NCED5 | B2: Ishonch | C2: 0 | D2: Control | E2: =LN(qPCR_Raw_data!E2)/LN(2) -> 0 | F2: =LN(qPCR_Raw_data!F2)/LN(2) -> -0.01449957 | G2: =LN(qPCR_Raw_data!G2)/LN(2) -> 0 | H2: =LN(qPCR_Raw_data!H2)/LN(2) -> 0.014355293 | I2: =LN(qPCR_Raw_data!I2)/LN(2) -> 0 | J2: =AVERAGE(E2:I2) -> -2.8855344e-05 | K2: =STDEV(E2:I2) -> 0.010201811 | L2: =K2/SQRT(O2) -> 0.0045623886 | M2: =J2-qPCR_Data_dictionary!$B$5*L2 -> -0.012696077 | N2: =J2+qPCR_Data_dictionary!$B$5*L2 -> 0.012638366 | O2: 5 | P2: 2
A3: Gh_NCED5 | B3: Ishonch | C3: 0 | D3: Rizokom-1 | E3: =LN(qPCR_Raw_data!E3)/LN(2) -> 0.66902677 | F3: =LN(qPCR_Raw_data!F3)/LN(2) -> 0.65076456 | G3: =LN(qPCR_Raw_data!G3)/LN(2) -> 0.63226822 | H3: =LN(qPCR_Raw_data!H3)/LN(2) -> 0.70487196 | I3: =LN(qPCR_Raw_data!I3)/LN(2) -> 0.68706069 | J3: =AVERAGE(E3:I3) -> 0.66879844 | K3: =STDEV(E3:I3) -> 0.028699038 | L3: =K3/SQRT(O3) -> 0.0128346 | M3: =J3-qPCR_Data_dictionary!$B$5*L3 -> 0.63316388 | N3: =J3+qPCR_Data_dictionary!$B$5*L3 -> 0.704433 | O3: 5 | P3: 3
A4: Gh_NCED5 | B4: Ishonch | C4: 0 | D4: Mikrozim-1 | E4: =LN(qPCR_Raw_data!E4)/LN(2) -> 0.5360529 | F4: =LN(qPCR_Raw_data!F4)/LN(2) -> 0.51601515 | G4: =LN(qPCR_Raw_data!G4)/LN(2) -> 0.55581616 | H4: =LN(qPCR_Raw_data!H4)/LN(2) -> 0.56559718 | I4: =LN(qPCR_Raw_data!I4)/LN(2) -> 0.50589093 | J4: =AVERAGE(E4:I4) -> 0.53587446 | K4: =STDEV(E4:I4) -> 0.025369998 | L4: =K4/SQRT(O4) -> 0.011345808 | M4: =J4-qPCR_Data_dictionary!$B$5*L4 -> 0.50437345 | N4: =J4+qPCR_Data_dictionary!$B$5*L4 -> 0.56737548 | O4: 5 | P4: 4
A5: Gh_NCED5 | B5: Ishonch | C5: 0 | D5: Serhosil | E5: =LN(qPCR_Raw_data!E5)/LN(2) -> 0.38956681 | F5: =LN(qPCR_Raw_data!F5)/LN(2) -> 0.36737107 | G5: =LN(qPCR_Raw_data!G5)/LN(2) -> 0.35614381 | H5: =LN(qPCR_Raw_data!H5)/LN(2) -> 0.422233 | I5: =LN(qPCR_Raw_data!I5)/LN(2) -> 0.41142625 | J5: =AVERAGE(E5:I5) -> 0.38934819 | K5: =STDEV(E5:I5) -> 0.028082129 | L5: =K5/SQRT(O5) -> 0.01255871 | M5: =J5-qPCR_Data_dictionary!$B$5*L5 -> 0.35447962 | N5: =J5+qPCR_Data_dictionary!$B$5*L5 -> 0.42421676 | O5: 5 | P5: 5
A6: Gh_NCED5 | B6: Ishonch | C6: 150 | D6: Control | E6: =LN(qPCR_Raw_data!E6)/LN(2) -> -1.7369656 | F6: =LN(qPCR_Raw_data!F6)/LN(2) -> -1.7858752 | G6: =LN(qPCR_Raw_data!G6)/LN(2) -> -1.7858752 | H6: =LN(qPCR_Raw_data!H6)/LN(2) -> -1.6896599 | I6: =LN(qPCR_Raw_data!I6)/LN(2) -> -1.6896599 | J6: =AVERAGE(E6:I6) -> -1.7376071 | K6: =STDEV(E6:I6) -> 0.048108994 | L6: =K6/SQRT(O6) -> 0.021514996 | M6: =J6-qPCR_Data_dictionary!$B$5*L6 -> -1.7973424 | N6: =J6+qPCR_Data_dictionary!$B$5*L6 -> -1.6778719 | O6: 5 | P6: 6
A7: Gh_NCED5 | B7: Ishonch | C7: 150 | D7: Rizokom-1 | E7: =LN(qPCR_Raw_data!E7)/LN(2) -> -1.1844246 | F7: =LN(qPCR_Raw_data!F7)/LN(2) -> -1.2175914 | G7: =LN(qPCR_Raw_data!G7)/LN(2) -> -1.2863042 | H7: =LN(qPCR_Raw_data!H7)/LN(2) -> -1.0892673 | I7: =LN(qPCR_Raw_data!I7)/LN(2) -> -1.1520031 | J7: =AVERAGE(E7:I7) -> -1.1859181 | K7: =STDEV(E7:I7) -> 0.073441123 | L7: =K7/SQRT(O7) -> 0.032843869 | M7: =J7-qPCR_Data_dictionary!$B$5*L7 -> -1.2771073 | N7: =J7+qPCR_Data_dictionary!$B$5*L7 -> -1.0947289 | O7: 5 | P7: 7
A8: Gh_NCED5 | B8: Ishonch | C8: 150 | D8: Mikrozim-1 | E8: =LN(qPCR_Raw_data!E8)/LN(2) -> -1.2863042 | F8: =LN(qPCR_Raw_data!F8)/LN(2) -> -1.358454 | G8: =LN(qPCR_Raw_data!G8)/LN(2) -> -1.2863042 | H8: =LN(qPCR_Raw_data!H8)/LN(2) -> -1.2175914 | I8: =LN(qPCR_Raw_data!I8)/LN(2) -> -1.2863042 | J8: =AVERAGE(E8:I8) -> -1.2869916 | K8: =STDEV(E8:I8) -> 0.049811321 | L8: =K8/SQRT(O8) -> 0.0222763 | M8: =J8-qPCR_Data_dictionary!$B$5*L8 -> -1.3488405 | N8: =J8+qPCR_Data_dictionary!$B$5*L8 -> -1.2251427 | O8: 5 | P8: 8
A9: Gh_NCED5 | B9: Ishonch | C9: 150 | D9: Serhosil | E9: =LN(qPCR_Raw_data!E9)/LN(2) -> -1.4739312 | F9: =LN(qPCR_Raw_data!F9)/LN(2) -> -1.5563933 | G9: =LN(qPCR_Raw_data!G9)/LN(2) -> -1.4739312 | H9: =LN(qPCR_Raw_data!H9)/LN(2) -> -1.4739312 | I9: =LN(qPCR_Raw_data!I9)/LN(2) -> -1.3959287 | J9: =AVERAGE(E9:I9) -> -1.4748231 | K9: =STDEV(E9:I9) -> 0.056745974 | L9: =K9/SQRT(O9) -> 0.025377571 | M9: =J9-qPCR_Data_dictionary!$B$5*L9 -> -1.5452826 | N9: =J9+qPCR_Data_dictionary!$B$5*L9 -> -1.4043637 | O9: 5 | P9: 9
A10: Gh_NCED5 | B10: Ravnaq-1 | C10: 0 | D10: Control | E10: =LN(qPCR_Raw_data!E10)/LN(2) -> 0 | F10: =LN(qPCR_Raw_data!F10)/LN(2) -> -0.01449957 | G10: =LN(qPCR_Raw_data!G10)/LN(2) -> 0.014355293 | H10: =LN(qPCR_Raw_data!H10)/LN(2) -> -0.029146346 | I10: =LN(qPCR_Raw_data!I10)/LN(2) -> 0.028569152 | J10: =AVERAGE(E10:I10) -> -0.00014429404 | K10: =STDEV(E10:I10) -> 0.022813997 | L10: =K10/SQRT(O10) -> 0.010202729 | M10: =J10-qPCR_Data_dictionary!$B$5*L10 -> -0.028471612 | N10: =J10+qPCR_Data_dictionary!$B$5*L10 -> 0.028183024 | O10: 5 | P10: 10
A11: Gh_NCED5 | B11: Ravnaq-1 | C11: 0 | D11: Rizokom-1 | E11: =LN(qPCR_Raw_data!E11)/LN(2) -> 0.55581616 | F11: =LN(qPCR_Raw_data!F11)/LN(2) -> 0.55581616 | G11: =LN(qPCR_Raw_data!G11)/LN(2) -> 0.5360529 | H11: =LN(qPCR_Raw_data!H11)/LN(2) -> 0.55581616 | I11: =LN(qPCR_Raw_data!I11)/LN(2) -> 0.57531233 | J11: =AVERAGE(E11:I11) -> 0.55576274 | K11: =STDEV(E11:I11) -> 0.013880497 | L11: =K11/SQRT(O11) -> 0.0062075472 | M11: =J11-qPCR_Data_dictionary!$B$5*L11 -> 0.53852783 | N11: =J11+qPCR_Data_dictionary!$B$5*L11 -> 0.57299765 | O11: 5 | P11: 11
A12: Gh_NCED5 | B12: Ravnaq-1 | C12: 0 | D12: Mikrozim-1 | E12: =LN(qPCR_Raw_data!E12)/LN(2) -> 0.40053793 | F12: =LN(qPCR_Raw_data!F12)/LN(2) -> 0.37851162 | G12: =LN(qPCR_Raw_data!G12)/LN(2) -> 0.40053793 | H12: =LN(qPCR_Raw_data!H12)/LN(2) -> 0.422233 | I12: =LN(qPCR_Raw_data!I12)/LN(2) -> 0.40053793 | J12: =AVERAGE(E12:I12) -> 0.40047168 | K12: =STDEV(E12:I12) -> 0.015458107 | L12: =K12/SQRT(O12) -> 0.0069130758 | M12: =J12-qPCR_Data_dictionary!$B$5*L12 -> 0.38127791 | N12: =J12+qPCR_Data_dictionary!$B$5*L12 -> 0.41966546 | O12: 5 | P12: 12
A13: Gh_NCED5 | B13: Ravnaq-1 | C13: 0 | D13: Serhosil | E13: =LN(qPCR_Raw_data!E13)/LN(2) -> 0.31034012 | F13: =LN(qPCR_Raw_data!F13)/LN(2) -> 0.32192809 | G13: =LN(qPCR_Raw_data!G13)/LN(2) -> 0.33342373 | H13: =LN(qPCR_Raw_data!H13)/LN(2) -> 0.29865832 | I13: =LN(qPCR_Raw_data!I13)/LN(2) -> 0.28688115 | J13: =AVERAGE(E13:I13) -> 0.31024628 | K13: =STDEV(E13:I13) -> 0.018397543 | L13: =K13/SQRT(O13) -> 0.0082276312 | M13: =J13-qPCR_Data_dictionary!$B$5*L13 -> 0.28740272 | N13: =J13+qPCR_Data_dictionary!$B$5*L13 -> 0.33308985 | O13: 5 | P13: 13
... A313: Gh_SuSy | B313: Porloq-1 | C313: 150 | D313: Serhosil | E313: =LN(qPCR_Raw_data!E313)/LN(2) -> 0.54596837 | F313: =LN(qPCR_Raw_data!F313)/LN(2) -> 0.48542683 | G313: =LN(qPCR_Raw_data!G313)/LN(2) -> 0.5849625 | H313: =LN(qPCR_Raw_data!H313)/LN(2) -> 0.50589093 | I313: =LN(qPCR_Raw_data!I313)/LN(2) -> 0.60407132 | J313: =AVERAGE(E313:I313) -> 0.54526399 | K313: =STDEV(E313:I313) -> 0.050412038 | L313: =K313/SQRT(O313) -> 0.022544949 | M313: =J313-qPCR_Data_dictionary!$B$5*L313 -> 0.48266918 | N313: =J313+qPCR_Data_dictionary!$B$5*L313 -> 0.6078588 | O313: 5 | P313: 313

Sheet qPCR_Summary
A1: Gene | B1: Module | C1: Genotype | D1: NaCl, mM | E1: Treatment | F1: Mean_log2_FC | G1: SD_log2_FC | H1: SE_log2_FC | I1: CI95_low | J1: CI95_high | K1: n | L1: Geometric_mean_FC | M1: Source_row
A2: Gh_NCED5 | B2: Hormonal regulation | C2: Ishonch | D2: 0 | E2: Control | F2: =qPCR_Log2_data!J2 -> -2.8855344e-05 | G2: =qPCR_Log2_data!K2 -> 0.010201811 | H2: =qPCR_Log2_data!L2 -> 0.0045623886 | I2: =qPCR_Log2_data!M2 -> -0.012696077 | J2: =qPCR_Log2_data!N2 -> 0.012638366 | K2: 5 | L2: =POWER(2,F2) -> 0.99998 | M2: 2
A3: Gh_NCED5 | B3: Hormonal regulation | C3: Ishonch | D3: 0 | E3: Rizokom-1 | F3: =qPCR_Log2_data!J3 -> 0.66879844 | G3: =qPCR_Log2_data!K3 -> 0.028699038 | H3: =qPCR_Log2_data!L3 -> 0.0128346 | I3: =qPCR_Log2_data!M3 -> 0.63316388 | J3: =qPCR_Log2_data!N3 -> 0.704433 | K3: 5 | L3: =POWER(2,F3) -> 1.5897484 | M3: 3
A4: Gh_NCED5 | B4: Hormonal regulation | C4: Ishonch | D4: 0 | E4: Mikrozim-1 | F4: =qPCR_Log2_data!J4 -> 0.53587446 | G4: =qPCR_Log2_data!K4 -> 0.025369998 | H4: =qPCR_Log2_data!L4 -> 0.011345808 | I4: =qPCR_Log2_data!M4 -> 0.50437345 | J4: =qPCR_Log2_data!N4 -> 0.56737548 | K4: 5 | L4: =POWER(2,F4) -> 1.4498207 | M4: 4
A5: Gh_NCED5 | B5: Hormonal regulation | C5: Ishonch | D5: 0 | E5: Serhosil | F5: =qPCR_Log2_data!J5 -> 0.38934819 | G5: =qPCR_Log2_data!K5 -> 0.028082129 | H5: =qPCR_Log2_data!L5 -> 0.01255871 | I5: =qPCR_Log2_data!M5 -> 0.35447962 | J5: =qPCR_Log2_data!N5 -> 0.42421676 | K5: 5 | L5: =POWER(2,F5) -> 1.3098015 | M5: 5
A6: Gh_NCED5 | B6: Hormonal regulation | C6: Ishonch | D6: 150 | E6: Control | F6: =qPCR_Log2_data!J6 -> -1.7376071 | G6: =qPCR_Log2_data!K6 -> 0.048108994 | H6: =qPCR_Log2_data!L6 -> 0.021514996 | I6: =qPCR_Log2_data!M6 -> -1.7973424 | J6: =qPCR_Log2_data!N6 -> -1.6778719 | K6: 5 | L6: =POWER(2,F6) -> 0.29986662 | M6: 6
A7: Gh_NCED5 | B7: Hormonal regulation | C7: Ishonch | D7: 150 | E7: Rizokom-1 | F7: =qPCR_Log2_data!J7 -> -1.1859181 | G7: =qPCR_Log2_data!K7 -> 0.073441123 | H7: =qPCR_Log2_data!L7 -> 0.032843869 | I7: =qPCR_Log2_data!M7 -> -1.2771073 | J7: =qPCR_Log2_data!N7 -> -1.0947289 | K7: 5 | L7: =POWER(2,F7) -> 0.43954472 | M7: 7
A8: Gh_NCED5 | B8: Hormonal regulation | C8: Ishonch | D8: 150 | E8: Mikrozim-1 | F8: =qPCR_Log2_data!J8 -> -1.2869916 | G8: =qPCR_Log2_data!K8 -> 0.049811321 | H8: =qPCR_Log2_data!L8 -> 0.0222763 | I8: =qPCR_Log2_data!M8 -> -1.3488405 | J8: =qPCR_Log2_data!N8 -> -1.2251427 | K8: 5 | L8: =POWER(2,F8) -> 0.40980469 | M8: 8
A9: Gh_NCED5 | B9: Hormonal regulation | C9: Ishonch | D9: 150 | E9: Serhosil | F9: =qPCR_Log2_data!J9 -> -1.4748231 | G9: =qPCR_Log2_data!K9 -> 0.056745974 | H9: =qPCR_Log2_data!L9 -> 0.025377571 | I9: =qPCR_Log2_data!M9 -> -1.5452826 | J9: =qPCR_Log2_data!N9 -> -1.4043637 | K9: 5 | L9: =POWER(2,F9) -> 0.3597775 | M9: 9
A10: Gh_NCED5 | B10: Hormonal regulation | C10: Ravnaq-1 | D10: 0 | E10: Control | F10: =qPCR_Log2_data!J10 -> -0.00014429404 | G10: =qPCR_Log2_data!K10 -> 0.022813997 | H10: =qPCR_Log2_data!L10 -> 0.010202729 | I10: =qPCR_Log2_data!M10 -> -0.028471612 | J10: =qPCR_Log2_data!N10 -> 0.028183024 | K10: 5 | L10: =POWER(2,F10) -> 0.99989999 | M10: 10
A11: Gh_NCED5 | B11: Hormonal regulation | C11: Ravnaq-1 | D11: 0 | E11: Rizokom-1 | F11: =qPCR_Log2_data!J11 -> 0.55576274 | G11: =qPCR_Log2_data!K11 -> 0.013880497 | H11: =qPCR_Log2_data!L11 -> 0.0062075472 | I11: =qPCR_Log2_data!M11 -> 0.53852783 | J11: =qPCR_Log2_data!N11 -> 0.57299765 | K11: 5 | L11: =POWER(2,F11) -> 1.4699456 | M11: 11
A12: Gh_NCED5 | B12: Hormonal regulation | C12: Ravnaq-1 | D12: 0 | E12: Mikrozim-1 | F12: =qPCR_Log2_data!J12 -> 0.40047168 | G12: =qPCR_Log2_data!K12 -> 0.015458107 | H12: =qPCR_Log2_data!L12 -> 0.0069130758 | I12: =qPCR_Log2_data!M12 -> 0.38127791 | J12: =qPCR_Log2_data!N12 -> 0.41966546 | K12: 5 | L12: =POWER(2,F12) -> 1.3199394 | M12: 12
A13: Gh_NCED5 | B13: Hormonal regulation | C13: Ravnaq-1 | D13: 0 | E13: Serhosil | F13: =qPCR_Log2_data!J13 -> 0.31024628 | G13: =qPCR_Log2_data!K13 -> 0.018397543 | H13: =qPCR_Log2_data!L13 -> 0.0082276312 | I13: =qPCR_Log2_data!M13 -> 0.28740272 | J13: =qPCR_Log2_data!N13 -> 0.33308985 | K13: 5 | L13: =POWER(2,F13) -> 1.2399193 | M13: 13
... A313: Gh_SuSy | B313: Metabolic/osmoprotective | C313: Porloq-1 | D313: 150 | E313: Serhosil | F313: =qPCR_Log2_data!J313 -> 0.54526399 | G313: =qPCR_Log2_data!K313 -> 0.050412038 | H313: =qPCR_Log2_data!L313 -> 0.022544949 | I313: =qPCR_Log2_data!M313 -> 0.48266918 | J313: =qPCR_Log2_data!N313 -> 0.6078588 | K313: 5 | L313: =POWER(2,F313) -> 1.4592873 | M313: 313

Sheet qPCR_Figure3_data
A1: Gene | B1: Module | C1: NaCl, mM | D1: Treatment | E1: Genotype | F1: Summary_row | G1: Mean_log2_FC | H1: SD_log2_FC | I1: SE_log2_FC | J1: CI95_low | K1: CI95_high | L1: n | M1: Tukey_letters
A2: Gh_NCED5 | B2: Hormonal regulation | C2: 0 | D2: Control | E2: Ishonch | F2: 2 | G2: =qPCR_Summary!F2 -> -2.8855344e-05 | H2: =qPCR_Summary!G2 -> 0.010201811 | I2: =qPCR_Summary!H2 -> 0.0045623886 | J2: =qPCR_Summary!I2 -> -0.012696077 | K2: =qPCR_Summary!J2 -> 0.012638366 | L2: 5 | M2: g
A3: Gh_NCED5 | B3: Hormonal regulation | C3: 0 | D3: Control | E3: Ravnaq-1 | F3: 10 | G3: =qPCR_Summary!F10 -> -0.00014429404 | H3: =qPCR_Summary!G10 -> 0.022813997 | I3: =qPCR_Summary!H10 -> 0.010202729 | J3: =qPCR_Summary!I10 -> -0.028471612 | K3: =qPCR_Summary!J10 -> 0.028183024 | L3: 5 | M3: g
A4: Gh_NCED5 | B4: Hormonal regulation | C4: 0 | D4: Control | E4: Porloq-1 | F4: 18 | G4: =qPCR_Summary!F18 -> -0.00014429404 | H4: =qPCR_Summary!G18 -> 0.022813997 | I4: =qPCR_Summary!H18 -> 0.010202729 | J4: =qPCR_Summary!I18 -> -0.028471612 | K4: =qPCR_Summary!J18 -> 0.028183024 | L4: 5 | M4: g
A5: Gh_NCED5 | B5: Hormonal regulation | C5: 0 | D5: Rizokom-1 | E5: Ishonch | F5: 3 | G5: =qPCR_Summary!F3 -> 0.66879844 | H5: =qPCR_Summary!G3 -> 0.028699038 | I5: =qPCR_Summary!H3 -> 0.0128346 | J5: =qPCR_Summary!I3 -> 0.63316388 | K5: =qPCR_Summary!J3 -> 0.704433 | L5: 5 | M5: a
A6: Gh_NCED5 | B6: Hormonal regulation | C6: 0 | D6: Rizokom-1 | E6: Ravnaq-1 | F6: 11 | G6: =qPCR_Summary!F11 -> 0.55576274 | H6: =qPCR_Summary!G11 -> 0.013880497 | I6: =qPCR_Summary!H11 -> 0.0062075472 | J6: =qPCR_Summary!I11 -> 0.53852783 | K6: =qPCR_Summary!J11 -> 0.57299765 | L6: 5 | M6: b
A7: Gh_NCED5 | B7: Hormonal regulation | C7: 0 | D7: Rizokom-1 | E7: Porloq-1 | F7: 19 | G7: =qPCR_Summary!F19 -> 0.453976 | H7: =qPCR_Summary!G19 -> 0.026851884 | I7: =qPCR_Summary!H19 -> 0.012008527 | J7: =qPCR_Summary!I19 -> 0.42063499 | K7: =qPCR_Summary!J19 -> 0.48731702 | L7: 5 | M7: c
A8: Gh_NCED5 | B8: Hormonal regulation | C8: 0 | D8: Mikrozim-1 | E8: Ishonch | F8: 4 | G8: =qPCR_Summary!F4 -> 0.53587446 | H8: =qPCR_Summary!G4 -> 0.025369998 | I8: =qPCR_Summary!H4 -> 0.011345808 | J8: =qPCR_Summary!I4 -> 0.50437345 | K8: =qPCR_Summary!J4 -> 0.56737548 | L8: 5 | M8: b
A9: Gh_NCED5 | B9: Hormonal regulation | C9: 0 | D9: Mikrozim-1 | E9: Ravnaq-1 | F9: 12 | G9: =qPCR_Summary!F12 -> 0.40047168 | H9: =qPCR_Summary!G12 -> 0.015458107 | I9: =qPCR_Summary!H12 -> 0.0069130758 | J9: =qPCR_Summary!I12 -> 0.38127791 | K9: =qPCR_Summary!J12 -> 0.41966546 | L9: 5 | M9: d
A10: Gh_NCED5 | B10: Hormonal regulation | C10: 0 | D10: Mikrozim-1 | E10: Porloq-1 | F10: 20 | G10: =qPCR_Summary!F20 -> 0.28662907 | H10: =qPCR_Summary!G20 -> 0.030154507 | I10: =qPCR_Summary!H20 -> 0.013485505 | J10: =qPCR_Summary!I20 -> 0.2491873 | K10: =qPCR_Summary!J20 -> 0.32407083 | L10: 5 | M10: e
A11: Gh_NCED5 | B11: Hormonal regulation | C11: 0 | D11: Serhosil | E11: Ishonch | F11: 5 | G11: =qPCR_Summary!F5 -> 0.38934819 | H11: =qPCR_Summary!G5 -> 0.028082129 | I11: =qPCR_Summary!H5 -> 0.01255871 | J11: =qPCR_Summary!I5 -> 0.35447962 | K11: =qPCR_Summary!J5 -> 0.42421676 | L11: 5 | M11: d
A12: Gh_NCED5 | B12: Hormonal regulation | C12: 0 | D12: Serhosil | E12: Ravnaq-1 | F12: 13 | G12: =qPCR_Summary!F13 -> 0.31024628 | H12: =qPCR_Summary!G13 -> 0.018397543 | I12: =qPCR_Summary!H13 -> 0.0082276312 | J12: =qPCR_Summary!I13 -> 0.28740272 | K12: =qPCR_Summary!J13 -> 0.33308985 | L12: 5 | M12: e
A13: Gh_NCED5 | B13: Hormonal regulation | C13: 0 | D13: Serhosil | E13: Porloq-1 | F13: 21 | G13: =qPCR_Summary!F21 -> 0.20154658 | H13: =qPCR_Summary!G21 -> 0.017743747 | I13: =qPCR_Summary!H21 -> 0.007935245 | J13: =qPCR_Summary!I21 -> 0.17951481 | K13: =qPCR_Summary!J21 -> 0.22357835 | L13: 5 | M13: f
A14: Gh_NCED5 | B14: Hormonal regulation | C14: 150 | D14: Control | E14: Ishonch | F14: 6 | G14: =qPCR_Summary!F6 -> -1.7376071 | H14: =qPCR_Summary!G6 -> 0.048108994 | I14: =qPCR_Summary!H6 -> 0.021514996 | J14: =qPCR_Summary!I6 -> -1.7973424 | K14: =qPCR_Summary!J6 -> -1.6778719 | L14: 5 | M14: i
A15: Gh_NCED5 | B15: Hormonal regulation | C15: 150 | D15: Control | E15: Ravnaq-1 | F15: 14 | G15: =qPCR_Summary!F14 -> 0.20152476 | H15: =qPCR_Summary!G14 -> 0.019837625 | I15: =qPCR_Summary!H14 -> 0.0088716555 | J15: =qPCR_Summary!I14 -> 0.17689309 | K15: =qPCR_Summary!J14 -> 0.22615642 | L15: 5 | M15: e
A16: Gh_NCED5 | B16: Hormonal regulation | C16: 150 | D16: Control | E16: Porloq-1 | F16: 22 | G16: =qPCR_Summary!F22 -> 0.28668724 | H16: =qPCR_Summary!G22 -> 0.02644812 | I16: =qPCR_Summary!H22 -> 0.011827959 | J16: =qPCR_Summary!I22 -> 0.25384756 | K16: =qPCR_Summary!J22 -> 0.31952691 | L16: 5 | M16: d
A17: Gh_NCED5 | B17: Hormonal regulation | C17: 150 | D17: Rizokom-1 | E17: Ishonch | F17: 7 | G17: =qPCR_Summary!F7 -> -1.1859181 | H17: =qPCR_Summary!G7 -> 0.073441123 | I17: =qPCR_Summary!H7 -> 0.032843869 | J17: =qPCR_Summary!I7 -> -1.2771073 | K17: =qPCR_Summary!J7 -> -1.0947289 | L17: 5 | M17: f
A18: Gh_NCED5 | B18: Hormonal regulation | C18: 150 | D18: Rizokom-1 | E18: Ravnaq-1 | F18: 15 | G18: =qPCR_Summary!F15 -> 0.66887837 | H18: =qPCR_Summary!G15 -> 0.023135649 | I18: =qPCR_Summary!H15 -> 0.010346577 | J18: =qPCR_Summary!I15 -> 0.64015167 | K18: =qPCR_Summary!J15 -> 0.69760507 | L18: 5 | M18: a
A19: Gh_NCED5 | B19: Hormonal regulation | C19: 150 | D19: Rizokom-1 | E19: Porloq-1 | F19: 23 | G19: =qPCR_Summary!F23 -> 0.65064748 | H19: =qPCR_Summary!G23 -> 0.020550259 | I19: =qPCR_Summary!H23 -> 0.0091903554 | J19: =qPCR_Summary!I23 -> 0.62513096 | K19: =qPCR_Summary!J23 -> 0.676164 | L19: 5 | M19: a
A20: Gh_NCED5 | B20: Hormonal regulation | C20: 150 | D20: Mikrozim-1 | E20: Ishonch | F20: 8 | G20: =qPCR_Summary!F8 -> -1.2869916 | H20: =qPCR_Summary!G8 -> 0.049811321 | I20: =qPCR_Summary!H8 -> 0.0222763 | J20: =qPCR_Summary!I8 -> -1.3488405 | K20: =qPCR_Summary!J8 -> -1.2251427 | L20: 5 | M20: g
A21: Gh_NCED5 | B21: Hormonal regulation | C21: 150 | D21: Mikrozim-1 | E21: Ravnaq-1 | F21: 16 | G21: =qPCR_Summary!F16 -> 0.52601315 | H21: =qPCR_Summary!G16 -> 0.01416972 | I21: =qPCR_Summary!H16 -> 0.0063368912 | J21: =qPCR_Summary!I16 -> 0.50841912 | K21: =qPCR_Summary!J16 -> 0.54360718 | L21: 5 | M21: b
A22: Gh_NCED5 | B22: Hormonal regulation | C22: 150 | D22: Mikrozim-1 | E22: Porloq-1 | F22: 24 | G22: =qPCR_Summary!F24 -> 0.51583168 | H22: =qPCR_Summary!G24 -> 0.025724919 | I22: =qPCR_Summary!H24 -> 0.011504534 | J22: =qPCR_Summary!I24 -> 0.48388998 | K22: =qPCR_Summary!J24 -> 0.54777339 | L22: 5 | M22: b
A23: Gh_NCED5 | B23: Hormonal regulation | C23: 150 | D23: Serhosil | E23: Ishonch | F23: 9 | G23: =qPCR_Summary!F9 -> -1.4748231 | H23: =qPCR_Summary!G9 -> 0.056745974 | I23: =qPCR_Summary!H9 -> 0.025377571 | J23: =qPCR_Summary!I9 -> -1.5452826 | K23: =qPCR_Summary!J9 -> -1.4043637 | L23: 5 | M23: h
A24: Gh_NCED5 | B24: Hormonal regulation | C24: 150 | D24: Serhosil | E24: Ravnaq-1 | F24: 17 | G24: =qPCR_Summary!F17 -> 0.44340381 | H24: =qPCR_Summary!G17 -> 0.027049383 | I24: =qPCR_Summary!H17 -> 0.012096852 | J24: =qPCR_Summary!I17 -> 0.40981756 | K24: =qPCR_Summary!J17 -> 0.47699005 | L24: 5 | M24: b c
A25: Gh_NCED5 | B25: Hormonal regulation | C25: 150 | D25: Serhosil | E25: Porloq-1 | F25: 25 | G25: =qPCR_Summary!F25 -> 0.41121415 | H25: =qPCR_Summary!G25 -> 0.027659708 | I25: =qPCR_Summary!H25 -> 0.012369798 | J25: =qPCR_Summary!I25 -> 0.37687008 | K25: =qPCR_Summary!J25 -> 0.44555821 | L25: 5 | M25: c
A26: Gh_GH3.17 | B26: Hormonal regulation | C26: 0 | D26: Control | E26: Ishonch | F26: 26 | G26: =qPCR_Summary!F26 -> -0.00014429404 | H26: =qPCR_Summary!G26 -> 0.022813997 | I26: =qPCR_Summary!H26 -> 0.010202729 | J26: =qPCR_Summary!I26 -> -0.028471612 | K26: =qPCR_Summary!J26 -> 0.028183024 | L26: 5 | M26: g
A27: Gh_GH3.17 | B27: Hormonal regulation | C27: 0 | D27: Control | E27: Ravnaq-1 | F27: 34 | G27: =qPCR_Summary!F34 -> -0.00014429404 | H27: =qPCR_Summary!G34 -> 0.022813997 | I27: =qPCR_Summary!H34 -> 0.010202729 | J27: =qPCR_Summary!I34 -> -0.028471612 | K27: =qPCR_Summary!J34 -> 0.028183024 | L27: 5 | M27: g
A28: Gh_GH3.17 | B28: Hormonal regulation | C28: 0 | D28: Control | E28: Porloq-1 | F28: 42 | G28: =qPCR_Summary!F42 -> -0.00014429404 | H28: =qPCR_Summary!G42 -> 0.022813997 | I28: =qPCR_Summary!H42 -> 0.010202729 | J28: =qPCR_Summary!I42 -> -0.028471612 | K28: =qPCR_Summary!J42 -> 0.028183024 | L28: 5 | M28: g
A29: Gh_GH3.17 | B29: Hormonal regulation | C29: 0 | D29: Rizokom-1 | E29: Ishonch | F29: 27 | G29: =qPCR_Summary!F27 -> 0.60390894 | H29: =qPCR_Summary!G27 -> 0.024201356 | I29: =qPCR_Summary!H27 -> 0.010823176 | J29: =qPCR_Summary!I27 -> 0.57385899 | K29: =qPCR_Summary!J27 -> 0.6339589 | L29: 5 | M29: a
A30: Gh_GH3.17 | B30: Hormonal regulation | C30: 0 | D30: Rizokom-1 | E30: Ravnaq-1 | F30: 35 | G30: =qPCR_Summary!F35 -> 0.52588789 | H30: =qPCR_Summary!G35 -> 0.025546226 | I30: =qPCR_Summary!H35 -> 0.01142462 | J30: =qPCR_Summary!I35 -> 0.49416806 | K30: =qPCR_Summary!J35 -> 0.55760771 | L30: 5 | M30: b
A31: Gh_GH3.17 | B31: Hormonal regulation | C31: 0 | D31: Rizokom-1 | E31: Porloq-1 | F31: 43 | G31: =qPCR_Summary!F43 -> 0.43275355 | H31: =qPCR_Summary!G43 -> 0.027249809 | I31: =qPCR_Summary!H43 -> 0.012186485 | J31: =qPCR_Summary!I43 -> 0.39891844 | K31: =qPCR_Summary!J43 -> 0.46658866 | L31: 5 | M31: c d
A32: Gh_GH3.17 | B32: Hormonal regulation | C32: 0 | D32: Mikrozim-1 | E32: Ishonch | F32: 28 | G32: =qPCR_Summary!F28 -> 0.46428935 | H32: =qPCR_Summary!G28 -> 0.036971144 | I32: =qPCR_Summary!H28 -> 0.016533998 | J32: =qPCR_Summary!I28 -> 0.41838362 | K32: =qPCR_Summary!J28 -> 0.51019509 | L32: 5 | M32: c
A33: Gh_GH3.17 | B33: Hormonal regulation | C33: 0 | D33: Mikrozim-1 | E33: Ravnaq-1 | F33: 36 | G33: =qPCR_Summary!F36 -> 0.40032261 | H33: =qPCR_Summary!G36 -> 0.027869318 | I33: =qPCR_Summary!H36 -> 0.012463538 | J33: =qPCR_Summary!I36 -> 0.36571828 | K33: =qPCR_Summary!J36 -> 0.43492693 | L33: 5 | M33: d
A34: Gh_GH3.17 | B34: Hormonal regulation | C34: 0 | D34: Mikrozim-1 | E34: Porloq-1 | F34: 44 | G34: =qPCR_Summary!F44 -> 0.31009611 | H34: =qPCR_Summary!G44 -> 0.029667967 | I34: =qPCR_Summary!H44 -> 0.013267918 | J34: =qPCR_Summary!I44 -> 0.27325846 | K34: =qPCR_Summary!J44 -> 0.34693376 | L34: 5 | M34: e
A35: Gh_GH3.17 | B35: Hormonal regulation | C35: 0 | D35: Serhosil | E35: Ishonch | F35: 29 | G35: =qPCR_Summary!F29 -> 0.33318741 | H35: =qPCR_Summary!G29 -> 0.029196881 | I35: =qPCR_Summary!H29 -> 0.013057242 | J35: =qPCR_Summary!I29 -> 0.29693469 | K35: =qPCR_Summary!J29 -> 0.36944013 | L35: 5 | M35: e
A36: Gh_GH3.17 | B36: Hormonal regulation | C36: 0 | D36: Serhosil | E36: Ravnaq-1 | F36: 37 | G36: =qPCR_Summary!F37 -> 0.27475078 | H36: =qPCR_Summary!G37 -> 0.030403811 | I36: =qPCR_Summary!H37 -> 0.013596998 | J36: =qPCR_Summary!I37 -> 0.23699947 | K36: =qPCR_Summary!J37 -> 0.3125021 | L36: 5 | M36: e f
A37: Gh_GH3.17 | B37: Hormonal regulation | C37: 0 | D37: Serhosil | E37: Porloq-1 | F37: 45 | G37: =qPCR_Summary!F45 -> 0.22623444 | H37: =qPCR_Summary!G45 -> 0.031443672 | I37: =qPCR_Summary!H45 -> 0.014062038 | J37: =qPCR_Summary!I45 -> 0.18719196 | K37: =qPCR_Summary!J45 -> 0.26527691 | L37: 5 | M37: f
A38: Gh_GH3.17 | B38: Hormonal regulation | C38: 150 | D38: Control | E38: Ishonch | F38: 30 | G38: =qPCR_Summary!F30 -> -1.6911638 | H38: =qPCR_Summary!G30 -> 0.073684346 | I38: =qPCR_Summary!H30 -> 0.032952641 | J38: =qPCR_Summary!I30 -> -1.782655 | K38: =qPCR_Summary!J30 -> -1.5996726 | L38: 5 | M38: i
A39: Gh_GH3.17 | B39: Hormonal regulation | C39: 150 | D39: Control | E39: Ravnaq-1 | F39: 38 | G39: =qPCR_Summary!F38 -> -0.16859653 | H39: =qPCR_Summary!G38 -> 0.041342159 | I39: =qPCR_Summary!H38 -> 0.018488776 | J39: =qPCR_Summary!I38 -> -0.2199296 | K39: =qPCR_Summary!J38 -> -0.11726346 | L39: 5 | M39: f
A40: Gh_GH3.17 | B40: Hormonal regulation | C40: 150 | D40: Control | E40: Porloq-1 | F40: 46 | G40: =qPCR_Summary!F46 -> 0.34459588 | H40: =qPCR_Summary!G46 -> 0.028966905 | I40: =qPCR_Summary!H46 -> 0.012954394 | J40: =qPCR_Summary!I46 -> 0.30862872 | K40: =qPCR_Summary!J46 -> 0.38056304 | L40: 5 | M40: c
A41: Gh_GH3.17 | B41: Hormonal regulation | C41: 150 | D41: Rizokom-1 | E41: Ishonch | F41: 31 | G41: =qPCR_Summary!F31 -> -1.2182163 | H41: =qPCR_Summary!G31 -> 0.047490315 | I41: =qPCR_Summary!H31 -> 0.021238315 | J41: =qPCR_Summary!I31 -> -1.2771833 | K41: =qPCR_Summary!J31 -> -1.1592493 | L41: 5 | M41: g
A42: Gh_GH3.17 | B42: Hormonal regulation | C42: 150 | D42: Rizokom-1 | E42: Ravnaq-1 | F42: 39 | G42: =qPCR_Summary!F39 -> 0.22623444 | H42: =qPCR_Summary!G39 -> 0.031443672 | I42: =qPCR_Summary!H39 -> 0.014062038 | J42: =qPCR_Summary!I39 -> 0.18719196 | K42: =qPCR_Summary!J39 -> 0.26527691 | L42: 5 | M42: d
A43: Gh_GH3.17 | B43: Hormonal regulation | C43: 150 | D43: Rizokom-1 | E43: Porloq-1 | F43: 47 | G43: =qPCR_Summary!F47 -> 0.66887837 | H43: =qPCR_Summary!G47 -> 0.023135649 | I43: =qPCR_Summary!H47 -> 0.010346577 | J43: =qPCR_Summary!I47 -> 0.64015167 | K43: =qPCR_Summary!J47 -> 0.69760507 | L43: 5 | M43: a
A44: Gh_GH3.17 | B44: Hormonal regulation | C44: 150 | D44: Mikrozim-1 | E44: Ishonch | F44: 32 | G44: =qPCR_Summary!F32 -> -1.3228307 | H44: =qPCR_Summary!G32 -> 0.057074233 | I44: =qPCR_Summary!H32 -> 0.025524373 | J44: =qPCR_Summary!I32 -> -1.3936978 | K44: =qPCR_Summary!J32 -> -1.2519637 | L44: 5 | M44: h
A45: Gh_GH3.17 | B45: Hormonal regulation | C45: 150 | D45: Mikrozim-1 | E45: Ravnaq-1 | F45: 40 | G45: =qPCR_Summary!F40 -> 0.13719343 | H45: =qPCR_Summary!G40 -> 0.033445522 | I45: =qPCR_Summary!H40 -> 0.014957292 | J45: =qPCR_Summary!I40 -> 0.095665327 | K45: =qPCR_Summary!J40 -> 0.17872153 | L45: 5 | M45: d e
A46: Gh_GH3.17 | B46: Hormonal regulation | C46: 150 | D46: Mikrozim-1 | E46: Porloq-1 | F46: 48 | G46: =qPCR_Summary!F48 -> 0.57514335 | H46: =qPCR_Summary!G48 -> 0.024688752 | I46: =qPCR_Summary!H48 -> 0.011041146 | J46: =qPCR_Summary!I48 -> 0.54448821 | K46: =qPCR_Summary!J48 -> 0.60579848 | L46: 5 | M46: a b
A47: Gh_GH3.17 | B47: Hormonal regulation | C47: 150 | D47: Serhosil | E47: Ishonch | F47: 33 | G47: =qPCR_Summary!F33 -> -1.3967291 | H47: =qPCR_Summary!G33 -> 0.053752383 | I47: =qPCR_Summary!H33 -> 0.024038797 | J47: =qPCR_Summary!I33 -> -1.4634715 | K47: =qPCR_Summary!J33 -> -1.3299867 | L47: 5 | M47: h
A48: Gh_GH3.17 | B48: Hormonal regulation | C48: 150 | D48: Serhosil | E48: Ravnaq-1 | F48: 41 | G48: =qPCR_Summary!F41 -> 0.070048985 | H48: =qPCR_Summary!G41 -> 0.035038949 | I48: =qPCR_Summary!H41 -> 0.015669894 | J48: =qPCR_Summary!I41 -> 0.026542384 | K48: =qPCR_Summary!J41 -> 0.11355559 | L48: 5 | M48: e
A49: Gh_GH3.17 | B49: Hormonal regulation | C49: 150 | D49: Serhosil | E49: Porloq-1 | F49: 49 | G49: =qPCR_Summary!F49 -> 0.50542119 | H49: =qPCR_Summary!G49 -> 0.041107958 | I49: =qPCR_Summary!H49 -> 0.018384038 | J49: =qPCR_Summary!I49 -> 0.45437892 | K49: =qPCR_Summary!J49 -> 0.55646347 | L49: 5 | M49: b
A50: Gh_OPR3 | B50: Hormonal regulation | C50: 0 | D50: Control | E50: Ishonch | F50: 50 | G50: =qPCR_Summary!F50 -> -0.00014429404 | H50: =qPCR_Summary!G50 -> 0.022813997 | I50: =qPCR_Summary!H50 -> 0.010202729 | J50: =qPCR_Summary!I50 -> -0.028471612 | K50: =qPCR_Summary!J50 -> 0.028183024 | L50: 5 | M50: g
A51: Gh_OPR3 | B51: Hormonal regulation | C51: 0 | D51: Control | E51: Ravnaq-1 | F51: 58 | G51: =qPCR_Summary!F58 -> -0.00028865738 | H51: =qPCR_Summary!G58 -> 0.032270159 | I51: =qPCR_Summary!H58 -> 0.014431654 | J51: =qPCR_Summary!I58 -> -0.040357352 | K51: =qPCR_Summary!J58 -> 0.039780037 | L51: 5 | M51: g
A52: Gh_OPR3 | B52: Hormonal regulation | C52: 0 | D52: Control | E52: Porloq-1 | F52: 66 | G52: =qPCR_Summary!F66 -> -0.00014429404 | H52: =qPCR_Summary!G66 -> 0.022813997 | I52: =qPCR_Summary!H66 -> 0.010202729 | J52: =qPCR_Summary!I66 -> -0.028471612 | K52: =qPCR_Summary!J66 -> 0.028183024 | L52: 5 | M52: g
A53: Gh_OPR3 | B53: Hormonal regulation | C53: 0 | D53: Rizokom-1 | E53: Ishonch | F53: 51 | G53: =qPCR_Summary!F51 -> 0.80711933 | H53: =qPCR_Summary!G51 -> 0.029151533 | I53: =qPCR_Summary!H51 -> 0.013036962 | J53: =qPCR_Summary!I51 -> 0.77092292 | K53: =qPCR_Summary!J51 -> 0.84331574 | L53: 5 | M53: a
A54: Gh_OPR3 | B54: Hormonal regulation | C54: 0 | D54: Rizokom-1 | E54: Ravnaq-1 | F54: 59 | G54: =qPCR_Summary!F59 -> 0.60390894 | H54: =qPCR_Summary!G59 -> 0.024201356 | I54: =qPCR_Summary!H59 -> 0.010823176 | J54: =qPCR_Summary!I59 -> 0.57385899 | K54: =qPCR_Summary!J59 -> 0.6339589 | L54: 5 | M54: c
A55: Gh_OPR3 | B55: Hormonal regulation | C55: 0 | D55: Rizokom-1 | E55: Porloq-1 | F55: 67 | G55: =qPCR_Summary!F67 -> 0.49550645 | H55: =qPCR_Summary!G67 -> 0.026089913 | I55: =qPCR_Summary!H67 -> 0.011667764 | J55: =qPCR_Summary!I67 -> 0.46311155 | K55: =qPCR_Summary!J67 -> 0.52790136 | L55: 5 | M55: d
A56: Gh_OPR3 | B56: Hormonal regulation | C56: 0 | D56: Mikrozim-1 | E56: Ishonch | F56: 52 | G56: =qPCR_Summary!F52 -> 0.70473076 | H56: =qPCR_Summary!G52 -> 0.022567783 | I56: =qPCR_Summary!H52 -> 0.010092619 | J56: =qPCR_Summary!I52 -> 0.67670916 | K56: =qPCR_Summary!J52 -> 0.73275237 | L56: 5 | M56: b
A57: Gh_OPR3 | B57: Hormonal regulation | C57: 0 | D57: Mikrozim-1 | E57: Ravnaq-1 | F57: 60 | G57: =qPCR_Summary!F60 -> 0.4748907 | H57: =qPCR_Summary!G60 -> 0.026465414 | I57: =qPCR_Summary!H60 -> 0.011835693 | J57: =qPCR_Summary!I60 -> 0.44202955 | K57: =qPCR_Summary!J60 -> 0.50775186 | L57: 5 | M57: d
A58: Gh_OPR3 | B58: Hormonal regulation | C58: 0 | D58: Mikrozim-1 | E58: Porloq-1 | F58: 68 | G58: =qPCR_Summary!F68 -> 0.36714561 | H58: =qPCR_Summary!G68 -> 0.028517655 | I58: =qPCR_Summary!H68 -> 0.012753483 | J58: =qPCR_Summary!I68 -> 0.33173626 | K58: =qPCR_Summary!J68 -> 0.40255495 | L58: 5 | M58: e
A59: Gh_OPR3 | B59: Hormonal regulation | C59: 0 | D59: Serhosil | E59: Ishonch | F59: 53 | G59: =qPCR_Summary!F53 -> 0.60390894 | H59: =qPCR_Summary!G53 -> 0.024201356 | I59: =qPCR_Summary!H53 -> 0.010823176 | J59: =qPCR_Summary!I53 -> 0.57385899 | K59: =qPCR_Summary!J53 -> 0.6339589 | L59: 5 | M59: c
A60: Gh_OPR3 | B60: Hormonal regulation | C60: 0 | D60: Serhosil | E60: Ravnaq-1 | F60: 61 | G60: =qPCR_Summary!F61 -> 0.35591481 | H60: =qPCR_Summary!G61 -> 0.028740524 | I60: =qPCR_Summary!H61 -> 0.012853153 | J60: =qPCR_Summary!I61 -> 0.32022874 | K60: =qPCR_Summary!J61 -> 0.39160089 | L60: 5 | M60: e
A61: Gh_OPR3 | B61: Hormonal regulation | C61: 0 | D61: Serhosil | E61: Porloq-1 | F61: 69 | G61: =qPCR_Summary!F69 -> 0.28662907 | H61: =qPCR_Summary!G69 -> 0.030154507 | I61: =qPCR_Summary!H69 -> 0.013485505 | J61: =qPCR_Summary!I69 -> 0.2491873 | K61: =qPCR_Summary!J69 -> 0.32407083 | L61: 5 | M61: f
A62: Gh_OPR3 | B62: Hormonal regulation | C62: 150 | D62: Control | E62: Ishonch | F62: 54 | G62: =qPCR_Summary!F54 -> -1.435458 | H62: =qPCR_Summary!G54 -> 0.061710409 | I62: =qPCR_Summary!H54 -> 0.027597734 | J62: =qPCR_Summary!I54 -> -1.5120816 | K62: =qPCR_Summary!J54 -> -1.3588344 | L62: 5 | M62: i
A63: Gh_OPR3 | B63: Hormonal regulation | C63: 150 | D63: Control | E63: Ravnaq-1 | F63: 62 | G63: =qPCR_Summary!F62 -> 0.26263347 | H63: =qPCR_Summary!G62 -> 0.038032179 | I63: =qPCR_Summary!H62 -> 0.017008507 | J63: =qPCR_Summary!I62 -> 0.21541028 | K63: =qPCR_Summary!J62 -> 0.30985666 | L63: 5 | M63: e
A64: Gh_OPR3 | B64: Hormonal regulation | C64: 150 | D64: Control | E64: Porloq-1 | F64: 70 | G64: =qPCR_Summary!F70 -> 0.60390894 | H64: =qPCR_Summary!G70 -> 0.024201356 | I64: =qPCR_Summary!H70 -> 0.010823176 | J64: =qPCR_Summary!I70 -> 0.57385899 | K64: =qPCR_Summary!J70 -> 0.6339589 | L64: 5 | M64: d
A65: Gh_OPR3 | B65: Hormonal regulation | C65: 150 | D65: Rizokom-1 | E65: Ishonch | F65: 55 | G65: =qPCR_Summary!F55 -> -0.81212201 | H65: =qPCR_Summary!G55 -> 0.064584314 | I65: =qPCR_Summary!H55 -> 0.028882983 | J65: =qPCR_Summary!I55 -> -0.89231403 | K65: =qPCR_Summary!J55 -> -0.73193 | L65: 5 | M65: f
A66: Gh_OPR3 | B66: Hormonal regulation | C66: 150 | D66: Rizokom-1 | E66: Ravnaq-1 | F66: 63 | G66: =qPCR_Summary!F63 -> 0.71355633 | H66: =qPCR_Summary!G63 -> 0.022430146 | I66: =qPCR_Summary!H63 -> 0.010031066 | J66: =qPCR_Summary!I63 -> 0.68570563 | K66: =qPCR_Summary!J63 -> 0.74140704 | L66: 5 | M66: c
A67: Gh_OPR3 | B67: Hormonal regulation | C67: 150 | D67: Rizokom-1 | E67: Porloq-1 | F67: 71 | G67: =qPCR_Summary!F71 -> 0.97054562 | H67: =qPCR_Summary!G71 -> 0.033333705 | I67: =qPCR_Summary!H71 -> 0.014907286 | J67: =qPCR_Summary!I71 -> 0.92915636 | K67: =qPCR_Summary!J71 -> 1.0119349 | L67: 5 | M67: a
A68: Gh_OPR3 | B68: Hormonal regulation | C68: 150 | D68: Mikrozim-1 | E68: Ishonch | F68: 56 | G68: =qPCR_Summary!F56 -> -0.9448056 | H68: =qPCR_Summary!G56 -> 0.070806542 | I68: =qPCR_Summary!H56 -> 0.031665648 | J68: =qPCR_Summary!I56 -> -1.0327235 | K68: =qPCR_Summary!J56 -> -0.85688766 | L68: 5 | M68: g
A69: Gh_OPR3 | B69: Hormonal regulation | C69: 150 | D69: Mikrozim-1 | E69: Ravnaq-1 | F69: 64 | G69: =qPCR_Summary!F64 -> 0.59438401 | H69: =qPCR_Summary!G64 -> 0.024361669 | I69: =qPCR_Summary!H64 -> 0.01089487 | J69: =qPCR_Summary!I64 -> 0.564135 | K69: =qPCR_Summary!J64 -> 0.62463302 | L69: 5 | M69: d
A70: Gh_OPR3 | B70: Hormonal regulation | C70: 150 | D70: Mikrozim-1 | E70: Porloq-1 | F70: 72 | G70: =qPCR_Summary!F72 -> 0.83959025 | H70: =qPCR_Summary!G72 -> 0.036500951 | I70: =qPCR_Summary!H72 -> 0.016323721 | J70: =qPCR_Summary!I72 -> 0.79426833 | K70: =qPCR_Summary!J72 -> 0.88491216 | L70: 5 | M70: b
A71: Gh_OPR3 | B71: Hormonal regulation | C71: 150 | D71: Serhosil | E71: Ishonch | F71: 57 | G71: =qPCR_Summary!F57 -> -1.1208402 | H71: =qPCR_Summary!G57 -> 0.044388165 | I71: =qPCR_Summary!H57 -> 0.019850991 | J71: =qPCR_Summary!I57 -> -1.1759554 | K71: =qPCR_Summary!J57 -> -1.065725 | L71: 5 | M71: h
A72: Gh_OPR3 | B72: Hormonal regulation | C72: 150 | D72: Serhosil | E72: Ravnaq-1 | F72: 65 | G72: =qPCR_Summary!F65 -> 0.51583168 | H72: =qPCR_Summary!G65 -> 0.025724919 | I72: =qPCR_Summary!H65 -> 0.011504534 | J72: =qPCR_Summary!I65 -> 0.48388998 | K72: =qPCR_Summary!J65 -> 0.54777339 | L72: 5 | M72: d
A73: Gh_OPR3 | B73: Hormonal regulation | C73: 150 | D73: Serhosil | E73: Porloq-1 | F73: 73 | G73: =qPCR_Summary!F73 -> 0.73958939 | H73: =qPCR_Summary!G73 -> 0.030548496 | I73: =qPCR_Summary!H73 -> 0.013661703 | J73: =qPCR_Summary!I73 -> 0.70165842 | K73: =qPCR_Summary!J73 -> 0.77752036 | L73: 5 | M73: c
A74: Gh_ICS1 | B74: Hormonal regulation | C74: 0 | D74: Control | E74: Ishonch | F74: 74 | G74: =qPCR_Summary!F74 -> -0.00014429404 | H74: =qPCR_Summary!G74 -> 0.022813997 | I74: =qPCR_Summary!H74 -> 0.010202729 | J74: =qPCR_Summary!I74 -> -0.028471612 | K74: =qPCR_Summary!J74 -> 0.028183024 | L74: 5 | M74: h
A75: Gh_ICS1 | B75: Hormonal regulation | C75: 0 | D75: Control | E75: Ravnaq-1 | F75: 82 | G75: =qPCR_Summary!F82 -> -0.00014429404 | H75: =qPCR_Summary!G82 -> 0.022813997 | I75: =qPCR_Summary!H82 -> 0.010202729 | J75: =qPCR_Summary!I82 -> -0.028471612 | K75: =qPCR_Summary!J82 -> 0.028183024 | L75: 5 | M75: h
A76: Gh_ICS1 | B76: Hormonal regulation | C76: 0 | D76: Control | E76: Porloq-1 | F76: 90 | G76: =qPCR_Summary!F90 -> -0.00014429404 | H76: =qPCR_Summary!G90 -> 0.022813997 | I76: =qPCR_Summary!H90 -> 0.010202729 | J76: =qPCR_Summary!I90 -> -0.028471612 | K76: =qPCR_Summary!J90 -> 0.028183024 | L76: 5 | M76: h
A77: Gh_ICS1 | B77: Hormonal regulation | C77: 0 | D77: Rizokom-1 | E77: Ishonch | F77: 75 | G77: =qPCR_Summary!F75 -> 0.77374958 | H77: =qPCR_Summary!G75 -> 0.029833668 | I77: =qPCR_Summary!H75 -> 0.013342022 | J77: =qPCR_Summary!I75 -> 0.73670619 | K77: =qPCR_Summary!J75 -> 0.81079297 | L77: 5 | M77: a
A78: Gh_ICS1 | B78: Hormonal regulation | C78: 0 | D78: Rizokom-1 | E78: Ravnaq-1 | F78: 83 | G78: =qPCR_Summary!F83 -> 0.72203132 | H78: =qPCR_Summary!G83 -> 0.039599707 | I78: =qPCR_Summary!H83 -> 0.017709527 | J78: =qPCR_Summary!I83 -> 0.67286179 | K78: =qPCR_Summary!J83 -> 0.77120085 | L78: 5 | M78: a b
A79: Gh_ICS1 | B79: Hormonal regulation | C79: 0 | D79: Rizokom-1 | E79: Porloq-1 | F79: 91 | G79: =qPCR_Summary!F91 -> 0.43264265 | H79: =qPCR_Summary!G91 -> 0.0338038 | I79: =qPCR_Summary!H91 -> 0.015117519 | J79: =qPCR_Summary!I91 -> 0.39066969 | K79: =qPCR_Summary!J91 -> 0.47461561 | L79: 5 | M79: e
A80: Gh_ICS1 | B80: Hormonal regulation | C80: 0 | D80: Mikrozim-1 | E80: Ishonch | F80: 76 | G80: =qPCR_Summary!F76 -> 0.66874136 | H80: =qPCR_Summary!G76 -> 0.032086113 | I80: =qPCR_Summary!H76 -> 0.014349346 | J80: =qPCR_Summary!I76 -> 0.62890119 | K80: =qPCR_Summary!J76 -> 0.70858153 | L80: 5 | M80: b c
A81: Gh_ICS1 | B81: Hormonal regulation | C81: 0 | D81: Mikrozim-1 | E81: Ravnaq-1 | F81: 84 | G81: =qPCR_Summary!F84 -> 0.60390894 | H81: =qPCR_Summary!G84 -> 0.024201356 | I81: =qPCR_Summary!H84 -> 0.010823176 | J81: =qPCR_Summary!I84 -> 0.57385899 | K81: =qPCR_Summary!J84 -> 0.6339589 | L81: 5 | M81: c
A82: Gh_ICS1 | B82: Hormonal regulation | C82: 0 | D82: Mikrozim-1 | E82: Porloq-1 | F82: 92 | G82: =qPCR_Summary!F92 -> 0.35579144 | H82: =qPCR_Summary!G92 -> 0.035653597 | I82: =qPCR_Summary!H92 -> 0.015944773 | J82: =qPCR_Summary!I92 -> 0.31152166 | K82: =qPCR_Summary!J92 -> 0.40006123 | L82: 5 | M82: f
A83: Gh_ICS1 | B83: Hormonal regulation | C83: 0 | D83: Serhosil | E83: Ishonch | F83: 77 | G83: =qPCR_Summary!F77 -> 0.50570487 | H83: =qPCR_Summary!G77 -> 0.02590613 | I83: =qPCR_Summary!H77 -> 0.011585574 | J83: =qPCR_Summary!I77 -> 0.47353816 | K83: =qPCR_Summary!J77 -> 0.53787158 | L83: 5 | M83: d
A84: Gh_ICS1 | B84: Hormonal regulation | C84: 0 | D84: Serhosil | E84: Ravnaq-1 | F84: 85 | G84: =qPCR_Summary!F85 -> 0.36714561 | H84: =qPCR_Summary!G85 -> 0.028517655 | I84: =qPCR_Summary!H85 -> 0.012753483 | J84: =qPCR_Summary!I85 -> 0.33173626 | K84: =qPCR_Summary!J85 -> 0.40255495 | L84: 5 | M84: e f
A85: Gh_ICS1 | B85: Hormonal regulation | C85: 0 | D85: Serhosil | E85: Porloq-1 | F85: 93 | G85: =qPCR_Summary!F93 -> 0.25045194 | H85: =qPCR_Summary!G93 -> 0.042877929 | I85: =qPCR_Summary!H93 -> 0.019175593 | J85: =qPCR_Summary!I93 -> 0.19721196 | K85: =qPCR_Summary!J93 -> 0.30369192 | L85: 5 | M85: g
A86: Gh_ICS1 | B86: Hormonal regulation | C86: 150 | D86: Control | E86: Ishonch | F86: 78 | G86: =qPCR_Summary!F78 -> -1.8909523 | H86: =qPCR_Summary!G78 -> 0.08463737 | I86: =qPCR_Summary!H78 -> 0.037850983 | J86: =qPCR_Summary!I78 -> -1.9960435 | K86: =qPCR_Summary!J78 -> -1.7858611 | L86: 5 | M86: j
A87: Gh_ICS1 | B87: Hormonal regulation | C87: 150 | D87: Control | E87: Ravnaq-1 | F87: 86 | G87: =qPCR_Summary!F86 -> 0.80716645 | H87: =qPCR_Summary!G86 -> 0.026074184 | I87: =qPCR_Summary!H86 -> 0.011660729 | J87: =qPCR_Summary!I86 -> 0.77479107 | K87: =qPCR_Summary!J86 -> 0.83954182 | L87: 5 | M87: f
A88: Gh_ICS1 | B88: Hormonal regulation | C88: 150 | D88: Control | E88: Porloq-1 | F88: 94 | G88: =qPCR_Summary!F94 -> 1.3783665 | H88: =qPCR_Summary!G94 -> 0.022881046 | I88: =qPCR_Summary!H94 -> 0.010232715 | J88: =qPCR_Summary!I94 -> 1.3499559 | K88: =qPCR_Summary!J94 -> 1.406777 | L88: 5 | M88: c d
A89: Gh_ICS1 | B89: Hormonal regulation | C89: 150 | D89: Rizokom-1 | E89: Ishonch | F89: 79 | G89: =qPCR_Summary!F79 -> -0.89025669 | H89: =qPCR_Summary!G79 -> 0.068178986 | I89: =qPCR_Summary!H79 -> 0.030490569 | J89: =qPCR_Summary!I79 -> -0.97491208 | K89: =qPCR_Summary!J79 -> -0.8056013 | L89: 5 | M89: g
A90: Gh_ICS1 | B90: Hormonal regulation | C90: 150 | D90: Rizokom-1 | E90: Ravnaq-1 | F90: 87 | G90: =qPCR_Summary!F87 -> 1.4487693 | H90: =qPCR_Summary!G87 -> 0.021791238 | I90: =qPCR_Summary!H87 -> 0.0097453381 | J90: =qPCR_Summary!I87 -> 1.4217119 | K90: =qPCR_Summary!J87 -> 1.4758267 | L90: 5 | M90: c d
A91: Gh_ICS1 | B91: Hormonal regulation | C91: 150 | D91: Rizokom-1 | E91: Porloq-1 | F91: 95 | G91: =qPCR_Summary!F95 -> 1.7135563 | H91: =qPCR_Summary!G95 -> 0.022430146 | I91: =qPCR_Summary!H95 -> 0.010031066 | J91: =qPCR_Summary!I95 -> 1.6857056 | K91: =qPCR_Summary!J95 -> 1.741407 | L91: 5 | M91: a
A92: Gh_ICS1 | B92: Hormonal regulation | C92: 150 | D92: Mikrozim-1 | E92: Ishonch | F92: 80 | G92: =qPCR_Summary!F80 -> -1.1220701 | H92: =qPCR_Summary!G80 -> 0.08006504 | I92: =qPCR_Summary!H80 -> 0.035806174 | J92: =qPCR_Summary!I80 -> -1.2214839 | K92: =qPCR_Summary!J80 -> -1.0226562 | L92: 5 | M92: h
A93: Gh_ICS1 | B93: Hormonal regulation | C93: 150 | D93: Mikrozim-1 | E93: Ravnaq-1 | F93: 88 | G93: =qPCR_Summary!F88 -> 1.3333647 | H93: =qPCR_Summary!G88 -> 0.01459653 | I93: =qPCR_Summary!H88 -> 0.0065277666 | J93: =qPCR_Summary!I88 -> 1.3152407 | K93: =qPCR_Summary!J88 -> 1.3514886 | L93: 5 | M93: d e
A94: Gh_ICS1 | B94: Hormonal regulation | C94: 150 | D94: Mikrozim-1 | E94: Porloq-1 | F94: 96 | G94: =qPCR_Summary!F96 -> 1.6039089 | H94: =qPCR_Summary!G96 -> 0.024201356 | I94: =qPCR_Summary!H96 -> 0.010823176 | J94: =qPCR_Summary!I96 -> 1.573859 | K94: =qPCR_Summary!J96 -> 1.6339589 | L94: 5 | M94: a b
A95: Gh_ICS1 | B95: Hormonal regulation | C95: 150 | D95: Serhosil | E95: Ishonch | F95: 81 | G95: =qPCR_Summary!F81 -> -1.3632177 | H95: =qPCR_Summary!G81 -> 0.13121342 | I95: =qPCR_Summary!H81 -> 0.058680423 | J95: =qPCR_Summary!I81 -> -1.5261407 | K95: =qPCR_Summary!J81 -> -1.2002947 | L95: 5 | M95: i
A96: Gh_ICS1 | B96: Hormonal regulation | C96: 150 | D96: Serhosil | E96: Ravnaq-1 | F96: 89 | G96: =qPCR_Summary!F89 -> 1.2387195 | H96: =qPCR_Summary!G89 -> 0.01558622 | I96: =qPCR_Summary!H89 -> 0.0069703697 | J96: =qPCR_Summary!I89 -> 1.2193667 | K96: =qPCR_Summary!J89 -> 1.2580724 | L96: 5 | M96: e
A97: Gh_ICS1 | B97: Hormonal regulation | C97: 150 | D97: Serhosil | E97: Porloq-1 | F97: 97 | G97: =qPCR_Summary!F97 -> 1.4903801 | H97: =qPCR_Summary!G97 -> 0.026182785 | I97: =qPCR_Summary!H97 -> 0.011709298 | J97: =qPCR_Summary!I97 -> 1.4578699 | K97: =qPCR_Summary!J97 -> 1.5228903 | L97: 5 | M97: b c

Sheet qPCR_Figure4A_data
A1: Gene | B1: Module | C1: NaCl, mM | D1: Treatment | E1: Genotype | F1: Summary_row | G1: Mean_log2_FC | H1: SD_log2_FC | I1: SE_log2_FC | J1: CI95_low | K1: CI95_high | L1: n | M1: Tukey_letters
A2: Gh_SOD | B2: Antioxidant defense | C2: 0 | D2: Control | E2: Ishonch | F2: 98 | G2: =qPCR_Summary!F98 -> -0.00014429404 | H2: =qPCR_Summary!G98 -> 0.022813997 | I2: =qPCR_Summary!H98 -> 0.010202729 | J2: =qPCR_Summary!I98 -> -0.028471612 | K2: =qPCR_Summary!J98 -> 0.028183024 | L2: 5 | M2: g
A3: Gh_SOD | B3: Antioxidant defense | C3: 0 | D3: Control | E3: Ravnaq-1 | F3: 106 | G3: =qPCR_Summary!F106 -> -0.00037524073 | H3: =qPCR_Summary!G106 -> 0.036791844 | I3: =qPCR_Summary!H106 -> 0.016453813 | J3: =qPCR_Summary!I106 -> -0.046058349 | K3: =qPCR_Summary!J106 -> 0.045307868 | L3: 5 | M3: g
A4: Gh_SOD | B4: Antioxidant defense | C4: 0 | D4: Control | E4: Porloq-1 | F4: 114 | G4: =qPCR_Summary!F114 -> -0.00037524073 | H4: =qPCR_Summary!G114 -> 0.036791844 | I4: =qPCR_Summary!H114 -> 0.016453813 | J4: =qPCR_Summary!I114 -> -0.046058349 | K4: =qPCR_Summary!J114 -> 0.045307868 | L4: 5 | M4: g
A5: Gh_SOD | B5: Antioxidant defense | C5: 0 | D5: Rizokom-1 | E5: Ishonch | F5: 99 | G5: =qPCR_Summary!F99 -> 1.0702257 | H5: =qPCR_Summary!G99 -> 0.024291749 | I5: =qPCR_Summary!H99 -> 0.010863601 | J5: =qPCR_Summary!I99 -> 1.0400635 | K5: =qPCR_Summary!J99 -> 1.1003879 | L5: 5 | M5: a
A6: Gh_SOD | B6: Antioxidant defense | C6: 0 | D6: Rizokom-1 | E6: Ravnaq-1 | F6: 107 | G6: =qPCR_Summary!F107 -> 0.91805495 | H6: =qPCR_Summary!G107 -> 0.034568816 | I6: =qPCR_Summary!H107 -> 0.015459645 | J6: =qPCR_Summary!I107 -> 0.8751321 | K6: =qPCR_Summary!J107 -> 0.96097781 | L6: 5 | M6: b
A7: Gh_SOD | B7: Antioxidant defense | C7: 0 | D7: Rizokom-1 | E7: Porloq-1 | F7: 115 | G7: =qPCR_Summary!F115 -> 0.64092911 | H7: =qPCR_Summary!G115 -> 0.04717745 | I7: =qPCR_Summary!H115 -> 0.021098397 | J7: =qPCR_Summary!I115 -> 0.58235057 | K7: =qPCR_Summary!J115 -> 0.69950766 | L7: 5 | M7: d
A8: Gh_SOD | B8: Antioxidant defense | C8: 0 | D8: Mikrozim-1 | E8: Ishonch | F8: 100 | G8: =qPCR_Summary!F100 -> 0.83164952 | H8: =qPCR_Summary!G100 -> 0.028660061 | I8: =qPCR_Summary!H100 -> 0.012817169 | J8: =qPCR_Summary!I100 -> 0.79606336 | K8: =qPCR_Summary!J100 -> 0.86723569 | L8: 5 | M8: c
A9: Gh_SOD | B9: Antioxidant defense | C9: 0 | D9: Mikrozim-1 | E9: Ravnaq-1 | F9: 108 | G9: =qPCR_Summary!F108 -> 0.71342755 | H9: =qPCR_Summary!G108 -> 0.031107513 | I9: =qPCR_Summary!H108 -> 0.013911703 | J9: =qPCR_Summary!I108 -> 0.67480247 | K9: =qPCR_Summary!J108 -> 0.75205263 | L9: 5 | M9: d
A10: Gh_SOD | B10: Antioxidant defense | C10: 0 | D10: Mikrozim-1 | E10: Porloq-1 | F10: 116 | G10: =qPCR_Summary!F116 -> 0.50560464 | H10: =qPCR_Summary!G116 -> 0.032136528 | I10: =qPCR_Summary!H116 -> 0.014371892 | J10: =qPCR_Summary!I116 -> 0.46570187 | K10: =qPCR_Summary!J116 -> 0.54550741 | L10: 5 | M10: e
A11: Gh_SOD | B11: Antioxidant defense | C11: 0 | D11: Serhosil | E11: Ishonch | F11: 101 | G11: =qPCR_Summary!F101 -> 0.69571888 | H11: =qPCR_Summary!G101 -> 0.0314917 | I11: =qPCR_Summary!H101 -> 0.014083516 | J11: =qPCR_Summary!I101 -> 0.65661677 | K11: =qPCR_Summary!J101 -> 0.73482099 | L11: 5 | M11: d
A12: Gh_SOD | B12: Antioxidant defense | C12: 0 | D12: Serhosil | E12: Ravnaq-1 | F12: 109 | G12: =qPCR_Summary!F109 -> 0.55536194 | H12: =qPCR_Summary!G109 -> 0.040479846 | I12: =qPCR_Summary!H109 -> 0.018103138 | J12: =qPCR_Summary!I109 -> 0.50509958 | K12: =qPCR_Summary!J109 -> 0.60562431 | L12: 5 | M12: e
A13: Gh_SOD | B13: Antioxidant defense | C13: 0 | D13: Serhosil | E13: Porloq-1 | F13: 117 | G13: =qPCR_Summary!F117 -> 0.37817002 | H13: =qPCR_Summary!G117 -> 0.035104738 | I13: =qPCR_Summary!H117 -> 0.015699316 | J13: =qPCR_Summary!I117 -> 0.33458173 | K13: =qPCR_Summary!J117 -> 0.42175831 | L13: 5 | M13: f
A14: Gh_SOD | B14: Antioxidant defense | C14: 150 | D14: Control | E14: Ishonch | F14: 102 | G14: =qPCR_Summary!F102 -> -0.64456134 | H14: =qPCR_Summary!G102 -> 0.050445843 | I14: =qPCR_Summary!H102 -> 0.022560067 | J14: =qPCR_Summary!I102 -> -0.70719812 | K14: =qPCR_Summary!J102 -> -0.58192455 | L14: 5 | M14: i
A15: Gh_SOD | B15: Antioxidant defense | C15: 150 | D15: Control | E15: Ravnaq-1 | F15: 110 | G15: =qPCR_Summary!F110 -> 0.64134441 | H15: =qPCR_Summary!G110 -> 0.026969191 | I15: =qPCR_Summary!H110 -> 0.012060989 | J15: =qPCR_Summary!I110 -> 0.60785773 | K15: =qPCR_Summary!J110 -> 0.67483108 | L15: 5 | M15: e
A16: Gh_SOD | B16: Antioxidant defense | C16: 150 | D16: Control | E16: Porloq-1 | F16: 118 | G16: =qPCR_Summary!F118 -> 0.97046294 | H16: =qPCR_Summary!G118 -> 0.037543127 | I16: =qPCR_Summary!H118 -> 0.016789797 | J16: =qPCR_Summary!I118 -> 0.92384699 | K16: =qPCR_Summary!J118 -> 1.0170789 | L16: 5 | M16: d
A17: Gh_SOD | B17: Antioxidant defense | C17: 150 | D17: Rizokom-1 | E17: Ishonch | F17: 103 | G17: =qPCR_Summary!F103 -> 0.12401232 | H17: =qPCR_Summary!G103 -> 0.033752504 | I17: =qPCR_Summary!H103 -> 0.015094579 | J17: =qPCR_Summary!I103 -> 0.082103052 | K17: =qPCR_Summary!J103 -> 0.16592159 | L17: 5 | M17: f
A18: Gh_SOD | B18: Antioxidant defense | C18: 150 | D18: Rizokom-1 | E18: Ravnaq-1 | F18: 111 | G18: =qPCR_Summary!F111 -> 1.321688 | H18: =qPCR_Summary!G111 -> 0.029430539 | I18: =qPCR_Summary!H111 -> 0.013161737 | J18: =qPCR_Summary!I111 -> 1.2851451 | K18: =qPCR_Summary!J111 -> 1.3582308 | L18: 5 | M18: a
A19: Gh_SOD | B19: Antioxidant defense | C19: 150 | D19: Rizokom-1 | E19: Porloq-1 | F19: 119 | G19: =qPCR_Summary!F119 -> 1.3728058 | H19: =qPCR_Summary!G119 -> 0.022969411 | I19: =qPCR_Summary!H119 -> 0.010272233 | J19: =qPCR_Summary!I119 -> 1.3442855 | K19: =qPCR_Summary!J119 -> 1.4013261 | L19: 5 | M19: a
A20: Gh_SOD | B20: Antioxidant defense | C20: 150 | D20: Mikrozim-1 | E20: Ishonch | F20: 104 | G20: =qPCR_Summary!F104 -> -0.014882432 | H20: =qPCR_Summary!G104 -> 0.037163688 | I20: =qPCR_Summary!H104 -> 0.016620107 | J20: =qPCR_Summary!I104 -> -0.061027246 | K20: =qPCR_Summary!J104 -> 0.031262381 | L20: 5 | M20: g
A21: Gh_SOD | B21: Antioxidant defense | C21: 150 | D21: Mikrozim-1 | E21: Ravnaq-1 | F21: 112 | G21: =qPCR_Summary!F112 -> 1.2014975 | H21: =qPCR_Summary!G112 -> 0.022179011 | I21: =qPCR_Summary!H112 -> 0.0099187552 | J21: =qPCR_Summary!I112 -> 1.1739586 | K21: =qPCR_Summary!J112 -> 1.2290364 | L21: 5 | M21: b
A22: Gh_SOD | B22: Antioxidant defense | C22: 150 | D22: Mikrozim-1 | E22: Porloq-1 | F22: 120 | G22: =qPCR_Summary!F120 -> 1.2201492 | H22: =qPCR_Summary!G120 -> 0.025533222 | I22: =qPCR_Summary!H120 -> 0.011418804 | J22: =qPCR_Summary!I120 -> 1.1884455 | K22: =qPCR_Summary!J120 -> 1.2518529 | L22: 5 | M22: b
A23: Gh_SOD | B23: Antioxidant defense | C23: 150 | D23: Serhosil | E23: Ishonch | F23: 105 | G23: =qPCR_Summary!F105 -> -0.18490918 | H23: =qPCR_Summary!G105 -> 0.041812291 | I23: =qPCR_Summary!H105 -> 0.018699025 | J23: =qPCR_Summary!I105 -> -0.236826 | K23: =qPCR_Summary!J105 -> -0.13299236 | L23: 5 | M23: h
A24: Gh_SOD | B24: Antioxidant defense | C24: 150 | D24: Serhosil | E24: Ravnaq-1 | F24: 113 | G24: =qPCR_Summary!F113 -> 1.0070169 | H24: =qPCR_Summary!G113 -> 0.025379699 | I24: =qPCR_Summary!H113 -> 0.011350147 | J24: =qPCR_Summary!I113 -> 0.97550387 | K24: =qPCR_Summary!J113 -> 1.03853 | L24: 5 | M24: c d
A25: Gh_SOD | B25: Antioxidant defense | C25: 150 | D25: Serhosil | E25: Porloq-1 | F25: 121 | G25: =qPCR_Summary!F121 -> 1.070121 | H25: =qPCR_Summary!G121 -> 0.031110643 | I25: =qPCR_Summary!H121 -> 0.013913103 | J25: =qPCR_Summary!I121 -> 1.031492 | K25: =qPCR_Summary!J121 -> 1.10875 | L25: 5 | M25: c
A26: Gh_CAT1 | B26: Antioxidant defense | C26: 0 | D26: Control | E26: Ishonch | F26: 146 | G26: =qPCR_Summary!F146 -> -0.00028865738 | H26: =qPCR_Summary!G146 -> 0.032270159 | I26: =qPCR_Summary!H146 -> 0.014431654 | J26: =qPCR_Summary!I146 -> -0.040357352 | K26: =qPCR_Summary!J146 -> 0.039780037 | L26: 5 | M26: f
A27: Gh_CAT1 | B27: Antioxidant defense | C27: 0 | D27: Control | E27: Ravnaq-1 | F27: 154 | G27: =qPCR_Summary!F154 -> -0.00014429404 | H27: =qPCR_Summary!G154 -> 0.022813997 | I27: =qPCR_Summary!H154 -> 0.010202729 | J27: =qPCR_Summary!I154 -> -0.028471612 | K27: =qPCR_Summary!J154 -> 0.028183024 | L27: 5 | M27: f
A28: Gh_CAT1 | B28: Antioxidant defense | C28: 0 | D28: Control | E28: Porloq-1 | F28: 162 | G28: =qPCR_Summary!F162 -> -0.00014429404 | H28: =qPCR_Summary!G162 -> 0.022813997 | I28: =qPCR_Summary!H162 -> 0.010202729 | J28: =qPCR_Summary!I162 -> -0.028471612 | K28: =qPCR_Summary!J162 -> 0.028183024 | L28: 5 | M28: f
A29: Gh_CAT1 | B29: Antioxidant defense | C29: 0 | D29: Rizokom-1 | E29: Ishonch | F29: 147 | G29: =qPCR_Summary!F147 -> 0.83959025 | H29: =qPCR_Summary!G147 -> 0.036500951 | I29: =qPCR_Summary!H147 -> 0.016323721 | J29: =qPCR_Summary!I147 -> 0.79426833 | K29: =qPCR_Summary!J147 -> 0.88491216 | L29: 5 | M29: a
A30: Gh_CAT1 | B30: Antioxidant defense | C30: 0 | D30: Rizokom-1 | E30: Ravnaq-1 | F30: 155 | G30: =qPCR_Summary!F155 -> 0.77386803 | H30: =qPCR_Summary!G155 -> 0.021511775 | I30: =qPCR_Summary!H155 -> 0.0096203583 | J30: =qPCR_Summary!I155 -> 0.74715763 | K30: =qPCR_Summary!J155 -> 0.80057843 | L30: 5 | M30: a b
A31: Gh_CAT1 | B31: Antioxidant defense | C31: 0 | D31: Rizokom-1 | E31: Porloq-1 | F31: 163 | G31: =qPCR_Summary!F163 -> 0.65036639 | H31: =qPCR_Summary!G163 -> 0.037899819 | I31: =qPCR_Summary!H163 -> 0.016949315 | J31: =qPCR_Summary!I163 -> 0.60330755 | K31: =qPCR_Summary!J163 -> 0.69742523 | L31: 5 | M31: c
A32: Gh_CAT1 | B32: Antioxidant defense | C32: 0 | D32: Mikrozim-1 | E32: Ishonch | F32: 148 | G32: =qPCR_Summary!F148 -> 0.74804192 | H32: =qPCR_Summary!G148 -> 0.038892175 | I32: =qPCR_Summary!H148 -> 0.017393109 | J32: =qPCR_Summary!I148 -> 0.69975091 | K32: =qPCR_Summary!J148 -> 0.79633294 | L32: 5 | M32: b
A33: Gh_CAT1 | B33: Antioxidant defense | C33: 0 | D33: Mikrozim-1 | E33: Ravnaq-1 | F33: 156 | G33: =qPCR_Summary!F156 -> 0.66874136 | H33: =qPCR_Summary!G156 -> 0.032086113 | I33: =qPCR_Summary!H156 -> 0.014349346 | J33: =qPCR_Summary!I156 -> 0.62890119 | K33: =qPCR_Summary!J156 -> 0.70858153 | L33: 5 | M33: c
A34: Gh_CAT1 | B34: Antioxidant defense | C34: 0 | D34: Mikrozim-1 | E34: Porloq-1 | F34: 164 | G34: =qPCR_Summary!F164 -> 0.52549801 | H34: =qPCR_Summary!G164 -> 0.045378735 | I34: =qPCR_Summary!H164 -> 0.020293987 | J34: =qPCR_Summary!I164 -> 0.46915286 | K34: =qPCR_Summary!J164 -> 0.58184315 | L34: 5 | M34: d
A35: Gh_CAT1 | B35: Antioxidant defense | C35: 0 | D35: Serhosil | E35: Ishonch | F35: 149 | G35: =qPCR_Summary!F149 -> 0.6410597 | H35: =qPCR_Summary!G149 -> 0.041885731 | I35: =qPCR_Summary!H149 -> 0.018731868 | J35: =qPCR_Summary!I149 -> 0.58905169 | K35: =qPCR_Summary!J149 -> 0.6930677 | L35: 5 | M35: c
A36: Gh_CAT1 | B36: Antioxidant defense | C36: 0 | D36: Serhosil | E36: Ravnaq-1 | F36: 157 | G36: =qPCR_Summary!F157 -> 0.55554902 | H36: =qPCR_Summary!G157 -> 0.031042909 | I36: =qPCR_Summary!H157 -> 0.013882811 | J36: =qPCR_Summary!I157 -> 0.51700415 | K36: =qPCR_Summary!J157 -> 0.59409388 | L36: 5 | M36: d
A37: Gh_CAT1 | B37: Antioxidant defense | C37: 0 | D37: Serhosil | E37: Porloq-1 | F37: 165 | G37: =qPCR_Summary!F165 -> 0.332696 | H37: =qPCR_Summary!G165 -> 0.051247878 | I37: =qPCR_Summary!H165 -> 0.022918748 | J37: =qPCR_Summary!I165 -> 0.26906336 | K37: =qPCR_Summary!J165 -> 0.39632864 | L37: 5 | M37: e
A38: Gh_CAT1 | B38: Antioxidant defense | C38: 150 | D38: Control | E38: Ishonch | F38: 150 | G38: =qPCR_Summary!F150 -> -1.030711 | H38: =qPCR_Summary!G150 -> 0.07515138 | I38: =qPCR_Summary!H150 -> 0.033608719 | J38: =qPCR_Summary!I150 -> -1.1240238 | K38: =qPCR_Summary!J150 -> -0.93739828 | L38: 5 | M38: g
A39: Gh_CAT1 | B39: Antioxidant defense | C39: 150 | D39: Control | E39: Ravnaq-1 | F39: 158 | G39: =qPCR_Summary!F158 -> 0.36665971 | H39: =qPCR_Summary!G158 -> 0.050660026 | I39: =qPCR_Summary!H158 -> 0.022655852 | J39: =qPCR_Summary!I158 -> 0.30375698 | K39: =qPCR_Summary!J158 -> 0.42956244 | L39: 5 | M39: d
A40: Gh_CAT1 | B40: Antioxidant defense | C40: 150 | D40: Control | E40: Porloq-1 | F40: 166 | G40: =qPCR_Summary!F166 -> 0.46415285 | H40: =qPCR_Summary!G166 -> 0.043121939 | I40: =qPCR_Summary!H166 -> 0.019284718 | J40: =qPCR_Summary!I166 -> 0.41060989 | K40: =qPCR_Summary!J166 -> 0.51769581 | L40: 5 | M40: d
A41: Gh_CAT1 | B41: Antioxidant defense | C41: 150 | D41: Rizokom-1 | E41: Ishonch | F41: 151 | G41: =qPCR_Summary!F151 -> -0.26986488 | H41: =qPCR_Summary!G151 -> 0.061498205 | I41: =qPCR_Summary!H151 -> 0.027502833 | J41: =qPCR_Summary!I151 -> -0.34622499 | K41: =qPCR_Summary!J151 -> -0.19350478 | L41: 5 | M41: e
A42: Gh_CAT1 | B42: Antioxidant defense | C42: 150 | D42: Rizokom-1 | E42: Ravnaq-1 | F42: 159 | G42: =qPCR_Summary!F159 -> 1.0562366 | H42: =qPCR_Summary!G159 -> 0.035376033 | I42: =qPCR_Summary!H159 -> 0.015820643 | J42: =qPCR_Summary!I159 -> 1.0123115 | K42: =qPCR_Summary!J159 -> 1.1001618 | L42: 5 | M42: a
A43: Gh_CAT1 | B43: Antioxidant defense | C43: 150 | D43: Rizokom-1 | E43: Porloq-1 | F43: 167 | G43: =qPCR_Summary!F167 -> 1.0070169 | H43: =qPCR_Summary!G167 -> 0.025379699 | I43: =qPCR_Summary!H167 -> 0.011350147 | J43: =qPCR_Summary!I167 -> 0.97550387 | K43: =qPCR_Summary!J167 -> 1.03853 | L43: 5 | M43: a
A44: Gh_CAT1 | B44: Antioxidant defense | C44: 150 | D44: Mikrozim-1 | E44: Ishonch | F44: 152 | G44: =qPCR_Summary!F152 -> -0.37828768 | H44: =qPCR_Summary!G152 -> 0.066297968 | I44: =qPCR_Summary!H152 -> 0.029649353 | J44: =qPCR_Summary!I152 -> -0.46060748 | K44: =qPCR_Summary!J152 -> -0.29596788 | L44: 5 | M44: e f
A45: Gh_CAT1 | B45: Antioxidant defense | C45: 150 | D45: Mikrozim-1 | E45: Ravnaq-1 | F45: 160 | G45: =qPCR_Summary!F160 -> 0.97046294 | H45: =qPCR_Summary!G160 -> 0.037543127 | I45: =qPCR_Summary!H160 -> 0.016789797 | J45: =qPCR_Summary!I160 -> 0.92384699 | K45: =qPCR_Summary!J160 -> 1.0170789 | L45: 5 | M45: a
A46: Gh_CAT1 | B46: Antioxidant defense | C46: 150 | D46: Mikrozim-1 | E46: Porloq-1 | F46: 168 | G46: =qPCR_Summary!F168 -> 0.85576947 | H46: =qPCR_Summary!G168 -> 0.028184888 | I46: =qPCR_Summary!H168 -> 0.012604665 | J46: =qPCR_Summary!I168 -> 0.82077331 | K46: =qPCR_Summary!J168 -> 0.89076563 | L46: 5 | M46: b
A47: Gh_CAT1 | B47: Antioxidant defense | C47: 150 | D47: Serhosil | E47: Ishonch | F47: 153 | G47: =qPCR_Summary!F153 -> -0.45538697 | H47: =qPCR_Summary!G153 -> 0.069937294 | I47: =qPCR_Summary!H153 -> 0.031276909 | J47: =qPCR_Summary!I153 -> -0.54222559 | K47: =qPCR_Summary!J153 -> -0.36854835 | L47: 5 | M47: f
A48: Gh_CAT1 | B48: Antioxidant defense | C48: 150 | D48: Serhosil | E48: Ravnaq-1 | F48: 161 | G48: =qPCR_Summary!F161 -> 0.85562848 | H48: =qPCR_Summary!G161 -> 0.036097432 | I48: =qPCR_Summary!H161 -> 0.016143262 | J48: =qPCR_Summary!I161 -> 0.81080759 | K48: =qPCR_Summary!J161 -> 0.90044936 | L48: 5 | M48: b
A49: Gh_CAT1 | B49: Antioxidant defense | C49: 150 | D49: Serhosil | E49: Porloq-1 | F49: 169 | G49: =qPCR_Summary!F169 -> 0.66855862 | H49: =qPCR_Summary!G169 -> 0.041094942 | I49: =qPCR_Summary!H169 -> 0.018378217 | J49: =qPCR_Summary!I169 -> 0.61753251 | K49: =qPCR_Summary!J169 -> 0.71958473 | L49: 5 | M49: c
A50: Gh_POD1 | B50: Antioxidant defense | C50: 0 | D50: Control | E50: Ishonch | F50: 170 | G50: =qPCR_Summary!F170 -> -0.00037524073 | H50: =qPCR_Summary!G170 -> 0.036791844 | I50: =qPCR_Summary!H170 -> 0.016453813 | J50: =qPCR_Summary!I170 -> -0.046058349 | K50: =qPCR_Summary!J170 -> 0.045307868 | L50: 5 | M50: g
A51: Gh_POD1 | B51: Antioxidant defense | C51: 0 | D51: Control | E51: Ravnaq-1 | F51: 178 | G51: =qPCR_Summary!F178 -> -0.00014429404 | H51: =qPCR_Summary!G178 -> 0.022813997 | I51: =qPCR_Summary!H178 -> 0.010202729 | J51: =qPCR_Summary!I178 -> -0.028471612 | K51: =qPCR_Summary!J178 -> 0.028183024 | L51: 5 | M51: g
A52: Gh_POD1 | B52: Antioxidant defense | C52: 0 | D52: Control | E52: Porloq-1 | F52: 186 | G52: =qPCR_Summary!F186 -> -0.00028865738 | H52: =qPCR_Summary!G186 -> 0.032270159 | I52: =qPCR_Summary!H186 -> 0.014431654 | J52: =qPCR_Summary!I186 -> -0.040357352 | K52: =qPCR_Summary!J186 -> 0.039780037 | L52: 5 | M52: g
A53: Gh_POD1 | B53: Antioxidant defense | C53: 0 | D53: Rizokom-1 | E53: Ishonch | F53: 171 | G53: =qPCR_Summary!F171 -> 0.68678233 | H53: =qPCR_Summary!G171 -> 0.031687375 | I53: =qPCR_Summary!H171 -> 0.014171025 | J53: =qPCR_Summary!I171 -> 0.64743726 | K53: =qPCR_Summary!J171 -> 0.7261274 | L53: 5 | M53: a
A54: Gh_POD1 | B54: Antioxidant defense | C54: 0 | D54: Rizokom-1 | E54: Ravnaq-1 | F54: 179 | G54: =qPCR_Summary!F179 -> 0.58444917 | H54: =qPCR_Summary!G179 -> 0.043037796 | I54: =qPCR_Summary!H179 -> 0.019247088 | J54: =qPCR_Summary!I179 -> 0.53101069 | K54: =qPCR_Summary!J179 -> 0.63788765 | L54: 5 | M54: b
A55: Gh_POD1 | B55: Antioxidant defense | C55: 0 | D55: Rizokom-1 | E55: Porloq-1 | F55: 187 | G55: =qPCR_Summary!F187 -> 0.49533221 | H55: =qPCR_Summary!G187 -> 0.036184129 | I55: =qPCR_Summary!H187 -> 0.016182035 | J55: =qPCR_Summary!I187 -> 0.45040368 | K55: =qPCR_Summary!J187 -> 0.54026074 | L55: 5 | M55: c
A56: Gh_POD1 | B56: Antioxidant defense | C56: 0 | D56: Mikrozim-1 | E56: Ishonch | F56: 172 | G56: =qPCR_Summary!F172 -> 0.57514335 | H56: =qPCR_Summary!G172 -> 0.024688752 | I56: =qPCR_Summary!H172 -> 0.011041146 | J56: =qPCR_Summary!I172 -> 0.54448821 | K56: =qPCR_Summary!J172 -> 0.60579848 | L56: 5 | M56: b
A57: Gh_POD1 | B57: Antioxidant defense | C57: 0 | D57: Mikrozim-1 | E57: Ravnaq-1 | F57: 180 | G57: =qPCR_Summary!F180 -> 0.46447126 | H57: =qPCR_Summary!G180 -> 0.026657248 | I57: =qPCR_Summary!H180 -> 0.011921484 | J57: =qPCR_Summary!I180 -> 0.43137192 | K57: =qPCR_Summary!J180 -> 0.49757061 | L57: 5 | M57: c
A58: Gh_POD1 | B58: Antioxidant defense | C58: 0 | D58: Mikrozim-1 | E58: Porloq-1 | F58: 188 | G58: =qPCR_Summary!F188 -> 0.36693741 | H58: =qPCR_Summary!G188 -> 0.039552005 | I58: =qPCR_Summary!H188 -> 0.017688194 | J58: =qPCR_Summary!I188 -> 0.31782711 | K58: =qPCR_Summary!J188 -> 0.41604771 | L58: 5 | M58: d e
A59: Gh_POD1 | B59: Antioxidant defense | C59: 0 | D59: Serhosil | E59: Ishonch | F59: 173 | G59: =qPCR_Summary!F173 -> 0.43230991 | H59: =qPCR_Summary!G173 -> 0.048406495 | I59: =qPCR_Summary!H173 -> 0.021648043 | J59: =qPCR_Summary!I173 -> 0.37220531 | K59: =qPCR_Summary!J173 -> 0.49241451 | L59: 5 | M59: c d
A60: Gh_POD1 | B60: Antioxidant defense | C60: 0 | D60: Serhosil | E60: Ravnaq-1 | F60: 181 | G60: =qPCR_Summary!F181 -> 0.34447056 | H60: =qPCR_Summary!G181 -> 0.035934516 | I60: =qPCR_Summary!H181 -> 0.016070404 | J60: =qPCR_Summary!I181 -> 0.29985196 | K60: =qPCR_Summary!J181 -> 0.38908915 | L60: 5 | M60: e f
A61: Gh_POD1 | B61: Antioxidant defense | C61: 0 | D61: Serhosil | E61: Porloq-1 | F61: 189 | G61: =qPCR_Summary!F189 -> 0.28639628 | H61: =qPCR_Summary!G189 -> 0.041822846 | I61: =qPCR_Summary!H189 -> 0.018703745 | J61: =qPCR_Summary!I189 -> 0.23446636 | K61: =qPCR_Summary!J189 -> 0.3383262 | L61: 5 | M61: f
A62: Gh_POD1 | B62: Antioxidant defense | C62: 150 | D62: Control | E62: Ishonch | F62: 174 | G62: =qPCR_Summary!F174 -> -0.55720521 | H62: =qPCR_Summary!G174 -> 0.054123101 | I62: =qPCR_Summary!H174 -> 0.024204587 | J62: =qPCR_Summary!I174 -> -0.62440791 | K62: =qPCR_Summary!J174 -> -0.4900025 | L62: 5 | M62: i
A63: Gh_POD1 | B63: Antioxidant defense | C63: 150 | D63: Control | E63: Ravnaq-1 | F63: 182 | G63: =qPCR_Summary!F182 -> 0.798849 | H63: =qPCR_Summary!G182 -> 0.029319125 | I63: =qPCR_Summary!H182 -> 0.013111911 | J63: =qPCR_Summary!I182 -> 0.76244449 | K63: =qPCR_Summary!J182 -> 0.8352535 | L63: 5 | M63: e
A64: Gh_POD1 | B64: Antioxidant defense | C64: 150 | D64: Control | E64: Porloq-1 | F64: 190 | G64: =qPCR_Summary!F190 -> 0.93337487 | H64: =qPCR_Summary!G190 -> 0.02670883 | I64: =qPCR_Summary!H190 -> 0.011944552 | J64: =qPCR_Summary!I190 -> 0.90021148 | K64: =qPCR_Summary!J190 -> 0.96653826 | L64: 5 | M64: d
A65: Gh_POD1 | B65: Antioxidant defense | C65: 150 | D65: Rizokom-1 | E65: Ishonch | F65: 175 | G65: =qPCR_Summary!F175 -> 0.041963966 | H65: =qPCR_Summary!G175 -> 0.049544357 | I65: =qPCR_Summary!H175 -> 0.02215691 | J65: =qPCR_Summary!I175 -> -0.019553478 | K65: =qPCR_Summary!J175 -> 0.10348141 | L65: 5 | M65: f
A66: Gh_POD1 | B66: Antioxidant defense | C66: 150 | D66: Rizokom-1 | E66: Ravnaq-1 | F66: 183 | G66: =qPCR_Summary!F183 -> 1.2747508 | H66: =qPCR_Summary!G183 -> 0.030403811 | I66: =qPCR_Summary!H183 -> 0.013596998 | J66: =qPCR_Summary!I183 -> 1.2369995 | K66: =qPCR_Summary!J183 -> 1.3125021 | L66: 5 | M66: a
A67: Gh_POD1 | B67: Antioxidant defense | C67: 150 | D67: Rizokom-1 | E67: Porloq-1 | F67: 191 | G67: =qPCR_Summary!F191 -> 1.3217388 | H67: =qPCR_Summary!G191 -> 0.026131579 | I67: =qPCR_Summary!H191 -> 0.011686398 | J67: =qPCR_Summary!I191 -> 1.2892921 | K67: =qPCR_Summary!J191 -> 1.3541854 | L67: 5 | M67: a
A68: Gh_POD1 | B68: Antioxidant defense | C68: 150 | D68: Mikrozim-1 | E68: Ishonch | F68: 176 | G68: =qPCR_Summary!F176 -> -0.074416377 | H68: =qPCR_Summary!G176 -> 0.038729417 | I68: =qPCR_Summary!H176 -> 0.017320322 | J68: =qPCR_Summary!I176 -> -0.1225053 | K68: =qPCR_Summary!J176 -> -0.026327455 | L68: 5 | M68: g
A69: Gh_POD1 | B69: Antioxidant defense | C69: 150 | D69: Mikrozim-1 | E69: Ravnaq-1 | F69: 184 | G69: =qPCR_Summary!F184 -> 1.1568464 | H69: =qPCR_Summary!G184 -> 0.026678562 | I69: =qPCR_Summary!H184 -> 0.011931016 | J69: =qPCR_Summary!I184 -> 1.1237206 | K69: =qPCR_Summary!J184 -> 1.1899722 | L69: 5 | M69: b
A70: Gh_POD1 | B70: Antioxidant defense | C70: 150 | D70: Mikrozim-1 | E70: Porloq-1 | F70: 192 | G70: =qPCR_Summary!F192 -> 1.1824627 | H70: =qPCR_Summary!G192 -> 0.028780037 | I70: =qPCR_Summary!H192 -> 0.012870824 | J70: =qPCR_Summary!I192 -> 1.1467275 | K70: =qPCR_Summary!J192 -> 1.2181978 | L70: 5 | M70: b
A71: Gh_POD1 | B71: Antioxidant defense | C71: 150 | D71: Serhosil | E71: Ishonch | F71: 177 | G71: =qPCR_Summary!F177 -> -0.23546459 | H71: =qPCR_Summary!G177 -> 0.060049187 | I71: =qPCR_Summary!H177 -> 0.026854813 | J71: =qPCR_Summary!I177 -> -0.3100255 | K71: =qPCR_Summary!J177 -> -0.16090368 | L71: 5 | M71: h
A72: Gh_POD1 | B72: Antioxidant defense | C72: 150 | D72: Serhosil | E72: Ravnaq-1 | F72: 185 | G72: =qPCR_Summary!F185 -> 1.0702585 | H72: =qPCR_Summary!G185 -> 0.021727352 | I72: =qPCR_Summary!H185 -> 0.009716767 | J72: =qPCR_Summary!I185 -> 1.0432804 | K72: =qPCR_Summary!J185 -> 1.0972365 | L72: 5 | M72: c
A73: Gh_POD1 | B73: Antioxidant defense | C73: 150 | D73: Serhosil | E73: Porloq-1 | F73: 193 | G73: =qPCR_Summary!F193 -> 1.0424743 | H73: =qPCR_Summary!G193 -> 0.024763542 | I73: =qPCR_Summary!H193 -> 0.011074593 | J73: =qPCR_Summary!I193 -> 1.0117263 | K73: =qPCR_Summary!J193 -> 1.0732223 | L73: 5 | M73: c
A74: Gh_APX | B74: Antioxidant defense | C74: 0 | D74: Control | E74: Ishonch | F74: 122 | G74: =qPCR_Summary!F122 -> -0.00014429404 | H74: =qPCR_Summary!G122 -> 0.022813997 | I74: =qPCR_Summary!H122 -> 0.010202729 | J74: =qPCR_Summary!I122 -> -0.028471612 | K74: =qPCR_Summary!J122 -> 0.028183024 | L74: 5 | M74: i
A75: Gh_APX | B75: Antioxidant defense | C75: 0 | D75: Control | E75: Ravnaq-1 | F75: 130 | G75: =qPCR_Summary!F130 -> -0.00014429404 | H75: =qPCR_Summary!G130 -> 0.022813997 | I75: =qPCR_Summary!H130 -> 0.010202729 | J75: =qPCR_Summary!I130 -> -0.028471612 | K75: =qPCR_Summary!J130 -> 0.028183024 | L75: 5 | M75: i
A76: Gh_APX | B76: Antioxidant defense | C76: 0 | D76: Control | E76: Porloq-1 | F76: 138 | G76: =qPCR_Summary!F138 -> -0.00014429404 | H76: =qPCR_Summary!G138 -> 0.022813997 | I76: =qPCR_Summary!H138 -> 0.010202729 | J76: =qPCR_Summary!I138 -> -0.028471612 | K76: =qPCR_Summary!J138 -> 0.028183024 | L76: 5 | M76: i
A77: Gh_APX | B77: Antioxidant defense | C77: 0 | D77: Rizokom-1 | E77: Ishonch | F77: 123 | G77: =qPCR_Summary!F123 -> 0.91805495 | H77: =qPCR_Summary!G123 -> 0.034568816 | I77: =qPCR_Summary!H123 -> 0.015459645 | J77: =qPCR_Summary!I123 -> 0.8751321 | K77: =qPCR_Summary!J123 -> 0.96097781 | L77: 5 | M77: a
A78: Gh_APX | B78: Antioxidant defense | C78: 0 | D78: Rizokom-1 | E78: Ravnaq-1 | F78: 131 | G78: =qPCR_Summary!F131 -> 0.83949109 | H78: =qPCR_Summary!G131 -> 0.041111037 | I78: =qPCR_Summary!H131 -> 0.018385415 | J78: =qPCR_Summary!I131 -> 0.788445 | K78: =qPCR_Summary!J131 -> 0.89053719 | L78: 5 | M78: b
A79: Gh_APX | B79: Antioxidant defense | C79: 0 | D79: Rizokom-1 | E79: Porloq-1 | F79: 139 | G79: =qPCR_Summary!F139 -> 0.56526775 | H79: =qPCR_Summary!G139 -> 0.034471928 | I79: =qPCR_Summary!H139 -> 0.015416315 | J79: =qPCR_Summary!I139 -> 0.5224652 | K79: =qPCR_Summary!J139 -> 0.6080703 | L79: 5 | M79: f
A80: Gh_APX | B80: Antioxidant defense | C80: 0 | D80: Mikrozim-1 | E80: Ishonch | F80: 124 | G80: =qPCR_Summary!F124 -> 0.79869643 | H80: =qPCR_Summary!G124 -> 0.037550362 | I80: =qPCR_Summary!H124 -> 0.016793032 | J80: =qPCR_Summary!I124 -> 0.75207149 | K80: =qPCR_Summary!J124 -> 0.84532136 | L80: 5 | M80: b c
A81: Gh_APX | B81: Antioxidant defense | C81: 0 | D81: Mikrozim-1 | E81: Ravnaq-1 | F81: 132 | G81: =qPCR_Summary!F132 -> 0.73082709 | H81: =qPCR_Summary!G132 -> 0.03584381 | I81: =qPCR_Summary!H132 -> 0.016029839 | J81: =qPCR_Summary!I132 -> 0.68632113 | K81: =qPCR_Summary!J132 -> 0.77533306 | L81: 5 | M81: c d
A82: Gh_APX | B82: Antioxidant defense | C82: 0 | D82: Mikrozim-1 | E82: Porloq-1 | F82: 140 | G82: =qPCR_Summary!F140 -> 0.4747114 | H82: =qPCR_Summary!G140 -> 0.036705028 | I82: =qPCR_Summary!H140 -> 0.016414988 | J82: =qPCR_Summary!I140 -> 0.42913609 | K82: =qPCR_Summary!J140 -> 0.52028672 | L82: 5 | M82: g
A83: Gh_APX | B83: Antioxidant defense | C83: 0 | D83: Serhosil | E83: Ishonch | F83: 125 | G83: =qPCR_Summary!F125 -> 0.68668207 | H83: =qPCR_Summary!G125 -> 0.036957633 | I83: =qPCR_Summary!H125 -> 0.016527956 | J83: =qPCR_Summary!I125 -> 0.6407931 | K83: =qPCR_Summary!J125 -> 0.73257103 | L83: 5 | M83: d e
A84: Gh_APX | B84: Antioxidant defense | C84: 0 | D84: Serhosil | E84: Ravnaq-1 | F84: 133 | G84: =qPCR_Summary!F133 -> 0.6224313 | H84: =qPCR_Summary!G133 -> 0.042430057 | I84: =qPCR_Summary!H133 -> 0.018975299 | J84: =qPCR_Summary!I133 -> 0.56974743 | K84: =qPCR_Summary!J133 -> 0.67511518 | L84: 5 | M84: e f
A85: Gh_APX | B85: Antioxidant defense | C85: 0 | D85: Serhosil | E85: Porloq-1 | F85: 141 | G85: =qPCR_Summary!F141 -> 0.34447056 | H85: =qPCR_Summary!G141 -> 0.035934516 | I85: =qPCR_Summary!H141 -> 0.016070404 | J85: =qPCR_Summary!I141 -> 0.29985196 | K85: =qPCR_Summary!J141 -> 0.38908915 | L85: 5 | M85: h
A86: Gh_APX | B86: Antioxidant defense | C86: 150 | D86: Control | E86: Ishonch | F86: 126 | G86: =qPCR_Summary!F126 -> -0.81212201 | H86: =qPCR_Summary!G126 -> 0.064584314 | I86: =qPCR_Summary!H126 -> 0.028882983 | J86: =qPCR_Summary!I126 -> -0.89231403 | K86: =qPCR_Summary!J126 -> -0.73193 | L86: 5 | M86: j
A87: Gh_APX | B87: Antioxidant defense | C87: 150 | D87: Control | E87: Ravnaq-1 | F87: 134 | G87: =qPCR_Summary!F134 -> 0.42183112 | H87: =qPCR_Summary!G134 -> 0.038075358 | I87: =qPCR_Summary!H134 -> 0.017027818 | J87: =qPCR_Summary!I134 -> 0.37455432 | K87: =qPCR_Summary!J134 -> 0.46910792 | L87: 5 | M87: f
A88: Gh_APX | B88: Antioxidant defense | C88: 150 | D88: Control | E88: Porloq-1 | F88: 142 | G88: =qPCR_Summary!F142 -> 0.80703448 | H88: =qPCR_Summary!G142 -> 0.033999446 | I88: =qPCR_Summary!H142 -> 0.015205015 | J88: =qPCR_Summary!I142 -> 0.76481859 | K88: =qPCR_Summary!J142 -> 0.84925036 | L88: 5 | M88: e
A89: Gh_APX | B89: Antioxidant defense | C89: 150 | D89: Rizokom-1 | E89: Ishonch | F89: 127 | G89: =qPCR_Summary!F127 -> -0.029537065 | H89: =qPCR_Summary!G127 -> 0.037543127 | I89: =qPCR_Summary!H127 -> 0.016789797 | J89: =qPCR_Summary!I127 -> -0.076153014 | K89: =qPCR_Summary!J127 -> 0.017078885 | L89: 5 | M89: g
A90: Gh_APX | B90: Antioxidant defense | C90: 150 | D90: Rizokom-1 | E90: Ravnaq-1 | F90: 135 | G90: =qPCR_Summary!F135 -> 1.0422906 | H90: =qPCR_Summary!G135 -> 0.035719669 | I90: =qPCR_Summary!H135 -> 0.015974321 | J90: =qPCR_Summary!I135 -> 0.99793882 | K90: =qPCR_Summary!J135 -> 1.0866425 | L90: 5 | M90: c
A91: Gh_APX | B91: Antioxidant defense | C91: 150 | D91: Rizokom-1 | E91: Porloq-1 | F91: 143 | G91: =qPCR_Summary!F143 -> 1.3159549 | H91: =qPCR_Summary!G143 -> 0.026236552 | I91: =qPCR_Summary!H143 -> 0.011733343 | J91: =qPCR_Summary!I143 -> 1.2833779 | K91: =qPCR_Summary!J143 -> 1.3485319 | L91: 5 | M91: a
A92: Gh_APX | B92: Antioxidant defense | C92: 150 | D92: Mikrozim-1 | E92: Ishonch | F92: 128 | G92: =qPCR_Summary!F128 -> -0.15289439 | H92: =qPCR_Summary!G128 -> 0.056708935 | I92: =qPCR_Summary!H128 -> 0.025361007 | J92: =qPCR_Summary!I128 -> -0.22330783 | K92: =qPCR_Summary!J128 -> -0.082480945 | L92: 5 | M92: h
A93: Gh_APX | B93: Antioxidant defense | C93: 150 | D93: Mikrozim-1 | E93: Ravnaq-1 | F93: 136 | G93: =qPCR_Summary!F136 -> 0.94078531 | H93: =qPCR_Summary!G136 -> 0.034028448 | I93: =qPCR_Summary!H136 -> 0.015217985 | J93: =qPCR_Summary!I136 -> 0.89853341 | K93: =qPCR_Summary!J136 -> 0.9830372 | L93: 5 | M93: d
A94: Gh_APX | B94: Antioxidant defense | C94: 150 | D94: Mikrozim-1 | E94: Porloq-1 | F94: 144 | G94: =qPCR_Summary!F144 -> 1.1887451 | H94: =qPCR_Summary!G144 -> 0.032271485 | I94: =qPCR_Summary!H144 -> 0.014432247 | J94: =qPCR_Summary!I144 -> 1.1486748 | K94: =qPCR_Summary!J144 -> 1.2288155 | L94: 5 | M94: b
A95: Gh_APX | B95: Antioxidant defense | C95: 150 | D95: Serhosil | E95: Ishonch | F95: 129 | G95: =qPCR_Summary!F129 -> -0.26986488 | H95: =qPCR_Summary!G129 -> 0.061498205 | I95: =qPCR_Summary!H129 -> 0.027502833 | J95: =qPCR_Summary!I129 -> -0.34622499 | K95: =qPCR_Summary!J129 -> -0.19350478 | L95: 5 | M95: i
A96: Gh_APX | B96: Antioxidant defense | C96: 150 | D96: Serhosil | E96: Ravnaq-1 | F96: 137 | G96: =qPCR_Summary!F137 -> 0.7727368 | H96: =qPCR_Summary!G137 -> 0.067890502 | I96: =qPCR_Summary!H137 -> 0.030361556 | J96: =qPCR_Summary!I137 -> 0.68843961 | K96: =qPCR_Summary!J137 -> 0.85703399 | L96: 5 | M96: e
A97: Gh_APX | B97: Antioxidant defense | C97: 150 | D97: Serhosil | E97: Porloq-1 | F97: 145 | G97: =qPCR_Summary!F145 -> 1.0351156 | H97: =qPCR_Summary!G145 -> 0.042822998 | I97: =qPCR_Summary!H145 -> 0.019151027 | J97: =qPCR_Summary!I145 -> 0.98194381 | K97: =qPCR_Summary!J145 -> 1.0882874 | L97: 5 | M97: c d
A98: Gh_GPX | B98: Antioxidant defense | C98: 0 | D98: Control | E98: Ishonch | F98: 194 | G98: =qPCR_Summary!F194 -> -0.00014429404 | H98: =qPCR_Summary!G194 -> 0.022813997 | I98: =qPCR_Summary!H194 -> 0.010202729 | J98: =qPCR_Summary!I194 -> -0.028471612 | K98: =qPCR_Summary!J194 -> 0.028183024 | L98: 5 | M98: g
A99: Gh_GPX | B99: Antioxidant defense | C99: 0 | D99: Control | E99: Ravnaq-1 | F99: 202 | G99: =qPCR_Summary!F202 -> -0.00014429404 | H99: =qPCR_Summary!G202 -> 0.022813997 | I99: =qPCR_Summary!H202 -> 0.010202729 | J99: =qPCR_Summary!I202 -> -0.028471612 | K99: =qPCR_Summary!J202 -> 0.028183024 | L99: 5 | M99: g
A100: Gh_GPX | B100: Antioxidant defense | C100: 0 | D100: Control | E100: Porloq-1 | F100: 210 | G100: =qPCR_Summary!F210 -> -0.00014429404 | H100: =qPCR_Summary!G210 -> 0.022813997 | I100: =qPCR_Summary!H210 -> 0.010202729 | J100: =qPCR_Summary!I210 -> -0.028471612 | K100: =qPCR_Summary!J210 -> 0.028183024 | L100: 5 | M100: g
...

Sheet qPCR_Figure4B_data
A1: Gene | B1: Module | C1: NaCl, mM | D1: Treatment | E1: Genotype | F1: Summary_row | G1: Mean_log2_FC | H1: SD_log2_FC | I1: SE_log2_FC | J1: CI95_low | K1: CI95_high | L1: n | M1: Tukey_letters
A2: Gh_P5CS | B2: Metabolic/osmoprotective | C2: 0 | D2: Control | E2: Ishonch | F2: 242 | G2: =qPCR_Summary!F242 -> -0.00014429404 | H2: =qPCR_Summary!G242 -> 0.022813997 | I2: =qPCR_Summary!H242 -> 0.010202729 | J2: =qPCR_Summary!I242 -> -0.028471612 | K2: =qPCR_Summary!J242 -> 0.028183024 | L2: 5 | M2: h
A3: Gh_P5CS | B3: Metabolic/osmoprotective | C3: 0 | D3: Control | E3: Ravnaq-1 | F3: 250 | G3: =qPCR_Summary!F250 -> -0.00014429404 | H3: =qPCR_Summary!G250 -> 0.022813997 | I3: =qPCR_Summary!H250 -> 0.010202729 | J3: =qPCR_Summary!I250 -> -0.028471612 | K3: =qPCR_Summary!J250 -> 0.028183024 | L3: 5 | M3: h
A4: Gh_P5CS | B4: Metabolic/osmoprotective | C4: 0 | D4: Control | E4: Porloq-1 | F4: 258 | G4: =qPCR_Summary!F258 -> -0.00014429404 | H4: =qPCR_Summary!G258 -> 0.022813997 | I4: =qPCR_Summary!H258 -> 0.010202729 | J4: =qPCR_Summary!I258 -> -0.028471612 | K4: =qPCR_Summary!J258 -> 0.028183024 | L4: 5 | M4: h
A5: Gh_P5CS | B5: Metabolic/osmoprotective | C5: 0 | D5: Rizokom-1 | E5: Ishonch | F5: 243 | G5: =qPCR_Summary!F243 -> 1.2076116 | H5: =qPCR_Summary!G243 -> 0.0318522 | I5: =qPCR_Summary!H243 -> 0.014244737 | J5: =qPCR_Summary!I243 -> 1.1680619 | K5: =qPCR_Summary!J243 -> 1.2471613 | L5: 5 | M5: a
A6: Gh_P5CS | B6: Metabolic/osmoprotective | C6: 0 | D6: Rizokom-1 | E6: Ravnaq-1 | F6: 251 | G6: =qPCR_Summary!F251 -> 0.89479363 | H6: =qPCR_Summary!G251 -> 0.04285036 | I6: =qPCR_Summary!H251 -> 0.019163264 | J6: =qPCR_Summary!I251 -> 0.84158789 | K6: =qPCR_Summary!J251 -> 0.94799938 | L6: 5 | M6: c
A7: Gh_P5CS | B7: Metabolic/osmoprotective | C7: 0 | D7: Rizokom-1 | E7: Porloq-1 | F7: 259 | G7: =qPCR_Summary!F259 -> 0.73063845 | H7: =qPCR_Summary!G259 -> 0.044333073 | I7: =qPCR_Summary!H259 -> 0.019826353 | J7: =qPCR_Summary!I259 -> 0.67559167 | K7: =qPCR_Summary!J259 -> 0.78568524 | L7: 5 | M7: d
A8: Gh_P5CS | B8: Metabolic/osmoprotective | C8: 0 | D8: Mikrozim-1 | E8: Ishonch | F8: 244 | G8: =qPCR_Summary!F244 -> 1.0699049 | H8: =qPCR_Summary!G244 -> 0.041802698 | I8: =qPCR_Summary!H244 -> 0.018694735 | J8: =qPCR_Summary!I244 -> 1.018 | K8: =qPCR_Summary!J244 -> 1.1218098 | L8: 5 | M8: b
A9: Gh_P5CS | B9: Metabolic/osmoprotective | C9: 0 | D9: Mikrozim-1 | E9: Ravnaq-1 | F9: 252 | G9: =qPCR_Summary!F252 -> 0.75660889 | H9: =qPCR_Summary!G252 -> 0.038661918 | I9: =qPCR_Summary!H252 -> 0.017290135 | J9: =qPCR_Summary!I252 -> 0.70860377 | K9: =qPCR_Summary!J252 -> 0.804614 | L9: 5 | M9: d
A10: Gh_P5CS | B10: Metabolic/osmoprotective | C10: 0 | D10: Mikrozim-1 | E10: Porloq-1 | F10: 260 | G10: =qPCR_Summary!F260 -> 0.53521513 | H10: =qPCR_Summary!G260 -> 0.054978357 | I10: =qPCR_Summary!H260 -> 0.024587069 | J10: =qPCR_Summary!I260 -> 0.46695049 | K10: =qPCR_Summary!J260 -> 0.60347978 | L10: 5 | M10: e
A11: Gh_P5CS | B11: Metabolic/osmoprotective | C11: 0 | D11: Serhosil | E11: Ishonch | F11: 245 | G11: =qPCR_Summary!F245 -> 0.60355905 | H11: =qPCR_Summary!G245 -> 0.042988722 | I11: =qPCR_Summary!H245 -> 0.019225141 | J11: =qPCR_Summary!I245 -> 0.5501815 | K11: =qPCR_Summary!J245 -> 0.6569366 | L11: 5 | M11: e
A12: Gh_P5CS | B12: Metabolic/osmoprotective | C12: 0 | D12: Serhosil | E12: Ravnaq-1 | F12: 253 | G12: =qPCR_Summary!F253 -> 0.40012377 | H12: =qPCR_Summary!G253 -> 0.038652581 | I12: =qPCR_Summary!H253 -> 0.01728596 | J12: =qPCR_Summary!I253 -> 0.35213025 | K12: =qPCR_Summary!J253 -> 0.44811729 | L12: 5 | M12: f
A13: Gh_P5CS | B13: Metabolic/osmoprotective | C13: 0 | D13: Serhosil | E13: Porloq-1 | F13: 261 | G13: =qPCR_Summary!F261 -> 0.25012554 | H13: =qPCR_Summary!G261 -> 0.054921684 | I13: =qPCR_Summary!H261 -> 0.024561724 | J13: =qPCR_Summary!I261 -> 0.18193126 | K13: =qPCR_Summary!J261 -> 0.31831982 | L13: 5 | M13: g
A14: Gh_P5CS | B14: Metabolic/osmoprotective | C14: 150 | D14: Control | E14: Ishonch | F14: 246 | G14: =qPCR_Summary!F246 -> -0.6447728 | H14: =qPCR_Summary!G246 -> 0.057510244 | I14: =qPCR_Summary!H246 -> 0.025719363 | J14: =qPCR_Summary!I246 -> -0.7161812 | K14: =qPCR_Summary!J246 -> -0.5733644 | L14: 5 | M14: i
A15: Gh_P5CS | B15: Metabolic/osmoprotective | C15: 150 | D15: Control | E15: Ravnaq-1 | F15: 254 | G15: =qPCR_Summary!F254 -> 0.87949266 | H15: =qPCR_Summary!G254 -> 0.027725217 | I15: =qPCR_Summary!H254 -> 0.012399094 | J15: =qPCR_Summary!I254 -> 0.84506726 | K15: =qPCR_Summary!J254 -> 0.91391806 | L15: 5 | M15: e
A16: Gh_P5CS | B16: Metabolic/osmoprotective | C16: 150 | D16: Control | E16: Porloq-1 | F16: 262 | G16: =qPCR_Summary!F262 -> 1.0142634 | H16: =qPCR_Summary!G262 -> 0.018209974 | I16: =qPCR_Summary!H262 -> 0.0081437481 | J16: =qPCR_Summary!I262 -> 0.99165269 | K16: =qPCR_Summary!J262 -> 1.036874 | L16: 5 | M16: d
A17: Gh_P5CS | B17: Metabolic/osmoprotective | C17: 150 | D17: Rizokom-1 | E17: Ishonch | F17: 247 | G17: =qPCR_Summary!F247 -> 0.4949399 | H17: =qPCR_Summary!G247 -> 0.05220166 | I17: =qPCR_Summary!H247 -> 0.023345292 | J17: =qPCR_Summary!I247 -> 0.43012298 | K17: =qPCR_Summary!J247 -> 0.55975683 | L17: 5 | M17: f
A18: Gh_P5CS | B18: Metabolic/osmoprotective | C18: 150 | D18: Rizokom-1 | E18: Ravnaq-1 | F18: 255 | G18: =qPCR_Summary!F255 -> 1.6551046 | H18: =qPCR_Summary!G255 -> 0.029862565 | I18: =qPCR_Summary!H255 -> 0.013354945 | J18: =qPCR_Summary!I255 -> 1.6180253 | K18: =qPCR_Summary!J255 -> 1.6921839 | L18: 5 | M18: a
A19: Gh_P5CS | B19: Metabolic/osmoprotective | C19: 150 | D19: Rizokom-1 | E19: Porloq-1 | F19: 263 | G19: =qPCR_Summary!F263 -> 1.6733154 | H19: =qPCR_Summary!G263 -> 0.029487997 | I19: =qPCR_Summary!H263 -> 0.013187433 | J19: =qPCR_Summary!I263 -> 1.6367012 | K19: =qPCR_Summary!J263 -> 1.7099295 | L19: 5 | M19: a
A20: Gh_P5CS | B20: Metabolic/osmoprotective | C20: 150 | D20: Mikrozim-1 | E20: Ishonch | F20: 248 | G20: =qPCR_Summary!F248 -> 0.39997456 | H20: =qPCR_Summary!G248 -> 0.04508375 | I20: =qPCR_Summary!H248 -> 0.020162066 | J20: =qPCR_Summary!I248 -> 0.34399569 | K20: =qPCR_Summary!J248 -> 0.45595343 | L20: 5 | M20: g
A21: Gh_P5CS | B21: Metabolic/osmoprotective | C21: 150 | D21: Mikrozim-1 | E21: Ravnaq-1 | F21: 256 | G21: =qPCR_Summary!F256 -> 1.5004957 | H21: =qPCR_Summary!G256 -> 0.033240507 | I21: =qPCR_Summary!H256 -> 0.014865607 | J21: =qPCR_Summary!I256 -> 1.4592222 | K21: =qPCR_Summary!J256 -> 1.5417693 | L21: 5 | M21: b
A22: Gh_P5CS | B22: Metabolic/osmoprotective | C22: 150 | D22: Mikrozim-1 | E22: Porloq-1 | F22: 264 | G22: =qPCR_Summary!F264 -> 1.5408419 | H22: =qPCR_Summary!G264 -> 0.025282793 | I22: =qPCR_Summary!H264 -> 0.011306809 | J22: =qPCR_Summary!I264 -> 1.5094492 | K22: =qPCR_Summary!J264 -> 1.5722347 | L22: 5 | M22: b
A23: Gh_P5CS | B23: Metabolic/osmoprotective | C23: 150 | D23: Serhosil | E23: Ishonch | F23: 249 | G23: =qPCR_Summary!F249 -> -0.21837241 | H23: =qPCR_Summary!G249 -> 0.053086451 | I23: =qPCR_Summary!H249 -> 0.023740983 | J23: =qPCR_Summary!I249 -> -0.28428795 | K23: =qPCR_Summary!J249 -> -0.15245688 | L23: 5 | M23: h
A24: Gh_P5CS | B24: Metabolic/osmoprotective | C24: 150 | D24: Serhosil | E24: Ravnaq-1 | F24: 257 | G24: =qPCR_Summary!F257 -> 1.1436859 | H24: =qPCR_Summary!G257 -> 0.036060641 | I24: =qPCR_Summary!H257 -> 0.016126809 | J24: =qPCR_Summary!I257 -> 1.0989107 | K24: =qPCR_Summary!J257 -> 1.1884611 | L24: 5 | M24: c
A25: Gh_P5CS | B25: Metabolic/osmoprotective | C25: 150 | D25: Serhosil | E25: Porloq-1 | F25: 265 | G25: =qPCR_Summary!F265 -> 1.1759781 | H25: =qPCR_Summary!G265 -> 0.035262479 | I25: =qPCR_Summary!H265 -> 0.01576986 | J25: =qPCR_Summary!I265 -> 1.1321939 | K25: =qPCR_Summary!J265 -> 1.2197622 | L25: 5 | M25: c
A26: Gh_SPS | B26: Metabolic/osmoprotective | C26: 0 | D26: Control | E26: Ishonch | F26: 266 | G26: =qPCR_Summary!F266 -> -0.00014429404 | H26: =qPCR_Summary!G266 -> 0.022813997 | I26: =qPCR_Summary!H266 -> 0.010202729 | J26: =qPCR_Summary!I266 -> -0.028471612 | K26: =qPCR_Summary!J266 -> 0.028183024 | L26: 5 | M26: h
A27: Gh_SPS | B27: Metabolic/osmoprotective | C27: 0 | D27: Control | E27: Ravnaq-1 | F27: 274 | G27: =qPCR_Summary!F274 -> -0.00014429404 | H27: =qPCR_Summary!G274 -> 0.022813997 | I27: =qPCR_Summary!H274 -> 0.010202729 | J27: =qPCR_Summary!I274 -> -0.028471612 | K27: =qPCR_Summary!J274 -> 0.028183024 | L27: 5 | M27: h
A28: Gh_SPS | B28: Metabolic/osmoprotective | C28: 0 | D28: Control | E28: Porloq-1 | F28: 282 | G28: =qPCR_Summary!F282 -> -0.00014429404 | H28: =qPCR_Summary!G282 -> 0.022813997 | I28: =qPCR_Summary!H282 -> 0.010202729 | J28: =qPCR_Summary!I282 -> -0.028471612 | K28: =qPCR_Summary!J282 -> 0.028183024 | L28: 5 | M28: h
A29: Gh_SPS | B29: Metabolic/osmoprotective | C29: 0 | D29: Rizokom-1 | E29: Ishonch | F29: 267 | G29: =qPCR_Summary!F267 -> 1.3098097 | H29: =qPCR_Summary!G267 -> 0.043741465 | I29: =qPCR_Summary!H267 -> 0.019561778 | J29: =qPCR_Summary!I267 -> 1.2554975 | K29: =qPCR_Summary!J267 -> 1.3641219 | L29: 5 | M29: a
A30: Gh_SPS | B30: Metabolic/osmoprotective | C30: 0 | D30: Rizokom-1 | E30: Ravnaq-1 | F30: 275 | G30: =qPCR_Summary!F275 -> 0.97764516 | H30: =qPCR_Summary!G275 -> 0.044563326 | I30: =qPCR_Summary!H275 -> 0.019929325 | J30: =qPCR_Summary!I275 -> 0.92231248 | K30: =qPCR_Summary!J275 -> 1.0329778 | L30: 5 | M30: c
A31: Gh_SPS | B31: Metabolic/osmoprotective | C31: 0 | D31: Rizokom-1 | E31: Porloq-1 | F31: 283 | G31: =qPCR_Summary!F283 -> 0.74730484 | H31: =qPCR_Summary!G283 -> 0.064596401 | I31: =qPCR_Summary!H283 -> 0.028888389 | J31: =qPCR_Summary!I283 -> 0.66709781 | K31: =qPCR_Summary!J283 -> 0.82751186 | L31: 5 | M31: d
A32: Gh_SPS | B32: Metabolic/osmoprotective | C32: 0 | D32: Mikrozim-1 | E32: Ishonch | F32: 268 | G32: =qPCR_Summary!F268 -> 1.1631478 | H32: =qPCR_Summary!G268 -> 0.035577465 | I32: =qPCR_Summary!H268 -> 0.015910726 | J32: =qPCR_Summary!I268 -> 1.1189726 | K32: =qPCR_Summary!J268 -> 1.2073231 | L32: 5 | M32: b
A33: Gh_SPS | B33: Metabolic/osmoprotective | C33: 0 | D33: Mikrozim-1 | E33: Ravnaq-1 | F33: 276 | G33: =qPCR_Summary!F276 -> 0.83132145 | H33: =qPCR_Summary!G276 -> 0.044777574 | I33: =qPCR_Summary!H276 -> 0.02002514 | J33: =qPCR_Summary!I276 -> 0.77572275 | K33: =qPCR_Summary!J276 -> 0.88692015 | L33: 5 | M33: d
A34: Gh_SPS | B34: Metabolic/osmoprotective | C34: 0 | D34: Mikrozim-1 | E34: Porloq-1 | F34: 284 | G34: =qPCR_Summary!F284 -> 0.59402946 | H34: =qPCR_Summary!G284 -> 0.04327361 | I34: =qPCR_Summary!H284 -> 0.019352547 | J34: =qPCR_Summary!I284 -> 0.54029818 | K34: =qPCR_Summary!J284 -> 0.64776075 | L34: 5 | M34: e
A35: Gh_SPS | B35: Metabolic/osmoprotective | C35: 0 | D35: Serhosil | E35: Ishonch | F35: 269 | G35: =qPCR_Summary!F269 -> 0.44265424 | H35: =qPCR_Summary!G269 -> 0.058620977 | I35: =qPCR_Summary!H269 -> 0.026216098 | J35: =qPCR_Summary!I269 -> 0.36986668 | K35: =qPCR_Summary!J269 -> 0.51544179 | L35: 5 | M35: f
A36: Gh_SPS | B36: Metabolic/osmoprotective | C36: 0 | D36: Serhosil | E36: Ravnaq-1 | F36: 277 | G36: =qPCR_Summary!F277 -> 0.38914631 | H36: =qPCR_Summary!G277 -> 0.038947808 | I36: =qPCR_Summary!H277 -> 0.017417989 | J36: =qPCR_Summary!I277 -> 0.34078621 | K36: =qPCR_Summary!J277 -> 0.4375064 | L36: 5 | M36: f
A37: Gh_SPS | B37: Metabolic/osmoprotective | C37: 0 | D37: Serhosil | E37: Porloq-1 | F37: 285 | G37: =qPCR_Summary!F285 -> 0.27451413 | H37: =qPCR_Summary!G285 -> 0.042168721 | I37: =qPCR_Summary!H285 -> 0.018858425 | J37: =qPCR_Summary!I285 -> 0.22215475 | K37: =qPCR_Summary!J285 -> 0.32687351 | L37: 5 | M37: g
A38: Gh_SPS | B38: Metabolic/osmoprotective | C38: 150 | D38: Control | E38: Ishonch | F38: 270 | G38: =qPCR_Summary!F270 -> -0.76229186 | H38: =qPCR_Summary!G270 -> 0.062391462 | I38: =qPCR_Summary!H270 -> 0.02790231 | J38: =qPCR_Summary!I270 -> -0.8397611 | K38: =qPCR_Summary!J270 -> -0.68482263 | L38: 5 | M38: h
A39: Gh_SPS | B39: Metabolic/osmoprotective | C39: 150 | D39: Control | E39: Ravnaq-1 | F39: 278 | G39: =qPCR_Summary!F278 -> 0.25069662 | H39: =qPCR_Summary!G278 -> 0.030914998 | I39: =qPCR_Summary!H278 -> 0.013825608 | J39: =qPCR_Summary!I278 -> 0.21231058 | K39: =qPCR_Summary!J278 -> 0.28908266 | L39: 5 | M39: f
A40: Gh_SPS | B40: Metabolic/osmoprotective | C40: 150 | D40: Control | E40: Porloq-1 | F40: 286 | G40: =qPCR_Summary!F286 -> 0.52572083 | H40: =qPCR_Summary!G286 -> 0.035429931 | I40: =qPCR_Summary!H286 -> 0.015844747 | J40: =qPCR_Summary!I286 -> 0.48172876 | K40: =qPCR_Summary!J286 -> 0.5697129 | L40: 5 | M40: e
A41: Gh_SPS | B41: Metabolic/osmoprotective | C41: 150 | D41: Rizokom-1 | E41: Ishonch | F41: 271 | G41: =qPCR_Summary!F271 -> 0.46337894 | H41: =qPCR_Summary!G271 -> 0.068209988 | I41: =qPCR_Summary!H271 -> 0.030504434 | J41: =qPCR_Summary!I271 -> 0.37868506 | K41: =qPCR_Summary!J271 -> 0.54807283 | L41: 5 | M41: e
A42: Gh_SPS | B42: Metabolic/osmoprotective | C42: 150 | D42: Rizokom-1 | E42: Ravnaq-1 | F42: 279 | G42: =qPCR_Summary!F279 -> 1.0491322 | H42: =qPCR_Summary!G279 -> 0.042408957 | I42: =qPCR_Summary!H279 -> 0.018965862 | J42: =qPCR_Summary!I279 -> 0.99647455 | K42: =qPCR_Summary!J279 -> 1.1017899 | L42: 5 | M42: a b
A43: Gh_SPS | B43: Metabolic/osmoprotective | C43: 150 | D43: Rizokom-1 | E43: Porloq-1 | F43: 287 | G43: =qPCR_Summary!F287 -> 1.1172414 | H43: =qPCR_Summary!G287 -> 0.040453347 | I43: =qPCR_Summary!H287 -> 0.018091287 | J43: =qPCR_Summary!I287 -> 1.0670119 | K43: =qPCR_Summary!J287 -> 1.1674709 | L43: 5 | M43: a
A44: Gh_SPS | B44: Metabolic/osmoprotective | C44: 150 | D44: Mikrozim-1 | E44: Ishonch | F44: 272 | G44: =qPCR_Summary!F272 -> 0.33247777 | H44: =qPCR_Summary!G272 -> 0.058424371 | I44: =qPCR_Summary!H272 -> 0.026128173 | J44: =qPCR_Summary!I272 -> 0.25993433 | K44: =qPCR_Summary!J272 -> 0.40502121 | L44: 5 | M44: f
A45: Gh_SPS | B45: Metabolic/osmoprotective | C45: 150 | D45: Mikrozim-1 | E45: Ravnaq-1 | F45: 280 | G45: =qPCR_Summary!F280 -> 0.86348528 | H45: =qPCR_Summary!G280 -> 0.040432925 | I45: =qPCR_Summary!H280 -> 0.018082154 | J45: =qPCR_Summary!I280 -> 0.81328117 | K45: =qPCR_Summary!J280 -> 0.91368939 | L45: 5 | M45: c
A46: Gh_SPS | B46: Metabolic/osmoprotective | C46: 150 | D46: Mikrozim-1 | E46: Porloq-1 | F46: 288 | G46: =qPCR_Summary!F288 -> 0.95565783 | H46: =qPCR_Summary!G288 -> 0.037930397 | I46: =qPCR_Summary!H288 -> 0.016962989 | J46: =qPCR_Summary!I288 -> 0.90856102 | K46: =qPCR_Summary!J288 -> 1.0027546 | L46: 5 | M46: b c
A47: Gh_SPS | B47: Metabolic/osmoprotective | C47: 150 | D47: Serhosil | E47: Ishonch | F47: 273 | G47: =qPCR_Summary!F273 -> -0.45538697 | H47: =qPCR_Summary!G273 -> 0.069937294 | I47: =qPCR_Summary!H273 -> 0.031276909 | J47: =qPCR_Summary!I273 -> -0.54222559 | K47: =qPCR_Summary!J273 -> -0.36854835 | L47: 5 | M47: g
A48: Gh_SPS | B48: Metabolic/osmoprotective | C48: 150 | D48: Serhosil | E48: Ravnaq-1 | F48: 281 | G48: =qPCR_Summary!F281 -> 0.48482292 | H48: =qPCR_Summary!G281 -> 0.046676289 | I48: =qPCR_Summary!H281 -> 0.020874271 | J48: =qPCR_Summary!I281 -> 0.42686665 | K48: =qPCR_Summary!J281 -> 0.54277919 | L48: 5 | M48: e
A49: Gh_SPS | B49: Metabolic/osmoprotective | C49: 150 | D49: Serhosil | E49: Porloq-1 | F49: 289 | G49: =qPCR_Summary!F289 -> 0.65945047 | H49: =qPCR_Summary!G289 -> 0.041355198 | I49: =qPCR_Summary!H289 -> 0.018494607 | J49: =qPCR_Summary!I289 -> 0.60810121 | K49: =qPCR_Summary!J289 -> 0.71079973 | L49: 5 | M49: d
A50: Gh_SuSy | B50: Metabolic/osmoprotective | C50: 0 | D50: Control | E50: Ishonch | F50: 290 | G50: =qPCR_Summary!F290 -> -0.00014429404 | H50: =qPCR_Summary!G290 -> 0.022813997 | I50: =qPCR_Summary!H290 -> 0.010202729 | J50: =qPCR_Summary!I290 -> -0.028471612 | K50: =qPCR_Summary!J290 -> 0.028183024 | L50: 5 | M50: h
A51: Gh_SuSy | B51: Metabolic/osmoprotective | C51: 0 | D51: Control | E51: Ravnaq-1 | F51: 298 | G51: =qPCR_Summary!F298 -> -0.00014429404 | H51: =qPCR_Summary!G298 -> 0.022813997 | I51: =qPCR_Summary!H298 -> 0.010202729 | J51: =qPCR_Summary!I298 -> -0.028471612 | K51: =qPCR_Summary!J298 -> 0.028183024 | L51: 5 | M51: h
A52: Gh_SuSy | B52: Metabolic/osmoprotective | C52: 0 | D52: Control | E52: Porloq-1 | F52: 306 | G52: =qPCR_Summary!F306 -> -0.00014429404 | H52: =qPCR_Summary!G306 -> 0.022813997 | I52: =qPCR_Summary!H306 -> 0.010202729 | J52: =qPCR_Summary!I306 -> -0.028471612 | K52: =qPCR_Summary!J306 -> 0.028183024 | L52: 5 | M52: h
A53: Gh_SuSy | B53: Metabolic/osmoprotective | C53: 0 | D53: Rizokom-1 | E53: Ishonch | F53: 291 | G53: =qPCR_Summary!F291 -> 1.4643462 | H53: =qPCR_Summary!G291 -> 0.034083907 | I53: =qPCR_Summary!H291 -> 0.015242786 | J53: =qPCR_Summary!I291 -> 1.4220255 | K53: =qPCR_Summary!J291 -> 1.506667 | L53: 5 | M53: a
A54: Gh_SuSy | B54: Metabolic/osmoprotective | C54: 0 | D54: Rizokom-1 | E54: Ravnaq-1 | F54: 299 | G54: =qPCR_Summary!F299 -> 1.3158012 | H54: =qPCR_Summary!G299 -> 0.035251813 | I54: =qPCR_Summary!H299 -> 0.01576509 | J54: =qPCR_Summary!I299 -> 1.2720303 | K54: =qPCR_Summary!J299 -> 1.3595722 | L54: 5 | M54: b
A55: Gh_SuSy | B55: Metabolic/osmoprotective | C55: 0 | D55: Rizokom-1 | E55: Porloq-1 | F55: 307 | G55: =qPCR_Summary!F307 -> 1.1170022 | H55: =qPCR_Summary!G307 -> 0.049995402 | I55: =qPCR_Summary!H307 -> 0.022358623 | J55: =qPCR_Summary!I307 -> 1.0549247 | K55: =qPCR_Summary!J307 -> 1.1790797 | L55: 5 | M55: c
A56: Gh_SuSy | B56: Metabolic/osmoprotective | C56: 0 | D56: Mikrozim-1 | E56: Ishonch | F56: 292 | G56: =qPCR_Summary!F292 -> 1.3727757 | H56: =qPCR_Summary!G292 -> 0.025223317 | I56: =qPCR_Summary!H292 -> 0.01128021 | J56: =qPCR_Summary!I292 -> 1.3414568 | K56: =qPCR_Summary!J292 -> 1.4040946 | L56: 5 | M56: b
A57: Gh_SuSy | B57: Metabolic/osmoprotective | C57: 0 | D57: Mikrozim-1 | E57: Ravnaq-1 | F57: 300 | G57: =qPCR_Summary!F300 -> 1.0972831 | H57: =qPCR_Summary!G300 -> 0.034383695 | I57: =qPCR_Summary!H300 -> 0.015376856 | J57: =qPCR_Summary!I300 -> 1.0545901 | K57: =qPCR_Summary!J300 -> 1.1399761 | L57: 5 | M57: c
A58: Gh_SuSy | B58: Metabolic/osmoprotective | C58: 0 | D58: Mikrozim-1 | E58: Porloq-1 | F58: 308 | G58: =qPCR_Summary!F308 -> 0.88677436 | H58: =qPCR_Summary!G308 -> 0.052051717 | I58: =qPCR_Summary!H308 -> 0.023278236 | J58: =qPCR_Summary!I308 -> 0.82214362 | K58: =qPCR_Summary!J308 -> 0.9514051 | L58: 5 | M58: d
A59: Gh_SuSy | B59: Metabolic/osmoprotective | C59: 0 | D59: Serhosil | E59: Ishonch | F59: 293 | G59: =qPCR_Summary!F293 -> 0.43230991 | H59: =qPCR_Summary!G293 -> 0.048406495 | I59: =qPCR_Summary!H293 -> 0.021648043 | J59: =qPCR_Summary!I293 -> 0.37220531 | K59: =qPCR_Summary!J293 -> 0.49241451 | L59: 5 | M59: e
A60: Gh_SuSy | B60: Metabolic/osmoprotective | C60: 0 | D60: Serhosil | E60: Ravnaq-1 | F60: 301 | G60: =qPCR_Summary!F301 -> 0.28608575 | H60: =qPCR_Summary!G301 -> 0.053569716 | I60: =qPCR_Summary!H301 -> 0.023957105 | J60: =qPCR_Summary!I301 -> 0.21957017 | K60: =qPCR_Summary!J301 -> 0.35260134 | L60: 5 | M60: f
A61: Gh_SuSy | B61: Metabolic/osmoprotective | C61: 0 | D61: Serhosil | E61: Porloq-1 | F61: 309 | G61: =qPCR_Summary!F309 -> 0.18787799 | H61: =qPCR_Summary!G309 -> 0.064584314 | I61: =qPCR_Summary!H309 -> 0.028882983 | J61: =qPCR_Summary!I309 -> 0.10768597 | K61: =qPCR_Summary!J309 -> 0.26807 | L61: 5 | M61: g
A62: Gh_SuSy | B62: Metabolic/osmoprotective | C62: 150 | D62: Control | E62: Ishonch | F62: 294 | G62: =qPCR_Summary!F294 -> -1.1209766 | H62: =qPCR_Summary!G294 -> 0.049619853 | I62: =qPCR_Summary!H294 -> 0.022190673 | J62: =qPCR_Summary!I294 -> -1.1825878 | K62: =qPCR_Summary!J294 -> -1.0593654 | L62: 5 | M62: i
A63: Gh_SuSy | B63: Metabolic/osmoprotective | C63: 150 | D63: Control | E63: Ravnaq-1 | F63: 302 | G63: =qPCR_Summary!F302 -> 0.27475078 | H63: =qPCR_Summary!G302 -> 0.030403811 | I63: =qPCR_Summary!H302 -> 0.013596998 | J63: =qPCR_Summary!I302 -> 0.23699947 | K63: =qPCR_Summary!J302 -> 0.3125021 | L63: 5 | M63: f
A64: Gh_SuSy | B64: Metabolic/osmoprotective | C64: 150 | D64: Control | E64: Porloq-1 | F64: 310 | G64: =qPCR_Summary!F310 -> 0.453976 | H64: =qPCR_Summary!G310 -> 0.026851884 | I64: =qPCR_Summary!H310 -> 0.012008527 | J64: =qPCR_Summary!I310 -> 0.42063499 | K64: =qPCR_Summary!J310 -> 0.48731702 | L64: 5 | M64: e
A65: Gh_SuSy | B65: Metabolic/osmoprotective | C65: 150 | D65: Rizokom-1 | E65: Ishonch | F65: 295 | G65: =qPCR_Summary!F295 -> 0.27433651 | H65: =qPCR_Summary!G295 -> 0.049186473 | I65: =qPCR_Summary!H295 -> 0.02199686 | J65: =qPCR_Summary!I295 -> 0.21326344 | K65: =qPCR_Summary!J295 -> 0.33540959 | L65: 5 | M65: f
A66: Gh_SuSy | B66: Metabolic/osmoprotective | C66: 150 | D66: Rizokom-1 | E66: Ravnaq-1 | F66: 303 | G66: =qPCR_Summary!F303 -> 1.515754 | H66: =qPCR_Summary!G303 -> 0.03068946 | I66: =qPCR_Summary!H303 -> 0.013724744 | J66: =qPCR_Summary!I303 -> 1.477648 | K66: =qPCR_Summary!J303 -> 1.55386 | L66: 5 | M66: a
A67: Gh_SuSy | B67: Metabolic/osmoprotective | C67: 150 | D67: Rizokom-1 | E67: Porloq-1 | F67: 311 | G67: =qPCR_Summary!F311 -> 1.3891463 | H67: =qPCR_Summary!G311 -> 0.038947808 | I67: =qPCR_Summary!H311 -> 0.017417989 | J67: =qPCR_Summary!I311 -> 1.3407862 | K67: =qPCR_Summary!J311 -> 1.4375064 | L67: 5 | M67: b
A68: Gh_SuSy | B68: Metabolic/osmoprotective | C68: 150 | D68: Mikrozim-1 | E68: Ishonch | F68: 296 | G68: =qPCR_Summary!F296 -> 0.14959868 | H68: =qPCR_Summary!G296 -> 0.058884854 | I68: =qPCR_Summary!H296 -> 0.026334107 | J68: =qPCR_Summary!I296 -> 0.076483478 | K68: =qPCR_Summary!J296 -> 0.22271388 | L68: 5 | M68: g
A69: Gh_SuSy | B69: Metabolic/osmoprotective | C69: 150 | D69: Mikrozim-1 | E69: Ravnaq-1 | F69: 304 | G69: =qPCR_Summary!F304 -> 1.2866291 | H69: =qPCR_Summary!G304 -> 0.030154507 | I69: =qPCR_Summary!H304 -> 0.013485505 | J69: =qPCR_Summary!I304 -> 1.2491873 | K69: =qPCR_Summary!J304 -> 1.3240708 | L69: 5 | M69: c
A70: Gh_SuSy | B70: Metabolic/osmoprotective | C70: 150 | D70: Mikrozim-1 | E70: Porloq-1 | F70: 312 | G70: =qPCR_Summary!F312 -> 1.2445068 | H70: =qPCR_Summary!G312 -> 0.037037648 | I70: =qPCR_Summary!H312 -> 0.01656374 | J70: =qPCR_Summary!I312 -> 1.1985185 | K70: =qPCR_Summary!J312 -> 1.2904951 | L70: 5 | M70: c
A71: Gh_SuSy | B71: Metabolic/osmoprotective | C71: 150 | D71: Serhosil | E71: Ishonch | F71: 297 | G71: =qPCR_Summary!F297 -> -0.81274608 | H71: =qPCR_Summary!G297 -> 0.080167954 | I71: =qPCR_Summary!H297 -> 0.035852199 | J71: =qPCR_Summary!I297 -> -0.91228774 | K71: =qPCR_Summary!J297 -> -0.71320441 | L71: 5 | M71: h
A72: Gh_SuSy | B72: Metabolic/osmoprotective | C72: 150 | D72: Serhosil | E72: Ravnaq-1 | F72: 305 | G72: =qPCR_Summary!F305 -> 0.57477921 | H72: =qPCR_Summary!G305 -> 0.04385487 | I72: =qPCR_Summary!H305 -> 0.019612494 | J72: =qPCR_Summary!I305 -> 0.5203262 | K72: =qPCR_Summary!J305 -> 0.62923222 | L72: 5 | M72: d
A73: Gh_SuSy | B73: Metabolic/osmoprotective | C73: 150 | D73: Serhosil | E73: Porloq-1 | F73: 313 | G73: =qPCR_Summary!F313 -> 0.54526399 | H73: =qPCR_Summary!G313 -> 0.050412038 | I73: =qPCR_Summary!H313 -> 0.022544949 | J73: =qPCR_Summary!I313 -> 0.48266918 | K73: =qPCR_Summary!J313 -> 0.6078588 | L73: 5 | M73: d e

Sheet qPCR_Statistical_tests
A2: Response | B2: Individual log2(Fold change) values
A3: Model | B3: Genotype × NaCl × Treatment for each gene; all interactions included
A4: Post hoc | B4: Tukey HSD: all 24 groups and separate 12-group families within each NaCl level
A5: Threshold | B5: α = 0.05; figures report mean ± SD, n = 5
A7: Gene | B7: Module | C7: Significant_ANOVA_effects | D7: Min_ANOVA_p | E7: Tukey_all_significant_pairs | F7: Tukey_by_NaCl_significant_pairs | G7: Shapiro_p | H7: Levene_p | I7: Diagnostic_flag
A8: Gh_NCED5 | B8: Hormonal regulation | C8: Genotype; NaCl; Treatment; Genotype × NaCl; Genotype × Treatment; NaCl × Treatment | D8: 2.5170258e-118 | E8: 247 | F8: 121 | G8: 0.00046736524 | H8: 0.11192192 | I8: Review residual normality
A9: Gh_GH3.17 | B9: Hormonal regulation | C9: Genotype; NaCl; Treatment; Genotype × NaCl; Genotype × Treatment; NaCl × Treatment | D9: 1.1635585e-108 | E9: 243 | F9: 118 | G9: 0.075397082 | H9: 0.5792648 | I9: No flag
A10: Gh_OPR3 | B10: Hormonal regulation | C10: Genotype; NaCl; Treatment; Genotype × NaCl; Genotype × Treatment; NaCl × Treatment; Genotype × NaCl × Treatment | D10: 3.4099355e-112 | E10: 254 | F10: 122 | G10: 0.06263112 | H10: 0.053452461 | I10: No flag
A11: Gh_ICS1 | B11: Hormonal regulation | C11: Genotype; NaCl; Treatment; Genotype × NaCl; Genotype × Treatment; Genotype × NaCl × Treatment | D11: 1.3625667e-117 | E11: 257 | F11: 116 | G11: 0.00016328627 | H11: 6.0792072e-08 | I11: Review residual normality; Review variance homogeneity
A12: Gh_SOD | B12: Antioxidant defense | C12: Genotype; NaCl; Treatment; Genotype × NaCl; Genotype × Treatment; NaCl × Treatment; Genotype × NaCl × Treatment | D12: 2.5111152e-103 | E12: 256 | F12: 121 | G12: 0.00049428545 | H12: 0.93560659 | I12: Review residual normality
A13: Gh_CAT1 | B13: Antioxidant defense | C13: Genotype; NaCl; Treatment; Genotype × NaCl; Genotype × Treatment; NaCl × Treatment | D13: 4.3043145e-91 | E13: 245 | F13: 116 | G13: 0.046378466 | H13: 0.065045497 | I13: Review residual normality
A14: Gh_POD1 | B14: Antioxidant defense | C14: Genotype; NaCl; Treatment; Genotype × NaCl; Genotype × Treatment; NaCl × Treatment | D14: 5.8297775e-98 | E14: 255 | F14: 119 | G14: 0.0034323426 | H14: 0.38131449 | I14: Review residual normality
A15: Gh_APX | B15: Antioxidant defense | C15: Genotype; NaCl; Treatment; Genotype × NaCl; Genotype × Treatment; NaCl × Treatment; Genotype × NaCl × Treatment | D15: 6.4388239e-95 | E15: 250 | F15: 121 | G15: 0.0017893081 | H15: 0.5656831 | I15: Review residual normality
A16: Gh_GPX | B16: Antioxidant defense | C16: Genotype; NaCl; Treatment; Genotype × NaCl; Genotype × Treatment; NaCl × Treatment | D16: 4.5187122e-105 | E16: 253 | F16: 122 | G16: 0.073445142 | H16: 0.00052909655 | I16: Review variance homogeneity
A17: Gh_GR | B17: Antioxidant defense | C17: Genotype; NaCl; Treatment; Genotype × NaCl; Genotype × Treatment; NaCl × Treatment | D17: 6.6579875e-91 | E17: 246 | F17: 111 | G17: 0.003591046 | H17: 0.091151029 | I17: Review residual normality
A18: Gh_P5CS | B18: Metabolic/osmoprotective | C18: Genotype; NaCl; Treatment; Genotype × NaCl; Genotype × Treatment; NaCl × Treatment; Genotype × NaCl × Treatment | D18: 8.4113401e-100 | E18: 261 | F18: 124 | G18: 0.0005379075 | H18: 0.25658772 | I18: Review residual normality
A19: Gh_SPS | B19: Metabolic/osmoprotective | C19: Genotype; NaCl; Treatment; Genotype × NaCl; Genotype × Treatment; NaCl × Treatment | D19: 2.2183049e-92 | E19: 249 | F19: 120 | G19: 0.00017545082 | H19: 0.19644084 | I19: Review residual normality
A20: Gh_SuSy | B20: Metabolic/osmoprotective | C20: Genotype; NaCl; Treatment; Genotype × NaCl; Genotype × Treatment; NaCl × Treatment; Genotype × NaCl × Treatment | D20: 3.9654845e-108 | E20: 251 | F20: 123 | G20: 0.022577266 | H20: 0.10996285 | I20: Review residual normality

Sheet qPCR_ANOVA_results
A1: Gene | B1: Module | C1: Effect | D1: df | E1: SS | F1: MS | G1: F | H1: p_value | I1: Partial_eta_squared | J1: Omega_squared | K1: Significant_p_0.05
A2: Gh_NCED5 | B2: Hormonal regulation | C2: Genotype | D2: 2 | E2: 20.723476 | F2: 10.361738 | G2: 10389.706 | H2: 6.4052571e-113 | I2: 0.99540129 | J2: 0.350596 | K2: TRUE
A3: Gh_NCED5 | B3: Hormonal regulation | C3: NaCl | D3: 1 | E3: 6.9684556 | F3: 6.9684556 | G3: 6987.2645 | H3: 1.7798719e-91 | I3: 0.98644693 | J3: 0.11788554 | K3: TRUE
A4: Gh_NCED5 | B4: Hormonal regulation | C4: Treatment | D4: 3 | E4: 4.2096124 | F4: 1.4032041 | G4: 1406.9916 | H4: 3.565047e-79 | I4: 0.97776221 | J4: 0.071173689 | K4: TRUE
A5: Gh_NCED5 | B5: Hormonal regulation | C5: Genotype × NaCl | D5: 2 | E5: 26.886753 | F5: 13.443376 | G5: 13479.662 | H5: 2.5170258e-118 | I5: 0.99645172 | J5: 0.45487522 | K5: TRUE
A6: Gh_NCED5 | B6: Hormonal regulation | C6: Genotype × Treatment | D6: 6 | E6: 0.16993487 | F6: 0.028322478 | G6: 28.398925 | H6: 2.7155664e-19 | I6: 0.63963091 | J6: 0.0027739605 | K6: TRUE
A7: Gh_NCED5 | B7: Hormonal regulation | C7: NaCl × Treatment | D7: 3 | E7: 0.045609824 | F7: 0.015203275 | G7: 15.244311 | H7: 3.4535869e-08 | I7: 0.32266976 | J7: 0.00072107126 | K7: TRUE
A8: Gh_NCED5 | B8: Hormonal regulation | C8: Genotype × NaCl × Treatment | D8: 6 | E8: 0.0030084029 | F8: 0.00050140049 | G8: 0.50275384 | H8: 0.80489601 | I8: 0.030464845 | J8: 0 | K8: FALSE
A9: Gh_NCED5 | B9: Hormonal regulation | C9: Residual | D9: 96 | E9: 0.095741579 | F9: 0.00099730812
A10: Gh_NCED5 | B10: Hormonal regulation | C10: Total | D10: 119 | E10: 59.102592
A11: Gh_GH3.17 | B11: Hormonal regulation | C11: Genotype | D11: 2 | E11: 18.358341 | F11: 9.1791704 | G11: 6910.0622 | H11: 1.8202903e-104 | I11: 0.99310153 | J11: 0.33801897 | K11: TRUE
A12: Gh_GH3.17 | B12: Hormonal regulation | C12: NaCl | D12: 1 | E12: 9.7499043 | F12: 9.7499043 | G12: 7339.7097 | H12: 1.7297372e-92 | I12: 0.98708933 | J12: 0.17951952 | K12: TRUE
A13: Gh_GH3.17 | B13: Hormonal regulation | C13: Treatment | D13: 3 | E13: 3.4409344 | F13: 1.1469781 | G13: 863.44298 | H13: 2.7421125e-69 | I13: 0.9642635 | J13: 0.063291242 | K13: TRUE
A14: Gh_GH3.17 | B14: Hormonal regulation | C14: Genotype × NaCl | D14: 2 | E14: 22.478392 | F14: 11.239196 | G14: 8460.8457 | H14: 1.1635585e-108 | I14: 0.99435881 | J14: 0.4138895 | K14: TRUE
A15: Gh_GH3.17 | B15: Hormonal regulation | C15: Genotype × Treatment | D15: 6 | E15: 0.080080492 | F15: 0.013346749 | G15: 10.047407 | H15: 1.3488708e-08 | I15: 0.38573541 | J15: 0.0013279061 | K15: TRUE
A16: Gh_GH3.17 | B16: Hormonal regulation | C16: NaCl × Treatment | D16: 3 | E16: 0.064680715 | F16: 0.021560238 | G16: 16.230507 | H16: 1.3067493e-08 | I16: 0.33651952 | J16: 0.001117706 | K16: TRUE
A17: Gh_GH3.17 | B17: Hormonal regulation | C17: Genotype × NaCl × Treatment | D17: 6 | E17: 0.0025245838 | F17: 0.00042076397 | G17: 0.31675032 | H17: 0.92683556 | I17: 0.019412586 | J17: 0 | K17: FALSE
A18: Gh_GH3.17 | B18: Hormonal regulation | C18: Residual | D18: 96 | E18: 0.12752423 | F18: 0.0013283774
A19: Gh_GH3.17 | B19: Hormonal regulation | C19: Total | D19: 119 | E19: 54.302382
A20: Gh_OPR3 | B20: Hormonal regulation | C20: Genotype | D20: 2 | E20: 15.743121 | F20: 7.8715604 | G20: 6159.1009 | H20: 4.3743836e-102 | I20: 0.99226692 | J20: 0.31408108 | K20: TRUE
A21: Gh_OPR3 | B21: Hormonal regulation | C21: NaCl | D21: 1 | E21: 2.9647346 | F21: 2.9647346 | G21: 2319.756 | H21: 4.7947676e-69 | I21: 0.96026089 | J21: 0.059131655 | K21: TRUE
A22: Gh_OPR3 | B22: Hormonal regulation | C22: Treatment | D22: 3 | E22: 5.1531747 | F22: 1.7177249 | G22: 1344.0335 | H22: 3.0510377e-78 | I22: 0.97674475 | J22: 0.10274793 | K22: TRUE
A23: Gh_OPR3 | B23: Hormonal regulation | C23: Genotype × NaCl | D23: 2 | E23: 25.643439 | F23: 12.821719 | G23: 10032.352 | H23: 3.4099355e-112 | I23: 0.99523826 | J23: 0.51162816 | K23: TRUE
A24: Gh_OPR3 | B24: Hormonal regulation | C24: Genotype × Treatment | D24: 6 | E24: 0.30168118 | F24: 0.050280197 | G24: 39.341731 | H24: 8.5147718e-24 | I24: 0.71088725 | J24: 0.0058666198 | K24: TRUE
A25: Gh_OPR3 | B25: Hormonal regulation | C25: NaCl × Treatment | D25: 3 | E25: 0.15867013 | F25: 0.052890045 | G25: 41.383805 | H25: 2.9773915e-17 | I25: 0.56393648 | J25: 0.0030895375 | K25: TRUE
A26: Gh_OPR3 | B26: Hormonal regulation | C26: Genotype × NaCl × Treatment | D26: 6 | E26: 0.027455948 | F26: 0.0045759913 | G26: 3.5804835 | H26: 0.0030291242 | I26: 0.18285981 | J26: 0.00039483652 | K26: TRUE
A27: Gh_OPR3 | B27: Hormonal regulation | C27: Residual | D27: 96 | E27: 0.12269158 | F27: 0.0012780373
A28: Gh_OPR3 | B28: Hormonal regulation | C28: Total | D28: 119 | E28: 50.114968
A29: Gh_ICS1 | B29: Hormonal regulation | C29: Genotype | D29: 2 | E29: 43.431831 | F29: 21.715916 | G29: 10275.78 | H29: 1.0847277e-112 | I29: 0.99535054 | J29: 0.40609729 | K29: TRUE
A30: Gh_ICS1 | B30: Hormonal regulation | C30: NaCl | D30: 1 | E30: 0.23763006 | F30: 0.23763006 | G30: 112.44445 | H30: 7.5418285e-18 | I30: 0.53944564 | J30: 0.0022023484 | K30: TRUE
A31: Gh_ICS1 | B31: Hormonal regulation | C31: Treatment | D31: 3 | E31: 7.1686332 | F31: 2.3895444 | G31: 1130.7113 | H31: 9.886858e-75 | I31: 0.97247812 | J31: 0.066975554 | K31: TRUE
A32: Gh_ICS1 | B32: Hormonal regulation | C32: Genotype × NaCl | D32: 2 | E32: 54.996665 | F32: 27.498332 | G32: 13011.968 | H32: 1.3625667e-117 | I32: 0.99632465 | J32: 0.51424158 | K32: TRUE
A33: Gh_ICS1 | B33: Hormonal regulation | C33: Genotype × Treatment | D33: 6 | E33: 0.7538483 | F33: 0.12564138 | G33: 59.452393 | H33: 3.5921366e-30 | I33: 0.78794576 | J33: 0.0069307644 | K33: TRUE
A34: Gh_ICS1 | B34: Hormonal regulation | C34: NaCl × Treatment | D34: 3 | E34: 0.011411502 | F34: 0.003803834 | G34: 1.7999407 | H34: 0.15237008 | I34: 0.053252776 | J34: 4.7424921e-05 | K34: FALSE
A35: Gh_ICS1 | B35: Hormonal regulation | C35: Genotype × NaCl × Treatment | D35: 6 | E35: 0.13390705 | F35: 0.022317841 | G35: 10.560605 | H35: 5.6001405e-09 | I35: 0.39760409 | J35: 0.0011336115 | K35: TRUE
A36: Gh_ICS1 | B36: Hormonal regulation | C36: Residual | D36: 96 | E36: 0.20287783 | F36: 0.0021133108
A37: Gh_ICS1 | B37: Hormonal regulation | C37: Total | D37: 119 | E37: 106.9368
A38: Gh_SOD | B38: Antioxidant defense | C38: Genotype | D38: 2 | E38: 8.0090576 | F38: 4.0045288 | G38: 3556.5602 | H38: 9.3469455e-91 | I38: 0.98668353 | J38: 0.23821278 | K38: TRUE
A39: Gh_SOD | B39: Antioxidant defense | C39: NaCl | D39: 1 | E39: 0.65748825 | F39: 0.65748825 | G39: 583.938 | H39: 1.3567236e-42 | I39: 0.85881066 | J39: 0.019527623 | K39: TRUE
A40: Gh_SOD | B40: Antioxidant defense | C40: Treatment | D40: 3 | E40: 9.242939 | F40: 3.0809797 | G40: 2736.3243 | H40: 8.2178211e-93 | I40: 0.98844066 | J40: 0.27488883 | K40: TRUE
A41: Gh_SOD | B41: Antioxidant defense | C41: Genotype × NaCl | D41: 2 | E41: 14.727172 | F41: 7.363586 | G41: 6539.8548 | H41: 2.5111152e-103 | I41: 0.99271386 | J41: 0.43808532 | K41: TRUE
A42: Gh_SOD | B42: Antioxidant defense | C42: Genotype × Treatment | D42: 6 | E42: 0.53281728 | F42: 0.08880288 | G42: 78.868902 | H42: 6.7159736e-35 | I42: 0.83134621 | J42: 0.015651008 | K42: TRUE
A43: Gh_SOD | B43: Antioxidant defense | C43: NaCl × Treatment | D43: 3 | E43: 0.31674661 | F43: 0.1055822 | G43: 93.771199 | H43: 2.0021441e-28 | I43: 0.74556973 | J43: 0.0093231235 | K43: TRUE
A44: Gh_SOD | B44: Antioxidant defense | C44: Genotype × NaCl × Treatment | D44: 6 | E44: 0.016552952 | F44: 0.0027588253 | G44: 2.4502079 | H44: 0.030104368 | I44: 0.1328011 | J44: 0.00029147985 | K44: TRUE
A45: Gh_SOD | B45: Antioxidant defense | C45: Residual | D45: 96 | E45: 0.10809174 | F45: 0.0011259556
A46: Gh_SOD | B46: Antioxidant defense | C46: Total | D46: 119 | E46: 33.610865
A47: Gh_CAT1 | B47: Antioxidant defense | C47: Genotype | D47: 2 | E47: 9.6979228 | F47: 4.8489614 | G47: 2558.0766 | H47: 5.3975314e-84 | I47: 0.98158151 | J47: 0.291261 | K47: TRUE
A48: Gh_CAT1 | B48: Antioxidant defense | C48: NaCl | D48: 1 | E48: 0.54985834 | F48: 0.54985834 | G48: 290.07856 | H48: 9.0967285e-31 | I48: 0.75134594 | J48: 0.016463588 | K48: TRUE
A49: Gh_CAT1 | B49: Antioxidant defense | C49: Treatment | D49: 3 | E49: 8.7613404 | F49: 2.9204468 | G49: 1540.6859 | H49: 5.0171422e-81 | I49: 0.97965264 | J49: 0.26306436 | K49: TRUE
A50: Gh_CAT1 | B50: Antioxidant defense | C50: Genotype × NaCl | D50: 2 | E50: 13.705826 | F50: 6.8529131 | G50: 3615.2642 | H50: 4.3043145e-91 | I50: 0.98689693 | J50: 0.4116788 | K50: TRUE
A51: Gh_CAT1 | B51: Antioxidant defense | C51: Genotype × Treatment | D51: 6 | E51: 0.33145872 | F51: 0.055243121 | G51: 29.143588 | H51: 1.244247e-19 | I51: 0.64557536 | J51: 0.0096169936 | K51: TRUE
A52: Gh_CAT1 | B52: Antioxidant defense | C52: NaCl × Treatment | D52: 3 | E52: 0.048035096 | F52: 0.016011699 | G52: 8.4469946 | H52: 4.8857275e-05 | I52: 0.20884109 | J52: 0.0012723626 | K52: TRUE
A53: Gh_CAT1 | B53: Antioxidant defense | C53: Genotype × NaCl × Treatment | D53: 6 | E53: 0.005004917 | F53: 0.00083415283 | G53: 0.44005853 | H53: 0.85032827 | I53: 0.026767455 | J53: 0 | K53: FALSE
A54: Gh_CAT1 | B54: Antioxidant defense | C54: Residual | D54: 96 | E54: 0.18197278 | F54: 0.0018955498
A55: Gh_CAT1 | B55: Antioxidant defense | C55: Total | D55: 119 | E55: 33.281419
A56: Gh_POD1 | B56: Antioxidant defense | C56: Genotype | D56: 2 | E56: 9.5711713 | F56: 4.7855856 | G56: 3629.4943 | H56: 3.573412e-91 | I56: 0.98694763 | J56: 0.30948327 | K56: TRUE
A57: Gh_POD1 | B57: Antioxidant defense | C57: NaCl | D57: 1 | E57: 2.8832306 | F57: 2.8832306 | G57: 2186.706 | H57: 7.2816328e-68 | I57: 0.95794465 | J57: 0.093212142 | K57: TRUE
A58: Gh_POD1 | B58: Antioxidant defense | C58: Treatment | D58: 3 | E58: 4.7940285 | F58: 1.5980095 | G58: 1211.9658 | H58: 3.866306e-76 | I58: 0.97427582 | J58: 0.15492942 | K58: TRUE
A59: Gh_POD1 | B59: Antioxidant defense | C59: Genotype × NaCl | D59: 2 | E59: 13.303415 | F59: 6.6517073 | G59: 5044.8023 | H59: 5.8297775e-98 | I59: 0.99057493 | J59: 0.4301984 | K59: TRUE
A60: Gh_POD1 | B60: Antioxidant defense | C60: Genotype × Treatment | D60: 6 | E60: 0.15925403 | F60: 0.026542338 | G60: 20.130298 | H60: 4.1124534e-15 | I60: 0.55715837 | J60: 0.0048950115 | K60: TRUE
A61: Gh_POD1 | B61: Antioxidant defense | C61: NaCl × Treatment | D61: 3 | E61: 0.068647902 | F61: 0.022882634 | G61: 17.354697 | H61: 4.414441e-09 | I61: 0.35163213 | J61: 0.002092399 | K61: TRUE
A62: Gh_POD1 | B62: Antioxidant defense | C62: Genotype × NaCl × Treatment | D62: 6 | E62: 0.010131356 | F62: 0.0016885594 | G62: 1.2806409 | H62: 0.27346712 | I62: 0.074108414 | J62: 7.1809671e-05 | K62: FALSE
A63: Gh_POD1 | B63: Antioxidant defense | C63: Residual | D63: 96 | E63: 0.12657858 | F63: 0.0013185268
A64: Gh_POD1 | B64: Antioxidant defense | C64: Total | D64: 119 | E64: 30.916457
A65: Gh_APX | B65: Antioxidant defense | C65: Genotype | D65: 2 | E65: 8.1508113 | F65: 4.0754056 | G65: 2449.8236 | H65: 4.1363242e-83 | I65: 0.98078327 | J65: 0.25451233 | K65: TRUE
A66: Gh_APX | B66: Antioxidant defense | C66: NaCl | D66: 1 | E66: 0.016318851 | F66: 0.016318851 | G66: 9.8096507 | H66: 0.0023014986 | I66: 0.092710359 | J66: 0.00045780445 | K66: TRUE
A67: Gh_APX | B67: Antioxidant defense | C67: Treatment | D67: 3 | E67: 8.6561255 | F67: 2.8853752 | G67: 1734.4679 | H67: 1.8996793e-83 | I67: 0.98188475 | J67: 0.27024544 | K67: TRUE
A68: Gh_APX | B68: Antioxidant defense | C68: Genotype × NaCl | D68: 2 | E68: 14.483088 | F68: 7.2415438 | G68: 4353.0648 | H68: 6.4388239e-95 | I68: 0.98909355 | J68: 0.45232092 | K68: TRUE
A69: Gh_APX | B69: Antioxidant defense | C69: Genotype × Treatment | D69: 6 | E69: 0.38005312 | F69: 0.063342186 | G69: 38.0765 | H69: 2.5364581e-23 | I69: 0.70412286 | J69: 0.011560358 | K69: TRUE
A70: Gh_APX | B70: Antioxidant defense | C70: NaCl × Treatment | D70: 3 | E70: 0.14051047 | F70: 0.046836822 | G70: 28.154732 | H70: 3.7912982e-13 | I70: 0.46803852 | J70: 0.0042333882 | K70: TRUE
A71: Gh_APX | B71: Antioxidant defense | C71: Genotype × NaCl × Treatment | D71: 6 | E71: 0.023868441 | F71: 0.0039780735 | G71: 2.3913149 | H71: 0.033859648 | I71: 0.13002414 | J71: 0.00043380846 | K71: TRUE
A72: Gh_APX | B72: Antioxidant defense | C72: Residual | D72: 96 | E72: 0.15970086 | F72: 0.0016635506
A73: Gh_APX | B73: Antioxidant defense | C73: Total | D73: 119 | E73: 32.010476
A74: Gh_GPX | B74: Antioxidant defense | C74: Genotype | D74: 2 | E74: 23.241634 | F74: 11.620817 | G74: 4989.2207 | H74: 9.8721652e-98 | I74: 0.99047094 | J74: 0.35281006 | K74: TRUE
A75: Gh_GPX | B75: Antioxidant defense | C75: NaCl | D75: 1 | E75: 0.16846452 | F75: 0.16846452 | G75: 72.327676 | H75: 2.404107e-13 | I75: 0.4296838 | J75: 0.0025224547 | K75: TRUE
A76: Gh_GPX | B76: Antioxidant defense | C76: Treatment | D76: 3 | E76: 8.3982493 | F76: 2.7994164 | G76: 1201.8868 | H76: 5.7126916e-76 | I76: 0.97406569 | J76: 0.12740563 | K76: TRUE
A77: Gh_GPX | B77: Antioxidant defense | C77: Genotype × NaCl | D77: 2 | E77: 33.14431 | F77: 16.572155 | G77: 7115.0024 | H77: 4.5187122e-105 | I77: 0.9932989 | J77: 0.5031637 | K77: TRUE
A78: Gh_GPX | B78: Antioxidant defense | C78: Genotype × Treatment | D78: 6 | E78: 0.55370068 | F78: 0.092283446 | G78: 39.620492 | H78: 6.7166179e-24 | I78: 0.71233624 | J78: 0.0081947244 | K78: TRUE
A79: Gh_GPX | B79: Antioxidant defense | C79: NaCl × Treatment | D79: 3 | E79: 0.11278969 | F79: 0.037596563 | G79: 16.141512 | H79: 1.4254296e-08 | I79: 0.335293 | J79: 0.0016064078 | K79: TRUE
A80: Gh_GPX | B80: Antioxidant defense | C80: Genotype × NaCl × Treatment | D80: 6 | E80: 0.017485969 | F80: 0.0029143281 | G80: 1.2512224 | H80: 0.28739546 | I80: 0.072529492 | J80: 5.3305855e-05 | K80: FALSE
A81: Gh_GPX | B81: Antioxidant defense | C81: Residual | D81: 96 | E81: 0.22360174 | F81: 0.0023291848
A82: Gh_GPX | B82: Antioxidant defense | C82: Total | D82: 119 | E82: 65.860236
A83: Gh_GR | B83: Antioxidant defense | C83: Genotype | D83: 2 | E83: 9.6603217 | F83: 4.8301608 | G83: 2320.7494 | H83: 5.2803422e-82 | I83: 0.97973614 | J83: 0.30029064 | K83: TRUE
A84: Gh_GR | B84: Antioxidant defense | C84: NaCl | D84: 1 | E84: 1.2740911 | F84: 1.2740911 | G84: 612.16308 | H84: 1.9197118e-43 | I84: 0.864438 | J84: 0.039557409 | K84: TRUE
A85: Gh_GR | B85: Antioxidant defense | C85: Treatment | D85: 3 | E85: 5.704463 | F85: 1.9014877 | G85: 913.60856 | H85: 2.005288e-70 | I85: 0.96615936 | J85: 0.17720523 | K85: TRUE
A86: Gh_GR | B86: Antioxidant defense | C86: Genotype × NaCl | D86: 2 | E86: 14.910908 | F86: 7.4554541 | G86: 3582.1251 | H86: 6.6579875e-91 | I86: 0.98677732 | J86: 0.46357523 | K86: TRUE
A87: Gh_GR | B87: Antioxidant defense | C87: Genotype × Treatment | D87: 6 | E87: 0.31489274 | F87: 0.052482123 | G87: 25.216107 | H87: 8.8541381e-18 | I87: 0.61180225 | J87: 0.0094042965 | K87: TRUE
A88: Gh_GR | B88: Antioxidant defense | C88: NaCl × Treatment | D88: 3 | E88: 0.081171364 | F88: 0.027057121 | G88: 13.000146 | H88: 3.390561e-07 | I88: 0.2888912 | J88: 0.0023301213 | K88: TRUE
A89: Gh_GR | B89: Antioxidant defense | C89: Genotype × NaCl × Treatment | D89: 6 | E89: 0.008310902 | F89: 0.0013851503 | G89: 0.66552375 | H89: 0.67762328 | I89: 0.039934164 | J89: 0 | K89: FALSE
A90: Gh_GR | B90: Antioxidant defense | C90: Residual | D90: 96 | E90: 0.19980419 | F90: 0.0020812936
A91: Gh_GR | B91: Antioxidant defense | C91: Total | D91: 119 | E91: 32.153963
A92: Gh_P5CS | B92: Metabolic/osmoprotective | C92: Genotype | D92: 2 | E92: 7.2493416 | F92: 3.6246708 | G92: 2349.0065 | H92: 2.9885297e-82 | I92: 0.97997502 | J92: 0.1645256 | K92: TRUE
A93: Gh_P5CS | B93: Metabolic/osmoprotective | C93: NaCl | D93: 1 | E93: 3.6171274 | F93: 3.6171274 | G93: 2344.1179 | H93: 2.9614747e-69 | I93: 0.96065764 | J93: 0.082091527 | K93: TRUE
A94: Gh_P5CS | B94: Metabolic/osmoprotective | C94: Treatment | D94: 3 | E94: 15.009388 | F94: 5.0031294 | G94: 3242.3312 | H94: 2.6041736e-96 | I94: 0.99022701 | J94: 0.34068174 | K94: TRUE
A95: Gh_P5CS | B95: Metabolic/osmoprotective | C95: Genotype × NaCl | D95: 2 | E95: 17.019913 | F95: 8.5099565 | G95: 5514.9678 | H95: 8.4113401e-100 | I95: 0.99137151 | J95: 0.38636557 | K95: TRUE
A96: Gh_P5CS | B96: Metabolic/osmoprotective | C96: Genotype × Treatment | D96: 6 | E96: 0.9047699 | F96: 0.15079498 | G96: 97.724293 | H96: 1.1916266e-38 | I96: 0.85930886 | J96: 0.02033251 | K96: TRUE
A97: Gh_P5CS | B97: Metabolic/osmoprotective | C97: NaCl × Treatment | D97: 3 | E97: 0.070784661 | F97: 0.023594887 | G97: 15.290918 | H97: 3.2971422e-08 | I97: 0.3233373 | J97: 0.001502054 | K97: TRUE
A98: Gh_P5CS | B98: Metabolic/osmoprotective | C98: Genotype × NaCl × Treatment | D98: 6 | E98: 0.022329633 | F98: 0.0037216054 | G98: 2.411826 | H98: 0.032502764 | I98: 0.13099331 | J98: 0.00029678135 | K98: TRUE
A99: Gh_P5CS | B99: Metabolic/osmoprotective | C99: Residual | D99: 96 | E99: 0.14813429 | F99: 0.0015430655
A100: Gh_P5CS | B100: Metabolic/osmoprotective | C100: Total | D100: 119 | E100: 44.041789
...

Sheet qPCR_ANOVA_diagnostics
A1: Gene | B1: Module | C1: N | D1: Model_parameters | E1: df_error | F1: RMSE | G1: R_squared | H1: Adjusted_R_squared | I1: Shapiro_W | J1: Shapiro_p | K1: Residual_normality_p_gt_0.05 | L1: Levene_F | M1: Levene_p | N1: Equal_variance_p_gt_0.05 | O1: Residual_skewness | P1: Residual_excess_kurtosis | Q1: Max_abs_standardized_residual | R1: Max_Cooks_distance
A2: Gh_NCED5 | B2: Hormonal regulation | C2: 120 | D2: 24 | E2: 96 | F2: 0.031580185 | G2: 0.99838008 | H2: 0.99799197 | I2: 0.95447722 | J2: 0.00046736524 | K2: FALSE | L2: 1.4416527 | M2: 0.11192192 | N2: TRUE | O2: -0.075455527 | P2: 2.0937054 | Q2: 3.5539699 | R2: 0.13156981
A3: Gh_GH3.17 | B3: Hormonal regulation | C3: 120 | D3: 24 | E3: 96 | F3: 0.036446912 | G3: 0.99765159 | H3: 0.99708895 | I3: 0.98026642 | J3: 0.075397082 | K3: TRUE | L3: 0.9147902 | M3: 0.5792648 | N3: TRUE | O3: -0.026083905 | P3: 0.15161129 | Q3: 2.9053373 | R3: 0.087926928
A4: Gh_OPR3 | B4: Hormonal regulation | C4: 120 | D4: 24 | E4: 96 | F4: 0.035749647 | G4: 0.9975518 | H4: 0.99696525 | I4: 0.97939949 | J4: 0.06263112 | K4: TRUE | L4: 1.6263076 | M4: 0.053452461 | N4: TRUE | O4: -0.035482099 | P4: 0.011338424 | Q4: 2.6376715 | R4: 0.072471989
A5: Gh_ICS1 | B5: Hormonal regulation | C5: 120 | D5: 24 | E5: 96 | F5: 0.04597076 | G5: 0.99810282 | H5: 0.99764829 | I5: 0.94832986 | J5: 0.00016328627 | K5: FALSE | L5: 4.580208 | M5: 6.0792072e-08 | N5: FALSE | O5: -0.069974848 | P5: 2.7561017 | Q5: 3.6810476 | R5: 0.14114699
A6: Gh_SOD | B6: Antioxidant defense | C6: 120 | D6: 24 | E6: 96 | F6: 0.033555262 | G6: 0.99678402 | H6: 0.99601353 | I6: 0.95479531 | J6: 0.00049428545 | K6: FALSE | L6: 0.57403613 | M6: 0.93560659 | N6: TRUE | O6: -0.021682711 | P6: -1.0982855 | Q6: 2.2842806 | R6: 0.054353518
A7: Gh_CAT1 | B7: Antioxidant defense | C7: 120 | D7: 24 | E7: 96 | F7: 0.043537912 | G7: 0.9945323 | H7: 0.99322233 | I7: 0.97799292 | J7: 0.046378466 | K7: FALSE | L7: 1.5786231 | M7: 0.065045497 | N7: TRUE | O7: -0.026422842 | P7: -0.7977732 | Q7: 2.3004559 | R7: 0.055126015
A8: Gh_POD1 | B8: Antioxidant defense | C8: 120 | D8: 24 | E8: 96 | F8: 0.036311525 | G8: 0.99590579 | H8: 0.99492488 | I8: 0.96526777 | J8: 0.0034323426 | K8: FALSE | L8: 1.0798848 | M8: 0.38131449 | N8: TRUE | O8: -0.020400202 | P8: -1.0270943 | Q8: 2.1103998 | R8: 0.046393616
A9: Gh_APX | B9: Antioxidant defense | C9: 120 | D9: 24 | E9: 96 | F9: 0.040786648 | G9: 0.99501098 | H9: 0.9938157 | I9: 0.96185884 | J9: 0.0017893081 | K9: FALSE | L9: 0.92548611 | M9: 0.5656831 | N9: TRUE | O9: -0.21604141 | P9: -0.57819325 | Q9: 3.0923827 | R9: 0.099612819
A10: Gh_GPX | B10: Antioxidant defense | C10: 120 | D10: 24 | E10: 96 | F10: 0.048261628 | G10: 0.99660491 | H10: 0.9957915 | I10: 0.98014385 | J10: 0.073445142 | K10: TRUE | L10: 2.6355135 | M10: 0.00052909655 | N10: FALSE | O10: 0.0016357602 | P10: 0.18588935 | Q10: 2.7623975 | R10: 0.079487916
A11: Gh_GR | B11: Antioxidant defense | C11: 120 | D11: 24 | E11: 96 | F11: 0.045621197 | G11: 0.99378602 | H11: 0.99229725 | I11: 0.96550041 | J11: 0.003591046 | K11: FALSE | L11: 1.4944726 | M11: 0.091151029 | N11: TRUE | O11: -0.033026534 | P11: -1.0601632 | Q11: 2.1286082 | R11: 0.047197634
A12: Gh_P5CS | B12: Metabolic/osmoprotective | C12: 120 | D12: 24 | E12: 96 | F12: 0.039281872 | G12: 0.99663651 | H12: 0.99583067 | I12: 0.95527395 | J12: 0.0005379075 | K12: FALSE | L12: 1.2091725 | M12: 0.25658772 | N12: TRUE | O12: -0.019885474 | P12: -1.1324757 | Q12: 1.9452538 | R12: 0.039416795
A13: Gh_SPS | B13: Metabolic/osmoprotective | C13: 120 | D13: 24 | E13: 96 | F13: 0.046082663 | G13: 0.99321067 | H13: 0.99158406 | I13: 0.94876067 | J13: 0.00017545082 | K13: FALSE | L13: 1.2882498 | M13: 0.19644084 | N13: TRUE | O13: -0.019858849 | P13: -1.1981352 | Q13: 1.9395789 | R13: 0.039187148
A14: Gh_SuSy | B14: Metabolic/osmoprotective | C14: 120 | D14: 24 | E14: 96 | F14: 0.043781137 | G14: 0.99682841 | H14: 0.99606855 | I14: 0.97458934 | J14: 0.022577266 | K14: FALSE | L14: 1.4462517 | M14: 0.10996285 | N14: TRUE | O14: -0.030921926 | P14: -0.72122624 | Q14: 2.6351427 | R14: 0.072333097

Sheet qPCR_Tukey_all
A1: Gene | B1: Module | C1: Group_A | D1: Group_B | E1: Mean_A | F1: Mean_B | G1: Mean_diff_B_minus_A | H1: SE_Tukey | I1: q | J1: df_error | K1: k_groups | L1: p_adj | M1: CI95_low | N1: CI95_high | O1: Reject_H0 | P1: MSE
A2: Gh_NCED5 | B2: Hormonal regulation | C2: Ishonch | 0 | Control | D2: Ishonch | 0 | Rizokom-1 | E2: -2.8855344e-05 | F2: 0.66879844 | G2: 0.66882729 | H2: 0.014123088 | I2: 47.357014 | J2: 96 | K2: 24 | L2: 2.2315483e-14 | M2: 0.59401998 | N2: 0.74363461 | O2: TRUE | P2: 0.00099730812
A3: Gh_NCED5 | B3: Hormonal regulation | C3: Ishonch | 0 | Control | D3: Ishonch | 0 | Mikrozim-1 | E3: -2.8855344e-05 | F3: 0.53587446 | G3: 0.53590332 | H3: 0.014123088 | I3: 37.945193 | J3: 96 | K3: 24 | L3: 2.2315483e-14 | M3: 0.461096 | N3: 0.61071063 | O3: TRUE | P3: 0.00099730812
A4: Gh_NCED5 | B4: Hormonal regulation | C4: Ishonch | 0 | Control | D4: Ishonch | 0 | Serhosil | E4: -2.8855344e-05 | F4: 0.38934819 | G4: 0.38937704 | H4: 0.014123088 | I4: 27.570248 | J4: 96 | K4: 24 | L4: 2.2315483e-14 | M4: 0.31456973 | N4: 0.46418436 | O4: TRUE | P4: 0.00099730812
A5: Gh_NCED5 | B5: Hormonal regulation | C5: Ishonch | 0 | Control | D5: Ishonch | 150 | Control | E5: -2.8855344e-05 | F5: -1.7376071 | G5: -1.7375783 | H5: 0.014123088 | I5: 123.03104 | J5: 96 | K5: 24 | L5: 2.2315483e-14 | M5: -1.8123856 | N5: -1.662771 | O5: TRUE | P5: 0.00099730812
A6: Gh_NCED5 | B6: Hormonal regulation | C6: Ishonch | 0 | Control | D6: Ishonch | 150 | Rizokom-1 | E6: -2.8855344e-05 | F6: -1.1859181 | G6: -1.1858893 | H6: 0.014123088 | I6: 83.968127 | J6: 96 | K6: 24 | L6: 2.2315483e-14 | M6: -1.2606966 | N6: -1.111082 | O6: TRUE | P6: 0.00099730812
A7: Gh_NCED5 | B7: Hormonal regulation | C7: Ishonch | 0 | Control | D7: Ishonch | 150 | Mikrozim-1 | E7: -2.8855344e-05 | F7: -1.2869916 | G7: -1.2869627 | H7: 0.014123088 | I7: 91.124739 | J7: 96 | K7: 24 | L7: 2.2315483e-14 | M7: -1.3617701 | N7: -1.2121554 | O7: TRUE | P7: 0.00099730812
A8: Gh_NCED5 | B8: Hormonal regulation | C8: Ishonch | 0 | Control | D8: Ishonch | 150 | Serhosil | E8: -2.8855344e-05 | F8: -1.4748231 | G8: -1.4747943 | H8: 0.014123088 | I8: 104.42435 | J8: 96 | K8: 24 | L8: 2.2315483e-14 | M8: -1.5496016 | N8: -1.3999869 | O8: TRUE | P8: 0.00099730812
A9: Gh_NCED5 | B9: Hormonal regulation | C9: Ishonch | 0 | Control | D9: Ravnaq-1 | 0 | Control | E9: -2.8855344e-05 | F9: -0.00014429404 | G9: -0.00011543869 | H9: 0.014123088 | I9: 0.008173757 | J9: 96 | K9: 24 | L9: 1 | M9: -0.074922753 | N9: 0.074691876 | O9: FALSE | P9: 0.00099730812
A10: Gh_NCED5 | B10: Hormonal regulation | C10: Ishonch | 0 | Control | D10: Ravnaq-1 | 0 | Rizokom-1 | E10: -2.8855344e-05 | F10: 0.55576274 | G10: 0.55579159 | H10: 0.014123088 | I10: 39.353404 | J10: 96 | K10: 24 | L10: 2.2315483e-14 | M10: 0.48098428 | N10: 0.63059891 | O10: TRUE | P10: 0.00099730812
A11: Gh_NCED5 | B11: Hormonal regulation | C11: Ishonch | 0 | Control | D11: Ravnaq-1 | 0 | Mikrozim-1 | E11: -2.8855344e-05 | F11: 0.40047168 | G11: 0.40050054 | H11: 0.014123088 | I11: 28.357858 | J11: 96 | K11: 24 | L11: 2.2315483e-14 | M11: 0.32569322 | N11: 0.47530785 | O11: TRUE | P11: 0.00099730812
A12: Gh_NCED5 | B12: Hormonal regulation | C12: Ishonch | 0 | Control | D12: Ravnaq-1 | 0 | Serhosil | E12: -2.8855344e-05 | F12: 0.31024628 | G12: 0.31027514 | H12: 0.014123088 | I12: 21.969355 | J12: 96 | K12: 24 | L12: 2.2315483e-14 | M12: 0.23546782 | N12: 0.38508245 | O12: TRUE | P12: 0.00099730812
A13: Gh_NCED5 | B13: Hormonal regulation | C13: Ishonch | 0 | Control | D13: Ravnaq-1 | 150 | Control | E13: -2.8855344e-05 | F13: 0.20152476 | G13: 0.20155361 | H13: 0.014123088 | I13: 14.271214 | J13: 96 | K13: 24 | L13: 4.8294702e-14 | M13: 0.1267463 | N13: 0.27636093 | O13: TRUE | P13: 0.00099730812
... A3589: Gh_SuSy | B3589: Metabolic/osmoprotective | C3589: Porloq-1 | 150 | Mikrozim-1 | D3589: Porloq-1 | 150 | Serhosil | E3589: 1.2445068 | F3589: 0.54526399 | G3589: -0.69924279 | H3589: 0.01957952 | I3589: 35.712969 | J3589: 96 | K3589: 24 | L3589: 2.2315483e-14 | M3589: -0.80295179 | N3589: -0.5955338 | O3589: TRUE | P3589: 0.001916788

Sheet qPCR_Tukey_by_NaCl
A1: Gene | B1: Module | C1: NaCl_mM | D1: Group_A | E1: Group_B | F1: Mean_A | G1: Mean_B | H1: Mean_diff_B_minus_A | I1: SE_Tukey | J1: q | K1: df_error | L1: k_groups | M1: p_adj | N1: CI95_low | O1: CI95_high | P1: Reject_H0 | Q1: MSE
A2: Gh_NCED5 | B2: Hormonal regulation | C2: 0 | D2: Ishonch | Control | E2: Ishonch | Rizokom-1 | F2: -2.8855344e-05 | G2: 0.66879844 | H2: 0.66882729 | I2: 0.010096337 | J2: 66.244552 | K2: 48 | L2: 12 | M2: 1.110223e-15 | N2: 0.61979919 | O2: 0.7178554 | P2: TRUE | Q2: 0.00050968007
A3: Gh_NCED5 | B3: Hormonal regulation | C3: 0 | D3: Ishonch | Control | E3: Ishonch | Mikrozim-1 | F3: -2.8855344e-05 | G3: 0.53587446 | H3: 0.53590332 | I3: 0.010096337 | J3: 53.078987 | K3: 48 | L3: 12 | M3: 1.110223e-15 | N3: 0.48687521 | O3: 0.58493142 | P3: TRUE | Q3: 0.00050968007
A4: Gh_NCED5 | B4: Hormonal regulation | C4: 0 | D4: Ishonch | Control | E4: Ishonch | Serhosil | F4: -2.8855344e-05 | G4: 0.38934819 | H4: 0.38937704 | I4: 0.010096337 | J4: 38.566171 | K4: 48 | L4: 12 | M4: 1.110223e-15 | N4: 0.34034893 | O4: 0.43840515 | P4: TRUE | Q4: 0.00050968007
A5: Gh_NCED5 | B5: Hormonal regulation | C5: 0 | D5: Ishonch | Control | E5: Ravnaq-1 | Control | F5: -2.8855344e-05 | G5: -0.00014429404 | H5: -0.00011543869 | I5: 0.010096337 | J5: 0.011433721 | K5: 48 | L5: 12 | M5: 1 | N5: -0.049143546 | O5: 0.048912669 | P5: FALSE | Q5: 0.00050968007
A6: Gh_NCED5 | B6: Hormonal regulation | C6: 0 | D6: Ishonch | Control | E6: Ravnaq-1 | Rizokom-1 | F6: -2.8855344e-05 | G6: 0.55576274 | H6: 0.55579159 | I6: 0.010096337 | J6: 55.048838 | K6: 48 | L6: 12 | M6: 1.110223e-15 | N6: 0.50676349 | O6: 0.6048197 | P6: TRUE | Q6: 0.00050968007
A7: Gh_NCED5 | B7: Hormonal regulation | C7: 0 | D7: Ishonch | Control | E7: Ravnaq-1 | Mikrozim-1 | F7: -2.8855344e-05 | G7: 0.40047168 | H7: 0.40050054 | I7: 0.010096337 | J7: 39.667907 | K7: 48 | L7: 12 | M7: 1.110223e-15 | N7: 0.35147243 | O7: 0.44952865 | P7: TRUE | Q7: 0.00050968007
A8: Gh_NCED5 | B8: Hormonal regulation | C8: 0 | D8: Ishonch | Control | E8: Ravnaq-1 | Serhosil | F8: -2.8855344e-05 | G8: 0.31024628 | H8: 0.31027514 | I8: 0.010096337 | J8: 30.731457 | K8: 48 | L8: 12 | M8: 1.110223e-15 | N8: 0.26124703 | O8: 0.35930325 | P8: TRUE | Q8: 0.00050968007
A9: Gh_NCED5 | B9: Hormonal regulation | C9: 0 | D9: Ishonch | Control | E9: Porloq-1 | Control | F9: -2.8855344e-05 | G9: -0.00014429404 | H9: -0.00011543869 | I9: 0.010096337 | J9: 0.011433721 | K9: 48 | L9: 12 | M9: 1 | N9: -0.049143546 | O9: 0.048912669 | P9: FALSE | Q9: 0.00050968007
A10: Gh_NCED5 | B10: Hormonal regulation | C10: 0 | D10: Ishonch | Control | E10: Porloq-1 | Rizokom-1 | F10: -2.8855344e-05 | G10: 0.453976 | H10: 0.45400486 | I10: 0.010096337 | J10: 44.967286 | K10: 48 | L10: 12 | M10: 1.110223e-15 | N10: 0.40497675 | O10: 0.50303296 | P10: TRUE | Q10: 0.00050968007
A11: Gh_NCED5 | B11: Hormonal regulation | C11: 0 | D11: Ishonch | Control | E11: Porloq-1 | Mikrozim-1 | F11: -2.8855344e-05 | G11: 0.28662907 | H11: 0.28665792 | I11: 0.010096337 | J11: 28.392271 | K11: 48 | L11: 12 | M11: 1.110223e-15 | N11: 0.23762982 | O11: 0.33568603 | P11: TRUE | Q11: 0.00050968007
A12: Gh_NCED5 | B12: Hormonal regulation | C12: 0 | D12: Ishonch | Control | E12: Porloq-1 | Serhosil | F12: -2.8855344e-05 | G12: 0.20154658 | H12: 0.20157543 | I12: 0.010096337 | J12: 19.965205 | K12: 48 | L12: 12 | M12: 1.110223e-15 | N12: 0.15254733 | O12: 0.25060354 | P12: TRUE | Q12: 0.00050968007
A13: Gh_NCED5 | B13: Hormonal regulation | C13: 0 | D13: Ishonch | Rizokom-1 | E13: Ishonch | Mikrozim-1 | F13: 0.66879844 | G13: 0.53587446 | H13: -0.13292398 | I13: 0.010096337 | J13: 13.165565 | K13: 48 | L13: 12 | M13: 1.6202439e-10 | N13: -0.18195208 | O13: -0.08389587 | P13: TRUE | Q13: 0.00050968007
... A1717: Gh_SuSy | B1717: Metabolic/osmoprotective | C1717: 150 | D1717: Porloq-1 | Mikrozim-1 | E1717: Porloq-1 | Serhosil | F1717: 1.2445068 | G1717: 0.54526399 | H1717: -0.69924279 | I1717: 0.020666261 | J1717: 33.834993 | K1717: 48 | L1717: 12 | M1717: 1.110223e-15 | N1717: -0.79959877 | O1717: -0.59888682 | P1717: TRUE | Q1717: 0.0021354717

Sheet qPCR_Tukey_letters
A1: Gene | B1: Module | C1: NaCl_mM | D1: Genotype | E1: Treatment | F1: Mean_log2_FC | G1: Tukey_letters
A2: Gh_NCED5 | B2: Hormonal regulation | C2: 0 | D2: Ishonch | E2: Control | F2: -2.8855344e-05 | G2: g
A3: Gh_NCED5 | B3: Hormonal regulation | C3: 0 | D3: Ishonch | E3: Rizokom-1 | F3: 0.66879844 | G3: a
A4: Gh_NCED5 | B4: Hormonal regulation | C4: 0 | D4: Ishonch | E4: Mikrozim-1 | F4: 0.53587446 | G4: b
A5: Gh_NCED5 | B5: Hormonal regulation | C5: 0 | D5: Ishonch | E5: Serhosil | F5: 0.38934819 | G5: d
A6: Gh_NCED5 | B6: Hormonal regulation | C6: 0 | D6: Ravnaq-1 | E6: Control | F6: -0.00014429404 | G6: g
A7: Gh_NCED5 | B7: Hormonal regulation | C7: 0 | D7: Ravnaq-1 | E7: Rizokom-1 | F7: 0.55576274 | G7: b
A8: Gh_NCED5 | B8: Hormonal regulation | C8: 0 | D8: Ravnaq-1 | E8: Mikrozim-1 | F8: 0.40047168 | G8: d
A9: Gh_NCED5 | B9: Hormonal regulation | C9: 0 | D9: Ravnaq-1 | E9: Serhosil | F9: 0.31024628 | G9: e
A10: Gh_NCED5 | B10: Hormonal regulation | C10: 0 | D10: Porloq-1 | E10: Control | F10: -0.00014429404 | G10: g
A11: Gh_NCED5 | B11: Hormonal regulation | C11: 0 | D11: Porloq-1 | E11: Rizokom-1 | F11: 0.453976 | G11: c
A12: Gh_NCED5 | B12: Hormonal regulation | C12: 0 | D12: Porloq-1 | E12: Mikrozim-1 | F12: 0.28662907 | G12: e
A13: Gh_NCED5 | B13: Hormonal regulation | C13: 0 | D13: Porloq-1 | E13: Serhosil | F13: 0.20154658 | G13: f
... A313: Gh_SuSy | B313: Metabolic/osmoprotective | C313: 150 | D313: Porloq-1 | E313: Serhosil | F313: 0.54526399 | G313: d e

Sheet qPCR_Data_dictionary
A1: Analysis parameter | B1: Value | C1: Definition / rule
A2: Alpha | B2: 0.05 | C2: Statistical significance threshold
A3: Confidence level | B3: 0.95 | C3: Two-sided confidence level
A4: Biological replicates | B4: 5 | C4: Independent biological replicates per experimental combination
A5: t critical (df = 4) | B5: 2.7764451 | C5: Used for 95% CI of a mean when n = 5
A6: Error bars | B6: SD | C6: Figures report mean ± standard deviation
A7: Source file | B7: Final RT-qPCR relative-expression dataset (five biological replicates) | C7: Source dataset used for all downstream calculations
A10: Section | B10: Item | C10: Definition / rule
A11: Workbook | B11: Purpose | C11: Complete auditable calculation package for manuscript Figures 3 and 4: raw data, log2 transformation, summaries, factorial ANOVA, diagnostics, Tukey HSD and compact-letter displays.
A12: Sheet | B12: qPCR_Raw_data | C12: Unchanged values from the final RT-qPCR relative-expression dataset (five biological replicates). The data table retains the source Mean and SD summary columns; only Bio_rep_1–Bio_rep_5 are used for log2 transformation and downstream statistical analyses.
A13: Sheet | B13: qPCR_Log2_data | C13: Individual log2-transformed fold-change values. Formula: log2(x) = LN(x)/LN(2).
A14: Sheet | B14: qPCR_Summary | C14: Mean, SD, SE, 95% CI and n calculated from the five individual log2 values.
A15: Sheet | B15: qPCR_Figure3_data | C15: Plot-ready values for the hormonal regulation module in manuscript Figure 3: Gh_NCED5, Gh_GH3.17, Gh_OPR3 and Gh_ICS1.
A16: Sheet | B16: qPCR_Figure4A_data | C16: Plot-ready values for the antioxidant defense module in manuscript Figure 4A: Gh_SOD, Gh_CAT1, Gh_POD1, Gh_APX, Gh_GPX and Gh_GR.
A17: Sheet | B17: qPCR_Figure4B_data | C17: Plot-ready values for the metabolic/osmoprotective module in manuscript Figure 4B: Gh_P5CS, Gh_SPS and Gh_SuSy.
A18: Sheet | B18: qPCR_Statistical_tests | C18: Compact statistical overview for each gene, including significant factorial effects, Tukey counts and diagnostic flags.
A19: Sheet | B19: qPCR_ANOVA_results | C19: Balanced three-factor fixed-effects ANOVA for each gene on individual log2 values.
... A49: Figure | B49: Panel allocation | C49: Manuscript Figure 3: hormonal regulation module. Manuscript Figure 4A: antioxidant defense module. Manuscript Figure 4B: metabolic/osmoprotective module.
