Workbook

Sheet Amp (T-P-fO2 calculation)
A1: Supplementary Table 3. Temperature, pressure, and oxygen fugacity during amphibole crystallisation
A2: Labels and information | H2: Input | T2: Output (Ridolfi, 2021 and references therein） | BW2: Nickel-nickel oxide buffer (NNO) is from O’Neil (1997) | CA2: Oldhamite (CaS)–anhydrite (CaSO4) buffer is from Liu et al. (2023) | CC2: Ridolfi, 2021
A3: Diamond-drillhole No. | B3: Lithofacies | C3: Depth | D3: Sample No. | E3: Minerals | F3: Anhydrite exist or not | H3: Amphibole composition (wt%) | T3: Amphibole total calculation | U3: moles in 100 g | AI3: 13 cations apfu | BA3: Pressure equations (MPa) | BF3: Automatic checks and parameters | BL3: Physico-chemical conditions | BU3: Hollister et al., 1987 | BV3: Liao et al., 2021
H4: SiO2 | I4: TiO2 | J4: Al2O3 | K4: Cr2O3 | L4: FeO | M4: MnO | N4: MgO | O4: CaO | P4: Na2O | Q4: K2O | R4: F | S4: Cl | T4: Sum | U4: Si | V4: Ti | W4: Al | X4: Cr | Y4: Fe | Z4: Mn | AA4: Mg | AB4: Ca | AC4: Na | AD4: K | AE4: F | AF4: Cl | AG4: Si to Mg sum | AH4: Xal | AI4: Si | AJ4: Ti | AK4: Al | AL4: Cr | AM4: Fe | AN4: Mn | AO4: Mg | AP4: Ca | AQ4: Na | AR4: K | AS4: F | AT4: Cl | AU4: sum | AV4: H2O | AW4: Fe2O3 | AX4: FeO | AY4: O=F,Cl | AZ4: Total | BA4: P1a | BB4: P1b | BC4: P1c | BD4: P1d | BE4: P1e | BF4: Total and composition | BG4: Composition for fO2 | BH4: Composition for H2O | BI4: APE | BJ4: XPae | BK4: ΔPdb | BL4: T (°C) | BM4: error (°C) | BN4: error2 | BO4: P (MPa) | BP4: Eq. | BQ4: error% | BR4: error%as | BS4: error%^2 | BT4: error (MPa) | BU4: P (MPa) | BV4: T (°C) | BW4: ΔNNO | BX4: error | BY4: error^2 | BZ4: NNO | CA4: ΔOA | CB4: OA | CC4: logfO2 | CE4: H2Omelt (wt%) | CF4: error (wt%) | CG4: Si | CH4: AlIV | CI4: Ti | CJ4: T sum | CL4: AlVI | CM4: Ti | CN4: Cr | CO4: Fe3+ | CP4: Mg | CQ4: Fe2+ | CR4: Mn | CS4: C sum | CU4: Ca | CV4: Na | CW4: B sum | CY4: Na | CZ4: K | DA4: A sum | DC4: OH | DD4: F | DE4: Cl | DF4: W sum | DG4: charge | DI4: Mg/(Mg+Fe2+) | DJ4: Mg# | DK4: Al# | DL4: AlT
A5: DH0101 | B5: hornblende-gabbro | C5: 42 | D5: A3 | E5: Magnesio-hastingsite | F5: No | H5: 39.865 | I5: 2.018 | J5: 13.431 | K5: 0.005 | L5: 16.762 | M5: 0.378 | N5: 10.114 | O5: 11.537 | P5: 1.945 | Q5: 1.07 | R5: 0 | S5: 0.033 | T5: =IF(SUM(H5:S5)<90," ",SUM(H5:S5)) -> 97.158 | U5: =IF(SUM(H5:S5)<90," ",H5/stab.data!$U$7) -> 0.66348778 | V5: =IF(SUM(H5:S5)<90," ",I5/stab.data!$U$8) -> 0.025257203 | W5: =IF(SUM(H5:S5)<90," ",J5*2/stab.data!$U$9) -> 0.26345367 | X5: =IF(SUM(H5:S5)<90," ",K5*2/stab.data!$U$10) -> 6.5793716e-05 | Y5: =IF(SUM(H5:S5)<90," ",L5/stab.data!$U$11) -> 0.23330457 | Z5: =IF(SUM(H5:S5)<90," ",M5/stab.data!$U$12) -> 0.0053286719 | AA5: =IF(SUM(H5:S5)<90," ",N5/stab.data!$U$13) -> 0.25094283 | AB5: =IF(SUM(H5:S5)<90," ",O5/stab.data!$U$14) -> 0.20572763 | AC5: =IF(SUM(H5:S5)<90," ",P5*2/stab.data!$U$15) -> 0.062763194 | AD5: =IF(SUM(H5:S5)<90," ",Q5*2/stab.data!$U$16) -> 0.022718828 | AE5: =IF(SUM(H5:S5)<90," ",R5/stab.data!$U$17) -> 0 | AF5: =IF(SUM(H5:S5)<90," ",S5/stab.data!$U$18) -> 0.0009308098 | AG5: =IF(SUM(H5:S5)<90," ",SUM(U5:AA5)) -> 1.4418405 | AH5: =IF(SUM(H5:S5)<90," ",AK5/SUM(AI5:AR5)) -> 0.15201734 | AI5: =IF(SUM(H5:S5)<90," ",U5*13/$AG5) -> 5.9821742 | AJ5: =IF(SUM(H5:S5)<90," ",V5*13/$AG5) -> 0.22772535 | AK5: =IF(SUM(H5:S5)<90," ",W5*13/$AG5) -> 2.3753652 | AL5: =IF(SUM(H5:S5)<90," ",X5*13/$AG5) -> 0.00059321283 | AM5: =IF(SUM(H5:S5)<90," ",Y5*13/$AG5) -> 2.1035332 | AN5: =IF(SUM(H5:S5)<90," ",Z5*13/$AG5) -> 0.048044658 | AO5: =IF(SUM(H5:S5)<90," ",AA5*13/$AG5) -> 2.2625643 | AP5: =IF(SUM(H5:S5)<90," ",AB5*13/$AG5) -> 1.8548925 | AQ5: =IF(SUM(H5:S5)<90," ",AC5*13/$AG5) -> 0.56588888 | AR5: =IF(SUM(H5:S5)<90," ",AD5*13/$AG5) -> 0.20483872 | AS5: =IF(SUM(H5:S5)<90," ",AE5*13/$AG5) -> 0 | AT5: =IF(SUM(H5:S5)<90," ",AF5*13/$AG5) -> 0.0083924173 | AU5: =IF(SUM(H5:S5)<90," ",SUM(AI5:AR5)) -> 15.62562 | AV5: =IF(SUM(H5:S5)<90," ",(2-AS5-AT5)*AG5*17/13/2) -> 1.8775719 | AW5: =IF(SUM(H5:S5)<90," ",CO5*AG5*stab.data!$U$20/13/2) -> 6.4091557 | AX5: =IF(SUM(H5:S5)<90," ",CQ5*AG5*stab.data!$U$11/13) -> 10.99496 | AY5: =IF(SUM(H5:S5)<90," ",-(R5*0.421070639014633+S5*0.225636758525372)) -> -0.007446013 | AZ5: =IF(SUM(H5:S5)<90," ",SUM(H5:S5)-L5+AV5+AW5+AX5+AY5) -> 99.670241 | BA5: =IF(SUM(H5:S5)<90," ",EXP('eq. coef.'!$C$104+'eq. coef.'!$C$105*'Amp (T-P-fO2 calculation)'!AI5+'eq. coef.'!$C$106*'Amp (T-P-fO2 calculation)'!AJ5+'eq. coef.'!$C$107*'Amp (T-P-fO2 calculation)'!AK5+'eq. coef.'!$C$108*'Amp (T-P-fO2 calculation)'!AM5+'eq. coef.'!$C$109*'Amp (T-P-fO2 calculation)'!AO5+'eq. coef.'!$C$110*'Amp (T-P-fO2 calculation)'!AP5+'eq. coef.'!$C$111*'Amp (T-P-fO2 calculation)'!AQ5+'eq. coef.'!$C$112*'Amp (T-P-fO2 calculation)'!AR5)) -> 594.9499 | BB5: =IF(SUM(H5:S5)<90," ",EXP('eq. coef.'!$C$176+'eq. coef.'!$C$177*'Amp (T-P-fO2 calculation)'!AI5+'eq. coef.'!$C$178*'Amp (T-P-fO2 calculation)'!AJ5+'eq. coef.'!$C$179*'Amp (T-P-fO2 calculation)'!AK5+'eq. coef.'!$C$180*'Amp (T-P-fO2 calculation)'!AM5+'eq. coef.'!$C$181*'Amp (T-P-fO2 calculation)'!AO5+'eq. coef.'!$C$182*'Amp (T-P-fO2 calculation)'!AP5+'eq. coef.'!$C$183*'Amp (T-P-fO2 calculation)'!AQ5+'eq. coef.'!$C$184*'Amp (T-P-fO2 calculation)'!AR5)) -> 468.7422 | BC5: =IF(SUM(H5:S5)<90," ",('eq. coef.'!$C$234+'eq. coef.'!$C$235*'Amp (T-P-fO2 calculation)'!AI5+'eq. coef.'!$C$236*'Amp (T-P-fO2 calculation)'!AJ5+'eq. coef.'!$C$237*'Amp (T-P-fO2 calculation)'!AK5+'eq. coef.'!$C$238*'Amp (T-P-fO2 calculation)'!AM5+'eq. coef.'!$C$239*'Amp (T-P-fO2 calculation)'!AO5+'eq. coef.'!$C$240*'Amp (T-P-fO2 calculation)'!AP5+'eq. coef.'!$C$241*'Amp (T-P-fO2 calculation)'!AQ5+'eq. coef.'!$C$242*'Amp (T-P-fO2 calculation)'!AR5)) -> 507.65916 | BD5: =IF(SUM(H5:S5)<90," ",('eq. coef.'!$C$270+'eq. coef.'!$C$271*'Amp (T-P-fO2 calculation)'!AI5+'eq. coef.'!$C$272*'Amp (T-P-fO2 calculation)'!AJ5+'eq. coef.'!$C$273*'Amp (T-P-fO2 calculation)'!AK5+'eq. coef.'!$C$274*'Amp (T-P-fO2 calculation)'!AM5+'eq. coef.'!$C$275*'Amp (T-P-fO2 calculation)'!AO5+'eq. coef.'!$C$276*'Amp (T-P-fO2 calculation)'!AP5+'eq. coef.'!$C$277*'Amp (T-P-fO2 calculation)'!AQ5+'eq. coef.'!$C$278*'Amp (T-P-fO2 calculation)'!AR5)) -> 471.60991 | BE5: =IF(SUM(H5:S5)<90," ",EXP('eq. coef.'!$C$328+'eq. coef.'!$C$329*'Amp (T-P-fO2 calculation)'!AI5+'eq. coef.'!$C$330*'Amp (T-P-fO2 calculation)'!AJ5+'eq. coef.'!$C$331*'Amp (T-P-fO2 calculation)'!AK5+'eq. coef.'!$C$332*'Amp (T-P-fO2 calculation)'!AM5+'eq. coef.'!$C$333*'Amp (T-P-fO2 calculation)'!AO5+'eq. coef.'!$C$334*'Amp (T-P-fO2 calculation)'!AP5+'eq. coef.'!$C$335*'Amp (T-P-fO2 calculation)'!AQ5+'eq. coef.'!$C$336*'Amp (T-P-fO2 calculation)'!AR5)) -> 820.39151 | BF5: =IF(SUM(H5:S5)<90," ",IF(AZ5<98.5,"low Total",IF(AZ5>102,"high Total",IF(DG5>46.5,"unbalanced",IF(CQ5<0,"unbalanced",IF(DI5<0.54,"low-Mg",IF(CU5<1.5,"low-Ca",IF(CW5<1.99,"low-B cations",IF(CU5>2.05,"high-Ca",IF(DK5>0.25,"high-Al#",IF(H5<38.8-0.42,"low-SiO2",IF(H5>49.8,"high-SiO2",IF(CI5>0.06+0.06*0.2,"high-[4]Ti",IF(CL5>0.57+0.57*0.074,"high-[6]Al",IF(CM5>0.7+0.7*0.07,"high-[6]Ti",IF(CN5>0.04+0.04*0.1,"high-Cr2O3",IF(CO5>1.37+1.37*0.28,"high-Fe3+",IF(N5<9.71-0.35,"low-MgO",IF(N5>18.01+0.35,"high-MgO",IF(CQ5>1.69+1.69*0.28,"high-Fe2+",IF(M5>0.58+0.58*0.3,"high-MnO",IF(O5>12.35+0.25,"high-CaO",IF(CY5<0,"low-ANa",IF(CY5>0.58+0.58*0.11,"high-ANa",IF(Q5<0,"low-K2O",IF(Q5>2.03+0.05,"high-K2O",IF(DA5<0.03-0.03*0.3,"low-A(Na+K)",IF(DA5>1,"high-A(Na+K)",IF(J5<6.5,"low-Al2O3",IF(J5>15.9+0.36,"high-Al2O3",IF(I5<1.1-0.2,"low-TiO2",IF(L5<5.85-0.44,"low-FeO",IF(L5>16.92+0.44,"high-FeO",IF(P5<1.07-0.1,"low-Na2O",IF(P5>3.05+0.1,"high-Na2O","ok"))))))))))))))))))))))))))))))))))) -> ok | BG5: =IF(SUM(H5:S5)<90," ",IF(DI5<0.54,"low-Mg",IF(CU5<1.5,"low-Ca",IF(CW5<1.99,"low-B cations",IF(CU5>2.05,"high-Ca",IF(DK5>0.24,"high-Al#",IF(H5<39.2-0.42,"low-SiO2",IF(H5>46.2+0.42,"high-SiO2",IF(CI5>0.06+0.06*0.2,"high-[4]Ti",IF(CL5>0.48+0.48*0.074,"high-[6]Al",IF(CM5>0.66+0.66*0.07,"high-[6]Ti",IF(CN5>0.04+0.04*0.1,"high-Cr2O3",IF(CO5>1.25+1.25*0.28,"high-Fe3+",IF(N5<9.71-0.35,"low-MgO",IF(N5>16.7+0.35,"high-MgO",IF(CQ5>1.69+1.69*0.28,"high-Fe2+",IF(M5>0.32+0.32*0.3,"high-MnO",IF(O5>12.35+0.25,"high-CaO",IF(CY5<0.1,"low-ANa",IF(CY5>0.57+0.57*0.11,"high-ANa",IF(Q5<0,"low-K2O",IF(Q5>1.3+0.05,"high-K2O",IF(DA5<0.17-0.17*0.3,"low-A(Na+K)",IF(DA5>0.9,"high-A(Na+K)",IF(J5<8.5,"low-Al2O3",IF(J5>14.6+0.4,"high-Al2O3",IF(I5<1.3-0.2,"low-TiO2",IF(L5<8.7-0.44,"low-FeO",IF(L5>16.92+0.44,"high-FeO",IF(P5<1.6-0.1,"low-Na2O",IF(P5>2.65+0.1,"high-Na2O","ok"))))))))))))))))))))))))))))))) -> ok | BH5: =IF(SUM(H5:S5)<90," ",IF(DI5<0.54,"low-Mg",IF(CU5<1.5,"low-Ca",IF(CW5<1.99,"low-B cations",IF(CU5>2.05,"high-Ca",IF(DK5>0.24,"high-Al#",IF(H5<38.8-0.42,"low-SiO2",IF(H5>47.9+0.42,"high-SiO2",IF(CI5>0.06+0.06*0.2,"high-[4]Ti",IF(CL5>0.55+0.55*0.074,"high-[6]Al",IF(CM5>0.7+0.7*0.07,"high-[6]Ti",IF(CN5>0.03+0.03*0.1,"high-Cr2O3",IF(CO5>1.37+1.37*0.28,"high-Fe3+",IF(N5<9.71-0.35,"low-MgO",IF(N5>18+0.35,"high-MgO",IF(CQ5>1.69+1.69*0.28,"high-Fe2+",IF(M5>0.58+0.58*0.3,"high-MnO",IF(O5>12.35+0.25,"high-CaO",IF(CY5<0,"low-ANa",IF(CY5>0.58+0.58*0.11,"high-ANa",IF(Q5<0,"low-K2O",IF(Q5>2+0.05,"high-K2O",IF(DA5<0.07-0.07*0.3,"low-A(Na+K)",IF(DA5>0.9,"high-A(Na+K)",IF(J5<6.5,"low-Al2O3",IF(J5>15.9+0.4,"high-Al2O3",IF(I5<1.1-0.2,"low-TiO2",IF(L5<5.9-0.44,"low-FeO",IF(L5>16.92+0.44,"high-FeO",IF(P5<1.28-0.1,"low-Na2O",IF(P5>2.9+0.1,"high-Na2O","ok"))))))))))))))))))))))))))))))) -> ok | BI5: =IF(SUM(H5:S5)<90," ",ABS(BA5-BO5)/(BA5+BO5)*200) -> 15.833489 | BJ5: =IF(SUM(H5:S5)<90," ",(BA5-BE5)/BA5) -> -0.37892536 | BK5: =IF(SUM(H5:S5)<90," ",BD5-BB5) -> 2.8677132 | BL5: =IF(SUM(H5:S5)<90," ",'eq. coef.'!$C$360+'eq. coef.'!$C$361*'Amp (T-P-fO2 calculation)'!AI5+'eq. coef.'!$C$362*'Amp (T-P-fO2 calculation)'!AJ5+'eq. coef.'!$C$363*'Amp (T-P-fO2 calculation)'!AK5+'eq. coef.'!$C$364*'Amp (T-P-fO2 calculation)'!AM5+'eq. coef.'!$C$365*'Amp (T-P-fO2 calculation)'!AO5+'eq. coef.'!$C$366*'Amp (T-P-fO2 calculation)'!AP5+'eq. coef.'!$C$367*'Amp (T-P-fO2 calculation)'!AQ5+'eq. coef.'!$C$368*'Amp (T-P-fO2 calculation)'!AR5+'eq. coef.'!$C$369*LN(BO5)) -> 904.67734 | BM5: =IF(SUM(H5:S5)<90," ",22) -> 22 | BN5: =IF(SUM(H5:S5)<90," ",BM5^2) -> 484 | BO5: =IF(SUM(H5:S5)<90," ",IF(BB5<335,BB5,IF(BB5<399,AVERAGE(BB5:BC5),IF(BC5<415,BC5,IF(BD5<470,BC5,IF(BJ5>0.22,AVERAGE(BC5:BD5),IF(BK5>350,BE5,IF(BK5>210,BD5,IF(BK5<75,BC5,IF(BJ5<-0.2,AVERAGE(BB5:BC5),IF(BJ5>0.05,AVERAGE(BC5:BD5),BA5))))))))))) -> 507.65916 | BP5: =IF(SUM(H5:S5)<90," ",IF(BO5=BA5,"P1a",IF(BO5=BB5,"P1b",IF(BO5=BC5,"P1c",IF(BO5=BD5,"P1d",IF(BO5=BE5,"P1e",IF(BO5=AVERAGE(BB5:BC5),"P1b_c","P1c_d"))))))) -> P1c | BR5: =ABS(BQ5) -> 0 | BS5: =BQ5^2 -> 0 | BT5: =IF(SUM(H5:S5)<90," ",BO5*0.12) -> 60.919099 | BU5: =(-4.76+5.6*DL5)*100 -> 854.20449 | BV5: =2400/(1.52-LOG10(CM5))-273 -> 836.78111 | BW5: =IF(SUM(H5:S5)<90," ",'eq. coef.'!$B$1128*'Amp (T-P-fO2 calculation)'!CH5+'eq. coef.'!$B$1129*'Amp (T-P-fO2 calculation)'!CL5+'eq. coef.'!$B$1130*'Amp (T-P-fO2 calculation)'!CM5+'eq. coef.'!$B$1131*'Amp (T-P-fO2 calculation)'!CO5+'eq. coef.'!$B$1132*'Amp (T-P-fO2 calculation)'!CP5+'eq. coef.'!$B$1133*'Amp (T-P-fO2 calculation)'!CQ5+'eq. coef.'!$B$1134*'Amp (T-P-fO2 calculation)'!CR5+'eq. coef.'!$B$1135*'Amp (T-P-fO2 calculation)'!CU5+'eq. coef.'!$B$1135*'Amp (T-P-fO2 calculation)'!CY5+'eq. coef.'!$B$1137*'Amp (T-P-fO2 calculation)'!CZ5) -> 1.9101695 | BX5: =IF(SUM(H5:S5)<90," ",0.4) -> 0.4 | BZ5: =12.78-25073/(BL5+273.15)-1.1*LOG10(BL5+273.15)+450*(BO5/1000)/(BL5+273.15)+0.025*(BO5/1000) -> -11.679043 | CA5: =CC5-CB5 -> 0.48778227 | CB5: =2.19144+15305300/(BL5+273.15)/(BL5+273.15)/(BL5+273.15)-1551.42/(BL5+273.15)/(BL5+273.15)+(-25137+0.0477703*(BO5*10))/(BL5+273.15)+0.000109305*(BL5+273.15)+2.7838*LOG10(BL5+273.15) -> -10.258233 | CC5: =IF(SUM(H5:S5)<90," ",-25018.7/(BL5+273.15) + 12.981 + 0.046*(BO5*10- 1)/(BL5+273.15) + -0.5117*LN(BL5+273.15)+BW5) -> -9.7704512 | CE5: =IF(SUM(H5:S5)<90," ",EXP('eq. coef.'!$B$1156*'Amp (T-P-fO2 calculation)'!CH5+'eq. coef.'!$B$1157*'Amp (T-P-fO2 calculation)'!CL5+'eq. coef.'!$B$1158*'Amp (T-P-fO2 calculation)'!CM5+'eq. coef.'!$B$1159*'Amp (T-P-fO2 calculation)'!CO5+'eq. coef.'!$B$1160*'Amp (T-P-fO2 calculation)'!CP5+'eq. coef.'!$B$1161*'Amp (T-P-fO2 calculation)'!CQ5+'eq. coef.'!$B$1162*'Amp (T-P-fO2 calculation)'!CR5+'eq. coef.'!$B$1163*'Amp (T-P-fO2 calculation)'!CU5+'eq. coef.'!$B$1164*'Amp (T-P-fO2 calculation)'!CY5+'eq. coef.'!$B$1165*'Amp (T-P-fO2 calculation)'!CZ5)) -> 8.009497 | CF5: =IF(SUM(H5:S5)<90," ",CE5*0.17) -> 1.3616145 | CG5: =IF(SUM(H5:S5)<90," ",AI5) -> 5.9821742 | CH5: =IF(SUM(H5:S5)<90," ",IF(AI5+AK5>8,8-AI5,AK5)) -> 2.0178258 | CI5: =IF(SUM(H5:S5)<90," ",IF(CG5+CH5<8,8-CG5-CH5,0)) -> 0 | CJ5: =IF(SUM(H5:S5)<90," ",SUM(CG5:CI5)) -> 8 | CL5: =IF(SUM(H5:S5)<90," ",AK5-CH5) -> 0.35753934 | CM5: =IF(SUM(H5:S5)<90," ",AJ5-CI5) -> 0.22772535 | CN5: =IF(SUM(H5:S5)<90," ",AL5) -> 0.00059321283 | CO5: =IF(SUM(H5:S5)<90," ",IF(DG5>46,0,46-DG5)) -> 0.72372987 | CP5: =IF(SUM(H5:S5)<90," ",AO5) -> 2.2625643 | CQ5: =IF(SUM(H5:S5)<90," ",AM5-CO5) -> 1.3798033 | CR5: =IF(SUM(H5:S5)<90," ",AN5) -> 0.048044658 | CS5: =IF(SUM(H5:S5)<90," ",SUM(CL5:CR5)) -> 5 | CU5: =IF(SUM(H5:S5)<90," ",AP5) -> 1.8548925 | CV5: =IF(SUM(H5:S5)<90," ",IF(2-CU5<=AQ5,2-CU5,AQ5)) -> 0.14510746 | CW5: =IF(SUM(H5:S5)<90," ",SUM(CU5:CV5)) -> 2 | CY5: =IF(SUM(H5:S5)<90," ",AQ5-CV5) -> 0.42078142 | CZ5: =IF(SUM(H5:S5)<90," ",AR5) -> 0.20483872 | DA5: =IF(SUM(H5:S5)<90," ",SUM(CY5:CZ5)) -> 0.62562014 | DC5: =IF(SUM(H5:S5)<90," ",2-DD5-DE5) -> 1.9916076 | DD5: =IF(SUM(H5:S5)<90," ",AS5) -> 0 | DE5: =IF(SUM(H5:S5)<90," ",AT5) -> 0.0083924173 | DF5: =IF(SUM(H5:S5)<90," ",SUM(DC5:DE5)) -> 2 | DG5: =IF(SUM(H5:S5)<90," ",AI5*4+AJ5*4+AK5*3+AL5*3+AM5*2+AN5*2+AO5*2+AP5*2+AQ5+AR5) -> 45.27627 | DI5: =IF(SUM(H5:S5)<90," ",CP5/(CP5+CQ5)) -> 0.62117955 | DJ5: =IF(SUM(H5:S5)<90," ",CP5/(CP5+CO5+CQ5)) -> 0.51821204 | DK5: =IF(SUM(H5:S5)<90," ",CL5/(CL5+CH5)) -> 0.15051974 | DL5: =IF(SUM(H5:S5)<90," ",CL5+CH5) -> 2.3753652
A6: DH0101 | B6: hornblende-gabbro | C6: 55 | D6: A5 | E6: Pargasite | F6: No | H6: 39.276 | I6: 2.326 | J6: 14.225 | K6: 0 | L6: 16.68 | M6: 0.363 | N6: 9.64 | O6: 11.661 | P6: 1.837 | Q6: 1.296 | R6: 0 | S6: 0.036 | T6: =IF(SUM(H6:S6)<90," ",SUM(H6:S6)) -> 97.34 | U6: =IF(SUM(H6:S6)<90," ",H6/stab.data!$U$7) -> 0.65368484 | V6: =IF(SUM(H6:S6)<90," ",I6/stab.data!$U$8) -> 0.029112118 | W6: =IF(SUM(H6:S6)<90," ",J6*2/stab.data!$U$9) -> 0.27902826 | X6: =IF(SUM(H6:S6)<90," ",K6*2/stab.data!$U$10) -> 0 | Y6: =IF(SUM(H6:S6)<90," ",L6/stab.data!$U$11) -> 0.23216324 | Z6: =IF(SUM(H6:S6)<90," ",M6/stab.data!$U$12) -> 0.0051172167 | AA6: =IF(SUM(H6:S6)<90," ",N6/stab.data!$U$13) -> 0.23918222 | AB6: =IF(SUM(H6:S6)<90," ",O6/stab.data!$U$14) -> 0.2079388 | AC6: =IF(SUM(H6:S6)<90," ",P6*2/stab.data!$U$15) -> 0.059278143 | AD6: =IF(SUM(H6:S6)<90," ",Q6*2/stab.data!$U$16) -> 0.027517384 | AE6: =IF(SUM(H6:S6)<90," ",R6/stab.data!$U$17) -> 0 | AF6: =IF(SUM(H6:S6)<90," ",S6/stab.data!$U$18) -> 0.0010154289 | AG6: =IF(SUM(H6:S6)<90," ",SUM(U6:AA6)) -> 1.4382879 | AH6: =IF(SUM(H6:S6)<90," ",AK6/SUM(AI6:AR6)) -> 0.16100674 | AI6: =IF(SUM(H6:S6)<90," ",U6*13/$AG6) -> 5.9083463 | AJ6: =IF(SUM(H6:S6)<90," ",V6*13/$AG6) -> 0.26313059 | AK6: =IF(SUM(H6:S6)<90," ",W6*13/$AG6) -> 2.5220037 | AL6: =IF(SUM(H6:S6)<90," ",X6*13/$AG6) -> 0 | AM6: =IF(SUM(H6:S6)<90," ",Y6*13/$AG6) -> 2.0984131 | AN6: =IF(SUM(H6:S6)<90," ",Z6*13/$AG6) -> 0.046252087 | AO6: =IF(SUM(H6:S6)<90," ",AA6*13/$AG6) -> 2.1618543 | AP6: =IF(SUM(H6:S6)<90," ",AB6*13/$AG6) -> 1.8794599 | AQ6: =IF(SUM(H6:S6)<90," ",AC6*13/$AG6) -> 0.53578693 | AR6: =IF(SUM(H6:S6)<90," ",AD6*13/$AG6) -> 0.24871655 | AS6: =IF(SUM(H6:S6)<90," ",AE6*13/$AG6) -> 0 | AT6: =IF(SUM(H6:S6)<90," ",AF6*13/$AG6) -> 0.0091779786 | AU6: =IF(SUM(H6:S6)<90," ",SUM(AI6:AR6)) -> 15.663963 | AV6: =IF(SUM(H6:S6)<90," ",(2-AS6-AT6)*AG6*17/13/2) -> 1.8722069 | AW6: =IF(SUM(H6:S6)<90," ",CO6*AG6*stab.data!$U$20/13/2) -> 5.2263104 | AX6: =IF(SUM(H6:S6)<90," ",CQ6*AG6*stab.data!$U$11/13) -> 11.977299 | AY6: =IF(SUM(H6:S6)<90," ",-(R6*0.421070639014633+S6*0.225636758525372)) -> -0.0081229233 | AZ6: =IF(SUM(H6:S6)<90," ",SUM(H6:S6)-L6+AV6+AW6+AX6+AY6) -> 99.727694 | BA6: =IF(SUM(H6:S6)<90," ",EXP('eq. coef.'!$C$104+'eq. coef.'!$C$105*'Amp (T-P-fO2 calculation)'!AI6+'eq. coef.'!$C$106*'Amp (T-P-fO2 calculation)'!AJ6+'eq. coef.'!$C$107*'Amp (T-P-fO2 calculation)'!AK6+'eq. coef.'!$C$108*'Amp (T-P-fO2 calculation)'!AM6+'eq. coef.'!$C$109*'Amp (T-P-fO2 calculation)'!AO6+'eq. coef.'!$C$110*'Amp (T-P-fO2 calculation)'!AP6+'eq. coef.'!$C$111*'Amp (T-P-fO2 calculation)'!AQ6+'eq. coef.'!$C$112*'Amp (T-P-fO2 calculation)'!AR6)) -> 643.72586 | BB6: =IF(SUM(H6:S6)<90," ",EXP('eq. coef.'!$C$176+'eq. coef.'!$C$177*'Amp (T-P-fO2 calculation)'!AI6+'eq. coef.'!$C$178*'Amp (T-P-fO2 calculation)'!AJ6+'eq. coef.'!$C$179*'Amp (T-P-fO2 calculation)'!AK6+'eq. coef.'!$C$180*'Amp (T-P-fO2 calculation)'!AM6+'eq. coef.'!$C$181*'Amp (T-P-fO2 calculation)'!AO6+'eq. coef.'!$C$182*'Amp (T-P-fO2 calculation)'!AP6+'eq. coef.'!$C$183*'Amp (T-P-fO2 calculation)'!AQ6+'eq. coef.'!$C$184*'Amp (T-P-fO2 calculation)'!AR6)) -> 564.57912 | BC6: =IF(SUM(H6:S6)<90," ",('eq. coef.'!$C$234+'eq. coef.'!$C$235*'Amp (T-P-fO2 calculation)'!AI6+'eq. coef.'!$C$236*'Amp (T-P-fO2 calculation)'!AJ6+'eq. coef.'!$C$237*'Amp (T-P-fO2 calculation)'!AK6+'eq. coef.'!$C$238*'Amp (T-P-fO2 calculation)'!AM6+'eq. coef.'!$C$239*'Amp (T-P-fO2 calculation)'!AO6+'eq. coef.'!$C$240*'Amp (T-P-fO2 calculation)'!AP6+'eq. coef.'!$C$241*'Amp (T-P-fO2 calculation)'!AQ6+'eq. coef.'!$C$242*'Amp (T-P-fO2 calculation)'!AR6)) -> 565.89451 | BD6: =IF(SUM(H6:S6)<90," ",('eq. coef.'!$C$270+'eq. coef.'!$C$271*'Amp (T-P-fO2 calculation)'!AI6+'eq. coef.'!$C$272*'Amp (T-P-fO2 calculation)'!AJ6+'eq. coef.'!$C$273*'Amp (T-P-fO2 calculation)'!AK6+'eq. coef.'!$C$274*'Amp (T-P-fO2 calculation)'!AM6+'eq. coef.'!$C$275*'Amp (T-P-fO2 calculation)'!AO6+'eq. coef.'!$C$276*'Amp (T-P-fO2 calculation)'!AP6+'eq. coef.'!$C$277*'Amp (T-P-fO2 calculation)'!AQ6+'eq. coef.'!$C$278*'Amp (T-P-fO2 calculation)'!AR6)) -> 516.75206 | BE6: =IF(SUM(H6:S6)<90," ",EXP('eq. coef.'!$C$328+'eq. coef.'!$C$329*'Amp (T-P-fO2 calculation)'!AI6+'eq. coef.'!$C$330*'Amp (T-P-fO2 calculation)'!AJ6+'eq. coef.'!$C$331*'Amp (T-P-fO2 calculation)'!AK6+'eq. coef.'!$C$332*'Amp (T-P-fO2 calculation)'!AM6+'eq. coef.'!$C$333*'Amp (T-P-fO2 calculation)'!AO6+'eq. coef.'!$C$334*'Amp (T-P-fO2 calculation)'!AP6+'eq. coef.'!$C$335*'Amp (T-P-fO2 calculation)'!AQ6+'eq. coef.'!$C$336*'Amp (T-P-fO2 calculation)'!AR6)) -> 884.07433 | BF6: =IF(SUM(H6:S6)<90," ",IF(AZ6<98.5,"low Total",IF(AZ6>102,"high Total",IF(DG6>46.5,"unbalanced",IF(CQ6<0,"unbalanced",IF(DI6<0.54,"low-Mg",IF(CU6<1.5,"low-Ca",IF(CW6<1.99,"low-B cations",IF(CU6>2.05,"high-Ca",IF(DK6>0.25,"high-Al#",IF(H6<38.8-0.42,"low-SiO2",IF(H6>49.8,"high-SiO2",IF(CI6>0.06+0.06*0.2,"high-[4]Ti",IF(CL6>0.57+0.57*0.074,"high-[6]Al",IF(CM6>0.7+0.7*0.07,"high-[6]Ti",IF(CN6>0.04+0.04*0.1,"high-Cr2O3",IF(CO6>1.37+1.37*0.28,"high-Fe3+",IF(N6<9.71-0.35,"low-MgO",IF(N6>18.01+0.35,"high-MgO",IF(CQ6>1.69+1.69*0.28,"high-Fe2+",IF(M6>0.58+0.58*0.3,"high-MnO",IF(O6>12.35+0.25,"high-CaO",IF(CY6<0,"low-ANa",IF(CY6>0.58+0.58*0.11,"high-ANa",IF(Q6<0,"low-K2O",IF(Q6>2.03+0.05,"high-K2O",IF(DA6<0.03-0.03*0.3,"low-A(Na+K)",IF(DA6>1,"high-A(Na+K)",IF(J6<6.5,"low-Al2O3",IF(J6>15.9+0.36,"high-Al2O3",IF(I6<1.1-0.2,"low-TiO2",IF(L6<5.85-0.44,"low-FeO",IF(L6>16.92+0.44,"high-FeO",IF(P6<1.07-0.1,"low-Na2O",IF(P6>3.05+0.1,"high-Na2O","ok"))))))))))))))))))))))))))))))))))) -> ok | BG6: =IF(SUM(H6:S6)<90," ",IF(DI6<0.54,"low-Mg",IF(CU6<1.5,"low-Ca",IF(CW6<1.99,"low-B cations",IF(CU6>2.05,"high-Ca",IF(DK6>0.24,"high-Al#",IF(H6<39.2-0.42,"low-SiO2",IF(H6>46.2+0.42,"high-SiO2",IF(CI6>0.06+0.06*0.2,"high-[4]Ti",IF(CL6>0.48+0.48*0.074,"high-[6]Al",IF(CM6>0.66+0.66*0.07,"high-[6]Ti",IF(CN6>0.04+0.04*0.1,"high-Cr2O3",IF(CO6>1.25+1.25*0.28,"high-Fe3+",IF(N6<9.71-0.35,"low-MgO",IF(N6>16.7+0.35,"high-MgO",IF(CQ6>1.69+1.69*0.28,"high-Fe2+",IF(M6>0.32+0.32*0.3,"high-MnO",IF(O6>12.35+0.25,"high-CaO",IF(CY6<0.1,"low-ANa",IF(CY6>0.57+0.57*0.11,"high-ANa",IF(Q6<0,"low-K2O",IF(Q6>1.3+0.05,"high-K2O",IF(DA6<0.17-0.17*0.3,"low-A(Na+K)",IF(DA6>0.9,"high-A(Na+K)",IF(J6<8.5,"low-Al2O3",IF(J6>14.6+0.4,"high-Al2O3",IF(I6<1.3-0.2,"low-TiO2",IF(L6<8.7-0.44,"low-FeO",IF(L6>16.92+0.44,"high-FeO",IF(P6<1.6-0.1,"low-Na2O",IF(P6>2.65+0.1,"high-Na2O","ok"))))))))))))))))))))))))))))))) -> ok | BH6: =IF(SUM(H6:S6)<90," ",IF(DI6<0.54,"low-Mg",IF(CU6<1.5,"low-Ca",IF(CW6<1.99,"low-B cations",IF(CU6>2.05,"high-Ca",IF(DK6>0.24,"high-Al#",IF(H6<38.8-0.42,"low-SiO2",IF(H6>47.9+0.42,"high-SiO2",IF(CI6>0.06+0.06*0.2,"high-[4]Ti",IF(CL6>0.55+0.55*0.074,"high-[6]Al",IF(CM6>0.7+0.7*0.07,"high-[6]Ti",IF(CN6>0.03+0.03*0.1,"high-Cr2O3",IF(CO6>1.37+1.37*0.28,"high-Fe3+",IF(N6<9.71-0.35,"low-MgO",IF(N6>18+0.35,"high-MgO",IF(CQ6>1.69+1.69*0.28,"high-Fe2+",IF(M6>0.58+0.58*0.3,"high-MnO",IF(O6>12.35+0.25,"high-CaO",IF(CY6<0,"low-ANa",IF(CY6>0.58+0.58*0.11,"high-ANa",IF(Q6<0,"low-K2O",IF(Q6>2+0.05,"high-K2O",IF(DA6<0.07-0.07*0.3,"low-A(Na+K)",IF(DA6>0.9,"high-A(Na+K)",IF(J6<6.5,"low-Al2O3",IF(J6>15.9+0.4,"high-Al2O3",IF(I6<1.1-0.2,"low-TiO2",IF(L6<5.9-0.44,"low-FeO",IF(L6>16.92+0.44,"high-FeO",IF(P6<1.28-0.1,"low-Na2O",IF(P6>2.9+0.1,"high-Na2O","ok"))))))))))))))))))))))))))))))) -> ok | BI6: =IF(SUM(H6:S6)<90," ",ABS(BA6-BO6)/(BA6+BO6)*200) -> 12.868724 | BJ6: =IF(SUM(H6:S6)<90," ",(BA6-BE6)/BA6) -> -0.37337084 | BK6: =IF(SUM(H6:S6)<90," ",BD6-BB6) -> -47.827067 | BL6: =IF(SUM(H6:S6)<90," ",'eq. coef.'!$C$360+'eq. coef.'!$C$361*'Amp (T-P-fO2 calculation)'!AI6+'eq. coef.'!$C$362*'Amp (T-P-fO2 calculation)'!AJ6+'eq. coef.'!$C$363*'Amp (T-P-fO2 calculation)'!AK6+'eq. coef.'!$C$364*'Amp (T-P-fO2 calculation)'!AM6+'eq. coef.'!$C$365*'Amp (T-P-fO2 calculation)'!AO6+'eq. coef.'!$C$366*'Amp (T-P-fO2 calculation)'!AP6+'eq. coef.'!$C$367*'Amp (T-P-fO2 calculation)'!AQ6+'eq. coef.'!$C$368*'Amp (T-P-fO2 calculation)'!AR6+'eq. coef.'!$C$369*LN(BO6)) -> 907.28483 | BM6: =IF(SUM(H6:S6)<90," ",22) -> 22 | BN6: =IF(SUM(H6:S6)<90," ",BM6^2) -> 484 | BO6: =IF(SUM(H6:S6)<90," ",IF(BB6<335,BB6,IF(BB6<399,AVERAGE(BB6:BC6),IF(BC6<415,BC6,IF(BD6<470,BC6,IF(BJ6>0.22,AVERAGE(BC6:BD6),IF(BK6>350,BE6,IF(BK6>210,BD6,IF(BK6<75,BC6,IF(BJ6<-0.2,AVERAGE(BB6:BC6),IF(BJ6>0.05,AVERAGE(BC6:BD6),BA6))))))))))) -> 565.89451 | BP6: =IF(SUM(H6:S6)<90," ",IF(BO6=BA6,"P1a",IF(BO6=BB6,"P1b",IF(BO6=BC6,"P1c",IF(BO6=BD6,"P1d",IF(BO6=BE6,"P1e",IF(BO6=AVERAGE(BB6:BC6),"P1b_c","P1c_d"))))))) -> P1c | BR6: =ABS(BQ6) -> 0 | BS6: =BQ6^2 -> 0 | BT6: =IF(SUM(H6:S6)<90," ",BO6*0.12) -> 67.907341 | BU6: =(-4.76+5.6*DL6)*100 -> 936.32206 | BV6: =2400/(1.52-LOG10(CM6))-273 -> 869.95039 | BW6: =IF(SUM(H6:S6)<90," ",'eq. coef.'!$B$1128*'Amp (T-P-fO2 calculation)'!CH6+'eq. coef.'!$B$1129*'Amp (T-P-fO2 calculation)'!CL6+'eq. coef.'!$B$1130*'Amp (T-P-fO2 calculation)'!CM6+'eq. coef.'!$B$1131*'Amp (T-P-fO2 calculation)'!CO6+'eq. coef.'!$B$1132*'Amp (T-P-fO2 calculation)'!CP6+'eq. coef.'!$B$1133*'Amp (T-P-fO2 calculation)'!CQ6+'eq. coef.'!$B$1134*'Amp (T-P-fO2 calculation)'!CR6+'eq. coef.'!$B$1135*'Amp (T-P-fO2 calculation)'!CU6+'eq. coef.'!$B$1135*'Amp (T-P-fO2 calculation)'!CY6+'eq. coef.'!$B$1137*'Amp (T-P-fO2 calculation)'!CZ6) -> 2.0859472 | BX6: =IF(SUM(H6:S6)<90," ",0.4) -> 0.4 | BZ6: =12.78-25073/(BL6+273.15)-1.1*LOG10(BL6+273.15)+450*(BO6/1000)/(BL6+273.15)+0.025*(BO6/1000) -> -11.609849 | CA6: =CC6-CB6 -> 0.65844859 | CB6: =2.19144+15305300/(BL6+273.15)/(BL6+273.15)/(BL6+273.15)-1551.42/(BL6+273.15)/(BL6+273.15)+(-25137+0.0477703*(BO6*10))/(BL6+273.15)+0.000109305*(BL6+273.15)+2.7838*LOG10(BL6+273.15) -> -10.185077 | CC6: =IF(SUM(H6:S6)<90," ",-25018.7/(BL6+273.15) + 12.981 + 0.046*(BO6*10- 1)/(BL6+273.15) + -0.5117*LN(BL6+273.15)+BW6) -> -9.5266287 | CE6: =IF(SUM(H6:S6)<90," ",EXP('eq. coef.'!$B$1156*'Amp (T-P-fO2 calculation)'!CH6+'eq. coef.'!$B$1157*'Amp (T-P-fO2 calculation)'!CL6+'eq. coef.'!$B$1158*'Amp (T-P-fO2 calculation)'!CM6+'eq. coef.'!$B$1159*'Amp (T-P-fO2 calculation)'!CO6+'eq. coef.'!$B$1160*'Amp (T-P-fO2 calculation)'!CP6+'eq. coef.'!$B$1161*'Amp (T-P-fO2 calculation)'!CQ6+'eq. coef.'!$B$1162*'Amp (T-P-fO2 calculation)'!CR6+'eq. coef.'!$B$1163*'Amp (T-P-fO2 calculation)'!CU6+'eq. coef.'!$B$1164*'Amp (T-P-fO2 calculation)'!CY6+'eq. coef.'!$B$1165*'Amp (T-P-fO2 calculation)'!CZ6)) -> 8.3082092 | CF6: =IF(SUM(H6:S6)<90," ",CE6*0.17) -> 1.4123956 | CG6: =IF(SUM(H6:S6)<90," ",AI6) -> 5.9083463 | CH6: =IF(SUM(H6:S6)<90," ",IF(AI6+AK6>8,8-AI6,AK6)) -> 2.0916537 | CI6: =IF(SUM(H6:S6)<90," ",IF(CG6+CH6<8,8-CG6-CH6,0)) -> 0 | CJ6: =IF(SUM(H6:S6)<90," ",SUM(CG6:CI6)) -> 8 | CL6: =IF(SUM(H6:S6)<90," ",AK6-CH6) -> 0.43034999 | CM6: =IF(SUM(H6:S6)<90," ",AJ6-CI6) -> 0.26313059 | CN6: =IF(SUM(H6:S6)<90," ",AL6) -> 0 | CO6: =IF(SUM(H6:S6)<90," ",IF(DG6>46,0,46-DG6)) -> 0.59161923 | CP6: =IF(SUM(H6:S6)<90," ",AO6) -> 2.1618543 | CQ6: =IF(SUM(H6:S6)<90," ",AM6-CO6) -> 1.5067938 | CR6: =IF(SUM(H6:S6)<90," ",AN6) -> 0.046252087 | CS6: =IF(SUM(H6:S6)<90," ",SUM(CL6:CR6)) -> 5 | CU6: =IF(SUM(H6:S6)<90," ",AP6) -> 1.8794599 | CV6: =IF(SUM(H6:S6)<90," ",IF(2-CU6<=AQ6,2-CU6,AQ6)) -> 0.1205401 | CW6: =IF(SUM(H6:S6)<90," ",SUM(CU6:CV6)) -> 2 | CY6: =IF(SUM(H6:S6)<90," ",AQ6-CV6) -> 0.41524683 | CZ6: =IF(SUM(H6:S6)<90," ",AR6) -> 0.24871655 | DA6: =IF(SUM(H6:S6)<90," ",SUM(CY6:CZ6)) -> 0.66396338 | DC6: =IF(SUM(H6:S6)<90," ",2-DD6-DE6) -> 1.990822 | DD6: =IF(SUM(H6:S6)<90," ",AS6) -> 0 | DE6: =IF(SUM(H6:S6)<90," ",AT6) -> 0.0091779786 | DF6: =IF(SUM(H6:S6)<90," ",SUM(DC6:DE6)) -> 2 | DG6: =IF(SUM(H6:S6)<90," ",AI6*4+AJ6*4+AK6*3+AL6*3+AM6*2+AN6*2+AO6*2+AP6*2+AQ6+AR6) -> 45.408381 | DI6: =IF(SUM(H6:S6)<90," ",CP6/(CP6+CQ6)) -> 0.58927818 | DJ6: =IF(SUM(H6:S6)<90," ",CP6/(CP6+CO6+CQ6)) -> 0.50744568 | DK6: =IF(SUM(H6:S6)<90," ",CL6/(CL6+CH6)) -> 0.17063813 | DL6: =IF(SUM(H6:S6)<90," ",CL6+CH6) -> 2.5220037
A7: DH0101 | B7: hornblende-gabbro | C7: 55 | D7: A5 | E7: Magnesio-hastingsite | F7: No | H7: 39.44 | I7: 1.808 | J7: 13.86 | K7: 0 | L7: 17.084 | M7: 0.415 | N7: 9.707 | O7: 11.405 | P7: 1.731 | Q7: 1.274 | R7: 0 | S7: 0.034 | T7: =IF(SUM(H7:S7)<90," ",SUM(H7:S7)) -> 96.758 | U7: =IF(SUM(H7:S7)<90," ",H7/stab.data!$U$7) -> 0.65641435 | V7: =IF(SUM(H7:S7)<90," ",I7/stab.data!$U$8) -> 0.022628852 | W7: =IF(SUM(H7:S7)<90," ",J7*2/stab.data!$U$9) -> 0.27186866 | X7: =IF(SUM(H7:S7)<90," ",K7*2/stab.data!$U$10) -> 0 | Y7: =IF(SUM(H7:S7)<90," ",L7/stab.data!$U$11) -> 0.23778638 | Z7: =IF(SUM(H7:S7)<90," ",M7/stab.data!$U$12) -> 0.0058502615 | AA7: =IF(SUM(H7:S7)<90," ",N7/stab.data!$U$13) -> 0.24084458 | AB7: =IF(SUM(H7:S7)<90," ",O7/stab.data!$U$14) -> 0.20337381 | AC7: =IF(SUM(H7:S7)<90," ",P7*2/stab.data!$U$15) -> 0.055857629 | AD7: =IF(SUM(H7:S7)<90," ",Q7*2/stab.data!$U$16) -> 0.027050268 | AE7: =IF(SUM(H7:S7)<90," ",R7/stab.data!$U$17) -> 0 | AF7: =IF(SUM(H7:S7)<90," ",S7/stab.data!$U$18) -> 0.00095901616 | AG7: =IF(SUM(H7:S7)<90," ",SUM(U7:AA7)) -> 1.4353931 | AH7: =IF(SUM(H7:S7)<90," ",AK7/SUM(AI7:AR7)) -> 0.15790941 | AI7: =IF(SUM(H7:S7)<90," ",U7*13/$AG7) -> 5.9449824 | AJ7: =IF(SUM(H7:S7)<90," ",V7*13/$AG7) -> 0.20494391 | AK7: =IF(SUM(H7:S7)<90," ",W7*13/$AG7) -> 2.4622472 | AL7: =IF(SUM(H7:S7)<90," ",X7*13/$AG7) -> 0 | AM7: =IF(SUM(H7:S7)<90," ",Y7*13/$AG7) -> 2.1535724 | AN7: =IF(SUM(H7:S7)<90," ",Z7*13/$AG7) -> 0.052984371 | AO7: =IF(SUM(H7:S7)<90," ",AA7*13/$AG7) -> 2.1812698 | AP7: =IF(SUM(H7:S7)<90," ",AB7*13/$AG7) -> 1.8419063 | AQ7: =IF(SUM(H7:S7)<90," ",AC7*13/$AG7) -> 0.50588873 | AR7: =IF(SUM(H7:S7)<90," ",AD7*13/$AG7) -> 0.24498759 | AS7: =IF(SUM(H7:S7)<90," ",AE7*13/$AG7) -> 0 | AT7: =IF(SUM(H7:S7)<90," ",AF7*13/$AG7) -> 0.0086855721 | AU7: =IF(SUM(H7:S7)<90," ",SUM(AI7:AR7)) -> 15.592783 | AV7: =IF(SUM(H7:S7)<90," ",(2-AS7-AT7)*AG7*17/13/2) -> 1.8689009 | AW7: =IF(SUM(H7:S7)<90," ",CO7*AG7*stab.data!$U$20/13/2) -> 7.0812147 | AX7: =IF(SUM(H7:S7)<90," ",CQ7*AG7*stab.data!$U$11/13) -> 10.712233 | AY7: =IF(SUM(H7:S7)<90," ",-(R7*0.421070639014633+S7*0.225636758525372)) -> -0.0076716498 | AZ7: =IF(SUM(H7:S7)<90," ",SUM(H7:S7)-L7+AV7+AW7+AX7+AY7) -> 99.328677 | BA7: =IF(SUM(H7:S7)<90," ",EXP('eq. coef.'!$C$104+'eq. coef.'!$C$105*'Amp (T-P-fO2 calculation)'!AI7+'eq. coef.'!$C$106*'Amp (T-P-fO2 calculation)'!AJ7+'eq. coef.'!$C$107*'Amp (T-P-fO2 calculation)'!AK7+'eq. coef.'!$C$108*'Amp (T-P-fO2 calculation)'!AM7+'eq. coef.'!$C$109*'Amp (T-P-fO2 calculation)'!AO7+'eq. coef.'!$C$110*'Amp (T-P-fO2 calculation)'!AP7+'eq. coef.'!$C$111*'Amp (T-P-fO2 calculation)'!AQ7+'eq. coef.'!$C$112*'Amp (T-P-fO2 calculation)'!AR7)) -> 660.07018 | BB7: =IF(SUM(H7:S7)<90," ",EXP('eq. coef.'!$C$176+'eq. coef.'!$C$177*'Amp (T-P-fO2 calculation)'!AI7+'eq. coef.'!$C$178*'Amp (T-P-fO2 calculation)'!AJ7+'eq. coef.'!$C$179*'Amp (T-P-fO2 calculation)'!AK7+'eq. coef.'!$C$180*'Amp (T-P-fO2 calculation)'!AM7+'eq. coef.'!$C$181*'Amp (T-P-fO2 calculation)'!AO7+'eq. coef.'!$C$182*'Amp (T-P-fO2 calculation)'!AP7+'eq. coef.'!$C$183*'Amp (T-P-fO2 calculation)'!AQ7+'eq. coef.'!$C$184*'Amp (T-P-fO2 calculation)'!AR7)) -> 535.5058 | BC7: =IF(SUM(H7:S7)<90," ",('eq. coef.'!$C$234+'eq. coef.'!$C$235*'Amp (T-P-fO2 calculation)'!AI7+'eq. coef.'!$C$236*'Amp (T-P-fO2 calculation)'!AJ7+'eq. coef.'!$C$237*'Amp (T-P-fO2 calculation)'!AK7+'eq. coef.'!$C$238*'Amp (T-P-fO2 calculation)'!AM7+'eq. coef.'!$C$239*'Amp (T-P-fO2 calculation)'!AO7+'eq. coef.'!$C$240*'Amp (T-P-fO2 calculation)'!AP7+'eq. coef.'!$C$241*'Amp (T-P-fO2 calculation)'!AQ7+'eq. coef.'!$C$242*'Amp (T-P-fO2 calculation)'!AR7)) -> 554.45008 | BD7: =IF(SUM(H7:S7)<90," ",('eq. coef.'!$C$270+'eq. coef.'!$C$271*'Amp (T-P-fO2 calculation)'!AI7+'eq. coef.'!$C$272*'Amp (T-P-fO2 calculation)'!AJ7+'eq. coef.'!$C$273*'Amp (T-P-fO2 calculation)'!AK7+'eq. coef.'!$C$274*'Amp (T-P-fO2 calculation)'!AM7+'eq. coef.'!$C$275*'Amp (T-P-fO2 calculation)'!AO7+'eq. coef.'!$C$276*'Amp (T-P-fO2 calculation)'!AP7+'eq. coef.'!$C$277*'Amp (T-P-fO2 calculation)'!AQ7+'eq. coef.'!$C$278*'Amp (T-P-fO2 calculation)'!AR7)) -> 473.65445 | BE7: =IF(SUM(H7:S7)<90," ",EXP('eq. coef.'!$C$328+'eq. coef.'!$C$329*'Amp (T-P-fO2 calculation)'!AI7+'eq. coef.'!$C$330*'Amp (T-P-fO2 calculation)'!AJ7+'eq. coef.'!$C$331*'Amp (T-P-fO2 calculation)'!AK7+'eq. coef.'!$C$332*'Amp (T-P-fO2 calculation)'!AM7+'eq. coef.'!$C$333*'Amp (T-P-fO2 calculation)'!AO7+'eq. coef.'!$C$334*'Amp (T-P-fO2 calculation)'!AP7+'eq. coef.'!$C$335*'Amp (T-P-fO2 calculation)'!AQ7+'eq. coef.'!$C$336*'Amp (T-P-fO2 calculation)'!AR7)) -> 815.76565 | BF7: =IF(SUM(H7:S7)<90," ",IF(AZ7<98.5,"low Total",IF(AZ7>102,"high Total",IF(DG7>46.5,"unbalanced",IF(CQ7<0,"unbalanced",IF(DI7<0.54,"low-Mg",IF(CU7<1.5,"low-Ca",IF(CW7<1.99,"low-B cations",IF(CU7>2.05,"high-Ca",IF(DK7>0.25,"high-Al#",IF(H7<38.8-0.42,"low-SiO2",IF(H7>49.8,"high-SiO2",IF(CI7>0.06+0.06*0.2,"high-[4]Ti",IF(CL7>0.57+0.57*0.074,"high-[6]Al",IF(CM7>0.7+0.7*0.07,"high-[6]Ti",IF(CN7>0.04+0.04*0.1,"high-Cr2O3",IF(CO7>1.37+1.37*0.28,"high-Fe3+",IF(N7<9.71-0.35,"low-MgO",IF(N7>18.01+0.35,"high-MgO",IF(CQ7>1.69+1.69*0.28,"high-Fe2+",IF(M7>0.58+0.58*0.3,"high-MnO",IF(O7>12.35+0.25,"high-CaO",IF(CY7<0,"low-ANa",IF(CY7>0.58+0.58*0.11,"high-ANa",IF(Q7<0,"low-K2O",IF(Q7>2.03+0.05,"high-K2O",IF(DA7<0.03-0.03*0.3,"low-A(Na+K)",IF(DA7>1,"high-A(Na+K)",IF(J7<6.5,"low-Al2O3",IF(J7>15.9+0.36,"high-Al2O3",IF(I7<1.1-0.2,"low-TiO2",IF(L7<5.85-0.44,"low-FeO",IF(L7>16.92+0.44,"high-FeO",IF(P7<1.07-0.1,"low-Na2O",IF(P7>3.05+0.1,"high-Na2O","ok"))))))))))))))))))))))))))))))))))) -> ok | BG7: =IF(SUM(H7:S7)<90," ",IF(DI7<0.54,"low-Mg",IF(CU7<1.5,"low-Ca",IF(CW7<1.99,"low-B cations",IF(CU7>2.05,"high-Ca",IF(DK7>0.24,"high-Al#",IF(H7<39.2-0.42,"low-SiO2",IF(H7>46.2+0.42,"high-SiO2",IF(CI7>0.06+0.06*0.2,"high-[4]Ti",IF(CL7>0.48+0.48*0.074,"high-[6]Al",IF(CM7>0.66+0.66*0.07,"high-[6]Ti",IF(CN7>0.04+0.04*0.1,"high-Cr2O3",IF(CO7>1.25+1.25*0.28,"high-Fe3+",IF(N7<9.71-0.35,"low-MgO",IF(N7>16.7+0.35,"high-MgO",IF(CQ7>1.69+1.69*0.28,"high-Fe2+",IF(M7>0.32+0.32*0.3,"high-MnO",IF(O7>12.35+0.25,"high-CaO",IF(CY7<0.1,"low-ANa",IF(CY7>0.57+0.57*0.11,"high-ANa",IF(Q7<0,"low-K2O",IF(Q7>1.3+0.05,"high-K2O",IF(DA7<0.17-0.17*0.3,"low-A(Na+K)",IF(DA7>0.9,"high-A(Na+K)",IF(J7<8.5,"low-Al2O3",IF(J7>14.6+0.4,"high-Al2O3",IF(I7<1.3-0.2,"low-TiO2",IF(L7<8.7-0.44,"low-FeO",IF(L7>16.92+0.44,"high-FeO",IF(P7<1.6-0.1,"low-Na2O",IF(P7>2.65+0.1,"high-Na2O","ok"))))))))))))))))))))))))))))))) -> ok | BH7: =IF(SUM(H7:S7)<90," ",IF(DI7<0.54,"low-Mg",IF(CU7<1.5,"low-Ca",IF(CW7<1.99,"low-B cations",IF(CU7>2.05,"high-Ca",IF(DK7>0.24,"high-Al#",IF(H7<38.8-0.42,"low-SiO2",IF(H7>47.9+0.42,"high-SiO2",IF(CI7>0.06+0.06*0.2,"high-[4]Ti",IF(CL7>0.55+0.55*0.074,"high-[6]Al",IF(CM7>0.7+0.7*0.07,"high-[6]Ti",IF(CN7>0.03+0.03*0.1,"high-Cr2O3",IF(CO7>1.37+1.37*0.28,"high-Fe3+",IF(N7<9.71-0.35,"low-MgO",IF(N7>18+0.35,"high-MgO",IF(CQ7>1.69+1.69*0.28,"high-Fe2+",IF(M7>0.58+0.58*0.3,"high-MnO",IF(O7>12.35+0.25,"high-CaO",IF(CY7<0,"low-ANa",IF(CY7>0.58+0.58*0.11,"high-ANa",IF(Q7<0,"low-K2O",IF(Q7>2+0.05,"high-K2O",IF(DA7<0.07-0.07*0.3,"low-A(Na+K)",IF(DA7>0.9,"high-A(Na+K)",IF(J7<6.5,"low-Al2O3",IF(J7>15.9+0.4,"high-Al2O3",IF(I7<1.1-0.2,"low-TiO2",IF(L7<5.9-0.44,"low-FeO",IF(L7>16.92+0.44,"high-FeO",IF(P7<1.28-0.1,"low-Na2O",IF(P7>2.9+0.1,"high-Na2O","ok"))))))))))))))))))))))))))))))) -> ok | BI7: =IF(SUM(H7:S7)<90," ",ABS(BA7-BO7)/(BA7+BO7)*200) -> 17.392892 | BJ7: =IF(SUM(H7:S7)<90," ",(BA7-BE7)/BA7) -> -0.23587715 | BK7: =IF(SUM(H7:S7)<90," ",BD7-BB7) -> -61.851346 | BL7: =IF(SUM(H7:S7)<90," ",'eq. coef.'!$C$360+'eq. coef.'!$C$361*'Amp (T-P-fO2 calculation)'!AI7+'eq. coef.'!$C$362*'Amp (T-P-fO2 calculation)'!AJ7+'eq. coef.'!$C$363*'Amp (T-P-fO2 calculation)'!AK7+'eq. coef.'!$C$364*'Amp (T-P-fO2 calculation)'!AM7+'eq. coef.'!$C$365*'Amp (T-P-fO2 calculation)'!AO7+'eq. coef.'!$C$366*'Amp (T-P-fO2 calculation)'!AP7+'eq. coef.'!$C$367*'Amp (T-P-fO2 calculation)'!AQ7+'eq. coef.'!$C$368*'Amp (T-P-fO2 calculation)'!AR7+'eq. coef.'!$C$369*LN(BO7)) -> 895.3516 | BM7: =IF(SUM(H7:S7)<90," ",22) -> 22 | BN7: =IF(SUM(H7:S7)<90," ",BM7^2) -> 484 | BO7: =IF(SUM(H7:S7)<90," ",IF(BB7<335,BB7,IF(BB7<399,AVERAGE(BB7:BC7),IF(BC7<415,BC7,IF(BD7<470,BC7,IF(BJ7>0.22,AVERAGE(BC7:BD7),IF(BK7>350,BE7,IF(BK7>210,BD7,IF(BK7<75,BC7,IF(BJ7<-0.2,AVERAGE(BB7:BC7),IF(BJ7>0.05,AVERAGE(BC7:BD7),BA7))))))))))) -> 554.45008 | BP7: =IF(SUM(H7:S7)<90," ",IF(BO7=BA7,"P1a",IF(BO7=BB7,"P1b",IF(BO7=BC7,"P1c",IF(BO7=BD7,"P1d",IF(BO7=BE7,"P1e",IF(BO7=AVERAGE(BB7:BC7),"P1b_c","P1c_d"))))))) -> P1c | BR7: =ABS(BQ7) -> 0 | BS7: =BQ7^2 -> 0 | BT7: =IF(SUM(H7:S7)<90," ",BO7*0.12) -> 66.534009 | BU7: =(-4.76+5.6*DL7)*100 -> 902.85841 | BV7: =2400/(1.52-LOG10(CM7))-273 -> 813.77688 | BW7: =IF(SUM(H7:S7)<90," ",'eq. coef.'!$B$1128*'Amp (T-P-fO2 calculation)'!CH7+'eq. coef.'!$B$1129*'Amp (T-P-fO2 calculation)'!CL7+'eq. coef.'!$B$1130*'Amp (T-P-fO2 calculation)'!CM7+'eq. coef.'!$B$1131*'Amp (T-P-fO2 calculation)'!CO7+'eq. coef.'!$B$1132*'Amp (T-P-fO2 calculation)'!CP7+'eq. coef.'!$B$1133*'Amp (T-P-fO2 calculation)'!CQ7+'eq. coef.'!$B$1134*'Amp (T-P-fO2 calculation)'!CR7+'eq. coef.'!$B$1135*'Amp (T-P-fO2 calculation)'!CU7+'eq. coef.'!$B$1135*'Amp (T-P-fO2 calculation)'!CY7+'eq. coef.'!$B$1137*'Amp (T-P-fO2 calculation)'!CZ7) -> 2.4459289 | BX7: =IF(SUM(H7:S7)<90," ",0.4) -> 0.4 | BZ7: =12.78-25073/(BL7+273.15)-1.1*LOG10(BL7+273.15)+450*(BO7/1000)/(BL7+273.15)+0.025*(BO7/1000) -> -11.824402 | CA7: =CC7-CB7 -> 1.0380626 | CB7: =2.19144+15305300/(BL7+273.15)/(BL7+273.15)/(BL7+273.15)-1551.42/(BL7+273.15)/(BL7+273.15)+(-25137+0.0477703*(BO7*10))/(BL7+273.15)+0.000109305*(BL7+273.15)+2.7838*LOG10(BL7+273.15) -> -10.418211 | CC7: =IF(SUM(H7:S7)<90," ",-25018.7/(BL7+273.15) + 12.981 + 0.046*(BO7*10- 1)/(BL7+273.15) + -0.5117*LN(BL7+273.15)+BW7) -> -9.3801483 | CE7: =IF(SUM(H7:S7)<90," ",EXP('eq. coef.'!$B$1156*'Amp (T-P-fO2 calculation)'!CH7+'eq. coef.'!$B$1157*'Amp (T-P-fO2 calculation)'!CL7+'eq. coef.'!$B$1158*'Amp (T-P-fO2 calculation)'!CM7+'eq. coef.'!$B$1159*'Amp (T-P-fO2 calculation)'!CO7+'eq. coef.'!$B$1160*'Amp (T-P-fO2 calculation)'!CP7+'eq. coef.'!$B$1161*'Amp (T-P-fO2 calculation)'!CQ7+'eq. coef.'!$B$1162*'Amp (T-P-fO2 calculation)'!CR7+'eq. coef.'!$B$1163*'Amp (T-P-fO2 calculation)'!CU7+'eq. coef.'!$B$1164*'Amp (T-P-fO2 calculation)'!CY7+'eq. coef.'!$B$1165*'Amp (T-P-fO2 calculation)'!CZ7)) -> 8.5123479 | CF7: =IF(SUM(H7:S7)<90," ",CE7*0.17) -> 1.4470991 | CG7: =IF(SUM(H7:S7)<90," ",AI7) -> 5.9449824 | CH7: =IF(SUM(H7:S7)<90," ",IF(AI7+AK7>8,8-AI7,AK7)) -> 2.0550176 | CI7: =IF(SUM(H7:S7)<90," ",IF(CG7+CH7<8,8-CG7-CH7,0)) -> 0 | CJ7: =IF(SUM(H7:S7)<90," ",SUM(CG7:CI7)) -> 8 | CL7: =IF(SUM(H7:S7)<90," ",AK7-CH7) -> 0.40722955 | CM7: =IF(SUM(H7:S7)<90," ",AJ7-CI7) -> 0.20494391 | CN7: =IF(SUM(H7:S7)<90," ",AL7) -> 0 | CO7: =IF(SUM(H7:S7)<90," ",IF(DG7>46,0,46-DG7)) -> 0.80321132 | CP7: =IF(SUM(H7:S7)<90," ",AO7) -> 2.1812698 | CQ7: =IF(SUM(H7:S7)<90," ",AM7-CO7) -> 1.3503611 | CR7: =IF(SUM(H7:S7)<90," ",AN7) -> 0.052984371 | CS7: =IF(SUM(H7:S7)<90," ",SUM(CL7:CR7)) -> 5 | CU7: =IF(SUM(H7:S7)<90," ",AP7) -> 1.8419063 | CV7: =IF(SUM(H7:S7)<90," ",IF(2-CU7<=AQ7,2-CU7,AQ7)) -> 0.1580937 | CW7: =IF(SUM(H7:S7)<90," ",SUM(CU7:CV7)) -> 2 | CY7: =IF(SUM(H7:S7)<90," ",AQ7-CV7) -> 0.34779503 | CZ7: =IF(SUM(H7:S7)<90," ",AR7) -> 0.24498759 | DA7: =IF(SUM(H7:S7)<90," ",SUM(CY7:CZ7)) -> 0.59278261 | DC7: =IF(SUM(H7:S7)<90," ",2-DD7-DE7) -> 1.9913144 | DD7: =IF(SUM(H7:S7)<90," ",AS7) -> 0 | DE7: =IF(SUM(H7:S7)<90," ",AT7) -> 0.0086855721 | DF7: =IF(SUM(H7:S7)<90," ",SUM(DC7:DE7)) -> 2 | DG7: =IF(SUM(H7:S7)<90," ",AI7*4+AJ7*4+AK7*3+AL7*3+AM7*2+AN7*2+AO7*2+AP7*2+AQ7+AR7) -> 45.196789 | DI7: =IF(SUM(H7:S7)<90," ",CP7/(CP7+CQ7)) -> 0.6176381 | DJ7: =IF(SUM(H7:S7)<90," ",CP7/(CP7+CO7+CQ7)) -> 0.50319474 | DK7: =IF(SUM(H7:S7)<90," ",CL7/(CL7+CH7)) -> 0.16538939 | DL7: =IF(SUM(H7:S7)<90," ",CL7+CH7) -> 2.4622472
A8: DH0101 | B8: hornblendite | C8: 99 | D8: A10 | E8: Magnesio-hastingsite | F8: No | H8: 41.081 | I8: 1.494 | J8: 12.796 | K8: 0.032 | L8: 14.732 | M8: 0.326 | N8: 11.555 | O8: 11.726 | P8: 1.916 | Q8: 1.191 | R8: 0 | S8: 0.029 | T8: =IF(SUM(H8:S8)<90," ",SUM(H8:S8)) -> 96.878 | U8: =IF(SUM(H8:S8)<90," ",H8/stab.data!$U$7) -> 0.68372612 | V8: =IF(SUM(H8:S8)<90," ",I8/stab.data!$U$8) -> 0.018698841 | W8: =IF(SUM(H8:S8)<90," ",J8*2/stab.data!$U$9) -> 0.25099793 | X8: =IF(SUM(H8:S8)<90," ",K8*2/stab.data!$U$10) -> 0.00042107978 | Y8: =IF(SUM(H8:S8)<90," ",L8/stab.data!$U$11) -> 0.20504969 | Z8: =IF(SUM(H8:S8)<90," ",M8/stab.data!$U$12) -> 0.0045956271 | AA8: =IF(SUM(H8:S8)<90," ",N8/stab.data!$U$13) -> 0.28669611 | AB8: =IF(SUM(H8:S8)<90," ",O8/stab.data!$U$14) -> 0.20909788 | AC8: =IF(SUM(H8:S8)<90," ",P8*2/stab.data!$U$15) -> 0.061827393 | AD8: =IF(SUM(H8:S8)<90," ",Q8*2/stab.data!$U$16) -> 0.025287966 | AE8: =IF(SUM(H8:S8)<90," ",R8/stab.data!$U$17) -> 0 | AF8: =IF(SUM(H8:S8)<90," ",S8/stab.data!$U$18) -> 0.00081798437 | AG8: =IF(SUM(H8:S8)<90," ",SUM(U8:AA8)) -> 1.4501854 | AH8: =IF(SUM(H8:S8)<90," ",AK8/SUM(AI8:AR8)) -> 0.14372316 | AI8: =IF(SUM(H8:S8)<90," ",U8*13/$AG8) -> 6.1291746 | AJ8: =IF(SUM(H8:S8)<90," ",V8*13/$AG8) -> 0.16762335 | AK8: =IF(SUM(H8:S8)<90," ",W8*13/$AG8) -> 2.2500386 | AL8: =IF(SUM(H8:S8)<90," ",X8*13/$AG8) -> 0.0037747154 | AM8: =IF(SUM(H8:S8)<90," ",Y8*13/$AG8) -> 1.8381415 | AN8: =IF(SUM(H8:S8)<90," ",Z8*13/$AG8) -> 0.041196907 | AO8: =IF(SUM(H8:S8)<90," ",AA8*13/$AG8) -> 2.5700503 | AP8: =IF(SUM(H8:S8)<90," ",AB8*13/$AG8) -> 1.874431 | AQ8: =IF(SUM(H8:S8)<90," ",AC8*13/$AG8) -> 0.55424369 | AR8: =IF(SUM(H8:S8)<90," ",AD8*13/$AG8) -> 0.22669071 | AS8: =IF(SUM(H8:S8)<90," ",AE8*13/$AG8) -> 0 | AT8: =IF(SUM(H8:S8)<90," ",AF8*13/$AG8) -> 0.0073327155 | AU8: =IF(SUM(H8:S8)<90," ",SUM(AI8:AR8)) -> 15.655365 | AV8: =IF(SUM(H8:S8)<90," ",(2-AS8-AT8)*AG8*17/13/2) -> 1.8894434 | AW8: =IF(SUM(H8:S8)<90," ",CO8*AG8*stab.data!$U$20/13/2) -> 5.5472188 | AX8: =IF(SUM(H8:S8)<90," ",CQ8*AG8*stab.data!$U$11/13) -> 9.7405417 | AY8: =IF(SUM(H8:S8)<90," ",-(R8*0.421070639014633+S8*0.225636758525372)) -> -0.006543466 | AZ8: =IF(SUM(H8:S8)<90," ",SUM(H8:S8)-L8+AV8+AW8+AX8+AY8) -> 99.31666 | BA8: =IF(SUM(H8:S8)<90," ",EXP('eq. coef.'!$C$104+'eq. coef.'!$C$105*'Amp (T-P-fO2 calculation)'!AI8+'eq. coef.'!$C$106*'Amp (T-P-fO2 calculation)'!AJ8+'eq. coef.'!$C$107*'Amp (T-P-fO2 calculation)'!AK8+'eq. coef.'!$C$108*'Amp (T-P-fO2 calculation)'!AM8+'eq. coef.'!$C$109*'Amp (T-P-fO2 calculation)'!AO8+'eq. coef.'!$C$110*'Amp (T-P-fO2 calculation)'!AP8+'eq. coef.'!$C$111*'Amp (T-P-fO2 calculation)'!AQ8+'eq. coef.'!$C$112*'Amp (T-P-fO2 calculation)'!AR8)) -> 572.32761 | BB8: =IF(SUM(H8:S8)<90," ",EXP('eq. coef.'!$C$176+'eq. coef.'!$C$177*'Amp (T-P-fO2 calculation)'!AI8+'eq. coef.'!$C$178*'Amp (T-P-fO2 calculation)'!AJ8+'eq. coef.'!$C$179*'Amp (T-P-fO2 calculation)'!AK8+'eq. coef.'!$C$180*'Amp (T-P-fO2 calculation)'!AM8+'eq. coef.'!$C$181*'Amp (T-P-fO2 calculation)'!AO8+'eq. coef.'!$C$182*'Amp (T-P-fO2 calculation)'!AP8+'eq. coef.'!$C$183*'Amp (T-P-fO2 calculation)'!AQ8+'eq. coef.'!$C$184*'Amp (T-P-fO2 calculation)'!AR8)) -> 413.47394 | BC8: =IF(SUM(H8:S8)<90," ",('eq. coef.'!$C$234+'eq. coef.'!$C$235*'Amp (T-P-fO2 calculation)'!AI8+'eq. coef.'!$C$236*'Amp (T-P-fO2 calculation)'!AJ8+'eq. coef.'!$C$237*'Amp (T-P-fO2 calculation)'!AK8+'eq. coef.'!$C$238*'Amp (T-P-fO2 calculation)'!AM8+'eq. coef.'!$C$239*'Amp (T-P-fO2 calculation)'!AO8+'eq. coef.'!$C$240*'Amp (T-P-fO2 calculation)'!AP8+'eq. coef.'!$C$241*'Amp (T-P-fO2 calculation)'!AQ8+'eq. coef.'!$C$242*'Amp (T-P-fO2 calculation)'!AR8)) -> 468.27827 | BD8: =IF(SUM(H8:S8)<90," ",('eq. coef.'!$C$270+'eq. coef.'!$C$271*'Amp (T-P-fO2 calculation)'!AI8+'eq. coef.'!$C$272*'Amp (T-P-fO2 calculation)'!AJ8+'eq. coef.'!$C$273*'Amp (T-P-fO2 calculation)'!AK8+'eq. coef.'!$C$274*'Amp (T-P-fO2 calculation)'!AM8+'eq. coef.'!$C$275*'Amp (T-P-fO2 calculation)'!AO8+'eq. coef.'!$C$276*'Amp (T-P-fO2 calculation)'!AP8+'eq. coef.'!$C$277*'Amp (T-P-fO2 calculation)'!AQ8+'eq. coef.'!$C$278*'Amp (T-P-fO2 calculation)'!AR8)) -> 543.92432 | BE8: =IF(SUM(H8:S8)<90," ",EXP('eq. coef.'!$C$328+'eq. coef.'!$C$329*'Amp (T-P-fO2 calculation)'!AI8+'eq. coef.'!$C$330*'Amp (T-P-fO2 calculation)'!AJ8+'eq. coef.'!$C$331*'Amp (T-P-fO2 calculation)'!AK8+'eq. coef.'!$C$332*'Amp (T-P-fO2 calculation)'!AM8+'eq. coef.'!$C$333*'Amp (T-P-fO2 calculation)'!AO8+'eq. coef.'!$C$334*'Amp (T-P-fO2 calculation)'!AP8+'eq. coef.'!$C$335*'Amp (T-P-fO2 calculation)'!AQ8+'eq. coef.'!$C$336*'Amp (T-P-fO2 calculation)'!AR8)) -> 967.56525 | BF8: =IF(SUM(H8:S8)<90," ",IF(AZ8<98.5,"low Total",IF(AZ8>102,"high Total",IF(DG8>46.5,"unbalanced",IF(CQ8<0,"unbalanced",IF(DI8<0.54,"low-Mg",IF(CU8<1.5,"low-Ca",IF(CW8<1.99,"low-B cations",IF(CU8>2.05,"high-Ca",IF(DK8>0.25,"high-Al#",IF(H8<38.8-0.42,"low-SiO2",IF(H8>49.8,"high-SiO2",IF(CI8>0.06+0.06*0.2,"high-[4]Ti",IF(CL8>0.57+0.57*0.074,"high-[6]Al",IF(CM8>0.7+0.7*0.07,"high-[6]Ti",IF(CN8>0.04+0.04*0.1,"high-Cr2O3",IF(CO8>1.37+1.37*0.28,"high-Fe3+",IF(N8<9.71-0.35,"low-MgO",IF(N8>18.01+0.35,"high-MgO",IF(CQ8>1.69+1.69*0.28,"high-Fe2+",IF(M8>0.58+0.58*0.3,"high-MnO",IF(O8>12.35+0.25,"high-CaO",IF(CY8<0,"low-ANa",IF(CY8>0.58+0.58*0.11,"high-ANa",IF(Q8<0,"low-K2O",IF(Q8>2.03+0.05,"high-K2O",IF(DA8<0.03-0.03*0.3,"low-A(Na+K)",IF(DA8>1,"high-A(Na+K)",IF(J8<6.5,"low-Al2O3",IF(J8>15.9+0.36,"high-Al2O3",IF(I8<1.1-0.2,"low-TiO2",IF(L8<5.85-0.44,"low-FeO",IF(L8>16.92+0.44,"high-FeO",IF(P8<1.07-0.1,"low-Na2O",IF(P8>3.05+0.1,"high-Na2O","ok"))))))))))))))))))))))))))))))))))) -> ok | BG8: =IF(SUM(H8:S8)<90," ",IF(DI8<0.54,"low-Mg",IF(CU8<1.5,"low-Ca",IF(CW8<1.99,"low-B cations",IF(CU8>2.05,"high-Ca",IF(DK8>0.24,"high-Al#",IF(H8<39.2-0.42,"low-SiO2",IF(H8>46.2+0.42,"high-SiO2",IF(CI8>0.06+0.06*0.2,"high-[4]Ti",IF(CL8>0.48+0.48*0.074,"high-[6]Al",IF(CM8>0.66+0.66*0.07,"high-[6]Ti",IF(CN8>0.04+0.04*0.1,"high-Cr2O3",IF(CO8>1.25+1.25*0.28,"high-Fe3+",IF(N8<9.71-0.35,"low-MgO",IF(N8>16.7+0.35,"high-MgO",IF(CQ8>1.69+1.69*0.28,"high-Fe2+",IF(M8>0.32+0.32*0.3,"high-MnO",IF(O8>12.35+0.25,"high-CaO",IF(CY8<0.1,"low-ANa",IF(CY8>0.57+0.57*0.11,"high-ANa",IF(Q8<0,"low-K2O",IF(Q8>1.3+0.05,"high-K2O",IF(DA8<0.17-0.17*0.3,"low-A(Na+K)",IF(DA8>0.9,"high-A(Na+K)",IF(J8<8.5,"low-Al2O3",IF(J8>14.6+0.4,"high-Al2O3",IF(I8<1.3-0.2,"low-TiO2",IF(L8<8.7-0.44,"low-FeO",IF(L8>16.92+0.44,"high-FeO",IF(P8<1.6-0.1,"low-Na2O",IF(P8>2.65+0.1,"high-Na2O","ok"))))))))))))))))))))))))))))))) -> ok | BH8: =IF(SUM(H8:S8)<90," ",IF(DI8<0.54,"low-Mg",IF(CU8<1.5,"low-Ca",IF(CW8<1.99,"low-B cations",IF(CU8>2.05,"high-Ca",IF(DK8>0.24,"high-Al#",IF(H8<38.8-0.42,"low-SiO2",IF(H8>47.9+0.42,"high-SiO2",IF(CI8>0.06+0.06*0.2,"high-[4]Ti",IF(CL8>0.55+0.55*0.074,"high-[6]Al",IF(CM8>0.7+0.7*0.07,"high-[6]Ti",IF(CN8>0.03+0.03*0.1,"high-Cr2O3",IF(CO8>1.37+1.37*0.28,"high-Fe3+",IF(N8<9.71-0.35,"low-MgO",IF(N8>18+0.35,"high-MgO",IF(CQ8>1.69+1.69*0.28,"high-Fe2+",IF(M8>0.58+0.58*0.3,"high-MnO",IF(O8>12.35+0.25,"high-CaO",IF(CY8<0,"low-ANa",IF(CY8>0.58+0.58*0.11,"high-ANa",IF(Q8<0,"low-K2O",IF(Q8>2+0.05,"high-K2O",IF(DA8<0.07-0.07*0.3,"low-A(Na+K)",IF(DA8>0.9,"high-A(Na+K)",IF(J8<6.5,"low-Al2O3",IF(J8>15.9+0.4,"high-Al2O3",IF(I8<1.1-0.2,"low-TiO2",IF(L8<5.9-0.44,"low-FeO",IF(L8>16.92+0.44,"high-FeO",IF(P8<1.28-0.1,"low-Na2O",IF(P8>2.9+0.1,"high-Na2O","ok"))))))))))))))))))))))))))))))) -> ok | BI8: =IF(SUM(H8:S8)<90," ",ABS(BA8-BO8)/(BA8+BO8)*200) -> 25.947694 | BJ8: =IF(SUM(H8:S8)<90," ",(BA8-BE8)/BA8) -> -0.69057938 | BK8: =IF(SUM(H8:S8)<90," ",BD8-BB8) -> 130.45038 | BL8: =IF(SUM(H8:S8)<90," ",'eq. coef.'!$C$360+'eq. coef.'!$C$361*'Amp (T-P-fO2 calculation)'!AI8+'eq. coef.'!$C$362*'Amp (T-P-fO2 calculation)'!AJ8+'eq. coef.'!$C$363*'Amp (T-P-fO2 calculation)'!AK8+'eq. coef.'!$C$364*'Amp (T-P-fO2 calculation)'!AM8+'eq. coef.'!$C$365*'Amp (T-P-fO2 calculation)'!AO8+'eq. coef.'!$C$366*'Amp (T-P-fO2 calculation)'!AP8+'eq. coef.'!$C$367*'Amp (T-P-fO2 calculation)'!AQ8+'eq. coef.'!$C$368*'Amp (T-P-fO2 calculation)'!AR8+'eq. coef.'!$C$369*LN(BO8)) -> 884.59421 | BM8: =IF(SUM(H8:S8)<90," ",22) -> 22 | BN8: =IF(SUM(H8:S8)<90," ",BM8^2) -> 484 | BO8: =IF(SUM(H8:S8)<90," ",IF(BB8<335,BB8,IF(BB8<399,AVERAGE(BB8:BC8),IF(BC8<415,BC8,IF(BD8<470,BC8,IF(BJ8>0.22,AVERAGE(BC8:BD8),IF(BK8>350,BE8,IF(BK8>210,BD8,IF(BK8<75,BC8,IF(BJ8<-0.2,AVERAGE(BB8:BC8),IF(BJ8>0.05,AVERAGE(BC8:BD8),BA8))))))))))) -> 440.87611 | BP8: =IF(SUM(H8:S8)<90," ",IF(BO8=BA8,"P1a",IF(BO8=BB8,"P1b",IF(BO8=BC8,"P1c",IF(BO8=BD8,"P1d",IF(BO8=BE8,"P1e",IF(BO8=AVERAGE(BB8:BC8),"P1b_c","P1c_d"))))))) -> P1b_c | BR8: =ABS(BQ8) -> 0 | BS8: =BQ8^2 -> 0 | BT8: =IF(SUM(H8:S8)<90," ",BO8*0.12) -> 52.905133 | BU8: =(-4.76+5.6*DL8)*100 -> 784.02161 | BV8: =2400/(1.52-LOG10(CM8))-273 -> 772.44848 | BW8: =IF(SUM(H8:S8)<90," ",'eq. coef.'!$B$1128*'Amp (T-P-fO2 calculation)'!CH8+'eq. coef.'!$B$1129*'Amp (T-P-fO2 calculation)'!CL8+'eq. coef.'!$B$1130*'Amp (T-P-fO2 calculation)'!CM8+'eq. coef.'!$B$1131*'Amp (T-P-fO2 calculation)'!CO8+'eq. coef.'!$B$1132*'Amp (T-P-fO2 calculation)'!CP8+'eq. coef.'!$B$1133*'Amp (T-P-fO2 calculation)'!CQ8+'eq. coef.'!$B$1134*'Amp (T-P-fO2 calculation)'!CR8+'eq. coef.'!$B$1135*'Amp (T-P-fO2 calculation)'!CU8+'eq. coef.'!$B$1135*'Amp (T-P-fO2 calculation)'!CY8+'eq. coef.'!$B$1137*'Amp (T-P-fO2 calculation)'!CZ8) -> 3.3473285 | BX8: =IF(SUM(H8:S8)<90," ",0.4) -> 0.4 | BZ8: =12.78-25073/(BL8+273.15)-1.1*LOG10(BL8+273.15)+450*(BO8/1000)/(BL8+273.15)+0.025*(BO8/1000) -> -12.064359 | CA8: =CC8-CB8 -> 1.9589025 | CB8: =2.19144+15305300/(BL8+273.15)/(BL8+273.15)/(BL8+273.15)-1551.42/(BL8+273.15)/(BL8+273.15)+(-25137+0.0477703*(BO8*10))/(BL8+273.15)+0.000109305*(BL8+273.15)+2.7838*LOG10(BL8+273.15) -> -10.67496 | CC8: =IF(SUM(H8:S8)<90," ",-25018.7/(BL8+273.15) + 12.981 + 0.046*(BO8*10- 1)/(BL8+273.15) + -0.5117*LN(BL8+273.15)+BW8) -> -8.7160576 | CE8: =IF(SUM(H8:S8)<90," ",EXP('eq. coef.'!$B$1156*'Amp (T-P-fO2 calculation)'!CH8+'eq. coef.'!$B$1157*'Amp (T-P-fO2 calculation)'!CL8+'eq. coef.'!$B$1158*'Amp (T-P-fO2 calculation)'!CM8+'eq. coef.'!$B$1159*'Amp (T-P-fO2 calculation)'!CO8+'eq. coef.'!$B$1160*'Amp (T-P-fO2 calculation)'!CP8+'eq. coef.'!$B$1161*'Amp (T-P-fO2 calculation)'!CQ8+'eq. coef.'!$B$1162*'Amp (T-P-fO2 calculation)'!CR8+'eq. coef.'!$B$1163*'Amp (T-P-fO2 calculation)'!CU8+'eq. coef.'!$B$1164*'Amp (T-P-fO2 calculation)'!CY8+'eq. coef.'!$B$1165*'Amp (T-P-fO2 calculation)'!CZ8)) -> 8.4687821 | CF8: =IF(SUM(H8:S8)<90," ",CE8*0.17) -> 1.439693 | CG8: =IF(SUM(H8:S8)<90," ",AI8) -> 6.1291746 | CH8: =IF(SUM(H8:S8)<90," ",IF(AI8+AK8>8,8-AI8,AK8)) -> 1.8708254 | CI8: =IF(SUM(H8:S8)<90," ",IF(CG8+CH8<8,8-CG8-CH8,0)) -> 0 | CJ8: =IF(SUM(H8:S8)<90," ",SUM(CG8:CI8)) -> 8 | CL8: =IF(SUM(H8:S8)<90," ",AK8-CH8) -> 0.37921321 | CM8: =IF(SUM(H8:S8)<90," ",AJ8-CI8) -> 0.16762335 | CN8: =IF(SUM(H8:S8)<90," ",AL8) -> 0.0037747154 | CO8: =IF(SUM(H8:S8)<90," ",IF(DG8>46,0,46-DG8)) -> 0.62279437 | CP8: =IF(SUM(H8:S8)<90," ",AO8) -> 2.5700503 | CQ8: =IF(SUM(H8:S8)<90," ",AM8-CO8) -> 1.2153471 | CR8: =IF(SUM(H8:S8)<90," ",AN8) -> 0.041196907 | CS8: =IF(SUM(H8:S8)<90," ",SUM(CL8:CR8)) -> 5 | CU8: =IF(SUM(H8:S8)<90," ",AP8) -> 1.874431 | CV8: =IF(SUM(H8:S8)<90," ",IF(2-CU8<=AQ8,2-CU8,AQ8)) -> 0.12556902 | CW8: =IF(SUM(H8:S8)<90," ",SUM(CU8:CV8)) -> 2 | CY8: =IF(SUM(H8:S8)<90," ",AQ8-CV8) -> 0.42867468 | CZ8: =IF(SUM(H8:S8)<90," ",AR8) -> 0.22669071 | DA8: =IF(SUM(H8:S8)<90," ",SUM(CY8:CZ8)) -> 0.65536539 | DC8: =IF(SUM(H8:S8)<90," ",2-DD8-DE8) -> 1.9926673 | DD8: =IF(SUM(H8:S8)<90," ",AS8) -> 0 | DE8: =IF(SUM(H8:S8)<90," ",AT8) -> 0.0073327155 | DF8: =IF(SUM(H8:S8)<90," ",SUM(DC8:DE8)) -> 2 | DG8: =IF(SUM(H8:S8)<90," ",AI8*4+AJ8*4+AK8*3+AL8*3+AM8*2+AN8*2+AO8*2+AP8*2+AQ8+AR8) -> 45.377206 | DI8: =IF(SUM(H8:S8)<90," ",CP8/(CP8+CQ8)) -> 0.67893804 | DJ8: =IF(SUM(H8:S8)<90," ",CP8/(CP8+CO8+CQ8)) -> 0.5830169 | DK8: =IF(SUM(H8:S8)<90," ",CL8/(CL8+CH8)) -> 0.16853631 | DL8: =IF(SUM(H8:S8)<90," ",CL8+CH8) -> 2.2500386
