Workbook

Sheet Amp (T-P-fO2 calculation)
A1: Supplementary Table 3. Temperature, pressure, and oxygen fugacity during amphibole crystallisation
A2: Labels and information | H2: Input | T2: Output (Ridolfi, 2021 and references therein） | BW2: Nickel-nickel oxide buffer (NNO) is from O’Neil (1997) | CA2: Oldhamite (CaS)–anhydrite (CaSO4) buffer is from Liu et al. (2023) | CC2: Ridolfi, 2021
A3: Diamond-drillhole No. | B3: Lithofacies | C3: Depth | D3: Sample No. | E3: Minerals | F3: Anhydrite exist or not | H3: Amphibole composition (wt%) | T3: Amphibole total calculation | U3: moles in 100 g | AI3: 13 cations apfu | BA3: Pressure equations (MPa) | BF3: Automatic checks and parameters | BL3: Physico-chemical conditions | BU3: Hollister et al., 1987 | BV3: Liao et al., 2021
H4: SiO2 | I4: TiO2 | J4: Al2O3 | K4: Cr2O3 | L4: FeO | M4: MnO | N4: MgO | O4: CaO | P4: Na2O | Q4: K2O | R4: F | S4: Cl | T4: Sum | U4: Si | V4: Ti | W4: Al | X4: Cr | Y4: Fe | Z4: Mn | AA4: Mg | AB4: Ca | AC4: Na | AD4: K | AE4: F | AF4: Cl | AG4: Si to Mg sum | AH4: Xal | AI4: Si | AJ4: Ti | AK4: Al | AL4: Cr | AM4: Fe | AN4: Mn | AO4: Mg | AP4: Ca | AQ4: Na | AR4: K | AS4: F | AT4: Cl | AU4: sum | AV4: H2O | AW4: Fe2O3 | AX4: FeO | AY4: O=F,Cl | AZ4: Total | BA4: P1a | BB4: P1b | BC4: P1c | BD4: P1d | BE4: P1e | BF4: Total and composition | BG4: Composition for fO2 | BH4: Composition for H2O | BI4: APE | BJ4: XPae | BK4: ΔPdb | BL4: T (°C) | BM4: error (°C) | BN4: error2 | BO4: P (MPa) | BP4: Eq. | BQ4: error% | BR4: error%as | BS4: error%^2 | BT4: error (MPa) | BU4: P (MPa) | BV4: T (°C) | BW4: ΔNNO | BX4: error | BY4: error^2 | BZ4: NNO | CA4: ΔOA | CB4: OA | CC4: logfO2 | CE4: H2Omelt (wt%) | CF4: error (wt%) | CG4: Si | CH4: AlIV | CI4: Ti | CJ4: T sum | CL4: AlVI | CM4: Ti | CN4: Cr | CO4: Fe3+ | CP4: Mg | CQ4: Fe2+ | CR4: Mn | CS4: C sum | CU4: Ca | CV4: Na | CW4: B sum | CY4: Na | CZ4: K | DA4: A sum | DC4: OH | DD4: F | DE4: Cl | DF4: W sum | DG4: charge | DI4: Mg/(Mg+Fe2+) | DJ4: Mg# | DK4: Al# | DL4: AlT
A5: DH0101 | B5: hornblende-gabbro | C5: 42 | D5: A3 | E5: Magnesio-hastingsite | F5: No | H5: 39.865 | I5: 2.018 | J5: 13.431 | K5: 0.005 | L5: 16.762 | M5: 0.378 | N5: 10.114 | O5: 11.537 | P5: 1.945 | Q5: 1.07 | R5: 0 | S5: 0.033 | T5: =IF(SUM(H5:S5)<90," ",SUM(H5:S5)) -> 97.158 | U5: =IF(SUM(H5:S5)<90," ",H5/stab.data!$U$7) -> 0.66348778 | V5: =IF(SUM(H5:S5)<90," ",I5/stab.data!$U$8) -> 0.025257203 | W5: =IF(SUM(H5:S5)<90," ",J5*2/stab.data!$U$9) -> 0.26345367 | X5: =IF(SUM(H5:S5)<90," ",K5*2/stab.data!$U$10) -> 6.5793716e-05 | Y5: =IF(SUM(H5:S5)<90," ",L5/stab.data!$U$11) -> 0.23330457 | Z5: =IF(SUM(H5:S5)<90," ",M5/stab.data!$U$12) -> 0.0053286719 | AA5: =IF(SUM(H5:S5)<90," ",N5/stab.data!$U$13) -> 0.25094283 | AB5: =IF(SUM(H5:S5)<90," ",O5/stab.data!$U$14) -> 0.20572763 | AC5: =IF(SUM(H5:S5)<90," ",P5*2/stab.data!$U$15) -> 0.062763194 | AD5: =IF(SUM(H5:S5)<90," ",Q5*2/stab.data!$U$16) -> 0.022718828 | AE5: =IF(SUM(H5:S5)<90," ",R5/stab.data!$U$17) -> 0 | AF5: =IF(SUM(H5:S5)<90," ",S5/stab.data!$U$18) -> 0.0009308098 | AG5: =IF(SUM(H5:S5)<90," ",SUM(U5:AA5)) -> 1.4418405 | AH5: =IF(SUM(H5:S5)<90," ",AK5/SUM(AI5:AR5)) -> 0.15201734 | AI5: =IF(SUM(H5:S5)<90," ",U5*13/$AG5) -> 5.9821742 | AJ5: =IF(SUM(H5:S5)<90," ",V5*13/$AG5) -> 0.22772535 | AK5: =IF(SUM(H5:S5)<90," ",W5*13/$AG5) -> 2.3753652 | AL5: =IF(SUM(H5:S5)<90," ",X5*13/$AG5) -> 0.00059321283 | AM5: =IF(SUM(H5:S5)<90," ",Y5*13/$AG5) -> 2.1035332 | AN5: =IF(SUM(H5:S5)<90," ",Z5*13/$AG5) -> 0.048044658 | AO5: =IF(SUM(H5:S5)<90," ",AA5*13/$AG5) -> 2.2625643 | AP5: =IF(SUM(H5:S5)<90," ",AB5*13/$AG5) -> 1.8548925 | AQ5: =IF(SUM(H5:S5)<90," ",AC5*13/$AG5) -> 0.56588888 | AR5: =IF(SUM(H5:S5)<90," ",AD5*13/$AG5) -> 0.20483872 | AS5: =IF(SUM(H5:S5)<90," ",AE5*13/$AG5) -> 0 | AT5: =IF(SUM(H5:S5)<90," ",AF5*13/$AG5) -> 0.0083924173 | AU5: =IF(SUM(H5:S5)<90," ",SUM(AI5:AR5)) -> 15.62562 | AV5: =IF(SUM(H5:S5)<90," ",(2-AS5-AT5)*AG5*17/13/2) -> 1.8775719 | AW5: =IF(SUM(H5:S5)<90," ",CO5*AG5*stab.data!$U$20/13/2) -> 6.4091557 | AX5: =IF(SUM(H5:S5)<90," ",CQ5*AG5*stab.data!$U$11/13) -> 10.99496 | AY5: =IF(SUM(H5:S5)<90," ",-(R5*0.421070639014633+S5*0.225636758525372)) -> -0.007446013 | AZ5: =IF(SUM(H5:S5)<90," ",SUM(H5:S5)-L5+AV5+AW5+AX5+AY5) -> 99.670241 | BA5: =IF(SUM(H5:S5)<90," ",EXP('eq. coef.'!$C$104+'eq. coef.'!$C$105*'Amp (T-P-fO2 calculation)'!AI5+'eq. coef.'!$C$106*'Amp (T-P-fO2 calculation)'!AJ5+'eq. coef.'!$C$107*'Amp (T-P-fO2 calculation)'!AK5+'eq. coef.'!$C$108*'Amp (T-P-fO2 calculation)'!AM5+'eq. coef.'!$C$109*'Amp (T-P-fO2 calculation)'!AO5+'eq. coef.'!$C$110*'Amp (T-P-fO2 calculation)'!AP5+'eq. coef.'!$C$111*'Amp (T-P-fO2 calculation)'!AQ5+'eq. coef.'!$C$112*'Amp (T-P-fO2 calculation)'!AR5)) -> 594.9499 | BB5: =IF(SUM(H5:S5)<90," ",EXP('eq. coef.'!$C$176+'eq. coef.'!$C$177*'Amp (T-P-fO2 calculation)'!AI5+'eq. coef.'!$C$178*'Amp (T-P-fO2 calculation)'!AJ5+'eq. coef.'!$C$179*'Amp (T-P-fO2 calculation)'!AK5+'eq. coef.'!$C$180*'Amp (T-P-fO2 calculation)'!AM5+'eq. coef.'!$C$181*'Amp (T-P-fO2 calculation)'!AO5+'eq. coef.'!$C$182*'Amp (T-P-fO2 calculation)'!AP5+'eq. coef.'!$C$183*'Amp (T-P-fO2 calculation)'!AQ5+'eq. coef.'!$C$184*'Amp (T-P-fO2 calculation)'!AR5)) -> 468.7422 | BC5: =IF(SUM(H5:S5)<90," ",('eq. coef.'!$C$234+'eq. coef.'!$C$235*'Amp (T-P-fO2 calculation)'!AI5+'eq. coef.'!$C$236*'Amp (T-P-fO2 calculation)'!AJ5+'eq. coef.'!$C$237*'Amp (T-P-fO2 calculation)'!AK5+'eq. coef.'!$C$238*'Amp (T-P-fO2 calculation)'!AM5+'eq. coef.'!$C$239*'Amp (T-P-fO2 calculation)'!AO5+'eq. coef.'!$C$240*'Amp (T-P-fO2 calculation)'!AP5+'eq. coef.'!$C$241*'Amp (T-P-fO2 calculation)'!AQ5+'eq. coef.'!$C$242*'Amp (T-P-fO2 calculation)'!AR5)) -> 507.65916 | BD5: =IF(SUM(H5:S5)<90," ",('eq. coef.'!$C$270+'eq. coef.'!$C$271*'Amp (T-P-fO2 calculation)'!AI5+'eq. coef.'!$C$272*'Amp (T-P-fO2 calculation)'!AJ5+'eq. coef.'!$C$273*'Amp (T-P-fO2 calculation)'!AK5+'eq. coef.'!$C$274*'Amp (T-P-fO2 calculation)'!AM5+'eq. coef.'!$C$275*'Amp (T-P-fO2 calculation)'!AO5+'eq. coef.'!$C$276*'Amp (T-P-fO2 calculation)'!AP5+'eq. coef.'!$C$277*'Amp (T-P-fO2 calculation)'!AQ5+'eq. coef.'!$C$278*'Amp (T-P-fO2 calculation)'!AR5)) -> 471.60991 | BE5: =IF(SUM(H5:S5)<90," ",EXP('eq. coef.'!$C$328+'eq. coef.'!$C$329*'Amp (T-P-fO2 calculation)'!AI5+'eq. coef.'!$C$330*'Amp (T-P-fO2 calculation)'!AJ5+'eq. coef.'!$C$331*'Amp (T-P-fO2 calculation)'!AK5+'eq. coef.'!$C$332*'Amp (T-P-fO2 calculation)'!AM5+'eq. coef.'!$C$333*'Amp (T-P-fO2 calculation)'!AO5+'eq. coef.'!$C$334*'Amp (T-P-fO2 calculation)'!AP5+'eq. coef.'!$C$335*'Amp (T-P-fO2 calculation)'!AQ5+'eq. coef.'!$C$336*'Amp (T-P-fO2 calculation)'!AR5)) -> 820.39151 | BF5: =IF(SUM(H5:S5)<90," ",IF(AZ5<98.5,"low Total",IF(AZ5>102,"high Total",IF(DG5>46.5,"unbalanced",IF(CQ5<0,"unbalanced",IF(DI5<0.54,"low-Mg",IF(CU5<1.5,"low-Ca",IF(CW5<1.99,"low-B cations",IF(CU5>2.05,"high-Ca",IF(DK5>0.25,"high-Al#",IF(H5<38.8-0.42,"low-SiO2",IF(H5>49.8,"high-SiO2",IF(CI5>0.06+0.06*0.2,"high-[4]Ti",IF(CL5>0.57+0.57*0.074,"high-[6]Al",IF(CM5>0.7+0.7*0.07,"high-[6]Ti",IF(CN5>0.04+0.04*0.1,"high-Cr2O3",IF(CO5>1.37+1.37*0.28,"high-Fe3+",IF(N5<9.71-0.35,"low-MgO",IF(N5>18.01+0.35,"high-MgO",IF(CQ5>1.69+1.69*0.28,"high-Fe2+",IF(M5>0.58+0.58*0.3,"high-MnO",IF(O5>12.35+0.25,"high-CaO",IF(CY5<0,"low-ANa",IF(CY5>0.58+0.58*0.11,"high-ANa",IF(Q5<0,"low-K2O",IF(Q5>2.03+0.05,"high-K2O",IF(DA5<0.03-0.03*0.3,"low-A(Na+K)",IF(DA5>1,"high-A(Na+K)",IF(J5<6.5,"low-Al2O3",IF(J5>15.9+0.36,"high-Al2O3",IF(I5<1.1-0.2,"low-TiO2",IF(L5<5.85-0.44,"low-FeO",IF(L5>16.92+0.44,"high-FeO",IF(P5<1.07-0.1,"low-Na2O",IF(P5>3.05+0.1,"high-Na2O","ok"))))))))))))))))))))))))))))))))))) -> ok | BG5: =IF(SUM(H5:S5)<90," ",IF(DI5<0.54,"low-Mg",IF(CU5<1.5,"low-Ca",IF(CW5<1.99,"low-B cations",IF(CU5>2.05,"high-Ca",IF(DK5>0.24,"high-Al#",IF(H5<39.2-0.42,"low-SiO2",IF(H5>46.2+0.42,"high-SiO2",IF(CI5>0.06+0.06*0.2,"high-[4]Ti",IF(CL5>0.48+0.48*0.074,"high-[6]Al",IF(CM5>0.66+0.66*0.07,"high-[6]Ti",IF(CN5>0.04+0.04*0.1,"high-Cr2O3",IF(CO5>1.25+1.25*0.28,"high-Fe3+",IF(N5<9.71-0.35,"low-MgO",IF(N5>16.7+0.35,"high-MgO",IF(CQ5>1.69+1.69*0.28,"high-Fe2+",IF(M5>0.32+0.32*0.3,"high-MnO",IF(O5>12.35+0.25,"high-CaO",IF(CY5<0.1,"low-ANa",IF(CY5>0.57+0.57*0.11,"high-ANa",IF(Q5<0,"low-K2O",IF(Q5>1.3+0.05,"high-K2O",IF(DA5<0.17-0.17*0.3,"low-A(Na+K)",IF(DA5>0.9,"high-A(Na+K)",IF(J5<8.5,"low-Al2O3",IF(J5>14.6+0.4,"high-Al2O3",IF(I5<1.3-0.2,"low-TiO2",IF(L5<8.7-0.44,"low-FeO",IF(L5>16.92+0.44,"high-FeO",IF(P5<1.6-0.1,"low-Na2O",IF(P5>2.65+0.1,"high-Na2O","ok"))))))))))))))))))))))))))))))) -> ok | BH5: =IF(SUM(H5:S5)<90," ",IF(DI5<0.54,"low-Mg",IF(CU5<1.5,"low-Ca",IF(CW5<1.99,"low-B cations",IF(CU5>2.05,"high-Ca",IF(DK5>0.24,"high-Al#",IF(H5<38.8-0.42,"low-SiO2",IF(H5>47.9+0.42,"high-SiO2",IF(CI5>0.06+0.06*0.2,"high-[4]Ti",IF(CL5>0.55+0.55*0.074,"high-[6]Al",IF(CM5>0.7+0.7*0.07,"high-[6]Ti",IF(CN5>0.03+0.03*0.1,"high-Cr2O3",IF(CO5>1.37+1.37*0.28,"high-Fe3+",IF(N5<9.71-0.35,"low-MgO",IF(N5>18+0.35,"high-MgO",IF(CQ5>1.69+1.69*0.28,"high-Fe2+",IF(M5>0.58+0.58*0.3,"high-MnO",IF(O5>12.35+0.25,"high-CaO",IF(CY5<0,"low-ANa",IF(CY5>0.58+0.58*0.11,"high-ANa",IF(Q5<0,"low-K2O",IF(Q5>2+0.05,"high-K2O",IF(DA5<0.07-0.07*0.3,"low-A(Na+K)",IF(DA5>0.9,"high-A(Na+K)",IF(J5<6.5,"low-Al2O3",IF(J5>15.9+0.4,"high-Al2O3",IF(I5<1.1-0.2,"low-TiO2",IF(L5<5.9-0.44,"low-FeO",IF(L5>16.92+0.44,"high-FeO",IF(P5<1.28-0.1,"low-Na2O",IF(P5>2.9+0.1,"high-Na2O","ok"))))))))))))))))))))))))))))))) -> ok | BI5: =IF(SUM(H5:S5)<90," ",ABS(BA5-BO5)/(BA5+BO5)*200) -> 15.833489 | BJ5: =IF(SUM(H5:S5)<90," ",(BA5-BE5)/BA5) -> -0.37892536 | BK5: =IF(SUM(H5:S5)<90," ",BD5-BB5) -> 2.8677132 | BL5: =IF(SUM(H5:S5)<90," ",'eq. coef.'!$C$360+'eq. coef.'!$C$361*'Amp (T-P-fO2 calculation)'!AI5+'eq. coef.'!$C$362*'Amp (T-P-fO2 calculation)'!AJ5+'eq. coef.'!$C$363*'Amp (T-P-fO2 calculation)'!AK5+'eq. coef.'!$C$364*'Amp (T-P-fO2 calculation)'!AM5+'eq. coef.'!$C$365*'Amp (T-P-fO2 calculation)'!AO5+'eq. coef.'!$C$366*'Amp (T-P-fO2 calculation)'!AP5+'eq. coef.'!$C$367*'Amp (T-P-fO2 calculation)'!AQ5+'eq. coef.'!$C$368*'Amp (T-P-fO2 calculation)'!AR5+'eq. coef.'!$C$369*LN(BO5)) -> 904.67734 | BM5: =IF(SUM(H5:S5)<90," ",22) -> 22 | BN5: =IF(SUM(H5:S5)<90," ",BM5^2) -> 484 | BO5: =IF(SUM(H5:S5)<90," ",IF(BB5<335,BB5,IF(BB5<399,AVERAGE(BB5:BC5),IF(BC5<415,BC5,IF(BD5<470,BC5,IF(BJ5>0.22,AVERAGE(BC5:BD5),IF(BK5>350,BE5,IF(BK5>210,BD5,IF(BK5<75,BC5,IF(BJ5<-0.2,AVERAGE(BB5:BC5),IF(BJ5>0.05,AVERAGE(BC5:BD5),BA5))))))))))) -> 507.65916 | BP5: =IF(SUM(H5:S5)<90," ",IF(BO5=BA5,"P1a",IF(BO5=BB5,"P1b",IF(BO5=BC5,"P1c",IF(BO5=BD5,"P1d",IF(BO5=BE5,"P1e",IF(BO5=AVERAGE(BB5:BC5),"P1b_c","P1c_d"))))))) -> P1c | BR5: =ABS(BQ5) -> 0 | BS5: =BQ5^2 -> 0 | BT5: =IF(SUM(H5:S5)<90," ",BO5*0.12) -> 60.919099 | BU5: =(-4.76+5.6*DL5)*100 -> 854.20449 | BV5: =2400/(1.52-LOG10(CM5))-273 -> 836.78111 | BW5: =IF(SUM(H5:S5)<90," ",'eq. coef.'!$B$1128*'Amp (T-P-fO2 calculation)'!CH5+'eq. coef.'!$B$1129*'Amp (T-P-fO2 calculation)'!CL5+'eq. coef.'!$B$1130*'Amp (T-P-fO2 calculation)'!CM5+'eq. coef.'!$B$1131*'Amp (T-P-fO2 calculation)'!CO5+'eq. coef.'!$B$1132*'Amp (T-P-fO2 calculation)'!CP5+'eq. coef.'!$B$1133*'Amp (T-P-fO2 calculation)'!CQ5+'eq. coef.'!$B$1134*'Amp (T-P-fO2 calculation)'!CR5+'eq. coef.'!$B$1135*'Amp (T-P-fO2 calculation)'!CU5+'eq. coef.'!$B$1135*'Amp (T-P-fO2 calculation)'!CY5+'eq. coef.'!$B$1137*'Amp (T-P-fO2 calculation)'!CZ5) -> 1.9101695 | BX5: =IF(SUM(H5:S5)<90," ",0.4) -> 0.4 | BZ5: =12.78-25073/(BL5+273.15)-1.1*LOG10(BL5+273.15)+450*(BO5/1000)/(BL5+273.15)+0.025*(BO5/1000) -> -11.679043 | CA5: =CC5-CB5 -> 0.48778227 | CB5: =2.19144+15305300/(BL5+273.15)/(BL5+273.15)/(BL5+273.15)-1551.42/(BL5+273.15)/(BL5+273.15)+(-25137+0.0477703*(BO5*10))/(BL5+273.15)+0.000109305*(BL5+273.15)+2.7838*LOG10(BL5+273.15) -> -10.258233 | CC5: =IF(SUM(H5:S5)<90," ",-25018.7/(BL5+273.15) + 12.981 + 0.046*(BO5*10- 1)/(BL5+273.15) + -0.5117*LN(BL5+273.15)+BW5) -> -9.7704512 | CE5: =IF(SUM(H5:S5)<90," ",EXP('eq. coef.'!$B$1156*'Amp (T-P-fO2 calculation)'!CH5+'eq. coef.'!$B$1157*'Amp (T-P-fO2 calculation)'!CL5+'eq. coef.'!$B$1158*'Amp (T-P-fO2 calculation)'!CM5+'eq. coef.'!$B$1159*'Amp (T-P-fO2 calculation)'!CO5+'eq. coef.'!$B$1160*'Amp (T-P-fO2 calculation)'!CP5+'eq. coef.'!$B$1161*'Amp (T-P-fO2 calculation)'!CQ5+'eq. coef.'!$B$1162*'Amp (T-P-fO2 calculation)'!CR5+'eq. coef.'!$B$1163*'Amp (T-P-fO2 calculation)'!CU5+'eq. coef.'!$B$1164*'Amp (T-P-fO2 calculation)'!CY5+'eq. coef.'!$B$1165*'Amp (T-P-fO2 calculation)'!CZ5)) -> 8.009497 | CF5: =IF(SUM(H5:S5)<90," ",CE5*0.17) -> 1.3616145 | CG5: =IF(SUM(H5:S5)<90," ",AI5) -> 5.9821742 | CH5: =IF(SUM(H5:S5)<90," ",IF(AI5+AK5>8,8-AI5,AK5)) -> 2.0178258 | CI5: =IF(SUM(H5:S5)<90," ",IF(CG5+CH5<8,8-CG5-CH5,0)) -> 0 | CJ5: =IF(SUM(H5:S5)<90," ",SUM(CG5:CI5)) -> 8 | CL5: =IF(SUM(H5:S5)<90," ",AK5-CH5) -> 0.35753934 | CM5: =IF(SUM(H5:S5)<90," ",AJ5-CI5) -> 0.22772535 | CN5: =IF(SUM(H5:S5)<90," ",AL5) -> 0.00059321283 | CO5: =IF(SUM(H5:S5)<90," ",IF(DG5>46,0,46-DG5)) -> 0.72372987 | CP5: =IF(SUM(H5:S5)<90," ",AO5) -> 2.2625643 | CQ5: =IF(SUM(H5:S5)<90," ",AM5-CO5) -> 1.3798033 | CR5: =IF(SUM(H5:S5)<90," ",AN5) -> 0.048044658 | CS5: =IF(SUM(H5:S5)<90," ",SUM(CL5:CR5)) -> 5 | CU5: =IF(SUM(H5:S5)<90," ",AP5) -> 1.8548925 | CV5: =IF(SUM(H5:S5)<90," ",IF(2-CU5<=AQ5,2-CU5,AQ5)) -> 0.14510746 | CW5: =IF(SUM(H5:S5)<90," ",SUM(CU5:CV5)) -> 2 | CY5: =IF(SUM(H5:S5)<90," ",AQ5-CV5) -> 0.42078142 | CZ5: =IF(SUM(H5:S5)<90," ",AR5) -> 0.20483872 | DA5: =IF(SUM(H5:S5)<90," ",SUM(CY5:CZ5)) -> 0.62562014 | DC5: =IF(SUM(H5:S5)<90," ",2-DD5-DE5) -> 1.9916076 | DD5: =IF(SUM(H5:S5)<90," ",AS5) -> 0 | DE5: =IF(SUM(H5:S5)<90," ",AT5) -> 0.0083924173 | DF5: =IF(SUM(H5:S5)<90," ",SUM(DC5:DE5)) -> 2 | DG5: =IF(SUM(H5:S5)<90," ",AI5*4+AJ5*4+AK5*3+AL5*3+AM5*2+AN5*2+AO5*2+AP5*2+AQ5+AR5) -> 45.27627 | DI5: =IF(SUM(H5:S5)<90," ",CP5/(CP5+CQ5)) -> 0.62117955 | DJ5: =IF(SUM(H5:S5)<90," ",CP5/(CP5+CO5+CQ5)) -> 0.51821204 | DK5: =IF(SUM(H5:S5)<90," ",CL5/(CL5+CH5)) -> 0.15051974 | DL5: =IF(SUM(H5:S5)<90," ",CL5+CH5) -> 2.3753652
A6: DH0101 | B6: hornblende-gabbro | C6: 55 | D6: A5 | E6: Pargasite | F6: No | H6: 39.276 | I6: 2.326 | J6: 14.225 | K6: 0 | L6: 16.68 | M6: 0.363 | N6: 9.64 | O6: 11.661 | P6: 1.837 | Q6: 1.296 | R6: 0 | S6: 0.036 | T6: =IF(SUM(H6:S6)<90," ",SUM(H6:S6)) -> 97.34 | U6: =IF(SUM(H6:S6)<90," ",H6/stab.data!$U$7) -> 0.65368484 | V6: =IF(SUM(H6:S6)<90," ",I6/stab.data!$U$8) -> 0.029112118 | W6: =IF(SUM(H6:S6)<90," ",J6*2/stab.data!$U$9) -> 0.27902826 | X6: =IF(SUM(H6:S6)<90," ",K6*2/stab.data!$U$10) -> 0 | Y6: =IF(SUM(H6:S6)<90," ",L6/stab.data!$U$11) -> 0.23216324 | Z6: =IF(SUM(H6:S6)<90," ",M6/stab.data!$U$12) -> 0.0051172167 | AA6: =IF(SUM(H6:S6)<90," ",N6/stab.data!$U$13) -> 0.23918222 | AB6: =IF(SUM(H6:S6)<90," ",O6/stab.data!$U$14) -> 0.2079388 | AC6: =IF(SUM(H6:S6)<90," ",P6*2/stab.data!$U$15) -> 0.059278143 | AD6: =IF(SUM(H6:S6)<90," ",Q6*2/stab.data!$U$16) -> 0.027517384 | AE6: =IF(SUM(H6:S6)<90," ",R6/stab.data!$U$17) -> 0 | AF6: =IF(SUM(H6:S6)<90," ",S6/stab.data!$U$18) -> 0.0010154289 | AG6: =IF(SUM(H6:S6)<90," ",SUM(U6:AA6)) -> 1.4382879 | AH6: =IF(SUM(H6:S6)<90," ",AK6/SUM(AI6:AR6)) -> 0.16100674 | AI6: =IF(SUM(H6:S6)<90," ",U6*13/$AG6) -> 5.9083463 | AJ6: =IF(SUM(H6:S6)<90," ",V6*13/$AG6) -> 0.26313059 | AK6: =IF(SUM(H6:S6)<90," ",W6*13/$AG6) -> 2.5220037 | AL6: =IF(SUM(H6:S6)<90," ",X6*13/$AG6) -> 0 | AM6: =IF(SUM(H6:S6)<90," ",Y6*13/$AG6) -> 2.0984131 | AN6: =IF(SUM(H6:S6)<90," ",Z6*13/$AG6) -> 0.046252087 | AO6: =IF(SUM(H6:S6)<90," ",AA6*13/$AG6) -> 2.1618543 | AP6: =IF(SUM(H6:S6)<90," ",AB6*13/$AG6) -> 1.8794599 | AQ6: =IF(SUM(H6:S6)<90," ",AC6*13/$AG6) -> 0.53578693 | AR6: =IF(SUM(H6:S6)<90," ",AD6*13/$AG6) -> 0.24871655 | AS6: =IF(SUM(H6:S6)<90," ",AE6*13/$AG6) -> 0 | AT6: =IF(SUM(H6:S6)<90," ",AF6*13/$AG6) -> 0.0091779786 | AU6: =IF(SUM(H6:S6)<90," ",SUM(AI6:AR6)) -> 15.663963 | AV6: =IF(SUM(H6:S6)<90," ",(2-AS6-AT6)*AG6*17/13/2) -> 1.8722069 | AW6: =IF(SUM(H6:S6)<90," ",CO6*AG6*stab.data!$U$20/13/2) -> 5.2263104 | AX6: =IF(SUM(H6:S6)<90," ",CQ6*AG6*stab.data!$U$11/13) -> 11.977299 | AY6: =IF(SUM(H6:S6)<90," ",-(R6*0.421070639014633+S6*0.225636758525372)) -> -0.0081229233 | AZ6: =IF(SUM(H6:S6)<90," ",SUM(H6:S6)-L6+AV6+AW6+AX6+AY6) -> 99.727694 | BA6: =IF(SUM(H6:S6)<90," ",EXP('eq. coef.'!$C$104+'eq. coef.'!$C$105*'Amp (T-P-fO2 calculation)'!AI6+'eq. coef.'!$C$106*'Amp (T-P-fO2 calculation)'!AJ6+'eq. coef.'!$C$107*'Amp (T-P-fO2 calculation)'!AK6+'eq. coef.'!$C$108*'Amp (T-P-fO2 calculation)'!AM6+'eq. coef.'!$C$109*'Amp (T-P-fO2 calculation)'!AO6+'eq. coef.'!$C$110*'Amp (T-P-fO2 calculation)'!AP6+'eq. coef.'!$C$111*'Amp (T-P-fO2 calculation)'!AQ6+'eq. coef.'!$C$112*'Amp (T-P-fO2 calculation)'!AR6)) -> 643.72586 | BB6: =IF(SUM(H6:S6)<90," ",EXP('eq. coef.'!$C$176+'eq. coef.'!$C$177*'Amp (T-P-fO2 calculation)'!AI6+'eq. coef.'!$C$178*'Amp (T-P-fO2 calculation)'!AJ6+'eq. coef.'!$C$179*'Amp (T-P-fO2 calculation)'!AK6+'eq. coef.'!$C$180*'Amp (T-P-fO2 calculation)'!AM6+'eq. coef.'!$C$181*'Amp (T-P-fO2 calculation)'!AO6+'eq. coef.'!$C$182*'Amp (T-P-fO2 calculation)'!AP6+'eq. coef.'!$C$183*'Amp (T-P-fO2 calculation)'!AQ6+'eq. coef.'!$C$184*'Amp (T-P-fO2 calculation)'!AR6)) -> 564.57912 | BC6: =IF(SUM(H6:S6)<90," ",('eq. coef.'!$C$234+'eq. coef.'!$C$235*'Amp (T-P-fO2 calculation)'!AI6+'eq. coef.'!$C$236*'Amp (T-P-fO2 calculation)'!AJ6+'eq. coef.'!$C$237*'Amp (T-P-fO2 calculation)'!AK6+'eq. coef.'!$C$238*'Amp (T-P-fO2 calculation)'!AM6+'eq. coef.'!$C$239*'Amp (T-P-fO2 calculation)'!AO6+'eq. coef.'!$C$240*'Amp (T-P-fO2 calculation)'!AP6+'eq. coef.'!$C$241*'Amp (T-P-fO2 calculation)'!AQ6+'eq. coef.'!$C$242*'Amp (T-P-fO2 calculation)'!AR6)) -> 565.89451 | BD6: =IF(SUM(H6:S6)<90," ",('eq. coef.'!$C$270+'eq. coef.'!$C$271*'Amp (T-P-fO2 calculation)'!AI6+'eq. coef.'!$C$272*'Amp (T-P-fO2 calculation)'!AJ6+'eq. coef.'!$C$273*'Amp (T-P-fO2 calculation)'!AK6+'eq. coef.'!$C$274*'Amp (T-P-fO2 calculation)'!AM6+'eq. coef.'!$C$275*'Amp (T-P-fO2 calculation)'!AO6+'eq. coef.'!$C$276*'Amp (T-P-fO2 calculation)'!AP6+'eq. coef.'!$C$277*'Amp (T-P-fO2 calculation)'!AQ6+'eq. coef.'!$C$278*'Amp (T-P-fO2 calculation)'!AR6)) -> 516.75206 | BE6: =IF(SUM(H6:S6)<90," ",EXP('eq. coef.'!$C$328+'eq. coef.'!$C$329*'Amp (T-P-fO2 calculation)'!AI6+'eq. coef.'!$C$330*'Amp (T-P-fO2 calculation)'!AJ6+'eq. coef.'!$C$331*'Amp (T-P-fO2 calculation)'!AK6+'eq. coef.'!$C$332*'Amp (T-P-fO2 calculation)'!AM6+'eq. coef.'!$C$333*'Amp (T-P-fO2 calculation)'!AO6+'eq. coef.'!$C$334*'Amp (T-P-fO2 calculation)'!AP6+'eq. coef.'!$C$335*'Amp (T-P-fO2 calculation)'!AQ6+'eq. coef.'!$C$336*'Amp (T-P-fO2 calculation)'!AR6)) -> 884.07433 | BF6: =IF(SUM(H6:S6)<90," ",IF(AZ6<98.5,"low Total",IF(AZ6>102,"high Total",IF(DG6>46.5,"unbalanced",IF(CQ6<0,"unbalanced",IF(DI6<0.54,"low-Mg",IF(CU6<1.5,"low-Ca",IF(CW6<1.99,"low-B cations",IF(CU6>2.05,"high-Ca",IF(DK6>0.25,"high-Al#",IF(H6<38.8-0.42,"low-SiO2",IF(H6>49.8,"high-SiO2",IF(CI6>0.06+0.06*0.2,"high-[4]Ti",IF(CL6>0.57+0.57*0.074,"high-[6]Al",IF(CM6>0.7+0.7*0.07,"high-[6]Ti",IF(CN6>0.04+0.04*0.1,"high-Cr2O3",IF(CO6>1.37+1.37*0.28,"high-Fe3+",IF(N6<9.71-0.35,"low-MgO",IF(N6>18.01+0.35,"high-MgO",IF(CQ6>1.69+1.69*0.28,"high-Fe2+",IF(M6>0.58+0.58*0.3,"high-MnO",IF(O6>12.35+0.25,"high-CaO",IF(CY6<0,"low-ANa",IF(CY6>0.58+0.58*0.11,"high-ANa",IF(Q6<0,"low-K2O",IF(Q6>2.03+0.05,"high-K2O",IF(DA6<0.03-0.03*0.3,"low-A(Na+K)",IF(DA6>1,"high-A(Na+K)",IF(J6<6.5,"low-Al2O3",IF(J6>15.9+0.36,"high-Al2O3",IF(I6<1.1-0.2,"low-TiO2",IF(L6<5.85-0.44,"low-FeO",IF(L6>16.92+0.44,"high-FeO",IF(P6<1.07-0.1,"low-Na2O",IF(P6>3.05+0.1,"high-Na2O","ok"))))))))))))))))))))))))))))))))))) -> ok | BG6: =IF(SUM(H6:S6)<90," ",IF(DI6<0.54,"low-Mg",IF(CU6<1.5,"low-Ca",IF(CW6<1.99,"low-B cations",IF(CU6>2.05,"high-Ca",IF(DK6>0.24,"high-Al#",IF(H6<39.2-0.42,"low-SiO2",IF(H6>46.2+0.42,"high-SiO2",IF(CI6>0.06+0.06*0.2,"high-[4]Ti",IF(CL6>0.48+0.48*0.074,"high-[6]Al",IF(CM6>0.66+0.66*0.07,"high-[6]Ti",IF(CN6>0.04+0.04*0.1,"high-Cr2O3",IF(CO6>1.25+1.25*0.28,"high-Fe3+",IF(N6<9.71-0.35,"low-MgO",IF(N6>16.7+0.35,"high-MgO",IF(CQ6>1.69+1.69*0.28,"high-Fe2+",IF(M6>0.32+0.32*0.3,"high-MnO",IF(O6>12.35+0.25,"high-CaO",IF(CY6<0.1,"low-ANa",IF(CY6>0.57+0.57*0.11,"high-ANa",IF(Q6<0,"low-K2O",IF(Q6>1.3+0.05,"high-K2O",IF(DA6<0.17-0.17*0.3,"low-A(Na+K)",IF(DA6>0.9,"high-A(Na+K)",IF(J6<8.5,"low-Al2O3",IF(J6>14.6+0.4,"high-Al2O3",IF(I6<1.3-0.2,"low-TiO2",IF(L6<8.7-0.44,"low-FeO",IF(L6>16.92+0.44,"high-FeO",IF(P6<1.6-0.1,"low-Na2O",IF(P6>2.65+0.1,"high-Na2O","ok"))))))))))))))))))))))))))))))) -> ok | BH6: =IF(SUM(H6:S6)<90," ",IF(DI6<0.54,"low-Mg",IF(CU6<1.5,"low-Ca",IF(CW6<1.99,"low-B cations",IF(CU6>2.05,"high-Ca",IF(DK6>0.24,"high-Al#",IF(H6<38.8-0.42,"low-SiO2",IF(H6>47.9+0.42,"high-SiO2",IF(CI6>0.06+0.06*0.2,"high-[4]Ti",IF(CL6>0.55+0.55*0.074,"high-[6]Al",IF(CM6>0.7+0.7*0.07,"high-[6]Ti",IF(CN6>0.03+0.03*0.1,"high-Cr2O3",IF(CO6>1.37+1.37*0.28,"high-Fe3+",IF(N6<9.71-0.35,"low-MgO",IF(N6>18+0.35,"high-MgO",IF(CQ6>1.69+1.69*0.28,"high-Fe2+",IF(M6>0.58+0.58*0.3,"high-MnO",IF(O6>12.35+0.25,"high-CaO",IF(CY6<0,"low-ANa",IF(CY6>0.58+0.58*0.11,"high-ANa",IF(Q6<0,"low-K2O",IF(Q6>2+0.05,"high-K2O",IF(DA6<0.07-0.07*0.3,"low-A(Na+K)",IF(DA6>0.9,"high-A(Na+K)",IF(J6<6.5,"low-Al2O3",IF(J6>15.9+0.4,"high-Al2O3",IF(I6<1.1-0.2,"low-TiO2",IF(L6<5.9-0.44,"low-FeO",IF(L6>16.92+0.44,"high-FeO",IF(P6<1.28-0.1,"low-Na2O",IF(P6>2.9+0.1,"high-Na2O","ok"))))))))))))))))))))))))))))))) -> ok | BI6: =IF(SUM(H6:S6)<90," ",ABS(BA6-BO6)/(BA6+BO6)*200) -> 12.868724 | BJ6: =IF(SUM(H6:S6)<90," ",(BA6-BE6)/BA6) -> -0.37337084 | BK6: =IF(SUM(H6:S6)<90," ",BD6-BB6) -> -47.827067 | BL6: =IF(SUM(H6:S6)<90," ",'eq. coef.'!$C$360+'eq. coef.'!$C$361*'Amp (T-P-fO2 calculation)'!AI6+'eq. coef.'!$C$362*'Amp (T-P-fO2 calculation)'!AJ6+'eq. coef.'!$C$363*'Amp (T-P-fO2 calculation)'!AK6+'eq. coef.'!$C$364*'Amp (T-P-fO2 calculation)'!AM6+'eq. coef.'!$C$365*'Amp (T-P-fO2 calculation)'!AO6+'eq. coef.'!$C$366*'Amp (T-P-fO2 calculation)'!AP6+'eq. coef.'!$C$367*'Amp (T-P-fO2 calculation)'!AQ6+'eq. coef.'!$C$368*'Amp (T-P-fO2 calculation)'!AR6+'eq. coef.'!$C$369*LN(BO6)) -> 907.28483 | BM6: =IF(SUM(H6:S6)<90," ",22) -> 22 | BN6: =IF(SUM(H6:S6)<90," ",BM6^2) -> 484 | BO6: =IF(SUM(H6:S6)<90," ",IF(BB6<335,BB6,IF(BB6<399,AVERAGE(BB6:BC6),IF(BC6<415,BC6,IF(BD6<470,BC6,IF(BJ6>0.22,AVERAGE(BC6:BD6),IF(BK6>350,BE6,IF(BK6>210,BD6,IF(BK6<75,BC6,IF(BJ6<-0.2,AVERAGE(BB6:BC6),IF(BJ6>0.05,AVERAGE(BC6:BD6),BA6))))))))))) -> 565.89451 | BP6: =IF(SUM(H6:S6)<90," ",IF(BO6=BA6,"P1a",IF(BO6=BB6,"P1b",IF(BO6=BC6,"P1c",IF(BO6=BD6,"P1d",IF(BO6=BE6,"P1e",IF(BO6=AVERAGE(BB6:BC6),"P1b_c","P1c_d"))))))) -> P1c | BR6: =ABS(BQ6) -> 0 | BS6: =BQ6^2 -> 0 | BT6: =IF(SUM(H6:S6)<90," ",BO6*0.12) -> 67.907341 | BU6: =(-4.76+5.6*DL6)*100 -> 936.32206 | BV6: =2400/(1.52-LOG10(CM6))-273 -> 869.95039 | BW6: =IF(SUM(H6:S6)<90," ",'eq. coef.'!$B$1128*'Amp (T-P-fO2 calculation)'!CH6+'eq. coef.'!$B$1129*'Amp (T-P-fO2 calculation)'!CL6+'eq. coef.'!$B$1130*'Amp (T-P-fO2 calculation)'!CM6+'eq. coef.'!$B$1131*'Amp (T-P-fO2 calculation)'!CO6+'eq. coef.'!$B$1132*'Amp (T-P-fO2 calculation)'!CP6+'eq. coef.'!$B$1133*'Amp (T-P-fO2 calculation)'!CQ6+'eq. coef.'!$B$1134*'Amp (T-P-fO2 calculation)'!CR6+'eq. coef.'!$B$1135*'Amp (T-P-fO2 calculation)'!CU6+'eq. coef.'!$B$1135*'Amp (T-P-fO2 calculation)'!CY6+'eq. coef.'!$B$1137*'Amp (T-P-fO2 calculation)'!CZ6) -> 2.0859472 | BX6: =IF(SUM(H6:S6)<90," ",0.4) -> 0.4 | BZ6: =12.78-25073/(BL6+273.15)-1.1*LOG10(BL6+273.15)+450*(BO6/1000)/(BL6+273.15)+0.025*(BO6/1000) -> -11.609849 | CA6: =CC6-CB6 -> 0.65844859 | CB6: =2.19144+15305300/(BL6+273.15)/(BL6+273.15)/(BL6+273.15)-1551.42/(BL6+273.15)/(BL6+273.15)+(-25137+0.0477703*(BO6*10))/(BL6+273.15)+0.000109305*(BL6+273.15)+2.7838*LOG10(BL6+273.15) -> -10.185077 | CC6: =IF(SUM(H6:S6)<90," ",-25018.7/(BL6+273.15) + 12.981 + 0.046*(BO6*10- 1)/(BL6+273.15) + -0.5117*LN(BL6+273.15)+BW6) -> -9.5266287 | CE6: =IF(SUM(H6:S6)<90," ",EXP('eq. coef.'!$B$1156*'Amp (T-P-fO2 calculation)'!CH6+'eq. coef.'!$B$1157*'Amp (T-P-fO2 calculation)'!CL6+'eq. coef.'!$B$1158*'Amp (T-P-fO2 calculation)'!CM6+'eq. coef.'!$B$1159*'Amp (T-P-fO2 calculation)'!CO6+'eq. coef.'!$B$1160*'Amp (T-P-fO2 calculation)'!CP6+'eq. coef.'!$B$1161*'Amp (T-P-fO2 calculation)'!CQ6+'eq. coef.'!$B$1162*'Amp (T-P-fO2 calculation)'!CR6+'eq. coef.'!$B$1163*'Amp (T-P-fO2 calculation)'!CU6+'eq. coef.'!$B$1164*'Amp (T-P-fO2 calculation)'!CY6+'eq. coef.'!$B$1165*'Amp (T-P-fO2 calculation)'!CZ6)) -> 8.3082092 | CF6: =IF(SUM(H6:S6)<90," ",CE6*0.17) -> 1.4123956 | CG6: =IF(SUM(H6:S6)<90," ",AI6) -> 5.9083463 | CH6: =IF(SUM(H6:S6)<90," ",IF(AI6+AK6>8,8-AI6,AK6)) -> 2.0916537 | CI6: =IF(SUM(H6:S6)<90," ",IF(CG6+CH6<8,8-CG6-CH6,0)) -> 0 | CJ6: =IF(SUM(H6:S6)<90," ",SUM(CG6:CI6)) -> 8 | CL6: =IF(SUM(H6:S6)<90," ",AK6-CH6) -> 0.43034999 | CM6: =IF(SUM(H6:S6)<90," ",AJ6-CI6) -> 0.26313059 | CN6: =IF(SUM(H6:S6)<90," ",AL6) -> 0 | CO6: =IF(SUM(H6:S6)<90," ",IF(DG6>46,0,46-DG6)) -> 0.59161923 | CP6: =IF(SUM(H6:S6)<90," ",AO6) -> 2.1618543 | CQ6: =IF(SUM(H6:S6)<90," ",AM6-CO6) -> 1.5067938 | CR6: =IF(SUM(H6:S6)<90," ",AN6) -> 0.046252087 | CS6: =IF(SUM(H6:S6)<90," ",SUM(CL6:CR6)) -> 5 | CU6: =IF(SUM(H6:S6)<90," ",AP6) -> 1.8794599 | CV6: =IF(SUM(H6:S6)<90," ",IF(2-CU6<=AQ6,2-CU6,AQ6)) -> 0.1205401 | CW6: =IF(SUM(H6:S6)<90," ",SUM(CU6:CV6)) -> 2 | CY6: =IF(SUM(H6:S6)<90," ",AQ6-CV6) -> 0.41524683 | CZ6: =IF(SUM(H6:S6)<90," ",AR6) -> 0.24871655 | DA6: =IF(SUM(H6:S6)<90," ",SUM(CY6:CZ6)) -> 0.66396338 | DC6: =IF(SUM(H6:S6)<90," ",2-DD6-DE6) -> 1.990822 | DD6: =IF(SUM(H6:S6)<90," ",AS6) -> 0 | DE6: =IF(SUM(H6:S6)<90," ",AT6) -> 0.0091779786 | DF6: =IF(SUM(H6:S6)<90," ",SUM(DC6:DE6)) -> 2 | DG6: =IF(SUM(H6:S6)<90," ",AI6*4+AJ6*4+AK6*3+AL6*3+AM6*2+AN6*2+AO6*2+AP6*2+AQ6+AR6) -> 45.408381 | DI6: =IF(SUM(H6:S6)<90," ",CP6/(CP6+CQ6)) -> 0.58927818 | DJ6: =IF(SUM(H6:S6)<90," ",CP6/(CP6+CO6+CQ6)) -> 0.50744568 | DK6: =IF(SUM(H6:S6)<90," ",CL6/(CL6+CH6)) -> 0.17063813 | DL6: =IF(SUM(H6:S6)<90," ",CL6+CH6) -> 2.5220037
A7: DH0101 | B7: hornblende-gabbro | C7: 55 | D7: A5 | E7: Magnesio-hastingsite | F7: No | H7: 39.44 | I7: 1.808 | J7: 13.86 | K7: 0 | L7: 17.084 | M7: 0.415 | N7: 9.707 | O7: 11.405 | P7: 1.731 | Q7: 1.274 | R7: 0 | S7: 0.034 | T7: =IF(SUM(H7:S7)<90," ",SUM(H7:S7)) -> 96.758 | U7: =IF(SUM(H7:S7)<90," ",H7/stab.data!$U$7) -> 0.65641435 | V7: =IF(SUM(H7:S7)<90," ",I7/stab.data!$U$8) -> 0.022628852 | W7: =IF(SUM(H7:S7)<90," ",J7*2/stab.data!$U$9) -> 0.27186866 | X7: =IF(SUM(H7:S7)<90," ",K7*2/stab.data!$U$10) -> 0 | Y7: =IF(SUM(H7:S7)<90," ",L7/stab.data!$U$11) -> 0.23778638 | Z7: =IF(SUM(H7:S7)<90," ",M7/stab.data!$U$12) -> 0.0058502615 | AA7: =IF(SUM(H7:S7)<90," ",N7/stab.data!$U$13) -> 0.24084458 | AB7: =IF(SUM(H7:S7)<90," ",O7/stab.data!$U$14) -> 0.20337381 | AC7: =IF(SUM(H7:S7)<90," ",P7*2/stab.data!$U$15) -> 0.055857629 | AD7: =IF(SUM(H7:S7)<90," ",Q7*2/stab.data!$U$16) -> 0.027050268 | AE7: =IF(SUM(H7:S7)<90," ",R7/stab.data!$U$17) -> 0 | AF7: =IF(SUM(H7:S7)<90," ",S7/stab.data!$U$18) -> 0.00095901616 | AG7: =IF(SUM(H7:S7)<90," ",SUM(U7:AA7)) -> 1.4353931 | AH7: =IF(SUM(H7:S7)<90," ",AK7/SUM(AI7:AR7)) -> 0.15790941 | AI7: =IF(SUM(H7:S7)<90," ",U7*13/$AG7) -> 5.9449824 | AJ7: =IF(SUM(H7:S7)<90," ",V7*13/$AG7) -> 0.20494391 | AK7: =IF(SUM(H7:S7)<90," ",W7*13/$AG7) -> 2.4622472 | AL7: =IF(SUM(H7:S7)<90," ",X7*13/$AG7) -> 0 | AM7: =IF(SUM(H7:S7)<90," ",Y7*13/$AG7) -> 2.1535724 | AN7: =IF(SUM(H7:S7)<90," ",Z7*13/$AG7) -> 0.052984371 | AO7: =IF(SUM(H7:S7)<90," ",AA7*13/$AG7) -> 2.1812698 | AP7: =IF(SUM(H7:S7)<90," ",AB7*13/$AG7) -> 1.8419063 | AQ7: =IF(SUM(H7:S7)<90," ",AC7*13/$AG7) -> 0.50588873 | AR7: =IF(SUM(H7:S7)<90," ",AD7*13/$AG7) -> 0.24498759 | AS7: =IF(SUM(H7:S7)<90," ",AE7*13/$AG7) -> 0 | AT7: =IF(SUM(H7:S7)<90," ",AF7*13/$AG7) -> 0.0086855721 | AU7: =IF(SUM(H7:S7)<90," ",SUM(AI7:AR7)) -> 15.592783 | AV7: =IF(SUM(H7:S7)<90," ",(2-AS7-AT7)*AG7*17/13/2) -> 1.8689009 | AW7: =IF(SUM(H7:S7)<90," ",CO7*AG7*stab.data!$U$20/13/2) -> 7.0812147 | AX7: =IF(SUM(H7:S7)<90," ",CQ7*AG7*stab.data!$U$11/13) -> 10.712233 | AY7: =IF(SUM(H7:S7)<90," ",-(R7*0.421070639014633+S7*0.225636758525372)) -> -0.0076716498 | AZ7: =IF(SUM(H7:S7)<90," ",SUM(H7:S7)-L7+AV7+AW7+AX7+AY7) -> 99.328677 | BA7: =IF(SUM(H7:S7)<90," ",EXP('eq. coef.'!$C$104+'eq. coef.'!$C$105*'Amp (T-P-fO2 calculation)'!AI7+'eq. coef.'!$C$106*'Amp (T-P-fO2 calculation)'!AJ7+'eq. coef.'!$C$107*'Amp (T-P-fO2 calculation)'!AK7+'eq. coef.'!$C$108*'Amp (T-P-fO2 calculation)'!AM7+'eq. coef.'!$C$109*'Amp (T-P-fO2 calculation)'!AO7+'eq. coef.'!$C$110*'Amp (T-P-fO2 calculation)'!AP7+'eq. coef.'!$C$111*'Amp (T-P-fO2 calculation)'!AQ7+'eq. coef.'!$C$112*'Amp (T-P-fO2 calculation)'!AR7)) -> 660.07018 | BB7: =IF(SUM(H7:S7)<90," ",EXP('eq. coef.'!$C$176+'eq. coef.'!$C$177*'Amp (T-P-fO2 calculation)'!AI7+'eq. coef.'!$C$178*'Amp (T-P-fO2 calculation)'!AJ7+'eq. coef.'!$C$179*'Amp (T-P-fO2 calculation)'!AK7+'eq. coef.'!$C$180*'Amp (T-P-fO2 calculation)'!AM7+'eq. coef.'!$C$181*'Amp (T-P-fO2 calculation)'!AO7+'eq. coef.'!$C$182*'Amp (T-P-fO2 calculation)'!AP7+'eq. coef.'!$C$183*'Amp (T-P-fO2 calculation)'!AQ7+'eq. coef.'!$C$184*'Amp (T-P-fO2 calculation)'!AR7)) -> 535.5058 | BC7: =IF(SUM(H7:S7)<90," ",('eq. coef.'!$C$234+'eq. coef.'!$C$235*'Amp (T-P-fO2 calculation)'!AI7+'eq. coef.'!$C$236*'Amp (T-P-fO2 calculation)'!AJ7+'eq. coef.'!$C$237*'Amp (T-P-fO2 calculation)'!AK7+'eq. coef.'!$C$238*'Amp (T-P-fO2 calculation)'!AM7+'eq. coef.'!$C$239*'Amp (T-P-fO2 calculation)'!AO7+'eq. coef.'!$C$240*'Amp (T-P-fO2 calculation)'!AP7+'eq. coef.'!$C$241*'Amp (T-P-fO2 calculation)'!AQ7+'eq. coef.'!$C$242*'Amp (T-P-fO2 calculation)'!AR7)) -> 554.45008 | BD7: =IF(SUM(H7:S7)<90," ",('eq. coef.'!$C$270+'eq. coef.'!$C$271*'Amp (T-P-fO2 calculation)'!AI7+'eq. coef.'!$C$272*'Amp (T-P-fO2 calculation)'!AJ7+'eq. coef.'!$C$273*'Amp (T-P-fO2 calculation)'!AK7+'eq. coef.'!$C$274*'Amp (T-P-fO2 calculation)'!AM7+'eq. coef.'!$C$275*'Amp (T-P-fO2 calculation)'!AO7+'eq. coef.'!$C$276*'Amp (T-P-fO2 calculation)'!AP7+'eq. coef.'!$C$277*'Amp (T-P-fO2 calculation)'!AQ7+'eq. coef.'!$C$278*'Amp (T-P-fO2 calculation)'!AR7)) -> 473.65445 | BE7: =IF(SUM(H7:S7)<90," ",EXP('eq. coef.'!$C$328+'eq. coef.'!$C$329*'Amp (T-P-fO2 calculation)'!AI7+'eq. coef.'!$C$330*'Amp (T-P-fO2 calculation)'!AJ7+'eq. coef.'!$C$331*'Amp (T-P-fO2 calculation)'!AK7+'eq. coef.'!$C$332*'Amp (T-P-fO2 calculation)'!AM7+'eq. coef.'!$C$333*'Amp (T-P-fO2 calculation)'!AO7+'eq. coef.'!$C$334*'Amp (T-P-fO2 calculation)'!AP7+'eq. coef.'!$C$335*'Amp (T-P-fO2 calculation)'!AQ7+'eq. coef.'!$C$336*'Amp (T-P-fO2 calculation)'!AR7)) -> 815.76565 | BF7: =IF(SUM(H7:S7)<90," ",IF(AZ7<98.5,"low Total",IF(AZ7>102,"high Total",IF(DG7>46.5,"unbalanced",IF(CQ7<0,"unbalanced",IF(DI7<0.54,"low-Mg",IF(CU7<1.5,"low-Ca",IF(CW7<1.99,"low-B cations",IF(CU7>2.05,"high-Ca",IF(DK7>0.25,"high-Al#",IF(H7<38.8-0.42,"low-SiO2",IF(H7>49.8,"high-SiO2",IF(CI7>0.06+0.06*0.2,"high-[4]Ti",IF(CL7>0.57+0.57*0.074,"high-[6]Al",IF(CM7>0.7+0.7*0.07,"high-[6]Ti",IF(CN7>0.04+0.04*0.1,"high-Cr2O3",IF(CO7>1.37+1.37*0.28,"high-Fe3+",IF(N7<9.71-0.35,"low-MgO",IF(N7>18.01+0.35,"high-MgO",IF(CQ7>1.69+1.69*0.28,"high-Fe2+",IF(M7>0.58+0.58*0.3,"high-MnO",IF(O7>12.35+0.25,"high-CaO",IF(CY7<0,"low-ANa",IF(CY7>0.58+0.58*0.11,"high-ANa",IF(Q7<0,"low-K2O",IF(Q7>2.03+0.05,"high-K2O",IF(DA7<0.03-0.03*0.3,"low-A(Na+K)",IF(DA7>1,"high-A(Na+K)",IF(J7<6.5,"low-Al2O3",IF(J7>15.9+0.36,"high-Al2O3",IF(I7<1.1-0.2,"low-TiO2",IF(L7<5.85-0.44,"low-FeO",IF(L7>16.92+0.44,"high-FeO",IF(P7<1.07-0.1,"low-Na2O",IF(P7>3.05+0.1,"high-Na2O","ok"))))))))))))))))))))))))))))))))))) -> ok | BG7: =IF(SUM(H7:S7)<90," ",IF(DI7<0.54,"low-Mg",IF(CU7<1.5,"low-Ca",IF(CW7<1.99,"low-B cations",IF(CU7>2.05,"high-Ca",IF(DK7>0.24,"high-Al#",IF(H7<39.2-0.42,"low-SiO2",IF(H7>46.2+0.42,"high-SiO2",IF(CI7>0.06+0.06*0.2,"high-[4]Ti",IF(CL7>0.48+0.48*0.074,"high-[6]Al",IF(CM7>0.66+0.66*0.07,"high-[6]Ti",IF(CN7>0.04+0.04*0.1,"high-Cr2O3",IF(CO7>1.25+1.25*0.28,"high-Fe3+",IF(N7<9.71-0.35,"low-MgO",IF(N7>16.7+0.35,"high-MgO",IF(CQ7>1.69+1.69*0.28,"high-Fe2+",IF(M7>0.32+0.32*0.3,"high-MnO",IF(O7>12.35+0.25,"high-CaO",IF(CY7<0.1,"low-ANa",IF(CY7>0.57+0.57*0.11,"high-ANa",IF(Q7<0,"low-K2O",IF(Q7>1.3+0.05,"high-K2O",IF(DA7<0.17-0.17*0.3,"low-A(Na+K)",IF(DA7>0.9,"high-A(Na+K)",IF(J7<8.5,"low-Al2O3",IF(J7>14.6+0.4,"high-Al2O3",IF(I7<1.3-0.2,"low-TiO2",IF(L7<8.7-0.44,"low-FeO",IF(L7>16.92+0.44,"high-FeO",IF(P7<1.6-0.1,"low-Na2O",IF(P7>2.65+0.1,"high-Na2O","ok"))))))))))))))))))))))))))))))) -> ok | BH7: =IF(SUM(H7:S7)<90," ",IF(DI7<0.54,"low-Mg",IF(CU7<1.5,"low-Ca",IF(CW7<1.99,"low-B cations",IF(CU7>2.05,"high-Ca",IF(DK7>0.24,"high-Al#",IF(H7<38.8-0.42,"low-SiO2",IF(H7>47.9+0.42,"high-SiO2",IF(CI7>0.06+0.06*0.2,"high-[4]Ti",IF(CL7>0.55+0.55*0.074,"high-[6]Al",IF(CM7>0.7+0.7*0.07,"high-[6]Ti",IF(CN7>0.03+0.03*0.1,"high-Cr2O3",IF(CO7>1.37+1.37*0.28,"high-Fe3+",IF(N7<9.71-0.35,"low-MgO",IF(N7>18+0.35,"high-MgO",IF(CQ7>1.69+1.69*0.28,"high-Fe2+",IF(M7>0.58+0.58*0.3,"high-MnO",IF(O7>12.35+0.25,"high-CaO",IF(CY7<0,"low-ANa",IF(CY7>0.58+0.58*0.11,"high-ANa",IF(Q7<0,"low-K2O",IF(Q7>2+0.05,"high-K2O",IF(DA7<0.07-0.07*0.3,"low-A(Na+K)",IF(DA7>0.9,"high-A(Na+K)",IF(J7<6.5,"low-Al2O3",IF(J7>15.9+0.4,"high-Al2O3",IF(I7<1.1-0.2,"low-TiO2",IF(L7<5.9-0.44,"low-FeO",IF(L7>16.92+0.44,"high-FeO",IF(P7<1.28-0.1,"low-Na2O",IF(P7>2.9+0.1,"high-Na2O","ok"))))))))))))))))))))))))))))))) -> ok | BI7: =IF(SUM(H7:S7)<90," ",ABS(BA7-BO7)/(BA7+BO7)*200) -> 17.392892 | BJ7: =IF(SUM(H7:S7)<90," ",(BA7-BE7)/BA7) -> -0.23587715 | BK7: =IF(SUM(H7:S7)<90," ",BD7-BB7) -> -61.851346 | BL7: =IF(SUM(H7:S7)<90," ",'eq. coef.'!$C$360+'eq. coef.'!$C$361*'Amp (T-P-fO2 calculation)'!AI7+'eq. coef.'!$C$362*'Amp (T-P-fO2 calculation)'!AJ7+'eq. coef.'!$C$363*'Amp (T-P-fO2 calculation)'!AK7+'eq. coef.'!$C$364*'Amp (T-P-fO2 calculation)'!AM7+'eq. coef.'!$C$365*'Amp (T-P-fO2 calculation)'!AO7+'eq. coef.'!$C$366*'Amp (T-P-fO2 calculation)'!AP7+'eq. coef.'!$C$367*'Amp (T-P-fO2 calculation)'!AQ7+'eq. coef.'!$C$368*'Amp (T-P-fO2 calculation)'!AR7+'eq. coef.'!$C$369*LN(BO7)) -> 895.3516 | BM7: =IF(SUM(H7:S7)<90," ",22) -> 22 | BN7: =IF(SUM(H7:S7)<90," ",BM7^2) -> 484 | BO7: =IF(SUM(H7:S7)<90," ",IF(BB7<335,BB7,IF(BB7<399,AVERAGE(BB7:BC7),IF(BC7<415,BC7,IF(BD7<470,BC7,IF(BJ7>0.22,AVERAGE(BC7:BD7),IF(BK7>350,BE7,IF(BK7>210,BD7,IF(BK7<75,BC7,IF(BJ7<-0.2,AVERAGE(BB7:BC7),IF(BJ7>0.05,AVERAGE(BC7:BD7),BA7))))))))))) -> 554.45008 | BP7: =IF(SUM(H7:S7)<90," ",IF(BO7=BA7,"P1a",IF(BO7=BB7,"P1b",IF(BO7=BC7,"P1c",IF(BO7=BD7,"P1d",IF(BO7=BE7,"P1e",IF(BO7=AVERAGE(BB7:BC7),"P1b_c","P1c_d"))))))) -> P1c | BR7: =ABS(BQ7) -> 0 | BS7: =BQ7^2 -> 0 | BT7: =IF(SUM(H7:S7)<90," ",BO7*0.12) -> 66.534009 | BU7: =(-4.76+5.6*DL7)*100 -> 902.85841 | BV7: =2400/(1.52-LOG10(CM7))-273 -> 813.77688 | BW7: =IF(SUM(H7:S7)<90," ",'eq. coef.'!$B$1128*'Amp (T-P-fO2 calculation)'!CH7+'eq. coef.'!$B$1129*'Amp (T-P-fO2 calculation)'!CL7+'eq. coef.'!$B$1130*'Amp (T-P-fO2 calculation)'!CM7+'eq. coef.'!$B$1131*'Amp (T-P-fO2 calculation)'!CO7+'eq. coef.'!$B$1132*'Amp (T-P-fO2 calculation)'!CP7+'eq. coef.'!$B$1133*'Amp (T-P-fO2 calculation)'!CQ7+'eq. coef.'!$B$1134*'Amp (T-P-fO2 calculation)'!CR7+'eq. coef.'!$B$1135*'Amp (T-P-fO2 calculation)'!CU7+'eq. coef.'!$B$1135*'Amp (T-P-fO2 calculation)'!CY7+'eq. coef.'!$B$1137*'Amp (T-P-fO2 calculation)'!CZ7) -> 2.4459289 | BX7: =IF(SUM(H7:S7)<90," ",0.4) -> 0.4 | BZ7: =12.78-25073/(BL7+273.15)-1.1*LOG10(BL7+273.15)+450*(BO7/1000)/(BL7+273.15)+0.025*(BO7/1000) -> -11.824402 | CA7: =CC7-CB7 -> 1.0380626 | CB7: =2.19144+15305300/(BL7+273.15)/(BL7+273.15)/(BL7+273.15)-1551.42/(BL7+273.15)/(BL7+273.15)+(-25137+0.0477703*(BO7*10))/(BL7+273.15)+0.000109305*(BL7+273.15)+2.7838*LOG10(BL7+273.15) -> -10.418211 | CC7: =IF(SUM(H7:S7)<90," ",-25018.7/(BL7+273.15) + 12.981 + 0.046*(BO7*10- 1)/(BL7+273.15) + -0.5117*LN(BL7+273.15)+BW7) -> -9.3801483 | CE7: =IF(SUM(H7:S7)<90," ",EXP('eq. coef.'!$B$1156*'Amp (T-P-fO2 calculation)'!CH7+'eq. coef.'!$B$1157*'Amp (T-P-fO2 calculation)'!CL7+'eq. coef.'!$B$1158*'Amp (T-P-fO2 calculation)'!CM7+'eq. coef.'!$B$1159*'Amp (T-P-fO2 calculation)'!CO7+'eq. coef.'!$B$1160*'Amp (T-P-fO2 calculation)'!CP7+'eq. coef.'!$B$1161*'Amp (T-P-fO2 calculation)'!CQ7+'eq. coef.'!$B$1162*'Amp (T-P-fO2 calculation)'!CR7+'eq. coef.'!$B$1163*'Amp (T-P-fO2 calculation)'!CU7+'eq. coef.'!$B$1164*'Amp (T-P-fO2 calculation)'!CY7+'eq. coef.'!$B$1165*'Amp (T-P-fO2 calculation)'!CZ7)) -> 8.5123479 | CF7: =IF(SUM(H7:S7)<90," ",CE7*0.17) -> 1.4470991 | CG7: =IF(SUM(H7:S7)<90," ",AI7) -> 5.9449824 | CH7: =IF(SUM(H7:S7)<90," ",IF(AI7+AK7>8,8-AI7,AK7)) -> 2.0550176 | CI7: =IF(SUM(H7:S7)<90," ",IF(CG7+CH7<8,8-CG7-CH7,0)) -> 0 | CJ7: =IF(SUM(H7:S7)<90," ",SUM(CG7:CI7)) -> 8 | CL7: =IF(SUM(H7:S7)<90," ",AK7-CH7) -> 0.40722955 | CM7: =IF(SUM(H7:S7)<90," ",AJ7-CI7) -> 0.20494391 | CN7: =IF(SUM(H7:S7)<90," ",AL7) -> 0 | CO7: =IF(SUM(H7:S7)<90," ",IF(DG7>46,0,46-DG7)) -> 0.80321132 | CP7: =IF(SUM(H7:S7)<90," ",AO7) -> 2.1812698 | CQ7: =IF(SUM(H7:S7)<90," ",AM7-CO7) -> 1.3503611 | CR7: =IF(SUM(H7:S7)<90," ",AN7) -> 0.052984371 | CS7: =IF(SUM(H7:S7)<90," ",SUM(CL7:CR7)) -> 5 | CU7: =IF(SUM(H7:S7)<90," ",AP7) -> 1.8419063 | CV7: =IF(SUM(H7:S7)<90," ",IF(2-CU7<=AQ7,2-CU7,AQ7)) -> 0.1580937 | CW7: =IF(SUM(H7:S7)<90," ",SUM(CU7:CV7)) -> 2 | CY7: =IF(SUM(H7:S7)<90," ",AQ7-CV7) -> 0.34779503 | CZ7: =IF(SUM(H7:S7)<90," ",AR7) -> 0.24498759 | DA7: =IF(SUM(H7:S7)<90," ",SUM(CY7:CZ7)) -> 0.59278261 | DC7: =IF(SUM(H7:S7)<90," ",2-DD7-DE7) -> 1.9913144 | DD7: =IF(SUM(H7:S7)<90," ",AS7) -> 0 | DE7: =IF(SUM(H7:S7)<90," ",AT7) -> 0.0086855721 | DF7: =IF(SUM(H7:S7)<90," ",SUM(DC7:DE7)) -> 2 | DG7: =IF(SUM(H7:S7)<90," ",AI7*4+AJ7*4+AK7*3+AL7*3+AM7*2+AN7*2+AO7*2+AP7*2+AQ7+AR7) -> 45.196789 | DI7: =IF(SUM(H7:S7)<90," ",CP7/(CP7+CQ7)) -> 0.6176381 | DJ7: =IF(SUM(H7:S7)<90," ",CP7/(CP7+CO7+CQ7)) -> 0.50319474 | DK7: =IF(SUM(H7:S7)<90," ",CL7/(CL7+CH7)) -> 0.16538939 | DL7: =IF(SUM(H7:S7)<90," ",CL7+CH7) -> 2.4622472
A8: DH0101 | B8: hornblendite | C8: 99 | D8: A10 | E8: Magnesio-hastingsite | F8: No | H8: 41.081 | I8: 1.494 | J8: 12.796 | K8: 0.032 | L8: 14.732 | M8: 0.326 | N8: 11.555 | O8: 11.726 | P8: 1.916 | Q8: 1.191 | R8: 0 | S8: 0.029 | T8: =IF(SUM(H8:S8)<90," ",SUM(H8:S8)) -> 96.878 | U8: =IF(SUM(H8:S8)<90," ",H8/stab.data!$U$7) -> 0.68372612 | V8: =IF(SUM(H8:S8)<90," ",I8/stab.data!$U$8) -> 0.018698841 | W8: =IF(SUM(H8:S8)<90," ",J8*2/stab.data!$U$9) -> 0.25099793 | X8: =IF(SUM(H8:S8)<90," ",K8*2/stab.data!$U$10) -> 0.00042107978 | Y8: =IF(SUM(H8:S8)<90," ",L8/stab.data!$U$11) -> 0.20504969 | Z8: =IF(SUM(H8:S8)<90," ",M8/stab.data!$U$12) -> 0.0045956271 | AA8: =IF(SUM(H8:S8)<90," ",N8/stab.data!$U$13) -> 0.28669611 | AB8: =IF(SUM(H8:S8)<90," ",O8/stab.data!$U$14) -> 0.20909788 | AC8: =IF(SUM(H8:S8)<90," ",P8*2/stab.data!$U$15) -> 0.061827393 | AD8: =IF(SUM(H8:S8)<90," ",Q8*2/stab.data!$U$16) -> 0.025287966 | AE8: =IF(SUM(H8:S8)<90," ",R8/stab.data!$U$17) -> 0 | AF8: =IF(SUM(H8:S8)<90," ",S8/stab.data!$U$18) -> 0.00081798437 | AG8: =IF(SUM(H8:S8)<90," ",SUM(U8:AA8)) -> 1.4501854 | AH8: =IF(SUM(H8:S8)<90," ",AK8/SUM(AI8:AR8)) -> 0.14372316 | AI8: =IF(SUM(H8:S8)<90," ",U8*13/$AG8) -> 6.1291746 | AJ8: =IF(SUM(H8:S8)<90," ",V8*13/$AG8) -> 0.16762335 | AK8: =IF(SUM(H8:S8)<90," ",W8*13/$AG8) -> 2.2500386 | AL8: =IF(SUM(H8:S8)<90," ",X8*13/$AG8) -> 0.0037747154 | AM8: =IF(SUM(H8:S8)<90," ",Y8*13/$AG8) -> 1.8381415 | AN8: =IF(SUM(H8:S8)<90," ",Z8*13/$AG8) -> 0.041196907 | AO8: =IF(SUM(H8:S8)<90," ",AA8*13/$AG8) -> 2.5700503 | AP8: =IF(SUM(H8:S8)<90," ",AB8*13/$AG8) -> 1.874431 | AQ8: =IF(SUM(H8:S8)<90," ",AC8*13/$AG8) -> 0.55424369 | AR8: =IF(SUM(H8:S8)<90," ",AD8*13/$AG8) -> 0.22669071 | AS8: =IF(SUM(H8:S8)<90," ",AE8*13/$AG8) -> 0 | AT8: =IF(SUM(H8:S8)<90," ",AF8*13/$AG8) -> 0.0073327155 | AU8: =IF(SUM(H8:S8)<90," ",SUM(AI8:AR8)) -> 15.655365 | AV8: =IF(SUM(H8:S8)<90," ",(2-AS8-AT8)*AG8*17/13/2) -> 1.8894434 | AW8: =IF(SUM(H8:S8)<90," ",CO8*AG8*stab.data!$U$20/13/2) -> 5.5472188 | AX8: =IF(SUM(H8:S8)<90," ",CQ8*AG8*stab.data!$U$11/13) -> 9.7405417 | AY8: =IF(SUM(H8:S8)<90," ",-(R8*0.421070639014633+S8*0.225636758525372)) -> -0.006543466 | AZ8: =IF(SUM(H8:S8)<90," ",SUM(H8:S8)-L8+AV8+AW8+AX8+AY8) -> 99.31666 | BA8: =IF(SUM(H8:S8)<90," ",EXP('eq. coef.'!$C$104+'eq. coef.'!$C$105*'Amp (T-P-fO2 calculation)'!AI8+'eq. coef.'!$C$106*'Amp (T-P-fO2 calculation)'!AJ8+'eq. coef.'!$C$107*'Amp (T-P-fO2 calculation)'!AK8+'eq. coef.'!$C$108*'Amp (T-P-fO2 calculation)'!AM8+'eq. coef.'!$C$109*'Amp (T-P-fO2 calculation)'!AO8+'eq. coef.'!$C$110*'Amp (T-P-fO2 calculation)'!AP8+'eq. coef.'!$C$111*'Amp (T-P-fO2 calculation)'!AQ8+'eq. coef.'!$C$112*'Amp (T-P-fO2 calculation)'!AR8)) -> 572.32761 | BB8: =IF(SUM(H8:S8)<90," ",EXP('eq. coef.'!$C$176+'eq. coef.'!$C$177*'Amp (T-P-fO2 calculation)'!AI8+'eq. coef.'!$C$178*'Amp (T-P-fO2 calculation)'!AJ8+'eq. coef.'!$C$179*'Amp (T-P-fO2 calculation)'!AK8+'eq. coef.'!$C$180*'Amp (T-P-fO2 calculation)'!AM8+'eq. coef.'!$C$181*'Amp (T-P-fO2 calculation)'!AO8+'eq. coef.'!$C$182*'Amp (T-P-fO2 calculation)'!AP8+'eq. coef.'!$C$183*'Amp (T-P-fO2 calculation)'!AQ8+'eq. coef.'!$C$184*'Amp (T-P-fO2 calculation)'!AR8)) -> 413.47394 | BC8: =IF(SUM(H8:S8)<90," ",('eq. coef.'!$C$234+'eq. coef.'!$C$235*'Amp (T-P-fO2 calculation)'!AI8+'eq. coef.'!$C$236*'Amp (T-P-fO2 calculation)'!AJ8+'eq. coef.'!$C$237*'Amp (T-P-fO2 calculation)'!AK8+'eq. coef.'!$C$238*'Amp (T-P-fO2 calculation)'!AM8+'eq. coef.'!$C$239*'Amp (T-P-fO2 calculation)'!AO8+'eq. coef.'!$C$240*'Amp (T-P-fO2 calculation)'!AP8+'eq. coef.'!$C$241*'Amp (T-P-fO2 calculation)'!AQ8+'eq. coef.'!$C$242*'Amp (T-P-fO2 calculation)'!AR8)) -> 468.27827 | BD8: =IF(SUM(H8:S8)<90," ",('eq. coef.'!$C$270+'eq. coef.'!$C$271*'Amp (T-P-fO2 calculation)'!AI8+'eq. coef.'!$C$272*'Amp (T-P-fO2 calculation)'!AJ8+'eq. coef.'!$C$273*'Amp (T-P-fO2 calculation)'!AK8+'eq. coef.'!$C$274*'Amp (T-P-fO2 calculation)'!AM8+'eq. coef.'!$C$275*'Amp (T-P-fO2 calculation)'!AO8+'eq. coef.'!$C$276*'Amp (T-P-fO2 calculation)'!AP8+'eq. coef.'!$C$277*'Amp (T-P-fO2 calculation)'!AQ8+'eq. coef.'!$C$278*'Amp (T-P-fO2 calculation)'!AR8)) -> 543.92432 | BE8: =IF(SUM(H8:S8)<90," ",EXP('eq. coef.'!$C$328+'eq. coef.'!$C$329*'Amp (T-P-fO2 calculation)'!AI8+'eq. coef.'!$C$330*'Amp (T-P-fO2 calculation)'!AJ8+'eq. coef.'!$C$331*'Amp (T-P-fO2 calculation)'!AK8+'eq. coef.'!$C$332*'Amp (T-P-fO2 calculation)'!AM8+'eq. coef.'!$C$333*'Amp (T-P-fO2 calculation)'!AO8+'eq. coef.'!$C$334*'Amp (T-P-fO2 calculation)'!AP8+'eq. coef.'!$C$335*'Amp (T-P-fO2 calculation)'!AQ8+'eq. coef.'!$C$336*'Amp (T-P-fO2 calculation)'!AR8)) -> 967.56525 | BF8: =IF(SUM(H8:S8)<90," ",IF(AZ8<98.5,"low Total",IF(AZ8>102,"high Total",IF(DG8>46.5,"unbalanced",IF(CQ8<0,"unbalanced",IF(DI8<0.54,"low-Mg",IF(CU8<1.5,"low-Ca",IF(CW8<1.99,"low-B cations",IF(CU8>2.05,"high-Ca",IF(DK8>0.25,"high-Al#",IF(H8<38.8-0.42,"low-SiO2",IF(H8>49.8,"high-SiO2",IF(CI8>0.06+0.06*0.2,"high-[4]Ti",IF(CL8>0.57+0.57*0.074,"high-[6]Al",IF(CM8>0.7+0.7*0.07,"high-[6]Ti",IF(CN8>0.04+0.04*0.1,"high-Cr2O3",IF(CO8>1.37+1.37*0.28,"high-Fe3+",IF(N8<9.71-0.35,"low-MgO",IF(N8>18.01+0.35,"high-MgO",IF(CQ8>1.69+1.69*0.28,"high-Fe2+",IF(M8>0.58+0.58*0.3,"high-MnO",IF(O8>12.35+0.25,"high-CaO",IF(CY8<0,"low-ANa",IF(CY8>0.58+0.58*0.11,"high-ANa",IF(Q8<0,"low-K2O",IF(Q8>2.03+0.05,"high-K2O",IF(DA8<0.03-0.03*0.3,"low-A(Na+K)",IF(DA8>1,"high-A(Na+K)",IF(J8<6.5,"low-Al2O3",IF(J8>15.9+0.36,"high-Al2O3",IF(I8<1.1-0.2,"low-TiO2",IF(L8<5.85-0.44,"low-FeO",IF(L8>16.92+0.44,"high-FeO",IF(P8<1.07-0.1,"low-Na2O",IF(P8>3.05+0.1,"high-Na2O","ok"))))))))))))))))))))))))))))))))))) -> ok | BG8: =IF(SUM(H8:S8)<90," ",IF(DI8<0.54,"low-Mg",IF(CU8<1.5,"low-Ca",IF(CW8<1.99,"low-B cations",IF(CU8>2.05,"high-Ca",IF(DK8>0.24,"high-Al#",IF(H8<39.2-0.42,"low-SiO2",IF(H8>46.2+0.42,"high-SiO2",IF(CI8>0.06+0.06*0.2,"high-[4]Ti",IF(CL8>0.48+0.48*0.074,"high-[6]Al",IF(CM8>0.66+0.66*0.07,"high-[6]Ti",IF(CN8>0.04+0.04*0.1,"high-Cr2O3",IF(CO8>1.25+1.25*0.28,"high-Fe3+",IF(N8<9.71-0.35,"low-MgO",IF(N8>16.7+0.35,"high-MgO",IF(CQ8>1.69+1.69*0.28,"high-Fe2+",IF(M8>0.32+0.32*0.3,"high-MnO",IF(O8>12.35+0.25,"high-CaO",IF(CY8<0.1,"low-ANa",IF(CY8>0.57+0.57*0.11,"high-ANa",IF(Q8<0,"low-K2O",IF(Q8>1.3+0.05,"high-K2O",IF(DA8<0.17-0.17*0.3,"low-A(Na+K)",IF(DA8>0.9,"high-A(Na+K)",IF(J8<8.5,"low-Al2O3",IF(J8>14.6+0.4,"high-Al2O3",IF(I8<1.3-0.2,"low-TiO2",IF(L8<8.7-0.44,"low-FeO",IF(L8>16.92+0.44,"high-FeO",IF(P8<1.6-0.1,"low-Na2O",IF(P8>2.65+0.1,"high-Na2O","ok"))))))))))))))))))))))))))))))) -> ok | BH8: =IF(SUM(H8:S8)<90," ",IF(DI8<0.54,"low-Mg",IF(CU8<1.5,"low-Ca",IF(CW8<1.99,"low-B cations",IF(CU8>2.05,"high-Ca",IF(DK8>0.24,"high-Al#",IF(H8<38.8-0.42,"low-SiO2",IF(H8>47.9+0.42,"high-SiO2",IF(CI8>0.06+0.06*0.2,"high-[4]Ti",IF(CL8>0.55+0.55*0.074,"high-[6]Al",IF(CM8>0.7+0.7*0.07,"high-[6]Ti",IF(CN8>0.03+0.03*0.1,"high-Cr2O3",IF(CO8>1.37+1.37*0.28,"high-Fe3+",IF(N8<9.71-0.35,"low-MgO",IF(N8>18+0.35,"high-MgO",IF(CQ8>1.69+1.69*0.28,"high-Fe2+",IF(M8>0.58+0.58*0.3,"high-MnO",IF(O8>12.35+0.25,"high-CaO",IF(CY8<0,"low-ANa",IF(CY8>0.58+0.58*0.11,"high-ANa",IF(Q8<0,"low-K2O",IF(Q8>2+0.05,"high-K2O",IF(DA8<0.07-0.07*0.3,"low-A(Na+K)",IF(DA8>0.9,"high-A(Na+K)",IF(J8<6.5,"low-Al2O3",IF(J8>15.9+0.4,"high-Al2O3",IF(I8<1.1-0.2,"low-TiO2",IF(L8<5.9-0.44,"low-FeO",IF(L8>16.92+0.44,"high-FeO",IF(P8<1.28-0.1,"low-Na2O",IF(P8>2.9+0.1,"high-Na2O","ok"))))))))))))))))))))))))))))))) -> ok | BI8: =IF(SUM(H8:S8)<90," ",ABS(BA8-BO8)/(BA8+BO8)*200) -> 25.947694 | BJ8: =IF(SUM(H8:S8)<90," ",(BA8-BE8)/BA8) -> -0.69057938 | BK8: =IF(SUM(H8:S8)<90," ",BD8-BB8) -> 130.45038 | BL8: =IF(SUM(H8:S8)<90," ",'eq. coef.'!$C$360+'eq. coef.'!$C$361*'Amp (T-P-fO2 calculation)'!AI8+'eq. coef.'!$C$362*'Amp (T-P-fO2 calculation)'!AJ8+'eq. coef.'!$C$363*'Amp (T-P-fO2 calculation)'!AK8+'eq. coef.'!$C$364*'Amp (T-P-fO2 calculation)'!AM8+'eq. coef.'!$C$365*'Amp (T-P-fO2 calculation)'!AO8+'eq. coef.'!$C$366*'Amp (T-P-fO2 calculation)'!AP8+'eq. coef.'!$C$367*'Amp (T-P-fO2 calculation)'!AQ8+'eq. coef.'!$C$368*'Amp (T-P-fO2 calculation)'!AR8+'eq. coef.'!$C$369*LN(BO8)) -> 884.59421 | BM8: =IF(SUM(H8:S8)<90," ",22) -> 22 | BN8: =IF(SUM(H8:S8)<90," ",BM8^2) -> 484 | BO8: =IF(SUM(H8:S8)<90," ",IF(BB8<335,BB8,IF(BB8<399,AVERAGE(BB8:BC8),IF(BC8<415,BC8,IF(BD8<470,BC8,IF(BJ8>0.22,AVERAGE(BC8:BD8),IF(BK8>350,BE8,IF(BK8>210,BD8,IF(BK8<75,BC8,IF(BJ8<-0.2,AVERAGE(BB8:BC8),IF(BJ8>0.05,AVERAGE(BC8:BD8),BA8))))))))))) -> 440.87611 | BP8: =IF(SUM(H8:S8)<90," ",IF(BO8=BA8,"P1a",IF(BO8=BB8,"P1b",IF(BO8=BC8,"P1c",IF(BO8=BD8,"P1d",IF(BO8=BE8,"P1e",IF(BO8=AVERAGE(BB8:BC8),"P1b_c","P1c_d"))))))) -> P1b_c | BR8: =ABS(BQ8) -> 0 | BS8: =BQ8^2 -> 0 | BT8: =IF(SUM(H8:S8)<90," ",BO8*0.12) -> 52.905133 | BU8: =(-4.76+5.6*DL8)*100 -> 784.02161 | BV8: =2400/(1.52-LOG10(CM8))-273 -> 772.44848 | BW8: =IF(SUM(H8:S8)<90," ",'eq. coef.'!$B$1128*'Amp (T-P-fO2 calculation)'!CH8+'eq. coef.'!$B$1129*'Amp (T-P-fO2 calculation)'!CL8+'eq. coef.'!$B$1130*'Amp (T-P-fO2 calculation)'!CM8+'eq. coef.'!$B$1131*'Amp (T-P-fO2 calculation)'!CO8+'eq. coef.'!$B$1132*'Amp (T-P-fO2 calculation)'!CP8+'eq. coef.'!$B$1133*'Amp (T-P-fO2 calculation)'!CQ8+'eq. coef.'!$B$1134*'Amp (T-P-fO2 calculation)'!CR8+'eq. coef.'!$B$1135*'Amp (T-P-fO2 calculation)'!CU8+'eq. coef.'!$B$1135*'Amp (T-P-fO2 calculation)'!CY8+'eq. coef.'!$B$1137*'Amp (T-P-fO2 calculation)'!CZ8) -> 3.3473285 | BX8: =IF(SUM(H8:S8)<90," ",0.4) -> 0.4 | BZ8: =12.78-25073/(BL8+273.15)-1.1*LOG10(BL8+273.15)+450*(BO8/1000)/(BL8+273.15)+0.025*(BO8/1000) -> -12.064359 | CA8: =CC8-CB8 -> 1.9589025 | CB8: =2.19144+15305300/(BL8+273.15)/(BL8+273.15)/(BL8+273.15)-1551.42/(BL8+273.15)/(BL8+273.15)+(-25137+0.0477703*(BO8*10))/(BL8+273.15)+0.000109305*(BL8+273.15)+2.7838*LOG10(BL8+273.15) -> -10.67496 | CC8: =IF(SUM(H8:S8)<90," ",-25018.7/(BL8+273.15) + 12.981 + 0.046*(BO8*10- 1)/(BL8+273.15) + -0.5117*LN(BL8+273.15)+BW8) -> -8.7160576 | CE8: =IF(SUM(H8:S8)<90," ",EXP('eq. coef.'!$B$1156*'Amp (T-P-fO2 calculation)'!CH8+'eq. coef.'!$B$1157*'Amp (T-P-fO2 calculation)'!CL8+'eq. coef.'!$B$1158*'Amp (T-P-fO2 calculation)'!CM8+'eq. coef.'!$B$1159*'Amp (T-P-fO2 calculation)'!CO8+'eq. coef.'!$B$1160*'Amp (T-P-fO2 calculation)'!CP8+'eq. coef.'!$B$1161*'Amp (T-P-fO2 calculation)'!CQ8+'eq. coef.'!$B$1162*'Amp (T-P-fO2 calculation)'!CR8+'eq. coef.'!$B$1163*'Amp (T-P-fO2 calculation)'!CU8+'eq. coef.'!$B$1164*'Amp (T-P-fO2 calculation)'!CY8+'eq. coef.'!$B$1165*'Amp (T-P-fO2 calculation)'!CZ8)) -> 8.4687821 | CF8: =IF(SUM(H8:S8)<90," ",CE8*0.17) -> 1.439693 | CG8: =IF(SUM(H8:S8)<90," ",AI8) -> 6.1291746 | CH8: =IF(SUM(H8:S8)<90," ",IF(AI8+AK8>8,8-AI8,AK8)) -> 1.8708254 | CI8: =IF(SUM(H8:S8)<90," ",IF(CG8+CH8<8,8-CG8-CH8,0)) -> 0 | CJ8: =IF(SUM(H8:S8)<90," ",SUM(CG8:CI8)) -> 8 | CL8: =IF(SUM(H8:S8)<90," ",AK8-CH8) -> 0.37921321 | CM8: =IF(SUM(H8:S8)<90," ",AJ8-CI8) -> 0.16762335 | CN8: =IF(SUM(H8:S8)<90," ",AL8) -> 0.0037747154 | CO8: =IF(SUM(H8:S8)<90," ",IF(DG8>46,0,46-DG8)) -> 0.62279437 | CP8: =IF(SUM(H8:S8)<90," ",AO8) -> 2.5700503 | CQ8: =IF(SUM(H8:S8)<90," ",AM8-CO8) -> 1.2153471 | CR8: =IF(SUM(H8:S8)<90," ",AN8) -> 0.041196907 | CS8: =IF(SUM(H8:S8)<90," ",SUM(CL8:CR8)) -> 5 | CU8: =IF(SUM(H8:S8)<90," ",AP8) -> 1.874431 | CV8: =IF(SUM(H8:S8)<90," ",IF(2-CU8<=AQ8,2-CU8,AQ8)) -> 0.12556902 | CW8: =IF(SUM(H8:S8)<90," ",SUM(CU8:CV8)) -> 2 | CY8: =IF(SUM(H8:S8)<90," ",AQ8-CV8) -> 0.42867468 | CZ8: =IF(SUM(H8:S8)<90," ",AR8) -> 0.22669071 | DA8: =IF(SUM(H8:S8)<90," ",SUM(CY8:CZ8)) -> 0.65536539 | DC8: =IF(SUM(H8:S8)<90," ",2-DD8-DE8) -> 1.9926673 | DD8: =IF(SUM(H8:S8)<90," ",AS8) -> 0 | DE8: =IF(SUM(H8:S8)<90," ",AT8) -> 0.0073327155 | DF8: =IF(SUM(H8:S8)<90," ",SUM(DC8:DE8)) -> 2 | DG8: =IF(SUM(H8:S8)<90," ",AI8*4+AJ8*4+AK8*3+AL8*3+AM8*2+AN8*2+AO8*2+AP8*2+AQ8+AR8) -> 45.377206 | DI8: =IF(SUM(H8:S8)<90," ",CP8/(CP8+CQ8)) -> 0.67893804 | DJ8: =IF(SUM(H8:S8)<90," ",CP8/(CP8+CO8+CQ8)) -> 0.5830169 | DK8: =IF(SUM(H8:S8)<90," ",CL8/(CL8+CH8)) -> 0.16853631 | DL8: =IF(SUM(H8:S8)<90," ",CL8+CH8) -> 2.2500386
A9: DH0101 | B9: hornblendite | C9: 99 | D9: A10 | E9: Magnesio-hastingsite | F9: No | H9: 41.091 | I9: 1.543 | J9: 12.618 | K9: 0.008 | L9: 14.746 | M9: 0.328 | N9: 11.717 | O9: 11.813 | P9: 1.813 | Q9: 1.256 | R9: 0 | S9: 0.035 | T9: =IF(SUM(H9:S9)<90," ",SUM(H9:S9)) -> 96.968 | U9: =IF(SUM(H9:S9)<90," ",H9/stab.data!$U$7) -> 0.68389255 | V9: =IF(SUM(H9:S9)<90," ",I9/stab.data!$U$8) -> 0.019312123 | W9: =IF(SUM(H9:S9)<90," ",J9*2/stab.data!$U$9) -> 0.2475064 | X9: =IF(SUM(H9:S9)<90," ",K9*2/stab.data!$U$10) -> 0.00010526995 | Y9: =IF(SUM(H9:S9)<90," ",L9/stab.data!$U$11) -> 0.20524455 | Z9: =IF(SUM(H9:S9)<90," ",M9/stab.data!$U$12) -> 0.0046238211 | AA9: =IF(SUM(H9:S9)<90," ",N9/stab.data!$U$13) -> 0.29071556 | AB9: =IF(SUM(H9:S9)<90," ",O9/stab.data!$U$14) -> 0.21064926 | AC9: =IF(SUM(H9:S9)<90," ",P9*2/stab.data!$U$15) -> 0.058503687 | AD9: =IF(SUM(H9:S9)<90," ",Q9*2/stab.data!$U$16) -> 0.026668082 | AE9: =IF(SUM(H9:S9)<90," ",R9/stab.data!$U$17) -> 0 | AF9: =IF(SUM(H9:S9)<90," ",S9/stab.data!$U$18) -> 0.00098722252 | AG9: =IF(SUM(H9:S9)<90," ",SUM(U9:AA9)) -> 1.4514003 | AH9: =IF(SUM(H9:S9)<90," ",AK9/SUM(AI9:AR9)) -> 0.14165715 | AI9: =IF(SUM(H9:S9)<90," ",U9*13/$AG9) -> 6.125535 | AJ9: =IF(SUM(H9:S9)<90," ",V9*13/$AG9) -> 0.17297613 | AK9: =IF(SUM(H9:S9)<90," ",W9*13/$AG9) -> 2.216882 | AL9: =IF(SUM(H9:S9)<90," ",X9*13/$AG9) -> 0.00094288895 | AM9: =IF(SUM(H9:S9)<90," ",Y9*13/$AG9) -> 1.8383483 | AN9: =IF(SUM(H9:S9)<90," ",Z9*13/$AG9) -> 0.041414953 | AO9: =IF(SUM(H9:S9)<90," ",AA9*13/$AG9) -> 2.6039008 | AP9: =IF(SUM(H9:S9)<90," ",AB9*13/$AG9) -> 1.8867575 | AQ9: =IF(SUM(H9:S9)<90," ",AC9*13/$AG9) -> 0.52400977 | AR9: =IF(SUM(H9:S9)<90," ",AD9*13/$AG9) -> 0.23886248 | AS9: =IF(SUM(H9:S9)<90," ",AE9*13/$AG9) -> 0 | AT9: =IF(SUM(H9:S9)<90," ",AF9*13/$AG9) -> 0.0088424213 | AU9: =IF(SUM(H9:S9)<90," ",SUM(AI9:AR9)) -> 15.64963 | AV9: =IF(SUM(H9:S9)<90," ",(2-AS9-AT9)*AG9*17/13/2) -> 1.8895936 | AW9: =IF(SUM(H9:S9)<90," ",CO9*AG9*stab.data!$U$20/13/2) -> 5.7833846 | AX9: =IF(SUM(H9:S9)<90," ",CQ9*AG9*stab.data!$U$11/13) -> 9.5420367 | AY9: =IF(SUM(H9:S9)<90," ",-(R9*0.421070639014633+S9*0.225636758525372)) -> -0.0078972865 | AZ9: =IF(SUM(H9:S9)<90," ",SUM(H9:S9)-L9+AV9+AW9+AX9+AY9) -> 99.429118 | BA9: =IF(SUM(H9:S9)<90," ",EXP('eq. coef.'!$C$104+'eq. coef.'!$C$105*'Amp (T-P-fO2 calculation)'!AI9+'eq. coef.'!$C$106*'Amp (T-P-fO2 calculation)'!AJ9+'eq. coef.'!$C$107*'Amp (T-P-fO2 calculation)'!AK9+'eq. coef.'!$C$108*'Amp (T-P-fO2 calculation)'!AM9+'eq. coef.'!$C$109*'Amp (T-P-fO2 calculation)'!AO9+'eq. coef.'!$C$110*'Amp (T-P-fO2 calculation)'!AP9+'eq. coef.'!$C$111*'Amp (T-P-fO2 calculation)'!AQ9+'eq. coef.'!$C$112*'Amp (T-P-fO2 calculation)'!AR9)) -> 511.28991 | BB9: =IF(SUM(H9:S9)<90," ",EXP('eq. coef.'!$C$176+'eq. coef.'!$C$177*'Amp (T-P-fO2 calculation)'!AI9+'eq. coef.'!$C$178*'Amp (T-P-fO2 calculation)'!AJ9+'eq. coef.'!$C$179*'Amp (T-P-fO2 calculation)'!AK9+'eq. coef.'!$C$180*'Amp (T-P-fO2 calculation)'!AM9+'eq. coef.'!$C$181*'Amp (T-P-fO2 calculation)'!AO9+'eq. coef.'!$C$182*'Amp (T-P-fO2 calculation)'!AP9+'eq. coef.'!$C$183*'Amp (T-P-fO2 calculation)'!AQ9+'eq. coef.'!$C$184*'Amp (T-P-fO2 calculation)'!AR9)) -> 396.09307 | BC9: =IF(SUM(H9:S9)<90," ",('eq. coef.'!$C$234+'eq. coef.'!$C$235*'Amp (T-P-fO2 calculation)'!AI9+'eq. coef.'!$C$236*'Amp (T-P-fO2 calculation)'!AJ9+'eq. coef.'!$C$237*'Amp (T-P-fO2 calculation)'!AK9+'eq. coef.'!$C$238*'Amp (T-P-fO2 calculation)'!AM9+'eq. coef.'!$C$239*'Amp (T-P-fO2 calculation)'!AO9+'eq. coef.'!$C$240*'Amp (T-P-fO2 calculation)'!AP9+'eq. coef.'!$C$241*'Amp (T-P-fO2 calculation)'!AQ9+'eq. coef.'!$C$242*'Amp (T-P-fO2 calculation)'!AR9)) -> 457.94031 | BD9: =IF(SUM(H9:S9)<90," ",('eq. coef.'!$C$270+'eq. coef.'!$C$271*'Amp (T-P-fO2 calculation)'!AI9+'eq. coef.'!$C$272*'Amp (T-P-fO2 calculation)'!AJ9+'eq. coef.'!$C$273*'Amp (T-P-fO2 calculation)'!AK9+'eq. coef.'!$C$274*'Amp (T-P-fO2 calculation)'!AM9+'eq. coef.'!$C$275*'Amp (T-P-fO2 calculation)'!AO9+'eq. coef.'!$C$276*'Amp (T-P-fO2 calculation)'!AP9+'eq. coef.'!$C$277*'Amp (T-P-fO2 calculation)'!AQ9+'eq. coef.'!$C$278*'Amp (T-P-fO2 calculation)'!AR9)) -> 445.96642 | BE9: =IF(SUM(H9:S9)<90," ",EXP('eq. coef.'!$C$328+'eq. coef.'!$C$329*'Amp (T-P-fO2 calculation)'!AI9+'eq. coef.'!$C$330*'Amp (T-P-fO2 calculation)'!AJ9+'eq. coef.'!$C$331*'Amp (T-P-fO2 calculation)'!AK9+'eq. coef.'!$C$332*'Amp (T-P-fO2 calculation)'!AM9+'eq. coef.'!$C$333*'Amp (T-P-fO2 calculation)'!AO9+'eq. coef.'!$C$334*'Amp (T-P-fO2 calculation)'!AP9+'eq. coef.'!$C$335*'Amp (T-P-fO2 calculation)'!AQ9+'eq. coef.'!$C$336*'Amp (T-P-fO2 calculation)'!AR9)) -> 848.43329 | BF9: =IF(SUM(H9:S9)<90," ",IF(AZ9<98.5,"low Total",IF(AZ9>102,"high Total",IF(DG9>46.5,"unbalanced",IF(CQ9<0,"unbalanced",IF(DI9<0.54,"low-Mg",IF(CU9<1.5,"low-Ca",IF(CW9<1.99,"low-B cations",IF(CU9>2.05,"high-Ca",IF(DK9>0.25,"high-Al#",IF(H9<38.8-0.42,"low-SiO2",IF(H9>49.8,"high-SiO2",IF(CI9>0.06+0.06*0.2,"high-[4]Ti",IF(CL9>0.57+0.57*0.074,"high-[6]Al",IF(CM9>0.7+0.7*0.07,"high-[6]Ti",IF(CN9>0.04+0.04*0.1,"high-Cr2O3",IF(CO9>1.37+1.37*0.28,"high-Fe3+",IF(N9<9.71-0.35,"low-MgO",IF(N9>18.01+0.35,"high-MgO",IF(CQ9>1.69+1.69*0.28,"high-Fe2+",IF(M9>0.58+0.58*0.3,"high-MnO",IF(O9>12.35+0.25,"high-CaO",IF(CY9<0,"low-ANa",IF(CY9>0.58+0.58*0.11,"high-ANa",IF(Q9<0,"low-K2O",IF(Q9>2.03+0.05,"high-K2O",IF(DA9<0.03-0.03*0.3,"low-A(Na+K)",IF(DA9>1,"high-A(Na+K)",IF(J9<6.5,"low-Al2O3",IF(J9>15.9+0.36,"high-Al2O3",IF(I9<1.1-0.2,"low-TiO2",IF(L9<5.85-0.44,"low-FeO",IF(L9>16.92+0.44,"high-FeO",IF(P9<1.07-0.1,"low-Na2O",IF(P9>3.05+0.1,"high-Na2O","ok"))))))))))))))))))))))))))))))))))) -> ok | BG9: =IF(SUM(H9:S9)<90," ",IF(DI9<0.54,"low-Mg",IF(CU9<1.5,"low-Ca",IF(CW9<1.99,"low-B cations",IF(CU9>2.05,"high-Ca",IF(DK9>0.24,"high-Al#",IF(H9<39.2-0.42,"low-SiO2",IF(H9>46.2+0.42,"high-SiO2",IF(CI9>0.06+0.06*0.2,"high-[4]Ti",IF(CL9>0.48+0.48*0.074,"high-[6]Al",IF(CM9>0.66+0.66*0.07,"high-[6]Ti",IF(CN9>0.04+0.04*0.1,"high-Cr2O3",IF(CO9>1.25+1.25*0.28,"high-Fe3+",IF(N9<9.71-0.35,"low-MgO",IF(N9>16.7+0.35,"high-MgO",IF(CQ9>1.69+1.69*0.28,"high-Fe2+",IF(M9>0.32+0.32*0.3,"high-MnO",IF(O9>12.35+0.25,"high-CaO",IF(CY9<0.1,"low-ANa",IF(CY9>0.57+0.57*0.11,"high-ANa",IF(Q9<0,"low-K2O",IF(Q9>1.3+0.05,"high-K2O",IF(DA9<0.17-0.17*0.3,"low-A(Na+K)",IF(DA9>0.9,"high-A(Na+K)",IF(J9<8.5,"low-Al2O3",IF(J9>14.6+0.4,"high-Al2O3",IF(I9<1.3-0.2,"low-TiO2",IF(L9<8.7-0.44,"low-FeO",IF(L9>16.92+0.44,"high-FeO",IF(P9<1.6-0.1,"low-Na2O",IF(P9>2.65+0.1,"high-Na2O","ok"))))))))))))))))))))))))))))))) -> ok | BH9: =IF(SUM(H9:S9)<90," ",IF(DI9<0.54,"low-Mg",IF(CU9<1.5,"low-Ca",IF(CW9<1.99,"low-B cations",IF(CU9>2.05,"high-Ca",IF(DK9>0.24,"high-Al#",IF(H9<38.8-0.42,"low-SiO2",IF(H9>47.9+0.42,"high-SiO2",IF(CI9>0.06+0.06*0.2,"high-[4]Ti",IF(CL9>0.55+0.55*0.074,"high-[6]Al",IF(CM9>0.7+0.7*0.07,"high-[6]Ti",IF(CN9>0.03+0.03*0.1,"high-Cr2O3",IF(CO9>1.37+1.37*0.28,"high-Fe3+",IF(N9<9.71-0.35,"low-MgO",IF(N9>18+0.35,"high-MgO",IF(CQ9>1.69+1.69*0.28,"high-Fe2+",IF(M9>0.58+0.58*0.3,"high-MnO",IF(O9>12.35+0.25,"high-CaO",IF(CY9<0,"low-ANa",IF(CY9>0.58+0.58*0.11,"high-ANa",IF(Q9<0,"low-K2O",IF(Q9>2+0.05,"high-K2O",IF(DA9<0.07-0.07*0.3,"low-A(Na+K)",IF(DA9>0.9,"high-A(Na+K)",IF(J9<6.5,"low-Al2O3",IF(J9>15.9+0.4,"high-Al2O3",IF(I9<1.1-0.2,"low-TiO2",IF(L9<5.9-0.44,"low-FeO",IF(L9>16.92+0.44,"high-FeO",IF(P9<1.28-0.1,"low-Na2O",IF(P9>2.9+0.1,"high-Na2O","ok"))))))))))))))))))))))))))))))) -> ok | BI9: =IF(SUM(H9:S9)<90," ",ABS(BA9-BO9)/(BA9+BO9)*200) -> 17.962833 | BJ9: =IF(SUM(H9:S9)<90," ",(BA9-BE9)/BA9) -> -0.65939768 | BK9: =IF(SUM(H9:S9)<90," ",BD9-BB9) -> 49.873353 | BL9: =IF(SUM(H9:S9)<90," ",'eq. coef.'!$C$360+'eq. coef.'!$C$361*'Amp (T-P-fO2 calculation)'!AI9+'eq. coef.'!$C$362*'Amp (T-P-fO2 calculation)'!AJ9+'eq. coef.'!$C$363*'Amp (T-P-fO2 calculation)'!AK9+'eq. coef.'!$C$364*'Amp (T-P-fO2 calculation)'!AM9+'eq. coef.'!$C$365*'Amp (T-P-fO2 calculation)'!AO9+'eq. coef.'!$C$366*'Amp (T-P-fO2 calculation)'!AP9+'eq. coef.'!$C$367*'Amp (T-P-fO2 calculation)'!AQ9+'eq. coef.'!$C$368*'Amp (T-P-fO2 calculation)'!AR9+'eq. coef.'!$C$369*LN(BO9)) -> 880.70654 | BM9: =IF(SUM(H9:S9)<90," ",22) -> 22 | BN9: =IF(SUM(H9:S9)<90," ",BM9^2) -> 484 | BO9: =IF(SUM(H9:S9)<90," ",IF(BB9<335,BB9,IF(BB9<399,AVERAGE(BB9:BC9),IF(BC9<415,BC9,IF(BD9<470,BC9,IF(BJ9>0.22,AVERAGE(BC9:BD9),IF(BK9>350,BE9,IF(BK9>210,BD9,IF(BK9<75,BC9,IF(BJ9<-0.2,AVERAGE(BB9:BC9),IF(BJ9>0.05,AVERAGE(BC9:BD9),BA9))))))))))) -> 427.01669 | BP9: =IF(SUM(H9:S9)<90," ",IF(BO9=BA9,"P1a",IF(BO9=BB9,"P1b",IF(BO9=BC9,"P1c",IF(BO9=BD9,"P1d",IF(BO9=BE9,"P1e",IF(BO9=AVERAGE(BB9:BC9),"P1b_c","P1c_d"))))))) -> P1b_c | BR9: =ABS(BQ9) -> 0 | BS9: =BQ9^2 -> 0 | BT9: =IF(SUM(H9:S9)<90," ",BO9*0.12) -> 51.242003 | BU9: =(-4.76+5.6*DL9)*100 -> 765.45394 | BV9: =2400/(1.52-LOG10(CM9))-273 -> 778.70265 | BW9: =IF(SUM(H9:S9)<90," ",'eq. coef.'!$B$1128*'Amp (T-P-fO2 calculation)'!CH9+'eq. coef.'!$B$1129*'Amp (T-P-fO2 calculation)'!CL9+'eq. coef.'!$B$1130*'Amp (T-P-fO2 calculation)'!CM9+'eq. coef.'!$B$1131*'Amp (T-P-fO2 calculation)'!CO9+'eq. coef.'!$B$1132*'Amp (T-P-fO2 calculation)'!CP9+'eq. coef.'!$B$1133*'Amp (T-P-fO2 calculation)'!CQ9+'eq. coef.'!$B$1134*'Amp (T-P-fO2 calculation)'!CR9+'eq. coef.'!$B$1135*'Amp (T-P-fO2 calculation)'!CU9+'eq. coef.'!$B$1135*'Amp (T-P-fO2 calculation)'!CY9+'eq. coef.'!$B$1137*'Amp (T-P-fO2 calculation)'!CZ9) -> 3.6079887 | BX9: =IF(SUM(H9:S9)<90," ",0.4) -> 0.4 | BZ9: =12.78-25073/(BL9+273.15)-1.1*LOG10(BL9+273.15)+450*(BO9/1000)/(BL9+273.15)+0.025*(BO9/1000) -> -12.140894 | CA9: =CC9-CB9 -> 2.2262172 | CB9: =2.19144+15305300/(BL9+273.15)/(BL9+273.15)/(BL9+273.15)-1551.42/(BL9+273.15)/(BL9+273.15)+(-25137+0.0477703*(BO9*10))/(BL9+273.15)+0.000109305*(BL9+273.15)+2.7838*LOG10(BL9+273.15) -> -10.757638 | CC9: =IF(SUM(H9:S9)<90," ",-25018.7/(BL9+273.15) + 12.981 + 0.046*(BO9*10- 1)/(BL9+273.15) + -0.5117*LN(BL9+273.15)+BW9) -> -8.5314212 | CE9: =IF(SUM(H9:S9)<90," ",EXP('eq. coef.'!$B$1156*'Amp (T-P-fO2 calculation)'!CH9+'eq. coef.'!$B$1157*'Amp (T-P-fO2 calculation)'!CL9+'eq. coef.'!$B$1158*'Amp (T-P-fO2 calculation)'!CM9+'eq. coef.'!$B$1159*'Amp (T-P-fO2 calculation)'!CO9+'eq. coef.'!$B$1160*'Amp (T-P-fO2 calculation)'!CP9+'eq. coef.'!$B$1161*'Amp (T-P-fO2 calculation)'!CQ9+'eq. coef.'!$B$1162*'Amp (T-P-fO2 calculation)'!CR9+'eq. coef.'!$B$1163*'Amp (T-P-fO2 calculation)'!CU9+'eq. coef.'!$B$1164*'Amp (T-P-fO2 calculation)'!CY9+'eq. coef.'!$B$1165*'Amp (T-P-fO2 calculation)'!CZ9)) -> 8.2636769 | CF9: =IF(SUM(H9:S9)<90," ",CE9*0.17) -> 1.4048251 | CG9: =IF(SUM(H9:S9)<90," ",AI9) -> 6.125535 | CH9: =IF(SUM(H9:S9)<90," ",IF(AI9+AK9>8,8-AI9,AK9)) -> 1.874465 | CI9: =IF(SUM(H9:S9)<90," ",IF(CG9+CH9<8,8-CG9-CH9,0)) -> 0 | CJ9: =IF(SUM(H9:S9)<90," ",SUM(CG9:CI9)) -> 8 | CL9: =IF(SUM(H9:S9)<90," ",AK9-CH9) -> 0.34241701 | CM9: =IF(SUM(H9:S9)<90," ",AJ9-CI9) -> 0.17297613 | CN9: =IF(SUM(H9:S9)<90," ",AL9) -> 0.00094288895 | CO9: =IF(SUM(H9:S9)<90," ",IF(DG9>46,0,46-DG9)) -> 0.64876555 | CP9: =IF(SUM(H9:S9)<90," ",AO9) -> 2.6039008 | CQ9: =IF(SUM(H9:S9)<90," ",AM9-CO9) -> 1.1895827 | CR9: =IF(SUM(H9:S9)<90," ",AN9) -> 0.041414953 | CS9: =IF(SUM(H9:S9)<90," ",SUM(CL9:CR9)) -> 5 | CU9: =IF(SUM(H9:S9)<90," ",AP9) -> 1.8867575 | CV9: =IF(SUM(H9:S9)<90," ",IF(2-CU9<=AQ9,2-CU9,AQ9)) -> 0.11324246 | CW9: =IF(SUM(H9:S9)<90," ",SUM(CU9:CV9)) -> 2 | CY9: =IF(SUM(H9:S9)<90," ",AQ9-CV9) -> 0.41076731 | CZ9: =IF(SUM(H9:S9)<90," ",AR9) -> 0.23886248 | DA9: =IF(SUM(H9:S9)<90," ",SUM(CY9:CZ9)) -> 0.64962979 | DC9: =IF(SUM(H9:S9)<90," ",2-DD9-DE9) -> 1.9911576 | DD9: =IF(SUM(H9:S9)<90," ",AS9) -> 0 | DE9: =IF(SUM(H9:S9)<90," ",AT9) -> 0.0088424213 | DF9: =IF(SUM(H9:S9)<90," ",SUM(DC9:DE9)) -> 2 | DG9: =IF(SUM(H9:S9)<90," ",AI9*4+AJ9*4+AK9*3+AL9*3+AM9*2+AN9*2+AO9*2+AP9*2+AQ9+AR9) -> 45.351234 | DI9: =IF(SUM(H9:S9)<90," ",CP9/(CP9+CQ9)) -> 0.68641416 | DJ9: =IF(SUM(H9:S9)<90," ",CP9/(CP9+CO9+CQ9)) -> 0.58616722 | DK9: =IF(SUM(H9:S9)<90," ",CL9/(CL9+CH9)) -> 0.15445883 | DL9: =IF(SUM(H9:S9)<90," ",CL9+CH9) -> 2.216882
A10: DH0101 | B10: hornblendite | C10: 99 | D10: A10 | E10: Magnesio-hastingsite | F10: No | H10: 41.005 | I10: 1.315 | J10: 13.077 | K10: 0.045 | L10: 14.635 | M10: 0.284 | N10: 11.848 | O10: 11.88 | P10: 1.794 | Q10: 1.175 | R10: 0 | S10: 0.022 | T10: =IF(SUM(H10:S10)<90," ",SUM(H10:S10)) -> 97.08 | U10: =IF(SUM(H10:S10)<90," ",H10/stab.data!$U$7) -> 0.68246122 | V10: =IF(SUM(H10:S10)<90," ",I10/stab.data!$U$8) -> 0.016458485 | W10: =IF(SUM(H10:S10)<90," ",J10*2/stab.data!$U$9) -> 0.25650984 | X10: =IF(SUM(H10:S10)<90," ",K10*2/stab.data!$U$10) -> 0.00059214344 | Y10: =IF(SUM(H10:S10)<90," ",L10/stab.data!$U$11) -> 0.20369958 | Z10: =IF(SUM(H10:S10)<90," ",M10/stab.data!$U$12) -> 0.0040035524 | AA10: =IF(SUM(H10:S10)<90," ",N10/stab.data!$U$13) -> 0.29396586 | AB10: =IF(SUM(H10:S10)<90," ",O10/stab.data!$U$14) -> 0.21184401 | AC10: =IF(SUM(H10:S10)<90," ",P10*2/stab.data!$U$15) -> 0.057890576 | AD10: =IF(SUM(H10:S10)<90," ",Q10*2/stab.data!$U$16) -> 0.024948246 | AE10: =IF(SUM(H10:S10)<90," ",R10/stab.data!$U$17) -> 0 | AF10: =IF(SUM(H10:S10)<90," ",S10/stab.data!$U$18) -> 0.00062053987 | AG10: =IF(SUM(H10:S10)<90," ",SUM(U10:AA10)) -> 1.4576907 | AH10: =IF(SUM(H10:S10)<90," ",AK10/SUM(AI10:AR10)) -> 0.14637852 | AI10: =IF(SUM(H10:S10)<90," ",U10*13/$AG10) -> 6.0863364 | AJ10: =IF(SUM(H10:S10)<90," ",V10*13/$AG10) -> 0.14678032 | AK10: =IF(SUM(H10:S10)<90," ",W10*13/$AG10) -> 2.2876101 | AL10: =IF(SUM(H10:S10)<90," ",X10*13/$AG10) -> 0.005280863 | AM10: =IF(SUM(H10:S10)<90," ",Y10*13/$AG10) -> 1.8166368 | AN10: =IF(SUM(H10:S10)<90," ",Z10*13/$AG10) -> 0.035704544 | AO10: =IF(SUM(H10:S10)<90," ",AA10*13/$AG10) -> 2.621651 | AP10: =IF(SUM(H10:S10)<90," ",AB10*13/$AG10) -> 1.8892705 | AQ10: =IF(SUM(H10:S10)<90," ",AC10*13/$AG10) -> 0.51628065 | AR10: =IF(SUM(H10:S10)<90," ",AD10*13/$AG10) -> 0.22249384 | AS10: =IF(SUM(H10:S10)<90," ",AE10*13/$AG10) -> 0 | AT10: =IF(SUM(H10:S10)<90," ",AF10*13/$AG10) -> 0.0055341084 | AU10: =IF(SUM(H10:S10)<90," ",SUM(AI10:AR10)) -> 15.628045 | AV10: =IF(SUM(H10:S10)<90," ",(2-AS10-AT10)*AG10*17/13/2) -> 1.9009363 | AW10: =IF(SUM(H10:S10)<90," ",CO10*AG10*stab.data!$U$20/13/2) -> 6.4780906 | AX10: =IF(SUM(H10:S10)<90," ",CQ10*AG10*stab.data!$U$11/13) -> 8.8059314 | AY10: =IF(SUM(H10:S10)<90," ",-(R10*0.421070639014633+S10*0.225636758525372)) -> -0.0049640087 | AZ10: =IF(SUM(H10:S10)<90," ",SUM(H10:S10)-L10+AV10+AW10+AX10+AY10) -> 99.624994 | BA10: =IF(SUM(H10:S10)<90," ",EXP('eq. coef.'!$C$104+'eq. coef.'!$C$105*'Amp (T-P-fO2 calculation)'!AI10+'eq. coef.'!$C$106*'Amp (T-P-fO2 calculation)'!AJ10+'eq. coef.'!$C$107*'Amp (T-P-fO2 calculation)'!AK10+'eq. coef.'!$C$108*'Amp (T-P-fO2 calculation)'!AM10+'eq. coef.'!$C$109*'Amp (T-P-fO2 calculation)'!AO10+'eq. coef.'!$C$110*'Amp (T-P-fO2 calculation)'!AP10+'eq. coef.'!$C$111*'Amp (T-P-fO2 calculation)'!AQ10+'eq. coef.'!$C$112*'Amp (T-P-fO2 calculation)'!AR10)) -> 533.40134 | BB10: =IF(SUM(H10:S10)<90," ",EXP('eq. coef.'!$C$176+'eq. coef.'!$C$177*'Amp (T-P-fO2 calculation)'!AI10+'eq. coef.'!$C$178*'Amp (T-P-fO2 calculation)'!AJ10+'eq. coef.'!$C$179*'Amp (T-P-fO2 calculation)'!AK10+'eq. coef.'!$C$180*'Amp (T-P-fO2 calculation)'!AM10+'eq. coef.'!$C$181*'Amp (T-P-fO2 calculation)'!AO10+'eq. coef.'!$C$182*'Amp (T-P-fO2 calculation)'!AP10+'eq. coef.'!$C$183*'Amp (T-P-fO2 calculation)'!AQ10+'eq. coef.'!$C$184*'Amp (T-P-fO2 calculation)'!AR10)) -> 433.49443 | BC10: =IF(SUM(H10:S10)<90," ",('eq. coef.'!$C$234+'eq. coef.'!$C$235*'Amp (T-P-fO2 calculation)'!AI10+'eq. coef.'!$C$236*'Amp (T-P-fO2 calculation)'!AJ10+'eq. coef.'!$C$237*'Amp (T-P-fO2 calculation)'!AK10+'eq. coef.'!$C$238*'Amp (T-P-fO2 calculation)'!AM10+'eq. coef.'!$C$239*'Amp (T-P-fO2 calculation)'!AO10+'eq. coef.'!$C$240*'Amp (T-P-fO2 calculation)'!AP10+'eq. coef.'!$C$241*'Amp (T-P-fO2 calculation)'!AQ10+'eq. coef.'!$C$242*'Amp (T-P-fO2 calculation)'!AR10)) -> 478.68335 | BD10: =IF(SUM(H10:S10)<90," ",('eq. coef.'!$C$270+'eq. coef.'!$C$271*'Amp (T-P-fO2 calculation)'!AI10+'eq. coef.'!$C$272*'Amp (T-P-fO2 calculation)'!AJ10+'eq. coef.'!$C$273*'Amp (T-P-fO2 calculation)'!AK10+'eq. coef.'!$C$274*'Amp (T-P-fO2 calculation)'!AM10+'eq. coef.'!$C$275*'Amp (T-P-fO2 calculation)'!AO10+'eq. coef.'!$C$276*'Amp (T-P-fO2 calculation)'!AP10+'eq. coef.'!$C$277*'Amp (T-P-fO2 calculation)'!AQ10+'eq. coef.'!$C$278*'Amp (T-P-fO2 calculation)'!AR10)) -> 455.88417 | BE10: =IF(SUM(H10:S10)<90," ",EXP('eq. coef.'!$C$328+'eq. coef.'!$C$329*'Amp (T-P-fO2 calculation)'!AI10+'eq. coef.'!$C$330*'Amp (T-P-fO2 calculation)'!AJ10+'eq. coef.'!$C$331*'Amp (T-P-fO2 calculation)'!AK10+'eq. coef.'!$C$332*'Amp (T-P-fO2 calculation)'!AM10+'eq. coef.'!$C$333*'Amp (T-P-fO2 calculation)'!AO10+'eq. coef.'!$C$334*'Amp (T-P-fO2 calculation)'!AP10+'eq. coef.'!$C$335*'Amp (T-P-fO2 calculation)'!AQ10+'eq. coef.'!$C$336*'Amp (T-P-fO2 calculation)'!AR10)) -> 878.6401 | BF10: =IF(SUM(H10:S10)<90," ",IF(AZ10<98.5,"low Total",IF(AZ10>102,"high Total",IF(DG10>46.5,"unbalanced",IF(CQ10<0,"unbalanced",IF(DI10<0.54,"low-Mg",IF(CU10<1.5,"low-Ca",IF(CW10<1.99,"low-B cations",IF(CU10>2.05,"high-Ca",IF(DK10>0.25,"high-Al#",IF(H10<38.8-0.42,"low-SiO2",IF(H10>49.8,"high-SiO2",IF(CI10>0.06+0.06*0.2,"high-[4]Ti",IF(CL10>0.57+0.57*0.074,"high-[6]Al",IF(CM10>0.7+0.7*0.07,"high-[6]Ti",IF(CN10>0.04+0.04*0.1,"high-Cr2O3",IF(CO10>1.37+1.37*0.28,"high-Fe3+",IF(N10<9.71-0.35,"low-MgO",IF(N10>18.01+0.35,"high-MgO",IF(CQ10>1.69+1.69*0.28,"high-Fe2+",IF(M10>0.58+0.58*0.3,"high-MnO",IF(O10>12.35+0.25,"high-CaO",IF(CY10<0,"low-ANa",IF(CY10>0.58+0.58*0.11,"high-ANa",IF(Q10<0,"low-K2O",IF(Q10>2.03+0.05,"high-K2O",IF(DA10<0.03-0.03*0.3,"low-A(Na+K)",IF(DA10>1,"high-A(Na+K)",IF(J10<6.5,"low-Al2O3",IF(J10>15.9+0.36,"high-Al2O3",IF(I10<1.1-0.2,"low-TiO2",IF(L10<5.85-0.44,"low-FeO",IF(L10>16.92+0.44,"high-FeO",IF(P10<1.07-0.1,"low-Na2O",IF(P10>3.05+0.1,"high-Na2O","ok"))))))))))))))))))))))))))))))))))) -> ok | BG10: =IF(SUM(H10:S10)<90," ",IF(DI10<0.54,"low-Mg",IF(CU10<1.5,"low-Ca",IF(CW10<1.99,"low-B cations",IF(CU10>2.05,"high-Ca",IF(DK10>0.24,"high-Al#",IF(H10<39.2-0.42,"low-SiO2",IF(H10>46.2+0.42,"high-SiO2",IF(CI10>0.06+0.06*0.2,"high-[4]Ti",IF(CL10>0.48+0.48*0.074,"high-[6]Al",IF(CM10>0.66+0.66*0.07,"high-[6]Ti",IF(CN10>0.04+0.04*0.1,"high-Cr2O3",IF(CO10>1.25+1.25*0.28,"high-Fe3+",IF(N10<9.71-0.35,"low-MgO",IF(N10>16.7+0.35,"high-MgO",IF(CQ10>1.69+1.69*0.28,"high-Fe2+",IF(M10>0.32+0.32*0.3,"high-MnO",IF(O10>12.35+0.25,"high-CaO",IF(CY10<0.1,"low-ANa",IF(CY10>0.57+0.57*0.11,"high-ANa",IF(Q10<0,"low-K2O",IF(Q10>1.3+0.05,"high-K2O",IF(DA10<0.17-0.17*0.3,"low-A(Na+K)",IF(DA10>0.9,"high-A(Na+K)",IF(J10<8.5,"low-Al2O3",IF(J10>14.6+0.4,"high-Al2O3",IF(I10<1.3-0.2,"low-TiO2",IF(L10<8.7-0.44,"low-FeO",IF(L10>16.92+0.44,"high-FeO",IF(P10<1.6-0.1,"low-Na2O",IF(P10>2.65+0.1,"high-Na2O","ok"))))))))))))))))))))))))))))))) -> ok | BH10: =IF(SUM(H10:S10)<90," ",IF(DI10<0.54,"low-Mg",IF(CU10<1.5,"low-Ca",IF(CW10<1.99,"low-B cations",IF(CU10>2.05,"high-Ca",IF(DK10>0.24,"high-Al#",IF(H10<38.8-0.42,"low-SiO2",IF(H10>47.9+0.42,"high-SiO2",IF(CI10>0.06+0.06*0.2,"high-[4]Ti",IF(CL10>0.55+0.55*0.074,"high-[6]Al",IF(CM10>0.7+0.7*0.07,"high-[6]Ti",IF(CN10>0.03+0.03*0.1,"high-Cr2O3",IF(CO10>1.37+1.37*0.28,"high-Fe3+",IF(N10<9.71-0.35,"low-MgO",IF(N10>18+0.35,"high-MgO",IF(CQ10>1.69+1.69*0.28,"high-Fe2+",IF(M10>0.58+0.58*0.3,"high-MnO",IF(O10>12.35+0.25,"high-CaO",IF(CY10<0,"low-ANa",IF(CY10>0.58+0.58*0.11,"high-ANa",IF(Q10<0,"low-K2O",IF(Q10>2+0.05,"high-K2O",IF(DA10<0.07-0.07*0.3,"low-A(Na+K)",IF(DA10>0.9,"high-A(Na+K)",IF(J10<6.5,"low-Al2O3",IF(J10>15.9+0.4,"high-Al2O3",IF(I10<1.1-0.2,"low-TiO2",IF(L10<5.9-0.44,"low-FeO",IF(L10>16.92+0.44,"high-FeO",IF(P10<1.28-0.1,"low-Na2O",IF(P10>2.9+0.1,"high-Na2O","ok"))))))))))))))))))))))))))))))) -> ok | BI10: =IF(SUM(H10:S10)<90," ",ABS(BA10-BO10)/(BA10+BO10)*200) -> 10.812926 | BJ10: =IF(SUM(H10:S10)<90," ",(BA10-BE10)/BA10) -> -0.64724014 | BK10: =IF(SUM(H10:S10)<90," ",BD10-BB10) -> 22.389744 | BL10: =IF(SUM(H10:S10)<90," ",'eq. coef.'!$C$360+'eq. coef.'!$C$361*'Amp (T-P-fO2 calculation)'!AI10+'eq. coef.'!$C$362*'Amp (T-P-fO2 calculation)'!AJ10+'eq. coef.'!$C$363*'Amp (T-P-fO2 calculation)'!AK10+'eq. coef.'!$C$364*'Amp (T-P-fO2 calculation)'!AM10+'eq. coef.'!$C$365*'Amp (T-P-fO2 calculation)'!AO10+'eq. coef.'!$C$366*'Amp (T-P-fO2 calculation)'!AP10+'eq. coef.'!$C$367*'Amp (T-P-fO2 calculation)'!AQ10+'eq. coef.'!$C$368*'Amp (T-P-fO2 calculation)'!AR10+'eq. coef.'!$C$369*LN(BO10)) -> 884.45364 | BM10: =IF(SUM(H10:S10)<90," ",22) -> 22 | BN10: =IF(SUM(H10:S10)<90," ",BM10^2) -> 484 | BO10: =IF(SUM(H10:S10)<90," ",IF(BB10<335,BB10,IF(BB10<399,AVERAGE(BB10:BC10),IF(BC10<415,BC10,IF(BD10<470,BC10,IF(BJ10>0.22,AVERAGE(BC10:BD10),IF(BK10>350,BE10,IF(BK10>210,BD10,IF(BK10<75,BC10,IF(BJ10<-0.2,AVERAGE(BB10:BC10),IF(BJ10>0.05,AVERAGE(BC10:BD10),BA10))))))))))) -> 478.68335 | BP10: =IF(SUM(H10:S10)<90," ",IF(BO10=BA10,"P1a",IF(BO10=BB10,"P1b",IF(BO10=BC10,"P1c",IF(BO10=BD10,"P1d",IF(BO10=BE10,"P1e",IF(BO10=AVERAGE(BB10:BC10),"P1b_c","P1c_d"))))))) -> P1c | BR10: =ABS(BQ10) -> 0 | BS10: =BQ10^2 -> 0 | BT10: =IF(SUM(H10:S10)<90," ",BO10*0.12) -> 57.442002 | BU10: =(-4.76+5.6*DL10)*100 -> 805.06166 | BV10: =2400/(1.52-LOG10(CM10))-273 -> 746.83053 | BW10: =IF(SUM(H10:S10)<90," ",'eq. coef.'!$B$1128*'Amp (T-P-fO2 calculation)'!CH10+'eq. coef.'!$B$1129*'Amp (T-P-fO2 calculation)'!CL10+'eq. coef.'!$B$1130*'Amp (T-P-fO2 calculation)'!CM10+'eq. coef.'!$B$1131*'Amp (T-P-fO2 calculation)'!CO10+'eq. coef.'!$B$1132*'Amp (T-P-fO2 calculation)'!CP10+'eq. coef.'!$B$1133*'Amp (T-P-fO2 calculation)'!CQ10+'eq. coef.'!$B$1134*'Amp (T-P-fO2 calculation)'!CR10+'eq. coef.'!$B$1135*'Amp (T-P-fO2 calculation)'!CU10+'eq. coef.'!$B$1135*'Amp (T-P-fO2 calculation)'!CY10+'eq. coef.'!$B$1137*'Amp (T-P-fO2 calculation)'!CZ10) -> 3.7775937 | BX10: =IF(SUM(H10:S10)<90," ",0.4) -> 0.4 | BZ10: =12.78-25073/(BL10+273.15)-1.1*LOG10(BL10+273.15)+450*(BO10/1000)/(BL10+273.15)+0.025*(BO10/1000) -> -12.051268 | CA10: =CC10-CB10 -> 2.3888221 | CB10: =2.19144+15305300/(BL10+273.15)/(BL10+273.15)/(BL10+273.15)-1551.42/(BL10+273.15)/(BL10+273.15)+(-25137+0.0477703*(BO10*10))/(BL10+273.15)+0.000109305*(BL10+273.15)+2.7838*LOG10(BL10+273.15) -> -10.662132 | CC10: =IF(SUM(H10:S10)<90," ",-25018.7/(BL10+273.15) + 12.981 + 0.046*(BO10*10- 1)/(BL10+273.15) + -0.5117*LN(BL10+273.15)+BW10) -> -8.2733097 | CE10: =IF(SUM(H10:S10)<90," ",EXP('eq. coef.'!$B$1156*'Amp (T-P-fO2 calculation)'!CH10+'eq. coef.'!$B$1157*'Amp (T-P-fO2 calculation)'!CL10+'eq. coef.'!$B$1158*'Amp (T-P-fO2 calculation)'!CM10+'eq. coef.'!$B$1159*'Amp (T-P-fO2 calculation)'!CO10+'eq. coef.'!$B$1160*'Amp (T-P-fO2 calculation)'!CP10+'eq. coef.'!$B$1161*'Amp (T-P-fO2 calculation)'!CQ10+'eq. coef.'!$B$1162*'Amp (T-P-fO2 calculation)'!CR10+'eq. coef.'!$B$1163*'Amp (T-P-fO2 calculation)'!CU10+'eq. coef.'!$B$1164*'Amp (T-P-fO2 calculation)'!CY10+'eq. coef.'!$B$1165*'Amp (T-P-fO2 calculation)'!CZ10)) -> 9.1998519 | CF10: =IF(SUM(H10:S10)<90," ",CE10*0.17) -> 1.5639748 | CG10: =IF(SUM(H10:S10)<90," ",AI10) -> 6.0863364 | CH10: =IF(SUM(H10:S10)<90," ",IF(AI10+AK10>8,8-AI10,AK10)) -> 1.9136636 | CI10: =IF(SUM(H10:S10)<90," ",IF(CG10+CH10<8,8-CG10-CH10,0)) -> 0 | CJ10: =IF(SUM(H10:S10)<90," ",SUM(CG10:CI10)) -> 8 | CL10: =IF(SUM(H10:S10)<90," ",AK10-CH10) -> 0.37394652 | CM10: =IF(SUM(H10:S10)<90," ",AJ10-CI10) -> 0.14678032 | CN10: =IF(SUM(H10:S10)<90," ",AL10) -> 0.005280863 | CO10: =IF(SUM(H10:S10)<90," ",IF(DG10>46,0,46-DG10)) -> 0.72356 | CP10: =IF(SUM(H10:S10)<90," ",AO10) -> 2.621651 | CQ10: =IF(SUM(H10:S10)<90," ",AM10-CO10) -> 1.0930768 | CR10: =IF(SUM(H10:S10)<90," ",AN10) -> 0.035704544 | CS10: =IF(SUM(H10:S10)<90," ",SUM(CL10:CR10)) -> 5 | CU10: =IF(SUM(H10:S10)<90," ",AP10) -> 1.8892705 | CV10: =IF(SUM(H10:S10)<90," ",IF(2-CU10<=AQ10,2-CU10,AQ10)) -> 0.11072945 | CW10: =IF(SUM(H10:S10)<90," ",SUM(CU10:CV10)) -> 2 | CY10: =IF(SUM(H10:S10)<90," ",AQ10-CV10) -> 0.40555119 | CZ10: =IF(SUM(H10:S10)<90," ",AR10) -> 0.22249384 | DA10: =IF(SUM(H10:S10)<90," ",SUM(CY10:CZ10)) -> 0.62804503 | DC10: =IF(SUM(H10:S10)<90," ",2-DD10-DE10) -> 1.9944659 | DD10: =IF(SUM(H10:S10)<90," ",AS10) -> 0 | DE10: =IF(SUM(H10:S10)<90," ",AT10) -> 0.0055341084 | DF10: =IF(SUM(H10:S10)<90," ",SUM(DC10:DE10)) -> 2 | DG10: =IF(SUM(H10:S10)<90," ",AI10*4+AJ10*4+AK10*3+AL10*3+AM10*2+AN10*2+AO10*2+AP10*2+AQ10+AR10) -> 45.27644 | DI10: =IF(SUM(H10:S10)<90," ",CP10/(CP10+CQ10)) -> 0.70574511 | DJ10: =IF(SUM(H10:S10)<90," ",CP10/(CP10+CO10+CQ10)) -> 0.59068972 | DK10: =IF(SUM(H10:S10)<90," ",CL10/(CL10+CH10)) -> 0.16346602 | DL10: =IF(SUM(H10:S10)<90," ",CL10+CH10) -> 2.2876101
A11: DH0101 | B11: hornblendite | C11: 343 | D11: A35 | E11: Magnesio-hastingsite | F11: No | H11: 38.872 | I11: 1.93 | J11: 14.541 | K11: 0 | L11: 16.861 | M11: 0.315 | N11: 9.942 | O11: 12.071 | P11: 1.918 | Q11: 1.04 | R11: 0 | S11: 0.016 | T11: =IF(SUM(H11:S11)<90," ",SUM(H11:S11)) -> 97.506 | U11: =IF(SUM(H11:S11)<90," ",H11/stab.data!$U$7) -> 0.64696092 | V11: =IF(SUM(H11:S11)<90," ",I11/stab.data!$U$8) -> 0.024155799 | W11: =IF(SUM(H11:S11)<90," ",J11*2/stab.data!$U$9) -> 0.2852267 | X11: =IF(SUM(H11:S11)<90," ",K11*2/stab.data!$U$10) -> 0 | Y11: =IF(SUM(H11:S11)<90," ",L11/stab.data!$U$11) -> 0.23468252 | Z11: =IF(SUM(H11:S11)<90," ",M11/stab.data!$U$12) -> 0.0044405599 | AA11: =IF(SUM(H11:S11)<90," ",N11/stab.data!$U$13) -> 0.24667527 | AB11: =IF(SUM(H11:S11)<90," ",O11/stab.data!$U$14) -> 0.21524992 | AC11: =IF(SUM(H11:S11)<90," ",P11*2/stab.data!$U$15) -> 0.061891931 | AD11: =IF(SUM(H11:S11)<90," ",Q11*2/stab.data!$U$16) -> 0.022081851 | AE11: =IF(SUM(H11:S11)<90," ",R11/stab.data!$U$17) -> 0 | AF11: =IF(SUM(H11:S11)<90," ",S11/stab.data!$U$18) -> 0.00045130172 | AG11: =IF(SUM(H11:S11)<90," ",SUM(U11:AA11)) -> 1.4421418 | AH11: =IF(SUM(H11:S11)<90," ",AK11/SUM(AI11:AR11)) -> 0.16379486 | AI11: =IF(SUM(H11:S11)<90," ",U11*13/$AG11) -> 5.8319454 | AJ11: =IF(SUM(H11:S11)<90," ",V11*13/$AG11) -> 0.21774932 | AK11: =IF(SUM(H11:S11)<90," ",W11*13/$AG11) -> 2.5711391 | AL11: =IF(SUM(H11:S11)<90," ",X11*13/$AG11) -> 0 | AM11: =IF(SUM(H11:S11)<90," ",Y11*13/$AG11) -> 2.1155151 | AN11: =IF(SUM(H11:S11)<90," ",Z11*13/$AG11) -> 0.040028852 | AO11: =IF(SUM(H11:S11)<90," ",AA11*13/$AG11) -> 2.2236222 | AP11: =IF(SUM(H11:S11)<90," ",AB11*13/$AG11) -> 1.9403425 | AQ11: =IF(SUM(H11:S11)<90," ",AC11*13/$AG11) -> 0.55791679 | AR11: =IF(SUM(H11:S11)<90," ",AD11*13/$AG11) -> 0.19905399 | AS11: =IF(SUM(H11:S11)<90," ",AE11*13/$AG11) -> 0 | AT11: =IF(SUM(H11:S11)<90," ",AF11*13/$AG11) -> 0.0040682009 | AU11: =IF(SUM(H11:S11)<90," ",SUM(AI11:AR11)) -> 15.697313 | AV11: =IF(SUM(H11:S11)<90," ",(2-AS11-AT11)*AG11*17/13/2) -> 1.8820416 | AW11: =IF(SUM(H11:S11)<90," ",CO11*AG11*stab.data!$U$20/13/2) -> 6.1278136 | AX11: =IF(SUM(H11:S11)<90," ",CQ11*AG11*stab.data!$U$11/13) -> 11.347115 | AY11: =IF(SUM(H11:S11)<90," ",-(R11*0.421070639014633+S11*0.225636758525372)) -> -0.0036101881 | AZ11: =IF(SUM(H11:S11)<90," ",SUM(H11:S11)-L11+AV11+AW11+AX11+AY11) -> 99.99836 | BA11: =IF(SUM(H11:S11)<90," ",EXP('eq. coef.'!$C$104+'eq. coef.'!$C$105*'Amp (T-P-fO2 calculation)'!AI11+'eq. coef.'!$C$106*'Amp (T-P-fO2 calculation)'!AJ11+'eq. coef.'!$C$107*'Amp (T-P-fO2 calculation)'!AK11+'eq. coef.'!$C$108*'Amp (T-P-fO2 calculation)'!AM11+'eq. coef.'!$C$109*'Amp (T-P-fO2 calculation)'!AO11+'eq. coef.'!$C$110*'Amp (T-P-fO2 calculation)'!AP11+'eq. coef.'!$C$111*'Amp (T-P-fO2 calculation)'!AQ11+'eq. coef.'!$C$112*'Amp (T-P-fO2 calculation)'!AR11)) -> 592.73262 | BB11: =IF(SUM(H11:S11)<90," ",EXP('eq. coef.'!$C$176+'eq. coef.'!$C$177*'Amp (T-P-fO2 calculation)'!AI11+'eq. coef.'!$C$178*'Amp (T-P-fO2 calculation)'!AJ11+'eq. coef.'!$C$179*'Amp (T-P-fO2 calculation)'!AK11+'eq. coef.'!$C$180*'Amp (T-P-fO2 calculation)'!AM11+'eq. coef.'!$C$181*'Amp (T-P-fO2 calculation)'!AO11+'eq. coef.'!$C$182*'Amp (T-P-fO2 calculation)'!AP11+'eq. coef.'!$C$183*'Amp (T-P-fO2 calculation)'!AQ11+'eq. coef.'!$C$184*'Amp (T-P-fO2 calculation)'!AR11)) -> 562.4666 | BC11: =IF(SUM(H11:S11)<90," ",('eq. coef.'!$C$234+'eq. coef.'!$C$235*'Amp (T-P-fO2 calculation)'!AI11+'eq. coef.'!$C$236*'Amp (T-P-fO2 calculation)'!AJ11+'eq. coef.'!$C$237*'Amp (T-P-fO2 calculation)'!AK11+'eq. coef.'!$C$238*'Amp (T-P-fO2 calculation)'!AM11+'eq. coef.'!$C$239*'Amp (T-P-fO2 calculation)'!AO11+'eq. coef.'!$C$240*'Amp (T-P-fO2 calculation)'!AP11+'eq. coef.'!$C$241*'Amp (T-P-fO2 calculation)'!AQ11+'eq. coef.'!$C$242*'Amp (T-P-fO2 calculation)'!AR11)) -> 555.87572 | BD11: =IF(SUM(H11:S11)<90," ",('eq. coef.'!$C$270+'eq. coef.'!$C$271*'Amp (T-P-fO2 calculation)'!AI11+'eq. coef.'!$C$272*'Amp (T-P-fO2 calculation)'!AJ11+'eq. coef.'!$C$273*'Amp (T-P-fO2 calculation)'!AK11+'eq. coef.'!$C$274*'Amp (T-P-fO2 calculation)'!AM11+'eq. coef.'!$C$275*'Amp (T-P-fO2 calculation)'!AO11+'eq. coef.'!$C$276*'Amp (T-P-fO2 calculation)'!AP11+'eq. coef.'!$C$277*'Amp (T-P-fO2 calculation)'!AQ11+'eq. coef.'!$C$278*'Amp (T-P-fO2 calculation)'!AR11)) -> 460.95569 | BE11: =IF(SUM(H11:S11)<90," ",EXP('eq. coef.'!$C$328+'eq. coef.'!$C$329*'Amp (T-P-fO2 calculation)'!AI11+'eq. coef.'!$C$330*'Amp (T-P-fO2 calculation)'!AJ11+'eq. coef.'!$C$331*'Amp (T-P-fO2 calculation)'!AK11+'eq. coef.'!$C$332*'Amp (T-P-fO2 calculation)'!AM11+'eq. coef.'!$C$333*'Amp (T-P-fO2 calculation)'!AO11+'eq. coef.'!$C$334*'Amp (T-P-fO2 calculation)'!AP11+'eq. coef.'!$C$335*'Amp (T-P-fO2 calculation)'!AQ11+'eq. coef.'!$C$336*'Amp (T-P-fO2 calculation)'!AR11)) -> 890.14618 | BF11: =IF(SUM(H11:S11)<90," ",IF(AZ11<98.5,"low Total",IF(AZ11>102,"high Total",IF(DG11>46.5,"unbalanced",IF(CQ11<0,"unbalanced",IF(DI11<0.54,"low-Mg",IF(CU11<1.5,"low-Ca",IF(CW11<1.99,"low-B cations",IF(CU11>2.05,"high-Ca",IF(DK11>0.25,"high-Al#",IF(H11<38.8-0.42,"low-SiO2",IF(H11>49.8,"high-SiO2",IF(CI11>0.06+0.06*0.2,"high-[4]Ti",IF(CL11>0.57+0.57*0.074,"high-[6]Al",IF(CM11>0.7+0.7*0.07,"high-[6]Ti",IF(CN11>0.04+0.04*0.1,"high-Cr2O3",IF(CO11>1.37+1.37*0.28,"high-Fe3+",IF(N11<9.71-0.35,"low-MgO",IF(N11>18.01+0.35,"high-MgO",IF(CQ11>1.69+1.69*0.28,"high-Fe2+",IF(M11>0.58+0.58*0.3,"high-MnO",IF(O11>12.35+0.25,"high-CaO",IF(CY11<0,"low-ANa",IF(CY11>0.58+0.58*0.11,"high-ANa",IF(Q11<0,"low-K2O",IF(Q11>2.03+0.05,"high-K2O",IF(DA11<0.03-0.03*0.3,"low-A(Na+K)",IF(DA11>1,"high-A(Na+K)",IF(J11<6.5,"low-Al2O3",IF(J11>15.9+0.36,"high-Al2O3",IF(I11<1.1-0.2,"low-TiO2",IF(L11<5.85-0.44,"low-FeO",IF(L11>16.92+0.44,"high-FeO",IF(P11<1.07-0.1,"low-Na2O",IF(P11>3.05+0.1,"high-Na2O","ok"))))))))))))))))))))))))))))))))))) -> ok | BG11: =IF(SUM(H11:S11)<90," ",IF(DI11<0.54,"low-Mg",IF(CU11<1.5,"low-Ca",IF(CW11<1.99,"low-B cations",IF(CU11>2.05,"high-Ca",IF(DK11>0.24,"high-Al#",IF(H11<39.2-0.42,"low-SiO2",IF(H11>46.2+0.42,"high-SiO2",IF(CI11>0.06+0.06*0.2,"high-[4]Ti",IF(CL11>0.48+0.48*0.074,"high-[6]Al",IF(CM11>0.66+0.66*0.07,"high-[6]Ti",IF(CN11>0.04+0.04*0.1,"high-Cr2O3",IF(CO11>1.25+1.25*0.28,"high-Fe3+",IF(N11<9.71-0.35,"low-MgO",IF(N11>16.7+0.35,"high-MgO",IF(CQ11>1.69+1.69*0.28,"high-Fe2+",IF(M11>0.32+0.32*0.3,"high-MnO",IF(O11>12.35+0.25,"high-CaO",IF(CY11<0.1,"low-ANa",IF(CY11>0.57+0.57*0.11,"high-ANa",IF(Q11<0,"low-K2O",IF(Q11>1.3+0.05,"high-K2O",IF(DA11<0.17-0.17*0.3,"low-A(Na+K)",IF(DA11>0.9,"high-A(Na+K)",IF(J11<8.5,"low-Al2O3",IF(J11>14.6+0.4,"high-Al2O3",IF(I11<1.3-0.2,"low-TiO2",IF(L11<8.7-0.44,"low-FeO",IF(L11>16.92+0.44,"high-FeO",IF(P11<1.6-0.1,"low-Na2O",IF(P11>2.65+0.1,"high-Na2O","ok"))))))))))))))))))))))))))))))) -> ok | BH11: =IF(SUM(H11:S11)<90," ",IF(DI11<0.54,"low-Mg",IF(CU11<1.5,"low-Ca",IF(CW11<1.99,"low-B cations",IF(CU11>2.05,"high-Ca",IF(DK11>0.24,"high-Al#",IF(H11<38.8-0.42,"low-SiO2",IF(H11>47.9+0.42,"high-SiO2",IF(CI11>0.06+0.06*0.2,"high-[4]Ti",IF(CL11>0.55+0.55*0.074,"high-[6]Al",IF(CM11>0.7+0.7*0.07,"high-[6]Ti",IF(CN11>0.03+0.03*0.1,"high-Cr2O3",IF(CO11>1.37+1.37*0.28,"high-Fe3+",IF(N11<9.71-0.35,"low-MgO",IF(N11>18+0.35,"high-MgO",IF(CQ11>1.69+1.69*0.28,"high-Fe2+",IF(M11>0.58+0.58*0.3,"high-MnO",IF(O11>12.35+0.25,"high-CaO",IF(CY11<0,"low-ANa",IF(CY11>0.58+0.58*0.11,"high-ANa",IF(Q11<0,"low-K2O",IF(Q11>2+0.05,"high-K2O",IF(DA11<0.07-0.07*0.3,"low-A(Na+K)",IF(DA11>0.9,"high-A(Na+K)",IF(J11<6.5,"low-Al2O3",IF(J11>15.9+0.4,"high-Al2O3",IF(I11<1.1-0.2,"low-TiO2",IF(L11<5.9-0.44,"low-FeO",IF(L11>16.92+0.44,"high-FeO",IF(P11<1.28-0.1,"low-Na2O",IF(P11>2.9+0.1,"high-Na2O","ok"))))))))))))))))))))))))))))))) -> ok | BI11: =IF(SUM(H11:S11)<90," ",ABS(BA11-BO11)/(BA11+BO11)*200) -> 6.4176621 | BJ11: =IF(SUM(H11:S11)<90," ",(BA11-BE11)/BA11) -> -0.50176682 | BK11: =IF(SUM(H11:S11)<90," ",BD11-BB11) -> -101.51091 | BL11: =IF(SUM(H11:S11)<90," ",'eq. coef.'!$C$360+'eq. coef.'!$C$361*'Amp (T-P-fO2 calculation)'!AI11+'eq. coef.'!$C$362*'Amp (T-P-fO2 calculation)'!AJ11+'eq. coef.'!$C$363*'Amp (T-P-fO2 calculation)'!AK11+'eq. coef.'!$C$364*'Amp (T-P-fO2 calculation)'!AM11+'eq. coef.'!$C$365*'Amp (T-P-fO2 calculation)'!AO11+'eq. coef.'!$C$366*'Amp (T-P-fO2 calculation)'!AP11+'eq. coef.'!$C$367*'Amp (T-P-fO2 calculation)'!AQ11+'eq. coef.'!$C$368*'Amp (T-P-fO2 calculation)'!AR11+'eq. coef.'!$C$369*LN(BO11)) -> 902.30552 | BM11: =IF(SUM(H11:S11)<90," ",22) -> 22 | BN11: =IF(SUM(H11:S11)<90," ",BM11^2) -> 484 | BO11: =IF(SUM(H11:S11)<90," ",IF(BB11<335,BB11,IF(BB11<399,AVERAGE(BB11:BC11),IF(BC11<415,BC11,IF(BD11<470,BC11,IF(BJ11>0.22,AVERAGE(BC11:BD11),IF(BK11>350,BE11,IF(BK11>210,BD11,IF(BK11<75,BC11,IF(BJ11<-0.2,AVERAGE(BB11:BC11),IF(BJ11>0.05,AVERAGE(BC11:BD11),BA11))))))))))) -> 555.87572 | BP11: =IF(SUM(H11:S11)<90," ",IF(BO11=BA11,"P1a",IF(BO11=BB11,"P1b",IF(BO11=BC11,"P1c",IF(BO11=BD11,"P1d",IF(BO11=BE11,"P1e",IF(BO11=AVERAGE(BB11:BC11),"P1b_c","P1c_d"))))))) -> P1c | BR11: =ABS(BQ11) -> 0 | BS11: =BQ11^2 -> 0 | BT11: =IF(SUM(H11:S11)<90," ",BO11*0.12) -> 66.705086 | BU11: =(-4.76+5.6*DL11)*100 -> 963.83792 | BV11: =2400/(1.52-LOG10(CM11))-273 -> 826.88656 | BW11: =IF(SUM(H11:S11)<90," ",'eq. coef.'!$B$1128*'Amp (T-P-fO2 calculation)'!CH11+'eq. coef.'!$B$1129*'Amp (T-P-fO2 calculation)'!CL11+'eq. coef.'!$B$1130*'Amp (T-P-fO2 calculation)'!CM11+'eq. coef.'!$B$1131*'Amp (T-P-fO2 calculation)'!CO11+'eq. coef.'!$B$1132*'Amp (T-P-fO2 calculation)'!CP11+'eq. coef.'!$B$1133*'Amp (T-P-fO2 calculation)'!CQ11+'eq. coef.'!$B$1134*'Amp (T-P-fO2 calculation)'!CR11+'eq. coef.'!$B$1135*'Amp (T-P-fO2 calculation)'!CU11+'eq. coef.'!$B$1135*'Amp (T-P-fO2 calculation)'!CY11+'eq. coef.'!$B$1137*'Amp (T-P-fO2 calculation)'!CZ11) -> 2.4051903 | BX11: =IF(SUM(H11:S11)<90," ",0.4) -> 0.4 | BZ11: =12.78-25073/(BL11+273.15)-1.1*LOG10(BL11+273.15)+450*(BO11/1000)/(BL11+273.15)+0.025*(BO11/1000) -> -11.700978 | CA11: =CC11-CB11 -> 0.98593955 | CB11: =2.19144+15305300/(BL11+273.15)/(BL11+273.15)/(BL11+273.15)-1551.42/(BL11+273.15)/(BL11+273.15)+(-25137+0.0477703*(BO11*10))/(BL11+273.15)+0.000109305*(BL11+273.15)+2.7838*LOG10(BL11+273.15) -> -10.28393 | CC11: =IF(SUM(H11:S11)<90," ",-25018.7/(BL11+273.15) + 12.981 + 0.046*(BO11*10- 1)/(BL11+273.15) + -0.5117*LN(BL11+273.15)+BW11) -> -9.2979905 | CE11: =IF(SUM(H11:S11)<90," ",EXP('eq. coef.'!$B$1156*'Amp (T-P-fO2 calculation)'!CH11+'eq. coef.'!$B$1157*'Amp (T-P-fO2 calculation)'!CL11+'eq. coef.'!$B$1158*'Amp (T-P-fO2 calculation)'!CM11+'eq. coef.'!$B$1159*'Amp (T-P-fO2 calculation)'!CO11+'eq. coef.'!$B$1160*'Amp (T-P-fO2 calculation)'!CP11+'eq. coef.'!$B$1161*'Amp (T-P-fO2 calculation)'!CQ11+'eq. coef.'!$B$1162*'Amp (T-P-fO2 calculation)'!CR11+'eq. coef.'!$B$1163*'Amp (T-P-fO2 calculation)'!CU11+'eq. coef.'!$B$1164*'Amp (T-P-fO2 calculation)'!CY11+'eq. coef.'!$B$1165*'Amp (T-P-fO2 calculation)'!CZ11)) -> 9.803551 | CF11: =IF(SUM(H11:S11)<90," ",CE11*0.17) -> 1.6666037 | CG11: =IF(SUM(H11:S11)<90," ",AI11) -> 5.8319454 | CH11: =IF(SUM(H11:S11)<90," ",IF(AI11+AK11>8,8-AI11,AK11)) -> 2.1680546 | CI11: =IF(SUM(H11:S11)<90," ",IF(CG11+CH11<8,8-CG11-CH11,0)) -> 0 | CJ11: =IF(SUM(H11:S11)<90," ",SUM(CG11:CI11)) -> 8 | CL11: =IF(SUM(H11:S11)<90," ",AK11-CH11) -> 0.4030845 | CM11: =IF(SUM(H11:S11)<90," ",AJ11-CI11) -> 0.21774932 | CN11: =IF(SUM(H11:S11)<90," ",AL11) -> 0 | CO11: =IF(SUM(H11:S11)<90," ",IF(DG11>46,0,46-DG11)) -> 0.69181583 | CP11: =IF(SUM(H11:S11)<90," ",AO11) -> 2.2236222 | CQ11: =IF(SUM(H11:S11)<90," ",AM11-CO11) -> 1.4236993 | CR11: =IF(SUM(H11:S11)<90," ",AN11) -> 0.040028852 | CS11: =IF(SUM(H11:S11)<90," ",SUM(CL11:CR11)) -> 5 | CU11: =IF(SUM(H11:S11)<90," ",AP11) -> 1.9403425 | CV11: =IF(SUM(H11:S11)<90," ",IF(2-CU11<=AQ11,2-CU11,AQ11)) -> 0.059657544 | CW11: =IF(SUM(H11:S11)<90," ",SUM(CU11:CV11)) -> 2 | CY11: =IF(SUM(H11:S11)<90," ",AQ11-CV11) -> 0.49825925 | CZ11: =IF(SUM(H11:S11)<90," ",AR11) -> 0.19905399 | DA11: =IF(SUM(H11:S11)<90," ",SUM(CY11:CZ11)) -> 0.69731323 | DC11: =IF(SUM(H11:S11)<90," ",2-DD11-DE11) -> 1.9959318 | DD11: =IF(SUM(H11:S11)<90," ",AS11) -> 0 | DE11: =IF(SUM(H11:S11)<90," ",AT11) -> 0.0040682009 | DF11: =IF(SUM(H11:S11)<90," ",SUM(DC11:DE11)) -> 2 | DG11: =IF(SUM(H11:S11)<90," ",AI11*4+AJ11*4+AK11*3+AL11*3+AM11*2+AN11*2+AO11*2+AP11*2+AQ11+AR11) -> 45.308184 | DI11: =IF(SUM(H11:S11)<90," ",CP11/(CP11+CQ11)) -> 0.60965896 | DJ11: =IF(SUM(H11:S11)<90," ",CP11/(CP11+CO11+CQ11)) -> 0.51245721 | DK11: =IF(SUM(H11:S11)<90," ",CL11/(CL11+CH11)) -> 0.15677273 | DL11: =IF(SUM(H11:S11)<90," ",CL11+CH11) -> 2.5711391
A12: DH0101 | B12: hornblendite | C12: 425 | D12: A37 | E12: Magnesio-hastingsite | F12: No | H12: 39.395 | I12: 1.885 | J12: 14.278 | K12: 0.042 | L12: 15.137 | M12: 0.22 | N12: 11.086 | O12: 11.763 | P12: 1.952 | Q12: 1.336 | R12: 0 | S12: 0.025 | T12: =IF(SUM(H12:S12)<90," ",SUM(H12:S12)) -> 97.119 | U12: =IF(SUM(H12:S12)<90," ",H12/stab.data!$U$7) -> 0.6556654 | V12: =IF(SUM(H12:S12)<90," ",I12/stab.data!$U$8) -> 0.023592581 | W12: =IF(SUM(H12:S12)<90," ",J12*2/stab.data!$U$9) -> 0.28006787 | X12: =IF(SUM(H12:S12)<90," ",K12*2/stab.data!$U$10) -> 0.00055266721 | Y12: =IF(SUM(H12:S12)<90," ",L12/stab.data!$U$11) -> 0.21068675 | Z12: =IF(SUM(H12:S12)<90," ",M12/stab.data!$U$12) -> 0.0031013434 | AA12: =IF(SUM(H12:S12)<90," ",N12/stab.data!$U$13) -> 0.27505955 | AB12: =IF(SUM(H12:S12)<90," ",O12/stab.data!$U$14) -> 0.20975766 | AC12: =IF(SUM(H12:S12)<90," ",P12*2/stab.data!$U$15) -> 0.062989077 | AD12: =IF(SUM(H12:S12)<90," ",Q12*2/stab.data!$U$16) -> 0.028366686 | AE12: =IF(SUM(H12:S12)<90," ",R12/stab.data!$U$17) -> 0 | AF12: =IF(SUM(H12:S12)<90," ",S12/stab.data!$U$18) -> 0.00070515894 | AG12: =IF(SUM(H12:S12)<90," ",SUM(U12:AA12)) -> 1.4487262 | AH12: =IF(SUM(H12:S12)<90," ",AK12/SUM(AI12:AR12)) -> 0.16005345 | AI12: =IF(SUM(H12:S12)<90," ",U12*13/$AG12) -> 5.8835482 | AJ12: =IF(SUM(H12:S12)<90," ",V12*13/$AG12) -> 0.21170567 | AK12: =IF(SUM(H12:S12)<90," ",W12*13/$AG12) -> 2.5131612 | AL12: =IF(SUM(H12:S12)<90," ",X12*13/$AG12) -> 0.0049593042 | AM12: =IF(SUM(H12:S12)<90," ",Y12*13/$AG12) -> 1.8905766 | AN12: =IF(SUM(H12:S12)<90," ",Z12*13/$AG12) -> 0.027829597 | AO12: =IF(SUM(H12:S12)<90," ",AA12*13/$AG12) -> 2.4682195 | AP12: =IF(SUM(H12:S12)<90," ",AB12*13/$AG12) -> 1.8822395 | AQ12: =IF(SUM(H12:S12)<90," ",AC12*13/$AG12) -> 0.56522621 | AR12: =IF(SUM(H12:S12)<90," ",AD12*13/$AG12) -> 0.25454564 | AS12: =IF(SUM(H12:S12)<90," ",AE12*13/$AG12) -> 0 | AT12: =IF(SUM(H12:S12)<90," ",AF12*13/$AG12) -> 0.0063276736 | AU12: =IF(SUM(H12:S12)<90," ",SUM(AI12:AR12)) -> 15.702011 | AV12: =IF(SUM(H12:S12)<90," ",(2-AS12-AT12)*AG12*17/13/2) -> 1.8884942 | AW12: =IF(SUM(H12:S12)<90," ",CO12*AG12*stab.data!$U$20/13/2) -> 6.2919755 | AX12: =IF(SUM(H12:S12)<90," ",CQ12*AG12*stab.data!$U$11/13) -> 9.4754001 | AY12: =IF(SUM(H12:S12)<90," ",-(R12*0.421070639014633+S12*0.225636758525372)) -> -0.005640919 | AZ12: =IF(SUM(H12:S12)<90," ",SUM(H12:S12)-L12+AV12+AW12+AX12+AY12) -> 99.632229 | BA12: =IF(SUM(H12:S12)<90," ",EXP('eq. coef.'!$C$104+'eq. coef.'!$C$105*'Amp (T-P-fO2 calculation)'!AI12+'eq. coef.'!$C$106*'Amp (T-P-fO2 calculation)'!AJ12+'eq. coef.'!$C$107*'Amp (T-P-fO2 calculation)'!AK12+'eq. coef.'!$C$108*'Amp (T-P-fO2 calculation)'!AM12+'eq. coef.'!$C$109*'Amp (T-P-fO2 calculation)'!AO12+'eq. coef.'!$C$110*'Amp (T-P-fO2 calculation)'!AP12+'eq. coef.'!$C$111*'Amp (T-P-fO2 calculation)'!AQ12+'eq. coef.'!$C$112*'Amp (T-P-fO2 calculation)'!AR12)) -> 738.20015 | BB12: =IF(SUM(H12:S12)<90," ",EXP('eq. coef.'!$C$176+'eq. coef.'!$C$177*'Amp (T-P-fO2 calculation)'!AI12+'eq. coef.'!$C$178*'Amp (T-P-fO2 calculation)'!AJ12+'eq. coef.'!$C$179*'Amp (T-P-fO2 calculation)'!AK12+'eq. coef.'!$C$180*'Amp (T-P-fO2 calculation)'!AM12+'eq. coef.'!$C$181*'Amp (T-P-fO2 calculation)'!AO12+'eq. coef.'!$C$182*'Amp (T-P-fO2 calculation)'!AP12+'eq. coef.'!$C$183*'Amp (T-P-fO2 calculation)'!AQ12+'eq. coef.'!$C$184*'Amp (T-P-fO2 calculation)'!AR12)) -> 568.419 | BC12: =IF(SUM(H12:S12)<90," ",('eq. coef.'!$C$234+'eq. coef.'!$C$235*'Amp (T-P-fO2 calculation)'!AI12+'eq. coef.'!$C$236*'Amp (T-P-fO2 calculation)'!AJ12+'eq. coef.'!$C$237*'Amp (T-P-fO2 calculation)'!AK12+'eq. coef.'!$C$238*'Amp (T-P-fO2 calculation)'!AM12+'eq. coef.'!$C$239*'Amp (T-P-fO2 calculation)'!AO12+'eq. coef.'!$C$240*'Amp (T-P-fO2 calculation)'!AP12+'eq. coef.'!$C$241*'Amp (T-P-fO2 calculation)'!AQ12+'eq. coef.'!$C$242*'Amp (T-P-fO2 calculation)'!AR12)) -> 562.92247 | BD12: =IF(SUM(H12:S12)<90," ",('eq. coef.'!$C$270+'eq. coef.'!$C$271*'Amp (T-P-fO2 calculation)'!AI12+'eq. coef.'!$C$272*'Amp (T-P-fO2 calculation)'!AJ12+'eq. coef.'!$C$273*'Amp (T-P-fO2 calculation)'!AK12+'eq. coef.'!$C$274*'Amp (T-P-fO2 calculation)'!AM12+'eq. coef.'!$C$275*'Amp (T-P-fO2 calculation)'!AO12+'eq. coef.'!$C$276*'Amp (T-P-fO2 calculation)'!AP12+'eq. coef.'!$C$277*'Amp (T-P-fO2 calculation)'!AQ12+'eq. coef.'!$C$278*'Amp (T-P-fO2 calculation)'!AR12)) -> 684.44596 | BE12: =IF(SUM(H12:S12)<90," ",EXP('eq. coef.'!$C$328+'eq. coef.'!$C$329*'Amp (T-P-fO2 calculation)'!AI12+'eq. coef.'!$C$330*'Amp (T-P-fO2 calculation)'!AJ12+'eq. coef.'!$C$331*'Amp (T-P-fO2 calculation)'!AK12+'eq. coef.'!$C$332*'Amp (T-P-fO2 calculation)'!AM12+'eq. coef.'!$C$333*'Amp (T-P-fO2 calculation)'!AO12+'eq. coef.'!$C$334*'Amp (T-P-fO2 calculation)'!AP12+'eq. coef.'!$C$335*'Amp (T-P-fO2 calculation)'!AQ12+'eq. coef.'!$C$336*'Amp (T-P-fO2 calculation)'!AR12)) -> 1007.4144 | BF12: =IF(SUM(H12:S12)<90," ",IF(AZ12<98.5,"low Total",IF(AZ12>102,"high Total",IF(DG12>46.5,"unbalanced",IF(CQ12<0,"unbalanced",IF(DI12<0.54,"low-Mg",IF(CU12<1.5,"low-Ca",IF(CW12<1.99,"low-B cations",IF(CU12>2.05,"high-Ca",IF(DK12>0.25,"high-Al#",IF(H12<38.8-0.42,"low-SiO2",IF(H12>49.8,"high-SiO2",IF(CI12>0.06+0.06*0.2,"high-[4]Ti",IF(CL12>0.57+0.57*0.074,"high-[6]Al",IF(CM12>0.7+0.7*0.07,"high-[6]Ti",IF(CN12>0.04+0.04*0.1,"high-Cr2O3",IF(CO12>1.37+1.37*0.28,"high-Fe3+",IF(N12<9.71-0.35,"low-MgO",IF(N12>18.01+0.35,"high-MgO",IF(CQ12>1.69+1.69*0.28,"high-Fe2+",IF(M12>0.58+0.58*0.3,"high-MnO",IF(O12>12.35+0.25,"high-CaO",IF(CY12<0,"low-ANa",IF(CY12>0.58+0.58*0.11,"high-ANa",IF(Q12<0,"low-K2O",IF(Q12>2.03+0.05,"high-K2O",IF(DA12<0.03-0.03*0.3,"low-A(Na+K)",IF(DA12>1,"high-A(Na+K)",IF(J12<6.5,"low-Al2O3",IF(J12>15.9+0.36,"high-Al2O3",IF(I12<1.1-0.2,"low-TiO2",IF(L12<5.85-0.44,"low-FeO",IF(L12>16.92+0.44,"high-FeO",IF(P12<1.07-0.1,"low-Na2O",IF(P12>3.05+0.1,"high-Na2O","ok"))))))))))))))))))))))))))))))))))) -> ok | BG12: =IF(SUM(H12:S12)<90," ",IF(DI12<0.54,"low-Mg",IF(CU12<1.5,"low-Ca",IF(CW12<1.99,"low-B cations",IF(CU12>2.05,"high-Ca",IF(DK12>0.24,"high-Al#",IF(H12<39.2-0.42,"low-SiO2",IF(H12>46.2+0.42,"high-SiO2",IF(CI12>0.06+0.06*0.2,"high-[4]Ti",IF(CL12>0.48+0.48*0.074,"high-[6]Al",IF(CM12>0.66+0.66*0.07,"high-[6]Ti",IF(CN12>0.04+0.04*0.1,"high-Cr2O3",IF(CO12>1.25+1.25*0.28,"high-Fe3+",IF(N12<9.71-0.35,"low-MgO",IF(N12>16.7+0.35,"high-MgO",IF(CQ12>1.69+1.69*0.28,"high-Fe2+",IF(M12>0.32+0.32*0.3,"high-MnO",IF(O12>12.35+0.25,"high-CaO",IF(CY12<0.1,"low-ANa",IF(CY12>0.57+0.57*0.11,"high-ANa",IF(Q12<0,"low-K2O",IF(Q12>1.3+0.05,"high-K2O",IF(DA12<0.17-0.17*0.3,"low-A(Na+K)",IF(DA12>0.9,"high-A(Na+K)",IF(J12<8.5,"low-Al2O3",IF(J12>14.6+0.4,"high-Al2O3",IF(I12<1.3-0.2,"low-TiO2",IF(L12<8.7-0.44,"low-FeO",IF(L12>16.92+0.44,"high-FeO",IF(P12<1.6-0.1,"low-Na2O",IF(P12>2.65+0.1,"high-Na2O","ok"))))))))))))))))))))))))))))))) -> ok | BH12: =IF(SUM(H12:S12)<90," ",IF(DI12<0.54,"low-Mg",IF(CU12<1.5,"low-Ca",IF(CW12<1.99,"low-B cations",IF(CU12>2.05,"high-Ca",IF(DK12>0.24,"high-Al#",IF(H12<38.8-0.42,"low-SiO2",IF(H12>47.9+0.42,"high-SiO2",IF(CI12>0.06+0.06*0.2,"high-[4]Ti",IF(CL12>0.55+0.55*0.074,"high-[6]Al",IF(CM12>0.7+0.7*0.07,"high-[6]Ti",IF(CN12>0.03+0.03*0.1,"high-Cr2O3",IF(CO12>1.37+1.37*0.28,"high-Fe3+",IF(N12<9.71-0.35,"low-MgO",IF(N12>18+0.35,"high-MgO",IF(CQ12>1.69+1.69*0.28,"high-Fe2+",IF(M12>0.58+0.58*0.3,"high-MnO",IF(O12>12.35+0.25,"high-CaO",IF(CY12<0,"low-ANa",IF(CY12>0.58+0.58*0.11,"high-ANa",IF(Q12<0,"low-K2O",IF(Q12>2+0.05,"high-K2O",IF(DA12<0.07-0.07*0.3,"low-A(Na+K)",IF(DA12>0.9,"high-A(Na+K)",IF(J12<6.5,"low-Al2O3",IF(J12>15.9+0.4,"high-Al2O3",IF(I12<1.1-0.2,"low-TiO2",IF(L12<5.9-0.44,"low-FeO",IF(L12>16.92+0.44,"high-FeO",IF(P12<1.28-0.1,"low-Na2O",IF(P12>2.9+0.1,"high-Na2O","ok"))))))))))))))))))))))))))))))) -> ok | BI12: =IF(SUM(H12:S12)<90," ",ABS(BA12-BO12)/(BA12+BO12)*200) -> 26.464187 | BJ12: =IF(SUM(H12:S12)<90," ",(BA12-BE12)/BA12) -> -0.36469004 | BK12: =IF(SUM(H12:S12)<90," ",BD12-BB12) -> 116.02697 | BL12: =IF(SUM(H12:S12)<90," ",'eq. coef.'!$C$360+'eq. coef.'!$C$361*'Amp (T-P-fO2 calculation)'!AI12+'eq. coef.'!$C$362*'Amp (T-P-fO2 calculation)'!AJ12+'eq. coef.'!$C$363*'Amp (T-P-fO2 calculation)'!AK12+'eq. coef.'!$C$364*'Amp (T-P-fO2 calculation)'!AM12+'eq. coef.'!$C$365*'Amp (T-P-fO2 calculation)'!AO12+'eq. coef.'!$C$366*'Amp (T-P-fO2 calculation)'!AP12+'eq. coef.'!$C$367*'Amp (T-P-fO2 calculation)'!AQ12+'eq. coef.'!$C$368*'Amp (T-P-fO2 calculation)'!AR12+'eq. coef.'!$C$369*LN(BO12)) -> 905.46906 | BM12: =IF(SUM(H12:S12)<90," ",22) -> 22 | BN12: =IF(SUM(H12:S12)<90," ",BM12^2) -> 484 | BO12: =IF(SUM(H12:S12)<90," ",IF(BB12<335,BB12,IF(BB12<399,AVERAGE(BB12:BC12),IF(BC12<415,BC12,IF(BD12<470,BC12,IF(BJ12>0.22,AVERAGE(BC12:BD12),IF(BK12>350,BE12,IF(BK12>210,BD12,IF(BK12<75,BC12,IF(BJ12<-0.2,AVERAGE(BB12:BC12),IF(BJ12>0.05,AVERAGE(BC12:BD12),BA12))))))))))) -> 565.67073 | BP12: =IF(SUM(H12:S12)<90," ",IF(BO12=BA12,"P1a",IF(BO12=BB12,"P1b",IF(BO12=BC12,"P1c",IF(BO12=BD12,"P1d",IF(BO12=BE12,"P1e",IF(BO12=AVERAGE(BB12:BC12),"P1b_c","P1c_d"))))))) -> P1b_c | BR12: =ABS(BQ12) -> 0 | BS12: =BQ12^2 -> 0 | BT12: =IF(SUM(H12:S12)<90," ",BO12*0.12) -> 67.880488 | BU12: =(-4.76+5.6*DL12)*100 -> 931.37025 | BV12: =2400/(1.52-LOG10(CM12))-273 -> 820.75908 | BW12: =IF(SUM(H12:S12)<90," ",'eq. coef.'!$B$1128*'Amp (T-P-fO2 calculation)'!CH12+'eq. coef.'!$B$1129*'Amp (T-P-fO2 calculation)'!CL12+'eq. coef.'!$B$1130*'Amp (T-P-fO2 calculation)'!CM12+'eq. coef.'!$B$1131*'Amp (T-P-fO2 calculation)'!CO12+'eq. coef.'!$B$1132*'Amp (T-P-fO2 calculation)'!CP12+'eq. coef.'!$B$1133*'Amp (T-P-fO2 calculation)'!CQ12+'eq. coef.'!$B$1134*'Amp (T-P-fO2 calculation)'!CR12+'eq. coef.'!$B$1135*'Amp (T-P-fO2 calculation)'!CU12+'eq. coef.'!$B$1135*'Amp (T-P-fO2 calculation)'!CY12+'eq. coef.'!$B$1137*'Amp (T-P-fO2 calculation)'!CZ12) -> 3.7655864 | BX12: =IF(SUM(H12:S12)<90," ",0.4) -> 0.4 | BZ12: =12.78-25073/(BL12+273.15)-1.1*LOG10(BL12+273.15)+450*(BO12/1000)/(BL12+273.15)+0.025*(BO12/1000) -> -11.641595 | CA12: =CC12-CB12 -> 2.3410401 | CB12: =2.19144+15305300/(BL12+273.15)/(BL12+273.15)/(BL12+273.15)-1551.42/(BL12+273.15)/(BL12+273.15)+(-25137+0.0477703*(BO12*10))/(BL12+273.15)+0.000109305*(BL12+273.15)+2.7838*LOG10(BL12+273.15) -> -10.219642 | CC12: =IF(SUM(H12:S12)<90," ",-25018.7/(BL12+273.15) + 12.981 + 0.046*(BO12*10- 1)/(BL12+273.15) + -0.5117*LN(BL12+273.15)+BW12) -> -7.8786015 | CE12: =IF(SUM(H12:S12)<90," ",EXP('eq. coef.'!$B$1156*'Amp (T-P-fO2 calculation)'!CH12+'eq. coef.'!$B$1157*'Amp (T-P-fO2 calculation)'!CL12+'eq. coef.'!$B$1158*'Amp (T-P-fO2 calculation)'!CM12+'eq. coef.'!$B$1159*'Amp (T-P-fO2 calculation)'!CO12+'eq. coef.'!$B$1160*'Amp (T-P-fO2 calculation)'!CP12+'eq. coef.'!$B$1161*'Amp (T-P-fO2 calculation)'!CQ12+'eq. coef.'!$B$1162*'Amp (T-P-fO2 calculation)'!CR12+'eq. coef.'!$B$1163*'Amp (T-P-fO2 calculation)'!CU12+'eq. coef.'!$B$1164*'Amp (T-P-fO2 calculation)'!CY12+'eq. coef.'!$B$1165*'Amp (T-P-fO2 calculation)'!CZ12)) -> 9.1548792 | CF12: =IF(SUM(H12:S12)<90," ",CE12*0.17) -> 1.5563295 | CG12: =IF(SUM(H12:S12)<90," ",AI12) -> 5.8835482 | CH12: =IF(SUM(H12:S12)<90," ",IF(AI12+AK12>8,8-AI12,AK12)) -> 2.1164518 | CI12: =IF(SUM(H12:S12)<90," ",IF(CG12+CH12<8,8-CG12-CH12,0)) -> 0 | CJ12: =IF(SUM(H12:S12)<90," ",SUM(CG12:CI12)) -> 8 | CL12: =IF(SUM(H12:S12)<90," ",AK12-CH12) -> 0.39670939 | CM12: =IF(SUM(H12:S12)<90," ",AJ12-CI12) -> 0.21170567 | CN12: =IF(SUM(H12:S12)<90," ",AL12) -> 0.0049593042 | CO12: =IF(SUM(H12:S12)<90," ",IF(DG12>46,0,46-DG12)) -> 0.70712083 | CP12: =IF(SUM(H12:S12)<90," ",AO12) -> 2.4682195 | CQ12: =IF(SUM(H12:S12)<90," ",AM12-CO12) -> 1.1834557 | CR12: =IF(SUM(H12:S12)<90," ",AN12) -> 0.027829597 | CS12: =IF(SUM(H12:S12)<90," ",SUM(CL12:CR12)) -> 5 | CU12: =IF(SUM(H12:S12)<90," ",AP12) -> 1.8822395 | CV12: =IF(SUM(H12:S12)<90," ",IF(2-CU12<=AQ12,2-CU12,AQ12)) -> 0.11776048 | CW12: =IF(SUM(H12:S12)<90," ",SUM(CU12:CV12)) -> 2 | CY12: =IF(SUM(H12:S12)<90," ",AQ12-CV12) -> 0.44746573 | CZ12: =IF(SUM(H12:S12)<90," ",AR12) -> 0.25454564 | DA12: =IF(SUM(H12:S12)<90," ",SUM(CY12:CZ12)) -> 0.70201137 | DC12: =IF(SUM(H12:S12)<90," ",2-DD12-DE12) -> 1.9936723 | DD12: =IF(SUM(H12:S12)<90," ",AS12) -> 0 | DE12: =IF(SUM(H12:S12)<90," ",AT12) -> 0.0063276736 | DF12: =IF(SUM(H12:S12)<90," ",SUM(DC12:DE12)) -> 2 | DG12: =IF(SUM(H12:S12)<90," ",AI12*4+AJ12*4+AK12*3+AL12*3+AM12*2+AN12*2+AO12*2+AP12*2+AQ12+AR12) -> 45.292879 | DI12: =IF(SUM(H12:S12)<90," ",CP12/(CP12+CQ12)) -> 0.6759143 | DJ12: =IF(SUM(H12:S12)<90," ",CP12/(CP12+CO12+CQ12)) -> 0.56626175 | DK12: =IF(SUM(H12:S12)<90," ",CL12/(CL12+CH12)) -> 0.15785275 | DL12: =IF(SUM(H12:S12)<90," ",CL12+CH12) -> 2.5131612
A13: DH0101 | B13: hornblendite | C13: 460 | D13: A40 | E13: Magnesio-hastingsite | F13: No | H13: 39.776 | I13: 1.798 | J13: 13.758 | K13: 0.023 | L13: 14.636 | M13: 0.217 | N13: 11.42 | O13: 11.927 | P13: 1.953 | Q13: 1.26 | R13: 0 | S13: 0.013 | T13: =IF(SUM(H13:S13)<90," ",SUM(H13:S13)) -> 96.781 | U13: =IF(SUM(H13:S13)<90," ",H13/stab.data!$U$7) -> 0.66200652 | V13: =IF(SUM(H13:S13)<90," ",I13/stab.data!$U$8) -> 0.022503692 | W13: =IF(SUM(H13:S13)<90," ",J13*2/stab.data!$U$9) -> 0.26986789 | X13: =IF(SUM(H13:S13)<90," ",K13*2/stab.data!$U$10) -> 0.00030265109 | Y13: =IF(SUM(H13:S13)<90," ",L13/stab.data!$U$11) -> 0.2037135 | Z13: =IF(SUM(H13:S13)<90," ",M13/stab.data!$U$12) -> 0.0030590524 | AA13: =IF(SUM(H13:S13)<90," ",N13/stab.data!$U$13) -> 0.28334657 | AB13: =IF(SUM(H13:S13)<90," ",O13/stab.data!$U$14) -> 0.21268211 | AC13: =IF(SUM(H13:S13)<90," ",P13*2/stab.data!$U$15) -> 0.063021346 | AD13: =IF(SUM(H13:S13)<90," ",Q13*2/stab.data!$U$16) -> 0.026753012 | AE13: =IF(SUM(H13:S13)<90," ",R13/stab.data!$U$17) -> 0 | AF13: =IF(SUM(H13:S13)<90," ",S13/stab.data!$U$18) -> 0.00036668265 | AG13: =IF(SUM(H13:S13)<90," ",SUM(U13:AA13)) -> 1.4447999 | AH13: =IF(SUM(H13:S13)<90," ",AK13/SUM(AI13:AR13)) -> 0.15445237 | AI13: =IF(SUM(H13:S13)<90," ",U13*13/$AG13) -> 5.956593 | AJ13: =IF(SUM(H13:S13)<90," ",V13*13/$AG13) -> 0.20248341 | AK13: =IF(SUM(H13:S13)<90," ",W13*13/$AG13) -> 2.4282135 | AL13: =IF(SUM(H13:S13)<90," ",X13*13/$AG13) -> 0.0027231897 | AM13: =IF(SUM(H13:S13)<90," ",Y13*13/$AG13) -> 1.8329705 | AN13: =IF(SUM(H13:S13)<90," ",Z13*13/$AG13) -> 0.027524699 | AO13: =IF(SUM(H13:S13)<90," ",AA13*13/$AG13) -> 2.5494917 | AP13: =IF(SUM(H13:S13)<90," ",AB13*13/$AG13) -> 1.9136681 | AQ13: =IF(SUM(H13:S13)<90," ",AC13*13/$AG13) -> 0.56705258 | AR13: =IF(SUM(H13:S13)<90," ",AD13*13/$AG13) -> 0.24071788 | AS13: =IF(SUM(H13:S13)<90," ",AE13*13/$AG13) -> 0 | AT13: =IF(SUM(H13:S13)<90," ",AF13*13/$AG13) -> 0.003299332 | AU13: =IF(SUM(H13:S13)<90," ",SUM(AI13:AR13)) -> 15.721439 | AV13: =IF(SUM(H13:S13)<90," ",(2-AS13-AT13)*AG13*17/13/2) -> 1.8862369 | AW13: =IF(SUM(H13:S13)<90," ",CO13*AG13*stab.data!$U$20/13/2) -> 5.4645851 | AX13: =IF(SUM(H13:S13)<90," ",CQ13*AG13*stab.data!$U$11/13) -> 9.7188966 | AY13: =IF(SUM(H13:S13)<90," ",-(R13*0.421070639014633+S13*0.225636758525372)) -> -0.0029332779 | AZ13: =IF(SUM(H13:S13)<90," ",SUM(H13:S13)-L13+AV13+AW13+AX13+AY13) -> 99.211785 | BA13: =IF(SUM(H13:S13)<90," ",EXP('eq. coef.'!$C$104+'eq. coef.'!$C$105*'Amp (T-P-fO2 calculation)'!AI13+'eq. coef.'!$C$106*'Amp (T-P-fO2 calculation)'!AJ13+'eq. coef.'!$C$107*'Amp (T-P-fO2 calculation)'!AK13+'eq. coef.'!$C$108*'Amp (T-P-fO2 calculation)'!AM13+'eq. coef.'!$C$109*'Amp (T-P-fO2 calculation)'!AO13+'eq. coef.'!$C$110*'Amp (T-P-fO2 calculation)'!AP13+'eq. coef.'!$C$111*'Amp (T-P-fO2 calculation)'!AQ13+'eq. coef.'!$C$112*'Amp (T-P-fO2 calculation)'!AR13)) -> 617.49299 | BB13: =IF(SUM(H13:S13)<90," ",EXP('eq. coef.'!$C$176+'eq. coef.'!$C$177*'Amp (T-P-fO2 calculation)'!AI13+'eq. coef.'!$C$178*'Amp (T-P-fO2 calculation)'!AJ13+'eq. coef.'!$C$179*'Amp (T-P-fO2 calculation)'!AK13+'eq. coef.'!$C$180*'Amp (T-P-fO2 calculation)'!AM13+'eq. coef.'!$C$181*'Amp (T-P-fO2 calculation)'!AO13+'eq. coef.'!$C$182*'Amp (T-P-fO2 calculation)'!AP13+'eq. coef.'!$C$183*'Amp (T-P-fO2 calculation)'!AQ13+'eq. coef.'!$C$184*'Amp (T-P-fO2 calculation)'!AR13)) -> 499.45048 | BC13: =IF(SUM(H13:S13)<90," ",('eq. coef.'!$C$234+'eq. coef.'!$C$235*'Amp (T-P-fO2 calculation)'!AI13+'eq. coef.'!$C$236*'Amp (T-P-fO2 calculation)'!AJ13+'eq. coef.'!$C$237*'Amp (T-P-fO2 calculation)'!AK13+'eq. coef.'!$C$238*'Amp (T-P-fO2 calculation)'!AM13+'eq. coef.'!$C$239*'Amp (T-P-fO2 calculation)'!AO13+'eq. coef.'!$C$240*'Amp (T-P-fO2 calculation)'!AP13+'eq. coef.'!$C$241*'Amp (T-P-fO2 calculation)'!AQ13+'eq. coef.'!$C$242*'Amp (T-P-fO2 calculation)'!AR13)) -> 519.40312 | BD13: =IF(SUM(H13:S13)<90," ",('eq. coef.'!$C$270+'eq. coef.'!$C$271*'Amp (T-P-fO2 calculation)'!AI13+'eq. coef.'!$C$272*'Amp (T-P-fO2 calculation)'!AJ13+'eq. coef.'!$C$273*'Amp (T-P-fO2 calculation)'!AK13+'eq. coef.'!$C$274*'Amp (T-P-fO2 calculation)'!AM13+'eq. coef.'!$C$275*'Amp (T-P-fO2 calculation)'!AO13+'eq. coef.'!$C$276*'Amp (T-P-fO2 calculation)'!AP13+'eq. coef.'!$C$277*'Amp (T-P-fO2 calculation)'!AQ13+'eq. coef.'!$C$278*'Amp (T-P-fO2 calculation)'!AR13)) -> 609.00202 | BE13: =IF(SUM(H13:S13)<90," ",EXP('eq. coef.'!$C$328+'eq. coef.'!$C$329*'Amp (T-P-fO2 calculation)'!AI13+'eq. coef.'!$C$330*'Amp (T-P-fO2 calculation)'!AJ13+'eq. coef.'!$C$331*'Amp (T-P-fO2 calculation)'!AK13+'eq. coef.'!$C$332*'Amp (T-P-fO2 calculation)'!AM13+'eq. coef.'!$C$333*'Amp (T-P-fO2 calculation)'!AO13+'eq. coef.'!$C$334*'Amp (T-P-fO2 calculation)'!AP13+'eq. coef.'!$C$335*'Amp (T-P-fO2 calculation)'!AQ13+'eq. coef.'!$C$336*'Amp (T-P-fO2 calculation)'!AR13)) -> 997.29763 | BF13: =IF(SUM(H13:S13)<90," ",IF(AZ13<98.5,"low Total",IF(AZ13>102,"high Total",IF(DG13>46.5,"unbalanced",IF(CQ13<0,"unbalanced",IF(DI13<0.54,"low-Mg",IF(CU13<1.5,"low-Ca",IF(CW13<1.99,"low-B cations",IF(CU13>2.05,"high-Ca",IF(DK13>0.25,"high-Al#",IF(H13<38.8-0.42,"low-SiO2",IF(H13>49.8,"high-SiO2",IF(CI13>0.06+0.06*0.2,"high-[4]Ti",IF(CL13>0.57+0.57*0.074,"high-[6]Al",IF(CM13>0.7+0.7*0.07,"high-[6]Ti",IF(CN13>0.04+0.04*0.1,"high-Cr2O3",IF(CO13>1.37+1.37*0.28,"high-Fe3+",IF(N13<9.71-0.35,"low-MgO",IF(N13>18.01+0.35,"high-MgO",IF(CQ13>1.69+1.69*0.28,"high-Fe2+",IF(M13>0.58+0.58*0.3,"high-MnO",IF(O13>12.35+0.25,"high-CaO",IF(CY13<0,"low-ANa",IF(CY13>0.58+0.58*0.11,"high-ANa",IF(Q13<0,"low-K2O",IF(Q13>2.03+0.05,"high-K2O",IF(DA13<0.03-0.03*0.3,"low-A(Na+K)",IF(DA13>1,"high-A(Na+K)",IF(J13<6.5,"low-Al2O3",IF(J13>15.9+0.36,"high-Al2O3",IF(I13<1.1-0.2,"low-TiO2",IF(L13<5.85-0.44,"low-FeO",IF(L13>16.92+0.44,"high-FeO",IF(P13<1.07-0.1,"low-Na2O",IF(P13>3.05+0.1,"high-Na2O","ok"))))))))))))))))))))))))))))))))))) -> ok | BG13: =IF(SUM(H13:S13)<90," ",IF(DI13<0.54,"low-Mg",IF(CU13<1.5,"low-Ca",IF(CW13<1.99,"low-B cations",IF(CU13>2.05,"high-Ca",IF(DK13>0.24,"high-Al#",IF(H13<39.2-0.42,"low-SiO2",IF(H13>46.2+0.42,"high-SiO2",IF(CI13>0.06+0.06*0.2,"high-[4]Ti",IF(CL13>0.48+0.48*0.074,"high-[6]Al",IF(CM13>0.66+0.66*0.07,"high-[6]Ti",IF(CN13>0.04+0.04*0.1,"high-Cr2O3",IF(CO13>1.25+1.25*0.28,"high-Fe3+",IF(N13<9.71-0.35,"low-MgO",IF(N13>16.7+0.35,"high-MgO",IF(CQ13>1.69+1.69*0.28,"high-Fe2+",IF(M13>0.32+0.32*0.3,"high-MnO",IF(O13>12.35+0.25,"high-CaO",IF(CY13<0.1,"low-ANa",IF(CY13>0.57+0.57*0.11,"high-ANa",IF(Q13<0,"low-K2O",IF(Q13>1.3+0.05,"high-K2O",IF(DA13<0.17-0.17*0.3,"low-A(Na+K)",IF(DA13>0.9,"high-A(Na+K)",IF(J13<8.5,"low-Al2O3",IF(J13>14.6+0.4,"high-Al2O3",IF(I13<1.3-0.2,"low-TiO2",IF(L13<8.7-0.44,"low-FeO",IF(L13>16.92+0.44,"high-FeO",IF(P13<1.6-0.1,"low-Na2O",IF(P13>2.65+0.1,"high-Na2O","ok"))))))))))))))))))))))))))))))) -> ok | BH13: =IF(SUM(H13:S13)<90," ",IF(DI13<0.54,"low-Mg",IF(CU13<1.5,"low-Ca",IF(CW13<1.99,"low-B cations",IF(CU13>2.05,"high-Ca",IF(DK13>0.24,"high-Al#",IF(H13<38.8-0.42,"low-SiO2",IF(H13>47.9+0.42,"high-SiO2",IF(CI13>0.06+0.06*0.2,"high-[4]Ti",IF(CL13>0.55+0.55*0.074,"high-[6]Al",IF(CM13>0.7+0.7*0.07,"high-[6]Ti",IF(CN13>0.03+0.03*0.1,"high-Cr2O3",IF(CO13>1.37+1.37*0.28,"high-Fe3+",IF(N13<9.71-0.35,"low-MgO",IF(N13>18+0.35,"high-MgO",IF(CQ13>1.69+1.69*0.28,"high-Fe2+",IF(M13>0.58+0.58*0.3,"high-MnO",IF(O13>12.35+0.25,"high-CaO",IF(CY13<0,"low-ANa",IF(CY13>0.58+0.58*0.11,"high-ANa",IF(Q13<0,"low-K2O",IF(Q13>2+0.05,"high-K2O",IF(DA13<0.07-0.07*0.3,"low-A(Na+K)",IF(DA13>0.9,"high-A(Na+K)",IF(J13<6.5,"low-Al2O3",IF(J13>15.9+0.4,"high-Al2O3",IF(I13<1.1-0.2,"low-TiO2",IF(L13<5.9-0.44,"low-FeO",IF(L13>16.92+0.44,"high-FeO",IF(P13<1.28-0.1,"low-Na2O",IF(P13>2.9+0.1,"high-Na2O","ok"))))))))))))))))))))))))))))))) -> ok | BI13: =IF(SUM(H13:S13)<90," ",ABS(BA13-BO13)/(BA13+BO13)*200) -> 19.17904 | BJ13: =IF(SUM(H13:S13)<90," ",(BA13-BE13)/BA13) -> -0.61507522 | BK13: =IF(SUM(H13:S13)<90," ",BD13-BB13) -> 109.55155 | BL13: =IF(SUM(H13:S13)<90," ",'eq. coef.'!$C$360+'eq. coef.'!$C$361*'Amp (T-P-fO2 calculation)'!AI13+'eq. coef.'!$C$362*'Amp (T-P-fO2 calculation)'!AJ13+'eq. coef.'!$C$363*'Amp (T-P-fO2 calculation)'!AK13+'eq. coef.'!$C$364*'Amp (T-P-fO2 calculation)'!AM13+'eq. coef.'!$C$365*'Amp (T-P-fO2 calculation)'!AO13+'eq. coef.'!$C$366*'Amp (T-P-fO2 calculation)'!AP13+'eq. coef.'!$C$367*'Amp (T-P-fO2 calculation)'!AQ13+'eq. coef.'!$C$368*'Amp (T-P-fO2 calculation)'!AR13+'eq. coef.'!$C$369*LN(BO13)) -> 896.94748 | BM13: =IF(SUM(H13:S13)<90," ",22) -> 22 | BN13: =IF(SUM(H13:S13)<90," ",BM13^2) -> 484 | BO13: =IF(SUM(H13:S13)<90," ",IF(BB13<335,BB13,IF(BB13<399,AVERAGE(BB13:BC13),IF(BC13<415,BC13,IF(BD13<470,BC13,IF(BJ13>0.22,AVERAGE(BC13:BD13),IF(BK13>350,BE13,IF(BK13>210,BD13,IF(BK13<75,BC13,IF(BJ13<-0.2,AVERAGE(BB13:BC13),IF(BJ13>0.05,AVERAGE(BC13:BD13),BA13))))))))))) -> 509.4268 | BP13: =IF(SUM(H13:S13)<90," ",IF(BO13=BA13,"P1a",IF(BO13=BB13,"P1b",IF(BO13=BC13,"P1c",IF(BO13=BD13,"P1d",IF(BO13=BE13,"P1e",IF(BO13=AVERAGE(BB13:BC13),"P1b_c","P1c_d"))))))) -> P1b_c | BR13: =ABS(BQ13) -> 0 | BS13: =BQ13^2 -> 0 | BT13: =IF(SUM(H13:S13)<90," ",BO13*0.12) -> 61.131216 | BU13: =(-4.76+5.6*DL13)*100 -> 883.79957 | BV13: =2400/(1.52-LOG10(CM13))-273 -> 811.20155 | BW13: =IF(SUM(H13:S13)<90," ",'eq. coef.'!$B$1128*'Amp (T-P-fO2 calculation)'!CH13+'eq. coef.'!$B$1129*'Amp (T-P-fO2 calculation)'!CL13+'eq. coef.'!$B$1130*'Amp (T-P-fO2 calculation)'!CM13+'eq. coef.'!$B$1131*'Amp (T-P-fO2 calculation)'!CO13+'eq. coef.'!$B$1132*'Amp (T-P-fO2 calculation)'!CP13+'eq. coef.'!$B$1133*'Amp (T-P-fO2 calculation)'!CQ13+'eq. coef.'!$B$1134*'Amp (T-P-fO2 calculation)'!CR13+'eq. coef.'!$B$1135*'Amp (T-P-fO2 calculation)'!CU13+'eq. coef.'!$B$1135*'Amp (T-P-fO2 calculation)'!CY13+'eq. coef.'!$B$1137*'Amp (T-P-fO2 calculation)'!CZ13) -> 3.7837877 | BX13: =IF(SUM(H13:S13)<90," ",0.4) -> 0.4 | BZ13: =12.78-25073/(BL13+273.15)-1.1*LOG10(BL13+273.15)+450*(BO13/1000)/(BL13+273.15)+0.025*(BO13/1000) -> -11.814521 | CA13: =CC13-CB13 -> 2.3739892 | CB13: =2.19144+15305300/(BL13+273.15)/(BL13+273.15)/(BL13+273.15)-1551.42/(BL13+273.15)/(BL13+273.15)+(-25137+0.0477703*(BO13*10))/(BL13+273.15)+0.000109305*(BL13+273.15)+2.7838*LOG10(BL13+273.15) -> -10.405773 | CC13: =IF(SUM(H13:S13)<90," ",-25018.7/(BL13+273.15) + 12.981 + 0.046*(BO13*10- 1)/(BL13+273.15) + -0.5117*LN(BL13+273.15)+BW13) -> -8.0317835 | CE13: =IF(SUM(H13:S13)<90," ",EXP('eq. coef.'!$B$1156*'Amp (T-P-fO2 calculation)'!CH13+'eq. coef.'!$B$1157*'Amp (T-P-fO2 calculation)'!CL13+'eq. coef.'!$B$1158*'Amp (T-P-fO2 calculation)'!CM13+'eq. coef.'!$B$1159*'Amp (T-P-fO2 calculation)'!CO13+'eq. coef.'!$B$1160*'Amp (T-P-fO2 calculation)'!CP13+'eq. coef.'!$B$1161*'Amp (T-P-fO2 calculation)'!CQ13+'eq. coef.'!$B$1162*'Amp (T-P-fO2 calculation)'!CR13+'eq. coef.'!$B$1163*'Amp (T-P-fO2 calculation)'!CU13+'eq. coef.'!$B$1164*'Amp (T-P-fO2 calculation)'!CY13+'eq. coef.'!$B$1165*'Amp (T-P-fO2 calculation)'!CZ13)) -> 9.2077941 | CF13: =IF(SUM(H13:S13)<90," ",CE13*0.17) -> 1.565325 | CG13: =IF(SUM(H13:S13)<90," ",AI13) -> 5.956593 | CH13: =IF(SUM(H13:S13)<90," ",IF(AI13+AK13>8,8-AI13,AK13)) -> 2.043407 | CI13: =IF(SUM(H13:S13)<90," ",IF(CG13+CH13<8,8-CG13-CH13,0)) -> 0 | CJ13: =IF(SUM(H13:S13)<90," ",SUM(CG13:CI13)) -> 8 | CL13: =IF(SUM(H13:S13)<90," ",AK13-CH13) -> 0.38480651 | CM13: =IF(SUM(H13:S13)<90," ",AJ13-CI13) -> 0.20248341 | CN13: =IF(SUM(H13:S13)<90," ",AL13) -> 0.0027231897 | CO13: =IF(SUM(H13:S13)<90," ",IF(DG13>46,0,46-DG13)) -> 0.61580386 | CP13: =IF(SUM(H13:S13)<90," ",AO13) -> 2.5494917 | CQ13: =IF(SUM(H13:S13)<90," ",AM13-CO13) -> 1.2171666 | CR13: =IF(SUM(H13:S13)<90," ",AN13) -> 0.027524699 | CS13: =IF(SUM(H13:S13)<90," ",SUM(CL13:CR13)) -> 5 | CU13: =IF(SUM(H13:S13)<90," ",AP13) -> 1.9136681 | CV13: =IF(SUM(H13:S13)<90," ",IF(2-CU13<=AQ13,2-CU13,AQ13)) -> 0.086331909 | CW13: =IF(SUM(H13:S13)<90," ",SUM(CU13:CV13)) -> 2 | CY13: =IF(SUM(H13:S13)<90," ",AQ13-CV13) -> 0.48072067 | CZ13: =IF(SUM(H13:S13)<90," ",AR13) -> 0.24071788 | DA13: =IF(SUM(H13:S13)<90," ",SUM(CY13:CZ13)) -> 0.72143855 | DC13: =IF(SUM(H13:S13)<90," ",2-DD13-DE13) -> 1.9967007 | DD13: =IF(SUM(H13:S13)<90," ",AS13) -> 0 | DE13: =IF(SUM(H13:S13)<90," ",AT13) -> 0.003299332 | DF13: =IF(SUM(H13:S13)<90," ",SUM(DC13:DE13)) -> 2 | DG13: =IF(SUM(H13:S13)<90," ",AI13*4+AJ13*4+AK13*3+AL13*3+AM13*2+AN13*2+AO13*2+AP13*2+AQ13+AR13) -> 45.384196 | DI13: =IF(SUM(H13:S13)<90," ",CP13/(CP13+CQ13)) -> 0.67685771 | DJ13: =IF(SUM(H13:S13)<90," ",CP13/(CP13+CO13+CQ13)) -> 0.58174871 | DK13: =IF(SUM(H13:S13)<90," ",CL13/(CL13+CH13)) -> 0.15847309 | DL13: =IF(SUM(H13:S13)<90," ",CL13+CH13) -> 2.4282135
A14: DH0101 | B14: hornblendite | C14: 460 | D14: A40 | E14: Magnesio-hastingsite | F14: No | H14: 40 | I14: 1.834 | J14: 13.878 | K14: 0 | L14: 14.489 | M14: 0.237 | N14: 11.559 | O14: 11.563 | P14: 1.933 | Q14: 1.304 | R14: 0 | S14: 0.028 | T14: =IF(SUM(H14:S14)<90," ",SUM(H14:S14)) -> 96.825 | U14: =IF(SUM(H14:S14)<90," ",H14/stab.data!$U$7) -> 0.66573464 | V14: =IF(SUM(H14:S14)<90," ",I14/stab.data!$U$8) -> 0.022954267 | W14: =IF(SUM(H14:S14)<90," ",J14*2/stab.data!$U$9) -> 0.27222173 | X14: =IF(SUM(H14:S14)<90," ",K14*2/stab.data!$U$10) -> 0 | Y14: =IF(SUM(H14:S14)<90," ",L14/stab.data!$U$11) -> 0.20166746 | Z14: =IF(SUM(H14:S14)<90," ",M14/stab.data!$U$12) -> 0.0033409927 | AA14: =IF(SUM(H14:S14)<90," ",N14/stab.data!$U$13) -> 0.28679536 | AB14: =IF(SUM(H14:S14)<90," ",O14/stab.data!$U$14) -> 0.20619127 | AC14: =IF(SUM(H14:S14)<90," ",P14*2/stab.data!$U$15) -> 0.062375966 | AD14: =IF(SUM(H14:S14)<90," ",Q14*2/stab.data!$U$16) -> 0.027687245 | AE14: =IF(SUM(H14:S14)<90," ",R14/stab.data!$U$17) -> 0 | AF14: =IF(SUM(H14:S14)<90," ",S14/stab.data!$U$18) -> 0.00078977802 | AG14: =IF(SUM(H14:S14)<90," ",SUM(U14:AA14)) -> 1.4527144 | AH14: =IF(SUM(H14:S14)<90," ",AK14/SUM(AI14:AR14)) -> 0.15564698 | AI14: =IF(SUM(H14:S14)<90," ",U14*13/$AG14) -> 5.9575028 | AJ14: =IF(SUM(H14:S14)<90," ",V14*13/$AG14) -> 0.20541234 | AK14: =IF(SUM(H14:S14)<90," ",W14*13/$AG14) -> 2.4360483 | AL14: =IF(SUM(H14:S14)<90," ",X14*13/$AG14) -> 0 | AM14: =IF(SUM(H14:S14)<90," ",Y14*13/$AG14) -> 1.8046746 | AN14: =IF(SUM(H14:S14)<90," ",Z14*13/$AG14) -> 0.029897758 | AO14: =IF(SUM(H14:S14)<90," ",AA14*13/$AG14) -> 2.5664642 | AP14: =IF(SUM(H14:S14)<90," ",AB14*13/$AG14) -> 1.8451572 | AQ14: =IF(SUM(H14:S14)<90," ",AC14*13/$AG14) -> 0.55818786 | AR14: =IF(SUM(H14:S14)<90," ",AD14*13/$AG14) -> 0.24776664 | AS14: =IF(SUM(H14:S14)<90," ",AE14*13/$AG14) -> 0 | AT14: =IF(SUM(H14:S14)<90," ",AF14*13/$AG14) -> 0.0070675378 | AU14: =IF(SUM(H14:S14)<90," ",SUM(AI14:AR14)) -> 15.651112 | AV14: =IF(SUM(H14:S14)<90," ",(2-AS14-AT14)*AG14*17/13/2) -> 1.8929904 | AW14: =IF(SUM(H14:S14)<90," ",CO14*AG14*stab.data!$U$20/13/2) -> 6.6191926 | AX14: =IF(SUM(H14:S14)<90," ",CQ14*AG14*stab.data!$U$11/13) -> 8.532966 | AY14: =IF(SUM(H14:S14)<90," ",-(R14*0.421070639014633+S14*0.225636758525372)) -> -0.0063178292 | AZ14: =IF(SUM(H14:S14)<90," ",SUM(H14:S14)-L14+AV14+AW14+AX14+AY14) -> 99.374831 | BA14: =IF(SUM(H14:S14)<90," ",EXP('eq. coef.'!$C$104+'eq. coef.'!$C$105*'Amp (T-P-fO2 calculation)'!AI14+'eq. coef.'!$C$106*'Amp (T-P-fO2 calculation)'!AJ14+'eq. coef.'!$C$107*'Amp (T-P-fO2 calculation)'!AK14+'eq. coef.'!$C$108*'Amp (T-P-fO2 calculation)'!AM14+'eq. coef.'!$C$109*'Amp (T-P-fO2 calculation)'!AO14+'eq. coef.'!$C$110*'Amp (T-P-fO2 calculation)'!AP14+'eq. coef.'!$C$111*'Amp (T-P-fO2 calculation)'!AQ14+'eq. coef.'!$C$112*'Amp (T-P-fO2 calculation)'!AR14)) -> 695.73154 | BB14: =IF(SUM(H14:S14)<90," ",EXP('eq. coef.'!$C$176+'eq. coef.'!$C$177*'Amp (T-P-fO2 calculation)'!AI14+'eq. coef.'!$C$178*'Amp (T-P-fO2 calculation)'!AJ14+'eq. coef.'!$C$179*'Amp (T-P-fO2 calculation)'!AK14+'eq. coef.'!$C$180*'Amp (T-P-fO2 calculation)'!AM14+'eq. coef.'!$C$181*'Amp (T-P-fO2 calculation)'!AO14+'eq. coef.'!$C$182*'Amp (T-P-fO2 calculation)'!AP14+'eq. coef.'!$C$183*'Amp (T-P-fO2 calculation)'!AQ14+'eq. coef.'!$C$184*'Amp (T-P-fO2 calculation)'!AR14)) -> 533.20695 | BC14: =IF(SUM(H14:S14)<90," ",('eq. coef.'!$C$234+'eq. coef.'!$C$235*'Amp (T-P-fO2 calculation)'!AI14+'eq. coef.'!$C$236*'Amp (T-P-fO2 calculation)'!AJ14+'eq. coef.'!$C$237*'Amp (T-P-fO2 calculation)'!AK14+'eq. coef.'!$C$238*'Amp (T-P-fO2 calculation)'!AM14+'eq. coef.'!$C$239*'Amp (T-P-fO2 calculation)'!AO14+'eq. coef.'!$C$240*'Amp (T-P-fO2 calculation)'!AP14+'eq. coef.'!$C$241*'Amp (T-P-fO2 calculation)'!AQ14+'eq. coef.'!$C$242*'Amp (T-P-fO2 calculation)'!AR14)) -> 536.52193 | BD14: =IF(SUM(H14:S14)<90," ",('eq. coef.'!$C$270+'eq. coef.'!$C$271*'Amp (T-P-fO2 calculation)'!AI14+'eq. coef.'!$C$272*'Amp (T-P-fO2 calculation)'!AJ14+'eq. coef.'!$C$273*'Amp (T-P-fO2 calculation)'!AK14+'eq. coef.'!$C$274*'Amp (T-P-fO2 calculation)'!AM14+'eq. coef.'!$C$275*'Amp (T-P-fO2 calculation)'!AO14+'eq. coef.'!$C$276*'Amp (T-P-fO2 calculation)'!AP14+'eq. coef.'!$C$277*'Amp (T-P-fO2 calculation)'!AQ14+'eq. coef.'!$C$278*'Amp (T-P-fO2 calculation)'!AR14)) -> 668.57714 | BE14: =IF(SUM(H14:S14)<90," ",EXP('eq. coef.'!$C$328+'eq. coef.'!$C$329*'Amp (T-P-fO2 calculation)'!AI14+'eq. coef.'!$C$330*'Amp (T-P-fO2 calculation)'!AJ14+'eq. coef.'!$C$331*'Amp (T-P-fO2 calculation)'!AK14+'eq. coef.'!$C$332*'Amp (T-P-fO2 calculation)'!AM14+'eq. coef.'!$C$333*'Amp (T-P-fO2 calculation)'!AO14+'eq. coef.'!$C$334*'Amp (T-P-fO2 calculation)'!AP14+'eq. coef.'!$C$335*'Amp (T-P-fO2 calculation)'!AQ14+'eq. coef.'!$C$336*'Amp (T-P-fO2 calculation)'!AR14)) -> 965.39213 | BF14: =IF(SUM(H14:S14)<90," ",IF(AZ14<98.5,"low Total",IF(AZ14>102,"high Total",IF(DG14>46.5,"unbalanced",IF(CQ14<0,"unbalanced",IF(DI14<0.54,"low-Mg",IF(CU14<1.5,"low-Ca",IF(CW14<1.99,"low-B cations",IF(CU14>2.05,"high-Ca",IF(DK14>0.25,"high-Al#",IF(H14<38.8-0.42,"low-SiO2",IF(H14>49.8,"high-SiO2",IF(CI14>0.06+0.06*0.2,"high-[4]Ti",IF(CL14>0.57+0.57*0.074,"high-[6]Al",IF(CM14>0.7+0.7*0.07,"high-[6]Ti",IF(CN14>0.04+0.04*0.1,"high-Cr2O3",IF(CO14>1.37+1.37*0.28,"high-Fe3+",IF(N14<9.71-0.35,"low-MgO",IF(N14>18.01+0.35,"high-MgO",IF(CQ14>1.69+1.69*0.28,"high-Fe2+",IF(M14>0.58+0.58*0.3,"high-MnO",IF(O14>12.35+0.25,"high-CaO",IF(CY14<0,"low-ANa",IF(CY14>0.58+0.58*0.11,"high-ANa",IF(Q14<0,"low-K2O",IF(Q14>2.03+0.05,"high-K2O",IF(DA14<0.03-0.03*0.3,"low-A(Na+K)",IF(DA14>1,"high-A(Na+K)",IF(J14<6.5,"low-Al2O3",IF(J14>15.9+0.36,"high-Al2O3",IF(I14<1.1-0.2,"low-TiO2",IF(L14<5.85-0.44,"low-FeO",IF(L14>16.92+0.44,"high-FeO",IF(P14<1.07-0.1,"low-Na2O",IF(P14>3.05+0.1,"high-Na2O","ok"))))))))))))))))))))))))))))))))))) -> ok | BG14: =IF(SUM(H14:S14)<90," ",IF(DI14<0.54,"low-Mg",IF(CU14<1.5,"low-Ca",IF(CW14<1.99,"low-B cations",IF(CU14>2.05,"high-Ca",IF(DK14>0.24,"high-Al#",IF(H14<39.2-0.42,"low-SiO2",IF(H14>46.2+0.42,"high-SiO2",IF(CI14>0.06+0.06*0.2,"high-[4]Ti",IF(CL14>0.48+0.48*0.074,"high-[6]Al",IF(CM14>0.66+0.66*0.07,"high-[6]Ti",IF(CN14>0.04+0.04*0.1,"high-Cr2O3",IF(CO14>1.25+1.25*0.28,"high-Fe3+",IF(N14<9.71-0.35,"low-MgO",IF(N14>16.7+0.35,"high-MgO",IF(CQ14>1.69+1.69*0.28,"high-Fe2+",IF(M14>0.32+0.32*0.3,"high-MnO",IF(O14>12.35+0.25,"high-CaO",IF(CY14<0.1,"low-ANa",IF(CY14>0.57+0.57*0.11,"high-ANa",IF(Q14<0,"low-K2O",IF(Q14>1.3+0.05,"high-K2O",IF(DA14<0.17-0.17*0.3,"low-A(Na+K)",IF(DA14>0.9,"high-A(Na+K)",IF(J14<8.5,"low-Al2O3",IF(J14>14.6+0.4,"high-Al2O3",IF(I14<1.3-0.2,"low-TiO2",IF(L14<8.7-0.44,"low-FeO",IF(L14>16.92+0.44,"high-FeO",IF(P14<1.6-0.1,"low-Na2O",IF(P14>2.65+0.1,"high-Na2O","ok"))))))))))))))))))))))))))))))) -> ok | BH14: =IF(SUM(H14:S14)<90," ",IF(DI14<0.54,"low-Mg",IF(CU14<1.5,"low-Ca",IF(CW14<1.99,"low-B cations",IF(CU14>2.05,"high-Ca",IF(DK14>0.24,"high-Al#",IF(H14<38.8-0.42,"low-SiO2",IF(H14>47.9+0.42,"high-SiO2",IF(CI14>0.06+0.06*0.2,"high-[4]Ti",IF(CL14>0.55+0.55*0.074,"high-[6]Al",IF(CM14>0.7+0.7*0.07,"high-[6]Ti",IF(CN14>0.03+0.03*0.1,"high-Cr2O3",IF(CO14>1.37+1.37*0.28,"high-Fe3+",IF(N14<9.71-0.35,"low-MgO",IF(N14>18+0.35,"high-MgO",IF(CQ14>1.69+1.69*0.28,"high-Fe2+",IF(M14>0.58+0.58*0.3,"high-MnO",IF(O14>12.35+0.25,"high-CaO",IF(CY14<0,"low-ANa",IF(CY14>0.58+0.58*0.11,"high-ANa",IF(Q14<0,"low-K2O",IF(Q14>2+0.05,"high-K2O",IF(DA14<0.07-0.07*0.3,"low-A(Na+K)",IF(DA14>0.9,"high-A(Na+K)",IF(J14<6.5,"low-Al2O3",IF(J14>15.9+0.4,"high-Al2O3",IF(I14<1.1-0.2,"low-TiO2",IF(L14<5.9-0.44,"low-FeO",IF(L14>16.92+0.44,"high-FeO",IF(P14<1.28-0.1,"low-Na2O",IF(P14>2.9+0.1,"high-Na2O","ok"))))))))))))))))))))))))))))))) -> ok | BI14: =IF(SUM(H14:S14)<90," ",ABS(BA14-BO14)/(BA14+BO14)*200) -> 26.144584 | BJ14: =IF(SUM(H14:S14)<90," ",(BA14-BE14)/BA14) -> -0.38759287 | BK14: =IF(SUM(H14:S14)<90," ",BD14-BB14) -> 135.37019 | BL14: =IF(SUM(H14:S14)<90," ",'eq. coef.'!$C$360+'eq. coef.'!$C$361*'Amp (T-P-fO2 calculation)'!AI14+'eq. coef.'!$C$362*'Amp (T-P-fO2 calculation)'!AJ14+'eq. coef.'!$C$363*'Amp (T-P-fO2 calculation)'!AK14+'eq. coef.'!$C$364*'Amp (T-P-fO2 calculation)'!AM14+'eq. coef.'!$C$365*'Amp (T-P-fO2 calculation)'!AO14+'eq. coef.'!$C$366*'Amp (T-P-fO2 calculation)'!AP14+'eq. coef.'!$C$367*'Amp (T-P-fO2 calculation)'!AQ14+'eq. coef.'!$C$368*'Amp (T-P-fO2 calculation)'!AR14+'eq. coef.'!$C$369*LN(BO14)) -> 902.0467 | BM14: =IF(SUM(H14:S14)<90," ",22) -> 22 | BN14: =IF(SUM(H14:S14)<90," ",BM14^2) -> 484 | BO14: =IF(SUM(H14:S14)<90," ",IF(BB14<335,BB14,IF(BB14<399,AVERAGE(BB14:BC14),IF(BC14<415,BC14,IF(BD14<470,BC14,IF(BJ14>0.22,AVERAGE(BC14:BD14),IF(BK14>350,BE14,IF(BK14>210,BD14,IF(BK14<75,BC14,IF(BJ14<-0.2,AVERAGE(BB14:BC14),IF(BJ14>0.05,AVERAGE(BC14:BD14),BA14))))))))))) -> 534.86444 | BP14: =IF(SUM(H14:S14)<90," ",IF(BO14=BA14,"P1a",IF(BO14=BB14,"P1b",IF(BO14=BC14,"P1c",IF(BO14=BD14,"P1d",IF(BO14=BE14,"P1e",IF(BO14=AVERAGE(BB14:BC14),"P1b_c","P1c_d"))))))) -> P1b_c | BR14: =ABS(BQ14) -> 0 | BS14: =BQ14^2 -> 0 | BT14: =IF(SUM(H14:S14)<90," ",BO14*0.12) -> 64.183733 | BU14: =(-4.76+5.6*DL14)*100 -> 888.18704 | BV14: =2400/(1.52-LOG10(CM14))-273 -> 814.26503 | BW14: =IF(SUM(H14:S14)<90," ",'eq. coef.'!$B$1128*'Amp (T-P-fO2 calculation)'!CH14+'eq. coef.'!$B$1129*'Amp (T-P-fO2 calculation)'!CL14+'eq. coef.'!$B$1130*'Amp (T-P-fO2 calculation)'!CM14+'eq. coef.'!$B$1131*'Amp (T-P-fO2 calculation)'!CO14+'eq. coef.'!$B$1132*'Amp (T-P-fO2 calculation)'!CP14+'eq. coef.'!$B$1133*'Amp (T-P-fO2 calculation)'!CQ14+'eq. coef.'!$B$1134*'Amp (T-P-fO2 calculation)'!CR14+'eq. coef.'!$B$1135*'Amp (T-P-fO2 calculation)'!CU14+'eq. coef.'!$B$1135*'Amp (T-P-fO2 calculation)'!CY14+'eq. coef.'!$B$1137*'Amp (T-P-fO2 calculation)'!CZ14) -> 3.7195132 | BX14: =IF(SUM(H14:S14)<90," ",0.4) -> 0.4 | BZ14: =12.78-25073/(BL14+273.15)-1.1*LOG10(BL14+273.15)+450*(BO14/1000)/(BL14+273.15)+0.025*(BO14/1000) -> -11.714094 | CA14: =CC14-CB14 -> 2.3010007 | CB14: =2.19144+15305300/(BL14+273.15)/(BL14+273.15)/(BL14+273.15)-1551.42/(BL14+273.15)/(BL14+273.15)+(-25137+0.0477703*(BO14*10))/(BL14+273.15)+0.000109305*(BL14+273.15)+2.7838*LOG10(BL14+273.15) -> -10.29742 | CC14: =IF(SUM(H14:S14)<90," ",-25018.7/(BL14+273.15) + 12.981 + 0.046*(BO14*10- 1)/(BL14+273.15) + -0.5117*LN(BL14+273.15)+BW14) -> -7.996419 | CE14: =IF(SUM(H14:S14)<90," ",EXP('eq. coef.'!$B$1156*'Amp (T-P-fO2 calculation)'!CH14+'eq. coef.'!$B$1157*'Amp (T-P-fO2 calculation)'!CL14+'eq. coef.'!$B$1158*'Amp (T-P-fO2 calculation)'!CM14+'eq. coef.'!$B$1159*'Amp (T-P-fO2 calculation)'!CO14+'eq. coef.'!$B$1160*'Amp (T-P-fO2 calculation)'!CP14+'eq. coef.'!$B$1161*'Amp (T-P-fO2 calculation)'!CQ14+'eq. coef.'!$B$1162*'Amp (T-P-fO2 calculation)'!CR14+'eq. coef.'!$B$1163*'Amp (T-P-fO2 calculation)'!CU14+'eq. coef.'!$B$1164*'Amp (T-P-fO2 calculation)'!CY14+'eq. coef.'!$B$1165*'Amp (T-P-fO2 calculation)'!CZ14)) -> 8.5875672 | CF14: =IF(SUM(H14:S14)<90," ",CE14*0.17) -> 1.4598864 | CG14: =IF(SUM(H14:S14)<90," ",AI14) -> 5.9575028 | CH14: =IF(SUM(H14:S14)<90," ",IF(AI14+AK14>8,8-AI14,AK14)) -> 2.0424972 | CI14: =IF(SUM(H14:S14)<90," ",IF(CG14+CH14<8,8-CG14-CH14,0)) -> 0 | CJ14: =IF(SUM(H14:S14)<90," ",SUM(CG14:CI14)) -> 8 | CL14: =IF(SUM(H14:S14)<90," ",AK14-CH14) -> 0.39355105 | CM14: =IF(SUM(H14:S14)<90," ",AJ14-CI14) -> 0.20541234 | CN14: =IF(SUM(H14:S14)<90," ",AL14) -> 0 | CO14: =IF(SUM(H14:S14)<90," ",IF(DG14>46,0,46-DG14)) -> 0.74185269 | CP14: =IF(SUM(H14:S14)<90," ",AO14) -> 2.5664642 | CQ14: =IF(SUM(H14:S14)<90," ",AM14-CO14) -> 1.062822 | CR14: =IF(SUM(H14:S14)<90," ",AN14) -> 0.029897758 | CS14: =IF(SUM(H14:S14)<90," ",SUM(CL14:CR14)) -> 5 | CU14: =IF(SUM(H14:S14)<90," ",AP14) -> 1.8451572 | CV14: =IF(SUM(H14:S14)<90," ",IF(2-CU14<=AQ14,2-CU14,AQ14)) -> 0.15484284 | CW14: =IF(SUM(H14:S14)<90," ",SUM(CU14:CV14)) -> 2 | CY14: =IF(SUM(H14:S14)<90," ",AQ14-CV14) -> 0.40334502 | CZ14: =IF(SUM(H14:S14)<90," ",AR14) -> 0.24776664 | DA14: =IF(SUM(H14:S14)<90," ",SUM(CY14:CZ14)) -> 0.65111166 | DC14: =IF(SUM(H14:S14)<90," ",2-DD14-DE14) -> 1.9929325 | DD14: =IF(SUM(H14:S14)<90," ",AS14) -> 0 | DE14: =IF(SUM(H14:S14)<90," ",AT14) -> 0.0070675378 | DF14: =IF(SUM(H14:S14)<90," ",SUM(DC14:DE14)) -> 2 | DG14: =IF(SUM(H14:S14)<90," ",AI14*4+AJ14*4+AK14*3+AL14*3+AM14*2+AN14*2+AO14*2+AP14*2+AQ14+AR14) -> 45.258147 | DI14: =IF(SUM(H14:S14)<90," ",CP14/(CP14+CQ14)) -> 0.70715399 | DJ14: =IF(SUM(H14:S14)<90," ",CP14/(CP14+CO14+CQ14)) -> 0.58713857 | DK14: =IF(SUM(H14:S14)<90," ",CL14/(CL14+CH14)) -> 0.16155306 | DL14: =IF(SUM(H14:S14)<90," ",CL14+CH14) -> 2.4360483
A15: DH0101 | B15: hornblendite | C15: 460 | D15: A40 | E15: Magnesio-hastingsite | F15: No | H15: 39.326 | I15: 1.763 | J15: 14.261 | K15: 0.021 | L15: 15.082 | M15: 0.223 | N15: 10.901 | O15: 11.77 | P15: 1.964 | Q15: 1.346 | R15: 0 | S15: 0.02 | T15: =IF(SUM(H15:S15)<90," ",SUM(H15:S15)) -> 96.677 | U15: =IF(SUM(H15:S15)<90," ",H15/stab.data!$U$7) -> 0.65451701 | V15: =IF(SUM(H15:S15)<90," ",I15/stab.data!$U$8) -> 0.022065634 | W15: =IF(SUM(H15:S15)<90," ",J15*2/stab.data!$U$9) -> 0.27973441 | X15: =IF(SUM(H15:S15)<90," ",K15*2/stab.data!$U$10) -> 0.00027633361 | Y15: =IF(SUM(H15:S15)<90," ",L15/stab.data!$U$11) -> 0.20992122 | Z15: =IF(SUM(H15:S15)<90," ",M15/stab.data!$U$12) -> 0.0031436345 | AA15: =IF(SUM(H15:S15)<90," ",N15/stab.data!$U$13) -> 0.27046943 | AB15: =IF(SUM(H15:S15)<90," ",O15/stab.data!$U$14) -> 0.20988249 | AC15: =IF(SUM(H15:S15)<90," ",P15*2/stab.data!$U$15) -> 0.063376305 | AD15: =IF(SUM(H15:S15)<90," ",Q15*2/stab.data!$U$16) -> 0.028579012 | AE15: =IF(SUM(H15:S15)<90," ",R15/stab.data!$U$17) -> 0 | AF15: =IF(SUM(H15:S15)<90," ",S15/stab.data!$U$18) -> 0.00056412715 | AG15: =IF(SUM(H15:S15)<90," ",SUM(U15:AA15)) -> 1.4401277 | AH15: =IF(SUM(H15:S15)<90," ",AK15/SUM(AI15:AR15)) -> 0.16058551 | AI15: =IF(SUM(H15:S15)<90," ",U15*13/$AG15) -> 5.9083103 | AJ15: =IF(SUM(H15:S15)<90," ",V15*13/$AG15) -> 0.19918598 | AK15: =IF(SUM(H15:S15)<90," ",W15*13/$AG15) -> 2.5251562 | AL15: =IF(SUM(H15:S15)<90," ",X15*13/$AG15) -> 0.0024944572 | AM15: =IF(SUM(H15:S15)<90," ",Y15*13/$AG15) -> 1.8949541 | AN15: =IF(SUM(H15:S15)<90," ",Z15*13/$AG15) -> 0.028377518 | AO15: =IF(SUM(H15:S15)<90," ",AA15*13/$AG15) -> 2.4415215 | AP15: =IF(SUM(H15:S15)<90," ",AB15*13/$AG15) -> 1.8946045 | AQ15: =IF(SUM(H15:S15)<90," ",AC15*13/$AG15) -> 0.57209647 | AR15: =IF(SUM(H15:S15)<90," ",AD15*13/$AG15) -> 0.25798209 | AS15: =IF(SUM(H15:S15)<90," ",AE15*13/$AG15) -> 0 | AT15: =IF(SUM(H15:S15)<90," ",AF15*13/$AG15) -> 0.0050923631 | AU15: =IF(SUM(H15:S15)<90," ",SUM(AI15:AR15)) -> 15.724683 | AV15: =IF(SUM(H15:S15)<90," ",(2-AS15-AT15)*AG15*17/13/2) -> 1.8784488 | AW15: =IF(SUM(H15:S15)<90," ",CO15*AG15*stab.data!$U$20/13/2) -> 5.6438564 | AX15: =IF(SUM(H15:S15)<90," ",CQ15*AG15*stab.data!$U$11/13) -> 10.003586 | AY15: =IF(SUM(H15:S15)<90," ",-(R15*0.421070639014633+S15*0.225636758525372)) -> -0.0045127352 | AZ15: =IF(SUM(H15:S15)<90," ",SUM(H15:S15)-L15+AV15+AW15+AX15+AY15) -> 99.116378 | BA15: =IF(SUM(H15:S15)<90," ",EXP('eq. coef.'!$C$104+'eq. coef.'!$C$105*'Amp (T-P-fO2 calculation)'!AI15+'eq. coef.'!$C$106*'Amp (T-P-fO2 calculation)'!AJ15+'eq. coef.'!$C$107*'Amp (T-P-fO2 calculation)'!AK15+'eq. coef.'!$C$108*'Amp (T-P-fO2 calculation)'!AM15+'eq. coef.'!$C$109*'Amp (T-P-fO2 calculation)'!AO15+'eq. coef.'!$C$110*'Amp (T-P-fO2 calculation)'!AP15+'eq. coef.'!$C$111*'Amp (T-P-fO2 calculation)'!AQ15+'eq. coef.'!$C$112*'Amp (T-P-fO2 calculation)'!AR15)) -> 731.36796 | BB15: =IF(SUM(H15:S15)<90," ",EXP('eq. coef.'!$C$176+'eq. coef.'!$C$177*'Amp (T-P-fO2 calculation)'!AI15+'eq. coef.'!$C$178*'Amp (T-P-fO2 calculation)'!AJ15+'eq. coef.'!$C$179*'Amp (T-P-fO2 calculation)'!AK15+'eq. coef.'!$C$180*'Amp (T-P-fO2 calculation)'!AM15+'eq. coef.'!$C$181*'Amp (T-P-fO2 calculation)'!AO15+'eq. coef.'!$C$182*'Amp (T-P-fO2 calculation)'!AP15+'eq. coef.'!$C$183*'Amp (T-P-fO2 calculation)'!AQ15+'eq. coef.'!$C$184*'Amp (T-P-fO2 calculation)'!AR15)) -> 563.69315 | BC15: =IF(SUM(H15:S15)<90," ",('eq. coef.'!$C$234+'eq. coef.'!$C$235*'Amp (T-P-fO2 calculation)'!AI15+'eq. coef.'!$C$236*'Amp (T-P-fO2 calculation)'!AJ15+'eq. coef.'!$C$237*'Amp (T-P-fO2 calculation)'!AK15+'eq. coef.'!$C$238*'Amp (T-P-fO2 calculation)'!AM15+'eq. coef.'!$C$239*'Amp (T-P-fO2 calculation)'!AO15+'eq. coef.'!$C$240*'Amp (T-P-fO2 calculation)'!AP15+'eq. coef.'!$C$241*'Amp (T-P-fO2 calculation)'!AQ15+'eq. coef.'!$C$242*'Amp (T-P-fO2 calculation)'!AR15)) -> 556.26231 | BD15: =IF(SUM(H15:S15)<90," ",('eq. coef.'!$C$270+'eq. coef.'!$C$271*'Amp (T-P-fO2 calculation)'!AI15+'eq. coef.'!$C$272*'Amp (T-P-fO2 calculation)'!AJ15+'eq. coef.'!$C$273*'Amp (T-P-fO2 calculation)'!AK15+'eq. coef.'!$C$274*'Amp (T-P-fO2 calculation)'!AM15+'eq. coef.'!$C$275*'Amp (T-P-fO2 calculation)'!AO15+'eq. coef.'!$C$276*'Amp (T-P-fO2 calculation)'!AP15+'eq. coef.'!$C$277*'Amp (T-P-fO2 calculation)'!AQ15+'eq. coef.'!$C$278*'Amp (T-P-fO2 calculation)'!AR15)) -> 717.38146 | BE15: =IF(SUM(H15:S15)<90," ",EXP('eq. coef.'!$C$328+'eq. coef.'!$C$329*'Amp (T-P-fO2 calculation)'!AI15+'eq. coef.'!$C$330*'Amp (T-P-fO2 calculation)'!AJ15+'eq. coef.'!$C$331*'Amp (T-P-fO2 calculation)'!AK15+'eq. coef.'!$C$332*'Amp (T-P-fO2 calculation)'!AM15+'eq. coef.'!$C$333*'Amp (T-P-fO2 calculation)'!AO15+'eq. coef.'!$C$334*'Amp (T-P-fO2 calculation)'!AP15+'eq. coef.'!$C$335*'Amp (T-P-fO2 calculation)'!AQ15+'eq. coef.'!$C$336*'Amp (T-P-fO2 calculation)'!AR15)) -> 1109.0712 | BF15: =IF(SUM(H15:S15)<90," ",IF(AZ15<98.5,"low Total",IF(AZ15>102,"high Total",IF(DG15>46.5,"unbalanced",IF(CQ15<0,"unbalanced",IF(DI15<0.54,"low-Mg",IF(CU15<1.5,"low-Ca",IF(CW15<1.99,"low-B cations",IF(CU15>2.05,"high-Ca",IF(DK15>0.25,"high-Al#",IF(H15<38.8-0.42,"low-SiO2",IF(H15>49.8,"high-SiO2",IF(CI15>0.06+0.06*0.2,"high-[4]Ti",IF(CL15>0.57+0.57*0.074,"high-[6]Al",IF(CM15>0.7+0.7*0.07,"high-[6]Ti",IF(CN15>0.04+0.04*0.1,"high-Cr2O3",IF(CO15>1.37+1.37*0.28,"high-Fe3+",IF(N15<9.71-0.35,"low-MgO",IF(N15>18.01+0.35,"high-MgO",IF(CQ15>1.69+1.69*0.28,"high-Fe2+",IF(M15>0.58+0.58*0.3,"high-MnO",IF(O15>12.35+0.25,"high-CaO",IF(CY15<0,"low-ANa",IF(CY15>0.58+0.58*0.11,"high-ANa",IF(Q15<0,"low-K2O",IF(Q15>2.03+0.05,"high-K2O",IF(DA15<0.03-0.03*0.3,"low-A(Na+K)",IF(DA15>1,"high-A(Na+K)",IF(J15<6.5,"low-Al2O3",IF(J15>15.9+0.36,"high-Al2O3",IF(I15<1.1-0.2,"low-TiO2",IF(L15<5.85-0.44,"low-FeO",IF(L15>16.92+0.44,"high-FeO",IF(P15<1.07-0.1,"low-Na2O",IF(P15>3.05+0.1,"high-Na2O","ok"))))))))))))))))))))))))))))))))))) -> ok | BG15: =IF(SUM(H15:S15)<90," ",IF(DI15<0.54,"low-Mg",IF(CU15<1.5,"low-Ca",IF(CW15<1.99,"low-B cations",IF(CU15>2.05,"high-Ca",IF(DK15>0.24,"high-Al#",IF(H15<39.2-0.42,"low-SiO2",IF(H15>46.2+0.42,"high-SiO2",IF(CI15>0.06+0.06*0.2,"high-[4]Ti",IF(CL15>0.48+0.48*0.074,"high-[6]Al",IF(CM15>0.66+0.66*0.07,"high-[6]Ti",IF(CN15>0.04+0.04*0.1,"high-Cr2O3",IF(CO15>1.25+1.25*0.28,"high-Fe3+",IF(N15<9.71-0.35,"low-MgO",IF(N15>16.7+0.35,"high-MgO",IF(CQ15>1.69+1.69*0.28,"high-Fe2+",IF(M15>0.32+0.32*0.3,"high-MnO",IF(O15>12.35+0.25,"high-CaO",IF(CY15<0.1,"low-ANa",IF(CY15>0.57+0.57*0.11,"high-ANa",IF(Q15<0,"low-K2O",IF(Q15>1.3+0.05,"high-K2O",IF(DA15<0.17-0.17*0.3,"low-A(Na+K)",IF(DA15>0.9,"high-A(Na+K)",IF(J15<8.5,"low-Al2O3",IF(J15>14.6+0.4,"high-Al2O3",IF(I15<1.3-0.2,"low-TiO2",IF(L15<8.7-0.44,"low-FeO",IF(L15>16.92+0.44,"high-FeO",IF(P15<1.6-0.1,"low-Na2O",IF(P15>2.65+0.1,"high-Na2O","ok"))))))))))))))))))))))))))))))) -> ok | BH15: =IF(SUM(H15:S15)<90," ",IF(DI15<0.54,"low-Mg",IF(CU15<1.5,"low-Ca",IF(CW15<1.99,"low-B cations",IF(CU15>2.05,"high-Ca",IF(DK15>0.24,"high-Al#",IF(H15<38.8-0.42,"low-SiO2",IF(H15>47.9+0.42,"high-SiO2",IF(CI15>0.06+0.06*0.2,"high-[4]Ti",IF(CL15>0.55+0.55*0.074,"high-[6]Al",IF(CM15>0.7+0.7*0.07,"high-[6]Ti",IF(CN15>0.03+0.03*0.1,"high-Cr2O3",IF(CO15>1.37+1.37*0.28,"high-Fe3+",IF(N15<9.71-0.35,"low-MgO",IF(N15>18+0.35,"high-MgO",IF(CQ15>1.69+1.69*0.28,"high-Fe2+",IF(M15>0.58+0.58*0.3,"high-MnO",IF(O15>12.35+0.25,"high-CaO",IF(CY15<0,"low-ANa",IF(CY15>0.58+0.58*0.11,"high-ANa",IF(Q15<0,"low-K2O",IF(Q15>2+0.05,"high-K2O",IF(DA15<0.07-0.07*0.3,"low-A(Na+K)",IF(DA15>0.9,"high-A(Na+K)",IF(J15<6.5,"low-Al2O3",IF(J15>15.9+0.4,"high-Al2O3",IF(I15<1.1-0.2,"low-TiO2",IF(L15<5.9-0.44,"low-FeO",IF(L15>16.92+0.44,"high-FeO",IF(P15<1.28-0.1,"low-Na2O",IF(P15>2.9+0.1,"high-Na2O","ok"))))))))))))))))))))))))))))))) -> ok | BI15: =IF(SUM(H15:S15)<90," ",ABS(BA15-BO15)/(BA15+BO15)*200) -> 26.544438 | BJ15: =IF(SUM(H15:S15)<90," ",(BA15-BE15)/BA15) -> -0.51643391 | BK15: =IF(SUM(H15:S15)<90," ",BD15-BB15) -> 153.68832 | BL15: =IF(SUM(H15:S15)<90," ",'eq. coef.'!$C$360+'eq. coef.'!$C$361*'Amp (T-P-fO2 calculation)'!AI15+'eq. coef.'!$C$362*'Amp (T-P-fO2 calculation)'!AJ15+'eq. coef.'!$C$363*'Amp (T-P-fO2 calculation)'!AK15+'eq. coef.'!$C$364*'Amp (T-P-fO2 calculation)'!AM15+'eq. coef.'!$C$365*'Amp (T-P-fO2 calculation)'!AO15+'eq. coef.'!$C$366*'Amp (T-P-fO2 calculation)'!AP15+'eq. coef.'!$C$367*'Amp (T-P-fO2 calculation)'!AQ15+'eq. coef.'!$C$368*'Amp (T-P-fO2 calculation)'!AR15+'eq. coef.'!$C$369*LN(BO15)) -> 897.17104 | BM15: =IF(SUM(H15:S15)<90," ",22) -> 22 | BN15: =IF(SUM(H15:S15)<90," ",BM15^2) -> 484 | BO15: =IF(SUM(H15:S15)<90," ",IF(BB15<335,BB15,IF(BB15<399,AVERAGE(BB15:BC15),IF(BC15<415,BC15,IF(BD15<470,BC15,IF(BJ15>0.22,AVERAGE(BC15:BD15),IF(BK15>350,BE15,IF(BK15>210,BD15,IF(BK15<75,BC15,IF(BJ15<-0.2,AVERAGE(BB15:BC15),IF(BJ15>0.05,AVERAGE(BC15:BD15),BA15))))))))))) -> 559.97773 | BP15: =IF(SUM(H15:S15)<90," ",IF(BO15=BA15,"P1a",IF(BO15=BB15,"P1b",IF(BO15=BC15,"P1c",IF(BO15=BD15,"P1d",IF(BO15=BE15,"P1e",IF(BO15=AVERAGE(BB15:BC15),"P1b_c","P1c_d"))))))) -> P1b_c | BR15: =ABS(BQ15) -> 0 | BS15: =BQ15^2 -> 0 | BT15: =IF(SUM(H15:S15)<90," ",BO15*0.12) -> 67.197327 | BU15: =(-4.76+5.6*DL15)*100 -> 938.08747 | BV15: =2400/(1.52-LOG10(CM15))-273 -> 807.72024 | BW15: =IF(SUM(H15:S15)<90," ",'eq. coef.'!$B$1128*'Amp (T-P-fO2 calculation)'!CH15+'eq. coef.'!$B$1129*'Amp (T-P-fO2 calculation)'!CL15+'eq. coef.'!$B$1130*'Amp (T-P-fO2 calculation)'!CM15+'eq. coef.'!$B$1131*'Amp (T-P-fO2 calculation)'!CO15+'eq. coef.'!$B$1132*'Amp (T-P-fO2 calculation)'!CP15+'eq. coef.'!$B$1133*'Amp (T-P-fO2 calculation)'!CQ15+'eq. coef.'!$B$1134*'Amp (T-P-fO2 calculation)'!CR15+'eq. coef.'!$B$1135*'Amp (T-P-fO2 calculation)'!CU15+'eq. coef.'!$B$1135*'Amp (T-P-fO2 calculation)'!CY15+'eq. coef.'!$B$1137*'Amp (T-P-fO2 calculation)'!CZ15) -> 3.8313857 | BX15: =IF(SUM(H15:S15)<90," ",0.4) -> 0.4 | BZ15: =12.78-25073/(BL15+273.15)-1.1*LOG10(BL15+273.15)+450*(BO15/1000)/(BL15+273.15)+0.025*(BO15/1000) -> -11.789855 | CA15: =CC15-CB15 -> 2.4204565 | CB15: =2.19144+15305300/(BL15+273.15)/(BL15+273.15)/(BL15+273.15)-1551.42/(BL15+273.15)/(BL15+273.15)+(-25137+0.0477703*(BO15*10))/(BL15+273.15)+0.000109305*(BL15+273.15)+2.7838*LOG10(BL15+273.15) -> -10.380824 | CC15: =IF(SUM(H15:S15)<90," ",-25018.7/(BL15+273.15) + 12.981 + 0.046*(BO15*10- 1)/(BL15+273.15) + -0.5117*LN(BL15+273.15)+BW15) -> -7.9603678 | CE15: =IF(SUM(H15:S15)<90," ",EXP('eq. coef.'!$B$1156*'Amp (T-P-fO2 calculation)'!CH15+'eq. coef.'!$B$1157*'Amp (T-P-fO2 calculation)'!CL15+'eq. coef.'!$B$1158*'Amp (T-P-fO2 calculation)'!CM15+'eq. coef.'!$B$1159*'Amp (T-P-fO2 calculation)'!CO15+'eq. coef.'!$B$1160*'Amp (T-P-fO2 calculation)'!CP15+'eq. coef.'!$B$1161*'Amp (T-P-fO2 calculation)'!CQ15+'eq. coef.'!$B$1162*'Amp (T-P-fO2 calculation)'!CR15+'eq. coef.'!$B$1163*'Amp (T-P-fO2 calculation)'!CU15+'eq. coef.'!$B$1164*'Amp (T-P-fO2 calculation)'!CY15+'eq. coef.'!$B$1165*'Amp (T-P-fO2 calculation)'!CZ15)) -> 9.6451251 | CF15: =IF(SUM(H15:S15)<90," ",CE15*0.17) -> 1.6396713 | CG15: =IF(SUM(H15:S15)<90," ",AI15) -> 5.9083103 | CH15: =IF(SUM(H15:S15)<90," ",IF(AI15+AK15>8,8-AI15,AK15)) -> 2.0916897 | CI15: =IF(SUM(H15:S15)<90," ",IF(CG15+CH15<8,8-CG15-CH15,0)) -> 0 | CJ15: =IF(SUM(H15:S15)<90," ",SUM(CG15:CI15)) -> 8 | CL15: =IF(SUM(H15:S15)<90," ",AK15-CH15) -> 0.43346647 | CM15: =IF(SUM(H15:S15)<90," ",AJ15-CI15) -> 0.19918598 | CN15: =IF(SUM(H15:S15)<90," ",AL15) -> 0.0024944572 | CO15: =IF(SUM(H15:S15)<90," ",IF(DG15>46,0,46-DG15)) -> 0.63806933 | CP15: =IF(SUM(H15:S15)<90," ",AO15) -> 2.4415215 | CQ15: =IF(SUM(H15:S15)<90," ",AM15-CO15) -> 1.2568848 | CR15: =IF(SUM(H15:S15)<90," ",AN15) -> 0.028377518 | CS15: =IF(SUM(H15:S15)<90," ",SUM(CL15:CR15)) -> 5 | CU15: =IF(SUM(H15:S15)<90," ",AP15) -> 1.8946045 | CV15: =IF(SUM(H15:S15)<90," ",IF(2-CU15<=AQ15,2-CU15,AQ15)) -> 0.10539552 | CW15: =IF(SUM(H15:S15)<90," ",SUM(CU15:CV15)) -> 2 | CY15: =IF(SUM(H15:S15)<90," ",AQ15-CV15) -> 0.46670095 | CZ15: =IF(SUM(H15:S15)<90," ",AR15) -> 0.25798209 | DA15: =IF(SUM(H15:S15)<90," ",SUM(CY15:CZ15)) -> 0.72468304 | DC15: =IF(SUM(H15:S15)<90," ",2-DD15-DE15) -> 1.9949076 | DD15: =IF(SUM(H15:S15)<90," ",AS15) -> 0 | DE15: =IF(SUM(H15:S15)<90," ",AT15) -> 0.0050923631 | DF15: =IF(SUM(H15:S15)<90," ",SUM(DC15:DE15)) -> 2 | DG15: =IF(SUM(H15:S15)<90," ",AI15*4+AJ15*4+AK15*3+AL15*3+AM15*2+AN15*2+AO15*2+AP15*2+AQ15+AR15) -> 45.361931 | DI15: =IF(SUM(H15:S15)<90," ",CP15/(CP15+CQ15)) -> 0.66015502 | DJ15: =IF(SUM(H15:S15)<90," ",CP15/(CP15+CO15+CQ15)) -> 0.56301976 | DK15: =IF(SUM(H15:S15)<90," ",CL15/(CL15+CH15)) -> 0.17165927 | DL15: =IF(SUM(H15:S15)<90," ",CL15+CH15) -> 2.5251562
A16: DH0101 | B16: hornblendite | C16: 518 | D16: A47 | E16: Pargasite | F16: Yes | H16: 40.536 | I16: 2.523 | J16: 14.372 | K16: 0.016 | L16: 12.726 | M16: 0.274 | N16: 12.347 | O16: 11.267 | P16: 2.511 | Q16: 0.798 | R16: 0 | S16: 0.008 | T16: =IF(SUM(H16:S16)<90," ",SUM(H16:S16)) -> 97.378 | U16: =IF(SUM(H16:S16)<90," ",H16/stab.data!$U$7) -> 0.67465548 | V16: =IF(SUM(H16:S16)<90," ",I16/stab.data!$U$8) -> 0.031577762 | W16: =IF(SUM(H16:S16)<90," ",J16*2/stab.data!$U$9) -> 0.28191171 | X16: =IF(SUM(H16:S16)<90," ",K16*2/stab.data!$U$10) -> 0.00021053989 | Y16: =IF(SUM(H16:S16)<90," ",L16/stab.data!$U$11) -> 0.17712886 | Z16: =IF(SUM(H16:S16)<90," ",M16/stab.data!$U$12) -> 0.0038625823 | AA16: =IF(SUM(H16:S16)<90," ",N16/stab.data!$U$13) -> 0.30634676 | AB16: =IF(SUM(H16:S16)<90," ",O16/stab.data!$U$14) -> 0.200913 | AC16: =IF(SUM(H16:S16)<90," ",P16*2/stab.data!$U$15) -> 0.081027445 | AD16: =IF(SUM(H16:S16)<90," ",Q16*2/stab.data!$U$16) -> 0.016943574 | AE16: =IF(SUM(H16:S16)<90," ",R16/stab.data!$U$17) -> 0 | AF16: =IF(SUM(H16:S16)<90," ",S16/stab.data!$U$18) -> 0.00022565086 | AG16: =IF(SUM(H16:S16)<90," ",SUM(U16:AA16)) -> 1.4756937 | AH16: =IF(SUM(H16:S16)<90," ",AK16/SUM(AI16:AR16)) -> 0.15886129 | AI16: =IF(SUM(H16:S16)<90," ",U16*13/$AG16) -> 5.9433209 | AJ16: =IF(SUM(H16:S16)<90," ",V16*13/$AG16) -> 0.27818165 | AK16: =IF(SUM(H16:S16)<90," ",W16*13/$AG16) -> 2.4834776 | AL16: =IF(SUM(H16:S16)<90," ",X16*13/$AG16) -> 0.0018547335 | AM16: =IF(SUM(H16:S16)<90," ",Y16*13/$AG16) -> 1.5604018 | AN16: =IF(SUM(H16:S16)<90," ",Z16*13/$AG16) -> 0.034027095 | AO16: =IF(SUM(H16:S16)<90," ",AA16*13/$AG16) -> 2.6987362 | AP16: =IF(SUM(H16:S16)<90," ",AB16*13/$AG16) -> 1.7699262 | AQ16: =IF(SUM(H16:S16)<90," ",AC16*13/$AG16) -> 0.71380448 | AR16: =IF(SUM(H16:S16)<90," ",AD16*13/$AG16) -> 0.149263 | AS16: =IF(SUM(H16:S16)<90," ",AE16*13/$AG16) -> 0 | AT16: =IF(SUM(H16:S16)<90," ",AF16*13/$AG16) -> 0.0019878524 | AU16: =IF(SUM(H16:S16)<90," ",SUM(AI16:AR16)) -> 15.632994 | AV16: =IF(SUM(H16:S16)<90," ",(2-AS16-AT16)*AG16*17/13/2) -> 1.9278353 | AW16: =IF(SUM(H16:S16)<90," ",CO16*AG16*stab.data!$U$20/13/2) -> 6.0612514 | AX16: =IF(SUM(H16:S16)<90," ",CQ16*AG16*stab.data!$U$11/13) -> 7.2720087 | AY16: =IF(SUM(H16:S16)<90," ",-(R16*0.421070639014633+S16*0.225636758525372)) -> -0.0018050941 | AZ16: =IF(SUM(H16:S16)<90," ",SUM(H16:S16)-L16+AV16+AW16+AX16+AY16) -> 99.91129 | BA16: =IF(SUM(H16:S16)<90," ",EXP('eq. coef.'!$C$104+'eq. coef.'!$C$105*'Amp (T-P-fO2 calculation)'!AI16+'eq. coef.'!$C$106*'Amp (T-P-fO2 calculation)'!AJ16+'eq. coef.'!$C$107*'Amp (T-P-fO2 calculation)'!AK16+'eq. coef.'!$C$108*'Amp (T-P-fO2 calculation)'!AM16+'eq. coef.'!$C$109*'Amp (T-P-fO2 calculation)'!AO16+'eq. coef.'!$C$110*'Amp (T-P-fO2 calculation)'!AP16+'eq. coef.'!$C$111*'Amp (T-P-fO2 calculation)'!AQ16+'eq. coef.'!$C$112*'Amp (T-P-fO2 calculation)'!AR16)) -> 1003.5829 | BB16: =IF(SUM(H16:S16)<90," ",EXP('eq. coef.'!$C$176+'eq. coef.'!$C$177*'Amp (T-P-fO2 calculation)'!AI16+'eq. coef.'!$C$178*'Amp (T-P-fO2 calculation)'!AJ16+'eq. coef.'!$C$179*'Amp (T-P-fO2 calculation)'!AK16+'eq. coef.'!$C$180*'Amp (T-P-fO2 calculation)'!AM16+'eq. coef.'!$C$181*'Amp (T-P-fO2 calculation)'!AO16+'eq. coef.'!$C$182*'Amp (T-P-fO2 calculation)'!AP16+'eq. coef.'!$C$183*'Amp (T-P-fO2 calculation)'!AQ16+'eq. coef.'!$C$184*'Amp (T-P-fO2 calculation)'!AR16)) -> 620.58829 | BC16: =IF(SUM(H16:S16)<90," ",('eq. coef.'!$C$234+'eq. coef.'!$C$235*'Amp (T-P-fO2 calculation)'!AI16+'eq. coef.'!$C$236*'Amp (T-P-fO2 calculation)'!AJ16+'eq. coef.'!$C$237*'Amp (T-P-fO2 calculation)'!AK16+'eq. coef.'!$C$238*'Amp (T-P-fO2 calculation)'!AM16+'eq. coef.'!$C$239*'Amp (T-P-fO2 calculation)'!AO16+'eq. coef.'!$C$240*'Amp (T-P-fO2 calculation)'!AP16+'eq. coef.'!$C$241*'Amp (T-P-fO2 calculation)'!AQ16+'eq. coef.'!$C$242*'Amp (T-P-fO2 calculation)'!AR16)) -> 568.3024 | BD16: =IF(SUM(H16:S16)<90," ",('eq. coef.'!$C$270+'eq. coef.'!$C$271*'Amp (T-P-fO2 calculation)'!AI16+'eq. coef.'!$C$272*'Amp (T-P-fO2 calculation)'!AJ16+'eq. coef.'!$C$273*'Amp (T-P-fO2 calculation)'!AK16+'eq. coef.'!$C$274*'Amp (T-P-fO2 calculation)'!AM16+'eq. coef.'!$C$275*'Amp (T-P-fO2 calculation)'!AO16+'eq. coef.'!$C$276*'Amp (T-P-fO2 calculation)'!AP16+'eq. coef.'!$C$277*'Amp (T-P-fO2 calculation)'!AQ16+'eq. coef.'!$C$278*'Amp (T-P-fO2 calculation)'!AR16)) -> 991.51348 | BE16: =IF(SUM(H16:S16)<90," ",EXP('eq. coef.'!$C$328+'eq. coef.'!$C$329*'Amp (T-P-fO2 calculation)'!AI16+'eq. coef.'!$C$330*'Amp (T-P-fO2 calculation)'!AJ16+'eq. coef.'!$C$331*'Amp (T-P-fO2 calculation)'!AK16+'eq. coef.'!$C$332*'Amp (T-P-fO2 calculation)'!AM16+'eq. coef.'!$C$333*'Amp (T-P-fO2 calculation)'!AO16+'eq. coef.'!$C$334*'Amp (T-P-fO2 calculation)'!AP16+'eq. coef.'!$C$335*'Amp (T-P-fO2 calculation)'!AQ16+'eq. coef.'!$C$336*'Amp (T-P-fO2 calculation)'!AR16)) -> 1289.2072 | BF16: =IF(SUM(H16:S16)<90," ",IF(AZ16<98.5,"low Total",IF(AZ16>102,"high Total",IF(DG16>46.5,"unbalanced",IF(CQ16<0,"unbalanced",IF(DI16<0.54,"low-Mg",IF(CU16<1.5,"low-Ca",IF(CW16<1.99,"low-B cations",IF(CU16>2.05,"high-Ca",IF(DK16>0.25,"high-Al#",IF(H16<38.8-0.42,"low-SiO2",IF(H16>49.8,"high-SiO2",IF(CI16>0.06+0.06*0.2,"high-[4]Ti",IF(CL16>0.57+0.57*0.074,"high-[6]Al",IF(CM16>0.7+0.7*0.07,"high-[6]Ti",IF(CN16>0.04+0.04*0.1,"high-Cr2O3",IF(CO16>1.37+1.37*0.28,"high-Fe3+",IF(N16<9.71-0.35,"low-MgO",IF(N16>18.01+0.35,"high-MgO",IF(CQ16>1.69+1.69*0.28,"high-Fe2+",IF(M16>0.58+0.58*0.3,"high-MnO",IF(O16>12.35+0.25,"high-CaO",IF(CY16<0,"low-ANa",IF(CY16>0.58+0.58*0.11,"high-ANa",IF(Q16<0,"low-K2O",IF(Q16>2.03+0.05,"high-K2O",IF(DA16<0.03-0.03*0.3,"low-A(Na+K)",IF(DA16>1,"high-A(Na+K)",IF(J16<6.5,"low-Al2O3",IF(J16>15.9+0.36,"high-Al2O3",IF(I16<1.1-0.2,"low-TiO2",IF(L16<5.85-0.44,"low-FeO",IF(L16>16.92+0.44,"high-FeO",IF(P16<1.07-0.1,"low-Na2O",IF(P16>3.05+0.1,"high-Na2O","ok"))))))))))))))))))))))))))))))))))) -> ok | BG16: =IF(SUM(H16:S16)<90," ",IF(DI16<0.54,"low-Mg",IF(CU16<1.5,"low-Ca",IF(CW16<1.99,"low-B cations",IF(CU16>2.05,"high-Ca",IF(DK16>0.24,"high-Al#",IF(H16<39.2-0.42,"low-SiO2",IF(H16>46.2+0.42,"high-SiO2",IF(CI16>0.06+0.06*0.2,"high-[4]Ti",IF(CL16>0.48+0.48*0.074,"high-[6]Al",IF(CM16>0.66+0.66*0.07,"high-[6]Ti",IF(CN16>0.04+0.04*0.1,"high-Cr2O3",IF(CO16>1.25+1.25*0.28,"high-Fe3+",IF(N16<9.71-0.35,"low-MgO",IF(N16>16.7+0.35,"high-MgO",IF(CQ16>1.69+1.69*0.28,"high-Fe2+",IF(M16>0.32+0.32*0.3,"high-MnO",IF(O16>12.35+0.25,"high-CaO",IF(CY16<0.1,"low-ANa",IF(CY16>0.57+0.57*0.11,"high-ANa",IF(Q16<0,"low-K2O",IF(Q16>1.3+0.05,"high-K2O",IF(DA16<0.17-0.17*0.3,"low-A(Na+K)",IF(DA16>0.9,"high-A(Na+K)",IF(J16<8.5,"low-Al2O3",IF(J16>14.6+0.4,"high-Al2O3",IF(I16<1.3-0.2,"low-TiO2",IF(L16<8.7-0.44,"low-FeO",IF(L16>16.92+0.44,"high-FeO",IF(P16<1.6-0.1,"low-Na2O",IF(P16>2.65+0.1,"high-Na2O","ok"))))))))))))))))))))))))))))))) -> ok | BH16: =IF(SUM(H16:S16)<90," ",IF(DI16<0.54,"low-Mg",IF(CU16<1.5,"low-Ca",IF(CW16<1.99,"low-B cations",IF(CU16>2.05,"high-Ca",IF(DK16>0.24,"high-Al#",IF(H16<38.8-0.42,"low-SiO2",IF(H16>47.9+0.42,"high-SiO2",IF(CI16>0.06+0.06*0.2,"high-[4]Ti",IF(CL16>0.55+0.55*0.074,"high-[6]Al",IF(CM16>0.7+0.7*0.07,"high-[6]Ti",IF(CN16>0.03+0.03*0.1,"high-Cr2O3",IF(CO16>1.37+1.37*0.28,"high-Fe3+",IF(N16<9.71-0.35,"low-MgO",IF(N16>18+0.35,"high-MgO",IF(CQ16>1.69+1.69*0.28,"high-Fe2+",IF(M16>0.58+0.58*0.3,"high-MnO",IF(O16>12.35+0.25,"high-CaO",IF(CY16<0,"low-ANa",IF(CY16>0.58+0.58*0.11,"high-ANa",IF(Q16<0,"low-K2O",IF(Q16>2+0.05,"high-K2O",IF(DA16<0.07-0.07*0.3,"low-A(Na+K)",IF(DA16>0.9,"high-A(Na+K)",IF(J16<6.5,"low-Al2O3",IF(J16>15.9+0.4,"high-Al2O3",IF(I16<1.1-0.2,"low-TiO2",IF(L16<5.9-0.44,"low-FeO",IF(L16>16.92+0.44,"high-FeO",IF(P16<1.28-0.1,"low-Na2O",IF(P16>2.9+0.1,"high-Na2O","ok"))))))))))))))))))))))))))))))) -> ok | BI16: =IF(SUM(H16:S16)<90," ",ABS(BA16-BO16)/(BA16+BO16)*200) -> 24.914995 | BJ16: =IF(SUM(H16:S16)<90," ",(BA16-BE16)/BA16) -> -0.28460456 | BK16: =IF(SUM(H16:S16)<90," ",BD16-BB16) -> 370.92518 | BL16: =IF(SUM(H16:S16)<90," ",'eq. coef.'!$C$360+'eq. coef.'!$C$361*'Amp (T-P-fO2 calculation)'!AI16+'eq. coef.'!$C$362*'Amp (T-P-fO2 calculation)'!AJ16+'eq. coef.'!$C$363*'Amp (T-P-fO2 calculation)'!AK16+'eq. coef.'!$C$364*'Amp (T-P-fO2 calculation)'!AM16+'eq. coef.'!$C$365*'Amp (T-P-fO2 calculation)'!AO16+'eq. coef.'!$C$366*'Amp (T-P-fO2 calculation)'!AP16+'eq. coef.'!$C$367*'Amp (T-P-fO2 calculation)'!AQ16+'eq. coef.'!$C$368*'Amp (T-P-fO2 calculation)'!AR16+'eq. coef.'!$C$369*LN(BO16)) -> 1023.935 | BM16: =IF(SUM(H16:S16)<90," ",22) -> 22 | BN16: =IF(SUM(H16:S16)<90," ",BM16^2) -> 484 | BO16: =IF(SUM(H16:S16)<90," ",IF(BB16<335,BB16,IF(BB16<399,AVERAGE(BB16:BC16),IF(BC16<415,BC16,IF(BD16<470,BC16,IF(BJ16>0.22,AVERAGE(BC16:BD16),IF(BK16>350,BE16,IF(BK16>210,BD16,IF(BK16<75,BC16,IF(BJ16<-0.2,AVERAGE(BB16:BC16),IF(BJ16>0.05,AVERAGE(BC16:BD16),BA16))))))))))) -> 1289.2072 | BP16: =IF(SUM(H16:S16)<90," ",IF(BO16=BA16,"P1a",IF(BO16=BB16,"P1b",IF(BO16=BC16,"P1c",IF(BO16=BD16,"P1d",IF(BO16=BE16,"P1e",IF(BO16=AVERAGE(BB16:BC16),"P1b_c","P1c_d"))))))) -> P1e | BR16: =ABS(BQ16) -> 0 | BS16: =BQ16^2 -> 0 | BT16: =IF(SUM(H16:S16)<90," ",BO16*0.12) -> 154.70487 | BU16: =(-4.76+5.6*DL16)*100 -> 914.74745 | BV16: =2400/(1.52-LOG10(CM16))-273 -> 883.25231 | BW16: =IF(SUM(H16:S16)<90," ",'eq. coef.'!$B$1128*'Amp (T-P-fO2 calculation)'!CH16+'eq. coef.'!$B$1129*'Amp (T-P-fO2 calculation)'!CL16+'eq. coef.'!$B$1130*'Amp (T-P-fO2 calculation)'!CM16+'eq. coef.'!$B$1131*'Amp (T-P-fO2 calculation)'!CO16+'eq. coef.'!$B$1132*'Amp (T-P-fO2 calculation)'!CP16+'eq. coef.'!$B$1133*'Amp (T-P-fO2 calculation)'!CQ16+'eq. coef.'!$B$1134*'Amp (T-P-fO2 calculation)'!CR16+'eq. coef.'!$B$1135*'Amp (T-P-fO2 calculation)'!CU16+'eq. coef.'!$B$1135*'Amp (T-P-fO2 calculation)'!CY16+'eq. coef.'!$B$1137*'Amp (T-P-fO2 calculation)'!CZ16) -> 1.7582333 | BX16: =IF(SUM(H16:S16)<90," ",0.4) -> 0.4 | BZ16: =12.78-25073/(BL16+273.15)-1.1*LOG10(BL16+273.15)+450*(BO16/1000)/(BL16+273.15)+0.025*(BO16/1000) -> -9.4950354 | CA16: =CC16-CB16 -> 0.13981451 | CB16: =2.19144+15305300/(BL16+273.15)/(BL16+273.15)/(BL16+273.15)-1551.42/(BL16+273.15)/(BL16+273.15)+(-25137+0.0477703*(BO16*10))/(BL16+273.15)+0.000109305*(BL16+273.15)+2.7838*LOG10(BL16+273.15) -> -7.8996161 | CC16: =IF(SUM(H16:S16)<90," ",-25018.7/(BL16+273.15) + 12.981 + 0.046*(BO16*10- 1)/(BL16+273.15) + -0.5117*LN(BL16+273.15)+BW16) -> -7.7598016 | CE16: =IF(SUM(H16:S16)<90," ",EXP('eq. coef.'!$B$1156*'Amp (T-P-fO2 calculation)'!CH16+'eq. coef.'!$B$1157*'Amp (T-P-fO2 calculation)'!CL16+'eq. coef.'!$B$1158*'Amp (T-P-fO2 calculation)'!CM16+'eq. coef.'!$B$1159*'Amp (T-P-fO2 calculation)'!CO16+'eq. coef.'!$B$1160*'Amp (T-P-fO2 calculation)'!CP16+'eq. coef.'!$B$1161*'Amp (T-P-fO2 calculation)'!CQ16+'eq. coef.'!$B$1162*'Amp (T-P-fO2 calculation)'!CR16+'eq. coef.'!$B$1163*'Amp (T-P-fO2 calculation)'!CU16+'eq. coef.'!$B$1164*'Amp (T-P-fO2 calculation)'!CY16+'eq. coef.'!$B$1165*'Amp (T-P-fO2 calculation)'!CZ16)) -> 6.7451856 | CF16: =IF(SUM(H16:S16)<90," ",CE16*0.17) -> 1.1466816 | CG16: =IF(SUM(H16:S16)<90," ",AI16) -> 5.9433209 | CH16: =IF(SUM(H16:S16)<90," ",IF(AI16+AK16>8,8-AI16,AK16)) -> 2.0566791 | CI16: =IF(SUM(H16:S16)<90," ",IF(CG16+CH16<8,8-CG16-CH16,0)) -> 0 | CJ16: =IF(SUM(H16:S16)<90," ",SUM(CG16:CI16)) -> 8 | CL16: =IF(SUM(H16:S16)<90," ",AK16-CH16) -> 0.42679853 | CM16: =IF(SUM(H16:S16)<90," ",AJ16-CI16) -> 0.27818165 | CN16: =IF(SUM(H16:S16)<90," ",AL16) -> 0.0018547335 | CO16: =IF(SUM(H16:S16)<90," ",IF(DG16>46,0,46-DG16)) -> 0.66874258 | CP16: =IF(SUM(H16:S16)<90," ",AO16) -> 2.6987362 | CQ16: =IF(SUM(H16:S16)<90," ",AM16-CO16) -> 0.89165926 | CR16: =IF(SUM(H16:S16)<90," ",AN16) -> 0.034027095 | CS16: =IF(SUM(H16:S16)<90," ",SUM(CL16:CR16)) -> 5 | CU16: =IF(SUM(H16:S16)<90," ",AP16) -> 1.7699262 | CV16: =IF(SUM(H16:S16)<90," ",IF(2-CU16<=AQ16,2-CU16,AQ16)) -> 0.23007378 | CW16: =IF(SUM(H16:S16)<90," ",SUM(CU16:CV16)) -> 2 | CY16: =IF(SUM(H16:S16)<90," ",AQ16-CV16) -> 0.4837307 | CZ16: =IF(SUM(H16:S16)<90," ",AR16) -> 0.149263 | DA16: =IF(SUM(H16:S16)<90," ",SUM(CY16:CZ16)) -> 0.6329937 | DC16: =IF(SUM(H16:S16)<90," ",2-DD16-DE16) -> 1.9980121 | DD16: =IF(SUM(H16:S16)<90," ",AS16) -> 0 | DE16: =IF(SUM(H16:S16)<90," ",AT16) -> 0.0019878524 | DF16: =IF(SUM(H16:S16)<90," ",SUM(DC16:DE16)) -> 2 | DG16: =IF(SUM(H16:S16)<90," ",AI16*4+AJ16*4+AK16*3+AL16*3+AM16*2+AN16*2+AO16*2+AP16*2+AQ16+AR16) -> 45.331257 | DI16: =IF(SUM(H16:S16)<90," ",CP16/(CP16+CQ16)) -> 0.7516543 | DJ16: =IF(SUM(H16:S16)<90," ",CP16/(CP16+CO16+CQ16)) -> 0.63363435 | DK16: =IF(SUM(H16:S16)<90," ",CL16/(CL16+CH16)) -> 0.1718552 | DL16: =IF(SUM(H16:S16)<90," ",CL16+CH16) -> 2.4834776
... A41: DH0101 | B41: hornblendite | C41: 717 | D41: A71 | E41: Pargasite | F41: Yes | H41: 39.51 | I41: 1.594 | J41: 13.216 | K41: 0 | L41: 12.797 | M41: 0.27 | N41: 12.056 | O41: 11.8 | P41: 1.944 | Q41: 1.328 | R41: 0 | S41: 0.052 | T41: =IF(SUM(H41:S41)<90," ",SUM(H41:S41)) -> 94.567 | U41: =IF(SUM(H41:S41)<90," ",H41/stab.data!$U$7) -> 0.65757939 | V41: =IF(SUM(H41:S41)<90," ",I41/stab.data!$U$8) -> 0.019950437 | W41: =IF(SUM(H41:S41)<90," ",J41*2/stab.data!$U$9) -> 0.25923637 | X41: =IF(SUM(H41:S41)<90," ",K41*2/stab.data!$U$10) -> 0 | Y41: =IF(SUM(H41:S41)<90," ",L41/stab.data!$U$11) -> 0.17811708 | Z41: =IF(SUM(H41:S41)<90," ",M41/stab.data!$U$12) -> 0.0038061942 | AA41: =IF(SUM(H41:S41)<90," ",N41/stab.data!$U$13) -> 0.29912664 | AB41: =IF(SUM(H41:S41)<90," ",O41/stab.data!$U$14) -> 0.21041745 | AC41: =IF(SUM(H41:S41)<90," ",P41*2/stab.data!$U$15) -> 0.062730925 | AD41: =IF(SUM(H41:S41)<90," ",Q41*2/stab.data!$U$16) -> 0.028196826 | AE41: =IF(SUM(H41:S41)<90," ",R41/stab.data!$U$17) -> 0 | AF41: =IF(SUM(H41:S41)<90," ",S41/stab.data!$U$18) -> 0.0014667306 | AG41: =IF(SUM(H41:S41)<90," ",SUM(U41:AA41)) -> 1.4178161 | AH41: =IF(SUM(H41:S41)<90," ",AK41/SUM(AI41:AR41)) -> 0.15079235 | AI41: =IF(SUM(H41:S41)<90," ",U41*13/$AG41) -> 6.0293658 | AJ41: =IF(SUM(H41:S41)<90," ",V41*13/$AG41) -> 0.18292617 | AK41: =IF(SUM(H41:S41)<90," ",W41*13/$AG41) -> 2.3769464 | AL41: =IF(SUM(H41:S41)<90," ",X41*13/$AG41) -> 0 | AM41: =IF(SUM(H41:S41)<90," ",Y41*13/$AG41) -> 1.6331611 | AN41: =IF(SUM(H41:S41)<90," ",Z41*13/$AG41) -> 0.034899113 | AO41: =IF(SUM(H41:S41)<90," ",AA41*13/$AG41) -> 2.7427014 | AP41: =IF(SUM(H41:S41)<90," ",AB41*13/$AG41) -> 1.9293241 | AQ41: =IF(SUM(H41:S41)<90," ",AC41*13/$AG41) -> 0.5751818 | AR41: =IF(SUM(H41:S41)<90," ",AD41*13/$AG41) -> 0.25853757 | AS41: =IF(SUM(H41:S41)<90," ",AE41*13/$AG41) -> 0 | AT41: =IF(SUM(H41:S41)<90," ",AF41*13/$AG41) -> 0.013448498 | AU41: =IF(SUM(H41:S41)<90," ",SUM(AI41:AR41)) -> 15.763043 | AV41: =IF(SUM(H41:S41)<90," ",(2-AS41-AT41)*AG41*17/13/2) -> 1.8416 | AW41: =IF(SUM(H41:S41)<90," ",CO41*AG41*stab.data!$U$20/13/2) -> 4.4072235 | AX41: =IF(SUM(H41:S41)<90," ",CQ41*AG41*stab.data!$U$11/13) -> 8.8313241 | AY41: =IF(SUM(H41:S41)<90," ",-(R41*0.421070639014633+S41*0.225636758525372)) -> -0.011733111 | AZ41: =IF(SUM(H41:S41)<90," ",SUM(H41:S41)-L41+AV41+AW41+AX41+AY41) -> 96.838414 | BA41: =IF(SUM(H41:S41)<90," ",EXP('eq. coef.'!$C$104+'eq. coef.'!$C$105*'Amp (T-P-fO2 calculation)'!AI41+'eq. coef.'!$C$106*'Amp (T-P-fO2 calculation)'!AJ41+'eq. coef.'!$C$107*'Amp (T-P-fO2 calculation)'!AK41+'eq. coef.'!$C$108*'Amp (T-P-fO2 calculation)'!AM41+'eq. coef.'!$C$109*'Amp (T-P-fO2 calculation)'!AO41+'eq. coef.'!$C$110*'Amp (T-P-fO2 calculation)'!AP41+'eq. coef.'!$C$111*'Amp (T-P-fO2 calculation)'!AQ41+'eq. coef.'!$C$112*'Amp (T-P-fO2 calculation)'!AR41)) -> 684.24359 | BB41: =IF(SUM(H41:S41)<90," ",EXP('eq. coef.'!$C$176+'eq. coef.'!$C$177*'Amp (T-P-fO2 calculation)'!AI41+'eq. coef.'!$C$178*'Amp (T-P-fO2 calculation)'!AJ41+'eq. coef.'!$C$179*'Amp (T-P-fO2 calculation)'!AK41+'eq. coef.'!$C$180*'Amp (T-P-fO2 calculation)'!AM41+'eq. coef.'!$C$181*'Amp (T-P-fO2 calculation)'!AO41+'eq. coef.'!$C$182*'Amp (T-P-fO2 calculation)'!AP41+'eq. coef.'!$C$183*'Amp (T-P-fO2 calculation)'!AQ41+'eq. coef.'!$C$184*'Amp (T-P-fO2 calculation)'!AR41)) -> 490.1455 | BC41: =IF(SUM(H41:S41)<90," ",('eq. coef.'!$C$234+'eq. coef.'!$C$235*'Amp (T-P-fO2 calculation)'!AI41+'eq. coef.'!$C$236*'Amp (T-P-fO2 calculation)'!AJ41+'eq. coef.'!$C$237*'Amp (T-P-fO2 calculation)'!AK41+'eq. coef.'!$C$238*'Amp (T-P-fO2 calculation)'!AM41+'eq. coef.'!$C$239*'Amp (T-P-fO2 calculation)'!AO41+'eq. coef.'!$C$240*'Amp (T-P-fO2 calculation)'!AP41+'eq. coef.'!$C$241*'Amp (T-P-fO2 calculation)'!AQ41+'eq. coef.'!$C$242*'Amp (T-P-fO2 calculation)'!AR41)) -> 521.21629 | BD41: =IF(SUM(H41:S41)<90," ",('eq. coef.'!$C$270+'eq. coef.'!$C$271*'Amp (T-P-fO2 calculation)'!AI41+'eq. coef.'!$C$272*'Amp (T-P-fO2 calculation)'!AJ41+'eq. coef.'!$C$273*'Amp (T-P-fO2 calculation)'!AK41+'eq. coef.'!$C$274*'Amp (T-P-fO2 calculation)'!AM41+'eq. coef.'!$C$275*'Amp (T-P-fO2 calculation)'!AO41+'eq. coef.'!$C$276*'Amp (T-P-fO2 calculation)'!AP41+'eq. coef.'!$C$277*'Amp (T-P-fO2 calculation)'!AQ41+'eq. coef.'!$C$278*'Amp (T-P-fO2 calculation)'!AR41)) -> 726.9299 | BE41: =IF(SUM(H41:S41)<90," ",EXP('eq. coef.'!$C$328+'eq. coef.'!$C$329*'Amp (T-P-fO2 calculation)'!AI41+'eq. coef.'!$C$330*'Amp (T-P-fO2 calculation)'!AJ41+'eq. coef.'!$C$331*'Amp (T-P-fO2 calculation)'!AK41+'eq. coef.'!$C$332*'Amp (T-P-fO2 calculation)'!AM41+'eq. coef.'!$C$333*'Amp (T-P-fO2 calculation)'!AO41+'eq. coef.'!$C$334*'Amp (T-P-fO2 calculation)'!AP41+'eq. coef.'!$C$335*'Amp (T-P-fO2 calculation)'!AQ41+'eq. coef.'!$C$336*'Amp (T-P-fO2 calculation)'!AR41)) -> 1191.4674 | BF41: =IF(SUM(H41:S41)<90," ",IF(AZ41<98.5,"low Total",IF(AZ41>102,"high Total",IF(DG41>46.5,"unbalanced",IF(CQ41<0,"unbalanced",IF(DI41<0.54,"low-Mg",IF(CU41<1.5,"low-Ca",IF(CW41<1.99,"low-B cations",IF(CU41>2.05,"high-Ca",IF(DK41>0.25,"high-Al#",IF(H41<38.8-0.42,"low-SiO2",IF(H41>49.8,"high-SiO2",IF(CI41>0.06+0.06*0.2,"high-[4]Ti",IF(CL41>0.57+0.57*0.074,"high-[6]Al",IF(CM41>0.7+0.7*0.07,"high-[6]Ti",IF(CN41>0.04+0.04*0.1,"high-Cr2O3",IF(CO41>1.37+1.37*0.28,"high-Fe3+",IF(N41<9.71-0.35,"low-MgO",IF(N41>18.01+0.35,"high-MgO",IF(CQ41>1.69+1.69*0.28,"high-Fe2+",IF(M41>0.58+0.58*0.3,"high-MnO",IF(O41>12.35+0.25,"high-CaO",IF(CY41<0,"low-ANa",IF(CY41>0.58+0.58*0.11,"high-ANa",IF(Q41<0,"low-K2O",IF(Q41>2.03+0.05,"high-K2O",IF(DA41<0.03-0.03*0.3,"low-A(Na+K)",IF(DA41>1,"high-A(Na+K)",IF(J41<6.5,"low-Al2O3",IF(J41>15.9+0.36,"high-Al2O3",IF(I41<1.1-0.2,"low-TiO2",IF(L41<5.85-0.44,"low-FeO",IF(L41>16.92+0.44,"high-FeO",IF(P41<1.07-0.1,"low-Na2O",IF(P41>3.05+0.1,"high-Na2O","ok"))))))))))))))))))))))))))))))))))) -> low Total | BG41: =IF(SUM(H41:S41)<90," ",IF(DI41<0.54,"low-Mg",IF(CU41<1.5,"low-Ca",IF(CW41<1.99,"low-B cations",IF(CU41>2.05,"high-Ca",IF(DK41>0.24,"high-Al#",IF(H41<39.2-0.42,"low-SiO2",IF(H41>46.2+0.42,"high-SiO2",IF(CI41>0.06+0.06*0.2,"high-[4]Ti",IF(CL41>0.48+0.48*0.074,"high-[6]Al",IF(CM41>0.66+0.66*0.07,"high-[6]Ti",IF(CN41>0.04+0.04*0.1,"high-Cr2O3",IF(CO41>1.25+1.25*0.28,"high-Fe3+",IF(N41<9.71-0.35,"low-MgO",IF(N41>16.7+0.35,"high-MgO",IF(CQ41>1.69+1.69*0.28,"high-Fe2+",IF(M41>0.32+0.32*0.3,"high-MnO",IF(O41>12.35+0.25,"high-CaO",IF(CY41<0.1,"low-ANa",IF(CY41>0.57+0.57*0.11,"high-ANa",IF(Q41<0,"low-K2O",IF(Q41>1.3+0.05,"high-K2O",IF(DA41<0.17-0.17*0.3,"low-A(Na+K)",IF(DA41>0.9,"high-A(Na+K)",IF(J41<8.5,"low-Al2O3",IF(J41>14.6+0.4,"high-Al2O3",IF(I41<1.3-0.2,"low-TiO2",IF(L41<8.7-0.44,"low-FeO",IF(L41>16.92+0.44,"high-FeO",IF(P41<1.6-0.1,"low-Na2O",IF(P41>2.65+0.1,"high-Na2O","ok"))))))))))))))))))))))))))))))) -> ok | BH41: =IF(SUM(H41:S41)<90," ",IF(DI41<0.54,"low-Mg",IF(CU41<1.5,"low-Ca",IF(CW41<1.99,"low-B cations",IF(CU41>2.05,"high-Ca",IF(DK41>0.24,"high-Al#",IF(H41<38.8-0.42,"low-SiO2",IF(H41>47.9+0.42,"high-SiO2",IF(CI41>0.06+0.06*0.2,"high-[4]Ti",IF(CL41>0.55+0.55*0.074,"high-[6]Al",IF(CM41>0.7+0.7*0.07,"high-[6]Ti",IF(CN41>0.03+0.03*0.1,"high-Cr2O3",IF(CO41>1.37+1.37*0.28,"high-Fe3+",IF(N41<9.71-0.35,"low-MgO",IF(N41>18+0.35,"high-MgO",IF(CQ41>1.69+1.69*0.28,"high-Fe2+",IF(M41>0.58+0.58*0.3,"high-MnO",IF(O41>12.35+0.25,"high-CaO",IF(CY41<0,"low-ANa",IF(CY41>0.58+0.58*0.11,"high-ANa",IF(Q41<0,"low-K2O",IF(Q41>2+0.05,"high-K2O",IF(DA41<0.07-0.07*0.3,"low-A(Na+K)",IF(DA41>0.9,"high-A(Na+K)",IF(J41<6.5,"low-Al2O3",IF(J41>15.9+0.4,"high-Al2O3",IF(I41<1.1-0.2,"low-TiO2",IF(L41<5.9-0.44,"low-FeO",IF(L41>16.92+0.44,"high-FeO",IF(P41<1.28-0.1,"low-Na2O",IF(P41>2.9+0.1,"high-Na2O","ok"))))))))))))))))))))))))))))))) -> ok | BI41: =IF(SUM(H41:S41)<90," ",ABS(BA41-BO41)/(BA41+BO41)*200) -> 6.0497603 | BJ41: =IF(SUM(H41:S41)<90," ",(BA41-BE41)/BA41) -> -0.74129131 | BK41: =IF(SUM(H41:S41)<90," ",BD41-BB41) -> 236.78439 | BL41: =IF(SUM(H41:S41)<90," ",'eq. coef.'!$C$360+'eq. coef.'!$C$361*'Amp (T-P-fO2 calculation)'!AI41+'eq. coef.'!$C$362*'Amp (T-P-fO2 calculation)'!AJ41+'eq. coef.'!$C$363*'Amp (T-P-fO2 calculation)'!AK41+'eq. coef.'!$C$364*'Amp (T-P-fO2 calculation)'!AM41+'eq. coef.'!$C$365*'Amp (T-P-fO2 calculation)'!AO41+'eq. coef.'!$C$366*'Amp (T-P-fO2 calculation)'!AP41+'eq. coef.'!$C$367*'Amp (T-P-fO2 calculation)'!AQ41+'eq. coef.'!$C$368*'Amp (T-P-fO2 calculation)'!AR41+'eq. coef.'!$C$369*LN(BO41)) -> 929.2932 | BM41: =IF(SUM(H41:S41)<90," ",22) -> 22 | BN41: =IF(SUM(H41:S41)<90," ",BM41^2) -> 484 | BO41: =IF(SUM(H41:S41)<90," ",IF(BB41<335,BB41,IF(BB41<399,AVERAGE(BB41:BC41),IF(BC41<415,BC41,IF(BD41<470,BC41,IF(BJ41>0.22,AVERAGE(BC41:BD41),IF(BK41>350,BE41,IF(BK41>210,BD41,IF(BK41<75,BC41,IF(BJ41<-0.2,AVERAGE(BB41:BC41),IF(BJ41>0.05,AVERAGE(BC41:BD41),BA41))))))))))) -> 726.9299 | BP41: =IF(SUM(H41:S41)<90," ",IF(BO41=BA41,"P1a",IF(BO41=BB41,"P1b",IF(BO41=BC41,"P1c",IF(BO41=BD41,"P1d",IF(BO41=BE41,"P1e",IF(BO41=AVERAGE(BB41:BC41),"P1b_c","P1c_d"))))))) -> P1d | BR41: =ABS(BQ41) -> 0 | BS41: =BQ41^2 -> 0 | BT41: =IF(SUM(H41:S41)<90," ",BO41*0.12) -> 87.231588 | BU41: =(-4.76+5.6*DL41)*100 -> 855.08997 | BV41: =2400/(1.52-LOG10(CM41))-273 -> 790.01738 | BW41: =IF(SUM(H41:S41)<90," ",'eq. coef.'!$B$1128*'Amp (T-P-fO2 calculation)'!CH41+'eq. coef.'!$B$1129*'Amp (T-P-fO2 calculation)'!CL41+'eq. coef.'!$B$1130*'Amp (T-P-fO2 calculation)'!CM41+'eq. coef.'!$B$1131*'Amp (T-P-fO2 calculation)'!CO41+'eq. coef.'!$B$1132*'Amp (T-P-fO2 calculation)'!CP41+'eq. coef.'!$B$1133*'Amp (T-P-fO2 calculation)'!CQ41+'eq. coef.'!$B$1134*'Amp (T-P-fO2 calculation)'!CR41+'eq. coef.'!$B$1135*'Amp (T-P-fO2 calculation)'!CU41+'eq. coef.'!$B$1135*'Amp (T-P-fO2 calculation)'!CY41+'eq. coef.'!$B$1137*'Amp (T-P-fO2 calculation)'!CZ41) -> 4.522552 | BX41: =IF(SUM(H41:S41)<90," ",0.4) -> 0.4 | BZ41: =12.78-25073/(BL41+273.15)-1.1*LOG10(BL41+273.15)+450*(BO41/1000)/(BL41+273.15)+0.025*(BO41/1000) -> -11.169566 | CA41: =CC41-CB41 -> 3.0572743 | CB41: =2.19144+15305300/(BL41+273.15)/(BL41+273.15)/(BL41+273.15)-1551.42/(BL41+273.15)/(BL41+273.15)+(-25137+0.0477703*(BO41*10))/(BL41+273.15)+0.000109305*(BL41+273.15)+2.7838*LOG10(BL41+273.15) -> -9.7112579 | CC41: =IF(SUM(H41:S41)<90," ",-25018.7/(BL41+273.15) + 12.981 + 0.046*(BO41*10- 1)/(BL41+273.15) + -0.5117*LN(BL41+273.15)+BW41) -> -6.6539835 | CE41: =IF(SUM(H41:S41)<90," ",EXP('eq. coef.'!$B$1156*'Amp (T-P-fO2 calculation)'!CH41+'eq. coef.'!$B$1157*'Amp (T-P-fO2 calculation)'!CL41+'eq. coef.'!$B$1158*'Amp (T-P-fO2 calculation)'!CM41+'eq. coef.'!$B$1159*'Amp (T-P-fO2 calculation)'!CO41+'eq. coef.'!$B$1160*'Amp (T-P-fO2 calculation)'!CP41+'eq. coef.'!$B$1161*'Amp (T-P-fO2 calculation)'!CQ41+'eq. coef.'!$B$1162*'Amp (T-P-fO2 calculation)'!CR41+'eq. coef.'!$B$1163*'Amp (T-P-fO2 calculation)'!CU41+'eq. coef.'!$B$1164*'Amp (T-P-fO2 calculation)'!CY41+'eq. coef.'!$B$1165*'Amp (T-P-fO2 calculation)'!CZ41)) -> 8.6877194 | CF41: =IF(SUM(H41:S41)<90," ",CE41*0.17) -> 1.4769123 | CG41: =IF(SUM(H41:S41)<90," ",AI41) -> 6.0293658 | CH41: =IF(SUM(H41:S41)<90," ",IF(AI41+AK41>8,8-AI41,AK41)) -> 1.9706342 | CI41: =IF(SUM(H41:S41)<90," ",IF(CG41+CH41<8,8-CG41-CH41,0)) -> 0 | CJ41: =IF(SUM(H41:S41)<90," ",SUM(CG41:CI41)) -> 8 | CL41: =IF(SUM(H41:S41)<90," ",AK41-CH41) -> 0.40631221 | CM41: =IF(SUM(H41:S41)<90," ",AJ41-CI41) -> 0.18292617 | CN41: =IF(SUM(H41:S41)<90," ",AL41) -> 0 | CO41: =IF(SUM(H41:S41)<90," ",IF(DG41>46,0,46-DG41)) -> 0.50610202 | CP41: =IF(SUM(H41:S41)<90," ",AO41) -> 2.7427014 | CQ41: =IF(SUM(H41:S41)<90," ",AM41-CO41) -> 1.1270591 | CR41: =IF(SUM(H41:S41)<90," ",AN41) -> 0.034899113 | CS41: =IF(SUM(H41:S41)<90," ",SUM(CL41:CR41)) -> 5 | CU41: =IF(SUM(H41:S41)<90," ",AP41) -> 1.9293241 | CV41: =IF(SUM(H41:S41)<90," ",IF(2-CU41<=AQ41,2-CU41,AQ41)) -> 0.070675895 | CW41: =IF(SUM(H41:S41)<90," ",SUM(CU41:CV41)) -> 2 | CY41: =IF(SUM(H41:S41)<90," ",AQ41-CV41) -> 0.5045059 | CZ41: =IF(SUM(H41:S41)<90," ",AR41) -> 0.25853757 | DA41: =IF(SUM(H41:S41)<90," ",SUM(CY41:CZ41)) -> 0.76304348 | DC41: =IF(SUM(H41:S41)<90," ",2-DD41-DE41) -> 1.9865515 | DD41: =IF(SUM(H41:S41)<90," ",AS41) -> 0 | DE41: =IF(SUM(H41:S41)<90," ",AT41) -> 0.013448498 | DF41: =IF(SUM(H41:S41)<90," ",SUM(DC41:DE41)) -> 2 | DG41: =IF(SUM(H41:S41)<90," ",AI41*4+AJ41*4+AK41*3+AL41*3+AM41*2+AN41*2+AO41*2+AP41*2+AQ41+AR41) -> 45.493898 | DI41: =IF(SUM(H41:S41)<90," ",CP41/(CP41+CQ41)) -> 0.70875225 | DJ41: =IF(SUM(H41:S41)<90," ",CP41/(CP41+CO41+CQ41)) -> 0.62677962 | DK41: =IF(SUM(H41:S41)<90," ",CL41/(CL41+CH41)) -> 0.17093874 | DL41: =IF(SUM(H41:S41)<90," ",CL41+CH41) -> 2.3769464
A42: Average | BO42: =AVERAGE(BO5:BO41) -> 900.68995 | BU42: =AVERAGE(BU11:BU41) -> 828.5412 | BV42: =AVERAGE(BV5:BV41) -> 809.50901
A43: References:
A45: Hollister, L. S., Grissom, G. C., Peters, E. K., Stowell, H. H., and Sisson, V. B., 1987, Confirmation of the empirical correlation of Al in hornblende with pressure of solidification of calc-alkaline plutons: American Mineralogist, v. 72, p. 231–239.
A46: Liao, Y., Wei, C., and Rehman, H. U., 2021, Titanium in calcium amphibole: Behavior and thermometry: American Mineralogist, v. 106, p. 180–191.
A47: Liu, Y., Chou, I. M., Chen, J., Wu, N., Li, W., Bagas, L., Ren, M., Liu, Z., Mei, S., and Wang, L., 2023, Oldhamite: A new link in upper mantle for C-O-S-Ca cycles and an indicator for planetary habitability: National Science Review, v. 10, p. nwad159.
A50: O’Neill, H. S., 1987, Free energies of formation of NiO, CoO, Ni2SiO4, and Co2SiO4: American Mineralogist, v. 72, p. 280–291
A51: Ridolfi, F., 2021, Amp-TB2: An Updated Model for Calcic Amphibole Thermobarometry: Minerals, v. 11, p. 324.
A52: Liu, Y., Chou, I. M., Chen, J., Wu, N., Li, W., Bagas, L., Ren, M., Liu, Z., Mei, S., and Wang, L., 2023, Oldhamite: A new link in upper mantle for C-O-S-Ca cycles and an indicator for planetary habitability: National Science Review, v. 10, p. nwad159.

Sheet eq. coef.
A2: GET DATA /TYPE=XLS /FILE='D:\Documenti\Lavoro\MyPapers\Progress\Amp_thermobarometry\Post-article papers dealing with amphibole\Submission\Super\OK1\R egr-Mn\data.xls' /SHEET=name 'whole' /CELLRANGE=full /READNAMES=on /ASSUMEDSTRWIDTH=32767. >Warning. Command name: GET DATA >(2101) The column contained no recognized type; defaulting to "Numeric[8,2]" >* Column 11 >Warning. Command name: GET DATA >(2101) The column contained no recognized type; defaulting to "Numeric[8,2]" >* Column 21 REGRESSION /MISSING LISTWISE /STATISTICS COEFF OUTS R ANOVA /CRITERIA=PIN(.05) POUT(.10) /NOORIGIN /DEPENDENT P /METHOD=ENTER Si Ti Al Fe Mg Ca Na K.
A5: Regression
A7: Notes
A8: Output Created | C8: 18-Dec-2010 21:37:15
A9: Comments
A10: Input | B10: Active Dataset | C10: DataSet1
B11: Filter | C11: <none>
B12: Weight | C12: <none>
B13: Split File | C13: <none>
B14: N of Rows in Working Data File | C14: 58
A15: Missing Value Handling | B15: Definition of Missing | C15: User-defined missing values are treated as missing.
B16: Cases Used | C16: Statistics are based on cases with no missing values for any variable used.
A17: Syntax | C17: REGRESSION /MISSING LISTWISE /STATISTICS COEFF OUTS R ANOVA /CRITERIA=PIN(.05) POUT(.10) /NOORIGIN /DEPENDENT P /METHOD=ENTER Si Ti Al Fe Mg Ca Na K.
A18: Resources | B18: Processor Time | C18: 0:00:00.015
B19: Elapsed Time | C19: 0:00:00.032
B20: Memory Required | C20: 4724 bytes
B21: Additional Memory Required for Residual Plots | C21: 0 bytes
A24: [DataSet1]
A26: Variables Entered/Removed
A27: Model | B27: Variables Entered | C27: Variables Removed | D27: Method
A28: 1 | B28: K, Mg, Ca, Al, Ti, Na, Si, Fea | C28: . | D28: Enter
A29: a. All requested variables entered.
A31: Model Summary
A32: Model | B32: R | C32: R Square | D32: Adjusted R Square | E32: Std. Error of the Estimate
A33: 1 | B33: .947a | C33: 0.89691693 | D33: 0.88008704 | E33: 190.85507
A34: a. Predictors: (Constant), K, Mg, Ca, Al, Ti, Na, Si, Fe
A36: ANOVAb
A37: Model | C37: Sum of Squares | D37: df | E37: Mean Square | F37: F | G37: Sig.
A38: 1 | B38: Regression | C38: 15529890 | D38: 8 | E38: 1941236.2 | F38: 53.293098 | G38: .000a
B39: Residual | C39: 1784857.3 | D39: 49 | E39: 36425.659
B40: Total | C40: 17314747 | D40: 57
A41: a. Predictors: (Constant), K, Mg, Ca, Al, Ti, Na, Si, Fe
A42: b. Dependent Variable: P
A44: Coefficientsa
A45: Model | C45: Unstandardized Coefficients | E45: Standardized Coefficients | F45: t | G45: Sig.
C46: B | D46: Std. Error | E46: Beta
A47: 1 | B47: (Constant) | C47: 118112 | D47: 29043.666 | F47: 4.0667042 | G47: 0.00017255241
B48: Si | C48: -9352.652 | D48: 2252.9392 | E48: -4.7827769 | F48: -4.1513113 | G48: 0.00013146073
B49: Ti | C49: -10956.644 | D49: 2198.974 | E49: -2.3784155 | F49: -4.9826166 | G49: 8.2112098e-06
B50: Al | C50: -8265.5502 | D50: 2214.0627 | E50: -5.3633669 | F50: -3.733205 | G50: 0.0004926348
B51: Fe | C51: -8817.6976 | D51: 2254.8855 | E51: -5.0669789 | F51: -3.9104857 | G51: 0.00028340355
B52: Mg | C52: -8620.5093 | D52: 2221.359 | E52: -5.2769426 | F52: -3.8807367 | G52: 0.00031119811
B53: Ca | C53: -1165.1814 | D53: 345.0556 | E53: -0.1705968 | F53: -3.3767932 | G53: 0.0014436056
B54: Na | C54: 1218.4666 | D54: 526.35202 | E54: 0.28642514 | F54: 2.3149271 | G54: 0.024848326
B55: K | C55: 3327.4983 | D55: 530.99327 | E55: 0.41970237 | F55: 6.2665545 | G55: 9.0752027e-08
A56: a. Dependent Variable: P
A59: GET DATA /TYPE=XLS /FILE='D:\Documenti\Lavoro\MyPapers\Progress\Amp_thermobarometry\Post-article papers dealing with amphibole\Submission\Super\OK1\R egr-Mn\data.xls' /SHEET=name 'whole' /CELLRANGE=full /READNAMES=on /ASSUMEDSTRWIDTH=32767. >Warning. Command name: GET DATA >(2101) The column contained no recognized type; defaulting to "Numeric[8,2]" >* Column 21 REGRESSION /MISSING LISTWISE /STATISTICS COEFF OUTS R ANOVA /CRITERIA=PIN(.05) POUT(.10) /NOORIGIN /DEPENDENT lnP /METHOD=ENTER Si Ti Al Fe Mg Ca Na K.
A62: Regression
A64: Notes
A65: Output Created | C65: 18-Dec-2010 21:38:49
A66: Comments
A67: Input | B67: Active Dataset | C67: DataSet2
B68: Filter | C68: <none>
B69: Weight | C69: <none>
B70: Split File | C70: <none>
B71: N of Rows in Working Data File | C71: 58
A72: Missing Value Handling | B72: Definition of Missing | C72: User-defined missing values are treated as missing.
B73: Cases Used | C73: Statistics are based on cases with no missing values for any variable used.
A74: Syntax | C74: REGRESSION /MISSING LISTWISE /STATISTICS COEFF OUTS R ANOVA /CRITERIA=PIN(.05) POUT(.10) /NOORIGIN /DEPENDENT lnP /METHOD=ENTER Si Ti Al Fe Mg Ca Na K.
A75: Resources | B75: Processor Time | C75: 0:00:00.015
B76: Elapsed Time | C76: 0:00:00.078
B77: Memory Required | C77: 4724 bytes
B78: Additional Memory Required for Residual Plots | C78: 0 bytes
A81: [DataSet11]
A83: Variables Entered/Removed
A84: Model | B84: Variables Entered | C84: Variables Removed | D84: Method
A85: 1 | B85: K, Ca, Mg, Si, Ti, Na, Fe, Ala | C85: . | D85: Enter
A86: a. All requested variables entered.
A88: Model Summary
A89: Model | B89: R | C89: R Square | D89: Adjusted R Square | E89: Std. Error of the Estimate
A90: 1 | B90: .972a | C90: 0.94534603 | D90: 0.93693772 | E90: 0.20563707
A91: a. Predictors: (Constant), K, Ca, Mg, Si, Ti, Na, Fe, Al
A93: ANOVAb
A94: Model | C94: Sum of Squares | D94: df | E94: Mean Square | F94: F | G94: Sig.
A95: 1 | B95: Regression | C95: 38.034283 | D95: 8 | E95: 4.7542853 | F95: 112.43005 | G95: .000a
B96: Residual | C96: 2.1989035 | D96: 52 | E96: 0.042286606
B97: Total | C97: 40.233186 | D97: 60
A98: a. Predictors: (Constant), K, Ca, Mg, Si, Ti, Na, Fe, Al
A99: b. Dependent Variable: lnP
A101: Coefficientsa
A102: Model | C102: Unstandardized Coefficients | E102: Standardized Coefficients | F102: t | G102: Sig.
C103: B | D103: Std. Error | E103: Beta
A104: 1 | B104: (Constant) | C104: 125.93321 | D104: 33.446311 | F104: 3.7652347 | G104: 0.00042496612
B105: Si | C105: -9.5875714 | D105: 2.5983227 | E105: -3.4475679 | F105: -3.6899079 | G105: 0.00053774083
B106: Ti | C106: -10.116156 | D106: 2.5277401 | E106: -1.9166552 | F106: -4.0020553 | G106: 0.00019993421
B107: Al | C107: -8.1734551 | D107: 2.5517942 | E107: -3.7641125 | F107: -3.2030228 | G107: 0.0023228503
B108: Fe | C108: -9.2260763 | D108: 2.5841715 | E108: -3.5677822 | F108: -3.5702259 | G108: 0.00077791741
B109: Mg | C109: -8.7933905 | D109: 2.5588636 | E109: -3.8786227 | F109: -3.4364436 | G109: 0.0011670096
B110: Ca | C110: -1.6658613 | D110: 0.31892106 | E110: -0.19759048 | F110: -5.2234283 | G110: 3.1370194e-06
B111: Na | C111: 2.483472 | D111: 0.51780898 | E111: 0.38810635 | F111: 4.7961161 | G111: 1.399413e-05
B112: K | C112: 2.519185 | D112: 0.56028968 | E112: 0.25956019 | F112: 4.4962187 | G112: 3.9013384e-05
A113: a. Dependent Variable: lnP
A116: [DataSet11]
A118: Variables Entered/Removed
A119: Model | B119: Variables Entered | C119: Variables Removed | D119: Method
A120: 1 | B120: lnT, Mg, Ca, K, Ti, Al, Na, Si, Fea | C120: . | D120: Enter
A121: a. All requested variables entered.
A123: Model Summary
A124: Model | B124: R | C124: R Square | D124: Adjusted R Square | E124: Std. Error of the Estimate
A125: 1 | B125: .973a | C125: 0.94743122 | D125: 0.93815438 | E125: 0.20364374
...

Sheet stab.data
A1: Stability curve data
B3: Upper limit
A4: T | B4: 1000 | C4: 950 | D4: 930 | E4: 900 | F4: 850 | G4: 800 | H4: 750 | I4: 650 | J4: 550 | T4: Molar weights
A5: P | B5: 2200 | C5: 1000 | D5: 750 | E5: 525 | F5: 326.01 | G5: 224.06 | H5: 154 | I5: 72.74 | J5: 34.36
U6: PM | V6: O | W6: X ox | X6: X ox
B7: Thermal stability | T7: SiO2 | U7: 60.084 | V7: 15.999 | W7: =V7*2/U7 -> 0.53255442 | X7: 0.53255442
A8: T | B8: 1130 | C8: 1120 | D8: 1095 | E8: 1070 | F8: 1050 | G8: 1025 | H8: 1000 | I8: 975 | J8: 950 | K8: 900 | L8: 850 | M8: 800 | N8: 750 | O8: 650 | P8: 550 | T8: TiO2 | U8: 79.898 | V8: 15.999 | W8: =V8*2/U8 -> 0.40048562 | X8: 0.40048562
A9: P | B9: 1500 | C9: 1300 | D9: 950 | E9: 710 | F9: 546.41 | G9: 410 | H9: 328.28 | I9: 261.59 | J9: 211.55 | K9: 133.66 | L9: 91.3 | M9: 66.62 | N9: 51.35 | O9: 34.65 | P9: 34.36 | T9: Al2O3 | U9: 101.961 | V9: 15.999 | W9: =V9*3/U9 -> 0.47073881 | X9: 0.47073881
T10: Cr2O3 | U10: 151.9902 | V10: 15.999 | W10: =V10*3/U10 -> 0.3157901 | X10: 0.3157901
B11: Thermal stability + T error | T11: FeO | U11: 71.846 | V11: 15.999 | W11: =V11/U11 -> 0.22268463 | X11: 0.22268463
A12: T | B12: =B8+24 -> 1154 | C12: =C8+24 -> 1144 | D12: =D8+24 -> 1119 | E12: =E8+24 -> 1094 | F12: =F8+24 -> 1074 | G12: =G8+24 -> 1049 | H12: =H8+24 -> 1024 | I12: =I8+24 -> 999 | ... P12: =P8+24 -> 574 | T12: MnO | U12: 70.937 | V12: 15.999 | W12: =V12/U12 -> 0.22553815 | X12: 0.22553815
A13: P | B13: =B9 -> 1500 | C13: =C9 -> 1300 | D13: =D9 -> 950 | E13: =E9 -> 710 | F13: =F9 -> 546.41 | G13: =G9 -> 410 | H13: =H9 -> 328.28 | I13: =I9 -> 261.59 | ... P13: =P9 -> 34.36 | T13: MgO | U13: 40.304 | V13: 15.999 | W13: =V13/U13 -> 0.39695812 | X13: 0.39695812
T14: CaO | U14: 56.079 | V14: 15.999 | W14: =V14/U14 -> 0.28529396 | X14: 0.28529396
B15: Upper limit -T error | T15: Na2O | U15: 61.979 | V15: 15.999 | W15: =V15/U15 -> 0.25813582 | X15: 0.25813582
A16: T | B16: =B4-24 -> 976 | C16: =C4-24 -> 926 | D16: =D4-24 -> 906 | E16: =E4-24 -> 876 | F16: =F4-24 -> 826 | G16: =G4-24 -> 776 | H16: =H4-24 -> 726 | I16: =I4-24 -> 626 | J16: =J4-24 -> 526 | T16: K2O | U16: 94.195 | V16: 15.999 | W16: =V16/U16 -> 0.16984978 | X16: 0.16984978
A17: P | B17: =B5 -> 2200 | C17: =C5 -> 1000 | D17: =D5 -> 750 | E17: =E5 -> 525 | F17: =F5 -> 326.01 | G17: =G5 -> 224.06 | H17: =H5 -> 154 | I17: =I5 -> 72.74 | J17: =J5 -> 34.36 | T17: F | U17: 18.998 | V17: 15.999 | W17: =V17/U17/2 -> 0.42107064 | X17: 0.42107064
T18: Cl | U18: 35.453 | V18: 15.999 | W18: =V18/U18/2 -> 0.22563676 | X18: 0.22563676
A19: P(Mpa) | B19: 200 | T19: H2O | U19: =V19+1.008*2 -> 18.015 | V19: 15.999 | W19: =V19/U19 -> 0.88809326 | X19: =W19/V19 -> 0.055509298
A20: 5kbar | T20: Fe2O3 | U20: 159.691 | V20: 15.999 | W20: =V20*3/U20 -> 0.30056171 | X20: 0.30056171
A21: NNO | B21: =-25018.7/(B12+273.15) + 12.981 + 0.046*($B$19*10- 1)/(B12+273.15) + -0.5117*LN(B12+273.15) -> -8.2018005 | C21: =-25018.7/(C12+273.15) + 12.981 + 0.046*($B$19*10- 1)/(C12+273.15) + -0.5117*LN(C12+273.15) -> -8.3214505 | D21: =-25018.7/(D12+273.15) + 12.981 + 0.046*($B$19*10- 1)/(D12+273.15) + -0.5117*LN(D12+273.15) -> -8.6282096 | E21: =-25018.7/(E12+273.15) + 12.981 + 0.046*($B$19*10- 1)/(E12+273.15) + -0.5117*LN(E12+273.15) -> -8.9463557 | F21: =-25018.7/(F12+273.15) + 12.981 + 0.046*($B$19*10- 1)/(F12+273.15) + -0.5117*LN(F12+273.15) -> -9.2094994 | G21: =-25018.7/(G12+273.15) + 12.981 + 0.046*($B$19*10- 1)/(G12+273.15) + -0.5117*LN(G12+273.15) -> -9.5497859 | H21: =-25018.7/(H12+273.15) + 12.981 + 0.046*($B$19*10- 1)/(H12+273.15) + -0.5117*LN(H12+273.15) -> -9.9033757 | I21: =-25018.7/(I12+273.15) + 12.981 + 0.046*($B$19*10- 1)/(I12+273.15) + -0.5117*LN(I12+273.15) -> -10.271057 | ... P21: =-25018.7/(P12+273.15) + 12.981 + 0.046*($B$19*10- 1)/(P12+273.15) + -0.5117*LN(P12+273.15) -> -19.89306 | T21: CO2 | U21: =U23+V20*2 -> 44.0087
A22: HM | B22: =-25632/(B12+273.15) + 14.62+ 0.019*($B$19*10- 1)/(B12+273.15) -> -3.3136573 | C22: =-25632/(C12+273.15) + 14.62+ 0.019*($B$19*10- 1)/(C12+273.15) -> -3.4402046 | D22: =-25632/(D12+273.15) + 14.62+ 0.019*($B$19*10- 1)/(D12+273.15) -> -3.7645268 | E22: =-25632/(E12+273.15) + 14.62+ 0.019*($B$19*10- 1)/(E12+273.15) -> -4.1007102 | F22: =-25632/(F12+273.15) + 14.62+ 0.019*($B$19*10- 1)/(F12+273.15) -> -4.3786408 | G22: =-25632/(G12+273.15) + 14.62+ 0.019*($B$19*10- 1)/(G12+273.15) -> -4.7378785 | H22: =-25632/(H12+273.15) + 14.62+ 0.019*($B$19*10- 1)/(H12+273.15) -> -5.1109633 | I22: =-25632/(I12+273.15) + 14.62+ 0.019*($B$19*10- 1)/(I12+273.15) -> -5.4987116 | ... P22: =-25632/(P12+273.15) + 14.62+ 0.019*($B$19*10- 1)/(P12+273.15) -> -15.591909 | U22: PA
A23: QFM | B23: =-30686/(B12+273.15) + 82.76+ 0.094*($B19*10- 1)/(B12+273.15) + -10.62*LN(B12+273.15)+0.004843*(B12+273.15) -> -8.8359182 | C23: =-30686/(C12+273.15) + 82.76+ 0.094*($B19*10- 1)/(C12+273.15) + -10.62*LN(C12+273.15)+0.004843*(C12+273.15) -> -8.9604674 | D23: =-30686/(D12+273.15) + 82.76+ 0.094*($B19*10- 1)/(D12+273.15) + -10.62*LN(D12+273.15)+0.004843*(D12+273.15) -> -9.2789879 | E23: =-30686/(E12+273.15) + 82.76+ 0.094*($B19*10- 1)/(E12+273.15) + -10.62*LN(E12+273.15)+0.004843*(E12+273.15) -> -9.6082172 | F23: =-30686/(F12+273.15) + 82.76+ 0.094*($B19*10- 1)/(F12+273.15) + -10.62*LN(F12+273.15)+0.004843*(F12+273.15) -> -9.8797548 | G23: =-30686/(G12+273.15) + 82.76+ 0.094*($B19*10- 1)/(G12+273.15) + -10.62*LN(G12+273.15)+0.004843*(G12+273.15) -> -10.229967 | H23: =-30686/(H12+273.15) + 82.76+ 0.094*($B19*10- 1)/(H12+273.15) + -10.62*LN(H12+273.15)+0.004843*(H12+273.15) -> -10.592881 | I23: =-30686/(I12+273.15) + 82.76+ 0.094*($B19*10- 1)/(I12+273.15) + -10.62*LN(I12+273.15)+0.004843*(I12+273.15) -> -10.969324 | ... P23: =-30686/(P12+273.15) + 82.76+ 0.094*($B19*10- 1)/(P12+273.15) + -10.62*LN(P12+273.15)+0.004843*(P12+273.15) -> -20.736814 | T23: C | U23: 12.0107
A24: CCO | B24: =-21803/(B12+273.15) + 4.325 + 0.171*($B$19*10- 1)/(B12+273.15) -> -10.712782 | C24: =-21803/(C12+273.15) + 4.325 + 0.171*($B$19*10- 1)/(C12+273.15) -> -10.818895 | D24: =-21803/(D12+273.15) + 4.325 + 0.171*($B$19*10- 1)/(D12+273.15) -> -11.090847 | E24: =-21803/(E12+273.15) + 4.325 + 0.171*($B$19*10- 1)/(E12+273.15) -> -11.372744 | F24: =-21803/(F12+273.15) + 4.325 + 0.171*($B$19*10- 1)/(F12+273.15) -> -11.605795 | G24: =-21803/(G12+273.15) + 4.325 + 0.171*($B$19*10- 1)/(G12+273.15) -> -11.907024 | H24: =-21803/(H12+273.15) + 4.325 + 0.171*($B$19*10- 1)/(H12+273.15) -> -12.219865 | I24: =-21803/(I12+273.15) + 4.325 + 0.171*($B$19*10- 1)/(I12+273.15) -> -12.545 | ... P24: =-21803/(P12+273.15) + 4.325 + 0.171*($B$19*10- 1)/(P12+273.15) -> -21.008378 | T24: Si | U24: 28.086
T25: Ti | U25: 47.9
T26: Al | U26: 26.982
T27: Cr | U27: 51.996
A28: NNO+3 | B28: =B21+3 -> -5.2018005 | C28: =C21+3 -> -5.3214505 | D28: =D21+3 -> -5.6282096 | E28: =E21+3 -> -5.9463557 | F28: =F21+3 -> -6.2094994 | G28: =G21+3 -> -6.5497859 | H28: =H21+3 -> -6.9033757 | I28: =I21+3 -> -7.2710566 | ... P28: =P21+3 -> -16.89306 | T28: Fe | U28: 55.847
T29: Mg | U29: 24.305
T30: Ca | U30: 40.08
T31: Mn | U31: 54.938
T32: Na | U32: 22.99
T33: K | U33: 39.098
A37: T-H2Omelt stability and isobares
A39: H2O | B39: T | C39: H2O | D39: T | F39: MPa | G39: eq | K39: H2O | L39: T
A40: 2.84 | B40: 1040 | C40: =A40-A40*0.2 -> 2.272 | D40: =B40+24 -> 1064 | F40: 100±12% | G40: y = -23.009x + 907.9 | J40: R² = 0.8365 | K40: 3.5 | L40: =-23.009*K40 + 907 -> 826.4685
A41: 4.6 | B41: 800 | C41: =A40-A40*0.2 -> 2.272 | D41: =B40-24 -> 1016 | K41: 5.9 | L41: =-23.009*K41 + 907 -> 771.2469
A42: 7 | B42: 850 | C42: =A41-A41*0.2 -> 3.68 | D42: =B41-24 -> 776
A43: 12.2 | B43: 1025 | C43: =A41+A41*0.2 -> 5.52 | D43: =B41-24 -> 776 | F43: 150±12% | G43: y = -166.6ln(x) + 1099.7 | J43: R² = 0.8181 | K43: 3.2 | L43: =-166.6*LN(K43) + 1099.7 -> 905.91908
A44: 4.29 | B44: 1130 | C44: =A42+A42*0.2 -> 8.4 | D44: =B42-24 -> 826 | K44: 4 | L44: =-166.6*LN(K44) + 1099.7 -> 868.74336
A45: 2.84 | B45: 1040 | C45: =A43+A43*0.2 -> 14.64 | D45: =B43-24 -> 1001 | K45: 4.5 | L45: =-166.6*LN(K45) + 1099.7 -> 849.12071
C46: =A43+A43*0.2 -> 14.64 | D46: =B43+24 -> 1049 | K46: 5 | L46: =-166.6*LN(K46) + 1099.7 -> 831.56764
C47: =A44+A44*0.2 -> 5.148 | D47: =B44+24 -> 1154 | K47: 5.5 | L47: =-166.6*LN(K47) + 1099.7 -> 815.68897
C48: =A44-A44*0.2 -> 3.432 | D48: =B44+24 -> 1154 | K48: 6 | L48: =-166.6*LN(K48) + 1099.7 -> 801.19287
C49: =A45-A45*0.2 -> 2.272 | D49: =B45+24 -> 1064 | K49: 6.5 | L49: =-166.6*LN(K49) + 1099.7 -> 787.85776
K50: 6.8 | L50: =-166.6*LN(K50) + 1099.7 -> 780.34069
F52: 250±12% | G52: y = -139ln(x) + 1125.3 | J52: R² = 0.8907 | K52: 2.9 | L52: =-139*LN(K52) + 1125.3 -> 977.30521
K53: 3.5 | L53: =-139*LN(K53) + 1125.3 -> 951.16595
K54: 4 | L54: =-139*LN(K54) + 1125.3 -> 932.60508
K55: 4.5 | L55: =-139*LN(K55) + 1125.3 -> 916.23324
K56: 5 | L56: =-139*LN(K56) + 1125.3 -> 901.58813
K57: 5.5 | L57: =-139*LN(K57) + 1125.3 -> 888.34002
K58: 6 | L58: =-139*LN(K58) + 1125.3 -> 876.24543
K59: 6.5 | L59: =-139*LN(K59) + 1125.3 -> 865.1195
K60: 7 | L60: =-139*LN(K60) + 1125.3 -> 854.81849
K61: 7.5 | L61: =-139*LN(K61) + 1125.3 -> 845.22848
K62: 8 | L62: =-139*LN(K62) + 1125.3 -> 836.25763
K63: 8.9 | L63: =-139*LN(K63) + 1125.3 -> 821.43887
F65: 400±12% | G65: y = -127.1ln(x) + 1166.6 | J65: R² = 0.8602 | K65: 2.8 | L65: =-127.1*LN(K65) + 1166.6 -> 1035.7354
K66: 3.2 | L66: =-127.1*LN(K66) + 1166.6 -> 1018.7635
K67: 3.7 | L67: =-127.1*LN(K67) + 1166.6 -> 1000.3109
K68: 4.2 | L68: =-127.1*LN(K68) + 1166.6 -> 984.20076
K69: 4.7 | L69: =-127.1*LN(K69) + 1166.6 -> 969.90481
K70: 5.2 | L70: =-127.1*LN(K70) + 1166.6 -> 957.05549
K71: 5.7 | L71: =-127.1*LN(K71) + 1166.6 -> 945.38675
K72: 6.2 | L72: =-127.1*LN(K72) + 1166.6 -> 934.69978
K73: 6.7 | L73: =-127.1*LN(K73) + 1166.6 -> 924.84213
K74: 7.2 | L74: =-127.1*LN(K74) + 1166.6 -> 915.6943
K75: 7.7 | L75: =-127.1*LN(K75) + 1166.6 -> 907.1609
K76: 8.2 | L76: =-127.1*LN(K76) + 1166.6 -> 899.16455
K77: 8.7 | L77: =-127.1*LN(K77) + 1166.6 -> 891.64164
... K80: 10.6 | L80: =-127.1*LN(K80) + 1166.6 -> 866.53546
F82: 600±12% | G82: y = 1.4856x2 - 42.934x + 1192.6 | J82: R² = 0.9097 | K82: 2.9 | L82: =1.4856*K82^2 - 42.934*K82 + 1192.6 -> 1080.5853
K83: 3.2 | L83: =1.4856*K83^2 - 42.934*K83 + 1192.6 -> 1070.4237
K84: 3.8 | L84: =1.4856*K84^2 - 42.934*K84 + 1192.6 -> 1050.9029
K85: 4.3 | L85: =1.4856*K85^2 - 42.934*K85 + 1192.6 -> 1035.4525
K86: 4.8 | L86: =1.4856*K86^2 - 42.934*K86 + 1192.6 -> 1020.745
K87: 5.3 | L87: =1.4856*K87^2 - 42.934*K87 + 1192.6 -> 1006.7803
K88: 5.8 | L88: =1.4856*K88^2 - 42.934*K88 + 1192.6 -> 993.55838
K89: 6.3 | L89: =1.4856*K89^2 - 42.934*K89 + 1192.6 -> 981.07926
K90: 6.8 | L90: =1.4856*K90^2 - 42.934*K90 + 1192.6 -> 969.34294
K91: 7.3 | L91: =1.4856*K91^2 - 42.934*K91 + 1192.6 -> 958.34942
K92: 7.8 | L92: =1.4856*K92^2 - 42.934*K92 + 1192.6 -> 948.0987
K93: 8.3 | L93: =1.4856*K93^2 - 42.934*K93 + 1192.6 -> 938.59078
K94: 8.8 | L94: =1.4856*K94^2 - 42.934*K94 + 1192.6 -> 929.82566
... K99: 11.5 | L99: =1.4856*K99^2 - 42.934*K99 + 1192.6 -> 895.3296
F101: 900±12% | G101: y = -13.529x + 1119.1 | J101: R² = 0.8161 | K101: 3 | L101: =-13.529*K101 + 1119.1 -> 1078.513
K102: 13.5 | L102: =-13.529*K102 + 1119.1 -> 936.4585
F104: 1400±12% | G104: y = -10.75x + 1130.8 | J104: R² = 0.4275 | K104: 3.4 | L104: =-10.75*K104 + 1130.8 -> 1094.25
K105: 14 | L105: =-10.75*K105 + 1130.8 -> 980.3
F107: 2100±12% | G107: y = -8.6728x + 1153.8 | J107: R² = 0.8003 | K107: 3.8 | L107: =-8.6728*K107 + 1153.8 -> 1120.8434
K108: 15.5 | L108: =-8.6728*K108 + 1153.8 -> 1019.3716
