Workbook

Sheet express_correlation_info (1)
A1: gene_id_1 | B1: gene_id_2 | C1: cor | D1: p_value | E1: q_value | G1: KO id | L1: Pathway Definition
A2: Syo_10G0000320 | B2: Syo_19G0002020 | C2: 0.9182608695652172 | D2: 2.559976932867316e-10 | E2: 2.6844400875980894e-08 | G2: =_xlfn.XLOOKUP(B2,[2]总表功能注释信息表_AnnotationQueryorigin!$A:$A,[2]总表功能注释信息表_AnnotationQueryorigin!$G:$G) -> K00629 | H2: =_xlfn.XLOOKUP(A2,[1]功能注释信息表_AnnotationQueryorigin_2!$A:$A,[1]功能注释信息表_AnnotationQueryorigin_2!$H:$H) -> EIF2AK4 | I2: =_xlfn.XLOOKUP(B2,[1]功能注释信息表_AnnotationQueryorigin_2!$A:$A,[1]功能注释信息表_AnnotationQueryorigin_2!$H:$H) -> GPAT1_2 | L2: =_xlfn.XLOOKUP(B2,[2]总表功能注释信息表_AnnotationQueryorigin!$A:$A,[2]总表功能注释信息表_AnnotationQueryorigin!$J:$J) -> Glycerophospholipid metabolism;;Glycerolipid metabolism
A3: Syo_10G0000320 | B3: Syo_16G0000280 | C3: 0.9539130434782608 | D3: 5.544061620769688e-13 | E3: 1.148988581725972e-10 | G3: =_xlfn.XLOOKUP(B3,[2]总表功能注释信息表_AnnotationQueryorigin!$A:$A,[2]总表功能注释信息表_AnnotationQueryorigin!$G:$G) -> K05767 | H3: =_xlfn.XLOOKUP(A3,[1]功能注释信息表_AnnotationQueryorigin_2!$A:$A,[1]功能注释信息表_AnnotationQueryorigin_2!$H:$H) -> EIF2AK4 | I3: =_xlfn.XLOOKUP(B3,[1]功能注释信息表_AnnotationQueryorigin_2!$A:$A,[1]功能注释信息表_AnnotationQueryorigin_2!$H:$H) -> IQGAP2_3 | L3: =_xlfn.XLOOKUP(B3,[2]总表功能注释信息表_AnnotationQueryorigin!$A:$A,[2]总表功能注释信息表_AnnotationQueryorigin!$J:$J) -> Regulation of actin cytoskeleton
A4: Syo_10G0000400 | B4: Syo_7G0008210 | C4: 0.9041415793133986 | D4: 1.3810998931425756e-09 | E4: 1.0573626805602348e-07 | G4: =_xlfn.XLOOKUP(B4,[2]总表功能注释信息表_AnnotationQueryorigin!$A:$A,[2]总表功能注释信息表_AnnotationQueryorigin!$G:$G) -> K10456 | H4: =_xlfn.XLOOKUP(A4,[1]功能注释信息表_AnnotationQueryorigin_2!$A:$A,[1]功能注释信息表_AnnotationQueryorigin_2!$H:$H) -> CYP1C | I4: =_xlfn.XLOOKUP(B4,[1]功能注释信息表_AnnotationQueryorigin_2!$A:$A,[1]功能注释信息表_AnnotationQueryorigin_2!$H:$H) -> KLHL19, KEAP1, INRF2 | L4: =_xlfn.XLOOKUP(B4,[2]总表功能注释信息表_AnnotationQueryorigin!$A:$A,[2]总表功能注释信息表_AnnotationQueryorigin!$J:$J) -> Pathways in cancer;;Chemical carcinogenesis - reactive oxygen species;;Parkinson disease;;Fluid shear stress and atherosclerosis;;Hepatocellular carcinoma;;Ubiquitin mediated proteolysis
A5: Syo_10G0000400 | B5: Syo_4G0005040 | C5: 0.9195563356268236 | D5: 2.160665302728924e-10 | E5: 2.3339027765906782e-08 | G5: =_xlfn.XLOOKUP(B5,[2]总表功能注释信息表_AnnotationQueryorigin!$A:$A,[2]总表功能注释信息表_AnnotationQueryorigin!$G:$G) -> K22449 | H5: =_xlfn.XLOOKUP(A5,[1]功能注释信息表_AnnotationQueryorigin_2!$A:$A,[1]功能注释信息表_AnnotationQueryorigin_2!$H:$H) -> CYP1C | I5: =_xlfn.XLOOKUP(B5,[1]功能注释信息表_AnnotationQueryorigin_2!$A:$A,[1]功能注释信息表_AnnotationQueryorigin_2!$H:$H) -> TBCEL | L5: =_xlfn.XLOOKUP(B5,[2]总表功能注释信息表_AnnotationQueryorigin!$A:$A,[2]总表功能注释信息表_AnnotationQueryorigin!$J:$J) -> ------
A6: Syo_10G0000490 | B6: Syo_4G0005040 | C6: -0.92234085 | D6: 1.486047033474458e-10 | E6: 1.6981151926219738e-08 | G6: =_xlfn.XLOOKUP(B6,[2]总表功能注释信息表_AnnotationQueryorigin!$A:$A,[2]总表功能注释信息表_AnnotationQueryorigin!$G:$G) -> K22449 | H6: =_xlfn.XLOOKUP(A6,[1]功能注释信息表_AnnotationQueryorigin_2!$A:$A,[1]功能注释信息表_AnnotationQueryorigin_2!$H:$H) -> SRP14 | I6: =_xlfn.XLOOKUP(B6,[1]功能注释信息表_AnnotationQueryorigin_2!$A:$A,[1]功能注释信息表_AnnotationQueryorigin_2!$H:$H) -> TBCEL | L6: =_xlfn.XLOOKUP(B6,[2]总表功能注释信息表_AnnotationQueryorigin!$A:$A,[2]总表功能注释信息表_AnnotationQueryorigin!$J:$J) -> ------
A7: Syo_10G0000490 | B7: Syo_7G0008210 | C7: -0.90782609 | D7: 9.133169194063351e-10 | E7: 7.56730506539807e-08 | G7: =_xlfn.XLOOKUP(B7,[2]总表功能注释信息表_AnnotationQueryorigin!$A:$A,[2]总表功能注释信息表_AnnotationQueryorigin!$G:$G) -> K10456 | H7: =_xlfn.XLOOKUP(A7,[1]功能注释信息表_AnnotationQueryorigin_2!$A:$A,[1]功能注释信息表_AnnotationQueryorigin_2!$H:$H) -> SRP14 | I7: =_xlfn.XLOOKUP(B7,[1]功能注释信息表_AnnotationQueryorigin_2!$A:$A,[1]功能注释信息表_AnnotationQueryorigin_2!$H:$H) -> KLHL19, KEAP1, INRF2 | L7: =_xlfn.XLOOKUP(B7,[2]总表功能注释信息表_AnnotationQueryorigin!$A:$A,[2]总表功能注释信息表_AnnotationQueryorigin!$J:$J) -> Pathways in cancer;;Chemical carcinogenesis - reactive oxygen species;;Parkinson disease;;Fluid shear stress and atherosclerosis;;Hepatocellular carcinoma;;Ubiquitin mediated proteolysis
A8: Syo_10G0002120 | B8: Syo_23G0003340 | C8: {=-C50.908261489270938} -> #NAME? | D8: 8.687681772102762e-10 | E8: 7.33677048563643e-08 | G8: =_xlfn.XLOOKUP(B8,[2]总表功能注释信息表_AnnotationQueryorigin!$A:$A,[2]总表功能注释信息表_AnnotationQueryorigin!$G:$G) -> ------ | H8: =_xlfn.XLOOKUP(A8,[1]功能注释信息表_AnnotationQueryorigin_2!$A:$A,[1]功能注释信息表_AnnotationQueryorigin_2!$H:$H) -> SDS, SDH, CHA1 | I8: =_xlfn.XLOOKUP(B8,[1]功能注释信息表_AnnotationQueryorigin_2!$A:$A,[1]功能注释信息表_AnnotationQueryorigin_2!$H:$H) -> ------ | L8: =_xlfn.XLOOKUP(B8,[2]总表功能注释信息表_AnnotationQueryorigin!$A:$A,[2]总表功能注释信息表_AnnotationQueryorigin!$J:$J) -> ------
A9: Syo_10G0002120 | B9: Syo_4G0011920 | C9: -0.90196292 | D9: 1.750095963795158e-09 | E9: 1.278347154460957e-07 | G9: =_xlfn.XLOOKUP(B9,[2]总表功能注释信息表_AnnotationQueryorigin!$A:$A,[2]总表功能注释信息表_AnnotationQueryorigin!$G:$G) -> ------ | H9: =_xlfn.XLOOKUP(A9,[1]功能注释信息表_AnnotationQueryorigin_2!$A:$A,[1]功能注释信息表_AnnotationQueryorigin_2!$H:$H) -> SDS, SDH, CHA1 | I9: =_xlfn.XLOOKUP(B9,[1]功能注释信息表_AnnotationQueryorigin_2!$A:$A,[1]功能注释信息表_AnnotationQueryorigin_2!$H:$H) -> ------ | L9: =_xlfn.XLOOKUP(B9,[2]总表功能注释信息表_AnnotationQueryorigin!$A:$A,[2]总表功能注释信息表_AnnotationQueryorigin!$J:$J) -> ------
A10: Syo_10G0002120 | B10: Syo_18G0002200 | C10: -0.90608696 | D10: 1.1125336623750209e-09 | E10: 8.918453859369953e-08 | G10: =_xlfn.XLOOKUP(B10,[2]总表功能注释信息表_AnnotationQueryorigin!$A:$A,[2]总表功能注释信息表_AnnotationQueryorigin!$G:$G) -> K15259 | H10: =_xlfn.XLOOKUP(A10,[1]功能注释信息表_AnnotationQueryorigin_2!$A:$A,[1]功能注释信息表_AnnotationQueryorigin_2!$H:$H) -> SDS, SDH, CHA1 | I10: =_xlfn.XLOOKUP(B10,[1]功能注释信息表_AnnotationQueryorigin_2!$A:$A,[1]功能注释信息表_AnnotationQueryorigin_2!$H:$H) -> PARP7_11_12 | L10: =_xlfn.XLOOKUP(B10,[2]总表功能注释信息表_AnnotationQueryorigin!$A:$A,[2]总表功能注释信息表_AnnotationQueryorigin!$J:$J) -> ------
A11: Syo_10G0002180 | B11: Syo_4G0012430 | C11: 0.9086560233231183 | D11: 8.301025200295228e-10 | E11: 7.040427144182644e-08 | G11: =_xlfn.XLOOKUP(B11,[2]总表功能注释信息表_AnnotationQueryorigin!$A:$A,[2]总表功能注释信息表_AnnotationQueryorigin!$G:$G) -> K04429 | H11: =_xlfn.XLOOKUP(A11,[1]功能注释信息表_AnnotationQueryorigin_2!$A:$A,[1]功能注释信息表_AnnotationQueryorigin_2!$H:$H) -> NID | I11: =_xlfn.XLOOKUP(B11,[1]功能注释信息表_AnnotationQueryorigin_2!$A:$A,[1]功能注释信息表_AnnotationQueryorigin_2!$H:$H) -> TAO | L11: =_xlfn.XLOOKUP(B11,[2]总表功能注释信息表_AnnotationQueryorigin!$A:$A,[2]总表功能注释信息表_AnnotationQueryorigin!$J:$J) -> MAPK signaling pathway
A12: Syo_10G0004220 | B12: Syo_4G0012430 | C12: 0.944758680065971 | D12: 3.897158334612969e-12 | E12: 6.823137899320946e-10 | G12: =_xlfn.XLOOKUP(B12,[2]总表功能注释信息表_AnnotationQueryorigin!$A:$A,[2]总表功能注释信息表_AnnotationQueryorigin!$G:$G) -> K04429 | H12: =_xlfn.XLOOKUP(A12,[1]功能注释信息表_AnnotationQueryorigin_2!$A:$A,[1]功能注释信息表_AnnotationQueryorigin_2!$H:$H) -> CLIC4 | I12: =_xlfn.XLOOKUP(B12,[1]功能注释信息表_AnnotationQueryorigin_2!$A:$A,[1]功能注释信息表_AnnotationQueryorigin_2!$H:$H) -> TAO | L12: =_xlfn.XLOOKUP(B12,[2]总表功能注释信息表_AnnotationQueryorigin!$A:$A,[2]总表功能注释信息表_AnnotationQueryorigin!$J:$J) -> MAPK signaling pathway
A13: Syo_10G0004220 | B13: Syo_4G0004810 | C13: 0.9156521739130434 | D13: 3.5721927946771954e-10 | E13: 3.4950310507224364e-08 | G13: =_xlfn.XLOOKUP(B13,[2]总表功能注释信息表_AnnotationQueryorigin!$A:$A,[2]总表功能注释信息表_AnnotationQueryorigin!$G:$G) -> K00905 | H13: =_xlfn.XLOOKUP(A13,[1]功能注释信息表_AnnotationQueryorigin_2!$A:$A,[1]功能注释信息表_AnnotationQueryorigin_2!$H:$H) -> CLIC4 | I13: =_xlfn.XLOOKUP(B13,[1]功能注释信息表_AnnotationQueryorigin_2!$A:$A,[1]功能注释信息表_AnnotationQueryorigin_2!$H:$H) -> BCKDK | L13: =_xlfn.XLOOKUP(B13,[2]总表功能注释信息表_AnnotationQueryorigin!$A:$A,[2]总表功能注释信息表_AnnotationQueryorigin!$J:$J) -> ------
A14: Syo_10G0004300 | B14: Syo_17G0004570 | C14: 0.914981539351194 | D14: 3.8849246873436316e-10 | E14: 3.754682230567203e-08 | G14: =_xlfn.XLOOKUP(B14,[2]总表功能注释信息表_AnnotationQueryorigin!$A:$A,[2]总表功能注释信息表_AnnotationQueryorigin!$G:$G) -> K03910 | H14: =_xlfn.XLOOKUP(A14,[1]功能注释信息表_AnnotationQueryorigin_2!$A:$A,[1]功能注释信息表_AnnotationQueryorigin_2!$H:$H) -> HHAT | I14: =_xlfn.XLOOKUP(B14,[1]功能注释信息表_AnnotationQueryorigin_2!$A:$A,[1]功能注释信息表_AnnotationQueryorigin_2!$H:$H) -> A2M | L14: =_xlfn.XLOOKUP(B14,[2]总表功能注释信息表_AnnotationQueryorigin!$A:$A,[2]总表功能注释信息表_AnnotationQueryorigin!$J:$J) -> Complement and coagulation cascades
A15: Syo_10G0004300 | B15: Syo_11G0007640 | C15: 0.904979364729009 | D15: 1.2590062516348594e-09 | E15: 9.852566168021961e-08 | G15: =_xlfn.XLOOKUP(B15,[2]总表功能注释信息表_AnnotationQueryorigin!$A:$A,[2]总表功能注释信息表_AnnotationQueryorigin!$G:$G) -> K13937 | H15: =_xlfn.XLOOKUP(A15,[1]功能注释信息表_AnnotationQueryorigin_2!$A:$A,[1]功能注释信息表_AnnotationQueryorigin_2!$H:$H) -> HHAT | I15: =_xlfn.XLOOKUP(B15,[1]功能注释信息表_AnnotationQueryorigin_2!$A:$A,[1]功能注释信息表_AnnotationQueryorigin_2!$H:$H) -> H6PD | L15: =_xlfn.XLOOKUP(B15,[2]总表功能注释信息表_AnnotationQueryorigin!$A:$A,[2]总表功能注释信息表_AnnotationQueryorigin!$J:$J) -> Pentose phosphate pathway
A16: Syo_10G0004300 | B16: Syo_1G0003760 | C16: 0.9467275718476944 | D16: 2.6386592021420447e-12 | E16: 4.834133857548446e-10 | G16: =_xlfn.XLOOKUP(B16,[2]总表功能注释信息表_AnnotationQueryorigin!$A:$A,[2]总表功能注释信息表_AnnotationQueryorigin!$G:$G) -> K26273 | H16: =_xlfn.XLOOKUP(A16,[1]功能注释信息表_AnnotationQueryorigin_2!$A:$A,[1]功能注释信息表_AnnotationQueryorigin_2!$H:$H) -> HHAT | I16: =_xlfn.XLOOKUP(B16,[1]功能注释信息表_AnnotationQueryorigin_2!$A:$A,[1]功能注释信息表_AnnotationQueryorigin_2!$H:$H) -> SBNO, SNO, FGT1 | L16: =_xlfn.XLOOKUP(B16,[2]总表功能注释信息表_AnnotationQueryorigin!$A:$A,[2]总表功能注释信息表_AnnotationQueryorigin!$J:$J) -> ------
A17: Syo_10G0004300 | B17: Syo_19G0002000 | C17: 0.908023504831413 | D17: 8.928689337649071e-10 | E17: 7.508181456763668e-08 | G17: =_xlfn.XLOOKUP(B17,[2]总表功能注释信息表_AnnotationQueryorigin!$A:$A,[2]总表功能注释信息表_AnnotationQueryorigin!$G:$G) -> K01292 | H17: =_xlfn.XLOOKUP(A17,[1]功能注释信息表_AnnotationQueryorigin_2!$A:$A,[1]功能注释信息表_AnnotationQueryorigin_2!$H:$H) -> HHAT | I17: =_xlfn.XLOOKUP(B17,[1]功能注释信息表_AnnotationQueryorigin_2!$A:$A,[1]功能注释信息表_AnnotationQueryorigin_2!$H:$H) -> CPN1 | L17: =_xlfn.XLOOKUP(B17,[2]总表功能注释信息表_AnnotationQueryorigin!$A:$A,[2]总表功能注释信息表_AnnotationQueryorigin!$J:$J) -> ------
A18: Syo_10G0004960 | B18: Syo_2G0006740 | C18: 0.9310719941781872 | D18: 4.170698772888896e-11 | E18: 5.8081577743576744e-09 | G18: =_xlfn.XLOOKUP(B18,[2]总表功能注释信息表_AnnotationQueryorigin!$A:$A,[2]总表功能注释信息表_AnnotationQueryorigin!$G:$G) -> ------ | H18: =_xlfn.XLOOKUP(A18,[1]功能注释信息表_AnnotationQueryorigin_2!$A:$A,[1]功能注释信息表_AnnotationQueryorigin_2!$H:$H) -> GREB1 | I18: =_xlfn.XLOOKUP(B18,[1]功能注释信息表_AnnotationQueryorigin_2!$A:$A,[1]功能注释信息表_AnnotationQueryorigin_2!$H:$H) -> ------ | L18: =_xlfn.XLOOKUP(B18,[2]总表功能注释信息表_AnnotationQueryorigin!$A:$A,[2]总表功能注释信息表_AnnotationQueryorigin!$J:$J) -> ------
A19: Syo_10G0004960 | B19: Syo_4G0004810 | C19: 0.9462926946902084 | D19: 2.8796317252323712e-12 | E19: 5.203171639727079e-10 | G19: =_xlfn.XLOOKUP(B19,[2]总表功能注释信息表_AnnotationQueryorigin!$A:$A,[2]总表功能注释信息表_AnnotationQueryorigin!$G:$G) -> K00905 | H19: =_xlfn.XLOOKUP(A19,[1]功能注释信息表_AnnotationQueryorigin_2!$A:$A,[1]功能注释信息表_AnnotationQueryorigin_2!$H:$H) -> GREB1 | I19: =_xlfn.XLOOKUP(B19,[1]功能注释信息表_AnnotationQueryorigin_2!$A:$A,[1]功能注释信息表_AnnotationQueryorigin_2!$H:$H) -> BCKDK | L19: =_xlfn.XLOOKUP(B19,[2]总表功能注释信息表_AnnotationQueryorigin!$A:$A,[2]总表功能注释信息表_AnnotationQueryorigin!$J:$J) -> ------
A20: Syo_10G0004960 | B20: Syo_13G0006150 | C20: 0.920634942398516 | D20: 1.8720733028255387e-10 | E20: 2.0732227218009816e-08 | G20: =_xlfn.XLOOKUP(B20,[2]总表功能注释信息表_AnnotationQueryorigin!$A:$A,[2]总表功能注释信息表_AnnotationQueryorigin!$G:$G) -> K10696 | H20: =_xlfn.XLOOKUP(A20,[1]功能注释信息表_AnnotationQueryorigin_2!$A:$A,[1]功能注释信息表_AnnotationQueryorigin_2!$H:$H) -> GREB1 | I20: =_xlfn.XLOOKUP(B20,[1]功能注释信息表_AnnotationQueryorigin_2!$A:$A,[1]功能注释信息表_AnnotationQueryorigin_2!$H:$H) -> BRE1 | L20: =_xlfn.XLOOKUP(B20,[2]总表功能注释信息表_AnnotationQueryorigin!$A:$A,[2]总表功能注释信息表_AnnotationQueryorigin!$J:$J) -> ------
A21: Syo_10G0004960 | B21: Syo_19G0002020 | C21: 0.9019352246266048 | D21: 1.7553104076267547e-09 | E21: 1.2797882280389303e-07 | G21: =_xlfn.XLOOKUP(B21,[2]总表功能注释信息表_AnnotationQueryorigin!$A:$A,[2]总表功能注释信息表_AnnotationQueryorigin!$G:$G) -> K00629 | H21: =_xlfn.XLOOKUP(A21,[1]功能注释信息表_AnnotationQueryorigin_2!$A:$A,[1]功能注释信息表_AnnotationQueryorigin_2!$H:$H) -> GREB1 | I21: =_xlfn.XLOOKUP(B21,[1]功能注释信息表_AnnotationQueryorigin_2!$A:$A,[1]功能注释信息表_AnnotationQueryorigin_2!$H:$H) -> GPAT1_2 | L21: =_xlfn.XLOOKUP(B21,[2]总表功能注释信息表_AnnotationQueryorigin!$A:$A,[2]总表功能注释信息表_AnnotationQueryorigin!$J:$J) -> Glycerophospholipid metabolism;;Glycerolipid metabolism
A22: Syo_10G0004960 | B22: Syo_5G0008480 | C22: -0.90106547 | D22: 1.9263270185033576e-09 | E22: 1.3865515743668517e-07 | G22: =_xlfn.XLOOKUP(B22,[2]总表功能注释信息表_AnnotationQueryorigin!$A:$A,[2]总表功能注释信息表_AnnotationQueryorigin!$G:$G) -> K18458 | H22: =_xlfn.XLOOKUP(A22,[1]功能注释信息表_AnnotationQueryorigin_2!$A:$A,[1]功能注释信息表_AnnotationQueryorigin_2!$H:$H) -> GREB1 | I22: =_xlfn.XLOOKUP(B22,[1]功能注释信息表_AnnotationQueryorigin_2!$A:$A,[1]功能注释信息表_AnnotationQueryorigin_2!$H:$H) -> ACY3 | L22: =_xlfn.XLOOKUP(B22,[2]总表功能注释信息表_AnnotationQueryorigin!$A:$A,[2]总表功能注释信息表_AnnotationQueryorigin!$J:$J) -> ------
A23: Syo_10G0004960 | B23: Syo_19G0006130 | C23: -0.90529419 | D23: 1.2157004914731296e-09 | E23: 9.570580907996988e-08 | G23: =_xlfn.XLOOKUP(B23,[2]总表功能注释信息表_AnnotationQueryorigin!$A:$A,[2]总表功能注释信息表_AnnotationQueryorigin!$G:$G) -> ------ | H23: =_xlfn.XLOOKUP(A23,[1]功能注释信息表_AnnotationQueryorigin_2!$A:$A,[1]功能注释信息表_AnnotationQueryorigin_2!$H:$H) -> GREB1 | I23: =_xlfn.XLOOKUP(B23,[1]功能注释信息表_AnnotationQueryorigin_2!$A:$A,[1]功能注释信息表_AnnotationQueryorigin_2!$H:$H) -> ------ | L23: =_xlfn.XLOOKUP(B23,[2]总表功能注释信息表_AnnotationQueryorigin!$A:$A,[2]总表功能注释信息表_AnnotationQueryorigin!$J:$J) -> ------
A24: Syo_10G0005220 | B24: Syo_1G0003760 | C24: 0.920600587595247 | D24: 1.8807000747240087e-10 | E24: 2.0769504699340204e-08 | G24: =_xlfn.XLOOKUP(B24,[2]总表功能注释信息表_AnnotationQueryorigin!$A:$A,[2]总表功能注释信息表_AnnotationQueryorigin!$G:$G) -> K26273 | H24: =_xlfn.XLOOKUP(A24,[1]功能注释信息表_AnnotationQueryorigin_2!$A:$A,[1]功能注释信息表_AnnotationQueryorigin_2!$H:$H) -> ITPK | I24: =_xlfn.XLOOKUP(B24,[1]功能注释信息表_AnnotationQueryorigin_2!$A:$A,[1]功能注释信息表_AnnotationQueryorigin_2!$H:$H) -> SBNO, SNO, FGT1 | L24: =_xlfn.XLOOKUP(B24,[2]总表功能注释信息表_AnnotationQueryorigin!$A:$A,[2]总表功能注释信息表_AnnotationQueryorigin!$J:$J) -> ------
A25: Syo_10G0005220 | B25: Syo_11G0007640 | C25: 0.9284317835199702 | D25: 6.228161160432149e-11 | E25: 8.155585960014641e-09 | G25: =_xlfn.XLOOKUP(B25,[2]总表功能注释信息表_AnnotationQueryorigin!$A:$A,[2]总表功能注释信息表_AnnotationQueryorigin!$G:$G) -> K13937 | H25: =_xlfn.XLOOKUP(A25,[1]功能注释信息表_AnnotationQueryorigin_2!$A:$A,[1]功能注释信息表_AnnotationQueryorigin_2!$H:$H) -> ITPK | I25: =_xlfn.XLOOKUP(B25,[1]功能注释信息表_AnnotationQueryorigin_2!$A:$A,[1]功能注释信息表_AnnotationQueryorigin_2!$H:$H) -> H6PD | L25: =_xlfn.XLOOKUP(B25,[2]总表功能注释信息表_AnnotationQueryorigin!$A:$A,[2]总表功能注释信息表_AnnotationQueryorigin!$J:$J) -> Pentose phosphate pathway
A26: Syo_10G0005220 | B26: Syo_5G0001480 | C26: 0.9162132969960326 | D26: 3.3281795354592834e-10 | E26: 3.3139518827163324e-08 | G26: =_xlfn.XLOOKUP(B26,[2]总表功能注释信息表_AnnotationQueryorigin!$A:$A,[2]总表功能注释信息表_AnnotationQueryorigin!$G:$G) -> K05401 | H26: =_xlfn.XLOOKUP(A26,[1]功能注释信息表_AnnotationQueryorigin_2!$A:$A,[1]功能注释信息表_AnnotationQueryorigin_2!$H:$H) -> ITPK | I26: =_xlfn.XLOOKUP(B26,[1]功能注释信息表_AnnotationQueryorigin_2!$A:$A,[1]功能注释信息表_AnnotationQueryorigin_2!$H:$H) -> TLR3, CD283 | L26: =_xlfn.XLOOKUP(B26,[2]总表功能注释信息表_AnnotationQueryorigin!$A:$A,[2]总表功能注释信息表_AnnotationQueryorigin!$J:$J) -> Kaposi sarcoma-associated herpesvirus infection;;Influenza A;;Human papillomavirus infection;;Hepatitis C;;Hepatitis B;;Herpes simplex virus 1 infection;;Toll-like receptor signaling pathway;;Coronavirus disease - COVID-19;;Necroptosis
A27: Syo_10G0005220 | B27: Syo_15G0006370 | C27: 0.9162499231926228 | D27: 3.3127876537587516e-10 | E27: 3.3139518827163324e-08 | G27: =_xlfn.XLOOKUP(B27,[2]总表功能注释信息表_AnnotationQueryorigin!$A:$A,[2]总表功能注释信息表_AnnotationQueryorigin!$G:$G) -> K20287 | H27: =_xlfn.XLOOKUP(A27,[1]功能注释信息表_AnnotationQueryorigin_2!$A:$A,[1]功能注释信息表_AnnotationQueryorigin_2!$H:$H) -> ITPK | I27: =_xlfn.XLOOKUP(B27,[1]功能注释信息表_AnnotationQueryorigin_2!$A:$A,[1]功能注释信息表_AnnotationQueryorigin_2!$H:$H) -> PLIN3 | L27: =_xlfn.XLOOKUP(B27,[2]总表功能注释信息表_AnnotationQueryorigin!$A:$A,[2]总表功能注释信息表_AnnotationQueryorigin!$J:$J) -> ------
A28: Syo_10G0005840 | B28: Syo_23G0003340 | C28: 0.9675338321408266 | D28: 1.2525290234860712e-14 | E28: 3.2426539089666778e-12 | G28: =_xlfn.XLOOKUP(B28,[2]总表功能注释信息表_AnnotationQueryorigin!$A:$A,[2]总表功能注释信息表_AnnotationQueryorigin!$G:$G) -> ------ | H28: =_xlfn.XLOOKUP(A28,[1]功能注释信息表_AnnotationQueryorigin_2!$A:$A,[1]功能注释信息表_AnnotationQueryorigin_2!$H:$H) -> CMPK2 | I28: =_xlfn.XLOOKUP(B28,[1]功能注释信息表_AnnotationQueryorigin_2!$A:$A,[1]功能注释信息表_AnnotationQueryorigin_2!$H:$H) -> ------ | L28: =_xlfn.XLOOKUP(B28,[2]总表功能注释信息表_AnnotationQueryorigin!$A:$A,[2]总表功能注释信息表_AnnotationQueryorigin!$J:$J) -> ------
A29: Syo_10G0005840 | B29: Syo_6G0008710 | C29: 0.961513395202229 | D29: 7.911944012726095e-14 | E29: 1.887416952232221e-11 | G29: =_xlfn.XLOOKUP(B29,[2]总表功能注释信息表_AnnotationQueryorigin!$A:$A,[2]总表功能注释信息表_AnnotationQueryorigin!$G:$G) -> K12649 | H29: =_xlfn.XLOOKUP(A29,[1]功能注释信息表_AnnotationQueryorigin_2!$A:$A,[1]功能注释信息表_AnnotationQueryorigin_2!$H:$H) -> CMPK2 | I29: =_xlfn.XLOOKUP(B29,[1]功能注释信息表_AnnotationQueryorigin_2!$A:$A,[1]功能注释信息表_AnnotationQueryorigin_2!$H:$H) -> DHX58, LGP2 | L29: =_xlfn.XLOOKUP(B29,[2]总表功能注释信息表_AnnotationQueryorigin!$A:$A,[2]总表功能注释信息表_AnnotationQueryorigin!$J:$J) -> RIG-I-like receptor signaling pathway
A30: Syo_10G0005840 | B30: Syo_19G0004580 | C30: 0.9266915177589206 | D30: 8.04561744742053e-11 | E30: 1.0230112709593759e-08 | G30: =_xlfn.XLOOKUP(B30,[2]总表功能注释信息表_AnnotationQueryorigin!$A:$A,[2]总表功能注释信息表_AnnotationQueryorigin!$G:$G) -> K24850 | H30: =_xlfn.XLOOKUP(A30,[1]功能注释信息表_AnnotationQueryorigin_2!$A:$A,[1]功能注释信息表_AnnotationQueryorigin_2!$H:$H) -> CMPK2 | I30: =_xlfn.XLOOKUP(B30,[1]功能注释信息表_AnnotationQueryorigin_2!$A:$A,[1]功能注释信息表_AnnotationQueryorigin_2!$H:$H) -> IFIT5 | L30: =_xlfn.XLOOKUP(B30,[2]总表功能注释信息表_AnnotationQueryorigin!$A:$A,[2]总表功能注释信息表_AnnotationQueryorigin!$J:$J) -> ------
A31: Syo_10G0005840 | B31: Syo_15G0004360 | C31: 0.9428136774303176 | D31: 5.6505449636302546e-12 | E31: 9.47288069794498e-10 | G31: =_xlfn.XLOOKUP(B31,[2]总表功能注释信息表_AnnotationQueryorigin!$A:$A,[2]总表功能注释信息表_AnnotationQueryorigin!$G:$G) -> K18422 | H31: =_xlfn.XLOOKUP(A31,[1]功能注释信息表_AnnotationQueryorigin_2!$A:$A,[1]功能注释信息表_AnnotationQueryorigin_2!$H:$H) -> CMPK2 | I31: =_xlfn.XLOOKUP(B31,[1]功能注释信息表_AnnotationQueryorigin_2!$A:$A,[1]功能注释信息表_AnnotationQueryorigin_2!$H:$H) -> MOV10 | L31: =_xlfn.XLOOKUP(B31,[2]总表功能注释信息表_AnnotationQueryorigin!$A:$A,[2]总表功能注释信息表_AnnotationQueryorigin!$J:$J) -> ------
A32: Syo_10G0005840 | B32: Syo_17G0005330 | C32: 0.9706458155094416 | D32: 4.194636682549293e-15 | E32: 1.1077348063236612e-12 | G32: =_xlfn.XLOOKUP(B32,[2]总表功能注释信息表_AnnotationQueryorigin!$A:$A,[2]总表功能注释信息表_AnnotationQueryorigin!$G:$G) -> ------ | H32: =_xlfn.XLOOKUP(A32,[1]功能注释信息表_AnnotationQueryorigin_2!$A:$A,[1]功能注释信息表_AnnotationQueryorigin_2!$H:$H) -> CMPK2 | I32: =_xlfn.XLOOKUP(B32,[1]功能注释信息表_AnnotationQueryorigin_2!$A:$A,[1]功能注释信息表_AnnotationQueryorigin_2!$H:$H) -> ------ | L32: =_xlfn.XLOOKUP(B32,[2]总表功能注释信息表_AnnotationQueryorigin!$A:$A,[2]总表功能注释信息表_AnnotationQueryorigin!$J:$J) -> ------
A33: Syo_10G0005840 | B33: Syo_2G0017470 | C33: 0.9260869565217392 | D33: 8.781167998950902e-11 | E33: 1.091920954905767e-08 | G33: =_xlfn.XLOOKUP(B33,[2]总表功能注释信息表_AnnotationQueryorigin!$A:$A,[2]总表功能注释信息表_AnnotationQueryorigin!$G:$G) -> K12646 | H33: =_xlfn.XLOOKUP(A33,[1]功能注释信息表_AnnotationQueryorigin_2!$A:$A,[1]功能注释信息表_AnnotationQueryorigin_2!$H:$H) -> CMPK2 | I33: =_xlfn.XLOOKUP(B33,[1]功能注释信息表_AnnotationQueryorigin_2!$A:$A,[1]功能注释信息表_AnnotationQueryorigin_2!$H:$H) -> RIGI, DDX58 | L33: =_xlfn.XLOOKUP(B33,[2]总表功能注释信息表_AnnotationQueryorigin!$A:$A,[2]总表功能注释信息表_AnnotationQueryorigin!$J:$J) -> Influenza A;;Measles;;Hepatitis C;;Hepatitis B;;Herpes simplex virus 1 infection;;Epstein-Barr virus infection;;RIG-I-like receptor signaling pathway;;Cytosolic DNA-sensing pathway;;Coronavirus disease - COVID-19;;NF-kappa B signaling pathway
A34: Syo_10G0005840 | B34: Syo_19G0001310 | C34: 0.9632370987409626 | D34: 4.818062889327373e-14 | E34: 1.1851684230660108e-11 | G34: =_xlfn.XLOOKUP(B34,[2]总表功能注释信息表_AnnotationQueryorigin!$A:$A,[2]总表功能注释信息表_AnnotationQueryorigin!$G:$G) -> K22754 | H34: =_xlfn.XLOOKUP(A34,[1]功能注释信息表_AnnotationQueryorigin_2!$A:$A,[1]功能注释信息表_AnnotationQueryorigin_2!$H:$H) -> CMPK2 | I34: =_xlfn.XLOOKUP(B34,[1]功能注释信息表_AnnotationQueryorigin_2!$A:$A,[1]功能注释信息表_AnnotationQueryorigin_2!$H:$H) -> RNF213 | L34: =_xlfn.XLOOKUP(B34,[2]总表功能注释信息表_AnnotationQueryorigin!$A:$A,[2]总表功能注释信息表_AnnotationQueryorigin!$J:$J) -> ------
A35: Syo_10G0005840 | B35: Syo_9G0005750 | C35: 0.9321739130434782 | D35: 3.511396462170555e-11 | E35: 4.995736505395481e-09 | G35: =_xlfn.XLOOKUP(B35,[2]总表功能注释信息表_AnnotationQueryorigin!$A:$A,[2]总表功能注释信息表_AnnotationQueryorigin!$G:$G) -> K07939 | H35: =_xlfn.XLOOKUP(A35,[1]功能注释信息表_AnnotationQueryorigin_2!$A:$A,[1]功能注释信息表_AnnotationQueryorigin_2!$H:$H) -> CMPK2 | I35: =_xlfn.XLOOKUP(B35,[1]功能注释信息表_AnnotationQueryorigin_2!$A:$A,[1]功能注释信息表_AnnotationQueryorigin_2!$H:$H) -> ARF4 | L35: =_xlfn.XLOOKUP(B35,[2]总表功能注释信息表_AnnotationQueryorigin!$A:$A,[2]总表功能注释信息表_AnnotationQueryorigin!$J:$J) -> Endocytosis
... A52: Syo_11G0001670 | B52: Syo_4G0005040 | C52: 0.9005875313431764 | D52: 2.026558711408395e-09 | E52: 1.4429134572724818e-07 | G52: =_xlfn.XLOOKUP(B52,[2]总表功能注释信息表_AnnotationQueryorigin!$A:$A,[2]总表功能注释信息表_AnnotationQueryorigin!$G:$G) -> K22449 | H52: =_xlfn.XLOOKUP(A52,[1]功能注释信息表_AnnotationQueryorigin_2!$A:$A,[1]功能注释信息表_AnnotationQueryorigin_2!$H:$H) -> GCDH, gcdH | I52: =_xlfn.XLOOKUP(B52,[1]功能注释信息表_AnnotationQueryorigin_2!$A:$A,[1]功能注释信息表_AnnotationQueryorigin_2!$H:$H) -> TBCEL | L52: =_xlfn.XLOOKUP(B52,[2]总表功能注释信息表_AnnotationQueryorigin!$A:$A,[2]总表功能注释信息表_AnnotationQueryorigin!$J:$J) -> ------
A53: Syo_11G0004450 | B53: Syo_1G0010030 | C53: -0.92006276 | D53: 2.0205140461564468e-10 | E53: 2.21278515393286e-08 | G53: =_xlfn.XLOOKUP(B53,[2]总表功能注释信息表_AnnotationQueryorigin!$A:$A,[2]总表功能注释信息表_AnnotationQueryorigin!$G:$G) -> ------ | H53: =_xlfn.XLOOKUP(A53,[1]功能注释信息表_AnnotationQueryorigin_2!$A:$A,[1]功能注释信息表_AnnotationQueryorigin_2!$H:$H) -> glnA, GLUL | I53: =_xlfn.XLOOKUP(B53,[1]功能注释信息表_AnnotationQueryorigin_2!$A:$A,[1]功能注释信息表_AnnotationQueryorigin_2!$H:$H) -> ------ | L53: =_xlfn.XLOOKUP(B53,[2]总表功能注释信息表_AnnotationQueryorigin!$A:$A,[2]总表功能注释信息表_AnnotationQueryorigin!$J:$J) -> ------
A54: Syo_11G0004670 | B54: Syo_5G0009630 | C54: 0.9034782608695652 | D54: 1.4852231299153265e-09 | E54: 1.1201022307664195e-07 | G54: =_xlfn.XLOOKUP(B54,[2]总表功能注释信息表_AnnotationQueryorigin!$A:$A,[2]总表功能注释信息表_AnnotationQueryorigin!$G:$G) -> K03990 | H54: =_xlfn.XLOOKUP(A54,[1]功能注释信息表_AnnotationQueryorigin_2!$A:$A,[1]功能注释信息表_AnnotationQueryorigin_2!$H:$H) -> ------ | I54: =_xlfn.XLOOKUP(B54,[1]功能注释信息表_AnnotationQueryorigin_2!$A:$A,[1]功能注释信息表_AnnotationQueryorigin_2!$H:$H) -> C3 | L54: =_xlfn.XLOOKUP(B54,[2]总表功能注释信息表_AnnotationQueryorigin!$A:$A,[2]总表功能注释信息表_AnnotationQueryorigin!$J:$J) -> Leishmaniasis;;Kaposi sarcoma-associated herpesvirus infection;;Chagas disease;;Coronavirus disease - COVID-19;;Viral carcinogenesis;;Tuberculosis;;Systemic lupus erythematosus;;Herpes simplex virus 1 infection;;Legionellosis;;Neuroactive ligand-receptor interaction;;Staphylococcus aureus infection;;Shigellosis;;Pertussis;;Alcoholic liver disease;;Phagosome;;Neutrophil extracellular trap formation;;Complement and coagulation cascades
A55: Syo_11G0004670 | B55: Syo_17G0004570 | C55: 0.9173913043478259 | D55: 2.8641475861943287e-10 | E55: 2.9181413877869725e-08 | G55: =_xlfn.XLOOKUP(B55,[2]总表功能注释信息表_AnnotationQueryorigin!$A:$A,[2]总表功能注释信息表_AnnotationQueryorigin!$G:$G) -> K03910 | H55: =_xlfn.XLOOKUP(A55,[1]功能注释信息表_AnnotationQueryorigin_2!$A:$A,[1]功能注释信息表_AnnotationQueryorigin_2!$H:$H) -> ------ | I55: =_xlfn.XLOOKUP(B55,[1]功能注释信息表_AnnotationQueryorigin_2!$A:$A,[1]功能注释信息表_AnnotationQueryorigin_2!$H:$H) -> A2M | L55: =_xlfn.XLOOKUP(B55,[2]总表功能注释信息表_AnnotationQueryorigin!$A:$A,[2]总表功能注释信息表_AnnotationQueryorigin!$J:$J) -> Complement and coagulation cascades
A56: Syo_11G0004670 | B56: Syo_11G0007640 | C56: 0.914782608695652 | D56: 3.9823245501206764e-10 | E56: 3.8300649062372565e-08 | G56: =_xlfn.XLOOKUP(B56,[2]总表功能注释信息表_AnnotationQueryorigin!$A:$A,[2]总表功能注释信息表_AnnotationQueryorigin!$G:$G) -> K13937 | H56: =_xlfn.XLOOKUP(A56,[1]功能注释信息表_AnnotationQueryorigin_2!$A:$A,[1]功能注释信息表_AnnotationQueryorigin_2!$H:$H) -> ------ | I56: =_xlfn.XLOOKUP(B56,[1]功能注释信息表_AnnotationQueryorigin_2!$A:$A,[1]功能注释信息表_AnnotationQueryorigin_2!$H:$H) -> H6PD | L56: =_xlfn.XLOOKUP(B56,[2]总表功能注释信息表_AnnotationQueryorigin!$A:$A,[2]总表功能注释信息表_AnnotationQueryorigin!$J:$J) -> Pentose phosphate pathway
A57: Syo_11G0004670 | B57: Syo_1G0004810 | C57: 0.9069565217391304 | D57: 1.0085009676099369e-09 | E57: 8.201055087893742e-08 | G57: =_xlfn.XLOOKUP(B57,[2]总表功能注释信息表_AnnotationQueryorigin!$A:$A,[2]总表功能注释信息表_AnnotationQueryorigin!$G:$G) -> K14000 | H57: =_xlfn.XLOOKUP(A57,[1]功能注释信息表_AnnotationQueryorigin_2!$A:$A,[1]功能注释信息表_AnnotationQueryorigin_2!$H:$H) -> ------ | I57: =_xlfn.XLOOKUP(B57,[1]功能注释信息表_AnnotationQueryorigin_2!$A:$A,[1]功能注释信息表_AnnotationQueryorigin_2!$H:$H) -> RRBP1 | L57: =_xlfn.XLOOKUP(B57,[2]总表功能注释信息表_AnnotationQueryorigin!$A:$A,[2]总表功能注释信息表_AnnotationQueryorigin!$J:$J) -> Protein processing in endoplasmic reticulum
A58: Syo_11G0004670 | B58: Syo_1G0003760 | C58: 0.92 | D58: 2.0374246438472368e-10 | E58: 2.218994307625127e-08 | G58: =_xlfn.XLOOKUP(B58,[2]总表功能注释信息表_AnnotationQueryorigin!$A:$A,[2]总表功能注释信息表_AnnotationQueryorigin!$G:$G) -> K26273 | H58: =_xlfn.XLOOKUP(A58,[1]功能注释信息表_AnnotationQueryorigin_2!$A:$A,[1]功能注释信息表_AnnotationQueryorigin_2!$H:$H) -> ------ | I58: =_xlfn.XLOOKUP(B58,[1]功能注释信息表_AnnotationQueryorigin_2!$A:$A,[1]功能注释信息表_AnnotationQueryorigin_2!$H:$H) -> SBNO, SNO, FGT1 | L58: =_xlfn.XLOOKUP(B58,[2]总表功能注释信息表_AnnotationQueryorigin!$A:$A,[2]总表功能注释信息表_AnnotationQueryorigin!$J:$J) -> ------
A59: Syo_11G0005720 | B59: Syo_4G0004810 | C59: 0.9226086956521738 | D59: 1.432448648763329e-10 | E59: 1.646398511717631e-08 | G59: =_xlfn.XLOOKUP(B59,[2]总表功能注释信息表_AnnotationQueryorigin!$A:$A,[2]总表功能注释信息表_AnnotationQueryorigin!$G:$G) -> K00905 | H59: =_xlfn.XLOOKUP(A59,[1]功能注释信息表_AnnotationQueryorigin_2!$A:$A,[1]功能注释信息表_AnnotationQueryorigin_2!$H:$H) -> UAP1 | I59: =_xlfn.XLOOKUP(B59,[1]功能注释信息表_AnnotationQueryorigin_2!$A:$A,[1]功能注释信息表_AnnotationQueryorigin_2!$H:$H) -> BCKDK | L59: =_xlfn.XLOOKUP(B59,[2]总表功能注释信息表_AnnotationQueryorigin!$A:$A,[2]总表功能注释信息表_AnnotationQueryorigin!$J:$J) -> ------
A60: Syo_11G0005720 | B60: Syo_17G0004000 | C60: -0.90204692 | D60: 1.7343701248151794e-09 | E60: 1.2692085210892758e-07 | G60: =_xlfn.XLOOKUP(B60,[2]总表功能注释信息表_AnnotationQueryorigin!$A:$A,[2]总表功能注释信息表_AnnotationQueryorigin!$G:$G) -> K26171 | H60: =_xlfn.XLOOKUP(A60,[1]功能注释信息表_AnnotationQueryorigin_2!$A:$A,[1]功能注释信息表_AnnotationQueryorigin_2!$H:$H) -> UAP1 | I60: =_xlfn.XLOOKUP(B60,[1]功能注释信息表_AnnotationQueryorigin_2!$A:$A,[1]功能注释信息表_AnnotationQueryorigin_2!$H:$H) -> TMEM97, S2R | L60: =_xlfn.XLOOKUP(B60,[2]总表功能注释信息表_AnnotationQueryorigin!$A:$A,[2]总表功能注释信息表_AnnotationQueryorigin!$J:$J) -> Neuroactive ligand-receptor interaction
A61: Syo_11G0005720 | B61: Syo_2G0006740 | C61: 0.9078260869565216 | D61: 9.133169194063351e-10 | E61: 7.56730506539807e-08 | G61: =_xlfn.XLOOKUP(B61,[2]总表功能注释信息表_AnnotationQueryorigin!$A:$A,[2]总表功能注释信息表_AnnotationQueryorigin!$G:$G) -> ------ | H61: =_xlfn.XLOOKUP(A61,[1]功能注释信息表_AnnotationQueryorigin_2!$A:$A,[1]功能注释信息表_AnnotationQueryorigin_2!$H:$H) -> UAP1 | I61: =_xlfn.XLOOKUP(B61,[1]功能注释信息表_AnnotationQueryorigin_2!$A:$A,[1]功能注释信息表_AnnotationQueryorigin_2!$H:$H) -> ------ | L61: =_xlfn.XLOOKUP(B61,[2]总表功能注释信息表_AnnotationQueryorigin!$A:$A,[2]总表功能注释信息表_AnnotationQueryorigin!$J:$J) -> ------
A62: Syo_11G0005720 | B62: Syo_7G0008860 | C62: -0.9199655 | D62: 2.0467764673789144e-10 | E62: 2.2230469964333764e-08 | G62: =_xlfn.XLOOKUP(B62,[2]总表功能注释信息表_AnnotationQueryorigin!$A:$A,[2]总表功能注释信息表_AnnotationQueryorigin!$G:$G) -> K01896 | H62: =_xlfn.XLOOKUP(A62,[1]功能注释信息表_AnnotationQueryorigin_2!$A:$A,[1]功能注释信息表_AnnotationQueryorigin_2!$H:$H) -> UAP1 | I62: =_xlfn.XLOOKUP(B62,[1]功能注释信息表_AnnotationQueryorigin_2!$A:$A,[1]功能注释信息表_AnnotationQueryorigin_2!$H:$H) -> ACSM | L62: =_xlfn.XLOOKUP(B62,[2]总表功能注释信息表_AnnotationQueryorigin!$A:$A,[2]总表功能注释信息表_AnnotationQueryorigin!$J:$J) -> Butanoate metabolism
A63: Syo_11G0005950 | B63: Syo_3G0010330 | C63: 0.9234782608695652 | D63: 1.2702470317295964e-10 | E63: 1.494783545043229e-08 | G63: =_xlfn.XLOOKUP(B63,[2]总表功能注释信息表_AnnotationQueryorigin!$A:$A,[2]总表功能注释信息表_AnnotationQueryorigin!$G:$G) -> K05689 | H63: =_xlfn.XLOOKUP(A63,[1]功能注释信息表_AnnotationQueryorigin_2!$A:$A,[1]功能注释信息表_AnnotationQueryorigin_2!$H:$H) -> CTH | I63: =_xlfn.XLOOKUP(B63,[1]功能注释信息表_AnnotationQueryorigin_2!$A:$A,[1]功能注释信息表_AnnotationQueryorigin_2!$H:$H) -> CDH1, CDHE, CD324 | L63: =_xlfn.XLOOKUP(B63,[2]总表功能注释信息表_AnnotationQueryorigin!$A:$A,[2]总表功能注释信息表_AnnotationQueryorigin!$J:$J) -> Cell adhesion molecules;;Thyroid cancer;;Hippo signaling pathway;;Endometrial cancer;;Rap1 signaling pathway;;Pathways in cancer;;Melanoma;;Bladder cancer;;Apelin signaling pathway;;Gastric cancer;;Bacterial invasion of epithelial cells;;Adherens junction
A64: Syo_11G0005950 | B64: Syo_5G0002040 | C64: 0.9224818567363716 | D64: 1.4576091504471174e-10 | E64: 1.670453935100941e-08 | G64: =_xlfn.XLOOKUP(B64,[2]总表功能注释信息表_AnnotationQueryorigin!$A:$A,[2]总表功能注释信息表_AnnotationQueryorigin!$G:$G) -> K10370 | H64: =_xlfn.XLOOKUP(A64,[1]功能注释信息表_AnnotationQueryorigin_2!$A:$A,[1]功能注释信息表_AnnotationQueryorigin_2!$H:$H) -> CTH | I64: =_xlfn.XLOOKUP(B64,[1]功能注释信息表_AnnotationQueryorigin_2!$A:$A,[1]功能注释信息表_AnnotationQueryorigin_2!$H:$H) -> TMOD | L64: =_xlfn.XLOOKUP(B64,[2]总表功能注释信息表_AnnotationQueryorigin!$A:$A,[2]总表功能注释信息表_AnnotationQueryorigin!$J:$J) -> Cytoskeleton in muscle cells
A65: Syo_11G0005950 | B65: Syo_3G0006160 | C65: 0.9014769112744248 | D65: 1.8436413540082415e-09 | E65: 1.3367838838737042e-07 | G65: =_xlfn.XLOOKUP(B65,[2]总表功能注释信息表_AnnotationQueryorigin!$A:$A,[2]总表功能注释信息表_AnnotationQueryorigin!$G:$G) -> ------ | H65: =_xlfn.XLOOKUP(A65,[1]功能注释信息表_AnnotationQueryorigin_2!$A:$A,[1]功能注释信息表_AnnotationQueryorigin_2!$H:$H) -> CTH | I65: =_xlfn.XLOOKUP(B65,[1]功能注释信息表_AnnotationQueryorigin_2!$A:$A,[1]功能注释信息表_AnnotationQueryorigin_2!$H:$H) -> ------ | L65: =_xlfn.XLOOKUP(B65,[2]总表功能注释信息表_AnnotationQueryorigin!$A:$A,[2]总表功能注释信息表_AnnotationQueryorigin!$J:$J) -> ------
A66: Syo_11G0005950 | B66: Syo_4G0005040 | C66: 0.902327797104226 | D66: 1.6827005978644986e-09 | E66: 1.2359788084463133e-07 | G66: =_xlfn.XLOOKUP(B66,[2]总表功能注释信息表_AnnotationQueryorigin!$A:$A,[2]总表功能注释信息表_AnnotationQueryorigin!$G:$G) -> K22449 | H66: =_xlfn.XLOOKUP(A66,[1]功能注释信息表_AnnotationQueryorigin_2!$A:$A,[1]功能注释信息表_AnnotationQueryorigin_2!$H:$H) -> CTH | I66: =_xlfn.XLOOKUP(B66,[1]功能注释信息表_AnnotationQueryorigin_2!$A:$A,[1]功能注释信息表_AnnotationQueryorigin_2!$H:$H) -> TBCEL | L66: =_xlfn.XLOOKUP(B66,[2]总表功能注释信息表_AnnotationQueryorigin!$A:$A,[2]总表功能注释信息表_AnnotationQueryorigin!$J:$J) -> ------
A67: Syo_11G0005950 | B67: Syo_5G0005350 | C67: 0.9208695652173912 | D67: 1.8141058945837567e-10 | E67: 2.014678137021491e-08 | G67: =_xlfn.XLOOKUP(B67,[2]总表功能注释信息表_AnnotationQueryorigin!$A:$A,[2]总表功能注释信息表_AnnotationQueryorigin!$G:$G) -> K07755 | H67: =_xlfn.XLOOKUP(A67,[1]功能注释信息表_AnnotationQueryorigin_2!$A:$A,[1]功能注释信息表_AnnotationQueryorigin_2!$H:$H) -> CTH | I67: =_xlfn.XLOOKUP(B67,[1]功能注释信息表_AnnotationQueryorigin_2!$A:$A,[1]功能注释信息表_AnnotationQueryorigin_2!$H:$H) -> AS3MT | L67: =_xlfn.XLOOKUP(B67,[2]总表功能注释信息表_AnnotationQueryorigin!$A:$A,[2]总表功能注释信息表_AnnotationQueryorigin!$J:$J) -> Chemical carcinogenesis - reactive oxygen species
A68: Syo_11G0006260 | B68: Syo_19G0006130 | C68: 0.9533267130089376 | D68: 6.35376610447522e-13 | E68: 1.2963817193164542e-10 | G68: =_xlfn.XLOOKUP(B68,[2]总表功能注释信息表_AnnotationQueryorigin!$A:$A,[2]总表功能注释信息表_AnnotationQueryorigin!$G:$G) -> ------ | H68: =_xlfn.XLOOKUP(A68,[1]功能注释信息表_AnnotationQueryorigin_2!$A:$A,[1]功能注释信息表_AnnotationQueryorigin_2!$H:$H) -> APOF | I68: =_xlfn.XLOOKUP(B68,[1]功能注释信息表_AnnotationQueryorigin_2!$A:$A,[1]功能注释信息表_AnnotationQueryorigin_2!$H:$H) -> ------ | L68: =_xlfn.XLOOKUP(B68,[2]总表功能注释信息表_AnnotationQueryorigin!$A:$A,[2]总表功能注释信息表_AnnotationQueryorigin!$J:$J) -> ------
A69: Syo_11G0006260 | B69: Syo_1G0010580 | C69: -0.90974366 | D69: 7.314086541438897e-10 | E69: 6.438434642124428e-08 | G69: =_xlfn.XLOOKUP(B69,[2]总表功能注释信息表_AnnotationQueryorigin!$A:$A,[2]总表功能注释信息表_AnnotationQueryorigin!$G:$G) -> K25550 | H69: =_xlfn.XLOOKUP(A69,[1]功能注释信息表_AnnotationQueryorigin_2!$A:$A,[1]功能注释信息表_AnnotationQueryorigin_2!$H:$H) -> APOF | I69: =_xlfn.XLOOKUP(B69,[1]功能注释信息表_AnnotationQueryorigin_2!$A:$A,[1]功能注释信息表_AnnotationQueryorigin_2!$H:$H) -> MYCBP | L69: =_xlfn.XLOOKUP(B69,[2]总表功能注释信息表_AnnotationQueryorigin!$A:$A,[2]总表功能注释信息表_AnnotationQueryorigin!$J:$J) -> ------
A70: Syo_11G0006260 | B70: Syo_7G0008860 | C70: 0.9433962264150944 | D70: 5.062490688228913e-12 | E70: 8.523226593459342e-10 | G70: =_xlfn.XLOOKUP(B70,[2]总表功能注释信息表_AnnotationQueryorigin!$A:$A,[2]总表功能注释信息表_AnnotationQueryorigin!$G:$G) -> K01896 | H70: =_xlfn.XLOOKUP(A70,[1]功能注释信息表_AnnotationQueryorigin_2!$A:$A,[1]功能注释信息表_AnnotationQueryorigin_2!$H:$H) -> APOF | I70: =_xlfn.XLOOKUP(B70,[1]功能注释信息表_AnnotationQueryorigin_2!$A:$A,[1]功能注释信息表_AnnotationQueryorigin_2!$H:$H) -> ACSM | L70: =_xlfn.XLOOKUP(B70,[2]总表功能注释信息表_AnnotationQueryorigin!$A:$A,[2]总表功能注释信息表_AnnotationQueryorigin!$J:$J) -> Butanoate metabolism
A71: Syo_11G0006260 | B71: Syo_7G0001590 | C71: 0.9088143991523012 | D71: 8.150225454302531e-10 | E71: 6.987513052086768e-08 | G71: =_xlfn.XLOOKUP(B71,[2]总表功能注释信息表_AnnotationQueryorigin!$A:$A,[2]总表功能注释信息表_AnnotationQueryorigin!$G:$G) -> K15618 | H71: =_xlfn.XLOOKUP(A71,[1]功能注释信息表_AnnotationQueryorigin_2!$A:$A,[1]功能注释信息表_AnnotationQueryorigin_2!$H:$H) -> APOF | I71: =_xlfn.XLOOKUP(B71,[1]功能注释信息表_AnnotationQueryorigin_2!$A:$A,[1]功能注释信息表_AnnotationQueryorigin_2!$H:$H) -> BCL6 | L71: =_xlfn.XLOOKUP(B71,[2]总表功能注释信息表_AnnotationQueryorigin!$A:$A,[2]总表功能注释信息表_AnnotationQueryorigin!$J:$J) -> Chemical carcinogenesis - receptor activation;;FoxO signaling pathway;;Transcriptional misregulation in cancer
A72: Syo_11G0007640 | B72: Syo_19G0002000 | C72: 0.9373913043478259 | D72: 1.492039280457665e-11 | E72: 2.332928982657776e-09 | G72: =_xlfn.XLOOKUP(B72,[2]总表功能注释信息表_AnnotationQueryorigin!$A:$A,[2]总表功能注释信息表_AnnotationQueryorigin!$G:$G) -> K01292 | H72: =_xlfn.XLOOKUP(A72,[1]功能注释信息表_AnnotationQueryorigin_2!$A:$A,[1]功能注释信息表_AnnotationQueryorigin_2!$H:$H) -> H6PD | I72: =_xlfn.XLOOKUP(B72,[1]功能注释信息表_AnnotationQueryorigin_2!$A:$A,[1]功能注释信息表_AnnotationQueryorigin_2!$H:$H) -> CPN1 | L72: =_xlfn.XLOOKUP(B72,[2]总表功能注释信息表_AnnotationQueryorigin!$A:$A,[2]总表功能注释信息表_AnnotationQueryorigin!$J:$J) -> ------
A73: Syo_11G0007640 | B73: Syo_1G0003760 | C73: 0.962608695652174 | D73: 5.788561169509911e-14 | E73: 1.4150791904200376e-11 | G73: =_xlfn.XLOOKUP(B73,[2]总表功能注释信息表_AnnotationQueryorigin!$A:$A,[2]总表功能注释信息表_AnnotationQueryorigin!$G:$G) -> K26273 | H73: =_xlfn.XLOOKUP(A73,[1]功能注释信息表_AnnotationQueryorigin_2!$A:$A,[1]功能注释信息表_AnnotationQueryorigin_2!$H:$H) -> H6PD | I73: =_xlfn.XLOOKUP(B73,[1]功能注释信息表_AnnotationQueryorigin_2!$A:$A,[1]功能注释信息表_AnnotationQueryorigin_2!$H:$H) -> SBNO, SNO, FGT1 | L73: =_xlfn.XLOOKUP(B73,[2]总表功能注释信息表_AnnotationQueryorigin!$A:$A,[2]总表功能注释信息表_AnnotationQueryorigin!$J:$J) -> ------
A74: Syo_11G0007640 | B74: Syo_5G0009630 | C74: 0.9452173913043478 | D74: 3.563267590026003e-12 | E74: 6.294388639285082e-10 | G74: =_xlfn.XLOOKUP(B74,[2]总表功能注释信息表_AnnotationQueryorigin!$A:$A,[2]总表功能注释信息表_AnnotationQueryorigin!$G:$G) -> K03990 | H74: =_xlfn.XLOOKUP(A74,[1]功能注释信息表_AnnotationQueryorigin_2!$A:$A,[1]功能注释信息表_AnnotationQueryorigin_2!$H:$H) -> H6PD | I74: =_xlfn.XLOOKUP(B74,[1]功能注释信息表_AnnotationQueryorigin_2!$A:$A,[1]功能注释信息表_AnnotationQueryorigin_2!$H:$H) -> C3 | L74: =_xlfn.XLOOKUP(B74,[2]总表功能注释信息表_AnnotationQueryorigin!$A:$A,[2]总表功能注释信息表_AnnotationQueryorigin!$J:$J) -> Leishmaniasis;;Kaposi sarcoma-associated herpesvirus infection;;Chagas disease;;Coronavirus disease - COVID-19;;Viral carcinogenesis;;Tuberculosis;;Systemic lupus erythematosus;;Herpes simplex virus 1 infection;;Legionellosis;;Neuroactive ligand-receptor interaction;;Staphylococcus aureus infection;;Shigellosis;;Pertussis;;Alcoholic liver disease;;Phagosome;;Neutrophil extracellular trap formation;;Complement and coagulation cascades
A75: Syo_11G0007640 | B75: Syo_13G0004660 | C75: 0.9382608695652171 | D75: 1.2845258519229956e-11 | E75: 2.0573518416570323e-09 | G75: =_xlfn.XLOOKUP(B75,[2]总表功能注释信息表_AnnotationQueryorigin!$A:$A,[2]总表功能注释信息表_AnnotationQueryorigin!$G:$G) -> K05641 | H75: =_xlfn.XLOOKUP(A75,[1]功能注释信息表_AnnotationQueryorigin_2!$A:$A,[1]功能注释信息表_AnnotationQueryorigin_2!$H:$H) -> H6PD | I75: =_xlfn.XLOOKUP(B75,[1]功能注释信息表_AnnotationQueryorigin_2!$A:$A,[1]功能注释信息表_AnnotationQueryorigin_2!$H:$H) -> ABCA1 | L75: =_xlfn.XLOOKUP(B75,[2]总表功能注释信息表_AnnotationQueryorigin!$A:$A,[2]总表功能注释信息表_AnnotationQueryorigin!$J:$J) -> Efferocytosis;;Lipid and atherosclerosis;;ABC transporters;;Fat digestion and absorption;;Cholesterol metabolism
A76: Syo_11G0007640 | B76: Syo_17G0004570 | C76: 0.9582608695652172 | D76: 1.9022496036938712e-13 | E76: 4.2793028762755494e-11 | G76: =_xlfn.XLOOKUP(B76,[2]总表功能注释信息表_AnnotationQueryorigin!$A:$A,[2]总表功能注释信息表_AnnotationQueryorigin!$G:$G) -> K03910 | H76: =_xlfn.XLOOKUP(A76,[1]功能注释信息表_AnnotationQueryorigin_2!$A:$A,[1]功能注释信息表_AnnotationQueryorigin_2!$H:$H) -> H6PD | I76: =_xlfn.XLOOKUP(B76,[1]功能注释信息表_AnnotationQueryorigin_2!$A:$A,[1]功能注释信息表_AnnotationQueryorigin_2!$H:$H) -> A2M | L76: =_xlfn.XLOOKUP(B76,[2]总表功能注释信息表_AnnotationQueryorigin!$A:$A,[2]总表功能注释信息表_AnnotationQueryorigin!$J:$J) -> Complement and coagulation cascades
A77: Syo_11G0007640 | B77: Syo_4G0007560 | C77: 0.9145466621937078 | D77: 4.100699649564534e-10 | E77: 3.9343298302463064e-08 | G77: =_xlfn.XLOOKUP(B77,[2]总表功能注释信息表_AnnotationQueryorigin!$A:$A,[2]总表功能注释信息表_AnnotationQueryorigin!$G:$G) -> ------ | H77: =_xlfn.XLOOKUP(A77,[1]功能注释信息表_AnnotationQueryorigin_2!$A:$A,[1]功能注释信息表_AnnotationQueryorigin_2!$H:$H) -> H6PD | I77: =_xlfn.XLOOKUP(B77,[1]功能注释信息表_AnnotationQueryorigin_2!$A:$A,[1]功能注释信息表_AnnotationQueryorigin_2!$H:$H) -> ------ | L77: =_xlfn.XLOOKUP(B77,[2]总表功能注释信息表_AnnotationQueryorigin!$A:$A,[2]总表功能注释信息表_AnnotationQueryorigin!$J:$J) -> ------
A78: Syo_11G0007640 | B78: Syo_9G0002470 | C78: 0.9113043478260868 | D78: 6.082201798284106e-10 | E78: 5.526544720302776e-08 | G78: =_xlfn.XLOOKUP(B78,[2]总表功能注释信息表_AnnotationQueryorigin!$A:$A,[2]总表功能注释信息表_AnnotationQueryorigin!$G:$G) -> ------ | H78: =_xlfn.XLOOKUP(A78,[1]功能注释信息表_AnnotationQueryorigin_2!$A:$A,[1]功能注释信息表_AnnotationQueryorigin_2!$H:$H) -> H6PD | I78: =_xlfn.XLOOKUP(B78,[1]功能注释信息表_AnnotationQueryorigin_2!$A:$A,[1]功能注释信息表_AnnotationQueryorigin_2!$H:$H) -> ------ | L78: =_xlfn.XLOOKUP(B78,[2]总表功能注释信息表_AnnotationQueryorigin!$A:$A,[2]总表功能注释信息表_AnnotationQueryorigin!$J:$J) -> ------
A79: Syo_11G0009280 | B79: Syo_17G0003900 | C79: 0.9619482723597156 | D79: 6.996419551288353e-14 | E79: 1.6791619580221267e-11 | G79: =_xlfn.XLOOKUP(B79,[2]总表功能注释信息表_AnnotationQueryorigin!$A:$A,[2]总表功能注释信息表_AnnotationQueryorigin!$G:$G) -> ------ | H79: =_xlfn.XLOOKUP(A79,[1]功能注释信息表_AnnotationQueryorigin_2!$A:$A,[1]功能注释信息表_AnnotationQueryorigin_2!$H:$H) -> ZNFX1 | I79: =_xlfn.XLOOKUP(B79,[1]功能注释信息表_AnnotationQueryorigin_2!$A:$A,[1]功能注释信息表_AnnotationQueryorigin_2!$H:$H) -> ------ | L79: =_xlfn.XLOOKUP(B79,[2]总表功能注释信息表_AnnotationQueryorigin!$A:$A,[2]总表功能注释信息表_AnnotationQueryorigin!$J:$J) -> ------
A80: Syo_11G0009280 | B80: Syo_15G0004360 | C80: 0.9295345802522834 | D80: 5.2776199687343605e-11 | E80: 7.17256713169077e-09 | G80: =_xlfn.XLOOKUP(B80,[2]总表功能注释信息表_AnnotationQueryorigin!$A:$A,[2]总表功能注释信息表_AnnotationQueryorigin!$G:$G) -> K18422 | H80: =_xlfn.XLOOKUP(A80,[1]功能注释信息表_AnnotationQueryorigin_2!$A:$A,[1]功能注释信息表_AnnotationQueryorigin_2!$H:$H) -> ZNFX1 | I80: =_xlfn.XLOOKUP(B80,[1]功能注释信息表_AnnotationQueryorigin_2!$A:$A,[1]功能注释信息表_AnnotationQueryorigin_2!$H:$H) -> MOV10 | L80: =_xlfn.XLOOKUP(B80,[2]总表功能注释信息表_AnnotationQueryorigin!$A:$A,[2]总表功能注释信息表_AnnotationQueryorigin!$J:$J) -> ------
A81: Syo_11G0009280 | B81: Syo_23G0003340 | C81: 0.9468200345361898 | D81: 2.58983913647078e-12 | E81: 4.789140235477117e-10 | G81: =_xlfn.XLOOKUP(B81,[2]总表功能注释信息表_AnnotationQueryorigin!$A:$A,[2]总表功能注释信息表_AnnotationQueryorigin!$G:$G) -> ------ | H81: =_xlfn.XLOOKUP(A81,[1]功能注释信息表_AnnotationQueryorigin_2!$A:$A,[1]功能注释信息表_AnnotationQueryorigin_2!$H:$H) -> ZNFX1 | I81: =_xlfn.XLOOKUP(B81,[1]功能注释信息表_AnnotationQueryorigin_2!$A:$A,[1]功能注释信息表_AnnotationQueryorigin_2!$H:$H) -> ------ | L81: =_xlfn.XLOOKUP(B81,[2]总表功能注释信息表_AnnotationQueryorigin!$A:$A,[2]总表功能注释信息表_AnnotationQueryorigin!$J:$J) -> ------
... A96: Syo_11G0009280 | B96: Syo_3G0004030 | C96: 0.9328115028081326 | D96: 3.1744359999501696e-11 | E96: 4.599204421872757e-09 | G96: =_xlfn.XLOOKUP(B96,[2]总表功能注释信息表_AnnotationQueryorigin!$A:$A,[2]总表功能注释信息表_AnnotationQueryorigin!$G:$G) -> ------ | H96: =_xlfn.XLOOKUP(A96,[1]功能注释信息表_AnnotationQueryorigin_2!$A:$A,[1]功能注释信息表_AnnotationQueryorigin_2!$H:$H) -> ZNFX1 | I96: =_xlfn.XLOOKUP(B96,[1]功能注释信息表_AnnotationQueryorigin_2!$A:$A,[1]功能注释信息表_AnnotationQueryorigin_2!$H:$H) -> ------ | L96: =_xlfn.XLOOKUP(B96,[2]总表功能注释信息表_AnnotationQueryorigin!$A:$A,[2]总表功能注释信息表_AnnotationQueryorigin!$J:$J) -> ------
A97: Syo_11G0009490 | B97: Syo_21G0004880 | C97: -0.90782609 | D97: 9.133169194063351e-10 | E97: 7.56730506539807e-08 | G97: =_xlfn.XLOOKUP(B97,[2]总表功能注释信息表_AnnotationQueryorigin!$A:$A,[2]总表功能注释信息表_AnnotationQueryorigin!$G:$G) -> K22734 | H97: =_xlfn.XLOOKUP(A97,[1]功能注释信息表_AnnotationQueryorigin_2!$A:$A,[1]功能注释信息表_AnnotationQueryorigin_2!$H:$H) -> INHBB | I97: =_xlfn.XLOOKUP(B97,[1]功能注释信息表_AnnotationQueryorigin_2!$A:$A,[1]功能注释信息表_AnnotationQueryorigin_2!$H:$H) -> ANKH, SLC62A1 | L97: =_xlfn.XLOOKUP(B97,[2]总表功能注释信息表_AnnotationQueryorigin!$A:$A,[2]总表功能注释信息表_AnnotationQueryorigin!$J:$J) -> ------
A98: Syo_12G0002120 | B98: Syo_16G0003930 | C98: 0.9436834317452903 | D98: 4.7934572757200075e-12 | E98: 8.174863497799938e-10 | G98: =_xlfn.XLOOKUP(B98,[2]总表功能注释信息表_AnnotationQueryorigin!$A:$A,[2]总表功能注释信息表_AnnotationQueryorigin!$G:$G) -> ------ | H98: =_xlfn.XLOOKUP(A98,[1]功能注释信息表_AnnotationQueryorigin_2!$A:$A,[1]功能注释信息表_AnnotationQueryorigin_2!$H:$H) -> ------ | I98: =_xlfn.XLOOKUP(B98,[1]功能注释信息表_AnnotationQueryorigin_2!$A:$A,[1]功能注释信息表_AnnotationQueryorigin_2!$H:$H) -> ------ | L98: =_xlfn.XLOOKUP(B98,[2]总表功能注释信息表_AnnotationQueryorigin!$A:$A,[2]总表功能注释信息表_AnnotationQueryorigin!$J:$J) -> ------
A99: Syo_12G0002120 | B99: Syo_5G0008560 | C99: 0.9041096104140364 | D99: 1.3859631645747179e-09 | E99: 1.0573626805602348e-07 | G99: =_xlfn.XLOOKUP(B99,[2]总表功能注释信息表_AnnotationQueryorigin!$A:$A,[2]总表功能注释信息表_AnnotationQueryorigin!$G:$G) -> ------ | H99: =_xlfn.XLOOKUP(A99,[1]功能注释信息表_AnnotationQueryorigin_2!$A:$A,[1]功能注释信息表_AnnotationQueryorigin_2!$H:$H) -> ------ | I99: =_xlfn.XLOOKUP(B99,[1]功能注释信息表_AnnotationQueryorigin_2!$A:$A,[1]功能注释信息表_AnnotationQueryorigin_2!$H:$H) -> ------ | L99: =_xlfn.XLOOKUP(B99,[2]总表功能注释信息表_AnnotationQueryorigin!$A:$A,[2]总表功能注释信息表_AnnotationQueryorigin!$J:$J) -> ------
A100: Syo_12G0002120 | B100: Syo_7G0000460 | C100: 0.9589041322573112 | D100: 1.608323491948575e-13 | E100: 3.638820379591732e-11 | G100: =_xlfn.XLOOKUP(B100,[2]总表功能注释信息表_AnnotationQueryorigin!$A:$A,[2]总表功能注释信息表_AnnotationQueryorigin!$G:$G) -> ------ | H100: =_xlfn.XLOOKUP(A100,[1]功能注释信息表_AnnotationQueryorigin_2!$A:$A,[1]功能注释信息表_AnnotationQueryorigin_2!$H:$H) -> ------ | I100: =_xlfn.XLOOKUP(B100,[1]功能注释信息表_AnnotationQueryorigin_2!$A:$A,[1]功能注释信息表_AnnotationQueryorigin_2!$H:$H) -> ------ | L100: =_xlfn.XLOOKUP(B100,[2]总表功能注释信息表_AnnotationQueryorigin!$A:$A,[2]总表功能注释信息表_AnnotationQueryorigin!$J:$J) -> ------
A101: Syo_12G0002120 | B101: Syo_6G0011980 | C101: 0.928897608390756 | D101: 5.8092548429060794e-11 | E101: 7.761498674292842e-09 | G101: =_xlfn.XLOOKUP(B101,[2]总表功能注释信息表_AnnotationQueryorigin!$A:$A,[2]总表功能注释信息表_AnnotationQueryorigin!$G:$G) -> K06460 | H101: =_xlfn.XLOOKUP(A101,[1]功能注释信息表_AnnotationQueryorigin_2!$A:$A,[1]功能注释信息表_AnnotationQueryorigin_2!$H:$H) -> ------ | I101: =_xlfn.XLOOKUP(B101,[1]功能注释信息表_AnnotationQueryorigin_2!$A:$A,[1]功能注释信息表_AnnotationQueryorigin_2!$H:$H) -> CD9, TSPAN29 | L101: =_xlfn.XLOOKUP(B101,[2]总表功能注释信息表_AnnotationQueryorigin!$A:$A,[2]总表功能注释信息表_AnnotationQueryorigin!$J:$J) -> Hematopoietic cell lineage;;Virion - Hepatitis viruses
A102: Syo_12G0002120 | B102: Syo_5G0007680 | C102: 0.9662970439345784 | D102: 1.8788717392002492e-14 | E102: 4.832494833843352e-12 | G102: =_xlfn.XLOOKUP(B102,[2]总表功能注释信息表_AnnotationQueryorigin!$A:$A,[2]总表功能注释信息表_AnnotationQueryorigin!$G:$G) -> ------ | H102: =_xlfn.XLOOKUP(A102,[1]功能注释信息表_AnnotationQueryorigin_2!$A:$A,[1]功能注释信息表_AnnotationQueryorigin_2!$H:$H) -> ------ | I102: =_xlfn.XLOOKUP(B102,[1]功能注释信息表_AnnotationQueryorigin_2!$A:$A,[1]功能注释信息表_AnnotationQueryorigin_2!$H:$H) -> ------ | L102: =_xlfn.XLOOKUP(B102,[2]总表功能注释信息表_AnnotationQueryorigin!$A:$A,[2]总表功能注释信息表_AnnotationQueryorigin!$J:$J) -> ------
A103: Syo_12G0002120 | B103: Syo_4G0011920 | C103: 0.9117472317693008 | D103: 5.768502802466689e-10 | E103: 5.3025232803908304e-08 | G103: =_xlfn.XLOOKUP(B103,[2]总表功能注释信息表_AnnotationQueryorigin!$A:$A,[2]总表功能注释信息表_AnnotationQueryorigin!$G:$G) -> ------ | H103: =_xlfn.XLOOKUP(A103,[1]功能注释信息表_AnnotationQueryorigin_2!$A:$A,[1]功能注释信息表_AnnotationQueryorigin_2!$H:$H) -> ------ | I103: =_xlfn.XLOOKUP(B103,[1]功能注释信息表_AnnotationQueryorigin_2!$A:$A,[1]功能注释信息表_AnnotationQueryorigin_2!$H:$H) -> ------ | L103: =_xlfn.XLOOKUP(B103,[2]总表功能注释信息表_AnnotationQueryorigin!$A:$A,[2]总表功能注释信息表_AnnotationQueryorigin!$J:$J) -> ------
A104: Syo_12G0002120 | B104: Syo_19G0004580 | C104: 0.9033943414103596 | D104: 1.4988879560435953e-09 | E104: 1.1282525443008421e-07 | G104: =_xlfn.XLOOKUP(B104,[2]总表功能注释信息表_AnnotationQueryorigin!$A:$A,[2]总表功能注释信息表_AnnotationQueryorigin!$G:$G) -> K24850 | H104: =_xlfn.XLOOKUP(A104,[1]功能注释信息表_AnnotationQueryorigin_2!$A:$A,[1]功能注释信息表_AnnotationQueryorigin_2!$H:$H) -> ------ | I104: =_xlfn.XLOOKUP(B104,[1]功能注释信息表_AnnotationQueryorigin_2!$A:$A,[1]功能注释信息表_AnnotationQueryorigin_2!$H:$H) -> IFIT5 | L104: =_xlfn.XLOOKUP(B104,[2]总表功能注释信息表_AnnotationQueryorigin!$A:$A,[2]总表功能注释信息表_AnnotationQueryorigin!$J:$J) -> ------
A105: Syo_12G0002120 | B105: Syo_7G0007270 | C105: 0.9297520661157024 | D105: 5.106426623308228e-11 | E105: 6.9638782832994985e-09 | G105: =_xlfn.XLOOKUP(B105,[2]总表功能注释信息表_AnnotationQueryorigin!$A:$A,[2]总表功能注释信息表_AnnotationQueryorigin!$G:$G) -> ------ | H105: =_xlfn.XLOOKUP(A105,[1]功能注释信息表_AnnotationQueryorigin_2!$A:$A,[1]功能注释信息表_AnnotationQueryorigin_2!$H:$H) -> ------ | I105: =_xlfn.XLOOKUP(B105,[1]功能注释信息表_AnnotationQueryorigin_2!$A:$A,[1]功能注释信息表_AnnotationQueryorigin_2!$H:$H) -> ------ | L105: =_xlfn.XLOOKUP(B105,[2]总表功能注释信息表_AnnotationQueryorigin!$A:$A,[2]总表功能注释信息表_AnnotationQueryorigin!$J:$J) -> ------
A106: Syo_12G0002120 | B106: Syo_8G0001620 | C106: 0.9054142418864952 | D106: 1.1995437261036109e-09 | E106: 9.500217869294605e-08 | G106: =_xlfn.XLOOKUP(B106,[2]总表功能注释信息表_AnnotationQueryorigin!$A:$A,[2]总表功能注释信息表_AnnotationQueryorigin!$G:$G) -> K11222 | H106: =_xlfn.XLOOKUP(A106,[1]功能注释信息表_AnnotationQueryorigin_2!$A:$A,[1]功能注释信息表_AnnotationQueryorigin_2!$H:$H) -> ------ | I106: =_xlfn.XLOOKUP(B106,[1]功能注释信息表_AnnotationQueryorigin_2!$A:$A,[1]功能注释信息表_AnnotationQueryorigin_2!$H:$H) -> STAT4 | L106: =_xlfn.XLOOKUP(B106,[2]总表功能注释信息表_AnnotationQueryorigin!$A:$A,[2]总表功能注释信息表_AnnotationQueryorigin!$J:$J) -> Pathways in cancer;;Inflammatory bowel disease;;Th1 and Th2 cell differentiation;;Hepatitis B;;JAK-STAT signaling pathway;;Necroptosis
A107: Syo_12G0002120 | B107: Syo_19G0001310 | C107: 0.9090514350704436 | D107: 7.929138609128622e-10 | E107: 6.872587417293142e-08 | G107: =_xlfn.XLOOKUP(B107,[2]总表功能注释信息表_AnnotationQueryorigin!$A:$A,[2]总表功能注释信息表_AnnotationQueryorigin!$G:$G) -> K22754 | H107: =_xlfn.XLOOKUP(A107,[1]功能注释信息表_AnnotationQueryorigin_2!$A:$A,[1]功能注释信息表_AnnotationQueryorigin_2!$H:$H) -> ------ | I107: =_xlfn.XLOOKUP(B107,[1]功能注释信息表_AnnotationQueryorigin_2!$A:$A,[1]功能注释信息表_AnnotationQueryorigin_2!$H:$H) -> RNF213 | L107: =_xlfn.XLOOKUP(B107,[2]总表功能注释信息表_AnnotationQueryorigin!$A:$A,[2]总表功能注释信息表_AnnotationQueryorigin!$J:$J) -> ------
A108: Syo_12G0002120 | B108: Syo_6G0000740 | C108: 0.9028049789415774 | D108: 1.5980903859748915e-09 | E108: 1.1848527226944921e-07 | G108: =_xlfn.XLOOKUP(B108,[2]总表功能注释信息表_AnnotationQueryorigin!$A:$A,[2]总表功能注释信息表_AnnotationQueryorigin!$G:$G) -> K04696 | H108: =_xlfn.XLOOKUP(A108,[1]功能注释信息表_AnnotationQueryorigin_2!$A:$A,[1]功能注释信息表_AnnotationQueryorigin_2!$H:$H) -> ------ | I108: =_xlfn.XLOOKUP(B108,[1]功能注释信息表_AnnotationQueryorigin_2!$A:$A,[1]功能注释信息表_AnnotationQueryorigin_2!$H:$H) -> SOCS3, CIS3 | L108: =_xlfn.XLOOKUP(B108,[2]总表功能注释信息表_AnnotationQueryorigin!$A:$A,[2]总表功能注释信息表_AnnotationQueryorigin!$J:$J) -> TNF signaling pathway;;Influenza A;;Prolactin signaling pathway;;Hepatitis C;;Herpes simplex virus 1 infection;;Adipocytokine signaling pathway;;JAK-STAT signaling pathway;;Osteoclast differentiation;;Insulin signaling pathway;;Ubiquitin mediated proteolysis;;Growth hormone synthesis, secretion and action;;Non-alcoholic fatty liver disease;;Type II diabetes mellitus;;Insulin resistance
A109: Syo_12G0002120 | B109: Syo_6G0008710 | C109: 0.9251848629839058 | D109: 9.991942793568704e-11 | E109: 1.2308483540140071e-08 | G109: =_xlfn.XLOOKUP(B109,[2]总表功能注释信息表_AnnotationQueryorigin!$A:$A,[2]总表功能注释信息表_AnnotationQueryorigin!$G:$G) -> K12649 | H109: =_xlfn.XLOOKUP(A109,[1]功能注释信息表_AnnotationQueryorigin_2!$A:$A,[1]功能注释信息表_AnnotationQueryorigin_2!$H:$H) -> ------ | I109: =_xlfn.XLOOKUP(B109,[1]功能注释信息表_AnnotationQueryorigin_2!$A:$A,[1]功能注释信息表_AnnotationQueryorigin_2!$H:$H) -> DHX58, LGP2 | L109: =_xlfn.XLOOKUP(B109,[2]总表功能注释信息表_AnnotationQueryorigin!$A:$A,[2]总表功能注释信息表_AnnotationQueryorigin!$J:$J) -> RIG-I-like receptor signaling pathway
... A113: Syo_12G0002120 | B113: Syo_17G0003900 | C113: 0.9323766256506464 | D113: 3.400918670663218e-11 | E113: 4.856056765899428e-09 | G113: =_xlfn.XLOOKUP(B113,[2]总表功能注释信息表_AnnotationQueryorigin!$A:$A,[2]总表功能注释信息表_AnnotationQueryorigin!$G:$G) -> ------ | H113: =_xlfn.XLOOKUP(A113,[1]功能注释信息表_AnnotationQueryorigin_2!$A:$A,[1]功能注释信息表_AnnotationQueryorigin_2!$H:$H) -> ------ | I113: =_xlfn.XLOOKUP(B113,[1]功能注释信息表_AnnotationQueryorigin_2!$A:$A,[1]功能注释信息表_AnnotationQueryorigin_2!$H:$H) -> ------ | L113: =_xlfn.XLOOKUP(B113,[2]总表功能注释信息表_AnnotationQueryorigin!$A:$A,[2]总表功能注释信息表_AnnotationQueryorigin!$J:$J) -> ------
A114: Syo_12G0007510 | B114: Syo_4G0012430 | C114: -0.90778608 | D114: 9.175118132741388e-10 | E114: 7.586141391407256e-08 | G114: =_xlfn.XLOOKUP(B114,[2]总表功能注释信息表_AnnotationQueryorigin!$A:$A,[2]总表功能注释信息表_AnnotationQueryorigin!$G:$G) -> K04429 | H114: =_xlfn.XLOOKUP(A114,[1]功能注释信息表_AnnotationQueryorigin_2!$A:$A,[1]功能注释信息表_AnnotationQueryorigin_2!$H:$H) -> GST, gst | I114: =_xlfn.XLOOKUP(B114,[1]功能注释信息表_AnnotationQueryorigin_2!$A:$A,[1]功能注释信息表_AnnotationQueryorigin_2!$H:$H) -> TAO | L114: =_xlfn.XLOOKUP(B114,[2]总表功能注释信息表_AnnotationQueryorigin!$A:$A,[2]总表功能注释信息表_AnnotationQueryorigin!$J:$J) -> MAPK signaling pathway
A115: Syo_13G0001610 | B115: Syo_17G0005790 | C115: 0.9323766256506464 | D115: 3.400918670663218e-11 | E115: 4.856056765899428e-09 | G115: =_xlfn.XLOOKUP(B115,[2]总表功能注释信息表_AnnotationQueryorigin!$A:$A,[2]总表功能注释信息表_AnnotationQueryorigin!$G:$G) -> K01875 | H115: =_xlfn.XLOOKUP(A115,[1]功能注释信息表_AnnotationQueryorigin_2!$A:$A,[1]功能注释信息表_AnnotationQueryorigin_2!$H:$H) -> CFL | I115: =_xlfn.XLOOKUP(B115,[1]功能注释信息表_AnnotationQueryorigin_2!$A:$A,[1]功能注释信息表_AnnotationQueryorigin_2!$H:$H) -> SARS, serS | L115: =_xlfn.XLOOKUP(B115,[2]总表功能注释信息表_AnnotationQueryorigin!$A:$A,[2]总表功能注释信息表_AnnotationQueryorigin!$J:$J) -> Aminoacyl-tRNA biosynthesis
A116: Syo_13G0001610 | B116: Syo_22G0003950 | C116: 0.9247499787386068 | D116: 1.0627821446582912e-10 | E116: 1.2970377268062567e-08 | G116: =_xlfn.XLOOKUP(B116,[2]总表功能注释信息表_AnnotationQueryorigin!$A:$A,[2]总表功能注释信息表_AnnotationQueryorigin!$G:$G) -> K11445 | H116: =_xlfn.XLOOKUP(A116,[1]功能注释信息表_AnnotationQueryorigin_2!$A:$A,[1]功能注释信息表_AnnotationQueryorigin_2!$H:$H) -> CFL | I116: =_xlfn.XLOOKUP(B116,[1]功能注释信息表_AnnotationQueryorigin_2!$A:$A,[1]功能注释信息表_AnnotationQueryorigin_2!$H:$H) -> KDM7A, JHDM1D | L116: =_xlfn.XLOOKUP(B116,[2]总表功能注释信息表_AnnotationQueryorigin!$A:$A,[2]总表功能注释信息表_AnnotationQueryorigin!$J:$J) -> ------
A117: Syo_13G0001610 | B117: Syo_4G0002620 | C117: 0.9208695652173912 | D117: 1.8141058945837567e-10 | E117: 2.014678137021491e-08 | G117: =_xlfn.XLOOKUP(B117,[2]总表功能注释信息表_AnnotationQueryorigin!$A:$A,[2]总表功能注释信息表_AnnotationQueryorigin!$G:$G) -> K00831 | H117: =_xlfn.XLOOKUP(A117,[1]功能注释信息表_AnnotationQueryorigin_2!$A:$A,[1]功能注释信息表_AnnotationQueryorigin_2!$H:$H) -> CFL | I117: =_xlfn.XLOOKUP(B117,[1]功能注释信息表_AnnotationQueryorigin_2!$A:$A,[1]功能注释信息表_AnnotationQueryorigin_2!$H:$H) -> serC, PSAT1 | L117: =_xlfn.XLOOKUP(B117,[2]总表功能注释信息表_AnnotationQueryorigin!$A:$A,[2]总表功能注释信息表_AnnotationQueryorigin!$J:$J) -> Cysteine and methionine metabolism;;Vitamin B6 metabolism;;Glycine, serine and threonine metabolism;;Biosynthesis of cofactors
A118: Syo_13G0001610 | B118: Syo_3G0006730 | C118: 0.9069565217391304 | D118: 1.0085009676099369e-09 | E118: 8.201055087893742e-08 | G118: =_xlfn.XLOOKUP(B118,[2]总表功能注释信息表_AnnotationQueryorigin!$A:$A,[2]总表功能注释信息表_AnnotationQueryorigin!$G:$G) -> K13868 | H118: =_xlfn.XLOOKUP(A118,[1]功能注释信息表_AnnotationQueryorigin_2!$A:$A,[1]功能注释信息表_AnnotationQueryorigin_2!$H:$H) -> CFL | I118: =_xlfn.XLOOKUP(B118,[1]功能注释信息表_AnnotationQueryorigin_2!$A:$A,[1]功能注释信息表_AnnotationQueryorigin_2!$H:$H) -> SLC7A9_15, BAT1 | L118: =_xlfn.XLOOKUP(B118,[2]总表功能注释信息表_AnnotationQueryorigin!$A:$A,[2]总表功能注释信息表_AnnotationQueryorigin!$J:$J) -> Protein digestion and absorption
A119: Syo_13G0001610 | B119: Syo_2G0012200 | C119: 0.9472550356750792 | D119: 2.370943676053147e-12 | E119: 4.489498407789749e-10 | G119: =_xlfn.XLOOKUP(B119,[2]总表功能注释信息表_AnnotationQueryorigin!$A:$A,[2]总表功能注释信息表_AnnotationQueryorigin!$G:$G) -> ------ | H119: =_xlfn.XLOOKUP(A119,[1]功能注释信息表_AnnotationQueryorigin_2!$A:$A,[1]功能注释信息表_AnnotationQueryorigin_2!$H:$H) -> CFL | I119: =_xlfn.XLOOKUP(B119,[1]功能注释信息表_AnnotationQueryorigin_2!$A:$A,[1]功能注释信息表_AnnotationQueryorigin_2!$H:$H) -> ------ | L119: =_xlfn.XLOOKUP(B119,[2]总表功能注释信息表_AnnotationQueryorigin!$A:$A,[2]总表功能注释信息表_AnnotationQueryorigin!$J:$J) -> ------
A120: Syo_13G0001610 | B120: Syo_16G0001900 | C120: 0.9251526567366758 | D120: 1.0037828330081169e-10 | E120: 1.232654685492302e-08 | G120: =_xlfn.XLOOKUP(B120,[2]总表功能注释信息表_AnnotationQueryorigin!$A:$A,[2]总表功能注释信息表_AnnotationQueryorigin!$G:$G) -> K24787 | H120: =_xlfn.XLOOKUP(A120,[1]功能注释信息表_AnnotationQueryorigin_2!$A:$A,[1]功能注释信息表_AnnotationQueryorigin_2!$H:$H) -> CFL | I120: =_xlfn.XLOOKUP(B120,[1]功能注释信息表_AnnotationQueryorigin_2!$A:$A,[1]功能注释信息表_AnnotationQueryorigin_2!$H:$H) -> RUNDC3 | L120: =_xlfn.XLOOKUP(B120,[2]总表功能注释信息表_AnnotationQueryorigin!$A:$A,[2]总表功能注释信息表_AnnotationQueryorigin!$J:$J) -> ------
A121: Syo_13G0001610 | B121: Syo_16G0004190 | C121: 0.9353928465641688 | D121: 2.0883168682495256e-11 | E121: 3.1771789640434238e-09 | G121: =_xlfn.XLOOKUP(B121,[2]总表功能注释信息表_AnnotationQueryorigin!$A:$A,[2]总表功能注释信息表_AnnotationQueryorigin!$G:$G) -> ------ | H121: =_xlfn.XLOOKUP(A121,[1]功能注释信息表_AnnotationQueryorigin_2!$A:$A,[1]功能注释信息表_AnnotationQueryorigin_2!$H:$H) -> CFL | I121: =_xlfn.XLOOKUP(B121,[1]功能注释信息表_AnnotationQueryorigin_2!$A:$A,[1]功能注释信息表_AnnotationQueryorigin_2!$H:$H) -> ------ | L121: =_xlfn.XLOOKUP(B121,[2]总表功能注释信息表_AnnotationQueryorigin!$A:$A,[2]总表功能注释信息表_AnnotationQueryorigin!$J:$J) -> ------
A122: Syo_13G0001610 | B122: Syo_2G0005480 | C122: 0.9367253972255092 | D122: 1.6709387728145013e-11 | E122: 2.5921217375286017e-09 | G122: =_xlfn.XLOOKUP(B122,[2]总表功能注释信息表_AnnotationQueryorigin!$A:$A,[2]总表功能注释信息表_AnnotationQueryorigin!$G:$G) -> K08857 | H122: =_xlfn.XLOOKUP(A122,[1]功能注释信息表_AnnotationQueryorigin_2!$A:$A,[1]功能注释信息表_AnnotationQueryorigin_2!$H:$H) -> CFL | I122: =_xlfn.XLOOKUP(B122,[1]功能注释信息表_AnnotationQueryorigin_2!$A:$A,[1]功能注释信息表_AnnotationQueryorigin_2!$H:$H) -> NEK1_4_5 | L122: =_xlfn.XLOOKUP(B122,[2]总表功能注释信息表_AnnotationQueryorigin!$A:$A,[2]总表功能注释信息表_AnnotationQueryorigin!$J:$J) -> ------
A123: Syo_13G0004660 | B123: Syo_17G0004570 | C123: 0.942608695652174 | D123: 5.871718607937182e-12 | E123: 9.802045940831452e-10 | G123: =_xlfn.XLOOKUP(B123,[2]总表功能注释信息表_AnnotationQueryorigin!$A:$A,[2]总表功能注释信息表_AnnotationQueryorigin!$G:$G) -> K03910 | H123: =_xlfn.XLOOKUP(A123,[1]功能注释信息表_AnnotationQueryorigin_2!$A:$A,[1]功能注释信息表_AnnotationQueryorigin_2!$H:$H) -> ABCA1 | I123: =_xlfn.XLOOKUP(B123,[1]功能注释信息表_AnnotationQueryorigin_2!$A:$A,[1]功能注释信息表_AnnotationQueryorigin_2!$H:$H) -> A2M | L123: =_xlfn.XLOOKUP(B123,[2]总表功能注释信息表_AnnotationQueryorigin!$A:$A,[2]总表功能注释信息表_AnnotationQueryorigin!$J:$J) -> Complement and coagulation cascades
A124: Syo_13G0004660 | B124: Syo_5G0009630 | C124: 0.9434782608695652 | D124: 4.984286809250041e-12 | E124: 8.427500444222537e-10 | G124: =_xlfn.XLOOKUP(B124,[2]总表功能注释信息表_AnnotationQueryorigin!$A:$A,[2]总表功能注释信息表_AnnotationQueryorigin!$G:$G) -> K03990 | H124: =_xlfn.XLOOKUP(A124,[1]功能注释信息表_AnnotationQueryorigin_2!$A:$A,[1]功能注释信息表_AnnotationQueryorigin_2!$H:$H) -> ABCA1 | I124: =_xlfn.XLOOKUP(B124,[1]功能注释信息表_AnnotationQueryorigin_2!$A:$A,[1]功能注释信息表_AnnotationQueryorigin_2!$H:$H) -> C3 | L124: =_xlfn.XLOOKUP(B124,[2]总表功能注释信息表_AnnotationQueryorigin!$A:$A,[2]总表功能注释信息表_AnnotationQueryorigin!$J:$J) -> Leishmaniasis;;Kaposi sarcoma-associated herpesvirus infection;;Chagas disease;;Coronavirus disease - COVID-19;;Viral carcinogenesis;;Tuberculosis;;Systemic lupus erythematosus;;Herpes simplex virus 1 infection;;Legionellosis;;Neuroactive ligand-receptor interaction;;Staphylococcus aureus infection;;Shigellosis;;Pertussis;;Alcoholic liver disease;;Phagosome;;Neutrophil extracellular trap formation;;Complement and coagulation cascades
A125: Syo_13G0004660 | B125: Syo_1G0003760 | C125: 0.9243478260869564 | D125: 1.1248113620991152e-10 | E125: 1.3436645985281124e-08 | G125: =_xlfn.XLOOKUP(B125,[2]总表功能注释信息表_AnnotationQueryorigin!$A:$A,[2]总表功能注释信息表_AnnotationQueryorigin!$G:$G) -> K26273 | H125: =_xlfn.XLOOKUP(A125,[1]功能注释信息表_AnnotationQueryorigin_2!$A:$A,[1]功能注释信息表_AnnotationQueryorigin_2!$H:$H) -> ABCA1 | I125: =_xlfn.XLOOKUP(B125,[1]功能注释信息表_AnnotationQueryorigin_2!$A:$A,[1]功能注释信息表_AnnotationQueryorigin_2!$H:$H) -> SBNO, SNO, FGT1 | L125: =_xlfn.XLOOKUP(B125,[2]总表功能注释信息表_AnnotationQueryorigin!$A:$A,[2]总表功能注释信息表_AnnotationQueryorigin!$J:$J) -> ------
A126: Syo_13G0006150 | B126: Syo_3G0008660 | C126: 0.9390778143169078 | D126: 1.1137237637019235e-11 | E126: 1.805764724962373e-09 | G126: =_xlfn.XLOOKUP(B126,[2]总表功能注释信息表_AnnotationQueryorigin!$A:$A,[2]总表功能注释信息表_AnnotationQueryorigin!$G:$G) -> K00604 | H126: =_xlfn.XLOOKUP(A126,[1]功能注释信息表_AnnotationQueryorigin_2!$A:$A,[1]功能注释信息表_AnnotationQueryorigin_2!$H:$H) -> BRE1 | I126: =_xlfn.XLOOKUP(B126,[1]功能注释信息表_AnnotationQueryorigin_2!$A:$A,[1]功能注释信息表_AnnotationQueryorigin_2!$H:$H) -> MTFMT, fmt | L126: =_xlfn.XLOOKUP(B126,[2]总表功能注释信息表_AnnotationQueryorigin!$A:$A,[2]总表功能注释信息表_AnnotationQueryorigin!$J:$J) -> Aminoacyl-tRNA biosynthesis
... A159: Syo_15G0006370 | B159: Syo_9G0002470 | C159: 0.9008695652173913 | D159: 1.9668585414294794e-09 | E159: 1.4105823550391747e-07 | G159: =_xlfn.XLOOKUP(B159,[2]总表功能注释信息表_AnnotationQueryorigin!$A:$A,[2]总表功能注释信息表_AnnotationQueryorigin!$G:$G) -> ------ | H159: =_xlfn.XLOOKUP(A159,[1]功能注释信息表_AnnotationQueryorigin_2!$A:$A,[1]功能注释信息表_AnnotationQueryorigin_2!$H:$H) -> PLIN3 | I159: =_xlfn.XLOOKUP(B159,[1]功能注释信息表_AnnotationQueryorigin_2!$A:$A,[1]功能注释信息表_AnnotationQueryorigin_2!$H:$H) -> ------ | L159: =_xlfn.XLOOKUP(B159,[2]总表功能注释信息表_AnnotationQueryorigin!$A:$A,[2]总表功能注释信息表_AnnotationQueryorigin!$J:$J) -> ------
A160: Syo_15G0006370 | B160: Syo_6G0004160 | C160: -0.92869565 | D160: 5.987639321147553e-11 | E160: 7.94605022583415e-09 | G160: =_xlfn.XLOOKUP(B160,[2]总表功能注释信息表_AnnotationQueryorigin!$A:$A,[2]总表功能注释信息表_AnnotationQueryorigin!$G:$G) -> K01057 | H160: =_xlfn.XLOOKUP(A160,[1]功能注释信息表_AnnotationQueryorigin_2!$A:$A,[1]功能注释信息表_AnnotationQueryorigin_2!$H:$H) -> PLIN3 | I160: =_xlfn.XLOOKUP(B160,[1]功能注释信息表_AnnotationQueryorigin_2!$A:$A,[1]功能注释信息表_AnnotationQueryorigin_2!$H:$H) -> PGLS, pgl, devB | L160: =_xlfn.XLOOKUP(B160,[2]总表功能注释信息表_AnnotationQueryorigin!$A:$A,[2]总表功能注释信息表_AnnotationQueryorigin!$J:$J) -> Pentose phosphate pathway
A161: Syo_15G0006370 | B161: Syo_9G0005480 | C161: 0.9006305931541458 | D161: 2.017339233406672e-09 | E161: 1.4389442024302248e-07 | G161: =_xlfn.XLOOKUP(B161,[2]总表功能注释信息表_AnnotationQueryorigin!$A:$A,[2]总表功能注释信息表_AnnotationQueryorigin!$G:$G) -> K05424 | H161: =_xlfn.XLOOKUP(A161,[1]功能注释信息表_AnnotationQueryorigin_2!$A:$A,[1]功能注释信息表_AnnotationQueryorigin_2!$H:$H) -> PLIN3 | I161: =_xlfn.XLOOKUP(B161,[1]功能注释信息表_AnnotationQueryorigin_2!$A:$A,[1]功能注释信息表_AnnotationQueryorigin_2!$H:$H) -> LEP | L161: =_xlfn.XLOOKUP(B161,[2]总表功能注释信息表_AnnotationQueryorigin!$A:$A,[2]总表功能注释信息表_AnnotationQueryorigin!$J:$J) -> Adipocytokine signaling pathway;;Neuroactive ligand-receptor interaction;;JAK-STAT signaling pathway;;Cytokine-cytokine receptor interaction;;Non-alcoholic fatty liver disease;;AMPK signaling pathway
A162: Syo_15G0006370 | B162: Syo_5G0007680 | C162: 0.9086956521739128 | D162: 8.263058014053957e-10 | E162: 7.038396158012023e-08 | G162: =_xlfn.XLOOKUP(B162,[2]总表功能注释信息表_AnnotationQueryorigin!$A:$A,[2]总表功能注释信息表_AnnotationQueryorigin!$G:$G) -> ------ | H162: =_xlfn.XLOOKUP(A162,[1]功能注释信息表_AnnotationQueryorigin_2!$A:$A,[1]功能注释信息表_AnnotationQueryorigin_2!$H:$H) -> PLIN3 | I162: =_xlfn.XLOOKUP(B162,[1]功能注释信息表_AnnotationQueryorigin_2!$A:$A,[1]功能注释信息表_AnnotationQueryorigin_2!$H:$H) -> ------ | L162: =_xlfn.XLOOKUP(B162,[2]总表功能注释信息表_AnnotationQueryorigin!$A:$A,[2]总表功能注释信息表_AnnotationQueryorigin!$J:$J) -> ------
A163: Syo_15G0006370 | B163: Syo_5G0001480 | C163: 0.9169204869148556 | D163: 3.0421018836007535e-10 | E163: 3.075639011920603e-08 | G163: =_xlfn.XLOOKUP(B163,[2]总表功能注释信息表_AnnotationQueryorigin!$A:$A,[2]总表功能注释信息表_AnnotationQueryorigin!$G:$G) -> K05401 | H163: =_xlfn.XLOOKUP(A163,[1]功能注释信息表_AnnotationQueryorigin_2!$A:$A,[1]功能注释信息表_AnnotationQueryorigin_2!$H:$H) -> PLIN3 | I163: =_xlfn.XLOOKUP(B163,[1]功能注释信息表_AnnotationQueryorigin_2!$A:$A,[1]功能注释信息表_AnnotationQueryorigin_2!$H:$H) -> TLR3, CD283 | L163: =_xlfn.XLOOKUP(B163,[2]总表功能注释信息表_AnnotationQueryorigin!$A:$A,[2]总表功能注释信息表_AnnotationQueryorigin!$J:$J) -> Kaposi sarcoma-associated herpesvirus infection;;Influenza A;;Human papillomavirus infection;;Hepatitis C;;Hepatitis B;;Herpes simplex virus 1 infection;;Toll-like receptor signaling pathway;;Coronavirus disease - COVID-19;;Necroptosis
A164: Syo_16G0000160 | B164: Syo_7G0008860 | C164: 0.9004510764607156 | D164: 2.0560246809174528e-09 | E164: 1.4586322087144922e-07 | G164: =_xlfn.XLOOKUP(B164,[2]总表功能注释信息表_AnnotationQueryorigin!$A:$A,[2]总表功能注释信息表_AnnotationQueryorigin!$G:$G) -> K01896 | H164: =_xlfn.XLOOKUP(A164,[1]功能注释信息表_AnnotationQueryorigin_2!$A:$A,[1]功能注释信息表_AnnotationQueryorigin_2!$H:$H) -> PK, pyk | I164: =_xlfn.XLOOKUP(B164,[1]功能注释信息表_AnnotationQueryorigin_2!$A:$A,[1]功能注释信息表_AnnotationQueryorigin_2!$H:$H) -> ACSM | L164: =_xlfn.XLOOKUP(B164,[2]总表功能注释信息表_AnnotationQueryorigin!$A:$A,[2]总表功能注释信息表_AnnotationQueryorigin!$J:$J) -> Butanoate metabolism
A165: Syo_16G0000280 | B165: Syo_19G0002020 | C165: 0.92 | D165: 2.0374246438472368e-10 | E165: 2.218994307625127e-08 | G165: =_xlfn.XLOOKUP(B165,[2]总表功能注释信息表_AnnotationQueryorigin!$A:$A,[2]总表功能注释信息表_AnnotationQueryorigin!$G:$G) -> K00629 | H165: =_xlfn.XLOOKUP(A165,[1]功能注释信息表_AnnotationQueryorigin_2!$A:$A,[1]功能注释信息表_AnnotationQueryorigin_2!$H:$H) -> IQGAP2_3 | I165: =_xlfn.XLOOKUP(B165,[1]功能注释信息表_AnnotationQueryorigin_2!$A:$A,[1]功能注释信息表_AnnotationQueryorigin_2!$H:$H) -> GPAT1_2 | L165: =_xlfn.XLOOKUP(B165,[2]总表功能注释信息表_AnnotationQueryorigin!$A:$A,[2]总表功能注释信息表_AnnotationQueryorigin!$J:$J) -> Glycerophospholipid metabolism;;Glycerolipid metabolism
...

Sheet Sheet1
A2: gene_id_1 | B2: gene_id_2 | C2: cor | D2: p_value | E2: q_value | F2: Pathway Definition
A3: EIF2AK4 | B3: GPAT1 | C3: 0.9182608695652172 | D3: 2.559976932867316e-10 | E3: 2.6844400875980894e-08 | F3: Glycerophospholipid metabolism
A4: EIF2AK4 | B4: IQGAP2 | C4: 0.9539130434782608 | D4: 5.544061620769688e-13 | E4: 1.148988581725972e-10 | F4: Regulation of actin cytoskeleton
A5: CYP1C | B5: KLHL19 | C5: 0.9041415793133986 | D5: 1.3810998931425756e-09 | E5: 1.0573626805602348e-07 | F5: Pathways in cancer
A6: CYP1C | B6: TBCEL | C6: 0.9195563356268236 | D6: 2.160665302728924e-10 | E6: 2.3339027765906782e-08 | F6: ------
A7: SRP14 | B7: TBCEL | C7: -0.92234085 | D7: 1.486047033474458e-10 | E7: 1.6981151926219738e-08 | F7: ------
A8: SRP14 | B8: KLHL19 | C8: -0.90782609 | D8: 9.133169194063351e-10 | E8: 7.56730506539807e-08 | F8: Pathways in cancer
A9: SDS, SDH, CHA1 | B9: ------ | C9: {=-C50.908261489270938} -> #NAME? | D9: 8.687681772102762e-10 | E9: 7.33677048563643e-08 | F9: ------
A10: SDS, SDH, CHA1 | B10: ------ | C10: -0.90196292 | D10: 1.750095963795158e-09 | E10: 1.278347154460957e-07 | F10: ------
A11: SDS, SDH, CHA1 | B11: PARP7 | C11: -0.90608696 | D11: 1.1125336623750209e-09 | E11: 8.918453859369953e-08 | F11: ------
A12: NID | B12: TAO | C12: 0.9086560233231183 | D12: 8.301025200295228e-10 | E12: 7.040427144182644e-08 | F12: MAPK signaling pathway
A13: CLIC4 | B13: TAO | C13: 0.944758680065971 | D13: 3.897158334612969e-12 | E13: 6.823137899320946e-10 | F13: MAPK signaling pathway
A14: CLIC4 | B14: BCKDK | C14: 0.9156521739130434 | D14: 3.5721927946771954e-10 | E14: 3.4950310507224364e-08 | F14: ------
A15: HHAT | B15: A2M | C15: 0.914981539351194 | D15: 3.8849246873436316e-10 | E15: 3.754682230567203e-08 | F15: Complement and coagulation cascades
A16: HHAT | B16: H6PD | C16: 0.904979364729009 | D16: 1.2590062516348594e-09 | E16: 9.852566168021961e-08 | F16: Pentose phosphate pathway
A17: HHAT | B17: SBNO | C17: 0.9467275718476944 | D17: 2.6386592021420447e-12 | E17: 4.834133857548446e-10 | F17: ------
A18: HHAT | B18: CPN1 | C18: 0.908023504831413 | D18: 8.928689337649071e-10 | E18: 7.508181456763668e-08 | F18: ------
A19: GREB1 | B19: ------ | C19: 0.9310719941781872 | D19: 4.170698772888896e-11 | E19: 5.8081577743576744e-09 | F19: ------
A20: GREB1 | B20: BCKDK | C20: 0.9462926946902084 | D20: 2.8796317252323712e-12 | E20: 5.203171639727079e-10 | F20: ------
A21: GREB1 | B21: BRE1 | C21: 0.920634942398516 | D21: 1.8720733028255387e-10 | E21: 2.0732227218009816e-08 | F21: ------
A22: GREB1 | B22: GPAT1_2 | C22: 0.9019352246266048 | D22: 1.7553104076267547e-09 | E22: 1.2797882280389303e-07 | F22: Glycerophospholipid metabolism
A23: GREB1 | B23: ACY3 | C23: -0.90106547 | D23: 1.9263270185033576e-09 | E23: 1.3865515743668517e-07 | F23: ------
A24: GREB1 | B24: ------ | C24: -0.90529419 | D24: 1.2157004914731296e-09 | E24: 9.570580907996988e-08 | F24: ------
A25: ITPK | B25: SBNO | C25: 0.920600587595247 | D25: 1.8807000747240087e-10 | E25: 2.0769504699340204e-08 | F25: ------
A26: ITPK | B26: H6PD | C26: 0.9284317835199702 | D26: 6.228161160432149e-11 | E26: 8.155585960014641e-09 | F26: Pentose phosphate pathway
A27: ITPK | B27: TLR3 | C27: 0.9162132969960326 | D27: 3.3281795354592834e-10 | E27: 3.3139518827163324e-08 | F27: Toll-like receptor signaling pathway
A28: ITPK | B28: PLIN3 | C28: 0.9162499231926228 | D28: 3.3127876537587516e-10 | E28: 3.3139518827163324e-08 | F28: ------
A29: CMPK2 | B29: ------ | C29: 0.9675338321408266 | D29: 1.2525290234860712e-14 | E29: 3.2426539089666778e-12 | F29: ------
A30: CMPK2 | B30: DHX58 | C30: 0.961513395202229 | D30: 7.911944012726095e-14 | E30: 1.887416952232221e-11 | F30: RIG-I-like receptor signaling pathway
A31: CMPK2 | B31: IFIT5 | C31: 0.9266915177589206 | D31: 8.04561744742053e-11 | E31: 1.0230112709593759e-08 | F31: ------
A32: CMPK2 | B32: MOV10 | C32: 0.9428136774303176 | D32: 5.6505449636302546e-12 | E32: 9.47288069794498e-10 | F32: ------
A33: CMPK2 | B33: ------ | C33: 0.9706458155094416 | D33: 4.194636682549293e-15 | E33: 1.1077348063236612e-12 | F33: ------
A34: CMPK2 | B34: RIGI | C34: 0.9260869565217392 | D34: 8.781167998950902e-11 | E34: 1.091920954905767e-08 | F34: RIG-I-like receptor signaling pathway
A35: CMPK2 | B35: RNF213 | C35: 0.9632370987409626 | D35: 4.818062889327373e-14 | E35: 1.1851684230660108e-11 | F35: ------
A36: CMPK2 | B36: ARF4 | C36: 0.9321739130434782 | D36: 3.511396462170555e-11 | E36: 4.995736505395481e-09 | F36: Endocytosis
... A53: GCDH, gcdH | B53: TBCEL | C53: 0.9005875313431764 | D53: 2.026558711408395e-09 | E53: 1.4429134572724818e-07 | F53: ------
A54: glnA, GLUL | B54: ------ | C54: -0.92006276 | D54: 2.0205140461564468e-10 | E54: 2.21278515393286e-08 | F54: ------
A55: ------ | B55: C3 | C55: 0.9034782608695652 | D55: 1.4852231299153265e-09 | E55: 1.1201022307664195e-07 | F55: Leishmaniasis;;Kaposi sarcoma-associated herpesvirus infection;;Chagas disease;;Coronavirus disease - COVID-19;;Viral carcinogenesis;;Tuberculosis;;Systemic lupus erythematosus;;Herpes simplex virus 1 infection;;Legionellosis;;Neuroactive ligand-receptor interaction;;Staphylococcus aureus infection;;Shigellosis;;Pertussis;;Alcoholic liver disease;;Phagosome;;Neutrophil extracellular trap formation;;Complement and coagulation cascades
A56: ------ | B56: A2M | C56: 0.9173913043478259 | D56: 2.8641475861943287e-10 | E56: 2.9181413877869725e-08 | F56: Complement and coagulation cascades
A57: ------ | B57: H6PD | C57: 0.914782608695652 | D57: 3.9823245501206764e-10 | E57: 3.8300649062372565e-08 | F57: Pentose phosphate pathway
A58: ------ | B58: RRBP1 | C58: 0.9069565217391304 | D58: 1.0085009676099369e-09 | E58: 8.201055087893742e-08 | F58: Protein processing in endoplasmic reticulum
A59: ------ | B59: SBNO, SNO, FGT1 | C59: 0.92 | D59: 2.0374246438472368e-10 | E59: 2.218994307625127e-08 | F59: ------
A60: UAP1 | B60: BCKDK | C60: 0.9226086956521738 | D60: 1.432448648763329e-10 | E60: 1.646398511717631e-08 | F60: ------
A61: UAP1 | B61: TMEM97 | C61: -0.90204692 | D61: 1.7343701248151794e-09 | E61: 1.2692085210892758e-07 | F61: Neuroactive ligand-receptor interaction
A62: UAP1 | B62: ------ | C62: 0.9078260869565216 | D62: 9.133169194063351e-10 | E62: 7.56730506539807e-08 | F62: ------
A63: UAP1 | B63: ACSM | C63: -0.9199655 | D63: 2.0467764673789144e-10 | E63: 2.2230469964333764e-08 | F63: Butanoate metabolism
A64: CTH | B64: CDH1 | C64: 0.9234782608695652 | D64: 1.2702470317295964e-10 | E64: 1.494783545043229e-08 | F64: Cell adhesion molecules
A65: CTH | B65: TMOD | C65: 0.9224818567363716 | D65: 1.4576091504471174e-10 | E65: 1.670453935100941e-08 | F65: Cytoskeleton in muscle cells
A66: CTH | B66: ------ | C66: 0.9014769112744248 | D66: 1.8436413540082415e-09 | E66: 1.3367838838737042e-07 | F66: ------
A67: CTH | B67: TBCEL | C67: 0.902327797104226 | D67: 1.6827005978644986e-09 | E67: 1.2359788084463133e-07 | F67: ------
A68: CTH | B68: AS3MT | C68: 0.9208695652173912 | D68: 1.8141058945837567e-10 | E68: 2.014678137021491e-08 | F68: Chemical carcinogenesis - reactive oxygen species
A69: APOF | B69: ------ | C69: 0.9533267130089376 | D69: 6.35376610447522e-13 | E69: 1.2963817193164542e-10 | F69: ------
A70: APOF | B70: MYCBP | C70: -0.90974366 | D70: 7.314086541438897e-10 | E70: 6.438434642124428e-08 | F70: ------
A71: APOF | B71: ACSM | C71: 0.9433962264150944 | D71: 5.062490688228913e-12 | E71: 8.523226593459342e-10 | F71: Butanoate metabolism
A72: APOF | B72: BCL6 | C72: 0.9088143991523012 | D72: 8.150225454302531e-10 | E72: 6.987513052086768e-08 | F72: FoxO signaling pathway
A73: H6PD | B73: CPN1 | C73: 0.9373913043478259 | D73: 1.492039280457665e-11 | E73: 2.332928982657776e-09 | F73: ------
A74: H6PD | B74: SBNO | C74: 0.962608695652174 | D74: 5.788561169509911e-14 | E74: 1.4150791904200376e-11 | F74: ------
A75: H6PD | B75: C3 | C75: 0.9452173913043478 | D75: 3.563267590026003e-12 | E75: 6.294388639285082e-10 | F75: Complement and coagulation cascades
A76: H6PD | B76: ABCA1 | C76: 0.9382608695652171 | D76: 1.2845258519229956e-11 | E76: 2.0573518416570323e-09 | F76: Fat digestion and absorption
A77: H6PD | B77: A2M | C77: 0.9582608695652172 | D77: 1.9022496036938712e-13 | E77: 4.2793028762755494e-11 | F77: Complement and coagulation cascades
A78: H6PD | B78: ------ | C78: 0.9145466621937078 | D78: 4.100699649564534e-10 | E78: 3.9343298302463064e-08 | F78: ------
A79: H6PD | B79: ------ | C79: 0.9113043478260868 | D79: 6.082201798284106e-10 | E79: 5.526544720302776e-08 | F79: ------
A80: ZNFX1 | B80: ------ | C80: 0.9619482723597156 | D80: 6.996419551288353e-14 | E80: 1.6791619580221267e-11 | F80: ------
A81: ZNFX1 | B81: MOV10 | C81: 0.9295345802522834 | D81: 5.2776199687343605e-11 | E81: 7.17256713169077e-09 | F81: ------
A82: ZNFX1 | B82: ------ | C82: 0.9468200345361898 | D82: 2.58983913647078e-12 | E82: 4.789140235477117e-10 | F82: ------
... A97: ZNFX1 | B97: ------ | C97: 0.9328115028081326 | D97: 3.1744359999501696e-11 | E97: 4.599204421872757e-09 | F97: ------
A98: INHBB | B98: SLC62A1 | C98: -0.90782609 | D98: 9.133169194063351e-10 | E98: 7.56730506539807e-08 | F98: ------
A99: ------ | B99: ------ | C99: 0.9436834317452903 | D99: 4.7934572757200075e-12 | E99: 8.174863497799938e-10 | F99: ------
A100: ------ | B100: ------ | C100: 0.9041096104140364 | D100: 1.3859631645747179e-09 | E100: 1.0573626805602348e-07 | F100: ------
A101: ------ | B101: ------ | C101: 0.9589041322573112 | D101: 1.608323491948575e-13 | E101: 3.638820379591732e-11 | F101: ------
A102: ------ | B102: CD9, TSPAN29 | C102: 0.928897608390756 | D102: 5.8092548429060794e-11 | E102: 7.761498674292842e-09 | F102: Hematopoietic cell lineage;;Virion - Hepatitis viruses
A103: ------ | B103: ------ | C103: 0.9662970439345784 | D103: 1.8788717392002492e-14 | E103: 4.832494833843352e-12 | F103: ------
A104: ------ | B104: ------ | C104: 0.9117472317693008 | D104: 5.768502802466689e-10 | E104: 5.3025232803908304e-08 | F104: ------
A105: ------ | B105: IFIT5 | C105: 0.9033943414103596 | D105: 1.4988879560435953e-09 | E105: 1.1282525443008421e-07 | F105: ------
A106: ------ | B106: ------ | C106: 0.9297520661157024 | D106: 5.106426623308228e-11 | E106: 6.9638782832994985e-09 | F106: ------
A107: ------ | B107: STAT4 | C107: 0.9054142418864952 | D107: 1.1995437261036109e-09 | E107: 9.500217869294605e-08 | F107: Pathways in cancer;;Inflammatory bowel disease;;Th1 and Th2 cell differentiation;;Hepatitis B;;JAK-STAT signaling pathway;;Necroptosis
A108: ------ | B108: RNF213 | C108: 0.9090514350704436 | D108: 7.929138609128622e-10 | E108: 6.872587417293142e-08 | F108: ------
A109: ------ | B109: SOCS3, CIS3 | C109: 0.9028049789415774 | D109: 1.5980903859748915e-09 | E109: 1.1848527226944921e-07 | F109: TNF signaling pathway;;Influenza A;;Prolactin signaling pathway;;Hepatitis C;;Herpes simplex virus 1 infection;;Adipocytokine signaling pathway;;JAK-STAT signaling pathway;;Osteoclast differentiation;;Insulin signaling pathway;;Ubiquitin mediated proteolysis;;Growth hormone synthesis, secretion and action;;Non-alcoholic fatty liver disease;;Type II diabetes mellitus;;Insulin resistance
A110: ------ | B110: DHX58, LGP2 | C110: 0.9251848629839058 | D110: 9.991942793568704e-11 | E110: 1.2308483540140071e-08 | F110: RIG-I-like receptor signaling pathway
... A114: ------ | B114: ------ | C114: 0.9323766256506464 | D114: 3.400918670663218e-11 | E114: 4.856056765899428e-09 | F114: ------
A115: GST, gst | B115: TAO | C115: -0.90778608 | D115: 9.175118132741388e-10 | E115: 7.586141391407256e-08 | F115: MAPK signaling pathway
A116: CFL | B116: SARS | C116: 0.9323766256506464 | D116: 3.400918670663218e-11 | E116: 4.856056765899428e-09 | F116: Aminoacyl-tRNA biosynthesis
A117: CFL | B117: KDM7A | C117: 0.9247499787386068 | D117: 1.0627821446582912e-10 | E117: 1.2970377268062567e-08 | F117: ------
A118: CFL | B118: serC | C118: 0.9208695652173912 | D118: 1.8141058945837567e-10 | E118: 2.014678137021491e-08 | F118: Glycine, serine and threonine metabolism
A119: CFL | B119: SLC7A9_15 | C119: 0.9069565217391304 | D119: 1.0085009676099369e-09 | E119: 8.201055087893742e-08 | F119: Protein digestion and absorption
A120: CFL | B120: ------ | C120: 0.9472550356750792 | D120: 2.370943676053147e-12 | E120: 4.489498407789749e-10 | F120: ------
A121: CFL | B121: RUNDC3 | C121: 0.9251526567366758 | D121: 1.0037828330081169e-10 | E121: 1.232654685492302e-08 | F121: ------
A122: CFL | B122: ------ | C122: 0.9353928465641688 | D122: 2.0883168682495256e-11 | E122: 3.1771789640434238e-09 | F122: ------
A123: CFL | B123: NEK1_4_5 | C123: 0.9367253972255092 | D123: 1.6709387728145013e-11 | E123: 2.5921217375286017e-09 | F123: ------
A124: ABCA1 | B124: A2M | C124: 0.942608695652174 | D124: 5.871718607937182e-12 | E124: 9.802045940831452e-10 | F124: Complement and coagulation cascades
A125: ABCA1 | B125: C3 | C125: 0.9434782608695652 | D125: 4.984286809250041e-12 | E125: 8.427500444222537e-10 | F125: Complement and coagulation cascades
A126: ABCA1 | B126: SBNO | C126: 0.9243478260869564 | D126: 1.1248113620991152e-10 | E126: 1.3436645985281124e-08 | F126: ------
A127: BRE1 | B127: MTFMT | C127: 0.9390778143169078 | D127: 1.1137237637019235e-11 | E127: 1.805764724962373e-09 | F127: Aminoacyl-tRNA biosynthesis
... A160: PLIN3 | B160: ------ | C160: 0.9008695652173913 | D160: 1.9668585414294794e-09 | E160: 1.4105823550391747e-07 | F160: ------
A161: PLIN3 | B161: PGLS | C161: -0.92869565 | D161: 5.987639321147553e-11 | E161: 7.94605022583415e-09 | F161: Pentose phosphate pathway
A162: PLIN3 | B162: LEP | C162: 0.9006305931541458 | D162: 2.017339233406672e-09 | E162: 1.4389442024302248e-07 | F162: AMPK signaling pathway
A163: PLIN3 | B163: ------ | C163: 0.9086956521739128 | D163: 8.263058014053957e-10 | E163: 7.038396158012023e-08 | F163: ------
A164: PLIN3 | B164: TLR3 | C164: 0.9169204869148556 | D164: 3.0421018836007535e-10 | E164: 3.075639011920603e-08 | F164: Toll-like receptor signaling pathway
A165: PK, pyk | B165: ACSM | C165: 0.9004510764607156 | D165: 2.0560246809174528e-09 | E165: 1.4586322087144922e-07 | F165: Butanoate metabolism
A166: IQGAP2_3 | B166: GPAT1_2 | C166: 0.92 | D166: 2.0374246438472368e-10 | E166: 2.218994307625127e-08 | F166: Glycerophospholipid metabolism
...

Sheet Sheet2
B1: Pathway Definition | E1: cor | F1: p_value | H1: gene_id_2 | I1: v | O1: Pathway Definition | P1: v | Q1: 富集因子
B2: Glycerophospholipid metabolism | E2: 0.9182608695652172 | F2: 2.559976932867316e-10 | H2: GPAT1 | I2: 3 | O2: Glycerophospholipid metabolism | P2: =COUNTIF(Sheet2!P:P,O2) -> 3 | Q2: =3/128 -> 0.0234375
B3: Regulation of actin cytoskeleton | E3: 0.9539130434782608 | F3: 5.544061620769688e-13 | H3: IQGAP2 | I3: 1 | O3: Regulation of actin cytoskeleton | P3: =COUNTIF(Sheet2!P:P,O3) -> 1 | Q3: =1/128 -> 0.0078125 | S3: 128
B4: Pathways in cancer | E4: 0.9041415793133986 | F4: 1.3810998931425756e-09 | H4: KLHL19 | I4: 2 | O4: Pathways in cancer | P4: =COUNTIF(Sheet2!P:P,O4) -> 2 | Q4: =2/128 -> 0.015625
B5: Pathways in cancer | E5: -0.90782609 | F5: 9.133169194063351e-10 | H5: KLHL19 | I5: 2 | O5: MAPK signaling pathway | P5: =COUNTIF(Sheet2!P:P,O5) -> 4 | Q5: =P5/R4 -> 0
B6: MAPK signaling pathway | E6: 0.9086560233231183 | F6: 8.301025200295228e-10 | H6: TAO | I6: 8 | O6: Complement and coagulation cascades | P6: =COUNTIF(Sheet2!P:P,O6) -> 8
B7: MAPK signaling pathway | E7: 0.944758680065971 | F7: 3.897158334612969e-12 | H7: TAO | I7: 8 | O7: Pentose phosphate pathway | P7: =COUNTIF(Sheet2!P:P,O7) -> 5
B8: Complement and coagulation cascades | E8: 0.914981539351194 | F8: 3.8849246873436316e-10 | H8: A2M | I8: 8 | O8: Toll-like receptor signaling pathway | P8: =COUNTIF(Sheet2!P:P,O8) -> 4
B9: Pentose phosphate pathway | E9: 0.904979364729009 | F9: 1.2590062516348594e-09 | H9: H6PD | I9: 5 | O9: RIG-I-like receptor signaling pathway | P9: =COUNTIF(Sheet2!P:P,O9) -> 12
B10: Glycerophospholipid metabolism | E10: 0.9019352246266048 | F10: 1.7553104076267547e-09 | H10: GPAT1_2 | I10: 3 | O10: Endocytosis | P10: =COUNTIF(Sheet2!P:P,O10) -> 10
B11: Pentose phosphate pathway | E11: 0.9284317835199702 | F11: 6.228161160432149e-11 | H11: H6PD | I11: 5 | O11: JAK-STAT signaling pathway | P11: =COUNTIF(Sheet2!P:P,O11) -> 11
B12: Toll-like receptor signaling pathway | E12: 0.9162132969960326 | F12: 3.3281795354592834e-10 | H12: TLR3 | I12: 4 | O12: Hematopoietic cell lineage | P12: =COUNTIF(Sheet2!P:P,O12) -> 8
B13: RIG-I-like receptor signaling pathway | E13: 0.961513395202229 | F13: 7.911944012726095e-14 | H13: DHX58 | I13: 12 | O13: Neuroactive ligand-receptor interaction | P13: =COUNTIF(Sheet2!P:P,O13) -> 1
B14: RIG-I-like receptor signaling pathway | E14: 0.9260869565217392 | F14: 8.781167998950902e-11 | H14: RIGI | I14: 12 | O14: Butanoate metabolism | P14: =COUNTIF(Sheet2!P:P,O14) -> 6
B15: Endocytosis | E15: 0.9321739130434782 | F15: 3.511396462170555e-11 | H15: ARF4 | I15: 10 | O15: Cell adhesion molecules | P15: =COUNTIF(Sheet2!P:P,O15) -> 2
B16: JAK-STAT signaling pathway | E16: 0.9417391304347826 | F16: 6.899695739958273e-12 | H16: STAT4 | I16: 11 | O16: Cytoskeleton in muscle cells | P16: =COUNTIF(Sheet2!P:P,O16) -> 3
B17: RIG-I-like receptor signaling pathway | E17: 0.9541204835249618 | F17: 5.280780226254028e-13 | H17: ZNFX1 | I17: 12 | O17: Chemical carcinogenesis - reactive oxygen species | P17: =COUNTIF(Sheet2!P:P,O17) -> 4
B18: Hematopoietic cell lineage | E18: 0.9904347826086956 | F18: 2.021573663113372e-20 | H18: CD9 | I18: 8 | O18: FoxO signaling pathway | P18: =COUNTIF(Sheet2!P:P,O18) -> 1
B19: Neuroactive ligand-receptor interaction | E19: -0.90204692 | F19: 1.7343701248151794e-09 | H19: TMEM97 | I19: 1 | O19: Fat digestion and absorption | P19: =COUNTIF(Sheet2!P:P,O19) -> 3
B20: Butanoate metabolism | E20: -0.9199655 | F20: 2.0467764673789144e-10 | H20: ACSM | I20: 6 | O20: Aminoacyl-tRNA biosynthesis | P20: =COUNTIF(Sheet2!P:P,O20) -> 4
B21: Cell adhesion molecules | E21: 0.9234782608695652 | F21: 1.2702470317295964e-10 | H21: CDH1 | I21: 2 | O21: Glycine, serine and threonine metabolism | P21: =COUNTIF(Sheet2!P:P,O21) -> 6
B22: Cytoskeleton in muscle cells | E22: 0.9224818567363716 | F22: 1.4576091504471174e-10 | H22: TMOD | I22: 3 | O22: Protein digestion and absorption | P22: =COUNTIF(Sheet2!P:P,O22) -> 4
B23: Chemical carcinogenesis - reactive oxygen species | E23: 0.9208695652173912 | F23: 1.8141058945837567e-10 | H23: AS3MT | I23: 4 | O23: Steroid biosynthesis | P23: =COUNTIF(Sheet2!P:P,O23) -> 1
B24: Butanoate metabolism | E24: 0.9433962264150944 | F24: 5.062490688228913e-12 | H24: ACSM | I24: 6 | O24: Growth hormone synthesis | P24: =COUNTIF(Sheet2!P:P,O24) -> 8
B25: FoxO signaling pathway | E25: 0.9088143991523012 | F25: 8.150225454302531e-10 | H25: BCL6 | I25: 1 | O25: Arginine and proline metabolism | P25: =COUNTIF(Sheet2!P:P,O25) -> 1
B26: Complement and coagulation cascades | E26: 0.9452173913043478 | F26: 3.563267590026003e-12 | H26: C3 | I26: 8 | O26: Circadian rhythm | P26: =COUNTIF(Sheet2!P:P,O26) -> 5
B27: Fat digestion and absorption | E27: 0.9382608695652171 | F27: 1.2845258519229956e-11 | H27: ABCA1 | I27: 3 | O27: AMPK signaling pathway | P27: =COUNTIF(Sheet2!P:P,O27) -> 1
B28: Complement and coagulation cascades | E28: 0.9582608695652172 | F28: 1.9022496036938712e-13 | H28: A2M | I28: 8 | O28: Cytosolic DNA-sensing pathway;;Lysosome | P28: =COUNTIF(Sheet2!P:P,O28) -> 1
B29: RIG-I-like receptor signaling pathway | E29: 0.9382340147890388 | F29: 1.2905221258087412e-11 | H29: DHX58 | I29: 12 | O29: Glucagon signaling pathway | P29: =COUNTIF(Sheet2!P:P,O29) -> 3
B30: RIG-I-like receptor signaling pathway | E30: 0.904979364729009 | F30: 1.2590062516348594e-09 | H30: RIGI | I30: 12 | O30: Protein processing in endoplasmic reticulum | P30: =COUNTIF(Sheet2!P:P,O30) -> 1
B31: Hematopoietic cell lineage | E31: 0.952815852052503 | F31: 7.144938666467851e-13 | H31: CD9 | I31: 8 | O31: Glycosphingolipid biosynthesis - ganglio series | P31: =COUNTIF(Sheet2!P:P,O31) -> 1
B32: JAK-STAT signaling pathway | E32: 0.9184605566110844 | F32: 2.4943818313513563e-10 | H32: STAT4 | I32: 11 | O32: Cell adhesion molecule | P32: =COUNTIF(Sheet2!P:P,O32) -> 1
B33: Endocytosis | E33: 0.9088932591463856 | F33: 8.076062540928977e-10 | H33: ARF4 | I33: 10 | O33: Necroptosis | P33: =COUNTIF(Sheet2!P:P,O33) -> 1
B34: MAPK signaling pathway | E34: -0.90778608 | F34: 9.175118132741388e-10 | H34: TAO | I34: 3 | O34: Systemic lupus erythematosus | P34: =COUNTIF(Sheet2!P:P,O34) -> 1
B35: Aminoacyl-tRNA biosynthesis | E35: 0.9323766256506464 | F35: 3.400918670663218e-11 | H35: SARS | I35: 3 | O35: Parathyroid hormone synthesis | P35: =COUNTIF(Sheet2!P:P,O35) -> 1
B36: Glycine, serine and threonine metabolism | E36: 0.9208695652173912 | F36: 1.8141058945837567e-10 | H36: serC
B37: Protein digestion and absorption | E37: 0.9069565217391304 | F37: 1.0085009676099369e-09 | H37: SLC7A9_15
B38: Complement and coagulation cascades | E38: 0.942608695652174 | F38: 5.871718607937182e-12 | H38: A2M
B39: Complement and coagulation cascades | E39: 0.9434782608695652 | F39: 4.984286809250041e-12 | H39: C3
B40: Aminoacyl-tRNA biosynthesis | E40: 0.9390778143169078 | F40: 1.1137237637019235e-11 | H40: MTFMT
B41: Fat digestion and absorption | E41: 0.9173913043478259 | F41: 2.8641475861943287e-10 | H41: ABCA1
B42: Steroid biosynthesis | E42: 0.9006308618587474 | F42: 2.0172818228707185e-09 | H42: CYP24A1
B43: Toll-like receptor signaling pathway | E43: 0.9216880792362122 | F43: 1.6243373805819622e-10 | H43: TLR3
B44: Endocytosis | E44: 0.928897608390756 | F44: 5.8092548429060794e-11 | H44: ARF4
B45: RIG-I-like receptor signaling pathway | E45: 0.9188954337685707 | F45: 2.3567469503474303e-10 | H45: RIG
B46: RIG-I-like receptor signaling pathway | E46: 0.9393214441061328 | F46: 1.066922223300793e-11 | H46: DHX58
B47: JAK-STAT signaling pathway | E47: 0.9471624490051808 | F47: 2.4160789725256558e-12 | H47: STAT4
... B53: Circadian rhythm | E53: 0.9730434782608696 | F53: 1.6613358922833595e-15 | H53: CRY
B54: Pentose phosphate pathway | E54: -0.92869565 | F54: 5.987639321147553e-11 | H54: PGLS
B55: AMPK signaling pathway | E55: 0.9006305931541458 | F55: 2.017339233406672e-09 | H55: LEP
B56: Toll-like receptor signaling pathway | E56: 0.9169204869148556 | F56: 3.0421018836007535e-10 | H56: TLR3
B57: Butanoate metabolism | E57: 0.9004510764607156 | F57: 2.0560246809174528e-09 | H57: ACSM
B58: Glycerophospholipid metabolism | E58: 0.92 | F58: 2.0374246438472368e-10 | H58: GPAT1_2
B59: Circadian rhythm | E59: 0.9156521739130434 | F59: 3.5721927946771954e-10 | H59: CRY
B60: Cytosolic DNA-sensing pathway;;Lysosome | E60: 0.9130434782608696 | F60: 4.932371263790944e-10 | H60: DNASE2
B61: Aminoacyl-tRNA biosynthesis | E61: 0.9175192379869308 | F61: 2.817443798682755e-10 | H61: SARS
B62: Butanoate metabolism | E62: 0.9053497709261304 | F62: 1.2081962077614415e-09 | H62: ACSM
B63: Glucagon signaling pathway | E63: 0.9104787697438584 | F63: 6.7083117028188e-10 | H63: SIK1
B64: Complement and coagulation cascades | E64: 0.9443478260869566 | F64: 4.2199693709012985e-12 | H64: C3
B65: Growth hormone synthesis | E65: 0.907351022183558 | F65: 9.642633754576707e-10 | H65: IRS2
B66: Protein digestion and absorption | E66: 0.9023701017840912 | F66: 1.6750397357583499e-09 | H66: SLC7A9_15
B67: Glycine, serine and threonine metabolism | E67: 0.9210698195560024 | F67: 1.7659165257580542e-10 | H67: serC
B68: Hematopoietic cell lineage | E68: 0.9226086956521738 | F68: 1.432448648763329e-10 | H68: CD9
B69: Hematopoietic cell lineage | E69: 0.9597565672188632 | F69: 1.2822296003531328e-13 | H69: CD9
B70: RIG-I-like receptor signaling pathway | E70: 0.9558312480288318 | F70: 3.504528897044736e-13 | H70: DHX58
... B74: Toll-like receptor signaling pathway | E74: 0.9257889229028794 | F74: 9.165660721894822e-11 | H74: TLR3
B75: Pentose phosphate pathway | E75: -0.90695652 | F75: 1.0085009676099369e-09 | H75: PGLS
B76: Cell adhesion molecules | E76: 0.9031979299847508 | F76: 1.531313898308961e-09 | H76: CLDN
B77: Glucagon signaling pathway | E77: 0.9091718624188672 | F77: 7.818898115795342e-10 | H77: SIK1
B78: Protein processing in endoplasmic reticulum | E78: 0.9452173913043478 | F78: 3.563267590026003e-12 | H78: MOGS
B79: RIG-I-like receptor signaling pathway | E79: 0.9160140118828548 | F79: 3.4130636677342594e-10 | H79: DHX58
B80: Endocytosis | E80: 0.9079836608276372 | F80: 8.969623148351493e-10 | H80: ARF4
B81: JAK-STAT signaling pathway | E81: 0.919730454714722 | F81: 2.111518797157708e-10 | H81: STAT4
B82: Fat digestion and absorption | E82: 0.900152464902914 | F82: 2.121856775627446e-09 | H82: ABCA1
B83: Hematopoietic cell lineage | E83: 0.9319123150420694 | F83: 3.6587557326591564e-11 | H83: CD9
B84: Complement and coagulation cascades | E84: 0.9243478260869564 | F84: 1.1248113620991152e-10 | H84: C3
B85: Growth hormone synthesis | E85: 0.9032398560990637 | F85: 1.5243396714104514e-09 | H85: IRS2
B86: Circadian rhythm | E86: 0.9575995007848525 | F86: 2.2543958000051585e-13 | H86: CRY
B87: MAPK signaling pathway | E87: -0.90648116 | F87: 1.0642300223289413e-09 | H87: TAO
B88: Circadian rhythm | E88: 0.9095652173913044 | F88: 7.468374341361151e-10 | H88: CRY
B89: Growth hormone synthesis | E89: 0.9088932591463856 | F89: 8.076062540928977e-10 | H89: IRS2
B90: Glycine, serine and threonine metabolism | E90: 0.9386690753141644 | F90: 1.1964275973932314e-11 | H90: serC
B91: Circadian rhythm | E91: 0.9212702045947172 | F91: 1.7188550656018898e-10 | H91: CRY
B92: Protein digestion and absorption | E92: 0.9047412774112428 | F92: 1.292673797155468e-09 | H92: SLC7A9_15
B93: Growth hormone synthesis | E93: 0.951511220580044 | F93: 9.586139874606517e-13 | H93: IRS2
B94: Glycine, serine and threonine metabolism | E94: 0.9191304347826086 | F94: 2.2852585168619282e-10 | H94: serC
B95: Growth hormone synthesis | E95: 0.9175551225134102 | F95: 2.8044676689913267e-10 | H95: SOCS3
B96: Glycosphingolipid biosynthesis - ganglio series | E96: 0.9058491190439816 | F96: 1.1426234171424432e-09 | H96: SLC33A1
B97: Growth hormone synthesis | E97: 0.9334493257938232 | F97: 2.8668596748479253e-11 | H97: IRS2
B98: Glycine, serine and threonine metabolism | E98: 0.9028049789415774 | F98: 1.5980903859748915e-09 | H98: serC
B99: RIG-I-like receptor signaling pathway | E99: 0.9380300286979684 | F99: 1.3369018078703794e-11 | H99: DHX58
... B102: JAK-STAT signaling pathway | E102: 0.9226086956521738 | F102: 1.432448648763329e-10 | H102: STAT4
B103: Butanoate metabolism | E103: -0.90602662 | F103: 1.1200980828551804e-09 | H103: ACSM
B104: Cell adhesion molecule | E104: -0.91391304 | F104: 4.434455227965945e-10 | H104: CDH1
B105: Necroptosis | E105: 0.9086956521739128 | F105: 8.263058014053957e-10 | H105: FTH1
B106: Protein digestion and absorption | E106: 0.9191304347826086 | F106: 2.2852585168619282e-10 | H106: SLC7A9_15
B107: Cytoskeleton in muscle cells | E107: 0.946504821755548 | F107: 2.7597081187613112e-12 | H107: TMOD
B108: Chemical carcinogenesis - reactive oxygen species | E108: 0.9052173913043478 | F108: 1.2261390339743372e-09 | H108: AS3MT
B109: Systemic lupus erythematosus | E109: -0.90107958 | F109: 1.9234373044131158e-09 | H109: C7
B110: JAK-STAT signaling pathway | E110: -0.91019789 | F110: 6.934215156643856e-10 | H110: LEP
...

Sheet Sheet3
A1: Pathway Definition | B1: v | C1: 富集
A2: Glycerophospholipid metabolism | B2: =COUNTIF(Sheet2!B:B,A2) -> 3 | C2: =B2/$A$36 -> 0.0234375
A3: Regulation of actin cytoskeleton | B3: =COUNTIF(Sheet2!B:B,A3) -> 1 | C3: =B3/$A$36 -> 0.0078125
A4: Pathways in cancer | B4: =COUNTIF(Sheet2!B:B,A4) -> 2 | C4: =B4/$A$36 -> 0.015625
A5: MAPK signaling pathway | B5: =COUNTIF(Sheet2!B:B,A5) -> 4 | C5: =B5/$A$36 -> 0.03125
A6: Complement and coagulation cascades | B6: =COUNTIF(Sheet2!B:B,A6) -> 8 | C6: =B6/$A$36 -> 0.0625
A7: Pentose phosphate pathway | B7: =COUNTIF(Sheet2!B:B,A7) -> 5 | C7: =B7/$A$36 -> 0.0390625
A8: Toll-like receptor signaling pathway | B8: =COUNTIF(Sheet2!B:B,A8) -> 4 | C8: =B8/$A$36 -> 0.03125
A9: RIG-I-like receptor signaling pathway | B9: =COUNTIF(Sheet2!B:B,A9) -> 12 | C9: =B9/$A$36 -> 0.09375
A10: Endocytosis | B10: =COUNTIF(Sheet2!B:B,A10) -> 10 | C10: =B10/$A$36 -> 0.078125
A11: JAK-STAT signaling pathway | B11: =COUNTIF(Sheet2!B:B,A11) -> 11 | C11: =B11/$A$36 -> 0.0859375
A12: Hematopoietic cell lineage | B12: =COUNTIF(Sheet2!B:B,A12) -> 8 | C12: =B12/$A$36 -> 0.0625
A13: Neuroactive ligand-receptor interaction | B13: =COUNTIF(Sheet2!B:B,A13) -> 1 | C13: =B13/$A$36 -> 0.0078125
... A35: Parathyroid hormone synthesis | B35: =COUNTIF(Sheet2!B:B,A35) -> 1 | C35: =B35/$A$36 -> 0.0078125
A36: 128

Sheet A列 
A1: gene_id_1 | B1: gene_id_2 | C1: cor | D1: p_value | E1: q_value | G1: KO id | J1: Pathway Definition
A2: Syo_10G0000320 | B2: Syo_19G0002020 | C2: 0.9182608695652172 | D2: 2.559976932867316e-10 | E2: 2.6844400875980894e-08 | G2: K00629 | H2: EIF2AK4 | J2: Glycerophospholipid metabolism
A3: Syo_10G0000320 | B3: Syo_16G0000280 | C3: 0.9539130434782608 | D3: 5.544061620769688e-13 | E3: 1.148988581725972e-10 | G3: K05767 | H3: EIF2AK4 | J3: Glycerophospholipid metabolism
A4: Syo_10G0000400 | B4: Syo_7G0008210 | C4: 0.9041415793133986 | D4: 1.3810998931425756e-09 | E4: 1.0573626805602348e-07 | G4: K10456 | H4: CYP1C | J4: Ubiquitin mediated proteolysis
A5: Syo_10G0000490 | B5: Syo_7G0008210 | C5: -0.90782609 | D5: 9.133169194063351e-10 | E5: 7.56730506539807e-08 | G5: K10456 | H5: SRP14 | J5: Ubiquitin mediated proteolysis
A6: Syo_10G0002180 | B6: Syo_4G0012430 | C6: 0.9086560233231183 | D6: 8.301025200295228e-10 | E6: 7.040427144182644e-08 | G6: K04429 | H6: NID | J6: MAPK signaling pathway
A7: Syo_10G0004220 | B7: Syo_4G0012430 | C7: 0.944758680065971 | D7: 3.897158334612969e-12 | E7: 6.823137899320946e-10 | G7: K04429 | H7: CLIC4 | J7: MAPK signaling pathway
A8: Syo_10G0004300 | B8: Syo_17G0004570 | C8: 0.914981539351194 | D8: 3.8849246873436316e-10 | E8: 3.754682230567203e-08 | G8: K03910 | H8: HHAT | J8: Complement and coagulation cascades
A9: Syo_10G0004300 | B9: Syo_11G0007640 | C9: 0.904979364729009 | D9: 1.2590062516348594e-09 | E9: 9.852566168021961e-08 | G9: K13937 | H9: HHAT | J9: Pentose phosphate pathway
A10: Syo_10G0004960 | B10: Syo_19G0002020 | C10: 0.9019352246266048 | D10: 1.7553104076267547e-09 | E10: 1.2797882280389303e-07 | G10: K00629 | H10: GREB1 | J10: Glycerophospholipid metabolism
A11: Syo_10G0005220 | B11: Syo_11G0007640 | C11: 0.9284317835199702 | D11: 6.228161160432149e-11 | E11: 8.155585960014641e-09 | G11: K13937 | H11: ITPK | J11: Pentose phosphate pathway
A12: Syo_10G0005220 | B12: Syo_5G0001480 | C12: 0.9162132969960326 | D12: 3.3281795354592834e-10 | E12: 3.3139518827163324e-08 | G12: K05401 | H12: ITPK | J12: Kaposi sarcoma-associated herpesvirus infection;;Influenza A;;Human papillomavirus infection;;Hepatitis C;;Hepatitis B;;Herpes simplex virus 1 infection;;Toll-like receptor signaling pathway;;Coronavirus disease - COVID-19;;Necroptosis
A13: Syo_10G0005840 | B13: Syo_6G0008710 | C13: 0.961513395202229 | D13: 7.911944012726095e-14 | E13: 1.887416952232221e-11 | G13: K12649 | H13: CMPK2 | J13: RIG-I-like receptor signaling pathway
A14: Syo_10G0005840 | B14: Syo_2G0017470 | C14: 0.9260869565217392 | D14: 8.781167998950902e-11 | E14: 1.091920954905767e-08 | G14: K12646 | H14: CMPK2 | J14: RIG-I-like receptor signaling pathway
A15: Syo_10G0005840 | B15: Syo_9G0005750 | C15: 0.9321739130434782 | D15: 3.511396462170555e-11 | E15: 4.995736505395481e-09 | G15: K07939 | H15: CMPK2 | J15: RIG-I-like receptor signaling pathway
A16: Syo_10G0005840 | B16: Syo_8G0001620 | C16: 0.9417391304347826 | D16: 6.899695739958273e-12 | E16: 1.1373838733253551e-09 | G16: K11222 | H16: CMPK2 | J16: RIG-I-like receptor signaling pathway
A17: Syo_10G0005840 | B17: Syo_11G0009280 | C17: 0.9541204835249618 | D17: 5.280780226254028e-13 | E17: 1.1086393642964577e-10 | G17: K27391 | H17: CMPK2 | J17: RIG-I-like receptor signaling pathway
A18: Syo_10G0005840 | B18: Syo_6G0011980 | C18: 0.9904347826086956 | D18: 2.021573663113372e-20 | E18: 5.64047625487968e-18 | G18: K06460 | H18: CMPK2 | J18: RIG-I-like receptor signaling pathway
A19: Syo_11G0005720 | B19: Syo_17G0004000 | C19: -0.90204692 | D19: 1.7343701248151794e-09 | E19: 1.2692085210892758e-07 | G19: K26171 | H19: UAP1 | J19: Neuroactive ligand-receptor interaction
A20: Syo_11G0005720 | B20: Syo_7G0008860 | C20: -0.9199655 | D20: 2.0467764673789144e-10 | E20: 2.2230469964333764e-08 | G20: K01896 | H20: UAP1 | J20: Butanoate metabolism
A21: Syo_11G0005950 | B21: Syo_3G0010330 | C21: 0.9234782608695652 | D21: 1.2702470317295964e-10 | E21: 1.494783545043229e-08 | G21: K05689 | H21: CTH | J21: Cell adhesion molecules;;Thyroid cancer;;Hippo signaling pathway;;Endometrial cancer;;Rap1 signaling pathway;;Pathways in cancer;;Melanoma;;Bladder cancer;;Apelin signaling pathway;;Gastric cancer;;Bacterial invasion of epithelial cells;;Adherens junction
A22: Syo_11G0005950 | B22: Syo_5G0002040 | C22: 0.9224818567363716 | D22: 1.4576091504471174e-10 | E22: 1.670453935100941e-08 | G22: K10370 | H22: CTH | J22: Cytoskeleton in muscle cells
A23: Syo_11G0005950 | B23: Syo_5G0005350 | C23: 0.9208695652173912 | D23: 1.8141058945837567e-10 | E23: 2.014678137021491e-08 | G23: K07755 | H23: CTH | J23: Chemical carcinogenesis - reactive oxygen species
A24: Syo_11G0006260 | B24: Syo_7G0008860 | C24: 0.9433962264150944 | D24: 5.062490688228913e-12 | E24: 8.523226593459342e-10 | G24: K01896 | H24: APOF | J24: Butanoate metabolism
A25: Syo_11G0006260 | B25: Syo_7G0001590 | C25: 0.9088143991523012 | D25: 8.150225454302531e-10 | E25: 6.987513052086768e-08 | G25: K15618 | H25: APOF | J25: Chemical carcinogenesis - receptor activation;;FoxO signaling pathway;;Transcriptional misregulation in cancer
A26: Syo_11G0007640 | B26: Syo_5G0009630 | C26: 0.9452173913043478 | D26: 3.563267590026003e-12 | E26: 6.294388639285082e-10 | G26: K03990 | H26: H6PD | J26: Leishmaniasis;;Kaposi sarcoma-associated herpesvirus infection;;Chagas disease;;Coronavirus disease - COVID-19;;Viral carcinogenesis;;Tuberculosis;;Systemic lupus erythematosus;;Herpes simplex virus 1 infection;;Legionellosis;;Neuroactive ligand-receptor interaction;;Staphylococcus aureus infection;;Shigellosis;;Pertussis;;Alcoholic liver disease;;Phagosome;;Neutrophil extracellular trap formation;;Complement and coagulation cascades
A27: Syo_11G0007640 | B27: Syo_13G0004660 | C27: 0.9382608695652171 | D27: 1.2845258519229956e-11 | E27: 2.0573518416570323e-09 | G27: K05641 | H27: H6PD | J27: Efferocytosis;;Lipid and atherosclerosis;;ABC transporters;;Fat digestion and absorption;;Cholesterol metabolism
A28: Syo_11G0007640 | B28: Syo_17G0004570 | C28: 0.9582608695652172 | D28: 1.9022496036938712e-13 | E28: 4.2793028762755494e-11 | G28: K03910 | H28: H6PD | J28: Complement and coagulation cascades
A29: Syo_11G0009280 | B29: Syo_6G0008710 | C29: 0.9382340147890388 | D29: 1.2905221258087412e-11 | E29: 2.058604395474424e-09 | G29: K12649 | H29: ZNFX1 | J29: RIG-I-like receptor signaling pathway
A30: Syo_11G0009280 | B30: Syo_2G0017470 | C30: 0.904979364729009 | D30: 1.2590062516348594e-09 | E30: 9.852566168021961e-08 | G30: K12646 | H30: ZNFX1 | J30: RIG-I-like receptor signaling pathwaypathway
A31: Syo_11G0009280 | B31: Syo_6G0011980 | C31: 0.952815852052503 | D31: 7.144938666467851e-13 | E31: 1.4355508957836334e-10 | G31: K06460 | H31: ZNFX1 | J31: Hematopoietic cell lineage;;Virion - Hepatitis viruses
A32: Syo_11G0009280 | B32: Syo_8G0001620 | C32: 0.9184605566110844 | D32: 2.4943818313513563e-10 | E32: 2.622621621642269e-08 | G32: K11222 | H32: ZNFX1 | J32: Pathways in cancer;;Inflammatory bowel disease;;Th1 and Th2 cell differentiation;;Hepatitis B;;JAK-STAT signaling pathway;;Necroptosis
A33: Syo_11G0009280 | B33: Syo_9G0005750 | C33: 0.9088932591463856 | D33: 8.076062540928977e-10 | E33: 6.954132762206032e-08 | G33: K07939 | H33: ZNFX1 | J33: Endocytosis
A34: Syo_12G0007510 | B34: Syo_4G0012430 | C34: -0.90778608 | D34: 9.175118132741388e-10 | E34: 7.586141391407256e-08 | G34: K04429 | H34: GST, gst | J34: MAPK signaling pathway
A35: Syo_13G0001610 | B35: Syo_17G0005790 | C35: 0.9323766256506464 | D35: 3.400918670663218e-11 | E35: 4.856056765899428e-09 | G35: K01875 | H35: CFL | J35: Aminoacyl-tRNA biosynthesis
A36: Syo_13G0001610 | B36: Syo_4G0002620 | C36: 0.9208695652173912 | D36: 1.8141058945837567e-10 | E36: 2.014678137021491e-08 | G36: K00831 | H36: CFL | J36: Cysteine and methionine metabolism;;Vitamin B6 metabolism;;Glycine, serine and threonine metabolism;;Biosynthesis of cofactors
A37: Syo_13G0001610 | B37: Syo_3G0006730 | C37: 0.9069565217391304 | D37: 1.0085009676099369e-09 | E37: 8.201055087893742e-08 | G37: K13868 | H37: CFL | J37: Protein digestion and absorption
A38: Syo_13G0004660 | B38: Syo_17G0004570 | C38: 0.942608695652174 | D38: 5.871718607937182e-12 | E38: 9.802045940831452e-10 | G38: K03910 | H38: ABCA1 | J38: Complement and coagulation cascades
A39: Syo_13G0004660 | B39: Syo_5G0009630 | C39: 0.9434782608695652 | D39: 4.984286809250041e-12 | E39: 8.427500444222537e-10 | G39: K03990 | H39: ABCA1 | J39: Leishmaniasis;;Kaposi sarcoma-associated herpesvirus infection;;Chagas disease;;Coronavirus disease - COVID-19;;Viral carcinogenesis;;Tuberculosis;;Systemic lupus erythematosus;;Herpes simplex virus 1 infection;;Legionellosis;;Neuroactive ligand-receptor interaction;;Staphylococcus aureus infection;;Shigellosis;;Pertussis;;Alcoholic liver disease;;Phagosome;;Neutrophil extracellular trap formation;;Complement and coagulation cascades
A40: Syo_13G0006150 | B40: Syo_3G0008660 | C40: 0.9390778143169078 | D40: 1.1137237637019235e-11 | E40: 1.805764724962373e-09 | G40: K00604 | H40: BRE1 | J40: Aminoacyl-tRNA biosynthesis
A41: Syo_14G0000680 | B41: Syo_5G0008510 | C41: 0.9173913043478259 | D41: 2.8641475861943287e-10 | E41: 2.9181413877869725e-08 | G41: K05641 | H41: CYP27B1 | J41: Efferocytosis;;Lipid and atherosclerosis;;ABC transporters;;Fat digestion and absorption;;Cholesterol metabolism
A42: Syo_14G0005380 | B42: Syo_U0001160 | C42: 0.9006308618587474 | D42: 2.0172818228707185e-09 | E42: 1.4389442024302248e-07 | G42: K07436 | H42: TDO2, kynA | J42: MicroRNAs in cancer;;Parathyroid hormone synthesis, secretion and action;;Steroid biosynthesis
A43: Syo_15G0004360 | B43: Syo_5G0001480 | C43: 0.9216880792362122 | D43: 1.6243373805819622e-10 | E43: 1.8401621794567048e-08 | G43: K05401 | H43: MOV10 | J43: Kaposi sarcoma-associated herpesvirus infection;;Influenza A;;Human papillomavirus infection;;Hepatitis C;;Hepatitis B;;Herpes simplex virus 1 infection;;Toll-like receptor signaling pathway;;Coronavirus disease - COVID-19;;Necroptosis
A44: Syo_15G0004360 | B44: Syo_9G0005750 | C44: 0.928897608390756 | D44: 5.8092548429060794e-11 | E44: 7.761498674292842e-09 | G44: K07939 | H44: MOV10 | J44: Endocytosis
A45: Syo_15G0004360 | B45: Syo_2G0017470 | C45: 0.9188954337685707 | D45: 2.3567469503474303e-10 | E45: 2.484527315706054e-08 | G45: K12646 | H45: MOV10 | J45: Influenza A;;Measles;;Hepatitis C;;Hepatitis B;;Herpes simplex virus 1 infection;;Epstein-Barr virus infection;;RIG-I-like receptor signaling pathway;;Cytosolic DNA-sensing pathway;;Coronavirus disease - COVID-19;;NF-kappa B signaling pathway
A46: Syo_15G0004360 | B46: Syo_6G0008710 | C46: 0.9393214441061328 | D46: 1.066922223300793e-11 | E46: 1.7370153747227614e-09 | G46: K12649 | H46: MOV10 | J46: RIG-I-like receptor signaling pathway
... A53: Syo_15G0004450 | B53: Syo_22G0004460 | C53: 0.9730434782608696 | D53: 1.6613358922833595e-15 | E53: 4.477158477494415e-13 | G53: K02295 | H53: RIMKLB, NAAGS-I | J53: Circadian rhythm
A54: Syo_15G0006370 | B54: Syo_6G0004160 | C54: -0.92869565 | D54: 5.987639321147553e-11 | E54: 7.94605022583415e-09 | G54: K01057 | H54: PLIN3 | J54: Pentose phosphate pathway
A55: Syo_15G0006370 | B55: Syo_9G0005480 | C55: 0.9006305931541458 | D55: 2.017339233406672e-09 | E55: 1.4389442024302248e-07 | G55: K05424 | H55: PLIN3 | J55: Adipocytokine signaling pathway;;Neuroactive ligand-receptor interaction;;JAK-STAT signaling pathway;;Cytokine-cytokine receptor interaction;;Non-alcoholic fatty liver disease;;AMPK signaling pathway
A56: Syo_15G0006370 | B56: Syo_5G0001480 | C56: 0.9169204869148556 | D56: 3.0421018836007535e-10 | E56: 3.075639011920603e-08 | G56: K05401 | H56: PLIN3 | J56: Kaposi sarcoma-associated herpesvirus infection;;Influenza A;;Human papillomavirus infection;;Hepatitis C;;Hepatitis B;;Herpes simplex virus 1 infection;;Toll-like receptor signaling pathway;;Coronavirus disease - COVID-19;;Necroptosis
A57: Syo_16G0000160 | B57: Syo_7G0008860 | C57: 0.9004510764607156 | D57: 2.0560246809174528e-09 | E57: 1.4586322087144922e-07 | G57: K01896 | H57: PK, pyk | J57: Butanoate metabolism
A58: Syo_16G0000280 | B58: Syo_19G0002020 | C58: 0.92 | D58: 2.0374246438472368e-10 | E58: 2.218994307625127e-08 | G58: K00629 | H58: IQGAP2_3 | J58: Glycerophospholipid metabolism;;Glycerolipid metabolism
A59: Syo_16G0000280 | B59: Syo_22G0004460 | C59: 0.9156521739130434 | D59: 3.5721927946771954e-10 | E59: 3.4950310507224364e-08 | G59: K02295 | H59: IQGAP2_3 | J59: Circadian rhythm
A60: Syo_16G0000660 | B60: Syo_16G0001500 | C60: 0.9130434782608696 | D60: 4.932371263790944e-10 | E60: 4.6090528681680086e-08 | G60: K01158 | H60: SRSF10, FUSIP1 | J60: Cytosolic DNA-sensing pathway;;Lysosome
A61: Syo_16G0001900 | B61: Syo_17G0005790 | C61: 0.9175192379869308 | D61: 2.817443798682755e-10 | E61: 2.9004977808055925e-08 | G61: K01875 | H61: RUNDC3 | J61: Aminoacyl-tRNA biosynthesis
A62: Syo_17G0004000 | B62: Syo_7G0008860 | C62: 0.9053497709261304 | D62: 1.2081962077614415e-09 | E62: 9.53050756853665e-08 | G62: K01896 | H62: TMEM97, S2R | J62: Butanoate metabolism
A63: Syo_17G0004570 | B63: Syo_8G0007010 | C63: 0.9104787697438584 | D63: 6.7083117028188e-10 | E63: 6.026109219184084e-08 | G63: K19008 | H63: A2M | J63: Glucagon signaling pathway
A64: Syo_17G0004570 | B64: Syo_5G0009630 | C64: 0.9443478260869566 | D64: 4.2199693709012985e-12 | E64: 7.259542516247006e-10 | G64: K03990 | H64: A2M | J64: Leishmaniasis;;Kaposi sarcoma-associated herpesvirus infection;;Chagas disease;;Coronavirus disease - COVID-19;;Viral carcinogenesis;;Tuberculosis;;Systemic lupus erythematosus;;Herpes simplex virus 1 infection;;Legionellosis;;Neuroactive ligand-receptor interaction;;Staphylococcus aureus infection;;Shigellosis;;Pertussis;;Alcoholic liver disease;;Phagosome;;Neutrophil extracellular trap formation;;Complement and coagulation cascades
A65: Syo_17G0005790 | B65: Syo_5G0004990 | C65: 0.907351022183558 | D65: 9.642633754576707e-10 | E65: 7.92291367216578e-08 | G65: K07187 | H65: SARS, serS | J65: MicroRNAs in cancer;;Insulin resistance;;Alzheimer disease;;FoxO signaling pathway;;Adipocytokine signaling pathway;;Regulation of lipolysis in adipocytes;;Insulin signaling pathway;;AMPK signaling pathway;;cGMP-PKG signaling pathway;;Longevity regulating pathway - multiple species;;Longevity regulating pathway;;Growth hormone synthesis, secretion and action;;Non-alcoholic fatty liver disease;;Type II diabetes mellitus;;Autophagy - animal
A66: Syo_17G0005790 | B66: Syo_3G0006730 | C66: 0.9023701017840912 | D66: 1.6750397357583499e-09 | E66: 1.2326450379796505e-07 | G66: K13868 | H66: SARS, serS | J66: Protein digestion and absorption
A67: Syo_17G0005790 | B67: Syo_4G0002620 | C67: 0.9210698195560024 | D67: 1.7659165257580542e-10 | E67: 1.972256503400024e-08 | G67: K00831 | H67: SARS, serS | J67: Cysteine and methionine metabolism;;Vitamin B6 metabolism;;Glycine, serine and threonine metabolism;;Biosynthesis of cofactors
A68: Syo_18G0002200 | B68: Syo_6G0011980 | C68: 0.9226086956521738 | D68: 1.432448648763329e-10 | E68: 1.646398511717631e-08 | G68: K06460 | H68: PARP7_11_12 | J68: Hematopoietic cell lineage;;Virion - Hepatitis viruses
A69: Syo_19G0001310 | B69: Syo_6G0011980 | C69: 0.9597565672188632 | D69: 1.2822296003531328e-13 | E69: 2.9517822587021486e-11 | G69: K06460 | H69: RNF213 | J69: Hematopoietic cell lineage;;Virion - Hepatitis viruses
A70: Syo_19G0001310 | B70: Syo_6G0008710 | C70: 0.9558312480288318 | D70: 3.504528897044736e-13 | E70: 7.540084638680006e-11 | G70: K12649 | H70: RNF213 | J70: RIG-I-like receptor signaling pathway
... A74: Syo_19G0001310 | B74: Syo_5G0001480 | C74: 0.9257889229028794 | D74: 9.165660721894822e-11 | E74: 1.1361534321217219e-08 | G74: K05401 | H74: RNF213 | J74: Kaposi sarcoma-associated herpesvirus infection;;Influenza A;;Human papillomavirus infection;;Hepatitis C;;Hepatitis B;;Herpes simplex virus 1 infection;;Toll-like receptor signaling pathway;;Coronavirus disease - COVID-19;;Necroptosis
A75: Syo_19G0002000 | B75: Syo_6G0004160 | C75: -0.90695652 | D75: 1.0085009676099369e-09 | E75: 8.201055087893742e-08 | G75: K01057 | H75: CPN1 | J75: Pentose phosphate pathway
A76: Syo_19G0002000 | B76: Syo_23G0006800 | C76: 0.9031979299847508 | D76: 1.531313898308961e-09 | E76: 1.1439363928512194e-07 | G76: K06087 | H76: CPN1 | J76: Cell adhesion molecules;;Hepatitis C;;Virion - Hepatitis viruses;;Pathogenic Escherichia coli infection;;Leukocyte transendothelial migration;;Tight junction
A77: Syo_19G0002000 | B77: Syo_8G0007010 | C77: 0.9091718624188672 | D77: 7.818898115795342e-10 | E77: 6.806924080720132e-08 | G77: K19008 | H77: CPN1 | J77: Glucagon signaling pathway
A78: Syo_19G0004330 | B78: Syo_5G0007020 | C78: 0.9452173913043478 | D78: 3.563267590026003e-12 | E78: 6.294388639285082e-10 | G78: K01228 | H78: TRRAP | J78: N-Glycan biosynthesis;;Protein processing in endoplasmic reticulum
A79: Syo_19G0004580 | B79: Syo_6G0008710 | C79: 0.9160140118828548 | D79: 3.4130636677342594e-10 | E79: 3.3899235253832054e-08 | G79: K12649 | H79: IFIT5 | J79: RIG-I-like receptor signaling pathway
A80: Syo_19G0004580 | B80: Syo_9G0005750 | C80: 0.9079836608276372 | D80: 8.969623148351493e-10 | E80: 7.510608837931943e-08 | G80: K07939 | H80: IFIT5 | J80: Endocytosis
A81: Syo_19G0004580 | B81: Syo_8G0001620 | C81: 0.919730454714722 | D81: 2.111518797157708e-10 | E81: 2.2870731926251e-08 | G81: K11222 | H81: IFIT5 | J81: Pathways in cancer;;Inflammatory bowel disease;;Th1 and Th2 cell differentiation;;Hepatitis B;;JAK-STAT signaling pathway;;Necroptosis
A82: Syo_19G0004580 | B82: Syo_5G0008510 | C82: 0.900152464902914 | D82: 2.121856775627446e-09 | E82: 1.4945935134729594e-07 | G82: K05641 | H82: IFIT5 | J82: Efferocytosis;;Lipid and atherosclerosis;;ABC transporters;;Fat digestion and absorption;;Cholesterol metabolism
A83: Syo_19G0004580 | B83: Syo_6G0011980 | C83: 0.9319123150420694 | D83: 3.6587557326591564e-11 | E83: 5.1866967936534945e-09 | G83: K06460 | H83: IFIT5 | J83: Hematopoietic cell lineage;;Virion - Hepatitis viruses
A84: Syo_1G0003760 | B84: Syo_5G0009630 | C84: 0.9243478260869564 | D84: 1.1248113620991152e-10 | E84: 1.3436645985281124e-08 | G84: K03990 | H84: SBNO, SNO, FGT1 | J84: Leishmaniasis;;Kaposi sarcoma-associated herpesvirus infection;;Chagas disease;;Coronavirus disease - COVID-19;;Viral carcinogenesis;;Tuberculosis;;Systemic lupus erythematosus;;Herpes simplex virus 1 infection;;Legionellosis;;Neuroactive ligand-receptor interaction;;Staphylococcus aureus infection;;Shigellosis;;Pertussis;;Alcoholic liver disease;;Phagosome;;Neutrophil extracellular trap formation;;Complement and coagulation cascades
A85: Syo_21G0000450 | B85: Syo_5G0004990 | C85: 0.9032398560990637 | D85: 1.5243396714104514e-09 | E85: 1.1430520873147262e-07 | G85: K07187 | H85: AOC1, ABP1 | J85: MicroRNAs in cancer;;Insulin resistance;;Alzheimer disease;;FoxO signaling pathway;;Adipocytokine signaling pathway;;Regulation of lipolysis in adipocytes;;Insulin signaling pathway;;AMPK signaling pathway;;cGMP-PKG signaling pathway;;Longevity regulating pathway - multiple species;;Longevity regulating pathway;;Growth hormone synthesis, secretion and action;;Non-alcoholic fatty liver disease;;Type II diabetes mellitus;;Autophagy - animal
A86: Syo_21G0001250 | B86: Syo_22G0004460 | C86: 0.9575995007848525 | D86: 2.2543958000051585e-13 | E86: 4.9862562118825576e-11 | G86: K02295 | H86: WDR90 | J86: Circadian rhythm
A87: Syo_21G0004260 | B87: Syo_4G0012430 | C87: -0.90648116 | D87: 1.0642300223289413e-09 | E87: 8.583520612167188e-08 | G87: K04429 | H87: E3.1.1.45 | J87: MAPK signaling pathway
A88: Syo_21G0004880 | B88: Syo_22G0004460 | C88: 0.9095652173913044 | D88: 7.468374341361151e-10 | E88: 6.545064443598423e-08 | G88: K02295 | H88: ANKH, SLC62A1 | J88: Circadian rhythm
A89: Syo_21G0004880 | B89: Syo_5G0004990 | C89: 0.9088932591463856 | D89: 8.076062540928977e-10 | E89: 6.954132762206032e-08 | G89: K07187 | H89: ANKH, SLC62A1 | J89: MicroRNAs in cancer;;Insulin resistance;;Alzheimer disease;;FoxO signaling pathway;;Adipocytokine signaling pathway;;Regulation of lipolysis in adipocytes;;Insulin signaling pathway;;AMPK signaling pathway;;cGMP-PKG signaling pathway;;Longevity regulating pathway - multiple species;;Longevity regulating pathway;;Growth hormone synthesis, secretion and action;;Non-alcoholic fatty liver disease;;Type II diabetes mellitus;;Autophagy - animal
A90: Syo_22G0003950 | B90: Syo_4G0002620 | C90: 0.9386690753141644 | D90: 1.1964275973932314e-11 | E90: 1.931924734514661e-09 | G90: K00831 | H90: KDM7A, JHDM1D | J90: Cysteine and methionine metabolism;;Vitamin B6 metabolism;;Glycine, serine and threonine metabolism;;Biosynthesis of cofactors
A91: Syo_22G0003950 | B91: Syo_22G0004460 | C91: 0.9212702045947172 | D91: 1.7188550656018898e-10 | E91: 1.9251420543970332e-08 | G91: K02295 | H91: KDM7A, JHDM1D | J91: Circadian rhythm
A92: Syo_22G0003950 | B92: Syo_3G0006730 | C92: 0.9047412774112428 | D92: 1.292673797155468e-09 | E92: 1.0076092368923288e-07 | G92: K13868 | H92: KDM7A, JHDM1D | J92: Protein digestion and absorption
A93: Syo_22G0004460 | B93: Syo_5G0004990 | C93: 0.951511220580044 | D93: 9.586139874606517e-13 | E93: 1.906627684228729e-10 | G93: K07187 | H93: CRY | J93: MicroRNAs in cancer;;Insulin resistance;;Alzheimer disease;;FoxO signaling pathway;;Adipocytokine signaling pathway;;Regulation of lipolysis in adipocytes;;Insulin signaling pathway;;AMPK signaling pathway;;cGMP-PKG signaling pathway;;Longevity regulating pathway - multiple species;;Longevity regulating pathway;;Growth hormone synthesis, secretion and action;;Non-alcoholic fatty liver disease;;Type II diabetes mellitus;;Autophagy - animal
A94: Syo_22G0004460 | B94: Syo_4G0002620 | C94: 0.9191304347826086 | D94: 2.2852585168619282e-10 | E94: 2.422097956374962e-08 | G94: K00831 | H94: CRY | J94: Cysteine and methionine metabolism;;Vitamin B6 metabolism;;Glycine, serine and threonine metabolism;;Biosynthesis of cofactors
A95: Syo_23G0006800 | B95: Syo_6G0000740 | C95: 0.9175551225134102 | D95: 2.8044676689913267e-10 | E95: 2.8946872106042374e-08 | G95: K04696 | H95: CLDN | J95: TNF signaling pathway;;Influenza A;;Prolactin signaling pathway;;Hepatitis C;;Herpes simplex virus 1 infection;;Adipocytokine signaling pathway;;JAK-STAT signaling pathway;;Osteoclast differentiation;;Insulin signaling pathway;;Ubiquitin mediated proteolysis;;Growth hormone synthesis, secretion and action;;Non-alcoholic fatty liver disease;;Type II diabetes mellitus;;Insulin resistance
A96: Syo_2G0003640 | B96: Syo_9G0002410 | C96: 0.9058491190439816 | D96: 1.1426234171424432e-09 | E96: 9.104206623711984e-08 | G96: K03372 | H96: ATF6A | J96: Glycosphingolipid biosynthesis - ganglio series
A97: Syo_2G0005480 | B97: Syo_5G0004990 | C97: 0.9334493257938232 | D97: 2.8668596748479253e-11 | E97: 4.199816452424249e-09 | G97: K07187 | H97: NEK1_4_5 | J97: MicroRNAs in cancer;;Insulin resistance;;Alzheimer disease;;FoxO signaling pathway;;Adipocytokine signaling pathway;;Regulation of lipolysis in adipocytes;;Insulin signaling pathway;;AMPK signaling pathway;;cGMP-PKG signaling pathway;;Longevity regulating pathway - multiple species;;Longevity regulating pathway;;Growth hormone synthesis, secretion and action;;Non-alcoholic fatty liver disease;;Type II diabetes mellitus;;Autophagy - animal
A98: Syo_2G0005480 | B98: Syo_4G0002620 | C98: 0.9028049789415774 | D98: 1.5980903859748915e-09 | E98: 1.1848527226944921e-07 | G98: K00831 | H98: NEK1_4_5 | J98: Cysteine and methionine metabolism;;Vitamin B6 metabolism;;Glycine, serine and threonine metabolism;;Biosynthesis of cofactors
A99: Syo_2G0017470 | B99: Syo_6G0008710 | C99: 0.9380300286979684 | D99: 1.3369018078703794e-11 | E99: 2.115493059143347e-09 | G99: K12649 | H99: RIGI, DDX58 | J99: RIG-I-like receptor signaling pathway
... A102: Syo_2G0017470 | B102: Syo_8G0001620 | C102: 0.9226086956521738 | D102: 1.432448648763329e-10 | E102: 1.646398511717631e-08 | G102: K11222 | H102: RIGI, DDX58 | J102: Pathways in cancer;;Inflammatory bowel disease;;Th1 and Th2 cell differentiation;;Hepatitis B;;JAK-STAT signaling pathway;;Necroptosis
A103: Syo_2G0017510 | B103: Syo_7G0008860 | C103: -0.90602662 | D103: 1.1200980828551804e-09 | E103: 8.960898147956316e-08 | G103: K01896 | H103: SGMS | J103: Butanoate metabolism
A104: Syo_2G0017510 | B104: Syo_3G0010330 | C104: -0.91391304 | D104: 4.434455227965945e-10 | E104: 4.2034696189125935e-08 | G104: K05689 | H104: SGMS | J104: Cell adhesion molecules;;Thyroid cancer;;Hippo signaling pathway;;Endometrial cancer;;Rap1 signaling pathway;;Pathways in cancer;;Melanoma;;Bladder cancer;;Apelin signaling pathway;;Gastric cancer;;Bacterial invasion of epithelial cells;;Adherens junction
A105: Syo_3G0001660 | B105: Syo_6G0007350 | C105: 0.9086956521739128 | D105: 8.263058014053957e-10 | E105: 7.038396158012023e-08 | G105: K00522 | H105: RPABC5, RPB10, POLR2L | J105: Necroptosis;;Mineral absorption;;Porphyrin metabolism;;Ferroptosis
A106: Syo_3G0001660 | B106: Syo_3G0006730 | C106: 0.9191304347826086 | D106: 2.2852585168619282e-10 | E106: 2.422097956374962e-08 | G106: K13868 | H106: RPABC5, RPB10, POLR2L | J106: Protein digestion and absorption
A107: Syo_3G0010330 | B107: Syo_5G0002040 | C107: 0.946504821755548 | D107: 2.7597081187613112e-12 | E107: 5.032547638926371e-10 | G107: K10370 | H107: CDH1, CDHE, CD324 | J107: Cytoskeleton in muscle cells
A108: Syo_3G0010330 | B108: Syo_5G0005350 | C108: 0.9052173913043478 | D108: 1.2261390339743372e-09 | E108: 9.633548682751008e-08 | G108: K07755 | H108: CDH1, CDHE, CD324 | J108: Chemical carcinogenesis - reactive oxygen species
A109: Syo_4G0002620 | B109: Syo_U0000150 | C109: -0.90107958 | D109: 1.9234373044131158e-09 | E109: 1.3865515743668517e-07 | G109: K03996 | H109: serC, PSAT1 | J109: Coronavirus disease - COVID-19;;Systemic lupus erythematosus;;Complement and coagulation cascades;;Regulation of actin cytoskeleton;;Prion disease
A110: Syo_4G0002620 | B110: Syo_9G0005480 | C110: -0.91019789 | D110: 6.934215156643856e-10 | E110: 6.177595416383928e-08 | G110: K05424 | H110: serC, PSAT1 | J110: Adipocytokine signaling pathway;;Neuroactive ligand-receptor interaction;;JAK-STAT signaling pathway;;Cytokine-cytokine receptor interaction;;Non-alcoholic fatty liver disease;;AMPK signaling pathway
A111: Syo_4G0002620 | B111: Syo_5G0004990 | C111: 0.9310719941781874 | D111: 4.170698772888821e-11 | E111: 5.8081577743576744e-09 | G111: K07187 | H111: serC, PSAT1 | J111: MicroRNAs in cancer;;Insulin resistance;;Alzheimer disease;;FoxO signaling pathway;;Adipocytokine signaling pathway;;Regulation of lipolysis in adipocytes;;Insulin signaling pathway;;AMPK signaling pathway;;cGMP-PKG signaling pathway;;Longevity regulating pathway - multiple species;;Longevity regulating pathway;;Growth hormone synthesis, secretion and action;;Non-alcoholic fatty liver disease;;Type II diabetes mellitus;;Autophagy - animal
...
