Workbook

Sheet express_correlation_info (1)
A1: gene_id_1 | B1: gene_id_2 | C1: cor | D1: p_value | E1: q_value | G1: KO id | L1: Pathway Definition
A2: Syo_10G0000320 | B2: Syo_19G0002020 | C2: 0.9182608695652172 | D2: 2.559976932867316e-10 | E2: 2.6844400875980894e-08 | G2: =_xlfn.XLOOKUP(B2,[2]总表功能注释信息表_AnnotationQueryorigin!$A:$A,[2]总表功能注释信息表_AnnotationQueryorigin!$G:$G) -> K00629 | H2: =_xlfn.XLOOKUP(A2,[1]功能注释信息表_AnnotationQueryorigin_2!$A:$A,[1]功能注释信息表_AnnotationQueryorigin_2!$H:$H) -> EIF2AK4 | I2: =_xlfn.XLOOKUP(B2,[1]功能注释信息表_AnnotationQueryorigin_2!$A:$A,[1]功能注释信息表_AnnotationQueryorigin_2!$H:$H) -> GPAT1_2 | L2: =_xlfn.XLOOKUP(B2,[2]总表功能注释信息表_AnnotationQueryorigin!$A:$A,[2]总表功能注释信息表_AnnotationQueryorigin!$J:$J) -> Glycerophospholipid metabolism;;Glycerolipid metabolism
A3: Syo_10G0000320 | B3: Syo_16G0000280 | C3: 0.9539130434782608 | D3: 5.544061620769688e-13 | E3: 1.148988581725972e-10 | G3: =_xlfn.XLOOKUP(B3,[2]总表功能注释信息表_AnnotationQueryorigin!$A:$A,[2]总表功能注释信息表_AnnotationQueryorigin!$G:$G) -> K05767 | H3: =_xlfn.XLOOKUP(A3,[1]功能注释信息表_AnnotationQueryorigin_2!$A:$A,[1]功能注释信息表_AnnotationQueryorigin_2!$H:$H) -> EIF2AK4 | I3: =_xlfn.XLOOKUP(B3,[1]功能注释信息表_AnnotationQueryorigin_2!$A:$A,[1]功能注释信息表_AnnotationQueryorigin_2!$H:$H) -> IQGAP2_3 | L3: =_xlfn.XLOOKUP(B3,[2]总表功能注释信息表_AnnotationQueryorigin!$A:$A,[2]总表功能注释信息表_AnnotationQueryorigin!$J:$J) -> Regulation of actin cytoskeleton
A4: Syo_10G0000400 | B4: Syo_7G0008210 | C4: 0.9041415793133986 | D4: 1.3810998931425756e-09 | E4: 1.0573626805602348e-07 | G4: =_xlfn.XLOOKUP(B4,[2]总表功能注释信息表_AnnotationQueryorigin!$A:$A,[2]总表功能注释信息表_AnnotationQueryorigin!$G:$G) -> K10456 | H4: =_xlfn.XLOOKUP(A4,[1]功能注释信息表_AnnotationQueryorigin_2!$A:$A,[1]功能注释信息表_AnnotationQueryorigin_2!$H:$H) -> CYP1C | I4: =_xlfn.XLOOKUP(B4,[1]功能注释信息表_AnnotationQueryorigin_2!$A:$A,[1]功能注释信息表_AnnotationQueryorigin_2!$H:$H) -> KLHL19, KEAP1, INRF2 | L4: =_xlfn.XLOOKUP(B4,[2]总表功能注释信息表_AnnotationQueryorigin!$A:$A,[2]总表功能注释信息表_AnnotationQueryorigin!$J:$J) -> Pathways in cancer;;Chemical carcinogenesis - reactive oxygen species;;Parkinson disease;;Fluid shear stress and atherosclerosis;;Hepatocellular carcinoma;;Ubiquitin mediated proteolysis
A5: Syo_10G0000400 | B5: Syo_4G0005040 | C5: 0.9195563356268236 | D5: 2.160665302728924e-10 | E5: 2.3339027765906782e-08 | G5: =_xlfn.XLOOKUP(B5,[2]总表功能注释信息表_AnnotationQueryorigin!$A:$A,[2]总表功能注释信息表_AnnotationQueryorigin!$G:$G) -> K22449 | H5: =_xlfn.XLOOKUP(A5,[1]功能注释信息表_AnnotationQueryorigin_2!$A:$A,[1]功能注释信息表_AnnotationQueryorigin_2!$H:$H) -> CYP1C | I5: =_xlfn.XLOOKUP(B5,[1]功能注释信息表_AnnotationQueryorigin_2!$A:$A,[1]功能注释信息表_AnnotationQueryorigin_2!$H:$H) -> TBCEL | L5: =_xlfn.XLOOKUP(B5,[2]总表功能注释信息表_AnnotationQueryorigin!$A:$A,[2]总表功能注释信息表_AnnotationQueryorigin!$J:$J) -> ------
A6: Syo_10G0000490 | B6: Syo_4G0005040 | C6: -0.92234085 | D6: 1.486047033474458e-10 | E6: 1.6981151926219738e-08 | G6: =_xlfn.XLOOKUP(B6,[2]总表功能注释信息表_AnnotationQueryorigin!$A:$A,[2]总表功能注释信息表_AnnotationQueryorigin!$G:$G) -> K22449 | H6: =_xlfn.XLOOKUP(A6,[1]功能注释信息表_AnnotationQueryorigin_2!$A:$A,[1]功能注释信息表_AnnotationQueryorigin_2!$H:$H) -> SRP14 | I6: =_xlfn.XLOOKUP(B6,[1]功能注释信息表_AnnotationQueryorigin_2!$A:$A,[1]功能注释信息表_AnnotationQueryorigin_2!$H:$H) -> TBCEL | L6: =_xlfn.XLOOKUP(B6,[2]总表功能注释信息表_AnnotationQueryorigin!$A:$A,[2]总表功能注释信息表_AnnotationQueryorigin!$J:$J) -> ------
A7: Syo_10G0000490 | B7: Syo_7G0008210 | C7: -0.90782609 | D7: 9.133169194063351e-10 | E7: 7.56730506539807e-08 | G7: =_xlfn.XLOOKUP(B7,[2]总表功能注释信息表_AnnotationQueryorigin!$A:$A,[2]总表功能注释信息表_AnnotationQueryorigin!$G:$G) -> K10456 | H7: =_xlfn.XLOOKUP(A7,[1]功能注释信息表_AnnotationQueryorigin_2!$A:$A,[1]功能注释信息表_AnnotationQueryorigin_2!$H:$H) -> SRP14 | I7: =_xlfn.XLOOKUP(B7,[1]功能注释信息表_AnnotationQueryorigin_2!$A:$A,[1]功能注释信息表_AnnotationQueryorigin_2!$H:$H) -> KLHL19, KEAP1, INRF2 | L7: =_xlfn.XLOOKUP(B7,[2]总表功能注释信息表_AnnotationQueryorigin!$A:$A,[2]总表功能注释信息表_AnnotationQueryorigin!$J:$J) -> Pathways in cancer;;Chemical carcinogenesis - reactive oxygen species;;Parkinson disease;;Fluid shear stress and atherosclerosis;;Hepatocellular carcinoma;;Ubiquitin mediated proteolysis
A8: Syo_10G0002120 | B8: Syo_23G0003340 | C8: {=-C50.908261489270938} -> #NAME? | D8: 8.687681772102762e-10 | E8: 7.33677048563643e-08 | G8: =_xlfn.XLOOKUP(B8,[2]总表功能注释信息表_AnnotationQueryorigin!$A:$A,[2]总表功能注释信息表_AnnotationQueryorigin!$G:$G) -> ------ | H8: =_xlfn.XLOOKUP(A8,[1]功能注释信息表_AnnotationQueryorigin_2!$A:$A,[1]功能注释信息表_AnnotationQueryorigin_2!$H:$H) -> SDS, SDH, CHA1 | I8: =_xlfn.XLOOKUP(B8,[1]功能注释信息表_AnnotationQueryorigin_2!$A:$A,[1]功能注释信息表_AnnotationQueryorigin_2!$H:$H) -> ------ | L8: =_xlfn.XLOOKUP(B8,[2]总表功能注释信息表_AnnotationQueryorigin!$A:$A,[2]总表功能注释信息表_AnnotationQueryorigin!$J:$J) -> ------
A9: Syo_10G0002120 | B9: Syo_4G0011920 | C9: -0.90196292 | D9: 1.750095963795158e-09 | E9: 1.278347154460957e-07 | G9: =_xlfn.XLOOKUP(B9,[2]总表功能注释信息表_AnnotationQueryorigin!$A:$A,[2]总表功能注释信息表_AnnotationQueryorigin!$G:$G) -> ------ | H9: =_xlfn.XLOOKUP(A9,[1]功能注释信息表_AnnotationQueryorigin_2!$A:$A,[1]功能注释信息表_AnnotationQueryorigin_2!$H:$H) -> SDS, SDH, CHA1 | I9: =_xlfn.XLOOKUP(B9,[1]功能注释信息表_AnnotationQueryorigin_2!$A:$A,[1]功能注释信息表_AnnotationQueryorigin_2!$H:$H) -> ------ | L9: =_xlfn.XLOOKUP(B9,[2]总表功能注释信息表_AnnotationQueryorigin!$A:$A,[2]总表功能注释信息表_AnnotationQueryorigin!$J:$J) -> ------
A10: Syo_10G0002120 | B10: Syo_18G0002200 | C10: -0.90608696 | D10: 1.1125336623750209e-09 | E10: 8.918453859369953e-08 | G10: =_xlfn.XLOOKUP(B10,[2]总表功能注释信息表_AnnotationQueryorigin!$A:$A,[2]总表功能注释信息表_AnnotationQueryorigin!$G:$G) -> K15259 | H10: =_xlfn.XLOOKUP(A10,[1]功能注释信息表_AnnotationQueryorigin_2!$A:$A,[1]功能注释信息表_AnnotationQueryorigin_2!$H:$H) -> SDS, SDH, CHA1 | I10: =_xlfn.XLOOKUP(B10,[1]功能注释信息表_AnnotationQueryorigin_2!$A:$A,[1]功能注释信息表_AnnotationQueryorigin_2!$H:$H) -> PARP7_11_12 | L10: =_xlfn.XLOOKUP(B10,[2]总表功能注释信息表_AnnotationQueryorigin!$A:$A,[2]总表功能注释信息表_AnnotationQueryorigin!$J:$J) -> ------
A11: Syo_10G0002180 | B11: Syo_4G0012430 | C11: 0.9086560233231183 | D11: 8.301025200295228e-10 | E11: 7.040427144182644e-08 | G11: =_xlfn.XLOOKUP(B11,[2]总表功能注释信息表_AnnotationQueryorigin!$A:$A,[2]总表功能注释信息表_AnnotationQueryorigin!$G:$G) -> K04429 | H11: =_xlfn.XLOOKUP(A11,[1]功能注释信息表_AnnotationQueryorigin_2!$A:$A,[1]功能注释信息表_AnnotationQueryorigin_2!$H:$H) -> NID | I11: =_xlfn.XLOOKUP(B11,[1]功能注释信息表_AnnotationQueryorigin_2!$A:$A,[1]功能注释信息表_AnnotationQueryorigin_2!$H:$H) -> TAO | L11: =_xlfn.XLOOKUP(B11,[2]总表功能注释信息表_AnnotationQueryorigin!$A:$A,[2]总表功能注释信息表_AnnotationQueryorigin!$J:$J) -> MAPK signaling pathway
A12: Syo_10G0004220 | B12: Syo_4G0012430 | C12: 0.944758680065971 | D12: 3.897158334612969e-12 | E12: 6.823137899320946e-10 | G12: =_xlfn.XLOOKUP(B12,[2]总表功能注释信息表_AnnotationQueryorigin!$A:$A,[2]总表功能注释信息表_AnnotationQueryorigin!$G:$G) -> K04429 | H12: =_xlfn.XLOOKUP(A12,[1]功能注释信息表_AnnotationQueryorigin_2!$A:$A,[1]功能注释信息表_AnnotationQueryorigin_2!$H:$H) -> CLIC4 | I12: =_xlfn.XLOOKUP(B12,[1]功能注释信息表_AnnotationQueryorigin_2!$A:$A,[1]功能注释信息表_AnnotationQueryorigin_2!$H:$H) -> TAO | L12: =_xlfn.XLOOKUP(B12,[2]总表功能注释信息表_AnnotationQueryorigin!$A:$A,[2]总表功能注释信息表_AnnotationQueryorigin!$J:$J) -> MAPK signaling pathway
A13: Syo_10G0004220 | B13: Syo_4G0004810 | C13: 0.9156521739130434 | D13: 3.5721927946771954e-10 | E13: 3.4950310507224364e-08 | G13: =_xlfn.XLOOKUP(B13,[2]总表功能注释信息表_AnnotationQueryorigin!$A:$A,[2]总表功能注释信息表_AnnotationQueryorigin!$G:$G) -> K00905 | H13: =_xlfn.XLOOKUP(A13,[1]功能注释信息表_AnnotationQueryorigin_2!$A:$A,[1]功能注释信息表_AnnotationQueryorigin_2!$H:$H) -> CLIC4 | I13: =_xlfn.XLOOKUP(B13,[1]功能注释信息表_AnnotationQueryorigin_2!$A:$A,[1]功能注释信息表_AnnotationQueryorigin_2!$H:$H) -> BCKDK | L13: =_xlfn.XLOOKUP(B13,[2]总表功能注释信息表_AnnotationQueryorigin!$A:$A,[2]总表功能注释信息表_AnnotationQueryorigin!$J:$J) -> ------
A14: Syo_10G0004300 | B14: Syo_17G0004570 | C14: 0.914981539351194 | D14: 3.8849246873436316e-10 | E14: 3.754682230567203e-08 | G14: =_xlfn.XLOOKUP(B14,[2]总表功能注释信息表_AnnotationQueryorigin!$A:$A,[2]总表功能注释信息表_AnnotationQueryorigin!$G:$G) -> K03910 | H14: =_xlfn.XLOOKUP(A14,[1]功能注释信息表_AnnotationQueryorigin_2!$A:$A,[1]功能注释信息表_AnnotationQueryorigin_2!$H:$H) -> HHAT | I14: =_xlfn.XLOOKUP(B14,[1]功能注释信息表_AnnotationQueryorigin_2!$A:$A,[1]功能注释信息表_AnnotationQueryorigin_2!$H:$H) -> A2M | L14: =_xlfn.XLOOKUP(B14,[2]总表功能注释信息表_AnnotationQueryorigin!$A:$A,[2]总表功能注释信息表_AnnotationQueryorigin!$J:$J) -> Complement and coagulation cascades
A15: Syo_10G0004300 | B15: Syo_11G0007640 | C15: 0.904979364729009 | D15: 1.2590062516348594e-09 | E15: 9.852566168021961e-08 | G15: =_xlfn.XLOOKUP(B15,[2]总表功能注释信息表_AnnotationQueryorigin!$A:$A,[2]总表功能注释信息表_AnnotationQueryorigin!$G:$G) -> K13937 | H15: =_xlfn.XLOOKUP(A15,[1]功能注释信息表_AnnotationQueryorigin_2!$A:$A,[1]功能注释信息表_AnnotationQueryorigin_2!$H:$H) -> HHAT | I15: =_xlfn.XLOOKUP(B15,[1]功能注释信息表_AnnotationQueryorigin_2!$A:$A,[1]功能注释信息表_AnnotationQueryorigin_2!$H:$H) -> H6PD | L15: =_xlfn.XLOOKUP(B15,[2]总表功能注释信息表_AnnotationQueryorigin!$A:$A,[2]总表功能注释信息表_AnnotationQueryorigin!$J:$J) -> Pentose phosphate pathway
A16: Syo_10G0004300 | B16: Syo_1G0003760 | C16: 0.9467275718476944 | D16: 2.6386592021420447e-12 | E16: 4.834133857548446e-10 | G16: =_xlfn.XLOOKUP(B16,[2]总表功能注释信息表_AnnotationQueryorigin!$A:$A,[2]总表功能注释信息表_AnnotationQueryorigin!$G:$G) -> K26273 | H16: =_xlfn.XLOOKUP(A16,[1]功能注释信息表_AnnotationQueryorigin_2!$A:$A,[1]功能注释信息表_AnnotationQueryorigin_2!$H:$H) -> HHAT | I16: =_xlfn.XLOOKUP(B16,[1]功能注释信息表_AnnotationQueryorigin_2!$A:$A,[1]功能注释信息表_AnnotationQueryorigin_2!$H:$H) -> SBNO, SNO, FGT1 | L16: =_xlfn.XLOOKUP(B16,[2]总表功能注释信息表_AnnotationQueryorigin!$A:$A,[2]总表功能注释信息表_AnnotationQueryorigin!$J:$J) -> ------
A17: Syo_10G0004300 | B17: Syo_19G0002000 | C17: 0.908023504831413 | D17: 8.928689337649071e-10 | E17: 7.508181456763668e-08 | G17: =_xlfn.XLOOKUP(B17,[2]总表功能注释信息表_AnnotationQueryorigin!$A:$A,[2]总表功能注释信息表_AnnotationQueryorigin!$G:$G) -> K01292 | H17: =_xlfn.XLOOKUP(A17,[1]功能注释信息表_AnnotationQueryorigin_2!$A:$A,[1]功能注释信息表_AnnotationQueryorigin_2!$H:$H) -> HHAT | I17: =_xlfn.XLOOKUP(B17,[1]功能注释信息表_AnnotationQueryorigin_2!$A:$A,[1]功能注释信息表_AnnotationQueryorigin_2!$H:$H) -> CPN1 | L17: =_xlfn.XLOOKUP(B17,[2]总表功能注释信息表_AnnotationQueryorigin!$A:$A,[2]总表功能注释信息表_AnnotationQueryorigin!$J:$J) -> ------
A18: Syo_10G0004960 | B18: Syo_2G0006740 | C18: 0.9310719941781872 | D18: 4.170698772888896e-11 | E18: 5.8081577743576744e-09 | G18: =_xlfn.XLOOKUP(B18,[2]总表功能注释信息表_AnnotationQueryorigin!$A:$A,[2]总表功能注释信息表_AnnotationQueryorigin!$G:$G) -> ------ | H18: =_xlfn.XLOOKUP(A18,[1]功能注释信息表_AnnotationQueryorigin_2!$A:$A,[1]功能注释信息表_AnnotationQueryorigin_2!$H:$H) -> GREB1 | I18: =_xlfn.XLOOKUP(B18,[1]功能注释信息表_AnnotationQueryorigin_2!$A:$A,[1]功能注释信息表_AnnotationQueryorigin_2!$H:$H) -> ------ | L18: =_xlfn.XLOOKUP(B18,[2]总表功能注释信息表_AnnotationQueryorigin!$A:$A,[2]总表功能注释信息表_AnnotationQueryorigin!$J:$J) -> ------
A19: Syo_10G0004960 | B19: Syo_4G0004810 | C19: 0.9462926946902084 | D19: 2.8796317252323712e-12 | E19: 5.203171639727079e-10 | G19: =_xlfn.XLOOKUP(B19,[2]总表功能注释信息表_AnnotationQueryorigin!$A:$A,[2]总表功能注释信息表_AnnotationQueryorigin!$G:$G) -> K00905 | H19: =_xlfn.XLOOKUP(A19,[1]功能注释信息表_AnnotationQueryorigin_2!$A:$A,[1]功能注释信息表_AnnotationQueryorigin_2!$H:$H) -> GREB1 | I19: =_xlfn.XLOOKUP(B19,[1]功能注释信息表_AnnotationQueryorigin_2!$A:$A,[1]功能注释信息表_AnnotationQueryorigin_2!$H:$H) -> BCKDK | L19: =_xlfn.XLOOKUP(B19,[2]总表功能注释信息表_AnnotationQueryorigin!$A:$A,[2]总表功能注释信息表_AnnotationQueryorigin!$J:$J) -> ------
A20: Syo_10G0004960 | B20: Syo_13G0006150 | C20: 0.920634942398516 | D20: 1.8720733028255387e-10 | E20: 2.0732227218009816e-08 | G20: =_xlfn.XLOOKUP(B20,[2]总表功能注释信息表_AnnotationQueryorigin!$A:$A,[2]总表功能注释信息表_AnnotationQueryorigin!$G:$G) -> K10696 | H20: =_xlfn.XLOOKUP(A20,[1]功能注释信息表_AnnotationQueryorigin_2!$A:$A,[1]功能注释信息表_AnnotationQueryorigin_2!$H:$H) -> GREB1 | I20: =_xlfn.XLOOKUP(B20,[1]功能注释信息表_AnnotationQueryorigin_2!$A:$A,[1]功能注释信息表_AnnotationQueryorigin_2!$H:$H) -> BRE1 | L20: =_xlfn.XLOOKUP(B20,[2]总表功能注释信息表_AnnotationQueryorigin!$A:$A,[2]总表功能注释信息表_AnnotationQueryorigin!$J:$J) -> ------
A21: Syo_10G0004960 | B21: Syo_19G0002020 | C21: 0.9019352246266048 | D21: 1.7553104076267547e-09 | E21: 1.2797882280389303e-07 | G21: =_xlfn.XLOOKUP(B21,[2]总表功能注释信息表_AnnotationQueryorigin!$A:$A,[2]总表功能注释信息表_AnnotationQueryorigin!$G:$G) -> K00629 | H21: =_xlfn.XLOOKUP(A21,[1]功能注释信息表_AnnotationQueryorigin_2!$A:$A,[1]功能注释信息表_AnnotationQueryorigin_2!$H:$H) -> GREB1 | I21: =_xlfn.XLOOKUP(B21,[1]功能注释信息表_AnnotationQueryorigin_2!$A:$A,[1]功能注释信息表_AnnotationQueryorigin_2!$H:$H) -> GPAT1_2 | L21: =_xlfn.XLOOKUP(B21,[2]总表功能注释信息表_AnnotationQueryorigin!$A:$A,[2]总表功能注释信息表_AnnotationQueryorigin!$J:$J) -> Glycerophospholipid metabolism;;Glycerolipid metabolism
A22: Syo_10G0004960 | B22: Syo_5G0008480 | C22: -0.90106547 | D22: 1.9263270185033576e-09 | E22: 1.3865515743668517e-07 | G22: =_xlfn.XLOOKUP(B22,[2]总表功能注释信息表_AnnotationQueryorigin!$A:$A,[2]总表功能注释信息表_AnnotationQueryorigin!$G:$G) -> K18458 | H22: =_xlfn.XLOOKUP(A22,[1]功能注释信息表_AnnotationQueryorigin_2!$A:$A,[1]功能注释信息表_AnnotationQueryorigin_2!$H:$H) -> GREB1 | I22: =_xlfn.XLOOKUP(B22,[1]功能注释信息表_AnnotationQueryorigin_2!$A:$A,[1]功能注释信息表_AnnotationQueryorigin_2!$H:$H) -> ACY3 | L22: =_xlfn.XLOOKUP(B22,[2]总表功能注释信息表_AnnotationQueryorigin!$A:$A,[2]总表功能注释信息表_AnnotationQueryorigin!$J:$J) -> ------
A23: Syo_10G0004960 | B23: Syo_19G0006130 | C23: -0.90529419 | D23: 1.2157004914731296e-09 | E23: 9.570580907996988e-08 | G23: =_xlfn.XLOOKUP(B23,[2]总表功能注释信息表_AnnotationQueryorigin!$A:$A,[2]总表功能注释信息表_AnnotationQueryorigin!$G:$G) -> ------ | H23: =_xlfn.XLOOKUP(A23,[1]功能注释信息表_AnnotationQueryorigin_2!$A:$A,[1]功能注释信息表_AnnotationQueryorigin_2!$H:$H) -> GREB1 | I23: =_xlfn.XLOOKUP(B23,[1]功能注释信息表_AnnotationQueryorigin_2!$A:$A,[1]功能注释信息表_AnnotationQueryorigin_2!$H:$H) -> ------ | L23: =_xlfn.XLOOKUP(B23,[2]总表功能注释信息表_AnnotationQueryorigin!$A:$A,[2]总表功能注释信息表_AnnotationQueryorigin!$J:$J) -> ------
A24: Syo_10G0005220 | B24: Syo_1G0003760 | C24: 0.920600587595247 | D24: 1.8807000747240087e-10 | E24: 2.0769504699340204e-08 | G24: =_xlfn.XLOOKUP(B24,[2]总表功能注释信息表_AnnotationQueryorigin!$A:$A,[2]总表功能注释信息表_AnnotationQueryorigin!$G:$G) -> K26273 | H24: =_xlfn.XLOOKUP(A24,[1]功能注释信息表_AnnotationQueryorigin_2!$A:$A,[1]功能注释信息表_AnnotationQueryorigin_2!$H:$H) -> ITPK | I24: =_xlfn.XLOOKUP(B24,[1]功能注释信息表_AnnotationQueryorigin_2!$A:$A,[1]功能注释信息表_AnnotationQueryorigin_2!$H:$H) -> SBNO, SNO, FGT1 | L24: =_xlfn.XLOOKUP(B24,[2]总表功能注释信息表_AnnotationQueryorigin!$A:$A,[2]总表功能注释信息表_AnnotationQueryorigin!$J:$J) -> ------
A25: Syo_10G0005220 | B25: Syo_11G0007640 | C25: 0.9284317835199702 | D25: 6.228161160432149e-11 | E25: 8.155585960014641e-09 | G25: =_xlfn.XLOOKUP(B25,[2]总表功能注释信息表_AnnotationQueryorigin!$A:$A,[2]总表功能注释信息表_AnnotationQueryorigin!$G:$G) -> K13937 | H25: =_xlfn.XLOOKUP(A25,[1]功能注释信息表_AnnotationQueryorigin_2!$A:$A,[1]功能注释信息表_AnnotationQueryorigin_2!$H:$H) -> ITPK | I25: =_xlfn.XLOOKUP(B25,[1]功能注释信息表_AnnotationQueryorigin_2!$A:$A,[1]功能注释信息表_AnnotationQueryorigin_2!$H:$H) -> H6PD | L25: =_xlfn.XLOOKUP(B25,[2]总表功能注释信息表_AnnotationQueryorigin!$A:$A,[2]总表功能注释信息表_AnnotationQueryorigin!$J:$J) -> Pentose phosphate pathway
A26: Syo_10G0005220 | B26: Syo_5G0001480 | C26: 0.9162132969960326 | D26: 3.3281795354592834e-10 | E26: 3.3139518827163324e-08 | G26: =_xlfn.XLOOKUP(B26,[2]总表功能注释信息表_AnnotationQueryorigin!$A:$A,[2]总表功能注释信息表_AnnotationQueryorigin!$G:$G) -> K05401 | H26: =_xlfn.XLOOKUP(A26,[1]功能注释信息表_AnnotationQueryorigin_2!$A:$A,[1]功能注释信息表_AnnotationQueryorigin_2!$H:$H) -> ITPK | I26: =_xlfn.XLOOKUP(B26,[1]功能注释信息表_AnnotationQueryorigin_2!$A:$A,[1]功能注释信息表_AnnotationQueryorigin_2!$H:$H) -> TLR3, CD283 | L26: =_xlfn.XLOOKUP(B26,[2]总表功能注释信息表_AnnotationQueryorigin!$A:$A,[2]总表功能注释信息表_AnnotationQueryorigin!$J:$J) -> Kaposi sarcoma-associated herpesvirus infection;;Influenza A;;Human papillomavirus infection;;Hepatitis C;;Hepatitis B;;Herpes simplex virus 1 infection;;Toll-like receptor signaling pathway;;Coronavirus disease - COVID-19;;Necroptosis
A27: Syo_10G0005220 | B27: Syo_15G0006370 | C27: 0.9162499231926228 | D27: 3.3127876537587516e-10 | E27: 3.3139518827163324e-08 | G27: =_xlfn.XLOOKUP(B27,[2]总表功能注释信息表_AnnotationQueryorigin!$A:$A,[2]总表功能注释信息表_AnnotationQueryorigin!$G:$G) -> K20287 | H27: =_xlfn.XLOOKUP(A27,[1]功能注释信息表_AnnotationQueryorigin_2!$A:$A,[1]功能注释信息表_AnnotationQueryorigin_2!$H:$H) -> ITPK | I27: =_xlfn.XLOOKUP(B27,[1]功能注释信息表_AnnotationQueryorigin_2!$A:$A,[1]功能注释信息表_AnnotationQueryorigin_2!$H:$H) -> PLIN3 | L27: =_xlfn.XLOOKUP(B27,[2]总表功能注释信息表_AnnotationQueryorigin!$A:$A,[2]总表功能注释信息表_AnnotationQueryorigin!$J:$J) -> ------
A28: Syo_10G0005840 | B28: Syo_23G0003340 | C28: 0.9675338321408266 | D28: 1.2525290234860712e-14 | E28: 3.2426539089666778e-12 | G28: =_xlfn.XLOOKUP(B28,[2]总表功能注释信息表_AnnotationQueryorigin!$A:$A,[2]总表功能注释信息表_AnnotationQueryorigin!$G:$G) -> ------ | H28: =_xlfn.XLOOKUP(A28,[1]功能注释信息表_AnnotationQueryorigin_2!$A:$A,[1]功能注释信息表_AnnotationQueryorigin_2!$H:$H) -> CMPK2 | I28: =_xlfn.XLOOKUP(B28,[1]功能注释信息表_AnnotationQueryorigin_2!$A:$A,[1]功能注释信息表_AnnotationQueryorigin_2!$H:$H) -> ------ | L28: =_xlfn.XLOOKUP(B28,[2]总表功能注释信息表_AnnotationQueryorigin!$A:$A,[2]总表功能注释信息表_AnnotationQueryorigin!$J:$J) -> ------
A29: Syo_10G0005840 | B29: Syo_6G0008710 | C29: 0.961513395202229 | D29: 7.911944012726095e-14 | E29: 1.887416952232221e-11 | G29: =_xlfn.XLOOKUP(B29,[2]总表功能注释信息表_AnnotationQueryorigin!$A:$A,[2]总表功能注释信息表_AnnotationQueryorigin!$G:$G) -> K12649 | H29: =_xlfn.XLOOKUP(A29,[1]功能注释信息表_AnnotationQueryorigin_2!$A:$A,[1]功能注释信息表_AnnotationQueryorigin_2!$H:$H) -> CMPK2 | I29: =_xlfn.XLOOKUP(B29,[1]功能注释信息表_AnnotationQueryorigin_2!$A:$A,[1]功能注释信息表_AnnotationQueryorigin_2!$H:$H) -> DHX58, LGP2 | L29: =_xlfn.XLOOKUP(B29,[2]总表功能注释信息表_AnnotationQueryorigin!$A:$A,[2]总表功能注释信息表_AnnotationQueryorigin!$J:$J) -> RIG-I-like receptor signaling pathway
A30: Syo_10G0005840 | B30: Syo_19G0004580 | C30: 0.9266915177589206 | D30: 8.04561744742053e-11 | E30: 1.0230112709593759e-08 | G30: =_xlfn.XLOOKUP(B30,[2]总表功能注释信息表_AnnotationQueryorigin!$A:$A,[2]总表功能注释信息表_AnnotationQueryorigin!$G:$G) -> K24850 | H30: =_xlfn.XLOOKUP(A30,[1]功能注释信息表_AnnotationQueryorigin_2!$A:$A,[1]功能注释信息表_AnnotationQueryorigin_2!$H:$H) -> CMPK2 | I30: =_xlfn.XLOOKUP(B30,[1]功能注释信息表_AnnotationQueryorigin_2!$A:$A,[1]功能注释信息表_AnnotationQueryorigin_2!$H:$H) -> IFIT5 | L30: =_xlfn.XLOOKUP(B30,[2]总表功能注释信息表_AnnotationQueryorigin!$A:$A,[2]总表功能注释信息表_AnnotationQueryorigin!$J:$J) -> ------
A31: Syo_10G0005840 | B31: Syo_15G0004360 | C31: 0.9428136774303176 | D31: 5.6505449636302546e-12 | E31: 9.47288069794498e-10 | G31: =_xlfn.XLOOKUP(B31,[2]总表功能注释信息表_AnnotationQueryorigin!$A:$A,[2]总表功能注释信息表_AnnotationQueryorigin!$G:$G) -> K18422 | H31: =_xlfn.XLOOKUP(A31,[1]功能注释信息表_AnnotationQueryorigin_2!$A:$A,[1]功能注释信息表_AnnotationQueryorigin_2!$H:$H) -> CMPK2 | I31: =_xlfn.XLOOKUP(B31,[1]功能注释信息表_AnnotationQueryorigin_2!$A:$A,[1]功能注释信息表_AnnotationQueryorigin_2!$H:$H) -> MOV10 | L31: =_xlfn.XLOOKUP(B31,[2]总表功能注释信息表_AnnotationQueryorigin!$A:$A,[2]总表功能注释信息表_AnnotationQueryorigin!$J:$J) -> ------
A32: Syo_10G0005840 | B32: Syo_17G0005330 | C32: 0.9706458155094416 | D32: 4.194636682549293e-15 | E32: 1.1077348063236612e-12 | G32: =_xlfn.XLOOKUP(B32,[2]总表功能注释信息表_AnnotationQueryorigin!$A:$A,[2]总表功能注释信息表_AnnotationQueryorigin!$G:$G) -> ------ | H32: =_xlfn.XLOOKUP(A32,[1]功能注释信息表_AnnotationQueryorigin_2!$A:$A,[1]功能注释信息表_AnnotationQueryorigin_2!$H:$H) -> CMPK2 | I32: =_xlfn.XLOOKUP(B32,[1]功能注释信息表_AnnotationQueryorigin_2!$A:$A,[1]功能注释信息表_AnnotationQueryorigin_2!$H:$H) -> ------ | L32: =_xlfn.XLOOKUP(B32,[2]总表功能注释信息表_AnnotationQueryorigin!$A:$A,[2]总表功能注释信息表_AnnotationQueryorigin!$J:$J) -> ------
A33: Syo_10G0005840 | B33: Syo_2G0017470 | C33: 0.9260869565217392 | D33: 8.781167998950902e-11 | E33: 1.091920954905767e-08 | G33: =_xlfn.XLOOKUP(B33,[2]总表功能注释信息表_AnnotationQueryorigin!$A:$A,[2]总表功能注释信息表_AnnotationQueryorigin!$G:$G) -> K12646 | H33: =_xlfn.XLOOKUP(A33,[1]功能注释信息表_AnnotationQueryorigin_2!$A:$A,[1]功能注释信息表_AnnotationQueryorigin_2!$H:$H) -> CMPK2 | I33: =_xlfn.XLOOKUP(B33,[1]功能注释信息表_AnnotationQueryorigin_2!$A:$A,[1]功能注释信息表_AnnotationQueryorigin_2!$H:$H) -> RIGI, DDX58 | L33: =_xlfn.XLOOKUP(B33,[2]总表功能注释信息表_AnnotationQueryorigin!$A:$A,[2]总表功能注释信息表_AnnotationQueryorigin!$J:$J) -> Influenza A;;Measles;;Hepatitis C;;Hepatitis B;;Herpes simplex virus 1 infection;;Epstein-Barr virus infection;;RIG-I-like receptor signaling pathway;;Cytosolic DNA-sensing pathway;;Coronavirus disease - COVID-19;;NF-kappa B signaling pathway
A34: Syo_10G0005840 | B34: Syo_19G0001310 | C34: 0.9632370987409626 | D34: 4.818062889327373e-14 | E34: 1.1851684230660108e-11 | G34: =_xlfn.XLOOKUP(B34,[2]总表功能注释信息表_AnnotationQueryorigin!$A:$A,[2]总表功能注释信息表_AnnotationQueryorigin!$G:$G) -> K22754 | H34: =_xlfn.XLOOKUP(A34,[1]功能注释信息表_AnnotationQueryorigin_2!$A:$A,[1]功能注释信息表_AnnotationQueryorigin_2!$H:$H) -> CMPK2 | I34: =_xlfn.XLOOKUP(B34,[1]功能注释信息表_AnnotationQueryorigin_2!$A:$A,[1]功能注释信息表_AnnotationQueryorigin_2!$H:$H) -> RNF213 | L34: =_xlfn.XLOOKUP(B34,[2]总表功能注释信息表_AnnotationQueryorigin!$A:$A,[2]总表功能注释信息表_AnnotationQueryorigin!$J:$J) -> ------
A35: Syo_10G0005840 | B35: Syo_9G0005750 | C35: 0.9321739130434782 | D35: 3.511396462170555e-11 | E35: 4.995736505395481e-09 | G35: =_xlfn.XLOOKUP(B35,[2]总表功能注释信息表_AnnotationQueryorigin!$A:$A,[2]总表功能注释信息表_AnnotationQueryorigin!$G:$G) -> K07939 | H35: =_xlfn.XLOOKUP(A35,[1]功能注释信息表_AnnotationQueryorigin_2!$A:$A,[1]功能注释信息表_AnnotationQueryorigin_2!$H:$H) -> CMPK2 | I35: =_xlfn.XLOOKUP(B35,[1]功能注释信息表_AnnotationQueryorigin_2!$A:$A,[1]功能注释信息表_AnnotationQueryorigin_2!$H:$H) -> ARF4 | L35: =_xlfn.XLOOKUP(B35,[2]总表功能注释信息表_AnnotationQueryorigin!$A:$A,[2]总表功能注释信息表_AnnotationQueryorigin!$J:$J) -> Endocytosis
... A52: Syo_11G0001670 | B52: Syo_4G0005040 | C52: 0.9005875313431764 | D52: 2.026558711408395e-09 | E52: 1.4429134572724818e-07 | G52: =_xlfn.XLOOKUP(B52,[2]总表功能注释信息表_AnnotationQueryorigin!$A:$A,[2]总表功能注释信息表_AnnotationQueryorigin!$G:$G) -> K22449 | H52: =_xlfn.XLOOKUP(A52,[1]功能注释信息表_AnnotationQueryorigin_2!$A:$A,[1]功能注释信息表_AnnotationQueryorigin_2!$H:$H) -> GCDH, gcdH | I52: =_xlfn.XLOOKUP(B52,[1]功能注释信息表_AnnotationQueryorigin_2!$A:$A,[1]功能注释信息表_AnnotationQueryorigin_2!$H:$H) -> TBCEL | L52: =_xlfn.XLOOKUP(B52,[2]总表功能注释信息表_AnnotationQueryorigin!$A:$A,[2]总表功能注释信息表_AnnotationQueryorigin!$J:$J) -> ------
A53: Syo_11G0004450 | B53: Syo_1G0010030 | C53: -0.92006276 | D53: 2.0205140461564468e-10 | E53: 2.21278515393286e-08 | G53: =_xlfn.XLOOKUP(B53,[2]总表功能注释信息表_AnnotationQueryorigin!$A:$A,[2]总表功能注释信息表_AnnotationQueryorigin!$G:$G) -> ------ | H53: =_xlfn.XLOOKUP(A53,[1]功能注释信息表_AnnotationQueryorigin_2!$A:$A,[1]功能注释信息表_AnnotationQueryorigin_2!$H:$H) -> glnA, GLUL | I53: =_xlfn.XLOOKUP(B53,[1]功能注释信息表_AnnotationQueryorigin_2!$A:$A,[1]功能注释信息表_AnnotationQueryorigin_2!$H:$H) -> ------ | L53: =_xlfn.XLOOKUP(B53,[2]总表功能注释信息表_AnnotationQueryorigin!$A:$A,[2]总表功能注释信息表_AnnotationQueryorigin!$J:$J) -> ------
A54: Syo_11G0004670 | B54: Syo_5G0009630 | C54: 0.9034782608695652 | D54: 1.4852231299153265e-09 | E54: 1.1201022307664195e-07 | G54: =_xlfn.XLOOKUP(B54,[2]总表功能注释信息表_AnnotationQueryorigin!$A:$A,[2]总表功能注释信息表_AnnotationQueryorigin!$G:$G) -> K03990 | H54: =_xlfn.XLOOKUP(A54,[1]功能注释信息表_AnnotationQueryorigin_2!$A:$A,[1]功能注释信息表_AnnotationQueryorigin_2!$H:$H) -> ------ | I54: =_xlfn.XLOOKUP(B54,[1]功能注释信息表_AnnotationQueryorigin_2!$A:$A,[1]功能注释信息表_AnnotationQueryorigin_2!$H:$H) -> C3 | L54: =_xlfn.XLOOKUP(B54,[2]总表功能注释信息表_AnnotationQueryorigin!$A:$A,[2]总表功能注释信息表_AnnotationQueryorigin!$J:$J) -> Leishmaniasis;;Kaposi sarcoma-associated herpesvirus infection;;Chagas disease;;Coronavirus disease - COVID-19;;Viral carcinogenesis;;Tuberculosis;;Systemic lupus erythematosus;;Herpes simplex virus 1 infection;;Legionellosis;;Neuroactive ligand-receptor interaction;;Staphylococcus aureus infection;;Shigellosis;;Pertussis;;Alcoholic liver disease;;Phagosome;;Neutrophil extracellular trap formation;;Complement and coagulation cascades
A55: Syo_11G0004670 | B55: Syo_17G0004570 | C55: 0.9173913043478259 | D55: 2.8641475861943287e-10 | E55: 2.9181413877869725e-08 | G55: =_xlfn.XLOOKUP(B55,[2]总表功能注释信息表_AnnotationQueryorigin!$A:$A,[2]总表功能注释信息表_AnnotationQueryorigin!$G:$G) -> K03910 | H55: =_xlfn.XLOOKUP(A55,[1]功能注释信息表_AnnotationQueryorigin_2!$A:$A,[1]功能注释信息表_AnnotationQueryorigin_2!$H:$H) -> ------ | I55: =_xlfn.XLOOKUP(B55,[1]功能注释信息表_AnnotationQueryorigin_2!$A:$A,[1]功能注释信息表_AnnotationQueryorigin_2!$H:$H) -> A2M | L55: =_xlfn.XLOOKUP(B55,[2]总表功能注释信息表_AnnotationQueryorigin!$A:$A,[2]总表功能注释信息表_AnnotationQueryorigin!$J:$J) -> Complement and coagulation cascades
A56: Syo_11G0004670 | B56: Syo_11G0007640 | C56: 0.914782608695652 | D56: 3.9823245501206764e-10 | E56: 3.8300649062372565e-08 | G56: =_xlfn.XLOOKUP(B56,[2]总表功能注释信息表_AnnotationQueryorigin!$A:$A,[2]总表功能注释信息表_AnnotationQueryorigin!$G:$G) -> K13937 | H56: =_xlfn.XLOOKUP(A56,[1]功能注释信息表_AnnotationQueryorigin_2!$A:$A,[1]功能注释信息表_AnnotationQueryorigin_2!$H:$H) -> ------ | I56: =_xlfn.XLOOKUP(B56,[1]功能注释信息表_AnnotationQueryorigin_2!$A:$A,[1]功能注释信息表_AnnotationQueryorigin_2!$H:$H) -> H6PD | L56: =_xlfn.XLOOKUP(B56,[2]总表功能注释信息表_AnnotationQueryorigin!$A:$A,[2]总表功能注释信息表_AnnotationQueryorigin!$J:$J) -> Pentose phosphate pathway
...

Sheet Sheet1
A2: gene_id_1 | B2: gene_id_2 | C2: cor | D2: p_value | E2: q_value | F2: Pathway Definition
A3: EIF2AK4 | B3: GPAT1 | C3: 0.9182608695652172 | D3: 2.559976932867316e-10 | E3: 2.6844400875980894e-08 | F3: Glycerophospholipid metabolism
A4: EIF2AK4 | B4: IQGAP2 | C4: 0.9539130434782608 | D4: 5.544061620769688e-13 | E4: 1.148988581725972e-10 | F4: Regulation of actin cytoskeleton
A5: CYP1C | B5: KLHL19 | C5: 0.9041415793133986 | D5: 1.3810998931425756e-09 | E5: 1.0573626805602348e-07 | F5: Pathways in cancer
A6: CYP1C | B6: TBCEL | C6: 0.9195563356268236 | D6: 2.160665302728924e-10 | E6: 2.3339027765906782e-08 | F6: ------
A7: SRP14 | B7: TBCEL | C7: -0.92234085 | D7: 1.486047033474458e-10 | E7: 1.6981151926219738e-08 | F7: ------
A8: SRP14 | B8: KLHL19 | C8: -0.90782609 | D8: 9.133169194063351e-10 | E8: 7.56730506539807e-08 | F8: Pathways in cancer
A9: SDS, SDH, CHA1 | B9: ------ | C9: {=-C50.908261489270938} -> #NAME? | D9: 8.687681772102762e-10 | E9: 7.33677048563643e-08 | F9: ------
A10: SDS, SDH, CHA1 | B10: ------ | C10: -0.90196292 | D10: 1.750095963795158e-09 | E10: 1.278347154460957e-07 | F10: ------
A11: SDS, SDH, CHA1 | B11: PARP7 | C11: -0.90608696 | D11: 1.1125336623750209e-09 | E11: 8.918453859369953e-08 | F11: ------
A12: NID | B12: TAO | C12: 0.9086560233231183 | D12: 8.301025200295228e-10 | E12: 7.040427144182644e-08 | F12: MAPK signaling pathway
A13: CLIC4 | B13: TAO | C13: 0.944758680065971 | D13: 3.897158334612969e-12 | E13: 6.823137899320946e-10 | F13: MAPK signaling pathway
A14: CLIC4 | B14: BCKDK | C14: 0.9156521739130434 | D14: 3.5721927946771954e-10 | E14: 3.4950310507224364e-08 | F14: ------
A15: HHAT | B15: A2M | C15: 0.914981539351194 | D15: 3.8849246873436316e-10 | E15: 3.754682230567203e-08 | F15: Complement and coagulation cascades
A16: HHAT | B16: H6PD | C16: 0.904979364729009 | D16: 1.2590062516348594e-09 | E16: 9.852566168021961e-08 | F16: Pentose phosphate pathway
A17: HHAT | B17: SBNO | C17: 0.9467275718476944 | D17: 2.6386592021420447e-12 | E17: 4.834133857548446e-10 | F17: ------
A18: HHAT | B18: CPN1 | C18: 0.908023504831413 | D18: 8.928689337649071e-10 | E18: 7.508181456763668e-08 | F18: ------
A19: GREB1 | B19: ------ | C19: 0.9310719941781872 | D19: 4.170698772888896e-11 | E19: 5.8081577743576744e-09 | F19: ------
A20: GREB1 | B20: BCKDK | C20: 0.9462926946902084 | D20: 2.8796317252323712e-12 | E20: 5.203171639727079e-10 | F20: ------
A21: GREB1 | B21: BRE1 | C21: 0.920634942398516 | D21: 1.8720733028255387e-10 | E21: 2.0732227218009816e-08 | F21: ------
A22: GREB1 | B22: GPAT1_2 | C22: 0.9019352246266048 | D22: 1.7553104076267547e-09 | E22: 1.2797882280389303e-07 | F22: Glycerophospholipid metabolism
A23: GREB1 | B23: ACY3 | C23: -0.90106547 | D23: 1.9263270185033576e-09 | E23: 1.3865515743668517e-07 | F23: ------
A24: GREB1 | B24: ------ | C24: -0.90529419 | D24: 1.2157004914731296e-09 | E24: 9.570580907996988e-08 | F24: ------
A25: ITPK | B25: SBNO | C25: 0.920600587595247 | D25: 1.8807000747240087e-10 | E25: 2.0769504699340204e-08 | F25: ------
A26: ITPK | B26: H6PD | C26: 0.9284317835199702 | D26: 6.228161160432149e-11 | E26: 8.155585960014641e-09 | F26: Pentose phosphate pathway
A27: ITPK | B27: TLR3 | C27: 0.9162132969960326 | D27: 3.3281795354592834e-10 | E27: 3.3139518827163324e-08 | F27: Toll-like receptor signaling pathway
A28: ITPK | B28: PLIN3 | C28: 0.9162499231926228 | D28: 3.3127876537587516e-10 | E28: 3.3139518827163324e-08 | F28: ------
A29: CMPK2 | B29: ------ | C29: 0.9675338321408266 | D29: 1.2525290234860712e-14 | E29: 3.2426539089666778e-12 | F29: ------
A30: CMPK2 | B30: DHX58 | C30: 0.961513395202229 | D30: 7.911944012726095e-14 | E30: 1.887416952232221e-11 | F30: RIG-I-like receptor signaling pathway
A31: CMPK2 | B31: IFIT5 | C31: 0.9266915177589206 | D31: 8.04561744742053e-11 | E31: 1.0230112709593759e-08 | F31: ------
A32: CMPK2 | B32: MOV10 | C32: 0.9428136774303176 | D32: 5.6505449636302546e-12 | E32: 9.47288069794498e-10 | F32: ------
A33: CMPK2 | B33: ------ | C33: 0.9706458155094416 | D33: 4.194636682549293e-15 | E33: 1.1077348063236612e-12 | F33: ------
A34: CMPK2 | B34: RIGI | C34: 0.9260869565217392 | D34: 8.781167998950902e-11 | E34: 1.091920954905767e-08 | F34: RIG-I-like receptor signaling pathway
A35: CMPK2 | B35: RNF213 | C35: 0.9632370987409626 | D35: 4.818062889327373e-14 | E35: 1.1851684230660108e-11 | F35: ------
A36: CMPK2 | B36: ARF4 | C36: 0.9321739130434782 | D36: 3.511396462170555e-11 | E36: 4.995736505395481e-09 | F36: Endocytosis
... A53: GCDH, gcdH | B53: TBCEL | C53: 0.9005875313431764 | D53: 2.026558711408395e-09 | E53: 1.4429134572724818e-07 | F53: ------
A54: glnA, GLUL | B54: ------ | C54: -0.92006276 | D54: 2.0205140461564468e-10 | E54: 2.21278515393286e-08 | F54: ------
A55: ------ | B55: C3 | C55: 0.9034782608695652 | D55: 1.4852231299153265e-09 | E55: 1.1201022307664195e-07 | F55: Leishmaniasis;;Kaposi sarcoma-associated herpesvirus infection;;Chagas disease;;Coronavirus disease - COVID-19;;Viral carcinogenesis;;Tuberculosis;;Systemic lupus erythematosus;;Herpes simplex virus 1 infection;;Legionellosis;;Neuroactive ligand-receptor interaction;;Staphylococcus aureus infection;;Shigellosis;;Pertussis;;Alcoholic liver disease;;Phagosome;;Neutrophil extracellular trap formation;;Complement and coagulation cascades
A56: ------ | B56: A2M | C56: 0.9173913043478259 | D56: 2.8641475861943287e-10 | E56: 2.9181413877869725e-08 | F56: Complement and coagulation cascades
A57: ------ | B57: H6PD | C57: 0.914782608695652 | D57: 3.9823245501206764e-10 | E57: 3.8300649062372565e-08 | F57: Pentose phosphate pathway
...

Sheet Sheet2
B1: Pathway Definition | E1: cor | F1: p_value | H1: gene_id_2 | I1: v | O1: Pathway Definition | P1: v | Q1: 富集因子
B2: Glycerophospholipid metabolism | E2: 0.9182608695652172 | F2: 2.559976932867316e-10 | H2: GPAT1 | I2: 3 | O2: Glycerophospholipid metabolism | P2: =COUNTIF(Sheet2!P:P,O2) -> 3 | Q2: =3/128 -> 0.0234375
B3: Regulation of actin cytoskeleton | E3: 0.9539130434782608 | F3: 5.544061620769688e-13 | H3: IQGAP2 | I3: 1 | O3: Regulation of actin cytoskeleton | P3: =COUNTIF(Sheet2!P:P,O3) -> 1 | Q3: =1/128 -> 0.0078125 | S3: 128
B4: Pathways in cancer | E4: 0.9041415793133986 | F4: 1.3810998931425756e-09 | H4: KLHL19 | I4: 2 | O4: Pathways in cancer | P4: =COUNTIF(Sheet2!P:P,O4) -> 2 | Q4: =2/128 -> 0.015625
B5: Pathways in cancer | E5: -0.90782609 | F5: 9.133169194063351e-10 | H5: KLHL19 | I5: 2 | O5: MAPK signaling pathway | P5: =COUNTIF(Sheet2!P:P,O5) -> 4 | Q5: =P5/R4 -> 0
B6: MAPK signaling pathway | E6: 0.9086560233231183 | F6: 8.301025200295228e-10 | H6: TAO | I6: 8 | O6: Complement and coagulation cascades | P6: =COUNTIF(Sheet2!P:P,O6) -> 8
B7: MAPK signaling pathway | E7: 0.944758680065971 | F7: 3.897158334612969e-12 | H7: TAO | I7: 8 | O7: Pentose phosphate pathway | P7: =COUNTIF(Sheet2!P:P,O7) -> 5
B8: Complement and coagulation cascades | E8: 0.914981539351194 | F8: 3.8849246873436316e-10 | H8: A2M | I8: 8 | O8: Toll-like receptor signaling pathway | P8: =COUNTIF(Sheet2!P:P,O8) -> 4
B9: Pentose phosphate pathway | E9: 0.904979364729009 | F9: 1.2590062516348594e-09 | H9: H6PD | I9: 5 | O9: RIG-I-like receptor signaling pathway | P9: =COUNTIF(Sheet2!P:P,O9) -> 12
B10: Glycerophospholipid metabolism | E10: 0.9019352246266048 | F10: 1.7553104076267547e-09 | H10: GPAT1_2 | I10: 3 | O10: Endocytosis | P10: =COUNTIF(Sheet2!P:P,O10) -> 10
B11: Pentose phosphate pathway | E11: 0.9284317835199702 | F11: 6.228161160432149e-11 | H11: H6PD | I11: 5 | O11: JAK-STAT signaling pathway | P11: =COUNTIF(Sheet2!P:P,O11) -> 11
B12: Toll-like receptor signaling pathway | E12: 0.9162132969960326 | F12: 3.3281795354592834e-10 | H12: TLR3 | I12: 4 | O12: Hematopoietic cell lineage | P12: =COUNTIF(Sheet2!P:P,O12) -> 8
B13: RIG-I-like receptor signaling pathway | E13: 0.961513395202229 | F13: 7.911944012726095e-14 | H13: DHX58 | I13: 12 | O13: Neuroactive ligand-receptor interaction | P13: =COUNTIF(Sheet2!P:P,O13) -> 1
B14: RIG-I-like receptor signaling pathway | E14: 0.9260869565217392 | F14: 8.781167998950902e-11 | H14: RIGI | I14: 12 | O14: Butanoate metabolism | P14: =COUNTIF(Sheet2!P:P,O14) -> 6
B15: Endocytosis | E15: 0.9321739130434782 | F15: 3.511396462170555e-11 | H15: ARF4 | I15: 10 | O15: Cell adhesion molecules | P15: =COUNTIF(Sheet2!P:P,O15) -> 2
B16: JAK-STAT signaling pathway | E16: 0.9417391304347826 | F16: 6.899695739958273e-12 | H16: STAT4 | I16: 11 | O16: Cytoskeleton in muscle cells | P16: =COUNTIF(Sheet2!P:P,O16) -> 3
B17: RIG-I-like receptor signaling pathway | E17: 0.9541204835249618 | F17: 5.280780226254028e-13 | H17: ZNFX1 | I17: 12 | O17: Chemical carcinogenesis - reactive oxygen species | P17: =COUNTIF(Sheet2!P:P,O17) -> 4
B18: Hematopoietic cell lineage | E18: 0.9904347826086956 | F18: 2.021573663113372e-20 | H18: CD9 | I18: 8 | O18: FoxO signaling pathway | P18: =COUNTIF(Sheet2!P:P,O18) -> 1
B19: Neuroactive ligand-receptor interaction | E19: -0.90204692 | F19: 1.7343701248151794e-09 | H19: TMEM97 | I19: 1 | O19: Fat digestion and absorption | P19: =COUNTIF(Sheet2!P:P,O19) -> 3
B20: Butanoate metabolism | E20: -0.9199655 | F20: 2.0467764673789144e-10 | H20: ACSM | I20: 6 | O20: Aminoacyl-tRNA biosynthesis | P20: =COUNTIF(Sheet2!P:P,O20) -> 4
B21: Cell adhesion molecules | E21: 0.9234782608695652 | F21: 1.2702470317295964e-10 | H21: CDH1 | I21: 2 | O21: Glycine, serine and threonine metabolism | P21: =COUNTIF(Sheet2!P:P,O21) -> 6
B22: Cytoskeleton in muscle cells | E22: 0.9224818567363716 | F22: 1.4576091504471174e-10 | H22: TMOD | I22: 3 | O22: Protein digestion and absorption | P22: =COUNTIF(Sheet2!P:P,O22) -> 4
B23: Chemical carcinogenesis - reactive oxygen species | E23: 0.9208695652173912 | F23: 1.8141058945837567e-10 | H23: AS3MT | I23: 4 | O23: Steroid biosynthesis | P23: =COUNTIF(Sheet2!P:P,O23) -> 1
B24: Butanoate metabolism | E24: 0.9433962264150944 | F24: 5.062490688228913e-12 | H24: ACSM | I24: 6 | O24: Growth hormone synthesis | P24: =COUNTIF(Sheet2!P:P,O24) -> 8
B25: FoxO signaling pathway | E25: 0.9088143991523012 | F25: 8.150225454302531e-10 | H25: BCL6 | I25: 1 | O25: Arginine and proline metabolism | P25: =COUNTIF(Sheet2!P:P,O25) -> 1
B26: Complement and coagulation cascades | E26: 0.9452173913043478 | F26: 3.563267590026003e-12 | H26: C3 | I26: 8 | O26: Circadian rhythm | P26: =COUNTIF(Sheet2!P:P,O26) -> 5
B27: Fat digestion and absorption | E27: 0.9382608695652171 | F27: 1.2845258519229956e-11 | H27: ABCA1 | I27: 3 | O27: AMPK signaling pathway | P27: =COUNTIF(Sheet2!P:P,O27) -> 1
B28: Complement and coagulation cascades | E28: 0.9582608695652172 | F28: 1.9022496036938712e-13 | H28: A2M | I28: 8 | O28: Cytosolic DNA-sensing pathway;;Lysosome | P28: =COUNTIF(Sheet2!P:P,O28) -> 1
B29: RIG-I-like receptor signaling pathway | E29: 0.9382340147890388 | F29: 1.2905221258087412e-11 | H29: DHX58 | I29: 12 | O29: Glucagon signaling pathway | P29: =COUNTIF(Sheet2!P:P,O29) -> 3
B30: RIG-I-like receptor signaling pathway | E30: 0.904979364729009 | F30: 1.2590062516348594e-09 | H30: RIGI | I30: 12 | O30: Protein processing in endoplasmic reticulum | P30: =COUNTIF(Sheet2!P:P,O30) -> 1
B31: Hematopoietic cell lineage | E31: 0.952815852052503 | F31: 7.144938666467851e-13 | H31: CD9 | I31: 8 | O31: Glycosphingolipid biosynthesis - ganglio series | P31: =COUNTIF(Sheet2!P:P,O31) -> 1
B32: JAK-STAT signaling pathway | E32: 0.9184605566110844 | F32: 2.4943818313513563e-10 | H32: STAT4 | I32: 11 | O32: Cell adhesion molecule | P32: =COUNTIF(Sheet2!P:P,O32) -> 1
B33: Endocytosis | E33: 0.9088932591463856 | F33: 8.076062540928977e-10 | H33: ARF4 | I33: 10 | O33: Necroptosis | P33: =COUNTIF(Sheet2!P:P,O33) -> 1
B34: MAPK signaling pathway | E34: -0.90778608 | F34: 9.175118132741388e-10 | H34: TAO | I34: 3 | O34: Systemic lupus erythematosus | P34: =COUNTIF(Sheet2!P:P,O34) -> 1
B35: Aminoacyl-tRNA biosynthesis | E35: 0.9323766256506464 | F35: 3.400918670663218e-11 | H35: SARS | I35: 3 | O35: Parathyroid hormone synthesis | P35: =COUNTIF(Sheet2!P:P,O35) -> 1
B36: Glycine, serine and threonine metabolism | E36: 0.9208695652173912 | F36: 1.8141058945837567e-10 | H36: serC
B37: Protein digestion and absorption | E37: 0.9069565217391304 | F37: 1.0085009676099369e-09 | H37: SLC7A9_15
B38: Complement and coagulation cascades | E38: 0.942608695652174 | F38: 5.871718607937182e-12 | H38: A2M
B39: Complement and coagulation cascades | E39: 0.9434782608695652 | F39: 4.984286809250041e-12 | H39: C3
B40: Aminoacyl-tRNA biosynthesis | E40: 0.9390778143169078 | F40: 1.1137237637019235e-11 | H40: MTFMT
...

Sheet Sheet3
A1: Pathway Definition | B1: v | C1: 富集
A2: Glycerophospholipid metabolism | B2: =COUNTIF(Sheet2!B:B,A2) -> 3 | C2: =B2/$A$36 -> 0.0234375
A3: Regulation of actin cytoskeleton | B3: =COUNTIF(Sheet2!B:B,A3) -> 1 | C3: =B3/$A$36 -> 0.0078125
A4: Pathways in cancer | B4: =COUNTIF(Sheet2!B:B,A4) -> 2 | C4: =B4/$A$36 -> 0.015625
A5: MAPK signaling pathway | B5: =COUNTIF(Sheet2!B:B,A5) -> 4 | C5: =B5/$A$36 -> 0.03125
A6: Complement and coagulation cascades | B6: =COUNTIF(Sheet2!B:B,A6) -> 8 | C6: =B6/$A$36 -> 0.0625
A7: Pentose phosphate pathway | B7: =COUNTIF(Sheet2!B:B,A7) -> 5 | C7: =B7/$A$36 -> 0.0390625
A8: Toll-like receptor signaling pathway | B8: =COUNTIF(Sheet2!B:B,A8) -> 4 | C8: =B8/$A$36 -> 0.03125
A9: RIG-I-like receptor signaling pathway | B9: =COUNTIF(Sheet2!B:B,A9) -> 12 | C9: =B9/$A$36 -> 0.09375
A10: Endocytosis | B10: =COUNTIF(Sheet2!B:B,A10) -> 10 | C10: =B10/$A$36 -> 0.078125
A11: JAK-STAT signaling pathway | B11: =COUNTIF(Sheet2!B:B,A11) -> 11 | C11: =B11/$A$36 -> 0.0859375
A12: Hematopoietic cell lineage | B12: =COUNTIF(Sheet2!B:B,A12) -> 8 | C12: =B12/$A$36 -> 0.0625
A13: Neuroactive ligand-receptor interaction | B13: =COUNTIF(Sheet2!B:B,A13) -> 1 | C13: =B13/$A$36 -> 0.0078125
... A35: Parathyroid hormone synthesis | B35: =COUNTIF(Sheet2!B:B,A35) -> 1 | C35: =B35/$A$36 -> 0.0078125
A36: 128

Sheet A列 
A1: gene_id_1 | B1: gene_id_2 | C1: cor | D1: p_value | E1: q_value | G1: KO id | J1: Pathway Definition
A2: Syo_10G0000320 | B2: Syo_19G0002020 | C2: 0.9182608695652172 | D2: 2.559976932867316e-10 | E2: 2.6844400875980894e-08 | G2: K00629 | H2: EIF2AK4 | J2: Glycerophospholipid metabolism
A3: Syo_10G0000320 | B3: Syo_16G0000280 | C3: 0.9539130434782608 | D3: 5.544061620769688e-13 | E3: 1.148988581725972e-10 | G3: K05767 | H3: EIF2AK4 | J3: Glycerophospholipid metabolism
A4: Syo_10G0000400 | B4: Syo_7G0008210 | C4: 0.9041415793133986 | D4: 1.3810998931425756e-09 | E4: 1.0573626805602348e-07 | G4: K10456 | H4: CYP1C | J4: Ubiquitin mediated proteolysis
A5: Syo_10G0000490 | B5: Syo_7G0008210 | C5: -0.90782609 | D5: 9.133169194063351e-10 | E5: 7.56730506539807e-08 | G5: K10456 | H5: SRP14 | J5: Ubiquitin mediated proteolysis
A6: Syo_10G0002180 | B6: Syo_4G0012430 | C6: 0.9086560233231183 | D6: 8.301025200295228e-10 | E6: 7.040427144182644e-08 | G6: K04429 | H6: NID | J6: MAPK signaling pathway
A7: Syo_10G0004220 | B7: Syo_4G0012430 | C7: 0.944758680065971 | D7: 3.897158334612969e-12 | E7: 6.823137899320946e-10 | G7: K04429 | H7: CLIC4 | J7: MAPK signaling pathway
A8: Syo_10G0004300 | B8: Syo_17G0004570 | C8: 0.914981539351194 | D8: 3.8849246873436316e-10 | E8: 3.754682230567203e-08 | G8: K03910 | H8: HHAT | J8: Complement and coagulation cascades
A9: Syo_10G0004300 | B9: Syo_11G0007640 | C9: 0.904979364729009 | D9: 1.2590062516348594e-09 | E9: 9.852566168021961e-08 | G9: K13937 | H9: HHAT | J9: Pentose phosphate pathway
A10: Syo_10G0004960 | B10: Syo_19G0002020 | C10: 0.9019352246266048 | D10: 1.7553104076267547e-09 | E10: 1.2797882280389303e-07 | G10: K00629 | H10: GREB1 | J10: Glycerophospholipid metabolism
A11: Syo_10G0005220 | B11: Syo_11G0007640 | C11: 0.9284317835199702 | D11: 6.228161160432149e-11 | E11: 8.155585960014641e-09 | G11: K13937 | H11: ITPK | J11: Pentose phosphate pathway
A12: Syo_10G0005220 | B12: Syo_5G0001480 | C12: 0.9162132969960326 | D12: 3.3281795354592834e-10 | E12: 3.3139518827163324e-08 | G12: K05401 | H12: ITPK | J12: Kaposi sarcoma-associated herpesvirus infection;;Influenza A;;Human papillomavirus infection;;Hepatitis C;;Hepatitis B;;Herpes simplex virus 1 infection;;Toll-like receptor signaling pathway;;Coronavirus disease - COVID-19;;Necroptosis
A13: Syo_10G0005840 | B13: Syo_6G0008710 | C13: 0.961513395202229 | D13: 7.911944012726095e-14 | E13: 1.887416952232221e-11 | G13: K12649 | H13: CMPK2 | J13: RIG-I-like receptor signaling pathway
A14: Syo_10G0005840 | B14: Syo_2G0017470 | C14: 0.9260869565217392 | D14: 8.781167998950902e-11 | E14: 1.091920954905767e-08 | G14: K12646 | H14: CMPK2 | J14: RIG-I-like receptor signaling pathway
A15: Syo_10G0005840 | B15: Syo_9G0005750 | C15: 0.9321739130434782 | D15: 3.511396462170555e-11 | E15: 4.995736505395481e-09 | G15: K07939 | H15: CMPK2 | J15: RIG-I-like receptor signaling pathway
A16: Syo_10G0005840 | B16: Syo_8G0001620 | C16: 0.9417391304347826 | D16: 6.899695739958273e-12 | E16: 1.1373838733253551e-09 | G16: K11222 | H16: CMPK2 | J16: RIG-I-like receptor signaling pathway
A17: Syo_10G0005840 | B17: Syo_11G0009280 | C17: 0.9541204835249618 | D17: 5.280780226254028e-13 | E17: 1.1086393642964577e-10 | G17: K27391 | H17: CMPK2 | J17: RIG-I-like receptor signaling pathway
A18: Syo_10G0005840 | B18: Syo_6G0011980 | C18: 0.9904347826086956 | D18: 2.021573663113372e-20 | E18: 5.64047625487968e-18 | G18: K06460 | H18: CMPK2 | J18: RIG-I-like receptor signaling pathway
A19: Syo_11G0005720 | B19: Syo_17G0004000 | C19: -0.90204692 | D19: 1.7343701248151794e-09 | E19: 1.2692085210892758e-07 | G19: K26171 | H19: UAP1 | J19: Neuroactive ligand-receptor interaction
A20: Syo_11G0005720 | B20: Syo_7G0008860 | C20: -0.9199655 | D20: 2.0467764673789144e-10 | E20: 2.2230469964333764e-08 | G20: K01896 | H20: UAP1 | J20: Butanoate metabolism
A21: Syo_11G0005950 | B21: Syo_3G0010330 | C21: 0.9234782608695652 | D21: 1.2702470317295964e-10 | E21: 1.494783545043229e-08 | G21: K05689 | H21: CTH | J21: Cell adhesion molecules;;Thyroid cancer;;Hippo signaling pathway;;Endometrial cancer;;Rap1 signaling pathway;;Pathways in cancer;;Melanoma;;Bladder cancer;;Apelin signaling pathway;;Gastric cancer;;Bacterial invasion of epithelial cells;;Adherens junction
A22: Syo_11G0005950 | B22: Syo_5G0002040 | C22: 0.9224818567363716 | D22: 1.4576091504471174e-10 | E22: 1.670453935100941e-08 | G22: K10370 | H22: CTH | J22: Cytoskeleton in muscle cells
A23: Syo_11G0005950 | B23: Syo_5G0005350 | C23: 0.9208695652173912 | D23: 1.8141058945837567e-10 | E23: 2.014678137021491e-08 | G23: K07755 | H23: CTH | J23: Chemical carcinogenesis - reactive oxygen species
A24: Syo_11G0006260 | B24: Syo_7G0008860 | C24: 0.9433962264150944 | D24: 5.062490688228913e-12 | E24: 8.523226593459342e-10 | G24: K01896 | H24: APOF | J24: Butanoate metabolism
A25: Syo_11G0006260 | B25: Syo_7G0001590 | C25: 0.9088143991523012 | D25: 8.150225454302531e-10 | E25: 6.987513052086768e-08 | G25: K15618 | H25: APOF | J25: Chemical carcinogenesis - receptor activation;;FoxO signaling pathway;;Transcriptional misregulation in cancer
A26: Syo_11G0007640 | B26: Syo_5G0009630 | C26: 0.9452173913043478 | D26: 3.563267590026003e-12 | E26: 6.294388639285082e-10 | G26: K03990 | H26: H6PD | J26: Leishmaniasis;;Kaposi sarcoma-associated herpesvirus infection;;Chagas disease;;Coronavirus disease - COVID-19;;Viral carcinogenesis;;Tuberculosis;;Systemic lupus erythematosus;;Herpes simplex virus 1 infection;;Legionellosis;;Neuroactive ligand-receptor interaction;;Staphylococcus aureus infection;;Shigellosis;;Pertussis;;Alcoholic liver disease;;Phagosome;;Neutrophil extracellular trap formation;;Complement and coagulation cascades
A27: Syo_11G0007640 | B27: Syo_13G0004660 | C27: 0.9382608695652171 | D27: 1.2845258519229956e-11 | E27: 2.0573518416570323e-09 | G27: K05641 | H27: H6PD | J27: Efferocytosis;;Lipid and atherosclerosis;;ABC transporters;;Fat digestion and absorption;;Cholesterol metabolism
A28: Syo_11G0007640 | B28: Syo_17G0004570 | C28: 0.9582608695652172 | D28: 1.9022496036938712e-13 | E28: 4.2793028762755494e-11 | G28: K03910 | H28: H6PD | J28: Complement and coagulation cascades
A29: Syo_11G0009280 | B29: Syo_6G0008710 | C29: 0.9382340147890388 | D29: 1.2905221258087412e-11 | E29: 2.058604395474424e-09 | G29: K12649 | H29: ZNFX1 | J29: RIG-I-like receptor signaling pathway
A30: Syo_11G0009280 | B30: Syo_2G0017470 | C30: 0.904979364729009 | D30: 1.2590062516348594e-09 | E30: 9.852566168021961e-08 | G30: K12646 | H30: ZNFX1 | J30: RIG-I-like receptor signaling pathwaypathway
A31: Syo_11G0009280 | B31: Syo_6G0011980 | C31: 0.952815852052503 | D31: 7.144938666467851e-13 | E31: 1.4355508957836334e-10 | G31: K06460 | H31: ZNFX1 | J31: Hematopoietic cell lineage;;Virion - Hepatitis viruses
A32: Syo_11G0009280 | B32: Syo_8G0001620 | C32: 0.9184605566110844 | D32: 2.4943818313513563e-10 | E32: 2.622621621642269e-08 | G32: K11222 | H32: ZNFX1 | J32: Pathways in cancer;;Inflammatory bowel disease;;Th1 and Th2 cell differentiation;;Hepatitis B;;JAK-STAT signaling pathway;;Necroptosis
A33: Syo_11G0009280 | B33: Syo_9G0005750 | C33: 0.9088932591463856 | D33: 8.076062540928977e-10 | E33: 6.954132762206032e-08 | G33: K07939 | H33: ZNFX1 | J33: Endocytosis
A34: Syo_12G0007510 | B34: Syo_4G0012430 | C34: -0.90778608 | D34: 9.175118132741388e-10 | E34: 7.586141391407256e-08 | G34: K04429 | H34: GST, gst | J34: MAPK signaling pathway
A35: Syo_13G0001610 | B35: Syo_17G0005790 | C35: 0.9323766256506464 | D35: 3.400918670663218e-11 | E35: 4.856056765899428e-09 | G35: K01875 | H35: CFL | J35: Aminoacyl-tRNA biosynthesis
A36: Syo_13G0001610 | B36: Syo_4G0002620 | C36: 0.9208695652173912 | D36: 1.8141058945837567e-10 | E36: 2.014678137021491e-08 | G36: K00831 | H36: CFL | J36: Cysteine and methionine metabolism;;Vitamin B6 metabolism;;Glycine, serine and threonine metabolism;;Biosynthesis of cofactors
A37: Syo_13G0001610 | B37: Syo_3G0006730 | C37: 0.9069565217391304 | D37: 1.0085009676099369e-09 | E37: 8.201055087893742e-08 | G37: K13868 | H37: CFL | J37: Protein digestion and absorption
A38: Syo_13G0004660 | B38: Syo_17G0004570 | C38: 0.942608695652174 | D38: 5.871718607937182e-12 | E38: 9.802045940831452e-10 | G38: K03910 | H38: ABCA1 | J38: Complement and coagulation cascades
A39: Syo_13G0004660 | B39: Syo_5G0009630 | C39: 0.9434782608695652 | D39: 4.984286809250041e-12 | E39: 8.427500444222537e-10 | G39: K03990 | H39: ABCA1 | J39: Leishmaniasis;;Kaposi sarcoma-associated herpesvirus infection;;Chagas disease;;Coronavirus disease - COVID-19;;Viral carcinogenesis;;Tuberculosis;;Systemic lupus erythematosus;;Herpes simplex virus 1 infection;;Legionellosis;;Neuroactive ligand-receptor interaction;;Staphylococcus aureus infection;;Shigellosis;;Pertussis;;Alcoholic liver disease;;Phagosome;;Neutrophil extracellular trap formation;;Complement and coagulation cascades
A40: Syo_13G0006150 | B40: Syo_3G0008660 | C40: 0.9390778143169078 | D40: 1.1137237637019235e-11 | E40: 1.805764724962373e-09 | G40: K00604 | H40: BRE1 | J40: Aminoacyl-tRNA biosynthesis
...
