Workbook

Sheet Raw Data (SIMULATED)
A1: SIMULATED Raw Data — AFL Learner Questionnaire Responses (n = 40)
A2: 5-point Likert scale (1 = Strongly Disagree/Low ... 5 = Strongly Agree/High). SIMULATED — see
A4: Respondent ID | B4: Script Difficulty | C4: Communication Ability | D4: Material Relevance | E4: Phonetic Support | F4: Digital Learning | G4: Overall Frustration
A5: L01 | B5: 5 | C5: 2 | D5: 2 | E5: 4 | F5: 3 | G5: 5
A6: L02 | B6: 5 | C6: 2 | D6: 2 | E6: 5 | F6: 2 | G6: 5
A7: L03 | B7: 4 | C7: 1 | D7: 2 | E7: 3 | F7: 1 | G7: 4
A8: L04 | B8: 3 | C8: 2 | D8: 2 | E8: 3 | F8: 4 | G8: 3
A9: L05 | B9: 4 | C9: 3 | D9: 3 | E9: 3 | F9: 2 | G9: 4
A10: L06 | B10: 4 | C10: 4 | D10: 3 | E10: 4 | F10: 4 | G10: 3
A11: L07 | B11: 4 | C11: 1 | D11: 2 | E11: 5 | F11: 1 | G11: 5
A12: L08 | B12: 4 | C12: 3 | D12: 3 | E12: 4 | F12: 2 | G12: 4
A13: L09 | B13: 4 | C13: 1 | D13: 3 | E13: 4 | F13: 3 | G13: 4
A14: L10 | B14: 5 | C14: 3 | D14: 3 | E14: 5 | F14: 2 | G14: 4
A15: L11 | B15: 4 | C15: 3 | D15: 3 | E15: 4 | F15: 2 | G15: 3
A16: L12 | B16: 4 | C16: 4 | D16: 4 | E16: 4 | F16: 3 | G16: 3
... A44: L40 | B44: 5 | C44: 2 | D44: 2 | E44: 5 | F44: 1 | G44: 5

Sheet Processed Data (SIMULATED)
A1: SIMULATED Processed / Analysis-Ready Data — computed live from 'Raw Data (SIMULATED)'
A3: Table 1. Descriptive Statistics
A4: Variable | B4: Mean (M) - Simulated | C4: SD - Simulated
A5: Script Difficulty | B5: =AVERAGE('Raw Data (SIMULATED)'!B5:B44) -> 4.15 | C5: =STDEV('Raw Data (SIMULATED)'!B5:B44) -> 0.66216428
A6: Communication Ability | B6: =AVERAGE('Raw Data (SIMULATED)'!C5:C44) -> 2.55 | C6: =STDEV('Raw Data (SIMULATED)'!C5:C44) -> 0.87559504
A7: Material Relevance | B7: =AVERAGE('Raw Data (SIMULATED)'!D5:D44) -> 2.825 | C7: =STDEV('Raw Data (SIMULATED)'!D5:D44) -> 0.71207533
A8: Phonetic Support | B8: =AVERAGE('Raw Data (SIMULATED)'!E5:E44) -> 4.05 | C8: =STDEV('Raw Data (SIMULATED)'!E5:E44) -> 0.71432234
A9: Digital Learning | B9: =AVERAGE('Raw Data (SIMULATED)'!F5:F44) -> 2.475 | C9: =STDEV('Raw Data (SIMULATED)'!F5:F44) -> 0.8766925
A10: Overall Frustration | B10: =AVERAGE('Raw Data (SIMULATED)'!G5:G44) -> 3.975 | C10: =STDEV('Raw Data (SIMULATED)'!G5:G44) -> 0.69752309
A13: Table 2. Pearson Correlation Matrix
A14: Variable | B14: Script Diff. | C14: Comm. Ability | D14: Material Rel. | E14: Phonetic Supp. | F14: Digital Learn. | G14: Overall Frust.
A15: Script Diff. | B15: =CORREL('Raw Data (SIMULATED)'!B5:B44,'Raw Data (SIMULATED)'!B5:B44) -> 1 | C15: =CORREL('Raw Data (SIMULATED)'!B5:B44,'Raw Data (SIMULATED)'!C5:C44) -> -0.32284139 | D15: =CORREL('Raw Data (SIMULATED)'!B5:B44,'Raw Data (SIMULATED)'!D5:D44) -> -0.16042266 | E15: =CORREL('Raw Data (SIMULATED)'!B5:B44,'Raw Data (SIMULATED)'!E5:E44) -> 0.47162266 | F15: =CORREL('Raw Data (SIMULATED)'!B5:B44,'Raw Data (SIMULATED)'!F5:F44) -> -0.43506944 | G15: =CORREL('Raw Data (SIMULATED)'!B5:B44,'Raw Data (SIMULATED)'!G5:G44) -> 0.56347817
A16: Comm. Ability | B16: =CORREL('Raw Data (SIMULATED)'!C5:C44,'Raw Data (SIMULATED)'!B5:B44) -> -0.32284139 | C16: =CORREL('Raw Data (SIMULATED)'!C5:C44,'Raw Data (SIMULATED)'!C5:C44) -> 1 | D16: =CORREL('Raw Data (SIMULATED)'!C5:C44,'Raw Data (SIMULATED)'!D5:D44) -> 0.36395646 | E16: =CORREL('Raw Data (SIMULATED)'!C5:C44,'Raw Data (SIMULATED)'!E5:E44) -> -0.33206483 | F16: =CORREL('Raw Data (SIMULATED)'!C5:C44,'Raw Data (SIMULATED)'!F5:F44) -> 0.28559521 | G16: =CORREL('Raw Data (SIMULATED)'!C5:C44,'Raw Data (SIMULATED)'!G5:G44) -> -0.56467141
A17: Material Rel. | B17: =CORREL('Raw Data (SIMULATED)'!D5:D44,'Raw Data (SIMULATED)'!B5:B44) -> -0.16042266 | C17: =CORREL('Raw Data (SIMULATED)'!D5:D44,'Raw Data (SIMULATED)'!C5:C44) -> 0.36395646 | D17: =CORREL('Raw Data (SIMULATED)'!D5:D44,'Raw Data (SIMULATED)'!D5:D44) -> 1 | E17: =CORREL('Raw Data (SIMULATED)'!D5:D44,'Raw Data (SIMULATED)'!E5:E44) -> -0.18399587 | F17: =CORREL('Raw Data (SIMULATED)'!D5:D44,'Raw Data (SIMULATED)'!F5:F44) -> 0.34193724 | G17: =CORREL('Raw Data (SIMULATED)'!D5:D44,'Raw Data (SIMULATED)'!G5:G44) -> -0.42202543
A18: Phonetic Supp. | B18: =CORREL('Raw Data (SIMULATED)'!E5:E44,'Raw Data (SIMULATED)'!B5:B44) -> 0.47162266 | C18: =CORREL('Raw Data (SIMULATED)'!E5:E44,'Raw Data (SIMULATED)'!C5:C44) -> -0.33206483 | D18: =CORREL('Raw Data (SIMULATED)'!E5:E44,'Raw Data (SIMULATED)'!D5:D44) -> -0.18399587 | E18: =CORREL('Raw Data (SIMULATED)'!E5:E44,'Raw Data (SIMULATED)'!E5:E44) -> 1 | F18: =CORREL('Raw Data (SIMULATED)'!E5:E44,'Raw Data (SIMULATED)'!F5:F44) -> -0.24361882 | G18: =CORREL('Raw Data (SIMULATED)'!E5:E44,'Raw Data (SIMULATED)'!G5:G44) -> 0.4142652
A19: Digital Learn. | B19: =CORREL('Raw Data (SIMULATED)'!F5:F44,'Raw Data (SIMULATED)'!B5:B44) -> -0.43506944 | C19: =CORREL('Raw Data (SIMULATED)'!F5:F44,'Raw Data (SIMULATED)'!C5:C44) -> 0.28559521 | D19: =CORREL('Raw Data (SIMULATED)'!F5:F44,'Raw Data (SIMULATED)'!D5:D44) -> 0.34193724 | E19: =CORREL('Raw Data (SIMULATED)'!F5:F44,'Raw Data (SIMULATED)'!E5:E44) -> -0.24361882 | F19: =CORREL('Raw Data (SIMULATED)'!F5:F44,'Raw Data (SIMULATED)'!F5:F44) -> 1 | G19: =CORREL('Raw Data (SIMULATED)'!F5:F44,'Raw Data (SIMULATED)'!G5:G44) -> -0.44131797
A20: Overall Frust. | B20: =CORREL('Raw Data (SIMULATED)'!G5:G44,'Raw Data (SIMULATED)'!B5:B44) -> 0.56347817 | C20: =CORREL('Raw Data (SIMULATED)'!G5:G44,'Raw Data (SIMULATED)'!C5:C44) -> -0.56467141 | D20: =CORREL('Raw Data (SIMULATED)'!G5:G44,'Raw Data (SIMULATED)'!D5:D44) -> -0.42202543 | E20: =CORREL('Raw Data (SIMULATED)'!G5:G44,'Raw Data (SIMULATED)'!E5:E44) -> 0.4142652 | F20: =CORREL('Raw Data (SIMULATED)'!G5:G44,'Raw Data (SIMULATED)'!F5:F44) -> -0.44131797 | G20: =CORREL('Raw Data (SIMULATED)'!G5:G44,'Raw Data (SIMULATED)'!G5:G44) -> 1
