Workbook

Sheet QPcr Raw Data
B1: ABCB1 | C1: ABCC1 | D1: ABCC2 | E1: ABCC3 | F1: ABCC6 | G1: ABCC10 | H1: ABCC11 | I1: ABCC12 | J1: ABCG | K1: ABCC4 | L1: ABCC5 | M1: 18S
A2: 1 | B2: 35.31 | C2: 35.99 | D2: 36.9 | E2: 33.93 | F2: 35.92 | G2: 36.99 | H2: 37.9 | I2: 34.54 | J2: 30.74 | K2: 35.6 | L2: 33.25 | M2: 28.4
A3: 2 | B3: 35.44 | C3: 35.78 | D3: 36.18 | E3: 33.75 | F3: 36.3 | G3: 37.89 | H3: 36.84 | I3: 33.76 | J3: 29.51 | K3: 34.4 | L3: 31.63 | M3: 27.28
A4: 3 | B4: 37.69 | C4: 38.32 | D4: 38.22 | E4: 37.71 | F4: 37.33 | G4: 38.76 | H4: 39.25 | I4: 38.06 | J4: 34.71 | K4: 37.34 | L4: 35.79 | M4: 31.2
A5: 4 | B5: 37.75 | C5: 40.68 | E5: 41.73 | F5: 39.35 | G5: 41.25 | H5: 44.87 | I5: 41.56 | J5: 33.17 | K5: 38.49 | L5: 37.82 | M5: 31.35
A6: 5 | B6: 37.48 | C6: 35.92 | D6: 37.21 | E6: 33.76 | G6: 34.69 | H6: 45.6 | I6: 34.15 | J6: 33.16 | K6: 35.29 | L6: 35.41 | M6: 25.1
A7: 6 | B7: 29.66 | C7: 28.69 | D7: 28.7 | E7: 27.16 | F7: 27.45 | G7: 29.15 | H7: 29.8 | I7: 27.8 | J7: 22.25 | K7: 28.67 | L7: 25.53 | M7: 20.21
A8: 7 | I8: 36.35 | J8: 36.19 | K8: 39.16 | L8: 38.83 | M8: 31.32
A9: 8 | D9: 37.5 | E9: 33.41 | H9: 38.66 | I9: 36.29 | J9: 30.91 | K9: 36.88 | L9: 33.85 | M9: 28.4
A10: 9 | B10: 43.23 | C10: 37.77 | D10: 40.79 | G10: 37.42 | H10: 37.88 | I10: 36.5 | J10: 31.29 | K10: 39.05 | L10: 35.19 | M10: 28.39
A11: 10 | B11: 37.67 | C11: 35.5 | D11: 37.38 | E11: 34.45 | F11: 39.83 | H11: 37.29 | I11: 34.14 | J11: 32.49 | K11: 46.43 | L11: 36.12 | M11: 28.5
A12: 11 | B12: 39.74 | C12: 42.3 | D12: 38.67 | E12: 43.46 | F12: 37.18 | H12: 43.7 | J12: 34.08 | K12: 40.08 | L12: 34 | M12: 28.36
A13: 12 | B13: 34.08 | C13: 33.34 | D13: 34.75 | E13: 31.01 | F13: 34.29 | G13: 35.4 | H13: 35.1 | I13: 31.76 | J13: 27.42 | K13: 33.38 | L13: 30.57 | M13: 24.9
A14: 13 | B14: 34.35 | C14: 35.9 | D14: 36.64 | E14: 33.5 | F14: 35.77 | G14: 37.2 | H14: 38.2 | I14: 34.78 | J14: 30.22 | K14: 35.49 | L14: 32.83 | M14: 26.3
A15: 14 | B15: 38.03 | C15: 32.74 | D15: 37.26 | E15: 32.68 | F15: 31.61 | G15: 33.52 | H15: 38.22 | I15: 38.53 | J15: 28.88 | K15: 31.88 | L15: 31.13 | M15: 26.7
A16: 15 | B16: 41.83 | C16: 45.27 | F16: 41.4 | G16: 37.68 | H16: 41.39 | I16: 36.74 | J16: 33.66 | K16: 38.07 | L16: 36.31 | M16: 32.37
A17: 16 | B17: 31.96 | C17: 33.24 | D17: 33.59 | E17: 32.01 | F17: 34.22 | G17: 34.94 | H17: 32.75 | I17: 30.18 | J17: 28.55 | K17: 37.05 | L17: 30.67 | M17: 25.69
A18: 17 | B18: 32.34 | C18: 30.46 | D18: 33.61 | E18: 29.81 | F18: 30.42 | G18: 31.05 | H18: 34.47 | J18: 30.44 | K18: 32.55 | L18: 29.03 | M18: 25.58
A19: 18 | B19: 26.6 | C19: 30.97 | D19: 31.73 | E19: 26.36 | F19: 29.96 | G19: 32.47 | H19: 31.03 | I19: 27.67 | J19: 25.62 | K19: 29.74 | L19: 27.99 | M19: 19.25
A20: 19 | B20: 25.05 | C20: 26.18 | D20: 26.12 | E20: 21.54 | F20: 26.7 | G20: 26.37 | H20: 26.26 | I20: 25.33 | J20: 21.2 | K20: 28.76 | L20: 24.56 | M20: 15.62
A21: 20 | B21: 24.96 | C21: 26.57 | D21: 26.71 | E21: 23.27 | F21: 25.46 | G21: 27.5 | H21: 22.96 | I21: 26.17 | J21: 23.4 | K21: 22.63 | L21: 25.55 | M21: 15.51
A22: 21 | B22: 35.42 | C22: 39.4 | D22: 39.64 | E22: 36.72 | F22: 38.67 | G22: 46.75 | H22: 36.16 | I22: 37.62 | J22: 36.61 | K22: 42.39 | M22: 29.36
A23: 22 | B23: 35.63 | C23: 38.83 | D23: 37.2 | E23: 34.03 | F23: 37.17 | G23: 37.43 | H23: 39.53 | I23: 36.96 | J23: 32.24 | K23: 33.58 | L23: 35.29 | M23: 26.24
A24: 23 | B24: 35.01 | C24: 36.31 | D24: 39.92 | E24: 34.07 | F24: 41.76 | G24: 48 | H24: 39.4 | I24: 39.29 | J24: 31.22 | K24: 35.29 | L24: 34.85 | M24: 28.08
A25: 24 | B25: 35.93 | C25: 35.83 | D25: 34.15 | E25: 34.43 | F25: 35.57 | G25: 35.63 | H25: 33.18 | I25: 34.32 | J25: 31.62 | K25: 37.63 | L25: 32.53 | M25: 26.91
A26: 25 | B26: 36.62 | C26: 40.65 | D26: 45.31 | E26: 38 | G26: 37.72 | H26: 38.32 | I26: 32.79 | J26: 31.07 | K26: 37.78 | L26: 39.05 | M26: 29.41
A27: 26 | B27: 35.23 | C27: 34.65 | D27: 35.72 | E27: 33.33 | F27: 39.1 | G27: 45.22 | H27: 42.6 | I27: 33.93 | J27: 30.37 | K27: 38.13 | L27: 32.66 | M27: 26.88
A28: 27 | B28: 36.17 | C28: 34.26 | D28: 35.81 | E28: 32.86 | F28: 35.59 | G28: 38.27 | H28: 44.93 | I28: 36.08 | J28: 32.74 | K28: 32.72 | L28: 33.08 | M28: 27.96
A29: 28 | B29: 35.38 | C29: 36.57 | E29: 34.45 | F29: 37.05 | G29: 43.45 | H29: 41.56 | I29: 40.03 | J29: 33.27 | K29: 39.36 | L29: 35.32 | M29: 30.03
A30: 29 | B30: 37.92 | C30: 42.76 | D30: 40.93 | E30: 36.39 | G30: 42.17 | H30: 37.77 | I30: 35.85 | J30: 31.82 | K30: 34.59 | L30: 34.03 | M30: 29.5
A31: 30 | B31: 35.83 | C31: 35.48 | D31: 35.55 | E31: 31.75 | F31: 35.2 | G31: 35.8 | H31: 34.6 | I31: 36.56 | J31: 32.27 | K31: 34.95 | L31: 31.46 | M31: 27.13
A32: 31 | B32: 34.57 | C32: 34.67 | D32: 35.42 | E32: 33.5 | F32: 34.09 | G32: 35.5 | H32: 36.47 | I32: 33.08 | J32: 28.55 | K32: 33.56 | L32: 31.1 | M32: 27.52
A33: 32 | B33: 33.53 | C33: 35.14 | D33: 36.09 | E33: 31.35 | F33: 36.85 | G33: 37.26 | H33: 36.83 | I33: 32.38 | J33: 28.96 | K33: 33.83 | L33: 32.11 | M33: 26.24
A34: 33 | B34: 36.15 | C34: 34.52 | D34: 36.05 | E34: 33.82 | F34: 37.04 | G34: 37.43 | H34: 36.93 | I34: 34.9 | J34: 32.55 | K34: 33.5 | L34: 33.9 | M34: 29.34
A35: 34 | B35: 36.49 | C35: 35.74 | D35: 36.47 | E35: 36.11 | F35: 36.19 | G35: 37.15 | H35: 36.9 | I35: 33.87 | J35: 31.17 | K35: 35.79 | L35: 33.05 | M35: 29.31

Sheet   Calculation process
B1: ABCB1 | C1: ABCC1 | D1: ABCC2 | E1: ABCC3 | F1: ABCC6 | G1: ABCC10 | H1: ABCC11 | I1: ABCC12 | J1: ABCG | K1: ABCC4 | L1: ABCC5
A2: 1 | B2: ='QPcr Raw Data'!B2-'QPcr Raw Data'!$M2 -> 6.91 | C2: ='QPcr Raw Data'!C2-'QPcr Raw Data'!$M2 -> 7.59 | D2: ='QPcr Raw Data'!D2-'QPcr Raw Data'!$M2 -> 8.5 | E2: ='QPcr Raw Data'!E2-'QPcr Raw Data'!$M2 -> 5.53 | F2: ='QPcr Raw Data'!F2-'QPcr Raw Data'!$M2 -> 7.52 | G2: ='QPcr Raw Data'!G2-'QPcr Raw Data'!$M2 -> 8.59 | H2: ='QPcr Raw Data'!H2-'QPcr Raw Data'!$M2 -> 9.5 | I2: ='QPcr Raw Data'!I2-'QPcr Raw Data'!$M2 -> 6.14 | ... L2: ='QPcr Raw Data'!L2-'QPcr Raw Data'!$M2 -> 4.85
A3: 2 | B3: ='QPcr Raw Data'!B3-'QPcr Raw Data'!$M3 -> 8.16 | C3: ='QPcr Raw Data'!C3-'QPcr Raw Data'!$M3 -> 8.5 | D3: ='QPcr Raw Data'!D3-'QPcr Raw Data'!$M3 -> 8.9 | E3: ='QPcr Raw Data'!E3-'QPcr Raw Data'!$M3 -> 6.47 | F3: ='QPcr Raw Data'!F3-'QPcr Raw Data'!$M3 -> 9.02 | G3: ='QPcr Raw Data'!G3-'QPcr Raw Data'!$M3 -> 10.61 | H3: ='QPcr Raw Data'!H3-'QPcr Raw Data'!$M3 -> 9.56 | I3: ='QPcr Raw Data'!I3-'QPcr Raw Data'!$M3 -> 6.48 | ... L3: ='QPcr Raw Data'!L3-'QPcr Raw Data'!$M3 -> 4.35
A4: 3 | B4: ='QPcr Raw Data'!B4-'QPcr Raw Data'!$M4 -> 6.49 | C4: ='QPcr Raw Data'!C4-'QPcr Raw Data'!$M4 -> 7.12 | D4: ='QPcr Raw Data'!D4-'QPcr Raw Data'!$M4 -> 7.02 | E4: ='QPcr Raw Data'!E4-'QPcr Raw Data'!$M4 -> 6.51 | F4: ='QPcr Raw Data'!F4-'QPcr Raw Data'!$M4 -> 6.13 | G4: ='QPcr Raw Data'!G4-'QPcr Raw Data'!$M4 -> 7.56 | H4: ='QPcr Raw Data'!H4-'QPcr Raw Data'!$M4 -> 8.05 | I4: ='QPcr Raw Data'!I4-'QPcr Raw Data'!$M4 -> 6.86 | ... L4: ='QPcr Raw Data'!L4-'QPcr Raw Data'!$M4 -> 4.59
A5: 4 | B5: ='QPcr Raw Data'!B5-'QPcr Raw Data'!$M5 -> 6.4 | C5: ='QPcr Raw Data'!C5-'QPcr Raw Data'!$M5 -> 9.33 | E5: ='QPcr Raw Data'!E5-'QPcr Raw Data'!$M5 -> 10.38 | F5: ='QPcr Raw Data'!F5-'QPcr Raw Data'!$M5 -> 8 | G5: ='QPcr Raw Data'!G5-'QPcr Raw Data'!$M5 -> 9.9 | H5: ='QPcr Raw Data'!H5-'QPcr Raw Data'!$M5 -> 13.52 | I5: ='QPcr Raw Data'!I5-'QPcr Raw Data'!$M5 -> 10.21 | J5: ='QPcr Raw Data'!J5-'QPcr Raw Data'!$M5 -> 1.82 | K5: ='QPcr Raw Data'!K5-'QPcr Raw Data'!$M5 -> 7.14 | L5: ='QPcr Raw Data'!L5-'QPcr Raw Data'!$M5 -> 6.47
A6: 5 | B6: ='QPcr Raw Data'!B6-'QPcr Raw Data'!$M6 -> 12.38 | C6: ='QPcr Raw Data'!C6-'QPcr Raw Data'!$M6 -> 10.82 | D6: ='QPcr Raw Data'!D6-'QPcr Raw Data'!$M6 -> 12.11 | E6: ='QPcr Raw Data'!E6-'QPcr Raw Data'!$M6 -> 8.66 | G6: ='QPcr Raw Data'!G6-'QPcr Raw Data'!$M6 -> 9.59 | H6: ='QPcr Raw Data'!H6-'QPcr Raw Data'!$M6 -> 20.5 | I6: ='QPcr Raw Data'!I6-'QPcr Raw Data'!$M6 -> 9.05 | J6: ='QPcr Raw Data'!J6-'QPcr Raw Data'!$M6 -> 8.06 | K6: ='QPcr Raw Data'!K6-'QPcr Raw Data'!$M6 -> 10.19 | L6: ='QPcr Raw Data'!L6-'QPcr Raw Data'!$M6 -> 10.31
A7: 6 | B7: ='QPcr Raw Data'!B7-'QPcr Raw Data'!$M7 -> 9.45 | C7: ='QPcr Raw Data'!C7-'QPcr Raw Data'!$M7 -> 8.48 | D7: ='QPcr Raw Data'!D7-'QPcr Raw Data'!$M7 -> 8.49 | E7: ='QPcr Raw Data'!E7-'QPcr Raw Data'!$M7 -> 6.95 | F7: ='QPcr Raw Data'!F7-'QPcr Raw Data'!$M7 -> 7.24 | G7: ='QPcr Raw Data'!G7-'QPcr Raw Data'!$M7 -> 8.94 | H7: ='QPcr Raw Data'!H7-'QPcr Raw Data'!$M7 -> 9.59 | I7: ='QPcr Raw Data'!I7-'QPcr Raw Data'!$M7 -> 7.59 | ... L7: ='QPcr Raw Data'!L7-'QPcr Raw Data'!$M7 -> 5.32
A8: 7 | I8: ='QPcr Raw Data'!I8-'QPcr Raw Data'!$M8 -> 5.03 | J8: ='QPcr Raw Data'!J8-'QPcr Raw Data'!$M8 -> 4.87 | K8: ='QPcr Raw Data'!K8-'QPcr Raw Data'!$M8 -> 7.84 | L8: ='QPcr Raw Data'!L8-'QPcr Raw Data'!$M8 -> 7.51
A9: 8 | D9: ='QPcr Raw Data'!D9-'QPcr Raw Data'!$M9 -> 9.1 | E9: ='QPcr Raw Data'!E9-'QPcr Raw Data'!$M9 -> 5.01 | H9: ='QPcr Raw Data'!H9-'QPcr Raw Data'!$M9 -> 10.26 | I9: ='QPcr Raw Data'!I9-'QPcr Raw Data'!$M9 -> 7.89 | J9: ='QPcr Raw Data'!J9-'QPcr Raw Data'!$M9 -> 2.51 | K9: ='QPcr Raw Data'!K9-'QPcr Raw Data'!$M9 -> 8.48 | L9: ='QPcr Raw Data'!L9-'QPcr Raw Data'!$M9 -> 5.45
A10: 9 | B10: ='QPcr Raw Data'!B10-'QPcr Raw Data'!$M10 -> 14.84 | C10: ='QPcr Raw Data'!C10-'QPcr Raw Data'!$M10 -> 9.38 | D10: ='QPcr Raw Data'!D10-'QPcr Raw Data'!$M10 -> 12.4 | G10: ='QPcr Raw Data'!G10-'QPcr Raw Data'!$M10 -> 9.03 | H10: ='QPcr Raw Data'!H10-'QPcr Raw Data'!$M10 -> 9.49 | I10: ='QPcr Raw Data'!I10-'QPcr Raw Data'!$M10 -> 8.11 | J10: ='QPcr Raw Data'!J10-'QPcr Raw Data'!$M10 -> 2.9 | K10: ='QPcr Raw Data'!K10-'QPcr Raw Data'!$M10 -> 10.66 | L10: ='QPcr Raw Data'!L10-'QPcr Raw Data'!$M10 -> 6.8
A11: 10 | B11: ='QPcr Raw Data'!B11-'QPcr Raw Data'!$M11 -> 9.17 | C11: ='QPcr Raw Data'!C11-'QPcr Raw Data'!$M11 -> 7 | D11: ='QPcr Raw Data'!D11-'QPcr Raw Data'!$M11 -> 8.88 | E11: ='QPcr Raw Data'!E11-'QPcr Raw Data'!$M11 -> 5.95 | F11: ='QPcr Raw Data'!F11-'QPcr Raw Data'!$M11 -> 11.33 | H11: ='QPcr Raw Data'!H11-'QPcr Raw Data'!$M11 -> 8.79 | I11: ='QPcr Raw Data'!I11-'QPcr Raw Data'!$M11 -> 5.64 | J11: ='QPcr Raw Data'!J11-'QPcr Raw Data'!$M11 -> 3.99 | K11: ='QPcr Raw Data'!K11-'QPcr Raw Data'!$M11 -> 17.93 | L11: ='QPcr Raw Data'!L11-'QPcr Raw Data'!$M11 -> 7.62
A12: 11 | B12: ='QPcr Raw Data'!B12-'QPcr Raw Data'!$M12 -> 11.38 | C12: ='QPcr Raw Data'!C12-'QPcr Raw Data'!$M12 -> 13.94 | D12: ='QPcr Raw Data'!D12-'QPcr Raw Data'!$M12 -> 10.31 | E12: ='QPcr Raw Data'!E12-'QPcr Raw Data'!$M12 -> 15.1 | F12: ='QPcr Raw Data'!F12-'QPcr Raw Data'!$M12 -> 8.82 | H12: ='QPcr Raw Data'!H12-'QPcr Raw Data'!$M12 -> 15.34 | J12: ='QPcr Raw Data'!J12-'QPcr Raw Data'!$M12 -> 5.72 | K12: ='QPcr Raw Data'!K12-'QPcr Raw Data'!$M12 -> 11.72 | L12: ='QPcr Raw Data'!L12-'QPcr Raw Data'!$M12 -> 5.64
A13: 12 | B13: ='QPcr Raw Data'!B13-'QPcr Raw Data'!$M13 -> 9.18 | C13: ='QPcr Raw Data'!C13-'QPcr Raw Data'!$M13 -> 8.44 | D13: ='QPcr Raw Data'!D13-'QPcr Raw Data'!$M13 -> 9.85 | E13: ='QPcr Raw Data'!E13-'QPcr Raw Data'!$M13 -> 6.11 | F13: ='QPcr Raw Data'!F13-'QPcr Raw Data'!$M13 -> 9.39 | G13: ='QPcr Raw Data'!G13-'QPcr Raw Data'!$M13 -> 10.5 | H13: ='QPcr Raw Data'!H13-'QPcr Raw Data'!$M13 -> 10.2 | I13: ='QPcr Raw Data'!I13-'QPcr Raw Data'!$M13 -> 6.86 | ... L13: ='QPcr Raw Data'!L13-'QPcr Raw Data'!$M13 -> 5.67
A14: 13 | B14: ='QPcr Raw Data'!B14-'QPcr Raw Data'!$M14 -> 8.05 | C14: ='QPcr Raw Data'!C14-'QPcr Raw Data'!$M14 -> 9.6 | D14: ='QPcr Raw Data'!D14-'QPcr Raw Data'!$M14 -> 10.34 | E14: ='QPcr Raw Data'!E14-'QPcr Raw Data'!$M14 -> 7.2 | F14: ='QPcr Raw Data'!F14-'QPcr Raw Data'!$M14 -> 9.47 | G14: ='QPcr Raw Data'!G14-'QPcr Raw Data'!$M14 -> 10.9 | H14: ='QPcr Raw Data'!H14-'QPcr Raw Data'!$M14 -> 11.9 | I14: ='QPcr Raw Data'!I14-'QPcr Raw Data'!$M14 -> 8.48 | ... L14: ='QPcr Raw Data'!L14-'QPcr Raw Data'!$M14 -> 6.53
A15: 14 | B15: ='QPcr Raw Data'!B15-'QPcr Raw Data'!$M15 -> 11.33 | C15: ='QPcr Raw Data'!C15-'QPcr Raw Data'!$M15 -> 6.04 | D15: ='QPcr Raw Data'!D15-'QPcr Raw Data'!$M15 -> 10.56 | E15: ='QPcr Raw Data'!E15-'QPcr Raw Data'!$M15 -> 5.98 | F15: ='QPcr Raw Data'!F15-'QPcr Raw Data'!$M15 -> 4.91 | G15: ='QPcr Raw Data'!G15-'QPcr Raw Data'!$M15 -> 6.82 | H15: ='QPcr Raw Data'!H15-'QPcr Raw Data'!$M15 -> 11.52 | I15: ='QPcr Raw Data'!I15-'QPcr Raw Data'!$M15 -> 11.83 | ... L15: ='QPcr Raw Data'!L15-'QPcr Raw Data'!$M15 -> 4.43
A16: 15 | B16: ='QPcr Raw Data'!B16-'QPcr Raw Data'!$M16 -> 9.46 | C16: ='QPcr Raw Data'!C16-'QPcr Raw Data'!$M16 -> 12.9 | F16: ='QPcr Raw Data'!F16-'QPcr Raw Data'!$M16 -> 9.03 | G16: ='QPcr Raw Data'!G16-'QPcr Raw Data'!$M16 -> 5.31 | H16: ='QPcr Raw Data'!H16-'QPcr Raw Data'!$M16 -> 9.02 | I16: ='QPcr Raw Data'!I16-'QPcr Raw Data'!$M16 -> 4.37 | J16: ='QPcr Raw Data'!J16-'QPcr Raw Data'!$M16 -> 1.29 | K16: ='QPcr Raw Data'!K16-'QPcr Raw Data'!$M16 -> 5.7 | L16: ='QPcr Raw Data'!L16-'QPcr Raw Data'!$M16 -> 3.94
A17: 16 | B17: ='QPcr Raw Data'!B17-'QPcr Raw Data'!$M17 -> 6.27 | C17: ='QPcr Raw Data'!C17-'QPcr Raw Data'!$M17 -> 7.55 | D17: ='QPcr Raw Data'!D17-'QPcr Raw Data'!$M17 -> 7.9 | E17: ='QPcr Raw Data'!E17-'QPcr Raw Data'!$M17 -> 6.32 | F17: ='QPcr Raw Data'!F17-'QPcr Raw Data'!$M17 -> 8.53 | G17: ='QPcr Raw Data'!G17-'QPcr Raw Data'!$M17 -> 9.25 | H17: ='QPcr Raw Data'!H17-'QPcr Raw Data'!$M17 -> 7.06 | I17: ='QPcr Raw Data'!I17-'QPcr Raw Data'!$M17 -> 4.49 | ... L17: ='QPcr Raw Data'!L17-'QPcr Raw Data'!$M17 -> 4.98
A18: 17 | B18: ='QPcr Raw Data'!B18-'QPcr Raw Data'!$M18 -> 6.76 | C18: ='QPcr Raw Data'!C18-'QPcr Raw Data'!$M18 -> 4.88 | D18: ='QPcr Raw Data'!D18-'QPcr Raw Data'!$M18 -> 8.03 | E18: ='QPcr Raw Data'!E18-'QPcr Raw Data'!$M18 -> 4.23 | F18: ='QPcr Raw Data'!F18-'QPcr Raw Data'!$M18 -> 4.84 | G18: ='QPcr Raw Data'!G18-'QPcr Raw Data'!$M18 -> 5.47 | H18: ='QPcr Raw Data'!H18-'QPcr Raw Data'!$M18 -> 8.89 | J18: ='QPcr Raw Data'!J18-'QPcr Raw Data'!$M18 -> 4.86 | K18: ='QPcr Raw Data'!K18-'QPcr Raw Data'!$M18 -> 6.97 | L18: ='QPcr Raw Data'!L18-'QPcr Raw Data'!$M18 -> 3.45
A19: 18 | B19: ='QPcr Raw Data'!B19-'QPcr Raw Data'!$M19 -> 7.35 | C19: ='QPcr Raw Data'!C19-'QPcr Raw Data'!$M19 -> 11.72 | D19: ='QPcr Raw Data'!D19-'QPcr Raw Data'!$M19 -> 12.48 | E19: ='QPcr Raw Data'!E19-'QPcr Raw Data'!$M19 -> 7.11 | F19: ='QPcr Raw Data'!F19-'QPcr Raw Data'!$M19 -> 10.71 | G19: ='QPcr Raw Data'!G19-'QPcr Raw Data'!$M19 -> 13.22 | H19: ='QPcr Raw Data'!H19-'QPcr Raw Data'!$M19 -> 11.78 | I19: ='QPcr Raw Data'!I19-'QPcr Raw Data'!$M19 -> 8.42 | ... L19: ='QPcr Raw Data'!L19-'QPcr Raw Data'!$M19 -> 8.74
A20: 19 | B20: ='QPcr Raw Data'!B20-'QPcr Raw Data'!$M20 -> 9.43 | C20: ='QPcr Raw Data'!C20-'QPcr Raw Data'!$M20 -> 10.56 | D20: ='QPcr Raw Data'!D20-'QPcr Raw Data'!$M20 -> 10.5 | E20: ='QPcr Raw Data'!E20-'QPcr Raw Data'!$M20 -> 5.92 | F20: ='QPcr Raw Data'!F20-'QPcr Raw Data'!$M20 -> 11.08 | G20: ='QPcr Raw Data'!G20-'QPcr Raw Data'!$M20 -> 10.75 | H20: ='QPcr Raw Data'!H20-'QPcr Raw Data'!$M20 -> 10.64 | I20: ='QPcr Raw Data'!I20-'QPcr Raw Data'!$M20 -> 9.71 | ... L20: ='QPcr Raw Data'!L20-'QPcr Raw Data'!$M20 -> 8.94
A21: 20 | B21: ='QPcr Raw Data'!B21-'QPcr Raw Data'!$M21 -> 9.45 | C21: ='QPcr Raw Data'!C21-'QPcr Raw Data'!$M21 -> 11.06 | D21: ='QPcr Raw Data'!D21-'QPcr Raw Data'!$M21 -> 11.2 | E21: ='QPcr Raw Data'!E21-'QPcr Raw Data'!$M21 -> 7.76 | F21: ='QPcr Raw Data'!F21-'QPcr Raw Data'!$M21 -> 9.95 | G21: ='QPcr Raw Data'!G21-'QPcr Raw Data'!$M21 -> 11.99 | H21: ='QPcr Raw Data'!H21-'QPcr Raw Data'!$M21 -> 7.45 | I21: ='QPcr Raw Data'!I21-'QPcr Raw Data'!$M21 -> 10.66 | ... L21: ='QPcr Raw Data'!L21-'QPcr Raw Data'!$M21 -> 10.04
A22: 21 | B22: ='QPcr Raw Data'!B22-'QPcr Raw Data'!$M22 -> 6.06 | C22: ='QPcr Raw Data'!C22-'QPcr Raw Data'!$M22 -> 10.04 | D22: ='QPcr Raw Data'!D22-'QPcr Raw Data'!$M22 -> 10.28 | E22: ='QPcr Raw Data'!E22-'QPcr Raw Data'!$M22 -> 7.36 | F22: ='QPcr Raw Data'!F22-'QPcr Raw Data'!$M22 -> 9.31 | G22: ='QPcr Raw Data'!G22-'QPcr Raw Data'!$M22 -> 17.39 | H22: ='QPcr Raw Data'!H22-'QPcr Raw Data'!$M22 -> 6.8 | I22: ='QPcr Raw Data'!I22-'QPcr Raw Data'!$M22 -> 8.26 | ... K22: ='QPcr Raw Data'!K22-'QPcr Raw Data'!$M22 -> 13.03
A23: 22 | B23: ='QPcr Raw Data'!B23-'QPcr Raw Data'!$M23 -> 9.39 | C23: ='QPcr Raw Data'!C23-'QPcr Raw Data'!$M23 -> 12.59 | D23: ='QPcr Raw Data'!D23-'QPcr Raw Data'!$M23 -> 10.96 | E23: ='QPcr Raw Data'!E23-'QPcr Raw Data'!$M23 -> 7.79 | F23: ='QPcr Raw Data'!F23-'QPcr Raw Data'!$M23 -> 10.93 | G23: ='QPcr Raw Data'!G23-'QPcr Raw Data'!$M23 -> 11.19 | H23: ='QPcr Raw Data'!H23-'QPcr Raw Data'!$M23 -> 13.29 | I23: ='QPcr Raw Data'!I23-'QPcr Raw Data'!$M23 -> 10.72 | ... L23: ='QPcr Raw Data'!L23-'QPcr Raw Data'!$M23 -> 9.05
A24: 23 | B24: ='QPcr Raw Data'!B24-'QPcr Raw Data'!$M24 -> 6.93 | C24: ='QPcr Raw Data'!C24-'QPcr Raw Data'!$M24 -> 8.23 | D24: ='QPcr Raw Data'!D24-'QPcr Raw Data'!$M24 -> 11.84 | E24: ='QPcr Raw Data'!E24-'QPcr Raw Data'!$M24 -> 5.99 | F24: ='QPcr Raw Data'!F24-'QPcr Raw Data'!$M24 -> 13.68 | G24: ='QPcr Raw Data'!G24-'QPcr Raw Data'!$M24 -> 19.92 | H24: ='QPcr Raw Data'!H24-'QPcr Raw Data'!$M24 -> 11.32 | I24: ='QPcr Raw Data'!I24-'QPcr Raw Data'!$M24 -> 11.21 | ... L24: ='QPcr Raw Data'!L24-'QPcr Raw Data'!$M24 -> 6.77
A25: 24 | B25: ='QPcr Raw Data'!B25-'QPcr Raw Data'!$M25 -> 9.02 | C25: ='QPcr Raw Data'!C25-'QPcr Raw Data'!$M25 -> 8.92 | D25: ='QPcr Raw Data'!D25-'QPcr Raw Data'!$M25 -> 7.24 | E25: ='QPcr Raw Data'!E25-'QPcr Raw Data'!$M25 -> 7.52 | F25: ='QPcr Raw Data'!F25-'QPcr Raw Data'!$M25 -> 8.66 | G25: ='QPcr Raw Data'!G25-'QPcr Raw Data'!$M25 -> 8.72 | H25: ='QPcr Raw Data'!H25-'QPcr Raw Data'!$M25 -> 6.27 | I25: ='QPcr Raw Data'!I25-'QPcr Raw Data'!$M25 -> 7.41 | ... L25: ='QPcr Raw Data'!L25-'QPcr Raw Data'!$M25 -> 5.62
A26: 25 | B26: ='QPcr Raw Data'!B26-'QPcr Raw Data'!$M26 -> 7.21 | C26: ='QPcr Raw Data'!C26-'QPcr Raw Data'!$M26 -> 11.24 | D26: ='QPcr Raw Data'!D26-'QPcr Raw Data'!$M26 -> 15.9 | E26: ='QPcr Raw Data'!E26-'QPcr Raw Data'!$M26 -> 8.59 | G26: ='QPcr Raw Data'!G26-'QPcr Raw Data'!$M26 -> 8.31 | H26: ='QPcr Raw Data'!H26-'QPcr Raw Data'!$M26 -> 8.91 | I26: ='QPcr Raw Data'!I26-'QPcr Raw Data'!$M26 -> 3.38 | J26: ='QPcr Raw Data'!J26-'QPcr Raw Data'!$M26 -> 1.66 | K26: ='QPcr Raw Data'!K26-'QPcr Raw Data'!$M26 -> 8.37 | L26: ='QPcr Raw Data'!L26-'QPcr Raw Data'!$M26 -> 9.64
A27: 26 | B27: ='QPcr Raw Data'!B27-'QPcr Raw Data'!$M27 -> 8.35 | C27: ='QPcr Raw Data'!C27-'QPcr Raw Data'!$M27 -> 7.77 | D27: ='QPcr Raw Data'!D27-'QPcr Raw Data'!$M27 -> 8.84 | E27: ='QPcr Raw Data'!E27-'QPcr Raw Data'!$M27 -> 6.45 | F27: ='QPcr Raw Data'!F27-'QPcr Raw Data'!$M27 -> 12.22 | G27: ='QPcr Raw Data'!G27-'QPcr Raw Data'!$M27 -> 18.34 | H27: ='QPcr Raw Data'!H27-'QPcr Raw Data'!$M27 -> 15.72 | I27: ='QPcr Raw Data'!I27-'QPcr Raw Data'!$M27 -> 7.05 | ... L27: ='QPcr Raw Data'!L27-'QPcr Raw Data'!$M27 -> 5.78
A28: 27 | B28: ='QPcr Raw Data'!B28-'QPcr Raw Data'!$M28 -> 8.21 | C28: ='QPcr Raw Data'!C28-'QPcr Raw Data'!$M28 -> 6.3 | D28: ='QPcr Raw Data'!D28-'QPcr Raw Data'!$M28 -> 7.85 | E28: ='QPcr Raw Data'!E28-'QPcr Raw Data'!$M28 -> 4.9 | F28: ='QPcr Raw Data'!F28-'QPcr Raw Data'!$M28 -> 7.63 | G28: ='QPcr Raw Data'!G28-'QPcr Raw Data'!$M28 -> 10.31 | H28: ='QPcr Raw Data'!H28-'QPcr Raw Data'!$M28 -> 16.97 | I28: ='QPcr Raw Data'!I28-'QPcr Raw Data'!$M28 -> 8.12 | ... L28: ='QPcr Raw Data'!L28-'QPcr Raw Data'!$M28 -> 5.12
A29: 28 | B29: ='QPcr Raw Data'!B29-'QPcr Raw Data'!$M29 -> 5.35 | C29: ='QPcr Raw Data'!C29-'QPcr Raw Data'!$M29 -> 6.54 | E29: ='QPcr Raw Data'!E29-'QPcr Raw Data'!$M29 -> 4.42 | F29: ='QPcr Raw Data'!F29-'QPcr Raw Data'!$M29 -> 7.02 | G29: ='QPcr Raw Data'!G29-'QPcr Raw Data'!$M29 -> 13.42 | H29: ='QPcr Raw Data'!H29-'QPcr Raw Data'!$M29 -> 11.53 | I29: ='QPcr Raw Data'!I29-'QPcr Raw Data'!$M29 -> 10 | J29: ='QPcr Raw Data'!J29-'QPcr Raw Data'!$M29 -> 3.24 | K29: ='QPcr Raw Data'!K29-'QPcr Raw Data'!$M29 -> 9.33 | L29: ='QPcr Raw Data'!L29-'QPcr Raw Data'!$M29 -> 5.29
A30: 29 | B30: ='QPcr Raw Data'!B30-'QPcr Raw Data'!$M30 -> 8.42 | C30: ='QPcr Raw Data'!C30-'QPcr Raw Data'!$M30 -> 13.26 | D30: ='QPcr Raw Data'!D30-'QPcr Raw Data'!$M30 -> 11.43 | E30: ='QPcr Raw Data'!E30-'QPcr Raw Data'!$M30 -> 6.89 | G30: ='QPcr Raw Data'!G30-'QPcr Raw Data'!$M30 -> 12.67 | H30: ='QPcr Raw Data'!H30-'QPcr Raw Data'!$M30 -> 8.27 | I30: ='QPcr Raw Data'!I30-'QPcr Raw Data'!$M30 -> 6.35 | J30: ='QPcr Raw Data'!J30-'QPcr Raw Data'!$M30 -> 2.32 | K30: ='QPcr Raw Data'!K30-'QPcr Raw Data'!$M30 -> 5.09 | L30: ='QPcr Raw Data'!L30-'QPcr Raw Data'!$M30 -> 4.53
A31: 30 | B31: ='QPcr Raw Data'!B31-'QPcr Raw Data'!$M31 -> 8.7 | C31: ='QPcr Raw Data'!C31-'QPcr Raw Data'!$M31 -> 8.35 | D31: ='QPcr Raw Data'!D31-'QPcr Raw Data'!$M31 -> 8.42 | E31: ='QPcr Raw Data'!E31-'QPcr Raw Data'!$M31 -> 4.62 | F31: ='QPcr Raw Data'!F31-'QPcr Raw Data'!$M31 -> 8.07 | G31: ='QPcr Raw Data'!G31-'QPcr Raw Data'!$M31 -> 8.67 | H31: ='QPcr Raw Data'!H31-'QPcr Raw Data'!$M31 -> 7.47 | I31: ='QPcr Raw Data'!I31-'QPcr Raw Data'!$M31 -> 9.43 | ... L31: ='QPcr Raw Data'!L31-'QPcr Raw Data'!$M31 -> 4.33
A32: 31 | B32: ='QPcr Raw Data'!B32-'QPcr Raw Data'!$M32 -> 7.05 | C32: ='QPcr Raw Data'!C32-'QPcr Raw Data'!$M32 -> 7.15 | D32: ='QPcr Raw Data'!D32-'QPcr Raw Data'!$M32 -> 7.9 | E32: ='QPcr Raw Data'!E32-'QPcr Raw Data'!$M32 -> 5.98 | F32: ='QPcr Raw Data'!F32-'QPcr Raw Data'!$M32 -> 6.57 | G32: ='QPcr Raw Data'!G32-'QPcr Raw Data'!$M32 -> 7.98 | H32: ='QPcr Raw Data'!H32-'QPcr Raw Data'!$M32 -> 8.95 | I32: ='QPcr Raw Data'!I32-'QPcr Raw Data'!$M32 -> 5.56 | ... L32: ='QPcr Raw Data'!L32-'QPcr Raw Data'!$M32 -> 3.58
A33: 32 | B33: ='QPcr Raw Data'!B33-'QPcr Raw Data'!$M33 -> 7.29 | C33: ='QPcr Raw Data'!C33-'QPcr Raw Data'!$M33 -> 8.9 | D33: ='QPcr Raw Data'!D33-'QPcr Raw Data'!$M33 -> 9.85 | E33: ='QPcr Raw Data'!E33-'QPcr Raw Data'!$M33 -> 5.11 | F33: ='QPcr Raw Data'!F33-'QPcr Raw Data'!$M33 -> 10.61 | G33: ='QPcr Raw Data'!G33-'QPcr Raw Data'!$M33 -> 11.02 | H33: ='QPcr Raw Data'!H33-'QPcr Raw Data'!$M33 -> 10.59 | I33: ='QPcr Raw Data'!I33-'QPcr Raw Data'!$M33 -> 6.14 | ... L33: ='QPcr Raw Data'!L33-'QPcr Raw Data'!$M33 -> 5.87
A34: 33 | B34: ='QPcr Raw Data'!B34-'QPcr Raw Data'!$M34 -> 6.81 | C34: ='QPcr Raw Data'!C34-'QPcr Raw Data'!$M34 -> 5.18 | D34: ='QPcr Raw Data'!D34-'QPcr Raw Data'!$M34 -> 6.71 | E34: ='QPcr Raw Data'!E34-'QPcr Raw Data'!$M34 -> 4.48 | F34: ='QPcr Raw Data'!F34-'QPcr Raw Data'!$M34 -> 7.7 | G34: ='QPcr Raw Data'!G34-'QPcr Raw Data'!$M34 -> 8.09 | H34: ='QPcr Raw Data'!H34-'QPcr Raw Data'!$M34 -> 7.59 | I34: ='QPcr Raw Data'!I34-'QPcr Raw Data'!$M34 -> 5.56 | ... L34: ='QPcr Raw Data'!L34-'QPcr Raw Data'!$M34 -> 4.56
A35: 34 | B35: ='QPcr Raw Data'!B35-'QPcr Raw Data'!$M35 -> 7.18 | C35: ='QPcr Raw Data'!C35-'QPcr Raw Data'!$M35 -> 6.43 | D35: ='QPcr Raw Data'!D35-'QPcr Raw Data'!$M35 -> 7.16 | E35: ='QPcr Raw Data'!E35-'QPcr Raw Data'!$M35 -> 6.8 | F35: ='QPcr Raw Data'!F35-'QPcr Raw Data'!$M35 -> 6.88 | G35: ='QPcr Raw Data'!G35-'QPcr Raw Data'!$M35 -> 7.84 | H35: ='QPcr Raw Data'!H35-'QPcr Raw Data'!$M35 -> 7.59 | I35: ='QPcr Raw Data'!I35-'QPcr Raw Data'!$M35 -> 4.56 | ... L35: ='QPcr Raw Data'!L35-'QPcr Raw Data'!$M35 -> 3.74

Sheet IC50 Summary
C1: IC50 | E1: ABCB1 | F1: ABCC1 | G1: ABCC2 | H1: ABCC3 | I1: ABCC6 | J1: ABCC10 | K1: ABCC11 | L1: ABCC12 | M1: ABCG | N1: ABCC4 | O1: ABCC5
A2: 1 | C2: 0.03807 | E2: =2^(-' Calculation process'!B2) -> 0.0083153921 | F2: =2^(-' Calculation process'!C2) -> 0.005190179 | G2: =2^(-' Calculation process'!D2) -> 0.0027621359 | H2: =2^(-' Calculation process'!E2) -> 0.021642335 | I2: =2^(-' Calculation process'!F2) -> 0.0054482174 | J2: =2^(-' Calculation process'!G2) -> 0.0025950895 | K2: =2^(-' Calculation process'!H2) -> 0.0013810679 | L2: =2^(-' Calculation process'!I2) -> 0.014179987 | ... O2: =2^(-' Calculation process'!L2) -> 0.034674046
A3: 2 | C3: 0.09175 | E3: =2^(-' Calculation process'!B3) -> 0.0034961917 | F3: =2^(-' Calculation process'!C3) -> 0.0027621359 | G3: =2^(-' Calculation process'!D3) -> 0.0020933075 | H3: =2^(-' Calculation process'!E3) -> 0.011280697 | I3: =2^(-' Calculation process'!F3) -> 0.0019262358 | J3: =2^(-' Calculation process'!G3) -> 0.00063984053 | K3: =2^(-' Calculation process'!H3) -> 0.0013248089 | L3: =2^(-' Calculation process'!I3) -> 0.011202775 | ... O3: =2^(-' Calculation process'!L3) -> 0.049036506
A4: 3 | C4: 0.01963 | E4: =2^(-' Calculation process'!B4) -> 0.011125392 | F4: =2^(-' Calculation process'!C4) -> 0.007188966 | G4: =2^(-' Calculation process'!D4) -> 0.007704943 | H4: =2^(-' Calculation process'!E4) -> 0.010972226 | I4: =2^(-' Calculation process'!F4) -> 0.014278616 | J4: =2^(-' Calculation process'!G4) -> 0.0052992357 | K4: =2^(-' Calculation process'!H4) -> 0.0037731888 | L4: =2^(-' Calculation process'!I4) -> 0.0086086337 | ... O4: =2^(-' Calculation process'!L4) -> 0.041521432
A5: 4 | C5: 0.03407 | E5: =2^(-' Calculation process'!B5) -> 0.011841536 | F5: =2^(-' Calculation process'!C5) -> 0.0015537822 | H5: =2^(-' Calculation process'!E5) -> 0.00075042733 | I5: =2^(-' Calculation process'!F5) -> 0.00390625 | J5: =2^(-' Calculation process'!G5) -> 0.0010466538 | K5: =2^(-' Calculation process'!H5) -> 8.5128398e-05 | L5: =2^(-' Calculation process'!I5) -> 0.00084427464 | M5: =2^(-' Calculation process'!J5) -> 0.28322097 | N5: =2^(-' Calculation process'!K5) -> 0.0070899934 | O5: =2^(-' Calculation process'!L5) -> 0.011280697
A6: 5 | C6: 0.034 | E6: =2^(-' Calculation process'!B6) -> 0.00018760683 | F6: =2^(-' Calculation process'!C6) -> 0.00055316596 | G6: =2^(-' Calculation process'!D6) -> 0.00022621779 | H6: =2^(-' Calculation process'!E6) -> 0.0024721808 | J6: =2^(-' Calculation process'!G6) -> 0.0012975447 | K6: =2^(-' Calculation process'!H6) -> 6.7434958e-07 | L6: =2^(-' Calculation process'!I6) -> 0.0018865944 | M6: =2^(-' Calculation process'!J6) -> 0.0037471255 | N6: =2^(-' Calculation process'!K6) -> 0.00085606027 | O6: =2^(-' Calculation process'!L6) -> 0.00078773609
A7: 6 | C7: 0.07913 | E7: =2^(-' Calculation process'!B7) -> 0.0014297712 | F7: =2^(-' Calculation process'!C7) -> 0.0028006938 | G7: =2^(-' Calculation process'!D7) -> 0.002781348 | H7: =2^(-' Calculation process'!E7) -> 0.0080880072 | I7: =2^(-' Calculation process'!F7) -> 0.0066151978 | J7: =2^(-' Calculation process'!G7) -> 0.0020360659 | K7: =2^(-' Calculation process'!H7) -> 0.0012975447 | L7: =2^(-' Calculation process'!I7) -> 0.005190179 | ... O7: =2^(-' Calculation process'!L7) -> 0.025033434
A8: 7 | C8: 0.03023 | L8: =2^(-' Calculation process'!I8) -> 0.030606884 | M8: =2^(-' Calculation process'!J8) -> 0.034196678 | N8: =2^(-' Calculation process'!K8) -> 0.0043644029 | O8: =2^(-' Calculation process'!L8) -> 0.0054861128
A9: 8 | C9: 0.06763 | G9: =2^(-' Calculation process'!D9) -> 0.0018223301 | H9: =2^(-' Calculation process'!E9) -> 0.03103414 | K9: =2^(-' Calculation process'!H9) -> 0.00081551555 | L9: =2^(-' Calculation process'!I9) -> 0.0042157353 | M9: =2^(-' Calculation process'!J9) -> 0.17555561 | N9: =2^(-' Calculation process'!K9) -> 0.0028006938 | O9: =2^(-' Calculation process'!L9) -> 0.022876339
A10: 9 | C10: 0.04069 | E10: =2^(-' Calculation process'!B10) -> 3.4096898e-05 | F10: =2^(-' Calculation process'!C10) -> 0.0015008547 | G10: =2^(-' Calculation process'!D10) -> 0.00018502399 | J10: =2^(-' Calculation process'!G10) -> 0.0019129303 | K10: =2^(-' Calculation process'!H10) -> 0.001390674 | L10: =2^(-' Calculation process'!I10) -> 0.0036194846 | M10: =2^(-' Calculation process'!J10) -> 0.13397168 | N10: =2^(-' Calculation process'!K10) -> 0.00061804521 | O10: =2^(-' Calculation process'!L10) -> 0.0089742059
A11: 10 | C11: 0.07324 | E11: =2^(-' Calculation process'!B11) -> 0.0017360209 | F11: =2^(-' Calculation process'!C11) -> 0.0078125 | G11: =2^(-' Calculation process'!D11) -> 0.002122529 | H11: =2^(-' Calculation process'!E11) -> 0.016176014 | I11: =2^(-' Calculation process'!F11) -> 0.00038844555 | K11: =2^(-' Calculation process'!H11) -> 0.0022591566 | L11: =2^(-' Calculation process'!I11) -> 0.02005353 | M11: =2^(-' Calculation process'!J11) -> 0.062934722 | N11: =2^(-' Calculation process'!K11) -> 4.0043514e-06 | O11: =2^(-' Calculation process'!L11) -> 0.0050833666
A12: 11 | C12: 0.08811 | E12: =2^(-' Calculation process'!B12) -> 0.00037521367 | F12: =2^(-' Calculation process'!C12) -> 6.3627061e-05 | G12: =2^(-' Calculation process'!D12) -> 0.00078773609 | H12: =2^(-' Calculation process'!E12) -> 2.8473907e-05 | I12: =2^(-' Calculation process'!F12) -> 0.0022126638 | K12: =2^(-' Calculation process'!H12) -> 2.4110147e-05 | M12: =2^(-' Calculation process'!J12) -> 0.018971795 | N12: =2^(-' Calculation process'!K12) -> 0.0002964343 | O12: =2^(-' Calculation process'!L12) -> 0.02005353
A13: 12 | C13: 0.07893 | E13: =2^(-' Calculation process'!B13) -> 0.0017240293 | F13: =2^(-' Calculation process'!C13) -> 0.0028794321 | G13: =2^(-' Calculation process'!D13) -> 0.0010835639 | H13: =2^(-' Calculation process'!E13) -> 0.014477938 | I13: =2^(-' Calculation process'!F13) -> 0.0014904875 | J13: =2^(-' Calculation process'!G13) -> 0.00069053397 | K13: =2^(-' Calculation process'!H13) -> 0.00085014703 | L13: =2^(-' Calculation process'!I13) -> 0.0086086337 | ... O13: =2^(-' Calculation process'!L13) -> 0.019640834
A14: 13 | C14: 0.08858 | E14: =2^(-' Calculation process'!B14) -> 0.0037731888 | F14: =2^(-' Calculation process'!C14) -> 0.0012885819 | G14: =2^(-' Calculation process'!D14) -> 0.00077152472 | H14: =2^(-' Calculation process'!E14) -> 0.0068011763 | I14: =2^(-' Calculation process'!F14) -> 0.0014100871 | J14: =2^(-' Calculation process'!G14) -> 0.00052332689 | K14: =2^(-' Calculation process'!H14) -> 0.00026166344 | L14: =2^(-' Calculation process'!I14) -> 0.0028006938 | ... O14: =2^(-' Calculation process'!L14) -> 0.010821168
A15: 14 | C15: 0.1245 | E15: =2^(-' Calculation process'!B15) -> 0.00038844555 | F15: =2^(-' Calculation process'!C15) -> 0.015197734 | G15: =2^(-' Calculation process'!D15) -> 0.00066240446 | H15: =2^(-' Calculation process'!E15) -> 0.015843117 | I15: =2^(-' Calculation process'!F15) -> 0.033261568 | J15: =2^(-' Calculation process'!G15) -> 0.0088506554 | K15: =2^(-' Calculation process'!H15) -> 0.00034051359 | L15: =2^(-' Calculation process'!I15) -> 0.00027467248 | ... O15: =2^(-' Calculation process'!L15) -> 0.046391362
A16: 15 | C16: 0.1316 | E16: =2^(-' Calculation process'!B16) -> 0.001419895 | F16: =2^(-' Calculation process'!C16) -> 0.00013083172 | I16: =2^(-' Calculation process'!F16) -> 0.0019129303 | J16: =2^(-' Calculation process'!G16) -> 0.025207555 | K16: =2^(-' Calculation process'!H16) -> 0.0019262358 | L16: =2^(-' Calculation process'!I16) -> 0.048361406 | M16: =2^(-' Calculation process'!J16) -> 0.40895103 | N16: =2^(-' Calculation process'!K16) -> 0.019236631 | O16: =2^(-' Calculation process'!L16) -> 0.06515411
A17: 16 | C17: 0.2337 | E17: =2^(-' Calculation process'!B17) -> 0.012958118 | F17: =2^(-' Calculation process'!C17) -> 0.0053360948 | G17: =2^(-' Calculation process'!D17) -> 0.0041866151 | H17: =2^(-' Calculation process'!E17) -> 0.012516717 | I17: =2^(-' Calculation process'!F17) -> 0.0027052919 | J17: =2^(-' Calculation process'!G17) -> 0.0016423758 | K17: =2^(-' Calculation process'!H17) -> 0.0074942509 | L17: =2^(-' Calculation process'!I17) -> 0.044501569 | ... O17: =2^(-' Calculation process'!L17) -> 0.031686234
A18: 17 | C18: 0.1309 | E18: =2^(-' Calculation process'!B18) -> 0.0092265052 | F18: =2^(-' Calculation process'!C18) -> 0.033960464 | G18: =2^(-' Calculation process'!D18) -> 0.0038258605 | H18: =2^(-' Calculation process'!E18) -> 0.053289681 | I18: =2^(-' Calculation process'!F18) -> 0.034915223 | J18: =2^(-' Calculation process'!G18) -> 0.022561394 | K18: =2^(-' Calculation process'!H18) -> 0.0021078676 | M18: =2^(-' Calculation process'!J18) -> 0.034434535 | N18: =2^(-' Calculation process'!K18) -> 0.0079766572 | O18: =2^(-' Calculation process'!L18) -> 0.091505356
A19: 18 | C19: 0.02623 | E19: =2^(-' Calculation process'!B19) -> 0.0061295633 | F19: =2^(-' Calculation process'!C19) -> 0.0002964343 | G19: =2^(-' Calculation process'!D19) -> 0.00017504337 | H19: =2^(-' Calculation process'!E19) -> 0.0072389692 | I19: =2^(-' Calculation process'!F19) -> 0.00059699232 | J19: =2^(-' Calculation process'!G19) -> 0.00010480535 | K19: =2^(-' Calculation process'!H19) -> 0.00028435879 | L19: =2^(-' Calculation process'!I19) -> 0.0029196274 | ... O19: =2^(-' Calculation process'!L19) -> 0.0023388256
A20: 19 | C20: 0.09551 | E20: =2^(-' Calculation process'!B20) -> 0.00144973 | F20: =2^(-' Calculation process'!C20) -> 0.00066240446 | G20: =2^(-' Calculation process'!D20) -> 0.00069053397 | H20: =2^(-' Calculation process'!E20) -> 0.016515907 | I20: =2^(-' Calculation process'!F20) -> 0.00046194221 | J20: =2^(-' Calculation process'!G20) -> 0.00058066754 | K20: =2^(-' Calculation process'!H20) -> 0.0006266728 | L20: =2^(-' Calculation process'!I20) -> 0.0011939846 | ... O20: =2^(-' Calculation process'!L20) -> 0.0020360659
A21: 20 | C21: 0.02736 | E21: =2^(-' Calculation process'!B21) -> 0.0014297712 | F21: =2^(-' Calculation process'!C21) -> 0.00046839068 | G21: =2^(-' Calculation process'!D21) -> 0.00042507352 | H21: =2^(-' Calculation process'!E21) -> 0.0046132526 | I21: =2^(-' Calculation process'!F21) -> 0.0010110009 | J21: =2^(-' Calculation process'!G21) -> 0.00024583876 | K21: =2^(-' Calculation process'!H21) -> 0.0057190847 | L21: =2^(-' Calculation process'!I21) -> 0.00061804521 | ... O21: =2^(-' Calculation process'!L21) -> 0.00094985835
A22: 21 | C22: 0.01882 | E22: =2^(-' Calculation process'!B22) -> 0.014988502 | F22: =2^(-' Calculation process'!C22) -> 0.00094985835 | G22: =2^(-' Calculation process'!D22) -> 0.0008042881 | H22: =2^(-' Calculation process'!E22) -> 0.0060872233 | I22: =2^(-' Calculation process'!F22) -> 0.0015754722 | J22: =2^(-' Calculation process'!G22) -> 5.8222168e-06 | K22: =2^(-' Calculation process'!H22) -> 0.0089742059 | L22: =2^(-' Calculation process'!I22) -> 0.0032620622 | ... N22: =2^(-' Calculation process'!K22) -> 0.00011955814
A23: 22 | C23: 0.047 | E23: =2^(-' Calculation process'!B23) -> 0.0014904875 | F23: =2^(-' Calculation process'!C23) -> 0.00016219309 | G23: =2^(-' Calculation process'!D23) -> 0.0005020087 | H23: =2^(-' Calculation process'!E23) -> 0.0045183132 | I23: =2^(-' Calculation process'!F23) -> 0.00051255697 | J23: =2^(-' Calculation process'!G23) -> 0.00042803014 | K23: =2^(-' Calculation process'!H23) -> 9.984156e-05 | L23: =2^(-' Calculation process'!I23) -> 0.0005928686 | ... O23: =2^(-' Calculation process'!L23) -> 0.0018865944
A24: 23 | C24: 0.1574 | E24: =2^(-' Calculation process'!B24) -> 0.0082009116 | F24: =2^(-' Calculation process'!C24) -> 0.003330605 | G24: =2^(-' Calculation process'!D24) -> 0.00027277518 | H24: =2^(-' Calculation process'!E24) -> 0.01573368 | I24: =2^(-' Calculation process'!F24) -> 7.619205e-05 | J24: =2^(-' Calculation process'!G24) -> 1.008051e-06 | K24: =2^(-' Calculation process'!H24) -> 0.0003911474 | L24: =2^(-' Calculation process'!I24) -> 0.00042213732 | ... O24: =2^(-' Calculation process'!L24) -> 0.009162773
A25: 24 | C25: 0.02008 | E25: =2^(-' Calculation process'!B25) -> 0.0019262358 | F25: =2^(-' Calculation process'!C25) -> 0.0020644884 | G25: =2^(-' Calculation process'!D25) -> 0.0066151978 | H25: =2^(-' Calculation process'!E25) -> 0.0054482174 | I25: =2^(-' Calculation process'!F25) -> 0.0024721808 | J25: =2^(-' Calculation process'!G25) -> 0.0023714744 | K25: =2^(-' Calculation process'!H25) -> 0.012958118 | L25: =2^(-' Calculation process'!I25) -> 0.0058798701 | ... O25: =2^(-' Calculation process'!L25) -> 0.020333466
A26: 25 | C26: 0.04978 | E26: =2^(-' Calculation process'!B26) -> 0.0067541971 | F26: =2^(-' Calculation process'!C26) -> 0.00041344986 | G26: =2^(-' Calculation process'!D26) -> 1.6353965e-05 | H26: =2^(-' Calculation process'!E26) -> 0.0025950895 | J26: =2^(-' Calculation process'!G26) -> 0.0031509444 | K26: =2^(-' Calculation process'!H26) -> 0.002078848 | L26: =2^(-' Calculation process'!I26) -> 0.096054699 | M26: =2^(-' Calculation process'!J26) -> 0.31643915 | N26: =2^(-' Calculation process'!K26) -> 0.0030225879 | O26: =2^(-' Calculation process'!L26) -> 0.0012533456
A27: 26 | C27: 0.0964 | E27: =2^(-' Calculation process'!B27) -> 0.0030647816 | F27: =2^(-' Calculation process'!C27) -> 0.0045813865 | G27: =2^(-' Calculation process'!D27) -> 0.0021822014 | H27: =2^(-' Calculation process'!E27) -> 0.011438169 | I27: =2^(-' Calculation process'!F27) -> 0.0002096107 | J27: =2^(-' Calculation process'!G27) -> 3.0137684e-06 | K27: =2^(-' Calculation process'!H27) -> 1.8527144e-05 | L27: =2^(-' Calculation process'!I27) -> 0.0075463776 | ... O27: =2^(-' Calculation process'!L27) -> 0.018198962
A28: 27 | C28: 0.06665 | E28: =2^(-' Calculation process'!B28) -> 0.0033770986 | F28: =2^(-' Calculation process'!C28) -> 0.012691444 | G28: =2^(-' Calculation process'!D28) -> 0.0043342558 | H28: =2^(-' Calculation process'!E28) -> 0.033492921 | I28: =2^(-' Calculation process'!F28) -> 0.0050482532 | J28: =2^(-' Calculation process'!G28) -> 0.00078773609 | K28: =2^(-' Calculation process'!H28) -> 7.7897043e-06 | L28: =2^(-' Calculation process'!I28) -> 0.003594483 | ... O28: =2^(-' Calculation process'!L28) -> 0.028755864
A29: 28 | C29: 0.05307 | E29: =2^(-' Calculation process'!B29) -> 0.024518253 | F29: =2^(-' Calculation process'!C29) -> 0.01074642 | H29: =2^(-' Calculation process'!E29) -> 0.046714039 | I29: =2^(-' Calculation process'!F29) -> 0.007704943 | J29: =2^(-' Calculation process'!G29) -> 9.1238357e-05 | K29: =2^(-' Calculation process'!H29) -> 0.00033816149 | L29: =2^(-' Calculation process'!I29) -> 0.0009765625 | M29: =2^(-' Calculation process'!J29) -> 0.10584316 | N29: =2^(-' Calculation process'!K29) -> 0.0015537822 | O29: =2^(-' Calculation process'!L29) -> 0.025559439
A30: 29 | C30: 0.1147 | E30: =2^(-' Calculation process'!B30) -> 0.0029196274 | F30: =2^(-' Calculation process'!C30) -> 0.00010193944 | G30: =2^(-' Calculation process'!D30) -> 0.00036243251 | H30: =2^(-' Calculation process'!E30) -> 0.0084314706 | J30: =2^(-' Calculation process'!G30) -> 0.00015344402 | K30: =2^(-' Calculation process'!H30) -> 0.0032395295 | L30: =2^(-' Calculation process'!I30) -> 0.012259127 | M30: =2^(-' Calculation process'!J30) -> 0.20026747 | N30: =2^(-' Calculation process'!K30) -> 0.029360086 | O30: =2^(-' Calculation process'!L30) -> 0.043284671
A31: 30 | C31: 0.08834 | E31: =2^(-' Calculation process'!B31) -> 0.0024045789 | F31: =2^(-' Calculation process'!C31) -> 0.0030647816 | G31: =2^(-' Calculation process'!D31) -> 0.0029196274 | H31: =2^(-' Calculation process'!E31) -> 0.040666933 | I31: =2^(-' Calculation process'!F31) -> 0.0037212422 | J31: =2^(-' Calculation process'!G31) -> 0.0024551042 | K31: =2^(-' Calculation process'!H31) -> 0.0056403484 | L31: =2^(-' Calculation process'!I31) -> 0.00144973 | ... O31: =2^(-' Calculation process'!L31) -> 0.04972103
A32: 31 | C32: 0.1808 | E32: =2^(-' Calculation process'!B32) -> 0.0075463776 | F32: =2^(-' Calculation process'!C32) -> 0.0070410192 | G32: =2^(-' Calculation process'!D32) -> 0.0041866151 | H32: =2^(-' Calculation process'!E32) -> 0.015843117 | I32: =2^(-' Calculation process'!F32) -> 0.010525262 | J32: =2^(-' Calculation process'!G32) -> 0.0039607792 | K32: =2^(-' Calculation process'!H32) -> 0.0020220018 | L32: =2^(-' Calculation process'!I32) -> 0.021196943 | ... O32: =2^(-' Calculation process'!L32) -> 0.083620472
A33: 32 | C33: 0.05742 | E33: =2^(-' Calculation process'!B33) -> 0.0063898598 | F33: =2^(-' Calculation process'!C33) -> 0.0020933075 | G33: =2^(-' Calculation process'!D33) -> 0.0010835639 | H33: =2^(-' Calculation process'!E33) -> 0.028955877 | I33: =2^(-' Calculation process'!F33) -> 0.00063984053 | J33: =2^(-' Calculation process'!G33) -> 0.00048155894 | K33: =2^(-' Calculation process'!H33) -> 0.00064877237 | L33: =2^(-' Calculation process'!I33) -> 0.014179987 | ... O33: =2^(-' Calculation process'!L33) -> 0.017098339
A34: 33 | C34: 0.03299 | E34: =2^(-' Calculation process'!B34) -> 0.0089122165 | F34: =2^(-' Calculation process'!C34) -> 0.027584469 | G34: =2^(-' Calculation process'!D34) -> 0.0095518772 | H34: =2^(-' Calculation process'!E34) -> 0.044811102 | I34: =2^(-' Calculation process'!F34) -> 0.0048091579 | J34: =2^(-' Calculation process'!G34) -> 0.0036700107 | K34: =2^(-' Calculation process'!H34) -> 0.005190179 | L34: =2^(-' Calculation process'!I34) -> 0.021196943 | ... O34: =2^(-' Calculation process'!L34) -> 0.042393885
A35: 34 | C35: 0.1632 | E35: =2^(-' Calculation process'!B35) -> 0.0068961172 | F35: =2^(-' Calculation process'!C35) -> 0.01159784 | G35: =2^(-' Calculation process'!D35) -> 0.0069923834 | H35: =2^(-' Calculation process'!E35) -> 0.0089742059 | I35: =2^(-' Calculation process'!F35) -> 0.0084901161 | J35: =2^(-' Calculation process'!G35) -> 0.0043644029 | K35: =2^(-' Calculation process'!H35) -> 0.005190179 | L35: =2^(-' Calculation process'!I35) -> 0.042393885 | ... O35: =2^(-' Calculation process'!L35) -> 0.074842419

Sheet Fig

Sheet A60371
A1: A60371 2014-4-15
A2: 500 | B2: 100 | C2: 20 | D2: =C2/5 -> 4 | E2: =D2/5 -> 0.8 | F2: =E2/5 -> 0.16 | G2: =F2/5 -> 0.032 | H2: =G2/5 -> 0.0064
A3: =A2*10/100 -> 50 | B3: =B2*10/100 -> 10 | C3: =C2*10/100 -> 2 | D3: =D2*10/100 -> 0.4 | E3: =E2*10/100 -> 0.08 | F3: =F2*10/100 -> 0.016 | G3: =G2*10/100 -> 0.0032 | H3: =H2*10/100 -> 0.00064 | J3: 0.302
A4: 0.174 | B4: 0.185 | C4: 0.183 | D4: 0.201 | E4: 0.216 | F4: 0.264 | G4: 0.278 | H4: 0.301 | J4: 0.102
A6: =(A4-$J$4)/($J$3-$J$4) -> 0.36 | B6: =(B4-$J$4)/($J$3-$J$4) -> 0.415 | C6: =(C4-$J$4)/($J$3-$J$4) -> 0.405 | D6: =(D4-$J$4)/($J$3-$J$4) -> 0.495 | E6: =(E4-$J$4)/($J$3-$J$4) -> 0.57 | F6: =(F4-$J$4)/($J$3-$J$4) -> 0.81 | G6: =(G4-$J$4)/($J$3-$J$4) -> 0.88 | H6: =(H4-$J$4)/($J$3-$J$4) -> 0.995
L7: =LOG(A3) -> 1.69897 | M7: =LOG(B3) -> 1 | N7: =LOG(C3) -> 0.30103 | O7: =LOG(D3) -> -0.39794001 | P7: =LOG(E3) -> -1.09691 | Q7: =LOG(F3) -> -1.79588 | R7: =LOG(G3) -> -2.49485 | S7: =LOG(H3) -> -3.19382
H13: IC50 | I13: 0.03807

Sheet A70218
A1: A70218 2014-5-20
A2: 500 | B2: 100 | C2: 20 | D2: =C2/5 -> 4 | E2: =D2/5 -> 0.8 | F2: =E2/5 -> 0.16 | G2: =F2/5 -> 0.032 | H2: =G2/5 -> 0.0064
A3: =A2*10/100 -> 50 | B3: =B2*10/100 -> 10 | C3: =C2*10/100 -> 2 | D3: =D2*10/100 -> 0.4 | E3: =E2*10/100 -> 0.08 | F3: =F2*10/100 -> 0.016 | G3: =G2*10/100 -> 0.0032 | H3: =H2*10/100 -> 0.00064 | J3: 0.423
A4: 0.191 | B4: 0.201 | C4: 0.243 | D4: 0.276 | E4: 0.308 | F4: 0.404 | G4: 0.422 | H4: 0.432 | J4: 0.134
A6: =(A4-$J$4)/($J$3-$J$4) -> 0.19723183 | B6: =(B4-$J$4)/($J$3-$J$4) -> 0.23183391 | C6: =(C4-$J$4)/($J$3-$J$4) -> 0.37716263 | D6: =(D4-$J$4)/($J$3-$J$4) -> 0.49134948 | E6: =(E4-$J$4)/($J$3-$J$4) -> 0.60207612 | F6: =(F4-$J$4)/($J$3-$J$4) -> 0.93425606 | G6: =(G4-$J$4)/($J$3-$J$4) -> 0.99653979 | H6: =(H4-$J$4)/($J$3-$J$4) -> 1.0311419
L7: =LOG(A3) -> 1.69897 | M7: =LOG(B3) -> 1 | N7: =LOG(C3) -> 0.30103 | O7: =LOG(D3) -> -0.39794001 | P7: =LOG(E3) -> -1.09691 | Q7: =LOG(F3) -> -1.79588 | R7: =LOG(G3) -> -2.49485 | S7: =LOG(H3) -> -3.19382
H13: IC50 | I13: 0.09175

Sheet A77897
A1: A77897 2014-6-17
A2: 500 | B2: 100 | C2: 20 | D2: =C2/5 -> 4 | E2: =D2/5 -> 0.8 | F2: =E2/5 -> 0.16 | G2: =F2/5 -> 0.032 | H2: =G2/5 -> 0.0064
A3: =A2*10/100 -> 50 | B3: =B2*10/100 -> 10 | C3: =C2*10/100 -> 2 | D3: =D2*10/100 -> 0.4 | E3: =E2*10/100 -> 0.08 | F3: =F2*10/100 -> 0.016 | G3: =G2*10/100 -> 0.0032 | H3: =H2*10/100 -> 0.00064 | J3: 0.375
A4: 0.159 | B4: 0.161 | C4: 0.174 | D4: 0.189 | E4: 0.221 | F4: 0.271 | G4: 0.365 | H4: 0.368 | J4: 0.125
A6: =(A4-$J$4)/($J$3-$J$4) -> 0.136 | B6: =(B4-$J$4)/($J$3-$J$4) -> 0.144 | C6: =(C4-$J$4)/($J$3-$J$4) -> 0.196 | D6: =(D4-$J$4)/($J$3-$J$4) -> 0.256 | E6: =(E4-$J$4)/($J$3-$J$4) -> 0.384 | F6: =(F4-$J$4)/($J$3-$J$4) -> 0.584 | G6: =(G4-$J$4)/($J$3-$J$4) -> 0.96 | H6: =(H4-$J$4)/($J$3-$J$4) -> 0.972
L7: =LOG(A3) -> 1.69897 | M7: =LOG(B3) -> 1 | N7: =LOG(C3) -> 0.30103 | O7: =LOG(D3) -> -0.39794001 | P7: =LOG(E3) -> -1.09691 | Q7: =LOG(F3) -> -1.79588 | R7: =LOG(G3) -> -2.49485 | S7: =LOG(H3) -> -3.19382
H13: IC50 | I13: 0.01963

Sheet A81213
A1: A81213 2014-6-27
A2: 500 | B2: 100 | C2: 20 | D2: =C2/5 -> 4 | E2: =D2/5 -> 0.8 | F2: =E2/5 -> 0.16 | G2: =F2/5 -> 0.032 | H2: =G2/5 -> 0.0064
A3: =A2*10/100 -> 50 | B3: =B2*10/100 -> 10 | C3: =C2*10/100 -> 2 | D3: =D2*10/100 -> 0.4 | E3: =E2*10/100 -> 0.08 | F3: =F2*10/100 -> 0.016 | G3: =G2*10/100 -> 0.0032 | H3: =H2*10/100 -> 0.00064 | J3: 0.20283333
A4: 0.149 | B4: 0.163 | C4: 0.171 | D4: 0.171 | E4: 0.18 | F4: 0.185 | G4: 0.207 | H4: 0.206 | J4: 0.0565
A6: =(A4-$J$4)/($J$3-$J$4) -> 0.63211845 | B6: =(B4-$J$4)/($J$3-$J$4) -> 0.72779043 | C6: =(C4-$J$4)/($J$3-$J$4) -> 0.78246014 | D6: =(D4-$J$4)/($J$3-$J$4) -> 0.78246014 | E6: =(E4-$J$4)/($J$3-$J$4) -> 0.84396355 | F6: =(F4-$J$4)/($J$3-$J$4) -> 0.87813212 | G6: =(G4-$J$4)/($J$3-$J$4) -> 1.0284738 | H6: =(H4-$J$4)/($J$3-$J$4) -> 1.0216401
L7: =LOG(A3) -> 1.69897 | M7: =LOG(B3) -> 1 | N7: =LOG(C3) -> 0.30103 | O7: =LOG(D3) -> -0.39794001 | P7: =LOG(E3) -> -1.09691 | Q7: =LOG(F3) -> -1.79588 | R7: =LOG(G3) -> -2.49485 | S7: =LOG(H3) -> -3.19382
H13: IC50 | I13: 0.03407

Sheet A83981
A1: A83981 2014-7-14
A2: 500 | B2: 100 | C2: 20 | D2: =C2/5 -> 4 | E2: =D2/5 -> 0.8 | F2: =E2/5 -> 0.16 | G2: =F2/5 -> 0.032 | H2: =G2/5 -> 0.0064
A3: =A2*10/100 -> 50 | B3: =B2*10/100 -> 10 | C3: =C2*10/100 -> 2 | D3: =D2*10/100 -> 0.4 | E3: =E2*10/100 -> 0.08 | F3: =F2*10/100 -> 0.016 | G3: =G2*10/100 -> 0.0032 | H3: =H2*10/100 -> 0.00064
A4: 0.425 | B4: 0.366 | C4: 0.408 | D4: 0.423 | E4: 0.451 | F4: 1.357 | G4: 1.439 | H4: 1.341 | I4: 1.327 | J4: 1.325 | K4: =AVERAGE(I4:J4) -> 1.326
K5: 0.15
A6: =(A4-0.15)/($K$4-0.15) -> 0.23384354 | B6: =(B4-0.15)/($K$4-0.15) -> 0.18367347 | C6: =(C4-0.15)/($K$4-0.15) -> 0.21938776 | D6: =(D4-0.15)/($K$4-0.15) -> 0.23214286 | E6: =(E4-0.15)/($K$4-0.15) -> 0.25595238 | F6: =(F4-0.15)/($K$4-0.15) -> 1.0263605 | G6: =(G4-0.15)/($K$4-0.15) -> 1.0960884 | H6: =(H4-0.15)/($K$4-0.15) -> 1.0127551
K10: 50 | L10: 0.23384354
K11: 10 | L11: 0.18367347
K12: 2 | L12: 0.21938776
K13: 0.4 | L13: 0.23214286
K14: 0.08 | L14: 0.25595238
H15: IC50 | I15: 0.034 | K15: 0.016 | L15: 1.0263605
K16: 0.0032 | L16: 1.0960884
K17: 0.00064 | L17: 1.0127551

Sheet A85938
A1: A85938 2014-7-15
A2: 500 | B2: 100 | C2: 20 | D2: =C2/5 -> 4 | E2: =D2/5 -> 0.8 | F2: =E2/5 -> 0.16 | G2: =F2/5 -> 0.032 | H2: =G2/5 -> 0.0064
A3: =A2*10/100 -> 50 | B3: =B2*10/100 -> 10 | C3: =C2*10/100 -> 2 | D3: =D2*10/100 -> 0.4 | E3: =E2*10/100 -> 0.08 | F3: =F2*10/100 -> 0.016 | G3: =G2*10/100 -> 0.0032 | H3: =H2*10/100 -> 0.00064
A4: 0.301 | B4: 0.311 | C4: 0.338 | D4: 0.415 | E4: 0.47 | F4: 0.59 | G4: 0.65 | H4: 0.661 | K4: 0.647
K5: 0.12
A6: =(A4-0.15)/($K$4-0.15) -> 0.30382294 | B6: =(B4-0.15)/($K$4-0.15) -> 0.32394366 | C6: =(C4-0.15)/($K$4-0.15) -> 0.37826962 | D6: =(D4-0.15)/($K$4-0.15) -> 0.5331992 | E6: =(E4-0.15)/($K$4-0.15) -> 0.64386318 | F6: =(F4-0.15)/($K$4-0.15) -> 0.88531187 | G6: =(G4-0.15)/($K$4-0.15) -> 1.0060362 | H6: =(H4-0.15)/($K$4-0.15) -> 1.028169
K10: 50 | L10: 0.23384354
K11: 10 | L11: 0.18367347
K12: 2 | L12: 0.21938776
K13: 0.4 | L13: 0.23214286
K14: 0.08 | L14: 0.25595238
H15: IC50 | I15: 0.07913 | K15: 0.016 | L15: 1.0263605
K16: 0.0032 | L16: 1.0960884
K17: 0.00064 | L17: 1.0127551

Sheet A87574
A1: A87574 2014-7-26
A2: 500 | B2: 100 | C2: 20 | D2: =C2/5 -> 4 | E2: =D2/5 -> 0.8 | F2: =E2/5 -> 0.16 | G2: =F2/5 -> 0.032 | H2: =G2/5 -> 0.0064
A3: =A2*10/100 -> 50 | B3: =B2*10/100 -> 10 | C3: =C2*10/100 -> 2 | D3: =D2*10/100 -> 0.4 | E3: =E2*10/100 -> 0.08 | F3: =F2*10/100 -> 0.016 | G3: =G2*10/100 -> 0.0032 | H3: =H2*10/100 -> 0.00064 | J3: 2.499 | K3: 2.466 | L3: =AVERAGE(J3:K3) -> 2.4825
A4: 0.462 | B4: 0.541 | C4: 0.668 | D4: 0.643 | E4: 0.674 | F4: 2.236 | G4: 2.395 | H4: 2.462 | J4: 0.15
A6: =(A4-0.15)/($L$3-0.15) -> 0.13376206 | B6: =(B4-0.15)/($L$3-0.15) -> 0.1676313 | C6: =(C4-0.15)/($L$3-0.15) -> 0.22207931 | D6: =(D4-0.15)/($L$3-0.15) -> 0.2113612 | E6: =(E4-0.15)/($L$3-0.15) -> 0.22465166 | F6: =(F4-0.15)/($L$3-0.15) -> 0.8943194 | G6: =(G4-0.15)/($L$3-0.15) -> 0.9624866 | H6: =(H4-0.15)/($L$3-0.15) -> 0.99121115
K7: =LOG(A3) -> 1.69897 | L7: =LOG(B3) -> 1 | M7: =LOG(C3) -> 0.30103 | N7: =LOG(D3) -> -0.39794001 | O7: =LOG(E3) -> -1.09691 | P7: =LOG(F3) -> -1.79588 | Q7: =LOG(G3) -> -2.49485 | R7: =LOG(H3) -> -3.19382
J13: IC50 | K13: 0.03023

Sheet A91396
A1: A91396 2014-8-1
A2: 500 | B2: 100 | C2: 20 | D2: =C2/5 -> 4 | E2: =D2/5 -> 0.8 | F2: =E2/5 -> 0.16 | G2: =F2/5 -> 0.032 | H2: =G2/5 -> 0.0064
A3: =A2*10/100 -> 50 | B3: =B2*10/100 -> 10 | C3: =C2*10/100 -> 2 | D3: =D2*10/100 -> 0.4 | E3: =E2*10/100 -> 0.08 | F3: =F2*10/100 -> 0.016 | G3: =G2*10/100 -> 0.0032 | H3: =H2*10/100 -> 0.00064 | J3: 1.102
A4: 0.401 | B4: 0.412 | C4: 0.452 | D4: 0.523 | E4: 0.751 | F4: 0.954 | G4: 1.105 | H4: 1.12 | J4: 0.15
A6: =(A4-0.15)/($J$3-0.15) -> 0.26365546 | B6: =(B4-0.15)/($J$3-0.15) -> 0.27521008 | C6: =(C4-0.15)/($J$3-0.15) -> 0.31722689 | D6: =(D4-0.15)/($J$3-0.15) -> 0.39180672 | E6: =(E4-0.15)/($J$3-0.15) -> 0.63130252 | F6: =(F4-0.15)/($J$3-0.15) -> 0.84453782 | G6: =(G4-0.15)/($J$3-0.15) -> 1.0031513 | H6: =(H4-0.15)/($J$3-0.15) -> 1.0189076
K7: =LOG(A3) -> 1.69897 | L7: =LOG(B3) -> 1 | M7: =LOG(C3) -> 0.30103 | N7: =LOG(D3) -> -0.39794001 | O7: =LOG(E3) -> -1.09691 | P7: =LOG(F3) -> -1.79588 | Q7: =LOG(G3) -> -2.49485 | R7: =LOG(H3) -> -3.19382
J13: IC50 | K13: 0.06763

Sheet A98159
A1: A98159 2014-8-14
A3: 10 | B3: 2 | C3: 5 | D3: 1 | E3: 0.4 | F3: 0.08 | G3: 0.016 | H3: 0.0032 | J3: 0.84
A4: 0.212 | B4: 0.231 | C4: 0.227 | D4: 0.252 | E4: 0.286 | F4: 0.487 | G4: 0.611 | H4: 0.844 | J4: 0.1
A6: =(A4-0.1)/($J$3-0.1) -> 0.15135135 | B6: =(B4-0.1)/($J$3-0.1) -> 0.17702703 | C6: =(C4-0.1)/($J$3-0.1) -> 0.17162162 | D6: =(D4-0.1)/($J$3-0.1) -> 0.20540541 | E6: =(E4-0.1)/($J$3-0.1) -> 0.25135135 | F6: =(F4-0.1)/($J$3-0.1) -> 0.52297297 | G6: =(G4-0.1)/($J$3-0.1) -> 0.69054054 | H6: =(H4-0.1)/($J$3-0.1) -> 1.0054054 | J6: =LOG(A3) -> 1 | K6: =LOG(B3) -> 0.30103 | L6: =LOG(C3) -> 0.69897 | M6: =LOG(D3) -> 0 | N6: =LOG(E3) -> -0.39794001 | O6: =LOG(F3) -> -1.09691 | P6: =LOG(G3) -> -1.79588 | Q6: =LOG(H3) -> -2.49485
H11: IC50 | I11: 0.04069

Sheet A98544
A1: A98544 2014-8-26
A3: 2 | B3: 0.4 | C3: 1 | D3: 0.2 | E3: 0.08 | F3: 0.016 | G3: 0.0032 | H3: 0.00064 | J3: 0.634
A4: 0.142 | B4: 0.181 | C4: 0.151 | D4: 0.222 | E4: 0.386 | F4: 0.567 | G4: 0.611 | H4: 0.644 | J4: 0.1
A6: =(A4-0.1)/($J$3-0.1) -> 0.078651685 | B6: =(B4-0.1)/($J$3-0.1) -> 0.15168539 | C6: =(C4-0.1)/($J$3-0.1) -> 0.095505618 | D6: =(D4-0.1)/($J$3-0.1) -> 0.22846442 | E6: =(E4-0.1)/($J$3-0.1) -> 0.53558052 | F6: =(F4-0.1)/($J$3-0.1) -> 0.87453184 | G6: =(G4-0.1)/($J$3-0.1) -> 0.95692884 | H6: =(H4-0.1)/($J$3-0.1) -> 1.0187266 | J6: =LOG(A3) -> 0.30103 | K6: =LOG(B3) -> -0.39794001 | L6: =LOG(C3) -> 0 | M6: =LOG(D3) -> -0.69897 | N6: =LOG(E3) -> -1.09691 | O6: =LOG(F3) -> -1.79588 | P6: =LOG(G3) -> -2.49485 | Q6: =LOG(H3) -> -3.19382
G12: IC50 | H12: 0.07324
C25: IC50 | D25: 0.3899

Sheet B00763
A1: B00763 2014-9-4
A3: 2 | B3: 0.4 | C3: 1 | D3: 0.2 | E3: 0.08 | F3: 0.016 | G3: 0.0032 | H3: 0.00064 | J3: 0.734
A4: 0.182 | B4: 0.281 | C4: 0.251 | D4: 0.322 | E4: 0.486 | F4: 0.667 | G4: 0.711 | H4: 0.744 | J4: 0.1
A6: =(A4-0.1)/($J$3-0.1) -> 0.12933754 | B6: =(B4-0.1)/($J$3-0.1) -> 0.28548896 | C6: =(C4-0.1)/($J$3-0.1) -> 0.23817035 | D6: =(D4-0.1)/($J$3-0.1) -> 0.35015773 | E6: =(E4-0.1)/($J$3-0.1) -> 0.60883281 | F6: =(F4-0.1)/($J$3-0.1) -> 0.89432177 | G6: =(G4-0.1)/($J$3-0.1) -> 0.9637224 | H6: =(H4-0.1)/($J$3-0.1) -> 1.0157729 | J6: =LOG(A3) -> 0.30103 | K6: =LOG(B3) -> -0.39794001 | L6: =LOG(C3) -> 0 | M6: =LOG(D3) -> -0.69897 | N6: =LOG(E3) -> -1.09691 | O6: =LOG(F3) -> -1.79588 | P6: =LOG(G3) -> -2.49485 | Q6: =LOG(H3) -> -3.19382
G11: IC50 | H11: 0.08811

Sheet B08013
A1: B08013 2014-9-30
A3: 2 | B3: 0.4 | C3: 1 | D3: 0.2 | E3: 0.08 | F3: 0.016 | G3: 0.0032 | H3: 0.00064 | J3: 0.572
A4: 0.203 | B4: 0.241 | C4: 0.214 | D4: 0.322 | E4: 0.386 | F4: 0.467 | G4: 0.569 | H4: 0.577 | J4: 0.1
A6: =(A4-0.1)/($J$3-0.1) -> 0.21822034 | B6: =(B4-0.1)/($J$3-0.1) -> 0.29872881 | C6: =(C4-0.1)/($J$3-0.1) -> 0.24152542 | D6: =(D4-0.1)/($J$3-0.1) -> 0.47033898 | E6: =(E4-0.1)/($J$3-0.1) -> 0.6059322 | F6: =(F4-0.1)/($J$3-0.1) -> 0.77754237 | G6: =(G4-0.1)/($J$3-0.1) -> 0.99364407 | H6: =(H4-0.1)/($J$3-0.1) -> 1.0105932 | J6: =LOG(A3) -> 0.30103 | K6: =LOG(B3) -> -0.39794001 | L6: =LOG(C3) -> 0 | M6: =LOG(D3) -> -0.69897 | N6: =LOG(E3) -> -1.09691 | O6: =LOG(F3) -> -1.79588 | P6: =LOG(G3) -> -2.49485 | Q6: =LOG(H3) -> -3.19382
G11: IC50 | H11: 0.07893

Sheet B07550
A1: B07550 2014-9-30
A3: 2 | B3: 0.4 | C3: 1 | D3: 0.2 | E3: 0.08 | F3: 0.016 | G3: 0.0032 | H3: 0.00064 | J3: 0.928
A4: 0.275 | B4: 0.304 | C4: 0.287 | D4: 0.422 | E4: 0.629 | F4: 0.875 | G4: 0.912 | H4: 0.943 | J4: 0.1
A6: =(A4-0.1)/($J$3-0.1) -> 0.21135266 | B6: =(B4-0.1)/($J$3-0.1) -> 0.24637681 | C6: =(C4-0.1)/($J$3-0.1) -> 0.22584541 | D6: =(D4-0.1)/($J$3-0.1) -> 0.38888889 | E6: =(E4-0.1)/($J$3-0.1) -> 0.63888889 | F6: =(F4-0.1)/($J$3-0.1) -> 0.93599034 | G6: =(G4-0.1)/($J$3-0.1) -> 0.98067633 | H6: =(H4-0.1)/($J$3-0.1) -> 1.0181159 | J6: =LOG(A3) -> 0.30103 | K6: =LOG(B3) -> -0.39794001 | L6: =LOG(C3) -> 0 | M6: =LOG(D3) -> -0.69897 | N6: =LOG(E3) -> -1.09691 | O6: =LOG(F3) -> -1.79588 | P6: =LOG(G3) -> -2.49485 | Q6: =LOG(H3) -> -3.19382
G11: IC50 | H11: 0.08858

Sheet B25296
A1: B25296 2014-12-05
A3: 2 | B3: 0.4 | C3: 1 | D3: 0.2 | E3: 0.08 | F3: 0.016 | G3: 0.0032 | H3: 0.00064 | J3: 0.342
A4: 0.163 | B4: 0.215 | C4: 0.192 | D4: 0.242 | E4: 0.266 | F4: 0.328 | G4: 0.349 | H4: 0.351 | J4: 0.1
A6: =(A4-0.1)/($J$3-0.1) -> 0.26033058 | B6: =(B4-0.1)/($J$3-0.1) -> 0.47520661 | C6: =(C4-0.1)/($J$3-0.1) -> 0.38016529 | D6: =(D4-0.1)/($J$3-0.1) -> 0.58677686 | E6: =(E4-0.1)/($J$3-0.1) -> 0.68595041 | F6: =(F4-0.1)/($J$3-0.1) -> 0.94214876 | G6: =(G4-0.1)/($J$3-0.1) -> 1.0289256 | H6: =(H4-0.1)/($J$3-0.1) -> 1.0371901 | J6: =LOG(A3) -> 0.30103 | K6: =LOG(B3) -> -0.39794001 | L6: =LOG(C3) -> 0 | M6: =LOG(D3) -> -0.69897 | N6: =LOG(E3) -> -1.09691 | O6: =LOG(F3) -> -1.79588 | P6: =LOG(G3) -> -2.49485 | Q6: =LOG(H3) -> -3.19382
G13: IC50 | H13: 0.1245

Sheet B27306
A1: B27306 2014-12-12
A3: 2 | B3: 0.4 | C3: 1 | D3: 0.2 | E3: 0.08 | F3: 0.016 | G3: 0.0032 | H3: 0.00064 | J3: 0.642
A4: 0.167 | B4: 0.221 | C4: 0.203 | D4: 0.262 | E4: 0.366 | F4: 0.558 | G4: 0.621 | H4: 0.623 | J4: 0.1
A6: =(A4-0.1)/($J$3-0.1) -> 0.12361624 | B6: =(B4-0.1)/($J$3-0.1) -> 0.22324723 | C6: =(C4-0.1)/($J$3-0.1) -> 0.1900369 | D6: =(D4-0.1)/($J$3-0.1) -> 0.29889299 | E6: =(E4-0.1)/($J$3-0.1) -> 0.49077491 | F6: =(F4-0.1)/($J$3-0.1) -> 0.84501845 | G6: =(G4-0.1)/($J$3-0.1) -> 0.96125461 | H6: =(H4-0.1)/($J$3-0.1) -> 0.96494465 | J6: =LOG(A3) -> 0.30103 | K6: =LOG(B3) -> -0.39794001 | L6: =LOG(C3) -> 0 | M6: =LOG(D3) -> -0.69897 | N6: =LOG(E3) -> -1.09691 | O6: =LOG(F3) -> -1.79588 | P6: =LOG(G3) -> -2.49485 | Q6: =LOG(H3) -> -3.19382
H11: IC50 | I11: 0.1316

Sheet B40908
A1: B40908 2015-1-27
A3: 10 | B3: 2 | C3: 1 | D3: 0.4 | E3: 0.08 | F3: 0.016 | G3: 0.0032 | H3: 0.00064 | J3: 1.04
A4: 0.305 | B4: 0.312 | C4: 0.327 | D4: 0.562 | E4: 0.783 | F4: 0.934 | G4: 0.957 | H4: 0.964 | J4: 0.1
A6: =(A4-0.1)/($J3-0.1) -> 0.21808511 | B6: =(B4-0.1)/($J3-0.1) -> 0.22553191 | C6: =(C4-0.1)/($J3-0.1) -> 0.24148936 | D6: =(D4-0.1)/($J3-0.1) -> 0.49148936 | E6: =(E4-0.1)/($J3-0.1) -> 0.72659574 | F6: =(F4-0.1)/($J3-0.1) -> 0.88723404 | G6: =(G4-0.1)/($J3-0.1) -> 0.91170213 | H6: =(H4-0.1)/($J3-0.1) -> 0.91914894 | J6: =LOG(A3) -> 1 | K6: =LOG(B3) -> 0.30103 | L6: =LOG(C3) -> 0 | M6: =LOG(D3) -> -0.39794001 | N6: =LOG(E3) -> -1.09691 | O6: =LOG(F3) -> -1.79588 | P6: =LOG(G3) -> -2.49485 | Q6: =LOG(H3) -> -3.19382
J12: IC50 | K12: 0.2337

Sheet B42070
A1: B42070 2015-2-4
A3: 10 | B3: 2 | C3: 1 | D3: 0.4 | E3: 0.08 | F3: 0.016 | G3: 0.0032 | H3: 0.00064 | J3: 1.689
A4: 0.326 | B4: 0.312 | C4: 0.32 | D4: 0.362 | E4: 1.276 | F4: 1.585 | G4: 1.621 | H4: 1.632 | J4: 0.1
A6: =(A4-0.1)/(1.689-0.1) -> 0.14222782 | B6: =(B4-0.1)/(1.689-0.1) -> 0.13341724 | C6: =(C4-0.1)/(1.689-0.1) -> 0.13845186 | D6: =(D4-0.1)/(1.689-0.1) -> 0.16488357 | E6: =(E4-0.1)/(1.689-0.1) -> 0.74008811 | F6: =(F4-0.1)/(1.689-0.1) -> 0.93455003 | G6: =(G4-0.1)/(1.689-0.1) -> 0.95720579 | H6: =(H4-0.1)/(1.689-0.1) -> 0.96412838 | J6: =LOG(A3) -> 1 | K6: =LOG(B3) -> 0.30103 | L6: =LOG(C3) -> 0 | M6: =LOG(D3) -> -0.39794001 | N6: =LOG(E3) -> -1.09691 | O6: =LOG(F3) -> -1.79588 | P6: =LOG(G3) -> -2.49485 | Q6: =LOG(H3) -> -3.19382
J12: IC50 | K12: 0.1309

Sheet B53624
A1: B53624 2015-3-17
A3: 10 | B3: 2 | C3: 1 | D3: 0.4 | E3: 0.08 | F3: 0.016 | G3: 0.0032 | J3: 1.999
A4: 0.355 | B4: 0.375 | C4: 0.411 | D4: 0.422 | E4: 0.552 | F4: 1.688 | G4: 1.899 | J4: 0.1
A6: =(A4-0.1)/(1.999-0.1) -> 0.1342812 | B6: =(B4-0.1)/(1.999-0.1) -> 0.14481306 | C6: =(C4-0.1)/(1.999-0.1) -> 0.16377041 | D6: =(D4-0.1)/(1.999-0.1) -> 0.16956293 | E6: =(E4-0.1)/(1.999-0.1) -> 0.23802001 | F6: =(F4-0.1)/(1.999-0.1) -> 0.83622959 | G6: =(G4-0.1)/(1.999-0.1) -> 0.94734071 | J6: =LOG(A3) -> 1 | K6: =LOG(B3) -> 0.30103 | L6: =LOG(C3) -> 0 | M6: =LOG(D3) -> -0.39794001 | N6: =LOG(E3) -> -1.09691 | O6: =LOG(F3) -> -1.79588 | P6: =LOG(G3) -> -2.49485 | Q6: =LOG(H3) -> #NUM!
J12: IC50 | K12: 0.02623

Sheet B53928
A1: B53928 2015-3-17
A3: 10 | B3: 2 | C3: 1 | D3: 0.4 | E3: 0.08 | F3: 0.016 | G3: 0.0032 | H3: 0.00064 | J3: 2.014
A4: 0.278 | B4: 0.312 | C4: 0.325 | D4: 0.362 | E4: 1.278 | F4: 1.899 | G4: 1.991 | H4: 1.998 | J4: 0.1
A6: =(A4-0.1)/(2.014-0.1) -> 0.092998955 | B6: =(B4-0.1)/(2.014-0.1) -> 0.1107628 | C6: =(C4-0.1)/(2.014-0.1) -> 0.11755486 | D6: =(D4-0.1)/(2.014-0.1) -> 0.1368861 | E6: =(E4-0.1)/(2.014-0.1) -> 0.61546499 | F6: =(F4-0.1)/(2.014-0.1) -> 0.93991641 | G6: =(G4-0.1)/(2.014-0.1) -> 0.98798328 | H6: =(H4-0.1)/(2.014-0.1) -> 0.99164054 | J6: =LOG(A3) -> 1 | K6: =LOG(B3) -> 0.30103 | L6: =LOG(C3) -> 0 | M6: =LOG(D3) -> -0.39794001 | N6: =LOG(E3) -> -1.09691 | O6: =LOG(F3) -> -1.79588 | P6: =LOG(G3) -> -2.49485 | Q6: =LOG(H3) -> -3.19382
J12: IC50 | K12: 0.09551

Sheet B59305
A1: B59305 2015-4-7
A3: 10 | B3: 2 | C3: 1 | D3: 0.4 | E3: 0.08 | F3: 0.016 | G3: 0.0032 | H3: 0.00064 | J3: 0.389
A4: 0.145 | B4: 0.143 | C4: 0.155 | D4: 0.167 | E4: 0.207 | F4: 0.294 | G4: 0.372 | H4: 0.376 | J4: 0.1
A6: =(A4-0.1)/(0.389-0.1) -> 0.15570934 | B6: =(B4-0.1)/(0.389-0.1) -> 0.14878893 | C6: =(C4-0.1)/(0.389-0.1) -> 0.19031142 | D6: =(D4-0.1)/(0.389-0.1) -> 0.23183391 | E6: =(E4-0.1)/(0.389-0.1) -> 0.37024221 | F6: =(F4-0.1)/(0.389-0.1) -> 0.67128028 | G6: =(G4-0.1)/(0.389-0.1) -> 0.94117647 | H6: =(H4-0.1)/(0.389-0.1) -> 0.9550173 | J6: =LOG(A3) -> 1 | K6: =LOG(B3) -> 0.30103 | L6: =LOG(C3) -> 0 | M6: =LOG(D3) -> -0.39794001 | N6: =LOG(E3) -> -1.09691 | O6: =LOG(F3) -> -1.79588 | P6: =LOG(G3) -> -2.49485 | Q6: =LOG(H3) -> -3.19382
J12: IC50 | K12: 0.02736

Sheet B65619
A1: B65619 2015-4-27
A3: 10 | B3: 2 | C3: 1 | D3: 0.4 | E3: 0.08 | F3: 0.016 | G3: 0.0032 | H3: 0.00064 | J3: 0.645
A4: 0.187 | B4: 0.186 | C4: 0.204 | D4: 0.255 | E4: 0.345 | F4: 0.428 | G4: 0.561 | H4: 0.675 | J4: 0.1
A6: =(A4-0.1)/(0.645-0.1) -> 0.15963303 | B6: =(B4-0.1)/(0.645-0.1) -> 0.15779817 | C6: =(C4-0.1)/(0.645-0.1) -> 0.19082569 | D6: =(D4-0.1)/(0.645-0.1) -> 0.28440367 | E6: =(E4-0.1)/(0.645-0.1) -> 0.44954128 | F6: =(F4-0.1)/(0.645-0.1) -> 0.60183486 | G6: =(G4-0.1)/(0.645-0.1) -> 0.84587156 | H6: =(H4-0.1)/(0.645-0.1) -> 1.0550459 | J6: =LOG(A3) -> 1 | K6: =LOG(B3) -> 0.30103 | L6: =LOG(C3) -> 0 | M6: =LOG(D3) -> -0.39794001 | N6: =LOG(E3) -> -1.09691 | O6: =LOG(F3) -> -1.79588 | P6: =LOG(G3) -> -2.49485 | Q6: =LOG(H3) -> -3.19382
J12: IC50 | K12: 0.01882

Sheet B67301
A1: B67301 2015-5-4
A3: 10 | B3: 2 | C3: 1 | D3: 0.4 | E3: 0.08 | F3: 0.016 | G3: 0.0032 | H3: 0.00064 | J3: 0.813
A4: 0.189 | B4: 0.203 | C4: 0.233 | D4: 0.271 | E4: 0.394 | F4: 0.693 | G4: 0.784 | H4: 0.798 | J4: 0.1
