Workbook

Sheet raw data

Sheet standardizing
B1: Inlusive subsystem | K1: Green subsystem | T1: Growth subsystem
A2: regions | B2: C1:Library books per 100 persons | C2: C2:10,000 people with college degrees or above | D2: C3: Number of beds per 1,000 persons | E2: C4:Registered urban unemployment rate | F2: C5:Disposable income per capita between urban and rural residents | G2: C6:Urban population density | H2: C7:Per capita housing gross leasable area | I2: C8:Amount of fertilizer per unit cultivated area | J2: C9: Incidence of population fires | K2: C10: Industrial Solid waste production | L2: C11: Discharge of COD in industrial waste-water | M2: C12: Industrial SO2 emissions | N2: C13: Proportion of air quality reaching or better than grade 2 weather | O2: C14:Per capita green area of parks | P2: C15: Average traffic volume | Q2: C16: Central processing rate of sewage treatment plant in urban areas | R2: C17: Popularity rate of sanitation toilet in rural areas | S2: C18: Per capita afforestation area | T2: C19:Fixed asset investment per unit of GDP | U2: C20: Secondary sector Land yield | V2: C21:Tertiary sector Labor productivity | W2: C22:Water consumption per unit of GDP | X2: C23:Power consumption per unit of GDP | Y2: C24: Energy consumption per unit of industrial added value | Z2: C25: Industrial waste water discharge per unit of GDP | AA2: C26:Industrial waste gas emission per unit of GDP | AB2: C27: Solid waste generation per unit of GDP
A3: Hefei | B3: 0.94414948 | C3: 1 | D3: 0.86142961 | E3: 0.25973751 | F3: 0.30208333 | G3: 0.57324841 | H3: 0.62358261 | I3: 0.4715134 | J3: 0.54855196 | K3: 0.86534258 | L3: 1 | M3: 0.98370296 | N3: 0 | O3: 0.62851406 | P3: 0.14007004 | Q3: 1 | R3: 1 | S3: 0.073968177 | T3: 0 | U3: 0.46658498 | V3: 0.79122118 | W3: 0.81349731 | X3: 0.98198071 | Y3: 0.8404908 | Z3: 1 | AA3: 0.95931373 | AB3: 0.97201608
A4: Huaibei | B4: 0.17662022 | C4: 0.46462451 | D4: 0.71598393 | E4: 0.28492803 | F4: 0.278125 | G4: 0.43312102 | H4: 0.46385368 | I4: 0.91108782 | J4: 0.61839864 | K4: 0.51553931 | L4: 0.92675482 | M4: 0.99424645 | N4: 0.84782609 | O4: 0.55722892 | P4: 0.66983492 | Q4: 0.95670996 | R4: 0.54559271 | S4: 0.053566834 | T4: 0.46751061 | U4: 0.30352135 | V4: 0.23619504 | W4: 0.81207002 | X4: 0.48977379 | Y4: 0.41104294 | Z4: 0.74931775 | AA4: 0.7185901 | AB4: 0.33701337
A5: Bozhou | B5: 0.032695061 | C5: 0.089426877 | D5: 0 | E5: 0.19115157 | F5: 1 | G5: 0.65605096 | H5: 0.023729415 | I5: 0.94807728 | J5: 0.99488927 | K5: 0.91315277 | L5: 0.98414558 | M5: 0.99901675 | N5: 0.97826087 | O5: 0.32831325 | P5: 1 | Q5: 1 | R5: 0.20516717 | S5: 0.15263642 | T5: 0.96854872 | U5: 0 | V5: 0 | W5: 0.93454177 | X5: 0.93947141 | Y5: 0.80368098 | Z5: 0.80565157 | AA5: 0.97757521 | AB5: 0.89948833
A6: Suzhou | B6: 0 | C6: 0.1291502 | D6: 0.020896481 | E6: 0.53789162 | F6: 0.61197917 | G6: 0.14649682 | H6: 0.24583432 | I6: 0.78578562 | J6: 0.9693356 | K6: 0.79874911 | L6: 0.91578666 | M6: 0.98096371 | N6: 0.93478261 | O6: 0.12048193 | P6: 0.8034017 | Q6: 0.23160173 | R6: 0.15197568 | S6: 0.2259847 | T6: 0.8865007 | U6: 0.027291282 | V6: 0.095363928 | W6: 0.81523573 | X6: 0.87602483 | Y6: 0.69325153 | Z6: 0.67518396 | AA6: 0.90018065 | AB6: 0.81322512
A7: Bengbu | B7: 0.020772141 | C7: 0.4041502 | D7: 0.4240071 | E7: 0.46782388 | F7: 0.17239583 | G7: 0.21019108 | H7: 0.54222929 | I7: 0.34773585 | J7: 0.83475298 | K7: 0.92839401 | L7: 0.68643258 | M7: 0.98411647 | N7: 0.97826087 | O7: 0.077309237 | P7: 0.76438219 | Q7: 0.6969697 | R7: 0 | S7: 0.029952282 | T7: 0.71581591 | U7: 0.17953686 | V7: 0.23532785 | W7: 0.35905742 | X7: 0.81362731 | Y7: 0.7791411 | Z7: 0.31149789 | AA7: 0.87920497 | AB7: 0.93403422
A8: Fuyang | B8: 0.014023477 | C8: 0.088537549 | D8: 0.051350041 | E8: 0.6596105 | F8: 0.60885417 | G8: 0.59235669 | H8: 0 | I8: 0.87684221 | J8: 1 | K8: 0.85571 | L8: 0.91630553 | M8: 0.97308369 | N8: 0.5 | O8: 0.0060240964 | P8: 0.76838419 | Q8: 0.77922078 | R8: 0.027355623 | S8: 0.16020485 | T8: 1 | U8: 0.0090687792 | V8: 0.01359821 | W8: 0.86752783 | X8: 0.62240598 | Y8: 0.52760736 | Z8: 0.73962227 | AA8: 0.89316287 | AB8: 0.88192558
A9: Huainan | B9: 0.2241869 | C9: 0.37588933 | D9: 0.81447192 | E9: 0.92104149 | F9: 0.21614583 | G9: 0.21019108 | H9: 0.62419508 | I9: 0 | J9: 0.85689949 | K9: 0 | L9: 0.76253449 | M9: 0.78698875 | N9: 0.56521739 | O9: 0.45481928 | P9: 0.80490245 | Q9: 0 | R9: 0.69148936 | S9: 0 | T9: 0.59577586 | U9: 0.6023087 | V9: 0.24883543 | W9: 0.74752693 | X9: 0.37116737 | Y9: 0.54601227 | Z9: 0.30289198 | AA9: 0.22806565 | AB9: 0
A10: Chuzhou | B10: 0.032656334 | C10: 0 | D10: 0.0358393 | E10: 0.88547841 | F10: 0.47552083 | G10: 1 | H10: 0.73963729 | I10: 0.60675575 | J10: 0.93356048 | K10: 0.93046062 | L10: 0.4235872 | M10: 0.99596129 | N10: 0.7826087 | O10: 0.12650602 | P10: 0.74837419 | Q10: 0.73809524 | R10: 0.28571429 | S10: 0.44749982 | T10: 0.98796649 | U10: 0.038744756 | V10: 0.19147299 | W10: 0.95910089 | X10: 0.56523617 | Y10: 0.77300613 | Z10: 0 | AA10: 0.91467555 | AB10: 0.94132257
A11: Lu’an | B11: 0.0059641678 | C11: 0.10583004 | D11: 0.067486059 | E11: 0.27942422 | F11: 0.85885417 | G11: 0.22292994 | H11: 0.24594572 | I11: 0.54406902 | J11: 0.91822828 | K11: 0.86032013 | L11: 0.73076595 | M11: 0.99655068 | N11: 0.91304348 | O11: 0.25 | P11: 0.66033017 | Q11: 0.61038961 | R11: 0.88297872 | S11: 0.27689559 | T11: 0.98923709 | U11: 0.022776379 | V11: 0.15786021 | W11: 0.92038855 | X11: 0.84870497 | Y11: 0.72392638 | Z11: 0.43237105 | AA11: 0.96480523 | AB11: 0.87644187
A12: Ma’anshan | B12: 0.68731249 | C12: 0.35533597 | D12: 0.46492126 | E12: 0 | F12: 0.33958333 | G12: 0.92993631 | H12: 0.80688477 | I12: 1 | J12: 0 | K12: 0.075148041 | L12: 0.8395076 | M12: 0.95449927 | N12: 0.7826087 | O12: 0.62851406 | P12: 0.66183092 | Q12: 0.35064935 | R12: 0.40881459 | S12: 0.073782005 | T12: 0.50599074 | U12: 0.62688236 | V12: 1 | W12: 0.37198683 | X12: 0 | Y12: 0 | Z12: 0.25353222 | AA12: 0 | AB12: 0.29542526
A13: Wuhu | B13: 0.30967815 | C13: 0.26996047 | D13: 0.61520961 | E13: 0.094199831 | F13: 0.471875 | G13: 0.78980892 | H13: 0.89287707 | I13: 0.61952921 | J13: 0.89437819 | K13: 0.88776727 | L13: 0.56206315 | M13: 0.97403981 | N13: 0.80434783 | O13: 0.21084337 | P13: 0 | Q13: 0.34632035 | R13: 0.60182371 | S13: 0.27233001 | T13: 0.38493905 | U13: 0.45521794 | V13: 0.47238808 | W13: 0.95031254 | X13: 0.65587037 | Y13: 0.71779141 | Z13: 0.70827894 | AA13: 0.70889458 | AB13: 0.93932159
A14: Xuancheng | B14: 0.042706131 | C14: 0.25879447 | D14: 0.14215749 | E14: 0.68628281 | F14: 0 | G14: 0.49044586 | H14: 1 | I14: 0.52427097 | J14: 0.95229983 | K14: 0.96342699 | L14: 0.70806842 | M14: 0.98564514 | N14: 0.91304348 | O14: 0 | P14: 0.58729365 | Q14: 0.24675325 | R14: 0.59574468 | S14: 0.8544947 | T14: 0.91996662 | U14: 0.091042602 | V14: 0.19086611 | W14: 0.54556693 | X14: 0.27218471 | Y14: 0.61349693 | Z14: 0.16237611 | AA14: 0.67922403 | AB14: 0.95895159
... A18: Huangshan | B18: 0.1940538 | C18: 0.37835968 | D18: 0.31821446 | E18: 1 | F18: 0.72552083 | G18: 0.27388535 | H18: 0.92357306 | I18: 0.5725858 | J18: 0.94889267 | K18: 1 | L18: 0.92149424 | M18: 1 | N18: 1 | O18: 0.81726908 | P18: 0.92646323 | Q18: 0.77489177 | R18: 0.43465046 | S18: 0.64869355 | T18: 0.28616473 | U18: 0.17518435 | V18: 0.37694643 | W18: 0.54487437 | X18: 1 | Y18: 1 | Z18: 0.54922335 | AA18: 1 | AB18: 1
A19: sum of standard-ization | B19: =SUM(B3:B18) -> 3.874778 | C19: =SUM(C3:C18) -> 4.9212451 | D19: =SUM(D3:D18) -> 5.8274823 | E19: =SUM(E3:E18) -> 8.5290008 | F19: =SUM(F3:F18) -> 7.5833333 | G19: =SUM(G3:G18) -> 7.3248408 | H19: =SUM(H3:H18) -> 8.6965481 | I19: =SUM(I3:I18) -> 10.226484 | ... AB19: =SUM(AB3:AB18) -> 11.926063

Sheet weighting
A1: Entropy Caclulation process | B1: Inclusive subsystem | K1: Green subsystem | T1: Growth subsystem
B2: =standardizing!B3/standardizing!$B$19 -> 0.24366544 | C2: =standardizing!C3/standardizing!$C$19 -> 0.20320061 | D2: =standardizing!D3/standardizing!$D$19 -> 0.14782192 | E2: =standardizing!E3/standardizing!$E$19 -> 0.030453451 | F2: =standardizing!F3/standardizing!$F$19 -> 0.039835165 | G2: =standardizing!G3/standardizing!$G$19 -> 0.07826087 | H2: =standardizing!H3/standardizing!$H$19 -> 0.071704612 | I2: =standardizing!I3/standardizing!$I$19 -> 0.046107087 | J2: =standardizing!J3/standardizing!$J$19 -> 0.041666667 | K2: =standardizing!K3/standardizing!$K$19 -> 0.072468049 | L2: =standardizing!L3/standardizing!$L$19 -> 0.083220767 | M2: =standardizing!M3/standardizing!$M$19 -> 0.067724183 | N2: =standardizing!N3/standardizing!$N$19 -> 0 | O2: =standardizing!O3/standardizing!$O$19 -> 0.10767114 | P2: =standardizing!P3/standardizing!$P$19 -> 0.01395743 | Q2: =standardizing!Q3/standardizing!$Q$19 -> 0.098193411 | R2: =standardizing!R3/standardizing!$R$19 -> 0.13955461 | S2: =standardizing!S3/standardizing!$S$19 -> 0.01398337 | T2: =standardizing!T3/standardizing!$T$19 -> 0 | U2: =standardizing!U3/standardizing!$U$19 -> 0.10996573 | V2: =standardizing!V3/standardizing!$V$19 -> 0.16486066 | W2: =standardizing!W3/standardizing!$W$19 -> 0.070357072 | X2: =standardizing!X3/standardizing!$X$19 -> 0.099447099 | Y2: =standardizing!Y3/standardizing!$Y$19 -> 0.085040348 | Z2: =standardizing!Z3/standardizing!$Z$19 -> 0.1219836 | AA2: =standardizing!AA3/standardizing!$AA$19 -> 0.08405486 | AB2: =standardizing!AB3/standardizing!$AB$19 -> 0.08150352
B3: =standardizing!B4/standardizing!$B$19 -> 0.045582024 | C3: =standardizing!C4/standardizing!$C$19 -> 0.094411983 | D3: =standardizing!D4/standardizing!$D$19 -> 0.12286334 | E3: =standardizing!E4/standardizing!$E$19 -> 0.033406964 | F3: =standardizing!F4/standardizing!$F$19 -> 0.036675824 | G3: =standardizing!G4/standardizing!$G$19 -> 0.059130435 | H3: =standardizing!H4/standardizing!$H$19 -> 0.053337678 | I3: =standardizing!I4/standardizing!$I$19 -> 0.089091011 | J3: =standardizing!J4/standardizing!$J$19 -> 0.04697205 | K3: =standardizing!K4/standardizing!$K$19 -> 0.0431738 | L3: =standardizing!L4/standardizing!$L$19 -> 0.077125247 | M3: =standardizing!M4/standardizing!$M$19 -> 0.068450062 | N3: =standardizing!N4/standardizing!$N$19 -> 0.069271758 | O3: =standardizing!O4/standardizing!$O$19 -> 0.095459236 | P3: =standardizing!P4/standardizing!$P$19 -> 0.066746423 | Q3: =standardizing!Q4/standardizing!$Q$19 -> 0.093942614 | R3: =standardizing!R4/standardizing!$R$19 -> 0.076139979 | S3: =standardizing!S4/standardizing!$S$19 -> 0.010126582 | T3: =standardizing!T4/standardizing!$T$19 -> 0.043475027 | U3: =standardizing!U4/standardizing!$U$19 -> 0.07153455 | V3: =standardizing!V4/standardizing!$V$19 -> 0.04921414 | W3: =standardizing!W4/standardizing!$W$19 -> 0.070233629 | X3: =standardizing!X4/standardizing!$X$19 -> 0.049600346 | Y3: =standardizing!Y4/standardizing!$Y$19 -> 0.041589075 | Z3: =standardizing!Z4/standardizing!$Z$19 -> 0.091404473 | AA3: =standardizing!AA4/standardizing!$AA$19 -> 0.062962708 | AB3: =standardizing!AB4/standardizing!$AB$19 -> 0.028258562
B4: =standardizing!B5/standardizing!$B$19 -> 0.0084379184 | C4: =standardizing!C5/standardizing!$C$19 -> 0.018171596 | D4: =standardizing!D5/standardizing!$D$19 -> 0 | E4: =standardizing!E5/standardizing!$E$19 -> 0.022411953 | F4: =standardizing!F5/standardizing!$F$19 -> 0.13186813 | G4: =standardizing!G5/standardizing!$G$19 -> 0.089565217 | H4: =standardizing!H5/standardizing!$H$19 -> 0.0027286015 | I4: =standardizing!I5/standardizing!$I$19 -> 0.092708037 | J4: =standardizing!J5/standardizing!$J$19 -> 0.075569358 | K4: =standardizing!K5/standardizing!$K$19 -> 0.07647191 | L4: =standardizing!L5/standardizing!$L$19 -> 0.08190135 | M4: =standardizing!M5/standardizing!$M$19 -> 0.068778478 | N4: =standardizing!N5/standardizing!$N$19 -> 0.079928952 | O4: =standardizing!O5/standardizing!$O$19 -> 0.05624355 | P4: =standardizing!P5/standardizing!$P$19 -> 0.099646079 | Q4: =standardizing!Q5/standardizing!$Q$19 -> 0.098193411 | R4: =standardizing!R5/standardizing!$R$19 -> 0.028632025 | S4: =standardizing!S5/standardizing!$S$19 -> 0.028855266 | T4: =standardizing!T5/standardizing!$T$19 -> 0.090067863 | U4: =standardizing!U5/standardizing!$U$19 -> 0 | V4: =standardizing!V5/standardizing!$V$19 -> 0 | W4: =standardizing!W5/standardizing!$W$19 -> 0.080825863 | X4: =standardizing!X5/standardizing!$X$19 -> 0.0951421 | Y4: =standardizing!Y5/standardizing!$Y$19 -> 0.081315953 | Z4: =standardizing!Z5/standardizing!$Z$19 -> 0.098276275 | AA4: =standardizing!AA5/standardizing!$AA$19 -> 0.085654927 | AB4: =standardizing!AB5/standardizing!$AB$19 -> 0.07542207
B5: =standardizing!B6/standardizing!$B$19 -> 0 | C5: =standardizing!C6/standardizing!$C$19 -> 0.026243399 | D5: =standardizing!D6/standardizing!$D$19 -> 0.0035858507 | E5: =standardizing!E6/standardizing!$E$19 -> 0.063066193 | F5: =standardizing!F6/standardizing!$F$19 -> 0.080700549 | G5: =standardizing!G6/standardizing!$G$19 -> 0.02 | H5: =standardizing!H6/standardizing!$H$19 -> 0.028268034 | I5: =standardizing!I6/standardizing!$I$19 -> 0.076838296 | J5: =standardizing!J6/standardizing!$J$19 -> 0.073628364 | K5: =standardizing!K6/standardizing!$K$19 -> 0.066891184 | L5: =standardizing!L6/standardizing!$L$19 -> 0.076212468 | M5: =standardizing!M6/standardizing!$M$19 -> 0.067535596 | N5: =standardizing!N6/standardizing!$N$19 -> 0.076376554 | O5: =standardizing!O6/standardizing!$O$19 -> 0.020639835 | P5: =standardizing!P6/standardizing!$P$19 -> 0.08005583 | Q5: =standardizing!Q6/standardizing!$Q$19 -> 0.022741764 | R5: =standardizing!R6/standardizing!$R$19 -> 0.021208908 | S5: =standardizing!S6/standardizing!$S$19 -> 0.042721448 | T5: =standardizing!T6/standardizing!$T$19 -> 0.082438004 | U5: =standardizing!U6/standardizing!$U$19 -> 0.0064320668 | V5: =standardizing!V6/standardizing!$V$19 -> 0.019870247 | W5: =standardizing!W6/standardizing!$W$19 -> 0.070507423 | X5: =standardizing!X6/standardizing!$X$19 -> 0.08871674 | Y5: =standardizing!Y6/standardizing!$Y$19 -> 0.070142768 | Z5: =standardizing!Z6/standardizing!$Z$19 -> 0.082361367 | AA5: =standardizing!AA6/standardizing!$AA$19 -> 0.078873632 | AB5: =standardizing!AB6/standardizing!$AB$19 -> 0.068188903
B6: =standardizing!B7/standardizing!$B$19 -> 0.0053608595 | C6: =standardizing!C7/standardizing!$C$19 -> 0.082123567 | D6: =standardizing!D7/standardizing!$D$19 -> 0.072759912 | E6: =standardizing!E7/standardizing!$E$19 -> 0.054850959 | F6: =standardizing!F7/standardizing!$F$19 -> 0.022733516 | G6: =standardizing!G7/standardizing!$G$19 -> 0.028695652 | H6: =standardizing!H7/standardizing!$H$19 -> 0.062349944 | I6: =standardizing!I7/standardizing!$I$19 -> 0.03400346 | J6: =standardizing!J7/standardizing!$J$19 -> 0.063405797 | K6: =standardizing!K7/standardizing!$K$19 -> 0.077748286 | L6: =standardizing!L7/standardizing!$L$19 -> 0.057125446 | M6: =standardizing!M7/standardizing!$M$19 -> 0.067752651 | N6: =standardizing!N7/standardizing!$N$19 -> 0.079928952 | O6: =standardizing!O7/standardizing!$O$19 -> 0.013243894 | P6: =standardizing!P7/standardizing!$P$19 -> 0.076167689 | Q6: =standardizing!Q7/standardizing!$Q$19 -> 0.068437832 | R6: =standardizing!R7/standardizing!$R$19 -> 0 | S6: =standardizing!S7/standardizing!$S$19 -> 0.0056623518 | T6: =standardizing!T7/standardizing!$T$19 -> 0.066565582 | U6: =standardizing!U7/standardizing!$U$19 -> 0.042313626 | V6: =standardizing!V7/standardizing!$V$19 -> 0.049033451 | W6: =standardizing!W7/standardizing!$W$19 -> 0.031053856 | X6: =standardizing!X7/standardizing!$X$19 -> 0.082397622 | Y6: =standardizing!Y7/standardizing!$Y$19 -> 0.078833023 | Z6: =standardizing!Z7/standardizing!$Z$19 -> 0.037997633 | AA6: =standardizing!AA7/standardizing!$AA$19 -> 0.077035748 | AB6: =standardizing!AB7/standardizing!$AB$19 -> 0.078318742
B7: =standardizing!B8/standardizing!$B$19 -> 0.003619169 | C7: =standardizing!C8/standardizing!$C$19 -> 0.017990884 | D7: =standardizing!D8/standardizing!$D$19 -> 0.0088117026 | E7: =standardizing!E8/standardizing!$E$19 -> 0.077337371 | F7: =standardizing!F8/standardizing!$F$19 -> 0.080288462 | G7: =standardizing!G8/standardizing!$G$19 -> 0.080869565 | H7: =standardizing!H8/standardizing!$H$19 -> 0 | I7: =standardizing!I8/standardizing!$I$19 -> 0.085742293 | J7: =standardizing!J8/standardizing!$J$19 -> 0.075957557 | K7: =standardizing!K8/standardizing!$K$19 -> 0.071661369 | L7: =standardizing!L8/standardizing!$L$19 -> 0.076255649 | M7: =standardizing!M8/standardizing!$M$19 -> 0.066993087 | N7: =standardizing!N8/standardizing!$N$19 -> 0.040852575 | O7: =standardizing!O8/standardizing!$O$19 -> 0.0010319917 | P7: =standardizing!P8/standardizing!$P$19 -> 0.076566472 | Q7: =standardizing!Q8/standardizing!$Q$19 -> 0.076514346 | R7: =standardizing!R8/standardizing!$R$19 -> 0.0038176034 | S7: =standardizing!S8/standardizing!$S$19 -> 0.030286046 | T7: =standardizing!T8/standardizing!$T$19 -> 0.092992599 | U7: =standardizing!U8/standardizing!$U$19 -> 0.002137349 | V7: =standardizing!V8/standardizing!$V$19 -> 0.0028333541 | W7: =standardizing!W8/standardizing!$W$19 -> 0.075030018 | X7: =standardizing!X8/standardizing!$X$19 -> 0.063032266 | Y7: =standardizing!Y8/standardizing!$Y$19 -> 0.053382992 | Z7: =standardizing!Z8/standardizing!$Z$19 -> 0.090221784 | AA7: =standardizing!AA8/standardizing!$AA$19 -> 0.078258736 | AB7: =standardizing!AB8/standardizing!$AB$19 -> 0.073949434
B8: =standardizing!B9/standardizing!$B$19 -> 0.057857998 | C8: =standardizing!C9/standardizing!$C$19 -> 0.076380941 | D8: =standardizing!D9/standardizing!$D$19 -> 0.13976395 | E8: =standardizing!E9/standardizing!$E$19 -> 0.10798938 | F8: =standardizing!F9/standardizing!$F$19 -> 0.028502747 | G8: =standardizing!G9/standardizing!$G$19 -> 0.028695652 | H8: =standardizing!H9/standardizing!$H$19 -> 0.07177504 | I8: =standardizing!I9/standardizing!$I$19 -> 0 | J8: =standardizing!J9/standardizing!$J$19 -> 0.065087992 | K8: =standardizing!K9/standardizing!$K$19 -> 0 | L8: =standardizing!L9/standardizing!$L$19 -> 0.063458705 | M8: =standardizing!M9/standardizing!$M$19 -> 0.054181163 | N8: =standardizing!N9/standardizing!$N$19 -> 0.046181172 | O8: =standardizing!O9/standardizing!$O$19 -> 0.077915377 | P8: =standardizing!P9/standardizing!$P$19 -> 0.080205374 | Q8: =standardizing!Q9/standardizing!$Q$19 -> 0 | R8: =standardizing!R9/standardizing!$R$19 -> 0.09650053 | S8: =standardizing!S9/standardizing!$S$19 -> 0 | T8: =standardizing!T9/standardizing!$T$19 -> 0.055402746 | U8: =standardizing!U9/standardizing!$U$19 -> 0.14195338 | V8: =standardizing!V9/standardizing!$V$19 -> 0.05184792 | W8: =standardizing!W9/standardizing!$W$19 -> 0.064651481 | X8: =standardizing!X9/standardizing!$X$19 -> 0.037588843 | Y8: =standardizing!Y9/standardizing!$Y$19 -> 0.055245189 | Z8: =standardizing!Z9/standardizing!$Z$19 -> 0.036947852 | AA8: =standardizing!AA9/standardizing!$AA$19 -> 0.019983062 | AB8: =standardizing!AB9/standardizing!$AB$19 -> 0
B9: =standardizing!B10/standardizing!$B$19 -> 0.0084279238 | C9: =standardizing!C10/standardizing!$C$19 -> 0 | D9: =standardizing!D10/standardizing!$D$19 -> 0.0061500487 | E9: =standardizing!E10/standardizing!$E$19 -> 0.10381971 | F9: =standardizing!F10/standardizing!$F$19 -> 0.062706044 | G9: =standardizing!G10/standardizing!$G$19 -> 0.13652174 | H9: =standardizing!H10/standardizing!$H$19 -> 0.085049525 | I9: =standardizing!I10/standardizing!$I$19 -> 0.059331803 | J9: =standardizing!J10/standardizing!$J$19 -> 0.070910973 | K9: =standardizing!K10/standardizing!$K$19 -> 0.077921354 | L9: =standardizing!L10/standardizing!$L$19 -> 0.035251251 | M9: =standardizing!M10/standardizing!$M$19 -> 0.068568122 | N9: =standardizing!N10/standardizing!$N$19 -> 0.063943162 | O9: =standardizing!O10/standardizing!$O$19 -> 0.021671827 | P9: =standardizing!P10/standardizing!$P$19 -> 0.074572554 | Q9: =standardizing!Q10/standardizing!$Q$19 -> 0.072476089 | R9: =standardizing!R10/standardizing!$R$19 -> 0.039872747 | S9: =standardizing!S10/standardizing!$S$19 -> 0.08459794 | T9: =standardizing!T10/standardizing!$T$19 -> 0.091873572 | U9: =standardizing!U10/standardizing!$U$19 -> 0.0091314457 | V9: =standardizing!V10/standardizing!$V$19 -> 0.039895751 | W9: =standardizing!W10/standardizing!$W$19 -> 0.082949911 | X9: =standardizing!X10/standardizing!$X$19 -> 0.057242568 | Y9: =standardizing!Y10/standardizing!$Y$19 -> 0.078212291 | Z9: =standardizing!Z10/standardizing!$Z$19 -> 0 | AA9: =standardizing!AA10/standardizing!$AA$19 -> 0.080143672 | AB9: =standardizing!AB10/standardizing!$AB$19 -> 0.07892987
B10: =standardizing!B11/standardizing!$B$19 -> 0.0015392283 | C10: =standardizing!C11/standardizing!$C$19 -> 0.021504729 | D10: =standardizing!D11/standardizing!$D$19 -> 0.011580655 | E10: =standardizing!E11/standardizing!$E$19 -> 0.032761659 | F10: =standardizing!F11/standardizing!$F$19 -> 0.11325549 | G10: =standardizing!G11/standardizing!$G$19 -> 0.030434783 | H10: =standardizing!H11/standardizing!$H$19 -> 0.028280844 | I10: =standardizing!I11/standardizing!$I$19 -> 0.053201961 | J10: =standardizing!J11/standardizing!$J$19 -> 0.069746377 | K10: =standardizing!K11/standardizing!$K$19 -> 0.072047444 | L10: =standardizing!L11/standardizing!$L$19 -> 0.060814903 | M10: =standardizing!M11/standardizing!$M$19 -> 0.068608699 | N10: =standardizing!N11/standardizing!$N$19 -> 0.074600355 | O10: =standardizing!O11/standardizing!$O$19 -> 0.042827657 | P10: =standardizing!P11/standardizing!$P$19 -> 0.065799312 | Q10: =standardizing!Q11/standardizing!$Q$19 -> 0.059936238 | R10: =standardizing!R11/standardizing!$R$19 -> 0.12322375 | S10: =standardizing!S11/standardizing!$S$19 -> 0.052345935 | T10: =standardizing!T11/standardizing!$T$19 -> 0.091991728 | U10: =standardizing!U11/standardizing!$U$19 -> 0.005367985 | V10: =standardizing!V11/standardizing!$V$19 -> 0.032892116 | W10: =standardizing!W11/standardizing!$W$19 -> 0.079601791 | X10: =standardizing!X11/standardizing!$X$19 -> 0.085950006 | Y10: =standardizing!Y11/standardizing!$Y$19 -> 0.073246431 | Z10: =standardizing!Z11/standardizing!$Z$19 -> 0.052742175 | AA10: =standardizing!AA11/standardizing!$AA$19 -> 0.084536024 | AB10: =standardizing!AB11/standardizing!$AB$19 -> 0.073489625
B11: =standardizing!B12/standardizing!$B$19 -> 0.17738113 | C11: =standardizing!C12/standardizing!$C$19 -> 0.072204486 | D11: =standardizing!D12/standardizing!$D$19 -> 0.079780811 | E11: =standardizing!E12/standardizing!$E$19 -> 0 | F11: =standardizing!F12/standardizing!$F$19 -> 0.04478022 | G11: =standardizing!G12/standardizing!$G$19 -> 0.12695652 | H11: =standardizing!H12/standardizing!$H$19 -> 0.092782189 | I11: =standardizing!I12/standardizing!$I$19 -> 0.097785316 | J11: =standardizing!J12/standardizing!$J$19 -> 0 | K11: =standardizing!K12/standardizing!$K$19 -> 0.006293267 | L11: =standardizing!L12/standardizing!$L$19 -> 0.069864467 | M11: =standardizing!M12/standardizing!$M$19 -> 0.06571362 | N11: =standardizing!N12/standardizing!$N$19 -> 0.063943162 | O11: =standardizing!O12/standardizing!$O$19 -> 0.10767114 | P11: =standardizing!P12/standardizing!$P$19 -> 0.065948856 | Q11: =standardizing!Q12/standardizing!$Q$19 -> 0.034431456 | R11: =standardizing!R12/standardizing!$R$19 -> 0.057051962 | S11: =standardizing!S12/standardizing!$S$19 -> 0.013948175 | T11: =standardizing!T12/standardizing!$T$19 -> 0.047053394 | U11: =standardizing!U12/standardizing!$U$19 -> 0.14774495 | V11: =standardizing!V12/standardizing!$V$19 -> 0.20836229 | W11: =standardizing!W12/standardizing!$W$19 -> 0.032172084 | X11: =standardizing!X12/standardizing!$X$19 -> 0 | Y11: =standardizing!Y12/standardizing!$Y$19 -> 0 | Z11: =standardizing!Z12/standardizing!$Z$19 -> 0.030926772 | AA11: =standardizing!AA12/standardizing!$AA$19 -> 0 | AB11: =standardizing!AB12/standardizing!$AB$19 -> 0.024771399
B12: =standardizing!B13/standardizing!$B$19 -> 0.07992152 | C12: =standardizing!C13/standardizing!$C$19 -> 0.054856133 | D12: =standardizing!D13/standardizing!$D$19 -> 0.1055704 | E12: =standardizing!E13/standardizing!$E$19 -> 0.01104465 | F12: =standardizing!F13/standardizing!$F$19 -> 0.062225275 | G12: =standardizing!G13/standardizing!$G$19 -> 0.10782609 | H12: =standardizing!H13/standardizing!$H$19 -> 0.10267028 | I12: =standardizing!I13/standardizing!$I$19 -> 0.06058086 | J12: =standardizing!J13/standardizing!$J$19 -> 0.067934783 | K12: =standardizing!K13/standardizing!$K$19 -> 0.074346003 | L12: =standardizing!L13/standardizing!$L$19 -> 0.046775326 | M12: =standardizing!M13/standardizing!$M$19 -> 0.067058912 | N12: =standardizing!N13/standardizing!$N$19 -> 0.065719361 | O12: =standardizing!O13/standardizing!$O$19 -> 0.036119711 | P12: =standardizing!P13/standardizing!$P$19 -> 0 | Q12: =standardizing!Q13/standardizing!$Q$19 -> 0.034006376 | R12: =standardizing!R13/standardizing!$R$19 -> 0.083987275 | S12: =standardizing!S13/standardizing!$S$19 -> 0.051482831 | T12: =standardizing!T13/standardizing!$T$19 -> 0.035796483 | U12: =standardizing!U13/standardizing!$U$19 -> 0.10728672 | V12: =standardizing!V13/standardizing!$V$19 -> 0.098427863 | W12: =standardizing!W13/standardizing!$W$19 -> 0.082189832 | X12: =standardizing!X13/standardizing!$X$19 -> 0.06642127 | Y12: =standardizing!Y13/standardizing!$Y$19 -> 0.072625698 | Z12: =standardizing!Z13/standardizing!$Z$19 -> 0.086398411 | AA12: =standardizing!AA13/standardizing!$AA$19 -> 0.062113188 | AB12: =standardizing!AB13/standardizing!$AB$19 -> 0.078762088
B13: =standardizing!B14/standardizing!$B$19 -> 0.011021568 | C13: =standardizing!C14/standardizing!$C$19 -> 0.052587194 | D13: =standardizing!D14/standardizing!$D$19 -> 0.024394324 | E13: =standardizing!E14/standardizing!$E$19 -> 0.08046462 | F13: =standardizing!F14/standardizing!$F$19 -> 0 | G13: =standardizing!G14/standardizing!$G$19 -> 0.066956522 | H13: =standardizing!H14/standardizing!$H$19 -> 0.11498815 | I13: =standardizing!I14/standardizing!$I$19 -> 0.051266003 | J13: =standardizing!J14/standardizing!$J$19 -> 0.072334369 | K13: =standardizing!K14/standardizing!$K$19 -> 0.080682121 | L13: =standardizing!L14/standardizing!$L$19 -> 0.058925997 | M13: =standardizing!M14/standardizing!$M$19 -> 0.067857894 | N13: =standardizing!N14/standardizing!$N$19 -> 0.074600355 | O13: =standardizing!O14/standardizing!$O$19 -> 0 | P13: =standardizing!P14/standardizing!$P$19 -> 0.058521509 | Q13: =standardizing!Q14/standardizing!$Q$19 -> 0.024229543 | R13: =standardizing!R14/standardizing!$R$19 -> 0.083138918 | S13: =standardizing!S14/standardizing!$S$19 -> 0.16153859 | T13: =standardizing!T14/standardizing!$T$19 -> 0.085550087 | U13: =standardizing!U14/standardizing!$U$19 -> 0.021457112 | V13: =standardizing!V14/standardizing!$V$19 -> 0.0397693 | W13: =standardizing!W14/standardizing!$W$19 -> 0.047184534 | X13: =standardizing!X14/standardizing!$X$19 -> 0.027564675 | Y13: =standardizing!Y14/standardizing!$Y$19 -> 0.062073246 | Z13: =standardizing!Z14/standardizing!$Z$19 -> 0.019807222 | AA13: =standardizing!AA14/standardizing!$AA$19 -> 0.059513462 | AB13: =standardizing!AB14/standardizing!$AB$19 -> 0.080408063
... B16: =standardizing!B17/standardizing!$B$19 -> 0.022732855 | C16: =standardizing!C17/standardizing!$C$19 -> 0.040359015 | D16: =standardizing!D17/standardizing!$D$19 -> 0.011290379 | E16: =standardizing!E17/standardizing!$E$19 -> 0.0840138 | F16: =standardizing!F17/standardizing!$F$19 -> 0.053708791 | G16: =standardizing!G17/standardizing!$G$19 -> 0 | H16: =standardizing!H17/standardizing!$H$19 -> 0.032565162 | I16: =standardizing!I17/standardizing!$I$19 -> 0.070826953 | J16: =standardizing!J17/standardizing!$J$19 -> 0.067417184 | K16: =standardizing!K17/standardizing!$K$19 -> 0.076449444 | L16: =standardizing!L17/standardizing!$L$19 -> 0 | M16: =standardizing!M17/standardizing!$M$19 -> 0.065586608 | N16: =standardizing!N17/standardizing!$N$19 -> 0.042628774 | O16: =standardizing!O17/standardizing!$O$19 -> 0.043343653 | P16: =standardizing!P17/standardizing!$P$19 -> 0.053586561 | Q16: =standardizing!Q17/standardizing!$Q$19 -> 0.096068013 | R16: =standardizing!R17/standardizing!$R$19 -> 0.07359491 | S16: =standardizing!S17/standardizing!$S$19 -> 0.18904575 | T16: =standardizing!T17/standardizing!$T$19 -> 0.09146338 | U16: =standardizing!U17/standardizing!$U$19 -> 0.031770089 | V16: =standardizing!V17/standardizing!$V$19 -> 0.020478912 | W16: =standardizing!W17/standardizing!$W$19 -> 0.086487159 | X16: =standardizing!X17/standardizing!$X$19 -> 0.074278654 | Y16: =standardizing!Y17/standardizing!$Y$19 -> 0.064556176 | Z16: =standardizing!Z17/standardizing!$Z$19 -> 0.073583135 | AA16: =standardizing!AA17/standardizing!$AA$19 -> 0.069788258 | AB16: =standardizing!AB17/standardizing!$AB$19 -> 0.0794694
B17: =standardizing!B18/standardizing!$B$19 -> 0.05008127 | C17: =standardizing!C18/standardizing!$C$19 -> 0.076882919 | D17: =standardizing!D18/standardizing!$D$19 -> 0.054605822 | E17: =standardizing!E18/standardizing!$E$19 -> 0.11724703 | F17: =standardizing!F18/standardizing!$F$19 -> 0.095673077 | G17: =standardizing!G18/standardizing!$G$19 -> 0.037391304 | H17: =standardizing!H18/standardizing!$H$19 -> 0.10619996 | I17: =standardizing!I18/standardizing!$I$19 -> 0.055990484 | J17: =standardizing!J18/standardizing!$J$19 -> 0.072075569 | K17: =standardizing!K18/standardizing!$K$19 -> 0.083744924 | L17: =standardizing!L18/standardizing!$L$19 -> 0.076687457 | M17: =standardizing!M18/standardizing!$M$19 -> 0.068846171 | N17: =standardizing!N18/standardizing!$N$19 -> 0.081705151 | O17: =standardizing!O18/standardizing!$O$19 -> 0.14000688 | P17: =standardizing!P18/standardizing!$P$19 -> 0.092318429 | Q17: =standardizing!Q18/standardizing!$Q$19 -> 0.076089267 | R17: =standardizing!R18/standardizing!$R$19 -> 0.060657476 | S17: =standardizing!S18/standardizing!$S$19 -> 0.12263276 | T17: =standardizing!T18/standardizing!$T$19 -> 0.026611202 | U17: =standardizing!U18/standardizing!$U$19 -> 0.041287816 | V17: =standardizing!V18/standardizing!$V$19 -> 0.078541424 | W17: =standardizing!W18/standardizing!$W$19 -> 0.047124637 | X17: =standardizing!X18/standardizing!$X$19 -> 0.10127195 | Y17: =standardizing!Y18/standardizing!$Y$19 -> 0.10117939 | Z17: =standardizing!Z18/standardizing!$Z$19 -> 0.066996239 | AA17: =standardizing!AA18/standardizing!$AA$19 -> 0.087619782 | AB17: =standardizing!AB18/standardizing!$AB$19 -> 0.083849971 | AC17: Sum
A18: Entropy(ei) | B18: =-1/LN(16)*(B3*LN(B3)+B4*LN(B4)+B2*LN(B2)+B6*LN(B6)+B7*LN(B7)+B8*LN(B8)+B9*LN(B9)+B10*LN(B10)+B11*LN(B11)+B12*LN(B12)+B13*LN(B13)+B14*LN(B14)+B15*LN(B15)+B16*LN(B16)+B17*LN(B17)) -> 0.73150992 | C18: =-1/LN(16)*(C2*LN(C2)+C3*LN(C3)+C5*LN(C5)+C6*LN(C6)+C7*LN(C7)+C8*LN(C8)+C4*LN(C4)+C10*LN(C10)+C11*LN(C11)+C12*LN(C12)+C13*LN(C13)+C14*LN(C14)+C15*LN(C15)+C16*LN(C16)+C17*LN(C17)) -> 0.88606875 | D18: =-1/LN(16)*(D2*LN(D2)+D3*LN(D3)+D7*LN(D7)+D5*LN(D5)+D6*LN(D6)+D8*LN(D8)+D9*LN(D9)+D10*LN(D10)+D11*LN(D11)+D12*LN(D12)+D13*LN(D13)+D14*LN(D14)+D15*LN(D15)+D16*LN(D16)+D17*LN(D17)) -> 0.83666452 | E18: =-1/LN(16)*(E2*LN(E2)+E3*LN(E3)+E4*LN(E4)+E5*LN(E5)+E7*LN(E7)+E8*LN(E8)+E9*LN(E9)+E10*LN(E10)+E6*LN(E6)+E12*LN(E12)+E13*LN(E13)+E14*LN(E14)+E15*LN(E15)+E16*LN(E16)+E17*LN(E17)) -> 0.92615504 | F18: =-1/LN(16)*(F2*LN(F2)+F3*LN(F3)+F4*LN(F4)+F5*LN(F5)+F6*LN(F6)+F7*LN(F7)+F8*LN(F8)+F9*LN(F9)+F10*LN(F10)+F12*LN(F12)+F11*LN(F11)+F14*LN(F14)+F15*LN(F15)+F16*LN(F16)+F17*LN(F17)) -> 0.93441012 | G18: =-1/LN(16)*(G2*LN(G2)+G3*LN(G3)+G4*LN(G4)+G5*LN(G5)+G6*LN(G6)+G7*LN(G7)+G8*LN(G8)+G9*LN(G9)+G10*LN(G10)+G12*LN(G12)+G13*LN(G13)+G14*LN(G14)+G15*LN(G15)+G11*LN(G11)+G17*LN(G17)) -> 0.92638785 | H18: =-1/LN(16)*(H2*LN(H2)+H3*LN(H3)+H4*LN(H4)+H5*LN(H5)+H6*LN(H6)+H9*LN(H9)+H8*LN(H8)+H10*LN(H10)+H11*LN(H11)+H12*LN(H12)+H13*LN(H13)+H14*LN(H14)+H15*LN(H15)+H16*LN(H16)+H17*LN(H17)) -> 0.92709154 | I18: =-1/LN(16)*(I2*LN(I2)+I3*LN(I3)+I4*LN(I4)+I5*LN(I5)+I6*LN(I6)+I7*LN(I7)+I11*LN(I11)+I9*LN(I9)+I10*LN(I10)+I12*LN(I12)+I13*LN(I13)+I14*LN(I14)+I15*LN(I15)+I16*LN(I16)+I17*LN(I17)) -> 0.96223073 | J18: =-1/LN(16)*(J2*LN(J2)+J3*LN(J3)+J4*LN(J4)+J5*LN(J5)+J6*LN(J6)+J7*LN(J7)+J9*LN(J9)+J10*LN(J10)+J8*LN(J8)+J12*LN(J12)+J13*LN(J13)+J14*LN(J14)+J15*LN(J15)+J16*LN(J16)+J17*LN(J17)) -> 0.97272631 | K18: =-1/LN(16)*(K3*LN(K3)+K4*LN(K4)+K11*LN(K11)+K6*LN(K6)+K7*LN(K7)+K5*LN(K5)+K9*LN(K9)+K10*LN(K10)+K2*LN(K2)+K12*LN(K12)+K13*LN(K13)+K14*LN(K14)+K15*LN(K15)+K16*LN(K16)+K17*LN(K17)) -> 0.95334854 | L18: =-1/LN(16)*(L2*LN(L2)+L3*LN(L3)+L4*LN(L4)+L5*LN(L5)+L6*LN(L6)+L7*LN(L7)+L8*LN(L8)+L13*LN(L13)+L10*LN(L10)+L11*LN(L11)+L12*LN(L12)+L14*LN(L14)+L15*LN(L15)+L9*LN(L9)+L17*LN(L17)) -> 0.96927897 | M18: =-1/LN(16)*(M2*LN(M2)+M3*LN(M3)+M17*LN(M17)+M5*LN(M5)+M6*LN(M6)+M7*LN(M7)+M8*LN(M8)+M9*LN(M9)+M10*LN(M10)+M11*LN(M11)+M12*LN(M12)+M13*LN(M13)+M4*LN(M4)+M15*LN(M15)+M16*LN(M16)) -> 0.97620023 | N18: =-1/LN(16)*(N11*LN(N11)+N3*LN(N3)+N4*LN(N4)+N7*LN(N7)+N6*LN(N6)+N8*LN(N8)+N9*LN(N9)+N10*LN(N10)+N5*LN(N5)+N12*LN(N12)+N13*LN(N13)+N14*LN(N14)+N15*LN(N15)+N16*LN(N16)+N17*LN(N17)) -> 0.96871001 | O18: =-1/LN(16)*(O2*LN(O2)+O3*LN(O3)+O4*LN(O4)+O6*LN(O6)+O7*LN(O7)+O8*LN(O8)+O9*LN(O9)+O10*LN(O10)+O11*LN(O11)+O12*LN(O12)+O16*LN(O16)+O14*LN(O14)+O15*LN(O15)+O5*LN(O5)+O17*LN(O17)) -> 0.87939812 | P18: =-1/LN(16)*(P2*LN(P2)+P3*LN(P3)+P9*LN(P9)+P5*LN(P5)+P6*LN(P6)+P7*LN(P7)+P8*LN(P8)+P10*LN(P10)+P11*LN(P11)+P16*LN(P16)+P13*LN(P13)+P14*LN(P14)+P15*LN(P15)+P4*LN(P4)+P17*LN(P17)) -> 0.95688873 | Q18: =-1/LN(16)*(Q2*LN(Q2)+Q4*LN(Q4)+Q5*LN(Q5)+Q6*LN(Q6)+Q16*LN(Q16)+Q7*LN(Q7)+Q9*LN(Q9)+Q10*LN(Q10)+Q11*LN(Q11)+Q12*LN(Q12)+Q13*LN(Q13)+Q14*LN(Q14)+Q15*LN(Q15)+Q3*LN(Q3)+Q17*LN(Q17)) -> 0.94349868 | R18: =-1/LN(16)*(R2*LN(R2)+R3*LN(R3)+R4*LN(R4)+R5*LN(R5)+R8*LN(R8)+R7*LN(R7)+R9*LN(R9)+R10*LN(R10)+R11*LN(R11)+R12*LN(R12)+R13*LN(R13)+R14*LN(R14)+R15*LN(R15)+R16*LN(R16)+R17*LN(R17)) -> 0.91487488 | S18: =-1/LN(16)*(S3*LN(S3)+S4*LN(S4)+S5*LN(S5)+S6*LN(S6)+S7*LN(S7)+S11*LN(S11)+S9*LN(S9)+S10*LN(S10)+S2*LN(S2)+S12*LN(S12)+S13*LN(S13)+S14*LN(S14)+S15*LN(S15)+S16*LN(S16)+S17*LN(S17)) -> 0.84276403 | T18: =-1/LN(16)*(T8*LN(T8)+T4*LN(T4)+T5*LN(T5)+T6*LN(T6)+T7*LN(T7)+T11*LN(T11)+T9*LN(T9)+T10*LN(T10)+T3*LN(T3)+T12*LN(T12)+T13*LN(T13)+T14*LN(T14)+T15*LN(T15)+T16*LN(T16)+T17*LN(T17)) -> 0.95379631 | U18: =-1/LN(16)*(U2*LN(U2)+U3*LN(U3)+U16*LN(U16)+U5*LN(U5)+U6*LN(U6)+U7*LN(U7)+U9*LN(U9)+U10*LN(U10)+U11*LN(U11)+U12*LN(U12)+U13*LN(U13)+U14*LN(U14)+U15*LN(U15)+U8*LN(U8)+U17*LN(U17)) -> 0.80787284 | V18: =-1/LN(16)*(V2*LN(V2)+V3*LN(V3)+V14*LN(V14)+V6*LN(V6)+V7*LN(V7)+V8*LN(V8)+V9*LN(V9)+V10*LN(V10)+V11*LN(V11)+V12*LN(V12)+V13*LN(V13)+V16*LN(V16)+V15*LN(V15)+V5*LN(V5)+V17*LN(V17)) -> 0.86633001 | W18: =-1/LN(16)*(W14*LN(W14)+W3*LN(W3)+W4*LN(W4)+W5*LN(W5)+W6*LN(W6)+W7*LN(W7)+W9*LN(W9)+W10*LN(W10)+W11*LN(W11)+W12*LN(W12)+W13*LN(W13)+W8*LN(W8)+W2*LN(W2)+W16*LN(W16)+W17*LN(W17)) -> 0.96224618 | X18: =-1/LN(16)*(X3*LN(X3)+X4*LN(X4)+X5*LN(X5)+X6*LN(X6)+X7*LN(X7)+X8*LN(X8)+X9*LN(X9)+X10*LN(X10)+X13*LN(X13)+X12*LN(X12)+X2*LN(X2)+X14*LN(X14)+X15*LN(X15)+X16*LN(X16)+X17*LN(X17)) -> 0.94455996 | Y18: =-1/LN(16)*(Y2*LN(Y2)+Y3*LN(Y3)+Y5*LN(Y5)+Y6*LN(Y6)+Y7*LN(Y7)+Y8*LN(Y8)+Y9*LN(Y9)+Y10*LN(Y10)+Y12*LN(Y12)+Y13*LN(Y13)+Y4*LN(Y4)+Y14*LN(Y14)+Y15*LN(Y15)+Y16*LN(Y16)+Y17*LN(Y17)) -> 0.96463379 | Z18: =-1/LN(16)*(Z2*LN(Z2)+Z3*LN(Z3)+Z4*LN(Z4)+Z5*LN(Z5)+Z6*LN(Z6)+Z7*LN(Z7)+Z12*LN(Z12)+Z8*LN(Z8)+Z10*LN(Z10)+Z11*LN(Z11)+Z15*LN(Z15)+Z13*LN(Z13)+Z14*LN(Z14)+Z16*LN(Z16)+Z17*LN(Z17)) -> 0.93707794 | AA18: =-1/LN(16)*(AA2*LN(AA2)+AA3*LN(AA3)+AA4*LN(AA4)+AA5*LN(AA5)+AA8*LN(AA8)+AA7*LN(AA7)+AA16*LN(AA16)+AA9*LN(AA9)+AA10*LN(AA10)+AA6*LN(AA6)+AA12*LN(AA12)+AA13*LN(AA13)+AA14*LN(AA14)+AA15*LN(AA15)+AA17*LN(AA17)) -> 0.95619163 | AB18: =-1/LN(16)*(AB2*LN(AB2)+AB3*LN(AB3)+AB4*LN(AB4)+AB5*LN(AB5)+AB7*LN(AB7)+AB6*LN(AB6)+AB9*LN(AB9)+AB10*LN(AB10)+AB11*LN(AB11)+AB12*LN(AB12)+AB13*LN(AB13)+AB14*LN(AB14)+AB15*LN(AB15)+AB16*LN(AB16)+AB17*LN(AB17)) -> 0.95336556 | AC18: =SUM(B18:AB18) -> 24.854281
A19: Weight (1) | B19: =(1-B18)/(27-$AC$18) -> 0.12512827 | C19: =(1-C18)/(27-$AC$18) -> 0.05309701 | D19: =(1-D18)/(27-$AC$18) -> 0.076121569 | E19: =(1-E18)/(27-$AC$18) -> 0.034415021 | F19: =(1-F18)/(27-$AC$18) -> 0.030567789 | G19: =(1-G18)/(27-$AC$18) -> 0.034306522 | H19: =(1-H18)/(27-$AC$18) -> 0.033978572 | I19: =(1-I18)/(27-$AC$18) -> 0.017602152 | ... AB19: =(1-AB18)/(27-$AC$18) -> 0.021733714 | AC19: =SUM(B19:AB19) -> 1
A20: Weight(%) | B20: =B19*100 -> 12.512827 | C20: =C19*100 -> 5.309701 | D20: =D19*100 -> 7.6121569 | E20: =E19*100 -> 3.4415021 | F20: =F19*100 -> 3.0567789 | G20: =G19*100 -> 3.4306522 | H20: =H19*100 -> 3.3978572 | I20: =I19*100 -> 1.7602152 | ... AB20: =AB19*100 -> 2.1733714 | AC20: =SUM(B20:AB20) -> 100

Sheet aggregating
A1: regions | B1: Inclusive subsystem performance
A2: Hefei | B2: =standardizing!B3*weighting!$B$19 -> 0.11813979 | C2: =standardizing!C3*weighting!$C$19 -> 0.05309701 | D2: =standardizing!D3*weighting!$D$19 -> 0.065573374 | E2: =standardizing!E3*weighting!$E$19 -> 0.0089388718 | F2: =standardizing!F3*weighting!$F$19 -> 0.0092340197 | G2: =standardizing!G3*weighting!$G$19 -> 0.019666159 | H2: =standardizing!H3*weighting!$H$19 -> 0.021188447 | I2: =standardizing!I3*weighting!$I$19 -> 0.0082996504 | J2: =standardizing!J3*weighting!$J$19 -> 0.0069725051 | K2: =SUM(B2:J2) -> 0.31110983
A3: Huaibei | B3: =standardizing!B4*weighting!$B$19 -> 0.022100183 | C3: =standardizing!C4*weighting!$C$19 -> 0.024670172 | D3: =standardizing!D4*weighting!$D$19 -> 0.05450182 | E3: =standardizing!E4*weighting!$E$19 -> 0.009805804 | F3: =standardizing!F4*weighting!$F$19 -> 0.0085016664 | G3: =standardizing!G4*weighting!$G$19 -> 0.014858876 | H3: =standardizing!H4*weighting!$H$19 -> 0.015761086 | I3: =standardizing!I4*weighting!$I$19 -> 0.016037106 | J3: =standardizing!J4*weighting!$J$19 -> 0.0078603086 | K3: =SUM(B3:J3) -> 0.17409702
A4: Bozhou | B4: =standardizing!B5*weighting!$B$19 -> 0.0040910764 | C4: =standardizing!C5*weighting!$C$19 -> 0.0047482998 | D4: =standardizing!D5*weighting!$D$19 -> 0 | E4: =standardizing!E5*weighting!$E$19 -> 0.0065784851 | F4: =standardizing!F5*weighting!$F$19 -> 0.030567789 | G4: =standardizing!G5*weighting!$G$19 -> 0.022506826 | H4: =standardizing!H5*weighting!$H$19 -> 0.00080629163 | I4: =standardizing!I5*weighting!$I$19 -> 0.0166882 | J4: =standardizing!J5*weighting!$J$19 -> 0.012645786 | K4: =SUM(B4:J4) -> 0.098632754
A5: Suzhou | B5: =standardizing!B6*weighting!$B$19 -> 0 | C5: =standardizing!C6*weighting!$C$19 -> 0.0068574893 | D5: =standardizing!D6*weighting!$D$19 -> 0.0015906729 | E5: =standardizing!E6*weighting!$E$19 -> 0.018511551 | F5: =standardizing!F6*weighting!$F$19 -> 0.01870685 | G5: =standardizing!G6*weighting!$G$19 -> 0.0050257962 | H5: =standardizing!H6*weighting!$H$19 -> 0.0083530992 | I5: =standardizing!I6*weighting!$I$19 -> 0.013831518 | J5: =standardizing!J6*weighting!$J$19 -> 0.01232098 | K5: =SUM(B5:J5) -> 0.085197956
A6: Bengbu | B6: =standardizing!B7*weighting!$B$19 -> 0.002599182 | C6: =standardizing!C7*weighting!$C$19 -> 0.021459167 | D6: =standardizing!D7*weighting!$D$19 -> 0.032276085 | E6: =standardizing!E7*weighting!$E$19 -> 0.016100169 | F6: =standardizing!F7*weighting!$F$19 -> 0.0052697595 | G6: =standardizing!G7*weighting!$G$19 -> 0.0072109249 | H6: =standardizing!H7*weighting!$H$19 -> 0.018424177 | I6: =standardizing!I7*weighting!$I$19 -> 0.0061208992 | J6: =standardizing!J7*weighting!$J$19 -> 0.010610334 | K6: =SUM(B6:J6) -> 0.1200707
A7: Fuyang | B7: =standardizing!B8*weighting!$B$19 -> 0.0017547333 | C7: =standardizing!C8*weighting!$C$19 -> 0.0047010791 | D7: =standardizing!D8*weighting!$D$19 -> 0.0039088456 | E7: =standardizing!E8*weighting!$E$19 -> 0.022700509 | F7: =standardizing!F8*weighting!$F$19 -> 0.018611326 | G7: =standardizing!G8*weighting!$G$19 -> 0.020321698 | H7: =standardizing!H8*weighting!$H$19 -> 0 | I7: =standardizing!I8*weighting!$I$19 -> 0.01543431 | J7: =standardizing!J8*weighting!$J$19 -> 0.012710747 | K7: =SUM(B7:J7) -> 0.10014325
A8: Huainan | B8: =standardizing!B9*weighting!$B$19 -> 0.028052119 | C8: =standardizing!C9*weighting!$C$19 -> 0.019958599 | D8: =standardizing!D9*weighting!$D$19 -> 0.061998881 | E8: =standardizing!E9*weighting!$E$19 -> 0.031697662 | F8: =standardizing!F9*weighting!$F$19 -> 0.0066071003 | G8: =standardizing!G9*weighting!$G$19 -> 0.0072109249 | H8: =standardizing!H9*weighting!$H$19 -> 0.021209258 | I8: =standardizing!I9*weighting!$I$19 -> 0 | J8: =standardizing!J9*weighting!$J$19 -> 0.010891833 | K8: =SUM(B8:J8) -> 0.18762638
A9: Chuzhou | B9: =standardizing!B10*weighting!$B$19 -> 0.0040862305 | C9: =standardizing!C10*weighting!$C$19 -> 0 | D9: =standardizing!D10*weighting!$D$19 -> 0.0027281437 | E9: =standardizing!E10*weighting!$E$19 -> 0.030473758 | F9: =standardizing!F10*weighting!$F$19 -> 0.014535621 | G9: =standardizing!G10*weighting!$G$19 -> 0.034306522 | H9: =standardizing!H10*weighting!$H$19 -> 0.025131819 | I9: =standardizing!I10*weighting!$I$19 -> 0.010680207 | J9: =standardizing!J10*weighting!$J$19 -> 0.011866251 | K9: =SUM(B9:J9) -> 0.13380855
A10: Lu’an | B10: =standardizing!B11*weighting!$B$19 -> 0.000746286 | C10: =standardizing!C11*weighting!$C$19 -> 0.0056192587 | D10: =standardizing!D11*weighting!$D$19 -> 0.0051371447 | E10: =standardizing!E11*weighting!$E$19 -> 0.0096163902 | F10: =standardizing!F11*weighting!$F$19 -> 0.026253273 | G10: =standardizing!G11*weighting!$G$19 -> 0.0076479507 | H10: =standardizing!H11*weighting!$H$19 -> 0.0083568846 | I10: =standardizing!I11*weighting!$I$19 -> 0.0095767853 | J10: =standardizing!J11*weighting!$J$19 -> 0.011671367 | K10: =SUM(B10:J10) -> 0.084625341
A11: Ma’anshan | B11: =standardizing!B12*weighting!$B$19 -> 0.086002222 | C11: =standardizing!C12*weighting!$C$19 -> 0.018867277 | D11: =standardizing!D12*weighting!$D$19 -> 0.035390536 | E11: =standardizing!E12*weighting!$E$19 -> 0 | F11: =standardizing!F12*weighting!$F$19 -> 0.010380312 | G11: =standardizing!G12*weighting!$G$19 -> 0.03190288 | H11: =standardizing!H12*weighting!$H$19 -> 0.027416793 | I11: =standardizing!I12*weighting!$I$19 -> 0.017602152 | J11: =standardizing!J12*weighting!$J$19 -> 0 | K11: =SUM(B11:J11) -> 0.22756217
A12: Wuhu | B12: =standardizing!B13*weighting!$B$19 -> 0.038749491 | C12: =standardizing!C13*weighting!$C$19 -> 0.014334094 | D12: =standardizing!D13*weighting!$D$19 -> 0.046830721 | E12: =standardizing!E13*weighting!$E$19 -> 0.0032418891 | F12: =standardizing!F13*weighting!$F$19 -> 0.014424176 | G12: =standardizing!G13*weighting!$G$19 -> 0.027095597 | H12: =standardizing!H13*weighting!$H$19 -> 0.030338688 | I12: =standardizing!I13*weighting!$I$19 -> 0.010905047 | J12: =standardizing!J13*weighting!$J$19 -> 0.011368215 | K12: =SUM(B12:J12) -> 0.19728792
A13: Xuancheng | B13: =standardizing!B14*weighting!$B$19 -> 0.0053437442 | C13: =standardizing!C14*weighting!$C$19 -> 0.013741212 | D13: =standardizing!D14*weighting!$D$19 -> 0.010821251 | E13: =standardizing!E14*weighting!$E$19 -> 0.023618437 | F13: =standardizing!F14*weighting!$F$19 -> 0 | G13: =standardizing!G14*weighting!$G$19 -> 0.016825492 | H13: =standardizing!H14*weighting!$H$19 -> 0.033978572 | I13: =standardizing!I14*weighting!$I$19 -> 0.0092282971 | J13: =standardizing!J14*weighting!$J$19 -> 0.012104442 | K13: =SUM(B13:J13) -> 0.12566145
... A17: Huangshan | B17: =standardizing!B18*weighting!$B$19 -> 0.024281616 | C17: =standardizing!C18*weighting!$C$19 -> 0.020089768 | D17: =standardizing!D18*weighting!$D$19 -> 0.024222984 | E17: =standardizing!E18*weighting!$E$19 -> 0.034415021 | F17: =standardizing!F18*weighting!$F$19 -> 0.022177568 | G17: =standardizing!G18*weighting!$G$19 -> 0.0093960537 | H17: =standardizing!H18*weighting!$H$19 -> 0.031381694 | I17: =standardizing!I18*weighting!$I$19 -> 0.010078742 | J17: =standardizing!J18*weighting!$J$19 -> 0.012061135 | K17: =SUM(B17:J17) -> 0.18810458
A18: regions | B18: Green subsystem performance
A19: Hefei | B19: =standardizing!K3*weighting!$K$19 -> 0.018813974 | C19: =standardizing!L3*weighting!$L$19 -> 0.014317361 | D19: =standardizing!M3*weighting!$M$19 -> 0.010910985 | E19: =standardizing!N3*weighting!$N$19 -> 0 | F19: =standardizing!O3*weighting!$O$19 -> 0.035326147 | G19: =standardizing!P3*weighting!$P$19 -> 0.0028142538 | H19: =standardizing!Q3*weighting!$Q$19 -> 0.026332115 | I19: =standardizing!R3*weighting!$R$19 -> 0.039672077 | J19: =standardizing!S3*weighting!$S$19 -> 0.0054203086 | K19: =SUM(B19:J19) -> 0.15360722
A20: Huaibei | B20: =standardizing!K4*weighting!$K$19 -> 0.011208674 | C20: =standardizing!L4*weighting!$L$19 -> 0.013268683 | D20: =standardizing!M4*weighting!$M$19 -> 0.01102793 | E20: =standardizing!N4*weighting!$N$19 -> 0.012363441 | F20: =standardizing!O4*weighting!$O$19 -> 0.031319507 | G20: =standardizing!P4*weighting!$P$19 -> 0.013458164 | H20: =standardizing!Q4*weighting!$Q$19 -> 0.025192197 | I20: =standardizing!R4*weighting!$R$19 -> 0.021644796 | J20: =standardizing!S4*weighting!$S$19 -> 0.0039253201 | K20: =SUM(B20:J20) -> 0.14340871
A21: Bozhou | B21: =standardizing!K5*weighting!$K$19 -> 0.019853446 | C21: =standardizing!L5*weighting!$L$19 -> 0.014090368 | D21: =standardizing!M5*weighting!$M$19 -> 0.011080841 | E21: =standardizing!N5*weighting!$N$19 -> 0.014265509 | F21: =standardizing!O5*weighting!$O$19 -> 0.018453115 | G21: =standardizing!P5*weighting!$P$19 -> 0.020091762 | H21: =standardizing!Q5*weighting!$Q$19 -> 0.026332115 | I21: =standardizing!R5*weighting!$R$19 -> 0.0081394078 | J21: =standardizing!S5*weighting!$S$19 -> 0.011185033 | K21: =SUM(B21:J21) -> 0.1434916
A22: Suzhou | B22: =standardizing!K6*weighting!$K$19 -> 0.017366122 | C22: =standardizing!L6*weighting!$L$19 -> 0.013111648 | D22: =standardizing!M6*weighting!$M$19 -> 0.010880602 | E22: =standardizing!N6*weighting!$N$19 -> 0.013631487 | F22: =standardizing!O6*weighting!$O$19 -> 0.0067717853 | G22: =standardizing!P6*weighting!$P$19 -> 0.016141756 | H22: =standardizing!Q6*weighting!$Q$19 -> 0.0060985635 | I22: =standardizing!R6*weighting!$R$19 -> 0.006029191 | J22: =standardizing!S6*weighting!$S$19 -> 0.016559916 | K22: =SUM(B22:J22) -> 0.10659107
A23: Bengbu | B23: =standardizing!K7*weighting!$K$19 -> 0.020184816 | C23: =standardizing!L7*weighting!$L$19 -> 0.0098279031 | D23: =standardizing!M7*weighting!$M$19 -> 0.010915571 | E23: =standardizing!N7*weighting!$N$19 -> 0.014265509 | F23: =standardizing!O7*weighting!$O$19 -> 0.0043452289 | G23: =standardizing!P7*weighting!$P$19 -> 0.015357785 | H23: =standardizing!Q7*weighting!$Q$19 -> 0.018352686 | I23: =standardizing!R7*weighting!$R$19 -> 0 | J23: =standardizing!S7*weighting!$S$19 -> 0.0021948711 | K23: =SUM(B23:J23) -> 0.095444371
A24: Fuyang | B24: =standardizing!K8*weighting!$K$19 -> 0.018604546 | C24: =standardizing!L8*weighting!$L$19 -> 0.013119077 | D24: =standardizing!M8*weighting!$M$19 -> 0.010793198 | E24: =standardizing!N8*weighting!$N$19 -> 0.0072912603 | F24: =standardizing!O8*weighting!$O$19 -> 0.00033858926 | G24: =standardizing!P8*weighting!$P$19 -> 0.015438192 | H24: =standardizing!Q8*weighting!$Q$19 -> 0.020518531 | I24: =standardizing!R8*weighting!$R$19 -> 0.0010852544 | J24: =standardizing!S8*weighting!$S$19 -> 0.011739639 | K24: =SUM(B24:J24) -> 0.098928288
A25: Huainan | B25: =standardizing!K9*weighting!$K$19 -> 0 | C25: =standardizing!L9*weighting!$L$19 -> 0.010917482 | D25: =standardizing!M9*weighting!$M$19 -> 0.0087290803 | E25: =standardizing!N9*weighting!$N$19 -> 0.0082422942 | F25: =standardizing!O9*weighting!$O$19 -> 0.025563489 | G25: =standardizing!P9*weighting!$P$19 -> 0.016171908 | H25: =standardizing!Q9*weighting!$Q$19 -> 0 | I25: =standardizing!R9*weighting!$R$19 -> 0.027432819 | J25: =standardizing!S9*weighting!$S$19 -> 0 | K25: =SUM(B25:J25) -> 0.097057073
A26: Chuzhou | B26: =standardizing!K10*weighting!$K$19 -> 0.020229747 | C26: =standardizing!L10*weighting!$L$19 -> 0.0060646508 | D26: =standardizing!M10*weighting!$M$19 -> 0.011046951 | E26: =standardizing!N10*weighting!$N$19 -> 0.011412407 | F26: =standardizing!O10*weighting!$O$19 -> 0.0071103745 | G26: =standardizing!P10*weighting!$P$19 -> 0.015036156 | H26: =standardizing!Q10*weighting!$Q$19 -> 0.019435609 | I26: =standardizing!R10*weighting!$R$19 -> 0.011334879 | J26: =standardizing!S10*weighting!$S$19 -> 0.032792306 | K26: =SUM(B26:J26) -> 0.13446308
A27: Lu’an | B27: =standardizing!K11*weighting!$K$19 -> 0.018704778 | C27: =standardizing!L11*weighting!$L$19 -> 0.01046264 | D27: =standardizing!M11*weighting!$M$19 -> 0.011053488 | E27: =standardizing!N11*weighting!$N$19 -> 0.013314475 | F27: =standardizing!O11*weighting!$O$19 -> 0.014051454 | G27: =standardizing!P11*weighting!$P$19 -> 0.013267196 | H27: =standardizing!Q11*weighting!$Q$19 -> 0.01607285 | I27: =standardizing!R11*weighting!$R$19 -> 0.0350296 | J27: =standardizing!S11*weighting!$S$19 -> 0.020290611 | K27: =SUM(B27:J27) -> 0.15224709
A28: Ma’anshan | B28: =standardizing!K12*weighting!$K$19 -> 0.0016338423 | C28: =standardizing!L12*weighting!$L$19 -> 0.012019533 | D28: =standardizing!M12*weighting!$M$19 -> 0.010587065 | E28: =standardizing!N12*weighting!$N$19 -> 0.011412407 | F28: =standardizing!O12*weighting!$O$19 -> 0.035326147 | G28: =standardizing!P12*weighting!$P$19 -> 0.013297349 | H28: =standardizing!Q12*weighting!$Q$19 -> 0.0092333391 | I28: =standardizing!R12*weighting!$R$19 -> 0.016218524 | J28: =standardizing!S12*weighting!$S$19 -> 0.0054066661 | K28: =SUM(B28:J28) -> 0.11513487
A29: Wuhu | B29: =standardizing!K13*weighting!$K$19 -> 0.019301524 | C29: =standardizing!L13*weighting!$L$19 -> 0.008047261 | D29: =standardizing!M13*weighting!$M$19 -> 0.010803803 | E29: =standardizing!N13*weighting!$N$19 -> 0.011729419 | F29: =standardizing!O13*weighting!$O$19 -> 0.011850624 | G29: =standardizing!P13*weighting!$P$19 -> 0 | H29: =standardizing!Q13*weighting!$Q$19 -> 0.0091193473 | I29: =standardizing!R13*weighting!$R$19 -> 0.023875596 | J29: =standardizing!S13*weighting!$S$19 -> 0.019956051 | K29: =SUM(B29:J29) -> 0.11468363
A30: Xuancheng | B30: =standardizing!K14*weighting!$K$19 -> 0.020946491 | C30: =standardizing!L14*weighting!$L$19 -> 0.010137671 | D30: =standardizing!M14*weighting!$M$19 -> 0.010932527 | E30: =standardizing!N14*weighting!$N$19 -> 0.013314475 | F30: =standardizing!O14*weighting!$O$19 -> 0 | G30: =standardizing!P14*weighting!$P$19 -> 0.011799764 | H30: =standardizing!Q14*weighting!$Q$19 -> 0.0064975349 | I30: =standardizing!R14*weighting!$R$19 -> 0.023634429 | J30: =standardizing!S14*weighting!$S$19 -> 0.062616453 | K30: =SUM(B30:J30) -> 0.15987935
... A34: Huangshan | B34: =standardizing!K18*weighting!$K$19 -> 0.021741648 | C34: =standardizing!L18*weighting!$L$19 -> 0.013193366 | D34: =standardizing!M18*weighting!$M$19 -> 0.011091747 | E34: =standardizing!N18*weighting!$N$19 -> 0.014582521 | F34: =standardizing!O18*weighting!$O$19 -> 0.045935277 | G34: =standardizing!P18*weighting!$P$19 -> 0.018614279 | H34: =standardizing!Q18*weighting!$Q$19 -> 0.020404539 | I34: =standardizing!R18*weighting!$R$19 -> 0.017243486 | J34: =standardizing!S18*weighting!$S$19 -> 0.047535566 | K34: =SUM(B34:J34) -> 0.21034243
A35: regions | B35: Growth subsystem performance
A36: Hefei | B36: =standardizing!T3*weighting!$T$19 -> 0 | C36: =standardizing!U3*weighting!$U$19 -> 0.041777909 | D36: =standardizing!V3*weighting!$V$19 -> 0.049290021 | E36: =standardizing!W3*weighting!$W$19 -> 0.014313447 | F36: =standardizing!X3*weighting!$X$19 -> 0.025371939 | G36: =standardizing!Y3*weighting!$Y$19 -> 0.013853154 | H36: =standardizing!Z3*weighting!$Z$19 -> 0.029324467 | I36: =standardizing!AA3*weighting!$AA$19 -> 0.019585965 | J36: =standardizing!AB3*weighting!$AB$19 -> 0.02112552 | K36: =SUM(B36:J36) -> 0.21464242
A37: Huaibei | B37: =standardizing!T4*weighting!$T$19 -> 0.010066891 | C37: =standardizing!U4*weighting!$U$19 -> 0.02717723 | D37: =standardizing!V4*weighting!$V$19 -> 0.014714038 | E37: =standardizing!W4*weighting!$W$19 -> 0.014288334 | F37: =standardizing!X4*weighting!$X$19 -> 0.012654536 | G37: =standardizing!Y4*weighting!$Y$19 -> 0.0067749002 | H37: =standardizing!Z4*weighting!$Z$19 -> 0.021973344 | I37: =standardizing!AA4*weighting!$AA$19 -> 0.014671197 | J37: =standardizing!AB4*weighting!$AB$19 -> 0.0073245523 | K37: =SUM(B37:J37) -> 0.12964502
A38: Bozhou | B38: =standardizing!T5*weighting!$T$19 -> 0.020855728 | C38: =standardizing!U5*weighting!$U$19 -> 0 | D38: =standardizing!V5*weighting!$V$19 -> 0 | E38: =standardizing!W5*weighting!$W$19 -> 0.016443219 | F38: =standardizing!X5*weighting!$X$19 -> 0.024273604 | G38: =standardizing!Y5*weighting!$Y$19 -> 0.013246447 | H38: =standardizing!Z5*weighting!$Z$19 -> 0.023625303 | I38: =standardizing!AA5*weighting!$AA$19 -> 0.019958804 | J38: =standardizing!AB5*weighting!$AB$19 -> 0.019549222 | K38: =SUM(B38:J38) -> 0.13795233
A39: Suzhou | B39: =standardizing!T6*weighting!$T$19 -> 0.019088991 | C39: =standardizing!U6*weighting!$U$19 -> 0.0024436549 | D39: =standardizing!V6*weighting!$V$19 -> 0.0059408041 | E39: =standardizing!W6*weighting!$W$19 -> 0.014344035 | F39: =standardizing!X6*weighting!$X$19 -> 0.022634302 | G39: =standardizing!Y6*weighting!$Y$19 -> 0.011426324 | H39: =standardizing!Z6*weighting!$Z$19 -> 0.01979941 | I39: =standardizing!AA6*weighting!$AA$19 -> 0.018378666 | J39: =standardizing!AB6*weighting!$AB$19 -> 0.017674402 | K39: =SUM(B39:J39) -> 0.13173059
A40: Bengbu | B40: =standardizing!T7*weighting!$T$19 -> 0.015413641 | C40: =standardizing!U7*weighting!$U$19 -> 0.016075688 | D40: =standardizing!V7*weighting!$V$19 -> 0.014660016 | E40: =standardizing!W7*weighting!$W$19 -> 0.0063175985 | F40: =standardizing!X7*weighting!$X$19 -> 0.021022106 | G40: =standardizing!Y7*weighting!$Y$19 -> 0.012841975 | H40: =standardizing!Z7*weighting!$Z$19 -> 0.0091345099 | I40: =standardizing!AA7*weighting!$AA$19 -> 0.017950413 | J40: =standardizing!AB7*weighting!$AB$19 -> 0.020300033 | K40: =SUM(B40:J40) -> 0.13371598
A41: Fuyang | B41: =standardizing!T8*weighting!$T$19 -> 0.021532967 | C41: =standardizing!U8*weighting!$U$19 -> 0.00081201635 | D41: =standardizing!V8*weighting!$V$19 -> 0.00084711589 | E41: =standardizing!W8*weighting!$W$19 -> 0.015264112 | F41: =standardizing!X8*weighting!$X$19 -> 0.016081422 | G41: =standardizing!Y8*weighting!$Y$19 -> 0.0086961405 | H41: =standardizing!Z8*weighting!$Z$19 -> 0.021689029 | I41: =standardizing!AA8*weighting!$AA$19 -> 0.018235387 | J41: =standardizing!AB8*weighting!$AB$19 -> 0.019167518 | K41: =SUM(B41:J41) -> 0.12232571
A42: Huainan | B42: =standardizing!T9*weighting!$T$19 -> 0.012828822 | C42: =standardizing!U9*weighting!$U$19 -> 0.053930578 | D42: =standardizing!V9*weighting!$V$19 -> 0.015501485 | E42: =standardizing!W9*weighting!$W$19 -> 0.013152702 | F42: =standardizing!X9*weighting!$X$19 -> 0.0095900417 | G42: =standardizing!Y9*weighting!$Y$19 -> 0.0089994943 | H42: =standardizing!Z9*weighting!$Z$19 -> 0.0088821459 | I42: =standardizing!AA9*weighting!$AA$19 -> 0.0046563348 | J42: =standardizing!AB9*weighting!$AB$19 -> 0 | K42: =SUM(B42:J42) -> 0.1275416
A43: Chuzhou | B43: =standardizing!T10*weighting!$T$19 -> 0.02127385 | C43: =standardizing!U10*weighting!$U$19 -> 0.0034691963 | D43: =standardizing!V10*weighting!$V$19 -> 0.011928027 | E43: =standardizing!W10*weighting!$W$19 -> 0.016875335 | F43: =standardizing!X10*weighting!$X$19 -> 0.014604297 | G43: =standardizing!Y10*weighting!$Y$19 -> 0.012740857 | H43: =standardizing!Z10*weighting!$Z$19 -> 0 | I43: =standardizing!AA10*weighting!$AA$19 -> 0.018674604 | J43: =standardizing!AB10*weighting!$AB$19 -> 0.020458436 | K43: =SUM(B43:J43) -> 0.1200246
A44: Lu’an | B44: =standardizing!T11*weighting!$T$19 -> 0.02130121 | C44: =standardizing!U11*weighting!$U$19 -> 0.0020393916 | D44: =standardizing!V11*weighting!$V$19 -> 0.009834081 | E44: =standardizing!W11*weighting!$W$19 -> 0.016194194 | F44: =standardizing!X11*weighting!$X$19 -> 0.021928425 | G44: =standardizing!Y11*weighting!$Y$19 -> 0.011931914 | H44: =standardizing!Z11*weighting!$Z$19 -> 0.012679051 | I44: =standardizing!AA11*weighting!$AA$19 -> 0.019698083 | J44: =standardizing!AB11*weighting!$AB$19 -> 0.019048337 | K44: =SUM(B44:J44) -> 0.13465469
A45: Ma’anshan | B45: =standardizing!T12*weighting!$T$19 -> 0.010895482 | C45: =standardizing!U12*weighting!$U$19 -> 0.056130898 | D45: =standardizing!V12*weighting!$V$19 -> 0.062296134 | E45: =standardizing!W12*weighting!$W$19 -> 0.0065450909 | F45: =standardizing!X12*weighting!$X$19 -> 0 | G45: =standardizing!Y12*weighting!$Y$19 -> 0 | H45: =standardizing!Z12*weighting!$Z$19 -> 0.0074346974 | I45: =standardizing!AA12*weighting!$AA$19 -> 0 | J45: =standardizing!AB12*weighting!$AB$19 -> 0.0064206881 | K45: =SUM(B45:J45) -> 0.14972299
A46: Wuhu | B46: =standardizing!T13*weighting!$T$19 -> 0.00828888 | C46: =standardizing!U13*weighting!$U$19 -> 0.040760107 | D46: =standardizing!V13*weighting!$V$19 -> 0.029427951 | E46: =standardizing!W13*weighting!$W$19 -> 0.016720705 | F46: =standardizing!X13*weighting!$X$19 -> 0.016946059 | G46: =standardizing!Y13*weighting!$Y$19 -> 0.011830796 | H46: =standardizing!Z13*weighting!$Z$19 -> 0.020769903 | I46: =standardizing!AA13*weighting!$AA$19 -> 0.014473247 | J46: =standardizing!AB13*weighting!$AB$19 -> 0.020414947 | K46: =SUM(B46:J46) -> 0.17963259
A47: Xuancheng | B47: =standardizing!T14*weighting!$T$19 -> 0.019809611 | C47: =standardizing!U14*weighting!$U$19 -> 0.0081519331 | D47: =standardizing!V14*weighting!$V$19 -> 0.011890221 | E47: =standardizing!W14*weighting!$W$19 -> 0.0095992248 | F47: =standardizing!X14*weighting!$X$19 -> 0.0070325758 | G47: =standardizing!Y14*weighting!$Y$19 -> 0.010111791 | H47: =standardizing!Z14*weighting!$Z$19 -> 0.004761593 | I47: =standardizing!AA14*weighting!$AA$19 -> 0.013867474 | J47: =standardizing!AB14*weighting!$AB$19 -> 0.02084158 | K47: =SUM(B47:J47) -> 0.106066
... A51: Huangshan | B51: =standardizing!T18*weighting!$T$19 -> 0.0061619758 | C51: =standardizing!U18*weighting!$U$19 -> 0.015685965 | D51: =standardizing!V18*weighting!$V$19 -> 0.023482306 | E51: =standardizing!W18*weighting!$W$19 -> 0.0095870392 | F51: =standardizing!X18*weighting!$X$19 -> 0.025837512 | G51: =standardizing!Y18*weighting!$Y$19 -> 0.01648222 | H51: =standardizing!Z18*weighting!$Z$19 -> 0.016105682 | I51: =standardizing!AA18*weighting!$AA$19 -> 0.020416642 | J51: =standardizing!AB18*weighting!$AB$19 -> 0.021733714 | K51: =SUM(B51:J51) -> 0.15549306

Sheet 2009CCD
A2: Regions | B2: performance of each subsystem | E2: Caclulation process | K2: Results
B3: INC | C3: GRE | D3: GRO | E3: INC*GRE*GRO | F3: T | G3: T3 | I3: C | J3: C*T | K3: CCD
A4: Hefei | B4: =aggregating!K2 -> 0.31110983 | C4: =aggregating!K19 -> 0.15360722 | D4: =aggregating!K36 -> 0.21464242 | E4: =B4*C4*D4 -> 0.010257486 | F4: =(B4+C4+D4)/3 -> 0.22645316 | G4: =F4*F4*F4 -> 0.011612752 | H4: =E4/G4 -> 0.88329503 | I4: =POWER(H4,1/3) -> 0.95947853 | J4: =I4*F4 -> 0.21727694 | K4: =SQRT(J4) -> 0.46612975
A5: Huaibei | B5: =aggregating!K3 -> 0.17409702 | C5: =aggregating!K20 -> 0.14340871 | D5: =aggregating!K37 -> 0.12964502 | E5: =B5*C5*D5 -> 0.0032368511 | F5: =(B5+C5+D5)/3 -> 0.14905025 | G5: =F5*F5*F5 -> 0.0033112971 | H5: =E5/G5 -> 0.97751759 | I5: =POWER(H5,1/3) -> 0.99244899 | J5: =I5*F5 -> 0.14792477 | K5: =SQRT(J5) -> 0.3846099
A6: Bozhou | B6: =aggregating!K4 -> 0.098632754 | C6: =aggregating!K21 -> 0.1434916 | D6: =aggregating!K38 -> 0.13795233 | E6: =B6*C6*D6 -> 0.0019524353 | F6: =(B6+C6+D6)/3 -> 0.12669223 | G6: =F6*F6*F6 -> 0.0020335268 | H6: =E6/G6 -> 0.96012275 | I6: =POWER(H6,1/3) -> 0.98652687 | J6: =I6*F6 -> 0.12498529 | K6: =SQRT(J6) -> 0.35353258
A7: Suzhou | B7: =aggregating!K5 -> 0.085197956 | C7: =aggregating!K22 -> 0.10659107 | D7: =aggregating!K39 -> 0.13173059 | E7: =B7*C7*D7 -> 0.0011962904 | F7: =(B7+C7+D7)/3 -> 0.10783987 | G7: =F7*F7*F7 -> 0.0012541171 | H7: =E7/G7 -> 0.95389054 | I7: =POWER(H7,1/3) -> 0.98438771 | J7: =I7*F7 -> 0.10615624 | K7: =SQRT(J7) -> 0.32581627
A8: Bengbu | B8: =aggregating!K6 -> 0.1200707 | C8: =aggregating!K23 -> 0.095444371 | D8: =aggregating!K40 -> 0.13371598 | E8: =B8*C8*D8 -> 0.0015323948 | F8: =(B8+C8+D8)/3 -> 0.11641035 | G8: =F8*F8*F8 -> 0.0015775196 | H8: =E8/G8 -> 0.97139505 | I8: =POWER(H8,1/3) -> 0.99037263 | J8: =I8*F8 -> 0.11528962 | K8: =SQRT(J8) -> 0.33954326
A9: Fuyang | B9: =aggregating!K7 -> 0.10014325 | C9: =aggregating!K24 -> 0.098928288 | D9: =aggregating!K41 -> 0.12232571 | E9: =B9*C9*D9 -> 0.0012118808 | F9: =(B9+C9+D9)/3 -> 0.10713241 | G9: =F9*F9*F9 -> 0.0012295967 | H9: =E9/G9 -> 0.98559212 | I9: =POWER(H9,1/3) -> 0.99517412 | J9: =I9*F9 -> 0.10661541 | K9: =SQRT(J9) -> 0.32652015
A10: Huainan | B10: =aggregating!K8 -> 0.18762638 | C10: =aggregating!K25 -> 0.097057073 | D10: =aggregating!K42 -> 0.1275416 | E10: =B10*C10*D10 -> 0.0023225922 | F10: =(B10+C10+D10)/3 -> 0.13740835 | G10: =F10*F10*F10 -> 0.0025944146 | H10: =E10/G10 -> 0.89522782 | I10: =POWER(H10,1/3) -> 0.96377988 | J10: =I10*F10 -> 0.1324314 | K10: =SQRT(J10) -> 0.36391126
A11: Chuzhou | B11: =aggregating!K9 -> 0.13380855 | C11: =aggregating!K26 -> 0.13446308 | D11: =aggregating!K43 -> 0.1200246 | E11: =B11*C11*D11 -> 0.0021595199 | F11: =(B11+C11+D11)/3 -> 0.12943208 | G11: =F11*F11*F11 -> 0.002168332 | H11: =E11/G11 -> 0.995936 | I11: =POWER(H11,1/3) -> 0.99864349 | J11: =I11*F11 -> 0.1292565 | K11: =SQRT(J11) -> 0.3595226
A12: Lu’an | B12: =aggregating!K10 -> 0.084625341 | C12: =aggregating!K27 -> 0.15224709 | D12: =aggregating!K44 -> 0.13465469 | E12: =B12*C12*D12 -> 0.0017348859 | F12: =(B12+C12+D12)/3 -> 0.12384237 | G12: =F12*F12*F12 -> 0.0018993622 | H12: =E12/G12 -> 0.91340443 | I12: =POWER(H12,1/3) -> 0.97025905 | J12: =I12*F12 -> 0.12015918 | K12: =SQRT(J12) -> 0.34663985
A13: Ma’anshan | B13: =aggregating!K11 -> 0.22756217 | C13: =aggregating!K28 -> 0.11513487 | D13: =aggregating!K45 -> 0.14972299 | E13: =B13*C13*D13 -> 0.0039227935 | F13: =(B13+C13+D13)/3 -> 0.16414001 | G13: =F13*F13*F13 -> 0.0044222509 | H13: =E13/G13 -> 0.8870581 | I13: =POWER(H13,1/3) -> 0.96083915 | J13: =I13*F13 -> 0.15771215 | K13: =SQRT(J13) -> 0.39712989
A14: Wuhu | B14: =aggregating!K12 -> 0.19728792 | C14: =aggregating!K29 -> 0.11468363 | D14: =aggregating!K46 -> 0.17963259 | E14: =B14*C14*D14 -> 0.004064312 | F14: =(B14+C14+D14)/3 -> 0.16386805 | G14: =F14*F14*F14 -> 0.0044003054 | H14: =E14/G14 -> 0.92364317 | I14: =POWER(H14,1/3) -> 0.97387094 | J14: =I14*F14 -> 0.15958633 | K14: =SQRT(J14) -> 0.39948257
A15: Xuancheng | B15: =aggregating!K13 -> 0.12566145 | C15: =aggregating!K30 -> 0.15987935 | D15: =aggregating!K47 -> 0.106066 | E15: =B15*C15*D15 -> 0.0021309371 | F15: =(B15+C15+D15)/3 -> 0.1305356 | G15: =F15*F15*F15 -> 0.0022242669 | H15: =E15/G15 -> 0.95804019 | I15: =POWER(H15,1/3) -> 0.98581308 | J15: =I15*F15 -> 0.1286837 | K15: =SQRT(J15) -> 0.3587251
... A19: Huangshan | B19: =aggregating!K17 -> 0.18810458 | C19: =aggregating!K34 -> 0.21034243 | D19: =aggregating!K51 -> 0.15549306 | E19: =B19*C19*D19 -> 0.0061522965 | F19: =(B19+C19+D19)/3 -> 0.18464669 | G19: =F19*F19*F19 -> 0.006295418 | H19: =E19/G19 -> 0.97726577 | I19: =POWER(H19,1/3) -> 0.99236376 | J19: =I19*F19 -> 0.18323668 | K19: =SQRT(J19) -> 0.42806154

Sheet 2009-18CCD
A1: Regions | B1: CCD 2009 | C1: CCD 2012 | D1: CCD 2015 | E1: CCD 2018 | F1: CCD2018-CCD2009 | H1: RANK
A2: Hefei | B2: 0.46612975 | C2: 0.41294656 | D2: 0.41191713 | E2: 0.43566842 | F2: =E2-B2 -> -0.030461328 | G2: -0.0943 | H2: Huainan
A3: Huaibei | B3: 0.3846099 | C3: 0.35406002 | D3: 0.35206807 | E3: 0.33111924 | F3: =E3-B3 -> -0.053490655 | G3: 0.0633 | H3: Anqing
A4: Bozhou | B4: 0.35353258 | C4: 0.36122752 | D4: 0.36885663 | E4: 0.35596783 | F4: =E4-B4 -> 0.0024352486 | G4: -0.0535 | H4: Huaibei
A5: Suzhou | B5: 0.32581627 | C5: 0.34541202 | D5: 0.32423943 | E5: 0.34590321 | F5: =E5-B5 -> 0.020086936 | G5: -0.0456 | H5: Ma anshan
A6: Bengbu | B6: 0.33954326 | C6: 0.35005487 | D6: 0.36786303 | E6: 0.36724243 | F6: =E6-B6 -> 0.027699169 | G6: -0.042 | H6: Tongling
A7: Fuyang | B7: 0.32652015 | C7: 0.34259357 | D7: 0.33908954 | E7: 0.33933778 | F7: =E7-B7 -> 0.012817636 | G7: 0.041201789 | H7: Huangshan
A8: Huainan | B8: 0.36391126 | C8: 0.31936839 | D8: 0.26748123 | E8: 0.26963954 | F8: =E8-B8 -> -0.094271722 | G8: -0.0305 | H8: Hefei
A9: Chuzhou | B9: 0.3595226 | C9: 0.38440568 | D9: 0.36042193 | E9: 0.36790775 | F9: =E9-B9 -> 0.0083851475 | G9: 0.027699169 | H9: Bengbu
A10: Lu an | B10: 0.34663985 | C10: 0.37535064 | D10: 0.34408602 | E10: 0.35544416 | F10: =E10-B10 -> 0.0088043139 | G10: 0.020086936 | H10: Suzhou
A11: Ma anshan | B11: 0.39712989 | C11: 0.37151332 | D11: 0.37292817 | E11: 0.35150316 | F11: =E11-B11 -> -0.045626727 | G11: 0.019518867 | H11: Chizhou
A12: Wuhu | B12: 0.39948257 | C12: 0.40002377 | D12: 0.42503105 | E12: 0.40385748 | F12: =E12-B12 -> 0.004374905 | G12: 0.012817636 | H12: Fuyang
A13: Xuancheng | B13: 0.3587251 | C13: 0.38127808 | D13: 0.3645289 | E13: 0.37046481 | F13: =E13-B13 -> 0.011739705 | G13: 0.011739705 | H13: Xuancheng
... A17: Huangshan | B17: 0.42806154 | C17: 0.42415054 | D17: 0.44947072 | E17: 0.46926333 | F17: =E17-B17 -> 0.041201789 | G17: 0.0024352486 | H17: Bozhou
A18: SD | B18: =STDEVP(B2:B17) -> 0.03882104 | C18: =STDEVP(C2:C17) -> 0.028829609 | D18: =STDEVP(D2:D17) -> 0.043127239 | E18: =STDEVP(E2:E17) -> 0.046400355

Sheet obstacle degree caclulation
C1: C1 | D1: C2 | E1: C3 | F1: C4 | G1: C5 | H1: C6 | I1: C7 | J1: C8 | K1: C9 | L1: C10 | M1: C11 | N1: C12 | O1: C13 | P1: C14 | Q1: C15 | R1: C16 | S1: C17 | T1: C18 | U1: C19 | V1: C20 | W1: C21 | X1: C22 | Y1: C23 | Z1: C24 | AA1: C25 | AB1: C26 | AC1: C27 | AD1: sum
A2: Index deviation degree （Di） | B2: Hefei | C2: =(1-standardizing!B3)*weighting!$B$19 -> 0.0069884791 | D2: =(1-standardizing!C3)*weighting!$C$19 -> 0 | E2: =(1-standardizing!D3)*weighting!$D$19 -> 0.010548195 | F2: =(1-standardizing!E3)*weighting!$E$19 -> 0.025476149 | G2: =(1-standardizing!F3)*weighting!$F$19 -> 0.02133377 | H2: =(1-standardizing!G3)*weighting!$G$19 -> 0.014640363 | I2: =(1-standardizing!H3)*weighting!$H$19 -> 0.012790126 | J2: =(1-standardizing!I3)*weighting!$I$19 -> 0.0093025011 | K2: =(1-standardizing!J3)*weighting!$J$19 -> 0.0057382418 | L2: =(1-standardizing!K3)*weighting!$K$19 -> 0.0029276743 | M2: =(1-standardizing!L3)*weighting!$L$19 -> 0 | N2: =(1-standardizing!M3)*weighting!$M$19 -> 0.00018076261 | O2: =(1-standardizing!N3)*weighting!$N$19 -> 0.014582521 | P2: =(1-standardizing!O3)*weighting!$O$19 -> 0.020879671 | Q2: =(1-standardizing!P3)*weighting!$P$19 -> 0.017277508 | R2: =(1-standardizing!Q3)*weighting!$Q$19 -> 0 | S2: =(1-standardizing!R3)*weighting!$R$19 -> 0 | T2: =(1-standardizing!S3)*weighting!$S$19 -> 0.067858617 | U2: =(1-standardizing!T3)*weighting!$T$19 -> 0.021532967 | V2: =(1-standardizing!U3)*weighting!$U$19 -> 0.047761855 | W2: =(1-standardizing!V3)*weighting!$V$19 -> 0.013006113 | X2: =(1-standardizing!W3)*weighting!$W$19 -> 0.0032815061 | Y2: =(1-standardizing!X3)*weighting!$X$19 -> 0.0004655736 | Z2: =(1-standardizing!Y3)*weighting!$Y$19 -> 0.0026290657 | AA2: =(1-standardizing!Z3)*weighting!$Z$19 -> 0 | AB2: =(1-standardizing!AA3)*weighting!$AA$19 -> 0.00083067706 | AC2: =(1-standardizing!AB3)*weighting!$AB$19 -> 0.00060819441 | AD2: =SUM(C2:AC2) -> 0.32064053
B3: Huaibei | C3: =(1-standardizing!B4)*weighting!$B$19 -> 0.10302809 | D3: =(1-standardizing!C4)*weighting!$C$19 -> 0.028426838 | E3: =(1-standardizing!D4)*weighting!$D$19 -> 0.021619749 | F3: =(1-standardizing!E4)*weighting!$E$19 -> 0.024609217 | G3: =(1-standardizing!F4)*weighting!$F$19 -> 0.022066123 | H3: =(1-standardizing!G4)*weighting!$G$19 -> 0.019447646 | I3: =(1-standardizing!H4)*weighting!$H$19 -> 0.018217487 | J3: =(1-standardizing!I4)*weighting!$I$19 -> 0.0015650456 | K3: =(1-standardizing!J4)*weighting!$J$19 -> 0.0048504383 | L3: =(1-standardizing!K4)*weighting!$K$19 -> 0.010532974 | M3: =(1-standardizing!L4)*weighting!$L$19 -> 0.0010486777 | N3: =(1-standardizing!M4)*weighting!$M$19 -> 6.381688e-05 | O3: =(1-standardizing!N4)*weighting!$N$19 -> 0.0022190792 | P3: =(1-standardizing!O4)*weighting!$O$19 -> 0.024886311 | Q3: =(1-standardizing!P4)*weighting!$P$19 -> 0.0066335982 | R3: =(1-standardizing!Q4)*weighting!$Q$19 -> 0.0011399184 | S3: =(1-standardizing!R4)*weighting!$R$19 -> 0.018027281 | T3: =(1-standardizing!S4)*weighting!$S$19 -> 0.069353606 | U3: =(1-standardizing!T4)*weighting!$T$19 -> 0.011466077 | V3: =(1-standardizing!U4)*weighting!$U$19 -> 0.062362534 | W3: =(1-standardizing!V4)*weighting!$V$19 -> 0.047582097 | X3: =(1-standardizing!W4)*weighting!$W$19 -> 0.0033066193 | Y3: =(1-standardizing!X4)*weighting!$X$19 -> 0.013182976 | Z3: =(1-standardizing!Y4)*weighting!$Y$19 -> 0.0097073197 | AA3: =(1-standardizing!Z4)*weighting!$Z$19 -> 0.0073511235 | AB3: =(1-standardizing!AA4)*weighting!$AA$19 -> 0.0057454453 | AC3: =(1-standardizing!AB4)*weighting!$AB$19 -> 0.014409162 | AD3: =SUM(C3:AC3) -> 0.55284924
B4: Bozhou | C4: =(1-standardizing!B5)*weighting!$B$19 -> 0.12103719 | D4: =(1-standardizing!C5)*weighting!$C$19 -> 0.04834871 | E4: =(1-standardizing!D5)*weighting!$D$19 -> 0.076121569 | F4: =(1-standardizing!E5)*weighting!$E$19 -> 0.027836536 | G4: =(1-standardizing!F5)*weighting!$F$19 -> 0 | H4: =(1-standardizing!G5)*weighting!$G$19 -> 0.011799695 | I4: =(1-standardizing!H5)*weighting!$H$19 -> 0.033172281 | J4: =(1-standardizing!I5)*weighting!$I$19 -> 0.00091395158 | K4: =(1-standardizing!J5)*weighting!$J$19 -> 6.4961228e-05 | L4: =(1-standardizing!K5)*weighting!$K$19 -> 0.0018882019 | M4: =(1-standardizing!L5)*weighting!$L$19 -> 0.00022699342 | N4: =(1-standardizing!M5)*weighting!$M$19 -> 1.0905942e-05 | O4: =(1-standardizing!N5)*weighting!$N$19 -> 0.00031701132 | P4: =(1-standardizing!O5)*weighting!$O$19 -> 0.037752703 | Q4: =(1-standardizing!P5)*weighting!$P$19 -> 0 | R4: =(1-standardizing!Q5)*weighting!$Q$19 -> 0 | S4: =(1-standardizing!R5)*weighting!$R$19 -> 0.031532669 | T4: =(1-standardizing!S5)*weighting!$S$19 -> 0.062093893 | U4: =(1-standardizing!T5)*weighting!$T$19 -> 0.00067723928 | V4: =(1-standardizing!U5)*weighting!$U$19 -> 0.089539764 | W4: =(1-standardizing!V5)*weighting!$V$19 -> 0.062296134 | X4: =(1-standardizing!W5)*weighting!$W$19 -> 0.0011517345 | Y4: =(1-standardizing!X5)*weighting!$X$19 -> 0.0015639082 | Z4: =(1-standardizing!Y5)*weighting!$Y$19 -> 0.0032357732 | AA4: =(1-standardizing!Z5)*weighting!$Z$19 -> 0.0056991643 | AB4: =(1-standardizing!AA5)*weighting!$AA$19 -> 0.00045783886 | AC4: =(1-standardizing!AB5)*weighting!$AB$19 -> 0.002184492 | AD4: =SUM(C4:AC4) -> 0.61992332
B5: Suzhou | C5: =(1-standardizing!B6)*weighting!$B$19 -> 0.12512827 | D5: =(1-standardizing!C6)*weighting!$C$19 -> 0.046239521 | E5: =(1-standardizing!D6)*weighting!$D$19 -> 0.074530896 | F5: =(1-standardizing!E6)*weighting!$E$19 -> 0.01590347 | G5: =(1-standardizing!F6)*weighting!$F$19 -> 0.011860939 | H5: =(1-standardizing!G6)*weighting!$G$19 -> 0.029280726 | I5: =(1-standardizing!H6)*weighting!$H$19 -> 0.025625473 | J5: =(1-standardizing!I6)*weighting!$I$19 -> 0.0037706339 | K5: =(1-standardizing!J6)*weighting!$J$19 -> 0.00038976737 | L5: =(1-standardizing!K6)*weighting!$K$19 -> 0.0043755261 | M5: =(1-standardizing!L6)*weighting!$L$19 -> 0.0012057128 | N5: =(1-standardizing!M6)*weighting!$M$19 -> 0.00021114567 | O5: =(1-standardizing!N6)*weighting!$N$19 -> 0.00095103395 | P5: =(1-standardizing!O6)*weighting!$O$19 -> 0.049434033 | Q5: =(1-standardizing!P6)*weighting!$P$19 -> 0.0039500062 | R5: =(1-standardizing!Q6)*weighting!$Q$19 -> 0.020233552 | S5: =(1-standardizing!R6)*weighting!$R$19 -> 0.033642886 | T5: =(1-standardizing!S6)*weighting!$S$19 -> 0.056719009 | U5: =(1-standardizing!T6)*weighting!$T$19 -> 0.0024439767 | V5: =(1-standardizing!U6)*weighting!$U$19 -> 0.087096109 | W5: =(1-standardizing!V6)*weighting!$V$19 -> 0.05635533 | X5: =(1-standardizing!W6)*weighting!$W$19 -> 0.0032509187 | Y5: =(1-standardizing!X6)*weighting!$X$19 -> 0.0032032101 | Z5: =(1-standardizing!Y6)*weighting!$Y$19 -> 0.0050558957 | AA5: =(1-standardizing!Z6)*weighting!$Z$19 -> 0.0095250573 | AB5: =(1-standardizing!AA6)*weighting!$AA$19 -> 0.0020379761 | AC5: =(1-standardizing!AB6)*weighting!$AB$19 -> 0.0040593117 | AD5: =SUM(C5:AC5) -> 0.67648038
B6: Bengbu | C6: =(1-standardizing!B7)*weighting!$B$19 -> 0.12252909 | D6: =(1-standardizing!C7)*weighting!$C$19 -> 0.031637843 | E6: =(1-standardizing!D7)*weighting!$D$19 -> 0.043845484 | F6: =(1-standardizing!E7)*weighting!$E$19 -> 0.018314852 | G6: =(1-standardizing!F7)*weighting!$F$19 -> 0.02529803 | H6: =(1-standardizing!G7)*weighting!$G$19 -> 0.027095597 | I6: =(1-standardizing!H7)*weighting!$H$19 -> 0.015554395 | J6: =(1-standardizing!I7)*weighting!$I$19 -> 0.011481252 | K6: =(1-standardizing!J7)*weighting!$J$19 -> 0.002100413 | L6: =(1-standardizing!K7)*weighting!$K$19 -> 0.0015568323 | M6: =(1-standardizing!L7)*weighting!$L$19 -> 0.004489458 | N6: =(1-standardizing!M7)*weighting!$M$19 -> 0.00017617609 | O6: =(1-standardizing!N7)*weighting!$N$19 -> 0.00031701132 | P6: =(1-standardizing!O7)*weighting!$O$19 -> 0.051860589 | Q6: =(1-standardizing!P7)*weighting!$P$19 -> 0.0047339769 | R6: =(1-standardizing!Q7)*weighting!$Q$19 -> 0.0079794289 | S6: =(1-standardizing!R7)*weighting!$R$19 -> 0.039672077 | T6: =(1-standardizing!S7)*weighting!$S$19 -> 0.071084055 | U6: =(1-standardizing!T7)*weighting!$T$19 -> 0.0061193267 | V6: =(1-standardizing!U7)*weighting!$U$19 -> 0.073464076 | W6: =(1-standardizing!V7)*weighting!$V$19 -> 0.047636119 | X6: =(1-standardizing!W7)*weighting!$W$19 -> 0.011277355 | Y6: =(1-standardizing!X7)*weighting!$X$19 -> 0.0048154068 | Z6: =(1-standardizing!Y7)*weighting!$Y$19 -> 0.0036402449 | AA6: =(1-standardizing!Z7)*weighting!$Z$19 -> 0.020189958 | AB6: =(1-standardizing!AA7)*weighting!$AA$19 -> 0.002466229 | AC6: =(1-standardizing!AB7)*weighting!$AB$19 -> 0.0014336814 | AD6: =SUM(C6:AC6) -> 0.65076895
B7: Fuyang | C7: =(1-standardizing!B8)*weighting!$B$19 -> 0.12337354 | D7: =(1-standardizing!C8)*weighting!$C$19 -> 0.048395931 | E7: =(1-standardizing!D8)*weighting!$D$19 -> 0.072212723 | F7: =(1-standardizing!E8)*weighting!$E$19 -> 0.011714512 | G7: =(1-standardizing!F8)*weighting!$F$19 -> 0.011956463 | H7: =(1-standardizing!G8)*weighting!$G$19 -> 0.013984824 | I7: =(1-standardizing!H8)*weighting!$H$19 -> 0.033978572 | J7: =(1-standardizing!I8)*weighting!$I$19 -> 0.002167842 | K7: =(1-standardizing!J8)*weighting!$J$19 -> 0 | L7: =(1-standardizing!K8)*weighting!$K$19 -> 0.0031371024 | M7: =(1-standardizing!L8)*weighting!$L$19 -> 0.0011982839 | N7: =(1-standardizing!M8)*weighting!$M$19 -> 0.00029854885 | O7: =(1-standardizing!N8)*weighting!$N$19 -> 0.0072912603 | P7: =(1-standardizing!O8)*weighting!$O$19 -> 0.055867229 | Q7: =(1-standardizing!P8)*weighting!$P$19 -> 0.0046535697 | R7: =(1-standardizing!Q8)*weighting!$Q$19 -> 0.0058135839 | S7: =(1-standardizing!R8)*weighting!$R$19 -> 0.038586822 | T7: =(1-standardizing!S8)*weighting!$S$19 -> 0.061539286 | U7: =(1-standardizing!T8)*weighting!$T$19 -> 0 | V7: =(1-standardizing!U8)*weighting!$U$19 -> 0.088727748 | W7: =(1-standardizing!V8)*weighting!$V$19 -> 0.061449018 | X7: =(1-standardizing!W8)*weighting!$W$19 -> 0.0023308417 | Y7: =(1-standardizing!X8)*weighting!$X$19 -> 0.0097560902 | Z7: =(1-standardizing!Y8)*weighting!$Y$19 -> 0.0077860793 | AA7: =(1-standardizing!Z8)*weighting!$Z$19 -> 0.0076354381 | AB7: =(1-standardizing!AA8)*weighting!$AA$19 -> 0.0021812555 | AC7: =(1-standardizing!AB8)*weighting!$AB$19 -> 0.0025661956 | AD7: =SUM(C7:AC7) -> 0.67860276
B8: Huainan | C8: =(1-standardizing!B9)*weighting!$B$19 -> 0.09707615 | D8: =(1-standardizing!C9)*weighting!$C$19 -> 0.033138411 | E8: =(1-standardizing!D9)*weighting!$D$19 -> 0.014122688 | F8: =(1-standardizing!E9)*weighting!$E$19 -> 0.0027173588 | G8: =(1-standardizing!F9)*weighting!$F$19 -> 0.023960689 | H8: =(1-standardizing!G9)*weighting!$G$19 -> 0.027095597 | I8: =(1-standardizing!H9)*weighting!$H$19 -> 0.012769315 | J8: =(1-standardizing!I9)*weighting!$I$19 -> 0.017602152 | K8: =(1-standardizing!J9)*weighting!$J$19 -> 0.0018189144 | L8: =(1-standardizing!K9)*weighting!$K$19 -> 0.021741648 | M8: =(1-standardizing!L9)*weighting!$L$19 -> 0.0033998794 | N8: =(1-standardizing!M9)*weighting!$M$19 -> 0.0023626669 | O8: =(1-standardizing!N9)*weighting!$N$19 -> 0.0063402263 | P8: =(1-standardizing!O9)*weighting!$O$19 -> 0.030642328 | Q8: =(1-standardizing!P9)*weighting!$P$19 -> 0.0039198535 | R8: =(1-standardizing!Q9)*weighting!$Q$19 -> 0.026332115 | S8: =(1-standardizing!R9)*weighting!$R$19 -> 0.012239258 | T8: =(1-standardizing!S9)*weighting!$S$19 -> 0.073278926 | U8: =(1-standardizing!T9)*weighting!$T$19 -> 0.0087041451 | V8: =(1-standardizing!U9)*weighting!$U$19 -> 0.035609185 | W8: =(1-standardizing!V9)*weighting!$V$19 -> 0.046794649 | X8: =(1-standardizing!W9)*weighting!$W$19 -> 0.0044422519 | Y8: =(1-standardizing!X9)*weighting!$X$19 -> 0.016247471 | Z8: =(1-standardizing!Y9)*weighting!$Y$19 -> 0.0074827256 | AA8: =(1-standardizing!Z9)*weighting!$Z$19 -> 0.020442322 | AB8: =(1-standardizing!AA9)*weighting!$AA$19 -> 0.015760308 | AC8: =(1-standardizing!AB9)*weighting!$AB$19 -> 0.021733714 | AD8: =SUM(C8:AC8) -> 0.58777495
B9: Chuzhou | C9: =(1-standardizing!B10)*weighting!$B$19 -> 0.12104204 | D9: =(1-standardizing!C10)*weighting!$C$19 -> 0.05309701 | E9: =(1-standardizing!D10)*weighting!$D$19 -> 0.073393425 | F9: =(1-standardizing!E10)*weighting!$E$19 -> 0.003941263 | G9: =(1-standardizing!F10)*weighting!$F$19 -> 0.016032169 | H9: =(1-standardizing!G10)*weighting!$G$19 -> 0 | I9: =(1-standardizing!H10)*weighting!$H$19 -> 0.0088467533 | J9: =(1-standardizing!I10)*weighting!$I$19 -> 0.0069219448 | K9: =(1-standardizing!J10)*weighting!$J$19 -> 0.00084449596 | L9: =(1-standardizing!K10)*weighting!$K$19 -> 0.0015119008 | M9: =(1-standardizing!L10)*weighting!$L$19 -> 0.0082527102 | N9: =(1-standardizing!M10)*weighting!$M$19 -> 4.4796336e-05 | O9: =(1-standardizing!N10)*weighting!$N$19 -> 0.0031701132 | P9: =(1-standardizing!O10)*weighting!$O$19 -> 0.049095443 | Q9: =(1-standardizing!P10)*weighting!$P$19 -> 0.0050556059 | R9: =(1-standardizing!Q10)*weighting!$Q$19 -> 0.0068965064 | S9: =(1-standardizing!R10)*weighting!$R$19 -> 0.028337198 | T9: =(1-standardizing!S10)*weighting!$S$19 -> 0.040486619 | U9: =(1-standardizing!T10)*weighting!$T$19 -> 0.00025911715 | V9: =(1-standardizing!U10)*weighting!$U$19 -> 0.086070568 | W9: =(1-standardizing!V10)*weighting!$V$19 -> 0.050368107 | X9: =(1-standardizing!W10)*weighting!$W$19 -> 0.00071961793 | Y9: =(1-standardizing!X10)*weighting!$X$19 -> 0.011233216 | Z9: =(1-standardizing!Y10)*weighting!$Y$19 -> 0.0037413628 | AA9: =(1-standardizing!Z10)*weighting!$Z$19 -> 0.029324467 | AB9: =(1-standardizing!AA10)*weighting!$AA$19 -> 0.0017420389 | AC9: =(1-standardizing!AB10)*weighting!$AB$19 -> 0.0012752785 | AD9: =SUM(C9:AC9) -> 0.61170377
B10: Lu’an | C10: =(1-standardizing!B11)*weighting!$B$19 -> 0.12438198 | D10: =(1-standardizing!C11)*weighting!$C$19 -> 0.047477751 | E10: =(1-standardizing!D11)*weighting!$D$19 -> 0.070984424 | F10: =(1-standardizing!E11)*weighting!$E$19 -> 0.024798631 | G10: =(1-standardizing!F11)*weighting!$F$19 -> 0.0043145161 | H10: =(1-standardizing!G11)*weighting!$G$19 -> 0.026658571 | I10: =(1-standardizing!H11)*weighting!$H$19 -> 0.025621688 | J10: =(1-standardizing!I11)*weighting!$I$19 -> 0.0080253662 | K10: =(1-standardizing!J11)*weighting!$J$19 -> 0.0010393796 | L10: =(1-standardizing!K11)*weighting!$K$19 -> 0.0030368707 | M10: =(1-standardizing!L11)*weighting!$L$19 -> 0.0038547211 | N10: =(1-standardizing!M11)*weighting!$M$19 -> 3.8258998e-05 | O10: =(1-standardizing!N11)*weighting!$N$19 -> 0.0012680453 | P10: =(1-standardizing!O11)*weighting!$O$19 -> 0.042154363 | Q10: =(1-standardizing!P11)*weighting!$P$19 -> 0.0068245655 | R10: =(1-standardizing!Q11)*weighting!$Q$19 -> 0.010259266 | S10: =(1-standardizing!R11)*weighting!$R$19 -> 0.0046424771 | T10: =(1-standardizing!S11)*weighting!$S$19 -> 0.052988314 | U10: =(1-standardizing!T11)*weighting!$T$19 -> 0.00023175735 | V10: =(1-standardizing!U11)*weighting!$U$19 -> 0.087500372 | W10: =(1-standardizing!V11)*weighting!$V$19 -> 0.052462053 | X10: =(1-standardizing!W11)*weighting!$W$19 -> 0.0014007597 | Y10: =(1-standardizing!X11)*weighting!$X$19 -> 0.0039090871 | Z10: =(1-standardizing!Y11)*weighting!$Y$19 -> 0.0045503061 | AA10: =(1-standardizing!Z11)*weighting!$Z$19 -> 0.016645417 | AB10: =(1-standardizing!AA11)*weighting!$AA$19 -> 0.0007185591 | AC10: =(1-standardizing!AB11)*weighting!$AB$19 -> 0.002685377 | AD10: =SUM(C10:AC10) -> 0.62847288
B11: Ma’anshan | C11: =(1-standardizing!B12)*weighting!$B$19 -> 0.039126046 | D11: =(1-standardizing!C12)*weighting!$C$19 -> 0.034229733 | E11: =(1-standardizing!D12)*weighting!$D$19 -> 0.040731033 | F11: =(1-standardizing!E12)*weighting!$E$19 -> 0.034415021 | G11: =(1-standardizing!F12)*weighting!$F$19 -> 0.020187478 | H11: =(1-standardizing!G12)*weighting!$G$19 -> 0.0024036416 | I11: =(1-standardizing!H12)*weighting!$H$19 -> 0.0065617797 | J11: =(1-standardizing!I12)*weighting!$I$19 -> 0 | K11: =(1-standardizing!J12)*weighting!$J$19 -> 0.012710747 | L11: =(1-standardizing!K12)*weighting!$K$19 -> 0.020107806 | M11: =(1-standardizing!L12)*weighting!$L$19 -> 0.0022978276 | N11: =(1-standardizing!M12)*weighting!$M$19 -> 0.00050468256 | O11: =(1-standardizing!N12)*weighting!$N$19 -> 0.0031701132 | P11: =(1-standardizing!O12)*weighting!$O$19 -> 0.020879671 | Q11: =(1-standardizing!P12)*weighting!$P$19 -> 0.0067944127 | R11: =(1-standardizing!Q12)*weighting!$Q$19 -> 0.017098776 | S11: =(1-standardizing!R12)*weighting!$R$19 -> 0.023453553 | T11: =(1-standardizing!S12)*weighting!$S$19 -> 0.067872259 | U11: =(1-standardizing!T12)*weighting!$T$19 -> 0.010637485 | V11: =(1-standardizing!U12)*weighting!$U$19 -> 0.033408866 | W11: =(1-standardizing!V12)*weighting!$V$19 -> 0 | X11: =(1-standardizing!W12)*weighting!$W$19 -> 0.011049863 | Y11: =(1-standardizing!X12)*weighting!$X$19 -> 0.025837512 | Z11: =(1-standardizing!Y12)*weighting!$Y$19 -> 0.01648222 | AA11: =(1-standardizing!Z12)*weighting!$Z$19 -> 0.02188977 | AB11: =(1-standardizing!AA12)*weighting!$AA$19 -> 0.020416642 | AC11: =(1-standardizing!AB12)*weighting!$AB$19 -> 0.015313026 | AD11: =SUM(C11:AC11) -> 0.50757996
B12: Wuhu | C12: =(1-standardizing!B13)*weighting!$B$19 -> 0.086378778 | D12: =(1-standardizing!C13)*weighting!$C$19 -> 0.038762916 | E12: =(1-standardizing!D13)*weighting!$D$19 -> 0.029290848 | F12: =(1-standardizing!E13)*weighting!$E$19 -> 0.031173132 | G12: =(1-standardizing!F13)*weighting!$F$19 -> 0.016143614 | H12: =(1-standardizing!G13)*weighting!$G$19 -> 0.0072109249 | I12: =(1-standardizing!H13)*weighting!$H$19 -> 0.0036398843 | J12: =(1-standardizing!I13)*weighting!$I$19 -> 0.0066971045 | K12: =(1-standardizing!J13)*weighting!$J$19 -> 0.001342532 | L12: =(1-standardizing!K13)*weighting!$K$19 -> 0.0024401246 | M12: =(1-standardizing!L13)*weighting!$L$19 -> 0.0062701 | N12: =(1-standardizing!M13)*weighting!$M$19 -> 0.00028794384 | O12: =(1-standardizing!N13)*weighting!$N$19 -> 0.0028531019 | P12: =(1-standardizing!O13)*weighting!$O$19 -> 0.044355194 | Q12: =(1-standardizing!P13)*weighting!$P$19 -> 0.020091762 | R12: =(1-standardizing!Q13)*weighting!$Q$19 -> 0.017212768 | S12: =(1-standardizing!R13)*weighting!$R$19 -> 0.01579648 | T12: =(1-standardizing!S13)*weighting!$S$19 -> 0.053322875 | U12: =(1-standardizing!T13)*weighting!$T$19 -> 0.013244087 | V12: =(1-standardizing!U13)*weighting!$U$19 -> 0.048779657 | W12: =(1-standardizing!V13)*weighting!$V$19 -> 0.032868183 | X12: =(1-standardizing!W13)*weighting!$W$19 -> 0.00087424861 | Y12: =(1-standardizing!X13)*weighting!$X$19 -> 0.0088914535 | Z12: =(1-standardizing!Y13)*weighting!$Y$19 -> 0.004651424 | AA12: =(1-standardizing!Z13)*weighting!$Z$19 -> 0.0085545649 | AB12: =(1-standardizing!AA13)*weighting!$AA$19 -> 0.0059433954 | AC12: =(1-standardizing!AB13)*weighting!$AB$19 -> 0.0013187673 | AD12: =SUM(C12:AC12) -> 0.50839586
B13: Xuancheng | C13: =(1-standardizing!B14)*weighting!$B$19 -> 0.11978452 | D13: =(1-standardizing!C14)*weighting!$C$19 -> 0.039355798 | E13: =(1-standardizing!D14)*weighting!$D$19 -> 0.065300318 | F13: =(1-standardizing!E14)*weighting!$E$19 -> 0.010796584 | G13: =(1-standardizing!F14)*weighting!$F$19 -> 0.030567789 | H13: =(1-standardizing!G14)*weighting!$G$19 -> 0.01748103 | I13: =(1-standardizing!H14)*weighting!$H$19 -> 0 | J13: =(1-standardizing!I14)*weighting!$I$19 -> 0.0083738544 | K13: =(1-standardizing!J14)*weighting!$J$19 -> 0.00060630479 | L13: =(1-standardizing!K14)*weighting!$K$19 -> 0.00079515745 | M13: =(1-standardizing!L14)*weighting!$L$19 -> 0.0041796899 | N13: =(1-standardizing!M14)*weighting!$M$19 -> 0.00015922052 | O13: =(1-standardizing!N14)*weighting!$N$19 -> 0.0012680453 | P13: =(1-standardizing!O14)*weighting!$O$19 -> 0.056205818 | Q13: =(1-standardizing!P14)*weighting!$P$19 -> 0.0082919978 | R13: =(1-standardizing!Q14)*weighting!$Q$19 -> 0.01983458 | S13: =(1-standardizing!R14)*weighting!$R$19 -> 0.016037648 | T13: =(1-standardizing!S14)*weighting!$S$19 -> 0.010662472 | U13: =(1-standardizing!T14)*weighting!$T$19 -> 0.0017233561 | V13: =(1-standardizing!U14)*weighting!$U$19 -> 0.081387831 | W13: =(1-standardizing!V14)*weighting!$V$19 -> 0.050405914 | X13: =(1-standardizing!W14)*weighting!$W$19 -> 0.0079957287 | Y13: =(1-standardizing!X14)*weighting!$X$19 -> 0.018804937 | Z13: =(1-standardizing!Y14)*weighting!$Y$19 -> 0.0063704285 | AA13: =(1-standardizing!Z14)*weighting!$Z$19 -> 0.024562874 | AB13: =(1-standardizing!AA14)*weighting!$AA$19 -> 0.0065491683 | AC13: =(1-standardizing!AB14)*weighting!$AB$19 -> 0.00089213434 | AD13: =SUM(C13:AC13) -> 0.6083932
B14: Tongling | C14: =(1-standardizing!B15)*weighting!$B$19 -> 0 | D14: =(1-standardizing!C15)*weighting!$C$19 -> 0.015446403 | E14: =(1-standardizing!D15)*weighting!$D$19 -> 0 | F14: =(1-standardizing!E15)*weighting!$E$19 -> 0.012734432 | G14: =(1-standardizing!F15)*weighting!$F$19 -> 0.021492977 | H14: =(1-standardizing!G15)*weighting!$G$19 -> 0.021851288 | I14: =(1-standardizing!H15)*weighting!$H$19 -> 0.0094519611 | J14: =(1-standardizing!I15)*weighting!$I$19 -> 0.0090710597 | K14: =(1-standardizing!J15)*weighting!$J$19 -> 0.00090945719 | L14: =(1-standardizing!K15)*weighting!$K$19 -> 0.011139873 | M14: =(1-standardizing!L15)*weighting!$L$19 -> 0.0016941445 | N14: =(1-standardizing!M15)*weighting!$M$19 -> 0.011091747 | O14: =(1-standardizing!N15)*weighting!$N$19 -> 0.0041211471 | P14: =(1-standardizing!O15)*weighting!$O$19 -> 0.034931126 | Q14: =(1-standardizing!P15)*weighting!$P$19 -> 0.0093875466 | R14: =(1-standardizing!Q15)*weighting!$Q$19 -> 0.013850009 | S14: =(1-standardizing!R15)*weighting!$R$19 -> 0.015495021 | T14: =(1-standardizing!S15)*weighting!$S$19 -> 0.057773518 | U14: =(1-standardizing!T15)*weighting!$T$19 -> 0.0091067515 | V14: =(1-standardizing!U15)*weighting!$U$19 -> 0 | W14: =(1-standardizing!V15)*weighting!$V$19 -> 0.029298965 | X14: =(1-standardizing!W15)*weighting!$W$19 -> 0.0013948762 | Y14: =(1-standardizing!X15)*weighting!$X$19 -> 0.022944988 | Z14: =(1-standardizing!Y15)*weighting!$Y$19 -> 0.0099095555 | AA14: =(1-standardizing!Z15)*weighting!$Z$19 -> 0.023559524 | AB14: =(1-standardizing!AA15)*weighting!$AA$19 -> 0.010836891 | AC14: =(1-standardizing!AB15)*weighting!$AB$19 -> 0.016501996 | AD14: =SUM(C14:AC14) -> 0.37399526
... B17: Huangshan | C17: =(1-standardizing!B18)*weighting!$B$19 -> 0.10084665 | D17: =(1-standardizing!C18)*weighting!$C$19 -> 0.033007242 | E17: =(1-standardizing!D18)*weighting!$D$19 -> 0.051898585 | F17: =(1-standardizing!E18)*weighting!$E$19 -> 0 | G17: =(1-standardizing!F18)*weighting!$F$19 -> 0.0083902213 | H17: =(1-standardizing!G18)*weighting!$G$19 -> 0.024910468 | I17: =(1-standardizing!H18)*weighting!$H$19 -> 0.0025968784 | J17: =(1-standardizing!I18)*weighting!$I$19 -> 0.0075234095 | K17: =(1-standardizing!J18)*weighting!$J$19 -> 0.00064961228 | L17: =(1-standardizing!K18)*weighting!$K$19 -> 0 | M17: =(1-standardizing!L18)*weighting!$L$19 -> 0.0011239954 | N17: =(1-standardizing!M18)*weighting!$M$19 -> 0 | O17: =(1-standardizing!N18)*weighting!$N$19 -> 0 | P17: =(1-standardizing!O18)*weighting!$O$19 -> 0.010270541 | Q17: =(1-standardizing!P18)*weighting!$P$19 -> 0.0014774832 | R17: =(1-standardizing!Q18)*weighting!$Q$19 -> 0.0059275757 | S17: =(1-standardizing!R18)*weighting!$R$19 -> 0.02242859 | T17: =(1-standardizing!S18)*weighting!$S$19 -> 0.025743359 | U17: =(1-standardizing!T18)*weighting!$T$19 -> 0.015370991 | V17: =(1-standardizing!U18)*weighting!$U$19 -> 0.073853799 | W17: =(1-standardizing!V18)*weighting!$V$19 -> 0.038813829 | X17: =(1-standardizing!W18)*weighting!$W$19 -> 0.0080079142 | Y17: =(1-standardizing!X18)*weighting!$X$19 -> 0 | Z17: =(1-standardizing!Y18)*weighting!$Y$19 -> 0 | AA17: =(1-standardizing!Z18)*weighting!$Z$19 -> 0.013218785 | AB17: =(1-standardizing!AA18)*weighting!$AA$19 -> 0 | AC17: =(1-standardizing!AB18)*weighting!$AB$19 -> 0 | AD17: =SUM(C17:AC17) -> 0.44605993
A18: Obstacle degree for each indicator (Oi) | B18: Hefei | C18: =C2/AD2*100 -> 2.179537 | D18: =D2/AD2*100 -> 0 | E18: =E2/$AD$2*100 -> 3.2897261 | F18: =F2/$AD$2*100 -> 7.9453926 | G18: =G2/$AD$2*100 -> 6.653485 | H18: =H2/$AD$2*100 -> 4.5659738 | I18: =I2/$AD$2*100 -> 3.9889298 | J18: =J2/$AD$2*100 -> 2.9012243 | K18: =K2/$AD$2*100 -> 1.7896184 | L18: =L2/$AD$2*100 -> 0.91307055 | ... AC18: =AC2/$AD$2*100 -> 0.18968108 | AD18: =SUM(C18:AC18) -> 100
B19: Huaibei | C19: =C3/$AD$3*100 -> 18.635837 | D19: =D3/$AD$3*100 -> 5.1418788 | E19: =E3/$AD$3*100 -> 3.9106047 | F19: =F3/$AD$3*100 -> 4.4513431 | G19: =G3/$AD$3*100 -> 3.9913454 | H19: =H3/$AD$3*100 -> 3.5177123 | I19: =I3/$AD$3*100 -> 3.2951997 | J19: =J3/$AD$3*100 -> 0.28308723 | ... AC19: =AC3/$AD$3*100 -> 2.6063456 | AD19: =SUM(C19:AC19) -> 100
B20: Bozhou | C20: =C4/AD4*100 -> 19.524542 | D20: =D4/AD4*100 -> 7.7991436 | E20: =E4/$AD$4*100 -> 12.279191 | F20: =F4/$AD$4*100 -> 4.4903192 | G20: =G4/$AD$4*100 -> 0 | H20: =H4/$AD$4*100 -> 1.9034121 | I20: =I4/$AD$4*100 -> 5.3510297 | J20: =J4/$AD$4*100 -> 0.14742978 | K20: =K4/$AD$4*100 -> 0.010478913 | L20: =L4/$AD$4*100 -> 0.30458637 | ... AC20: =AC4/$AD$4*100 -> 0.35238099 | AD20: =SUM(C20:AC20) -> 100
B21: Suzhou | C21: =C5/AD5*100 -> 18.496955 | D21: =D5/AD5*100 -> 6.8353084 | E21: =E5/$AD$5*100 -> 11.017451 | F21: =F5/$AD$5*100 -> 2.3509136 | G21: =G5/$AD$5*100 -> 1.7533308 | H21: =H5/$AD$5*100 -> 4.3283924 | I21: =I5/$AD$5*100 -> 3.7880586 | J21: =J5/$AD$5*100 -> 0.55738999 | K21: =K5/$AD$5*100 -> 0.05761695 | L21: =L5/$AD$5*100 -> 0.64680754 | ... AC21: =AC5/$AD$5*100 -> 0.60006348 | AD21: =SUM(C21:AC21) -> 100
B22: Bengbu | C22: =C6/AD6*100 -> 18.828355 | D22: =D6/AD6*100 -> 4.8616091 | E22: =E6/$AD$6*100 -> 6.7374885 | F22: =F6/$AD$6*100 -> 2.8143402 | G22: =G6/$AD$6*100 -> 3.8874058 | H22: =H6/$AD$6*100 -> 4.1636278 | I22: =I6/$AD$6*100 -> 2.3901563 | J22: =J6/$AD$6*100 -> 1.7642594 | K22: =K6/$AD$6*100 -> 0.32275864 | L22: =L6/$AD$6*100 -> 0.23922965 | ... AC22: =AC6/$AD$6*100 -> 0.22030575 | AD22: =SUM(C22:AC22) -> 100
B23: Fuyang | C23: =C7/AD7*100 -> 18.180524 | D23: =D7/AD7*100 -> 7.1317027 | E23: =E7/$AD$7*100 -> 10.641384 | F23: =F7/$AD$7*100 -> 1.7262694 | G23: =G7/$AD$7*100 -> 1.7619238 | H23: =H7/$AD$7*100 -> 2.0608263 | I23: =I7/$AD$7*100 -> 5.0071374 | J23: =J7/$AD$7*100 -> 0.3194567 | K23: =K7/$AD$7*100 -> 0 | L23: =L7/$AD$7*100 -> 0.46228849 | ... AC23: =AC7/$AD$7*100 -> 0.37815874 | AD23: =SUM(C23:AC23) -> 100
B24: Huainan | C24: =C8/AD8*100 -> 16.515871 | D24: =D8/AD8*100 -> 5.637942 | E24: =E8/$AD$8*100 -> 2.4027374 | F24: =F8/$AD$8*100 -> 0.46231279 | G24: =G8/$AD$8*100 -> 4.0765074 | H24: =H8/$AD$8*100 -> 4.6098591 | I24: =I8/$AD$8*100 -> 2.1724836 | J24: =J8/$AD$8*100 -> 2.9947094 | K24: =K8/$AD$8*100 -> 0.30945762 | L24: =L8/$AD$8*100 -> 3.698975 | ... AC24: =AC8/$AD$8*100 -> 3.6976251 | AD24: =SUM(C24:AC24) -> 100
B25: Chuzhou | C25: =C9/AD9*100 -> 19.787689 | D25: =D9/AD9*100 -> 8.6801836 | E25: =E9/$AD$9*100 -> 11.998197 | F25: =F9/$AD$9*100 -> 0.64430909 | G25: =G9/$AD$9*100 -> 2.620904 | H25: =H9/$AD$9*100 -> 0 | I25: =I9/$AD$9*100 -> 1.446248 | J25: =J9/$AD$9*100 -> 1.1315845 | K25: =K9/$AD$9*100 -> 0.13805636 | L25: =L9/$AD$9*100 -> 0.24716226 | ... AC25: =AC9/$AD$9*100 -> 0.20847976 | AD25: =SUM(C25:AC25) -> 100
B26: Lu’an | C26: =C10/AD10*100 -> 19.791146 | D26: =D10/AD10*100 -> 7.554463 | E26: =E10/$AD$10*100 -> 11.294747 | F26: =F10/$AD$10*100 -> 3.9458553 | G26: =G10/$AD$10*100 -> 0.68650792 | H26: =H10/$AD$10*100 -> 4.2418013 | I26: =I10/$AD$10*100 -> 4.0768168 | J26: =J10/$AD$10*100 -> 1.276963 | K26: =K10/$AD$10*100 -> 0.16538178 | L26: =L10/$AD$10*100 -> 0.48321428 | ... AC26: =AC10/$AD$10*100 -> 0.42728606 | AD26: =SUM(C26:AC26) -> 100
B27: Ma’anshan | C27: =C11/AD11*100 -> 7.7083512 | D27: =D11/AD11*100 -> 6.7437123 | E27: =E11/$AD$11*100 -> 8.0245549 | F27: =F11/$AD$11*100 -> 6.7802166 | G27: =G11/$AD$11*100 -> 3.9772014 | H27: =H11/$AD$11*100 -> 0.47354935 | I27: =I11/$AD$11*100 -> 1.2927578 | J27: =J11/$AD$11*100 -> 0 | K27: =K11/$AD$11*100 -> 2.5041861 | L27: =L11/$AD$11*100 -> 3.961505 | ... AC27: =AC11/$AD$11*100 -> 3.0168697 | AD27: =SUM(C27:AC27) -> 100
B28: Wuhu | C28: =C12/$AD$12*100 -> 16.990457 | D28: =D12/$AD$12*100 -> 7.6245538 | E28: =E12/$AD$12*100 -> 5.7614253 | F28: =F12/$AD$12*100 -> 6.1316651 | G28: =G12/$AD$12*100 -> 3.1754023 | H28: =H12/$AD$12*100 -> 1.4183681 | I28: =I12/$AD$12*100 -> 0.71595475 | J28: =J12/$AD$12*100 -> 1.3173011 | ... AC28: =AC12/$AD$12*100 -> 0.25939772 | AD28: =SUM(C28:AC28) -> 100
B29: Xuancheng | C29: =C13/$AD$13*100 -> 19.688669 | D29: =D13/$AD$13*100 -> 6.4688096 | E29: =E13/$AD$13*100 -> 10.733242 | F29: =F13/$AD$13*100 -> 1.7746062 | G29: =G13/$AD$13*100 -> 5.0243476 | H29: =H13/$AD$13*100 -> 2.8733112 | I29: =I13/$AD$13*100 -> 0 | J29: =J13/$AD$13*100 -> 1.3763886 | ... AC29: =AC13/$AD$13*100 -> 0.14663779 | AD29: =SUM(C29:AC29) -> 100
B30: Tongling | C30: =C14/$AD$14*100 -> 0 | D30: =D14/$AD$14*100 -> 4.1301066 | E30: =E14/$AD$14*100 -> 0 | F30: =F14/$AD$14*100 -> 3.4049715 | G30: =G14/$AD$14*100 -> 5.7468581 | H30: =H14/$AD$14*100 -> 5.8426644 | I30: =I14/$AD$14*100 -> 2.5272944 | J30: =J14/$AD$14*100 -> 2.4254478 | ... AC30: =AC14/$AD$14*100 -> 4.4123544 | AD30: =SUM(C30:AC30) -> 100
B31: Chizhou | C31: =C15/$AD$15*100 -> 21.009196 | D31: =D15/$AD$15*100 -> 8.998403 | E31: =E15/$AD$15*100 -> 10.961581 | F31: =F15/$AD$15*100 -> 0.5474965 | G31: =G15/$AD$15*100 -> 1.0387365 | H31: =H15/$AD$15*100 -> 3.6356678 | I31: =I15/$AD$15*100 -> 2.8001935 | J31: =J15/$AD$15*100 -> 0.62766451 | ... AC31: =AC15/$AD$15*100 -> 0.45335009 | AD31: =SUM(C31:AC31) -> 100
B32: Anqing | C32: =C16/$AD$16*100 -> 19.718844 | D32: =D16/$AD$16*100 -> 7.3532945 | E32: =E16/$AD$16*100 -> 12.289146 | F32: =F16/$AD$16*100 -> 1.6857388 | G32: =G16/$AD$16*100 -> 3.1309535 | H32: =H16/$AD$16*100 -> 5.9285466 | I32: =I16/$AD$16*100 -> 4.2089324 | J32: =J16/$AD$16*100 -> 0.8386045 | ... AC32: =AC16/$AD$16*100 -> 0.19621548 | AD32: =SUM(C32:AC32) -> 100
B33: Huangshan | C33: =C17/$AD$17*100 -> 22.608319 | D33: =D17/$AD$17*100 -> 7.3997326 | E33: =E17/$AD$17*100 -> 11.634891 | F33: =F17/$AD$17*100 -> 0 | G33: =G17/$AD$17*100 -> 1.8809628 | H33: =H17/$AD$17*100 -> 5.5845563 | I33: =I17/$AD$17*100 -> 0.58218151 | J33: =J17/$AD$17*100 -> 1.6866365 | ... AC33: =AC17/$AD$17*100 -> 0 | AD33: =SUM(C33:AC33) -> 100

Sheet obstacle degree results in 2009
A1: Obstacle degree for each indicator, the red ones are the top 5 degrees
A2: Hefei | B2: C18 | C2: C20 | D2: C4 | E2: C19 | F2: C5 | G2: C14 | H2: C15 | I2: C6 | J2: C13 | K2: C21 | L2: C7 | M2: C3 | N2: C8 | O2: C1 | P2: C9 | Q2: C22 | R2: C10 | S2: C24 | T2: C26 | U2: C27 | V2: C23 | W2: C12 | X2: C2 | Y2: C11 | Z2: C16 | AA2: C17 | AB2: C25
B3: 21.163456 | C3: 14.895764 | D3: 7.9453926 | E3: 6.7156099 | F3: 6.653485 | G3: 6.5118627 | H3: 5.3884355 | I3: 4.5659738 | J3: 4.5479343 | K3: 4.0562911 | L3: 3.9889298 | M3: 3.2897261 | N3: 2.9012243 | O3: 2.179537 | P3: 1.7896184 | Q3: 1.0234221 | R3: 0.91307055 | S3: 0.8199418 | T3: 0.25906802 | U3: 0.18968108 | V3: 0.14520111 | W3: 0.056375471 | X3: 0 | Y3: 0 | Z3: 0 | AA3: 0 | AB3: 0
A4: Huaibei | B4: C1 | C4: C18 | D4: C20 | E4: C21 | F4: C2 | G4: C14 | H4: C4 | I4: C5 | J4: C3 | K4: C6 | L4: C7 | M4: C17 | N4: C27 | O4: C23 | P4: C19 | Q4: C10 | R4: C24 | S4: C25 | T4: C15 | U4: C26 | V4: C9 | W4: C22 | X4: C13 | Y4: C8 | Z4: C16 | AA4: C11 | AB4: C12
B5: 18.635837 | C5: 12.544759 | D5: 11.280206 | E5: 8.6067038 | F5: 5.1418788 | G5: 4.5014642 | H5: 4.4513431 | I5: 3.9913454 | J5: 3.9106047 | K5: 3.5177123 | L5: 3.2951997 | M5: 3.2607951 | N5: 2.6063456 | O5: 2.3845517 | P5: 2.073997 | Q5: 1.9052163 | R5: 1.755871 | S5: 1.3296796 | T5: 1.1998928 | U5: 1.0392427 | V5: 0.8773528 | W5: 0.59810506 | X5: 0.40138957 | Y5: 0.28308723 | Z5: 0.20618974 | AA5: 0.18968601 | AB5: 0.01154327
A6: Bozhou | B6: C1 | C6: C20 | D6: C3 | E6: C21 | F6: C18 | G6: C2 | H6: C14 | I6: C7 | J6: C17 | K6: C4 | L6: C6 | M6: C25 | N6: C24 | O6: C27 | P6: C10 | Q6: C23 | R6: C22 | S6: C8 | T6: C19 | U6: C26 | V6: C13 | W6: C11 | X6: C9 | Y6: C12 | Z6: C5 | AA6: C15 | AB6: C16
B7: 19.524542 | C7: 14.443684 | D7: 12.279191 | E7: 10.049006 | F7: 10.016383 | G7: 7.7991436 | H7: 6.0898988 | I7: 5.3510297 | J7: 5.0865434 | K7: 4.4903192 | L7: 1.9034121 | M7: 0.91933374 | N7: 0.52196346 | O7: 0.35238099 | P7: 0.30458637 | Q7: 0.25227446 | R7: 0.18578661 | S7: 0.14742978 | T7: 0.10924565 | U7: 0.073854111 | V7: 0.051137182 | W7: 0.036616371 | X7: 0.010478913 | Y7: 0.0017592404 | Z7: 0 | AA7: 0 | AB7: 0
A8: Suzhou | B8: C1 | C8: C20 | D8: C3 | E8: C18 | F8: C21 | G8: C14 | H8: C2 | I8: C17 | J8: C6 | K8: C7 | L8: C16 | M8: C4 | N8: C5 | O8: C25 | P8: C24 | Q8: C10 | R8: C27 | S8: C15 | T8: C8 | U8: C22 | V8: C23 | W8: C19 | X8: C26 | Y8: C11 | Z8: C13 | AA8: C9 | AB8: C12
B9: 18.496955 | C9: 12.874891 | D9: 11.017451 | E9: 8.3844278 | F9: 8.3306673 | G9: 7.3075338 | H9: 6.8353084 | I9: 4.9732241 | J9: 4.3283924 | K9: 3.7880586 | L9: 2.9910035 | M9: 2.3509136 | N9: 1.7533308 | O9: 1.4080316 | P9: 0.74738245 | Q9: 0.64680754 | R9: 0.60006348 | S9: 0.58390551 | T9: 0.55738999 | U9: 0.48056363 | V9: 0.47351116 | W9: 0.36127828 | X9: 0.30126167 | Y9: 0.17823322 | Z9: 0.14058559 | AA9: 0.05761695 | AB9: 0.031212386
A10: Bengbu | B10: C1 | C10: C20 | D10: C18 | E10: C14 | F10: C21 | G10: C3 | H10: C17 | I10: C2 | J10: C6 | K10: C5 | L10: C25 | M10: C4 | N10: C7 | O10: C8 | P10: C22 | Q10: C16 | R10: C19 | S10: C23 | T10: C15 | U10: C11 | V10: C24 | W10: C26 | X10: C9 | Y10: C10 | Z10: C27 | AA10: C13 | AB10: C12
B11: 18.828355 | C11: 11.288811 | D11: 10.923086 | E11: 7.9691246 | F11: 7.3199741 | G11: 6.7374885 | H11: 6.0961846 | I11: 4.8616091 | J11: 4.1636278 | K11: 3.8874058 | L11: 3.1024771 | M11: 2.8143402 | N11: 2.3901563 | O11: 1.7642594 | P11: 1.7329276 | Q11: 1.2261539 | R11: 0.94032248 | S11: 0.73995644 | T11: 0.72744357 | U11: 0.68986972 | V11: 0.55937593 | W11: 0.37897152 | X11: 0.32275864 | Y11: 0.23922965 | Z11: 0.22030575 | AA11: 0.048713344 | AB11: 0.027071988
A12: Fuyang | B12: C1 | C12: C20 | D12: C3 | E12: C18 | F12: C21 | G12: C14 | H12: C2 | I12: C17 | J12: C7 | K12: C6 | L12: C5 | M12: C4 | N12: C23 | O12: C24 | P12: C25 | Q12: C13 | R12: C16 | S12: C15 | T12: C10 | U12: C27 | V12: C22 | W12: C26 | X12: C8 | Y12: C11 | Z12: C12 | AA12: C9 | AB12: C19
B13: 18.180524 | C13: 13.075064 | D13: 10.641384 | E13: 9.0685288 | F13: 9.0552268 | G13: 8.2326852 | H13: 7.1317027 | I13: 5.6862166 | J13: 5.0071374 | K13: 2.0608263 | L13: 1.7619238 | M13: 1.7262694 | N13: 1.4376732 | O13: 1.1473692 | P13: 1.1251705 | Q13: 1.0744519 | R13: 0.85669913 | S13: 0.68575756 | T13: 0.46228849 | U13: 0.37815874 | V13: 0.3434766 | W13: 0.32143334 | X13: 0.3194567 | Y13: 0.17658106 | Z13: 0.043994642 | AA13: 0 | AB13: 0
A14: Huainan | B14: C1 | C14: C18 | D14: C21 | E14: C20 | F14: C2 | G14: C14 | H14: C6 | I14: C16 | J14: C5 | K14: C10 | L14: C27 | M14: C25 | N14: C8 | O14: C23 | P14: C26 | Q14: C3 | R14: C7 | S14: C17 | T14: C19 | U14: C24 | V14: C13 | W14: C22 | X14: C15 | Y14: C11 | Z14: C4 | AA14: C12 | AB14: C9
B15: 16.515871 | C15: 12.467174 | D15: 7.9613208 | E15: 6.0583027 | F15: 5.637942 | G15: 5.2132757 | H15: 4.6098591 | I15: 4.4799656 | J15: 4.0765074 | K15: 3.698975 | L15: 3.6976251 | M15: 3.4779165 | N15: 2.9947094 | O15: 2.7642333 | P15: 2.6813507 | Q15: 2.4027374 | R15: 2.1724836 | S15: 2.0823034 | T15: 1.4808636 | U15: 1.2730596 | V15: 1.0786826 | W15: 0.75577429 | X15: 0.666897 | Y15: 0.57843218 | Z15: 0.46231279 | AA15: 0.40196795 | AB15: 0.30945762
A16: Chuzhou | B16: C1 | C16: C20 | D16: C3 | E16: C2 | F16: C21 | G16: C14 | H16: C18 | I16: C25 | J16: C17 | K16: C5 | L16: C23 | M16: C7 | N16: C11 | O16: C8 | P16: C16 | Q16: C15 | R16: C4 | S16: C24 | T16: C13 | U16: C26 | V16: C10 | W16: C27 | X16: C9 | Y16: C22 | Z16: C19 | AA16: C12 | AB16: C6
B17: 19.787689 | C17: 14.070629 | D17: 11.998197 | E17: 8.6801836 | F17: 8.2340685 | G17: 8.0260162 | H17: 6.6186644 | I17: 4.7939001 | J17: 4.6325034 | K17: 2.620904 | L17: 1.8363817 | M17: 1.446248 | N17: 1.3491351 | O17: 1.1315845 | P17: 1.1274258 | Q17: 0.82647945 | R17: 0.64430909 | S17: 0.61162985 | T17: 0.5182432 | U17: 0.28478472 | V17: 0.24716226 | W17: 0.20847976 | X17: 0.13805636 | Y17: 0.11764157 | Z17: 0.042359907 | AA17: 0.0073232076 | AB17: 0
A18: Lu’an | B18: C1 | C18: C20 | D18: C3 | E18: C18 | F18: C21 | G18: C2 | H18: C14 | I18: C6 | J18: C7 | K18: C4 | L18: C25 | M18: C16 | N18: C8 | O18: C15 | P18: C17 | Q18: C24 | R18: C5 | S18: C23 | T18: C11 | U18: C10 | V18: C27 | W18: C22 | X18: C13 | Y18: C9 | Z18: C26 | AA18: C19 | AB18: C12
B19: 19.791146 | C19: 13.922697 | D19: 11.294747 | E19: 8.431281 | F19: 8.3475445 | G19: 7.554463 | H19: 6.7074276 | I19: 4.2418013 | J19: 4.0768168 | K19: 3.9458553 | L19: 2.6485497 | M19: 1.6324118 | N19: 1.276963 | O19: 1.0858966 | P19: 0.73869171 | Q19: 0.72402585 | R19: 0.68650792 | S19: 0.62199774 | T19: 0.61334724 | U19: 0.48321428 | V19: 0.42728606 | W19: 0.22288307 | X19: 0.20176611 | Y19: 0.16538178 | Z19: 0.11433415 | AA19: 0.036876269 | AB19: 0.0060876131
A20: Ma’anshan | B20: C18 | C20: C3 | D20: C1 | E20: C4 | F20: C2 | G20: C20 | H20: C23 | I20: C17 | J20: C25 | K20: C14 | L20: C26 | M20: C5 | N20: C10 | O20: C16 | P20: C24 | Q20: C27 | R20: C9 | S20: C22 | T20: C19 | U20: C15 | V20: C7 | W20: C13 | X20: C6 | Y20: C11 | Z20: C12 | AA20: C8 | AB20: C21
B21: 13.371737 | C21: 8.0245549 | D21: 7.7083512 | E21: 6.7802166 | F21: 6.7437123 | G21: 6.5819906 | H21: 5.0903334 | I21: 4.6206617 | J21: 4.3125757 | K21: 4.1135728 | L21: 4.0223499 | M21: 3.9772014 | N21: 3.961505 | O21: 3.3686862 | P21: 3.2472164 | Q21: 3.0168697 | R21: 2.5041861 | S21: 2.1769698 | T21: 2.095726 | U21: 1.3385896 | V21: 1.2927578 | W21: 0.62455443 | X21: 0.47354935 | Y21: 0.45270258 | Z21: 0.099429173 | AA21: 0 | AB21: 0
A22: Wuhu | B22: C1 | C22: C18 | D22: C20 | E22: C14 | F22: C2 | G22: C21 | H22: C4 | I22: C3 | J22: C15 | K22: C16 | L22: C5 | M22: C17 | N22: C19 | O22: C23 | P22: C25 | Q22: C6 | R22: C8 | S22: C11 | T22: C26 | U22: C24 | V22: C7 | W22: C13 | X22: C10 | Y22: C9 | Z22: C27 | AA22: C22 | AB22: C12
B23: 16.990457 | C23: 10.488456 | D23: 9.5948179 | E23: 8.7245386 | F23: 7.6245538 | G23: 6.4650769 | H23: 6.1316651 | I23: 5.7614253 | J23: 3.9519916 | K23: 3.3857018 | L23: 3.1754023 | M23: 3.1071221 | N23: 2.6050738 | O23: 1.7489233 | P23: 1.6826582 | Q23: 1.4183681 | R23: 1.3173011 | S23: 1.2333106 | T23: 1.1690487 | U23: 0.91492169 | V23: 0.71595475 | W23: 0.56119691 | X23: 0.47996547 | Y23: 0.26407218 | Z23: 0.25939772 | AA23: 0.17196218 | AB23: 0.056637722
A24: Xuancheng | B24: C1 | C24: C20 | D24: C3 | E24: C14 | F24: C21 | G24: C2 | H24: C5 | I24: C25 | J24: C16 | K24: C23 | L24: C6 | M24: C17 | N24: C4 | O24: C18 | P24: C8 | Q24: C15 | R24: C22 | S24: C26 | T24: C24 | U24: C11 | V24: C19 | W24: C13 | X24: C27 | Y24: C10 | Z24: C9 | AA24: C12 | AB24: C7
B25: 19.688669 | C25: 13.377505 | D25: 10.733242 | E25: 9.2384033 | F25: 8.2850882 | G25: 6.4688096 | H25: 5.0243476 | I25: 4.0373355 | J25: 3.2601581 | K25: 3.0909183 | L25: 2.8733112 | M25: 2.6360663 | N25: 1.7746062 | O25: 1.7525627 | P25: 1.3763886 | Q25: 1.362934 | R25: 1.314237 | S25: 1.0764697 | T25: 1.0470907 | U25: 0.6870047 | V25: 0.28326353 | W25: 0.20842529 | X25: 0.14663779 | Y25: 0.13069795 | Z25: 0.099656733 | AA25: 0.026170661 | AB25: 0
A26: Tongling | B26: C18 | C26: C14 | D26: C21 | E26: C25 | F26: C23 | G26: C6 | H26: C5 | I26: C27 | J26: C17 | K26: C2 | L26: C16 | M26: C4 | N26: C10 | O26: C12 | P26: C26 | Q26: C24 | R26: C7 | S26: C15 | T26: C19 | U26: C8 | V26: C13 | W26: C11 | X26: C22 | Y26: C9 | Z26: C1 | AA26: C3 | AB26: C20
B27: 15.447661 | C27: 9.3399916 | D27: 7.8340472 | E27: 6.2994179 | F27: 6.1351015 | G27: 5.8426644 | H27: 5.7468581 | I27: 4.4123544 | J27: 4.1431062 | K27: 4.1301066 | L27: 3.7032578 | M27: 3.4049715 | N27: 2.9786134 | O27: 2.9657454 | P27: 2.8976012 | Q27: 2.6496474 | R27: 2.5272944 | S27: 2.510071 | T27: 2.4349912 | U27: 2.4254478 | V27: 1.101925 | W27: 0.45298556 | X27: 0.37296627 | Y27: 0.24317346 | Z27: 0 | AA27: 0 | AB27: 0
A28: Chizhou | B28: C1 | C28: C20 | D28: C3 | E28: C21 | F28: C2 | G28: C17 | H28: C6 | I28: C22 | J28: C7 | K28: C18 | L28: C26 | M28: C15 | N28: C19 | O28: C23 | P28: C24 | Q28: C25 | R28: C5 | S28: C11 | T28: C8 | U28: C4 | V28: C27 | W28: C9 | X28: C10 | Y28: C12 | Z28: C13 | AA28: C14 | AB28: C16
B29: 21.009196 | C29: 14.89712 | D29: 10.961581 | E29: 9.7676518 | F29: 8.998403 | G29: 5.9512763 | H29: 3.6356678 | I29: 3.2893135 | J29: 2.8001935 | K29: 2.6285884 | L29: 2.5818767 | M29: 2.1420383 | N29: 2.0751781 | O29: 1.9680909 | P29: 1.795845 | Q29: 1.6004268 | R29: 1.0387365 | S29: 0.65010564 | T29: 0.62766451 | U29: 0.5474965 | V29: 0.45335009 | W29: 0.28741436 | X29: 0.21744521 | Y29: 0.075339594 | Z29: 0 | AA29: 0 | AB29: 0
A30: Anqing | B30: C1 | C30: C20 | D30: C3 | E30: C21 | F30: C2 | G30: C14 | H30: C6 | I30: C7 | J30: C17 | K30: C5 | L30: C11 | M30: C25 | N30: C4 | O30: C15 | P30: C13 | Q30: C23 | R30: C24 | S30: C8 | T30: C26 | U30: C10 | V30: C9 | W30: C27 | X30: C16 | Y30: C12 | Z30: C19 | AA30: C18 | AB30: C22
B31: 19.718844 | C31: 13.38763 | D31: 12.289146 | E31: 9.7073768 | F31: 7.3532945 | G31: 7.2554845 | H31: 5.9285466 | I31: 4.2089324 | J31: 3.240343 | K31: 3.1309535 | L31: 2.4741984 | M31: 2.0107114 | N31: 1.6857388 | O31: 1.6049029 | P31: 1.2052274 | Q31: 1.1901151 | R31: 1.0309834 | S31: 0.8386045 | T31: 0.71802934 | U31: 0.3273101 | V31: 0.24697242 | W31: 0.19621548 | X31: 0.098495258 | Y31: 0.090750949 | Z31: 0.061192296 | AA31: 0 | AB31: 0
A32: Huangshan | B32: C1 | C32: C20 | D32: C3 | E32: C21 | F32: C2 | G32: C18 | H32: C6 | I32: C17 | J32: C19 | K32: C25 | L32: C14 | M32: C5 | N32: C22 | O32: C8 | P32: C16 | Q32: C7 | R32: C15 | S32: C11 | T32: C9 | U32: C4 | V32: C10 | W32: C12 | X32: C13 | Y32: C23 | Z32: C24 | AA32: C26 | AB32: C27
B33: 22.608319 | C33: 16.556923 | D33: 11.634891 | E33: 8.7014829 | F33: 7.3997326 | G33: 5.7712781 | H33: 5.5845563 | I33: 5.0281563 | J33: 3.4459476 | K33: 2.963455 | L33: 2.3025025 | M33: 1.8809628 | N33: 1.7952552 | O33: 1.6866365 | P33: 1.3288743 | Q33: 0.58218151 | R33: 0.33122976 | S33: 0.25198303 | T33: 0.14563341 | U33: 0 | V33: 0 | W33: 0 | X33: 0 | Y33: 0 | Z33: 0 | AA33: 0 | AB33: 0

Sheet obstacle degree results 4 years
A1: The top 5 ODs and OFs of the 16 cities in 2009 | G1: The top 5 ODs and OFs of the 16 citiesin 2012 | M1: The top 5 ODs and OFs of the 16 citiesin 2015 | S1: The top 5 ODs and OFs of the 16 citiesin 2018
A2: Hefei | B2: 21.163456 | C2: 14.895764 | D2: 7.9453926 | E2: 6.7156099 | F2: 6.653485 | G2: Hefei | H2: 14.338772 | I2: 12.529796 | J2: 8.8138145 | K2: 8.2621461 | L2: 7.5742751 | M2: Hefei | N2: 19.907094 | O2: 10.217823 | P2: 9.8625947 | Q2: 8.9204085 | R2: 7.2099643 | S2: Hefei | T2: 23.279357 | U2: 11.695895 | V2: 10.635079 | W2: 9.2581284 | X2: 8.9556966
B3: C18 | C3: C20 | D3: C4 | E3: C19 | F3: C5 | H3: C19 | I3: C18 | J3: C20 | K3: C7 | L3: C5 | N3: C21 | O3: C14 | P3: C13 | Q3: C18 | R3: C6 | T3: C18 | U3: C14 | V3: C13 | W3: C16 | X3: C7
A4: Huaibei | B4: 18.635837 | C4: 12.544759 | D4: 11.280206 | E4: 8.6067038 | F4: 5.1418788 | G4: Huaibei | H4: 12.204981 | I4: 10.989769 | J4: 10.422412 | K4: 10.236941 | L4: 6.9628514 | M4: Huaibei | N4: 15.161231 | O4: 8.387745 | P4: 7.1384791 | Q4: 7.1193215 | R4: 6.1009893 | S4: Huaibei | T4: 14.558693 | U4: 9.717189 | V4: 9.4677964 | W4: 7.0246328 | X4: 6.1625906
B5: C1 | C5: C18 | D5: C20 | E5: C21 | F5: C2 | H5: C18 | I5: C1 | J5: C19 | K5: C20 | L5: C4 | N5: C21 | O5: C20 | P5: C13 | Q5: C18 | R5: C6 | T5: C18 | U5: C13 | V5: C5 | W5: C20 | X5: C7
A6: Bozhou | B6: 19.524542 | C6: 14.443684 | D6: 12.279191 | E6: 10.049006 | F6: 10.016383 | G6: Bozhou | H6: 18.164512 | I6: 14.607351 | J6: 11.369085 | K6: 11.187058 | L6: 9.1237405 | M6: Bozhou | N6: 17.505092 | O6: 14.687021 | P6: 8.4081903 | Q6: 8.2697929 | R6: 6.6696372 | S6: Bozhou | T6: 13.750929 | U6: 11.62055 | V6: 9.3563634 | W6: 8.4413831 | X6: 8.1996404
B7: C1 | C7: C20 | D7: C3 | E7: C21 | F7: C18 | H7: C1 | I7: C20 | J7: C18 | K7: C3 | L7: C21 | N7: C21 | O7: C20 | P7: C1 | Q7: C2 | R7: C3 | T7: C18 | U7: C20 | V7: C13 | W7: C1 | X7: C3
A8: Suzhou | B8: 18.496955 | C8: 12.874891 | D8: 11.017451 | E8: 8.3844278 | F8: 8.3306673 | G8: Suzhou | H8: 17.144681 | I8: 13.368761 | J8: 9.6430928 | K8: 9.3180336 | L8: 7.5802699 | M8: Suzhou | N8: 14.681103 | O8: 12.498651 | P8: 7.7634023 | Q8: 7.4556574 | R8: 6.7107974 | S8: Suzhou | T8: 13.947998 | U8: 11.796978 | V8: 10.067078 | W8: 9.8627566 | X8: 8.8474743
B9: C1 | C9: C20 | D9: C3 | E9: C18 | F9: C21 | H9: C1 | I9: C20 | J9: C3 | K9: C18 | L9: C21 | N9: C21 | O9: C20 | P9: C1 | Q9: C14 | R9: C2 | T9: C18 | U9: C20 | V9: C13 | W9: C5 | X9: C1
A10: Bengbu | B10: 18.828355 | C10: 11.288811 | D10: 10.923086 | E10: 7.9691246 | F10: 7.3199741 | G10: Bengbu | H10: 16.082009 | I10: 11.507617 | J10: 10.344876 | K10: 8.4710651 | L10: 7.1392767 | M10: Bengbu | N10: 16.141126 | O10: 9.6486699 | P10: 8.641566 | Q10: 6.8172151 | R10: 6.7405047 | S10: Bengbu | T10: 16.125984 | U10: 9.4056324 | V10: 8.2192728 | W10: 7.5677459 | X10: 6.8729364
B11: C1 | C11: C20 | D11: C18 | E11: C14 | F11: C21 | H11: C1 | I11: C20 | J11: C18 | K11: C19 | L11: C7 | N11: C21 | O11: C20 | P11: C14 | Q11: C7 | R11: C13 | T11: C18 | U11: C13 | V11: C20 | W11: C14 | X11: C1
A12: Fuyang | B12: 18.180524 | C12: 13.075064 | D12: 10.641384 | E12: 9.0685288 | F12: 9.0552268 | G12: Fuyang | H12: 16.991737 | I12: 13.630347 | J12: 11.533987 | K12: 9.6908531 | L12: 8.5141088 | M12: Fuyang | N12: 16.309504 | O12: 13.289208 | P12: 9.2909241 | Q12: 8.9224388 | R12: 7.1088619 | S12: Fuyang | T12: 14.596342 | U12: 11.038512 | V12: 9.8131515 | W12: 9.3135591 | X12: 7.4860137
B13: C1 | C13: C20 | D13: C3 | E13: C18 | F13: C21 | H13: C1 | I13: C20 | J13: C18 | K13: C3 | L13: C21 | N13: C21 | O13: C20 | P13: C1 | Q13: C14 | R13: C2 | T13: C18 | U13: C20 | V13: C5 | W13: C1 | X13: C13
A14: Huainan | B14: 16.515871 | C14: 12.467174 | D14: 7.9613208 | E14: 6.0583027 | F14: 5.637942 | G14: Huainan | H14: 14.35059 | I14: 11.412028 | J14: 7.4466611 | K14: 6.8138492 | L14: 6.2578624 | M14: Huainan | N14: 12.661982 | O14: 8.6495732 | P14: 7.4382227 | Q14: 6.6235334 | R14: 6.172497 | S14: Huainan | T14: 12.854292 | U14: 8.3251474 | V14: 7.8141945 | W14: 7.7287603 | X14: 7.0988977
B15: C1 | C15: C18 | D15: C21 | E15: C20 | F15: C2 | H15: C1 | I15: C18 | J15: C19 | K15: C20 | L15: C7 | N15: C21 | O15: C20 | P15: C14 | Q15: C1 | R15: C18 | T15: C18 | U15: C5 | V15: C20 | W15: C13 | X15: C1
A16: Chuzhou | B16: 19.787689 | C16: 14.070629 | D16: 11.998197 | E16: 8.6801836 | F16: 8.2340685 | G16: Chuzhou | H16: 15.669169 | I16: 15.376111 | J16: 12.450442 | K16: 10.67086 | L16: 7.3332057 | M16: Chuzhou | N16: 16.196469 | O16: 13.326836 | P16: 9.4252517 | Q16: 7.0619342 | R16: 6.9960148 | S16: Chuzhou | T16: 12.123159 | U16: 11.269827 | V16: 8.825087 | W16: 8.5746687 | X16: 8.5555991
B17: C1 | C17: C20 | D17: C3 | E17: C2 | F17: C21 | H17: C1 | I17: C20 | J17: C3 | K17: C18 | L17: C21 | N17: C21 | O17: C20 | P17: C1 | Q17: C3 | R17: C14 | T17: C18 | U17: C20 | V17: C3 | W17: C13 | X17: C1
A18: Lu’an | B18: 19.791146 | C18: 13.922697 | D18: 11.294747 | E18: 8.431281 | F18: 8.3475445 | G18: Lu’an | H18: 17.33103 | I18: 15.185753 | J18: 11.251915 | K18: 8.4432399 | L18: 6.5666507 | M18: Lu’an | N18: 16.360807 | O18: 13.381262 | P18: 9.0438621 | Q18: 6.6455106 | R18: 6.3470987 | S18: Lu’an | T18: 12.187723 | U18: 9.9454565 | V18: 9.3670711 | W18: 8.6493421 | X18: 7.9304611
B19: C1 | C19: C20 | D19: C3 | E19: C18 | F19: C21 | H19: C1 | I19: C20 | J19: C3 | K19: C21 | L19: C18 | N19: C21 | O19: C20 | P19: C1 | Q19: C2 | R19: C17 | T19: C20 | U19: C1 | V19: C18 | W19: C5 | X19: C16
A20: Ma’anshan | B20: 13.371737 | C20: 8.0245549 | D20: 7.7083512 | E20: 6.7802166 | F20: 6.7437123 | G20: Ma’anshan | H20: 11.988295 | I20: 11.767768 | J20: 9.7498048 | K20: 6.0229797 | L20: 5.7234182 | M20: Ma’anshan | N20: 15.116218 | O20: 7.1131426 | P20: 6.1828 | Q20: 5.5101624 | R20: 5.3855941 | S20: Ma’anshan | T20: 14.206686 | U20: 7.8434927 | V20: 6.7646123 | W20: 6.7573919 | X20: 5.9841285
B21: C18 | C21: C3 | D21: C1 | E21: C4 | F21: C2 | H21: C18 | I21: C19 | J21: C3 | K21: C20 | L21: C2 | N21: C21 | O21: C6 | P21: C18 | Q21: C13 | R21: C23 | T21: C18 | U21: C13 | V21: C6 | W21: C16 | X21: C3
A22: Wuhu | B22: 16.990457 | C22: 10.488456 | D22: 9.5948179 | E22: 8.7245386 | F22: 7.6245538 | G22: Wuhu | H22: 17.103546 | I22: 14.408653 | J22: 10.507243 | K22: 7.5525292 | L22: 7.3773619 | M22: Wuhu | N22: 19.711723 | O22: 12.930047 | P22: 7.9676097 | Q22: 6.9359667 | R22: 6.5747097 | S22: Wuhu | T22: 18.569908 | U22: 11.405888 | V22: 10.713664 | W22: 10.124894 | X22: 8.8316244
B23: C1 | C23: C18 | D23: C20 | E23: C14 | F23: C2 | H23: C1 | I23: C18 | J23: C19 | K23: C3 | L23: C20 | N23: C21 | O23: C14 | P23: C1 | Q23: C7 | R23: C18 | T23: C18 | U23: C13 | V23: C14 | W23: C16 | X23: C1
A24: Xuancheng | B24: 19.688669 | C24: 13.377505 | D24: 10.733242 | E24: 9.2384033 | F24: 8.2850882 | G24: Xuancheng | H24: 18.917053 | I24: 13.902843 | J24: 10.953781 | K24: 6.9541229 | L24: 6.0024779 | M24: Xuancheng | N24: 16.384068 | O24: 11.807526 | P24: 8.8519721 | Q24: 6.7761644 | R24: 6.238567 | S24: Xuancheng | T24: 10.111122 | U24: 9.8190329 | V24: 9.5152157 | W24: 7.5429307 | X24: 6.8065872
B25: C1 | C25: C20 | D25: C3 | E25: C14 | F25: C21 | H25: C1 | I25: C20 | J25: C3 | K25: C21 | L25: C7 | N25: C21 | O25: C20 | P25: C1 | Q25: C14 | R25: C2 | T25: C18 | U25: C20 | V25: C1 | W25: C3 | X25: C16
A26: Tongling | B26: 15.447661 | C26: 9.3399916 | D26: 7.8340472 | E26: 6.2994179 | F26: 6.1351015 | G26: Tongling | H26: 16.614654 | I26: 15.078861 | J26: 8.1729508 | K26: 6.8985544 | L26: 6.5670781 | M26: Tongling | N26: 15.445147 | O26: 7.5065441 | P26: 6.8165499 | Q26: 6.7121866 | R26: 5.6444048 | S26: Tongling | T26: 16.830493 | U26: 11.735963 | V26: 7.5190503 | W26: 5.8223324 | X26: 5.2419777
B27: C18 | C27: C14 | D27: C21 | E27: C25 | F27: C23 | H27: C18 | I27: C19 | J27: C7 | K27: C1 | L27: C15 | N27: C21 | O27: C7 | P27: C18 | Q27: C14 | R27: C2 | T27: C18 | U27: C5 | V27: C16 | W27: C15 | X27: C13
A28: Chizhou | B28: 21.009196 | C28: 14.89712 | D28: 10.961581 | E28: 9.7676518 | F28: 8.998403 | G28: Chizhou | H28: 20.050035 | I28: 15.324456 | J28: 10.234927 | K28: 8.0133039 | L28: 7.3610459 | M28: Chizhou | N28: 20.122764 | O28: 15.072808 | P28: 10.226933 | Q28: 6.8033938 | R28: 5.3299735 | S28: Chizhou | T28: 14.916734 | U28: 11.652821 | V28: 8.5333405 | W28: 7.1661222 | X28: 7.0551925
B29: C1 | C29: C20 | D29: C3 | E29: C21 | F29: C2 | H29: C1 | I29: C20 | J29: C3 | K29: C19 | L29: C21 | N29: C21 | O29: C20 | P29: C1 | Q29: C2 | R29: C23 | T29: C20 | U29: C1 | V29: C3 | W29: C13 | X29: C16
A30: Anqing | B30: 19.718844 | C30: 13.38763 | D30: 12.289146 | E30: 9.7073768 | F30: 7.3532945 | G30: Anqing | H30: 18.333614 | I30: 13.309817 | J30: 11.422949 | K30: 7.7918401 | L30: 7.5133725 | M30: Anqing | N30: 16.158985 | O30: 10.538691 | P30: 10.490953 | Q30: 8.3812427 | R30: 8.1749086 | S30: Anqing | T30: 10.902798 | U30: 10.848944 | V30: 10.21703 | W30: 9.6691723 | X30: 8.8649791
B31: C1 | C31: C20 | D31: C3 | E31: C21 | F31: C2 | H31: C1 | I31: C20 | J31: C3 | K31: C21 | L31: C4 | N31: C20 | O31: C14 | P31: C1 | Q31: C2 | R31: C3 | T31: C18 | U31: C20 | V31: C3 | W31: C5 | X31: C1
A32: Huangshan | B32: 22.608319 | C32: 16.556923 | D32: 11.634891 | E32: 8.7014829 | F32: 7.3997326 | G32: Huangshan | H32: 20.989312 | I32: 16.761051 | J32: 12.72968 | K32: 11.019423 | L32: 7.0688888 | M32: Huangshan | N32: 24.514214 | O32: 17.894941 | P32: 9.4735262 | Q32: 7.5940908 | R32: 6.7241609 | S32: Huangshan | T32: 19.726645 | U32: 10.518478 | V32: 9.4886326 | W32: 9.1985574 | X32: 8.693108
B33: C1 | C33: C20 | D33: C3 | E33: C21 | F33: C2 | H33: C1 | I33: C20 | J33: C19 | K33: C3 | L33: C4 | N33: C21 | O33: C20 | P33: C2 | Q33: C4 | R33: C14 | T33: C20 | U33: C14 | V33: C5 | W33: C2 | X33: C1
A34: 2009 | C34: 2012 | F34: 2015 | I34: 2018
A35: regions | C35: regions | F35: regions | I35: regions
A36: Hefei | B36: =B2+C2+D2+E2+F2 -> 57.373707 | C36: Hefei | E36: =H2+I2+J2+K2+L2 -> 51.518803 | F36: Hefei | H36: =N2+O2+P2+Q2+R2 -> 56.117885 | I36: Hefei | K36: =T2+U2+V2+W2+X2 -> 63.824156
A37: Huaibei | B37: =B4+C4+D4+E4+F4 -> 56.209385 | C37: Huaibei | E37: =H4+I4+J4+K4+L4 -> 50.816955 | F37: Huaibei | H37: =N4+O4+P4+Q4+R4 -> 43.907766 | I37: Huaibei | K37: =T4+U4+V4+W4+X4 -> 46.930901
A38: Bozhou | B38: =B6+C6+D6+E6+F6 -> 66.312806 | C38: Bozhou | E38: =H6+I6+J6+K6+L6 -> 64.451747 | F38: Bozhou | H38: =N6+O6+P6+Q6+R6 -> 55.539733 | I38: Bozhou | K38: =T6+U6+V6+W6+X6 -> 51.368866
A39: Suzhou | B39: =B8+C8+D8+E8+F8 -> 59.104391 | C39: Suzhou | E39: =H8+I8+J8+K8+L8 -> 57.054838 | F39: Suzhou | H39: =N8+O8+P8+Q8+R8 -> 49.109611 | I39: Suzhou | K39: =T8+U8+V8+W8+X8 -> 54.522285
A40: Bengbu | B40: =B10+C10+D10+E10+F10 -> 56.329351 | C40: Bengbu | E40: =H10+I10+J10+K10+L10 -> 53.544843 | F40: Bengbu | H40: =N10+O10+P10+Q10+R10 -> 47.989081 | I40: Bengbu | K40: =T10+U10+V10+W10+X10 -> 48.191572
A41: Fuyang | B41: =B12+C12+D12+E12+F12 -> 60.020728 | C41: Fuyang | E41: =H12+I12+J12+K12+L12 -> 60.361033 | F41: Fuyang | H41: =N12+O12+P12+Q12+R12 -> 54.920937 | I41: Fuyang | K41: =T12+U12+V12+W12+X12 -> 52.247578
A42: Huainan | B42: =B14+C14+D14+E14+F14 -> 48.64061 | C42: Huainan | E42: =H14+I14+J14+K14+L14 -> 46.28099 | F42: Huainan | H42: =N14+O14+P14+Q14+R14 -> 41.545808 | I42: Huainan | K42: =T14+U14+V14+W14+X14 -> 43.821292
A43: Chuzhou | B43: =B16+C16+D16+E16+F16 -> 62.770767 | C43: Chuzhou | E43: =H16+I16+J16+K16+L16 -> 61.499788 | F43: Chuzhou | H43: =N16+O16+P16+Q16+R16 -> 53.006506 | I43: Chuzhou | K43: =T16+U16+V16+W16+X16 -> 49.348341
A44: Lu’an | B44: =B18+C18+D18+E18+F18 -> 61.787415 | C44: Lu’an | E44: =H18+I18+J18+K18+L18 -> 58.778589 | F44: Lu’an | H44: =N18+O18+P18+Q18+R18 -> 51.77854 | I44: Lu’an | K44: =T18+U18+V18+W18+X18 -> 48.080054
A45: Ma’anshan | B45: =B20+C20+D20+E20+F20 -> 42.628572 | C45: Ma’anshan | E45: =H20+I20+J20+K20+L20 -> 45.252266 | F45: Ma’anshan | H45: =N20+O20+P20+Q20+R20 -> 39.307917 | I45: Ma’anshan | K45: =T20+U20+V20+W20+X20 -> 41.556312
A46: Wuhu | B46: =B22+C22+D22+E22+F22 -> 53.422823 | C46: Wuhu | E46: =H22+I22+J22+K22+L22 -> 56.949333 | F46: Wuhu | H46: =N22+O22+P22+Q22+R22 -> 54.120057 | I46: Wuhu | K46: =T22+U22+V22+W22+X22 -> 59.645978
A47: Xuancheng | B47: =B24+C24+D24+E24+F24 -> 61.322908 | C47: Xuancheng | E47: =H24+I24+J24+K24+L24 -> 56.730278 | F47: Xuancheng | H47: =N24+O24+P24+Q24+R24 -> 50.058297 | I47: Xuancheng | K47: =T24+U24+V24+W24+X24 -> 43.794888
A48: Tongling | B48: =B26+C26+D26+E26+F26 -> 45.056219 | C48: Tongling | E48: =H26+I26+J26+K26+L26 -> 53.332098 | F48: Tongling | H48: =N26+O26+P26+Q26+R26 -> 42.124832 | I48: Tongling | K48: =T26+U26+V26+W26+X26 -> 47.149816
A49: Chizhou | B49: =B28+C28+D28+E28+F28 -> 65.633952 | C49: Chizhou | E49: =H28+I28+J28+K28+L28 -> 60.983768 | F49: Chizhou | H49: =N28+O28+P28+Q28+R28 -> 57.555873 | I49: Chizhou | K49: =T28+U28+V28+W28+X28 -> 49.324211
A50: Anqing | B50: =B30+C30+D30+E30+F30 -> 62.456292 | C50: Anqing | E50: =H30+I30+J30+K30+L30 -> 58.371593 | F50: Anqing | H50: =N30+O30+P30+Q30+R30 -> 53.74478 | I50: Anqing | K50: =T30+U30+V30+W30+X30 -> 50.502923
A51: Huangshan | B51: =B32+C32+D32+E32+F32 -> 66.901348 | C51: Huangshan | E51: =H32+I32+J32+K32+L32 -> 68.568355 | F51: Huangshan | H51: =N32+O32+P32+Q32+R32 -> 66.200933 | I51: Huangshan | K51: =T32+U32+V32+W32+X32 -> 57.625421
A52: The red ones are the sum of the top 5 ODs >or ≈50%

Sheet frequencies of OFs 2009 and 12
A1: The cumulative frequencies of the top five OFs in 2009 | G1: The cumulative frequencies of the top five OFs in 2012
A2: Items | B2: 行标签 | C2: 计数项:Items | G2: Items | H2: 行标签 | I2: 计数项:Items
A3: C18 | B3: C1 | C3: 14 | D3: C1-C9 | E3: Inclusive subsystem | F3: =GETPIVOTDATA("Items",$B$2,"Items","C1")+GETPIVOTDATA("Items",$B$2,"Items","C2")+GETPIVOTDATA("Items",$B$2,"Items","C3")+GETPIVOTDATA("Items",$B$2,"Items","C4")+GETPIVOTDATA("Items",$B$2,"Items","C5") -> 35 | G3: C19 | H3: C1 | I3: 14 | J3: C1-C9 | K3: Inclusive subsystem | M3: =GETPIVOTDATA("Items",$H$2,"Items","C1")+GETPIVOTDATA("Items",$H$2,"Items","C2")+GETPIVOTDATA("Items",$H$2,"Items","C3")+GETPIVOTDATA("Items",$H$2,"Items","C4")+GETPIVOTDATA("Items",$H$2,"Items","C5")+GETPIVOTDATA("Items",$H$2,"Items","C7") -> 35
A4: C1 | B4: C14 | C4: 4 | D4: C10-C18 | E4: Green subsystem | F4: =GETPIVOTDATA("Items",$B$2,"Items","C14")+GETPIVOTDATA("Items",$B$2,"Items","C18") -> 15 | G4: C18 | H4: C15 | I4: 1 | J4: C10-C18 | K4: Green subsystem | M4: =GETPIVOTDATA("Items",$H$2,"Items","C15")+GETPIVOTDATA("Items",$H$2,"Items","C18") -> 13
A5: C1 | B5: C18 | C5: 11 | D5: C19-C27 | E5: Growth subsystem | F5: =GETPIVOTDATA("Items",$B$2,"Items","C19")+GETPIVOTDATA("Items",$B$2,"Items","C20")+GETPIVOTDATA("Items",$B$2,"Items","C21")+GETPIVOTDATA("Items",$B$2,"Items","C23")+GETPIVOTDATA("Items",$B$2,"Items","C25") -> 30 | G5: C1 | H5: C18 | I5: 12 | J5: C19-C27 | K5: Growth subsystem | M5: =GETPIVOTDATA("Items",$H$2,"Items","C19")+GETPIVOTDATA("Items",$H$2,"Items","C20")+GETPIVOTDATA("Items",$H$2,"Items","C21") -> 32
A6: C1 | B6: C19 | C6: 1 | F6: =F3+F4+F5 -> 80 | G6: C1 | H6: C19 | I6: 9 | M6: =M3+M4+M5 -> 80
A7: C1 | B7: C2 | C7: 8 | G7: C1 | H7: C2 | I7: 1
A8: C1 | B8: C20 | C8: 14 | G8: C1 | H8: C20 | I8: 15
A9: C1 | B9: C21 | C9: 13 | G9: C1 | H9: C21 | I9: 8
A10: C1 | B10: C23 | C10: 1 | G10: C1 | H10: C3 | I10: 11
A11: C1 | B11: C25 | C11: 1 | G11: C1 | H11: C4 | I11: 3
A12: C18 | B12: C3 | C12: 10 | G12: C18 | H12: C5 | I12: 1
A13: C1 | B13: C4 | C13: 2 | G13: C1 | H13: C7 | I13: 5
A14: C1 | B14: C5 | C14: 1 | G14: C1 | H14: 总计 | I14: 80
A15: C18 | B15: 总计 | C15: 80 | G15: C18
A16: C1 | G16: C1
A17: C1 | G17: C1
A18: C1 | G18: C1
A19: C20 | G19: C18
A20: C18 | G20: C1
A21: C20 | G21: C20
A22: C20 | G22: C20
A23: C20 | G23: C20
A24: C20 | G24: C20
A25: C18 | G25: C18
A26: C20 | G26: C20
A27: C20 | G27: C20
... A82: C2 | G82: C4

Sheet frequencies of OFs 2015 and 18
A1: The cumulative frequencies of the top five OFs in 2015 | G1: The cumulative frequencies of the top five OFs in 2018
A2: Items | B2: 行标签 | C2: 计数项:Items | G2: Items | H2: 行标签 | I2: 计数项:项目
A3: C21 | B3: C1 | C3: 10 | D3: C1-C9 | E3: Inclusive subsystem | F3: =GETPIVOTDATA("Items",$B$2,"Items","C1")+GETPIVOTDATA("Items",$B$2,"Items","C2")+GETPIVOTDATA("Items",$B$2,"Items","C3")+GETPIVOTDATA("Items",$B$2,"Items","C4")+GETPIVOTDATA("Items",$B$2,"Items","C6")+GETPIVOTDATA("Items",$B$2,"Items","C7") -> 29 | G3: C18 | H3: C1 | I3: 12 | J3: C1-C9 | K3: Inclusive subsystem | L3: =GETPIVOTDATA("项目",$H$2,"项目","C1")+GETPIVOTDATA("项目",$H$2,"项目","C2")+GETPIVOTDATA("项目",$H$2,"项目","C3")+GETPIVOTDATA("项目",$H$2,"项目","C5")+GETPIVOTDATA("项目",$H$2,"项目","C6")+GETPIVOTDATA("项目",$H$2,"项目","C7") -> 30
A4: C21 | B4: C13 | C4: 4 | D4: C10-C18 | E4: Green subsystem | F4: =GETPIVOTDATA("Items",$B$2,"Items","C13")+GETPIVOTDATA("Items",$B$2,"Items","C14")+GETPIVOTDATA("Items",$B$2,"Items","C17")+GETPIVOTDATA("Items",$B$2,"Items","C18") -> 22 | G4: C18 | H4: C13 | I4: 12 | J4: C10-C18 | K4: Green subsystem | L4: =GETPIVOTDATA("项目",$H$2,"项目","C13")+GETPIVOTDATA("项目",$H$2,"项目","C14")+GETPIVOTDATA("项目",$H$2,"项目","C15")+GETPIVOTDATA("项目",$H$2,"项目","C16")+GETPIVOTDATA("项目",$H$2,"项目","C18") -> 38
A5: C21 | B5: C14 | C5: 11 | D5: C19-C27 | E5: Growth subsystem | F5: =GETPIVOTDATA("Items",$B$2,"Items","C20")+GETPIVOTDATA("Items",$B$2,"Items","C21")+GETPIVOTDATA("Items",$B$2,"Items","C23") -> 29 | G5: C18 | H5: C14 | I5: 4 | J5: C19-C27 | K5: Growth subsystem | L5: =GETPIVOTDATA("项目",$H$2,"项目","C20") -> 12
A6: C21 | B6: C17 | C6: 1 | F6: =F3+F4+F5 -> 80 | G6: C18 | H6: C15 | I6: 1 | L6: =L3+L4+L5 -> 80
A7: C21 | B7: C18 | C7: 6 | G7: C18 | H7: C16 | I7: 7
A8: C21 | B8: C2 | C8: 9 | G8: C18 | H8: C18 | I8: 14
A9: C21 | B9: C20 | C9: 12 | G9: C18 | H9: C2 | I9: 1
A10: C21 | B10: C21 | C10: 15 | G10: C18 | H10: C20 | I10: 12
A11: C21 | B11: C23 | C11: 2 | G11: C20 | H11: C3 | I11: 6
A12: C21 | B12: C3 | C12: 3 | G12: C18 | H12: C5 | I12: 8
A13: C21 | B13: C4 | C13: 1 | G13: C18 | H13: C6 | I13: 1
A14: C21 | B14: C6 | C14: 3 | G14: C18 | H14: C7 | I14: 2
A15: C21 | B15: C7 | C15: 3 | G15: C18 | H15: 总计 | I15: 80
A16: C21 | B16: 总计 | C16: 80 | G16: C20
A17: C20 | G17: C18
A18: C21 | G18: C20
A19: C14 | G19: C14
A20: C20 | G20: C13
A21: C20 | G21: C20
A22: C20 | G22: C20
A23: C20 | G23: C13
A24: C20 | G24: C20
A25: C20 | G25: C5
A26: C20 | G26: C20
A27: C20 | G27: C1
A28: C6 | G28: C13
... A82: C14 | G82: C1
