Workbook

Sheet raw data

Sheet standardizing
B1: Inlusive subsystem | K1: Green subsystem | T1: Growth subsystem
A2: regions | B2: C1:Library books per 100 persons | C2: C2:10,000 people with college degrees or above | D2: C3: Number of beds per 1,000 persons | E2: C4:Registered urban unemployment rate | F2: C5:Disposable income per capita between urban and rural residents | G2: C6:Urban population density | H2: C7:Per capita housing gross leasable area | I2: C8:Amount of fertilizer per unit cultivated area | J2: C9: Incidence of population fires | K2: C10: Industrial Solid waste production | L2: C11: Discharge of COD in industrial waste-water | M2: C12: Industrial SO2 emissions | N2: C13: Proportion of air quality reaching or better than grade 2 weather | O2: C14:Per capita green area of parks | P2: C15: Average traffic volume | Q2: C16: Central processing rate of sewage treatment plant in urban areas | R2: C17: Popularity rate of sanitation toilet in rural areas | S2: C18: Per capita afforestation area | T2: C19:Fixed asset investment per unit of GDP | U2: C20: Secondary sector Land yield | V2: C21:Tertiary sector Labor productivity | W2: C22:Water consumption per unit of GDP | X2: C23:Power consumption per unit of GDP | Y2: C24: Energy consumption per unit of industrial added value | Z2: C25: Industrial waste water discharge per unit of GDP | AA2: C26:Industrial waste gas emission per unit of GDP | AB2: C27: Solid waste generation per unit of GDP
A3: Hefei | B3: 0.94414948 | C3: 1 | D3: 0.86142961 | E3: 0.25973751 | F3: 0.30208333 | G3: 0.57324841 | H3: 0.62358261 | I3: 0.4715134 | J3: 0.54855196 | K3: 0.86534258 | L3: 1 | M3: 0.98370296 | N3: 0 | O3: 0.62851406 | P3: 0.14007004 | Q3: 1 | R3: 1 | S3: 0.073968177 | T3: 0 | U3: 0.46658498 | V3: 0.79122118 | W3: 0.81349731 | X3: 0.98198071 | Y3: 0.8404908 | Z3: 1 | AA3: 0.95931373 | AB3: 0.97201608
A4: Huaibei | B4: 0.17662022 | C4: 0.46462451 | D4: 0.71598393 | E4: 0.28492803 | F4: 0.278125 | G4: 0.43312102 | H4: 0.46385368 | I4: 0.91108782 | J4: 0.61839864 | K4: 0.51553931 | L4: 0.92675482 | M4: 0.99424645 | N4: 0.84782609 | O4: 0.55722892 | P4: 0.66983492 | Q4: 0.95670996 | R4: 0.54559271 | S4: 0.053566834 | T4: 0.46751061 | U4: 0.30352135 | V4: 0.23619504 | W4: 0.81207002 | X4: 0.48977379 | Y4: 0.41104294 | Z4: 0.74931775 | AA4: 0.7185901 | AB4: 0.33701337
A5: Bozhou | B5: 0.032695061 | C5: 0.089426877 | D5: 0 | E5: 0.19115157 | F5: 1 | G5: 0.65605096 | H5: 0.023729415 | I5: 0.94807728 | J5: 0.99488927 | K5: 0.91315277 | L5: 0.98414558 | M5: 0.99901675 | N5: 0.97826087 | O5: 0.32831325 | P5: 1 | Q5: 1 | R5: 0.20516717 | S5: 0.15263642 | T5: 0.96854872 | U5: 0 | V5: 0 | W5: 0.93454177 | X5: 0.93947141 | Y5: 0.80368098 | Z5: 0.80565157 | AA5: 0.97757521 | AB5: 0.89948833
A6: Suzhou | B6: 0 | C6: 0.1291502 | D6: 0.020896481 | E6: 0.53789162 | F6: 0.61197917 | G6: 0.14649682 | H6: 0.24583432 | I6: 0.78578562 | J6: 0.9693356 | K6: 0.79874911 | L6: 0.91578666 | M6: 0.98096371 | N6: 0.93478261 | O6: 0.12048193 | P6: 0.8034017 | Q6: 0.23160173 | R6: 0.15197568 | S6: 0.2259847 | T6: 0.8865007 | U6: 0.027291282 | V6: 0.095363928 | W6: 0.81523573 | X6: 0.87602483 | Y6: 0.69325153 | Z6: 0.67518396 | AA6: 0.90018065 | AB6: 0.81322512
A7: Bengbu | B7: 0.020772141 | C7: 0.4041502 | D7: 0.4240071 | E7: 0.46782388 | F7: 0.17239583 | G7: 0.21019108 | H7: 0.54222929 | I7: 0.34773585 | J7: 0.83475298 | K7: 0.92839401 | L7: 0.68643258 | M7: 0.98411647 | N7: 0.97826087 | O7: 0.077309237 | P7: 0.76438219 | Q7: 0.6969697 | R7: 0 | S7: 0.029952282 | T7: 0.71581591 | U7: 0.17953686 | V7: 0.23532785 | W7: 0.35905742 | X7: 0.81362731 | Y7: 0.7791411 | Z7: 0.31149789 | AA7: 0.87920497 | AB7: 0.93403422
A8: Fuyang | B8: 0.014023477 | C8: 0.088537549 | D8: 0.051350041 | E8: 0.6596105 | F8: 0.60885417 | G8: 0.59235669 | H8: 0 | I8: 0.87684221 | J8: 1 | K8: 0.85571 | L8: 0.91630553 | M8: 0.97308369 | N8: 0.5 | O8: 0.0060240964 | P8: 0.76838419 | Q8: 0.77922078 | R8: 0.027355623 | S8: 0.16020485 | T8: 1 | U8: 0.0090687792 | V8: 0.01359821 | W8: 0.86752783 | X8: 0.62240598 | Y8: 0.52760736 | Z8: 0.73962227 | AA8: 0.89316287 | AB8: 0.88192558
A9: Huainan | B9: 0.2241869 | C9: 0.37588933 | D9: 0.81447192 | E9: 0.92104149 | F9: 0.21614583 | G9: 0.21019108 | H9: 0.62419508 | I9: 0 | J9: 0.85689949 | K9: 0 | L9: 0.76253449 | M9: 0.78698875 | N9: 0.56521739 | O9: 0.45481928 | P9: 0.80490245 | Q9: 0 | R9: 0.69148936 | S9: 0 | T9: 0.59577586 | U9: 0.6023087 | V9: 0.24883543 | W9: 0.74752693 | X9: 0.37116737 | Y9: 0.54601227 | Z9: 0.30289198 | AA9: 0.22806565 | AB9: 0
A10: Chuzhou | B10: 0.032656334 | C10: 0 | D10: 0.0358393 | E10: 0.88547841 | F10: 0.47552083 | G10: 1 | H10: 0.73963729 | I10: 0.60675575 | J10: 0.93356048 | K10: 0.93046062 | L10: 0.4235872 | M10: 0.99596129 | N10: 0.7826087 | O10: 0.12650602 | P10: 0.74837419 | Q10: 0.73809524 | R10: 0.28571429 | S10: 0.44749982 | T10: 0.98796649 | U10: 0.038744756 | V10: 0.19147299 | W10: 0.95910089 | X10: 0.56523617 | Y10: 0.77300613 | Z10: 0 | AA10: 0.91467555 | AB10: 0.94132257
A11: Lu’an | B11: 0.0059641678 | C11: 0.10583004 | D11: 0.067486059 | E11: 0.27942422 | F11: 0.85885417 | G11: 0.22292994 | H11: 0.24594572 | I11: 0.54406902 | J11: 0.91822828 | K11: 0.86032013 | L11: 0.73076595 | M11: 0.99655068 | N11: 0.91304348 | O11: 0.25 | P11: 0.66033017 | Q11: 0.61038961 | R11: 0.88297872 | S11: 0.27689559 | T11: 0.98923709 | U11: 0.022776379 | V11: 0.15786021 | W11: 0.92038855 | X11: 0.84870497 | Y11: 0.72392638 | Z11: 0.43237105 | AA11: 0.96480523 | AB11: 0.87644187
A12: Ma’anshan | B12: 0.68731249 | C12: 0.35533597 | D12: 0.46492126 | E12: 0 | F12: 0.33958333 | G12: 0.92993631 | H12: 0.80688477 | I12: 1 | J12: 0 | K12: 0.075148041 | L12: 0.8395076 | M12: 0.95449927 | N12: 0.7826087 | O12: 0.62851406 | P12: 0.66183092 | Q12: 0.35064935 | R12: 0.40881459 | S12: 0.073782005 | T12: 0.50599074 | U12: 0.62688236 | V12: 1 | W12: 0.37198683 | X12: 0 | Y12: 0 | Z12: 0.25353222 | AA12: 0 | AB12: 0.29542526
A13: Wuhu | B13: 0.30967815 | C13: 0.26996047 | D13: 0.61520961 | E13: 0.094199831 | F13: 0.471875 | G13: 0.78980892 | H13: 0.89287707 | I13: 0.61952921 | J13: 0.89437819 | K13: 0.88776727 | L13: 0.56206315 | M13: 0.97403981 | N13: 0.80434783 | O13: 0.21084337 | P13: 0 | Q13: 0.34632035 | R13: 0.60182371 | S13: 0.27233001 | T13: 0.38493905 | U13: 0.45521794 | V13: 0.47238808 | W13: 0.95031254 | X13: 0.65587037 | Y13: 0.71779141 | Z13: 0.70827894 | AA13: 0.70889458 | AB13: 0.93932159
A14: Xuancheng | B14: 0.042706131 | C14: 0.25879447 | D14: 0.14215749 | E14: 0.68628281 | F14: 0 | G14: 0.49044586 | H14: 1 | I14: 0.52427097 | J14: 0.95229983 | K14: 0.96342699 | L14: 0.70806842 | M14: 0.98564514 | N14: 0.91304348 | O14: 0 | P14: 0.58729365 | Q14: 0.24675325 | R14: 0.59574468 | S14: 0.8544947 | T14: 0.91996662 | U14: 0.091042602 | V14: 0.19086611 | W14: 0.54556693 | X14: 0.27218471 | Y14: 0.61349693 | Z14: 0.16237611 | AA14: 0.67922403 | AB14: 0.95895159
... A18: Huangshan | B18: 0.1940538 | C18: 0.37835968 | D18: 0.31821446 | E18: 1 | F18: 0.72552083 | G18: 0.27388535 | H18: 0.92357306 | I18: 0.5725858 | J18: 0.94889267 | K18: 1 | L18: 0.92149424 | M18: 1 | N18: 1 | O18: 0.81726908 | P18: 0.92646323 | Q18: 0.77489177 | R18: 0.43465046 | S18: 0.64869355 | T18: 0.28616473 | U18: 0.17518435 | V18: 0.37694643 | W18: 0.54487437 | X18: 1 | Y18: 1 | Z18: 0.54922335 | AA18: 1 | AB18: 1
A19: sum of standard-ization | B19: =SUM(B3:B18) -> 3.874778 | C19: =SUM(C3:C18) -> 4.9212451 | D19: =SUM(D3:D18) -> 5.8274823 | E19: =SUM(E3:E18) -> 8.5290008 | F19: =SUM(F3:F18) -> 7.5833333 | G19: =SUM(G3:G18) -> 7.3248408 | H19: =SUM(H3:H18) -> 8.6965481 | I19: =SUM(I3:I18) -> 10.226484 | ... AB19: =SUM(AB3:AB18) -> 11.926063

Sheet weighting
A1: Entropy Caclulation process | B1: Inclusive subsystem | K1: Green subsystem | T1: Growth subsystem
B2: =standardizing!B3/standardizing!$B$19 -> 0.24366544 | C2: =standardizing!C3/standardizing!$C$19 -> 0.20320061 | D2: =standardizing!D3/standardizing!$D$19 -> 0.14782192 | E2: =standardizing!E3/standardizing!$E$19 -> 0.030453451 | F2: =standardizing!F3/standardizing!$F$19 -> 0.039835165 | G2: =standardizing!G3/standardizing!$G$19 -> 0.07826087 | H2: =standardizing!H3/standardizing!$H$19 -> 0.071704612 | I2: =standardizing!I3/standardizing!$I$19 -> 0.046107087 | J2: =standardizing!J3/standardizing!$J$19 -> 0.041666667 | K2: =standardizing!K3/standardizing!$K$19 -> 0.072468049 | L2: =standardizing!L3/standardizing!$L$19 -> 0.083220767 | M2: =standardizing!M3/standardizing!$M$19 -> 0.067724183 | N2: =standardizing!N3/standardizing!$N$19 -> 0 | O2: =standardizing!O3/standardizing!$O$19 -> 0.10767114 | P2: =standardizing!P3/standardizing!$P$19 -> 0.01395743 | Q2: =standardizing!Q3/standardizing!$Q$19 -> 0.098193411 | R2: =standardizing!R3/standardizing!$R$19 -> 0.13955461 | S2: =standardizing!S3/standardizing!$S$19 -> 0.01398337 | T2: =standardizing!T3/standardizing!$T$19 -> 0 | U2: =standardizing!U3/standardizing!$U$19 -> 0.10996573 | V2: =standardizing!V3/standardizing!$V$19 -> 0.16486066 | W2: =standardizing!W3/standardizing!$W$19 -> 0.070357072 | X2: =standardizing!X3/standardizing!$X$19 -> 0.099447099 | Y2: =standardizing!Y3/standardizing!$Y$19 -> 0.085040348 | Z2: =standardizing!Z3/standardizing!$Z$19 -> 0.1219836 | AA2: =standardizing!AA3/standardizing!$AA$19 -> 0.08405486 | AB2: =standardizing!AB3/standardizing!$AB$19 -> 0.08150352
B3: =standardizing!B4/standardizing!$B$19 -> 0.045582024 | C3: =standardizing!C4/standardizing!$C$19 -> 0.094411983 | D3: =standardizing!D4/standardizing!$D$19 -> 0.12286334 | E3: =standardizing!E4/standardizing!$E$19 -> 0.033406964 | F3: =standardizing!F4/standardizing!$F$19 -> 0.036675824 | G3: =standardizing!G4/standardizing!$G$19 -> 0.059130435 | H3: =standardizing!H4/standardizing!$H$19 -> 0.053337678 | I3: =standardizing!I4/standardizing!$I$19 -> 0.089091011 | J3: =standardizing!J4/standardizing!$J$19 -> 0.04697205 | K3: =standardizing!K4/standardizing!$K$19 -> 0.0431738 | L3: =standardizing!L4/standardizing!$L$19 -> 0.077125247 | M3: =standardizing!M4/standardizing!$M$19 -> 0.068450062 | N3: =standardizing!N4/standardizing!$N$19 -> 0.069271758 | O3: =standardizing!O4/standardizing!$O$19 -> 0.095459236 | P3: =standardizing!P4/standardizing!$P$19 -> 0.066746423 | Q3: =standardizing!Q4/standardizing!$Q$19 -> 0.093942614 | R3: =standardizing!R4/standardizing!$R$19 -> 0.076139979 | S3: =standardizing!S4/standardizing!$S$19 -> 0.010126582 | T3: =standardizing!T4/standardizing!$T$19 -> 0.043475027 | U3: =standardizing!U4/standardizing!$U$19 -> 0.07153455 | V3: =standardizing!V4/standardizing!$V$19 -> 0.04921414 | W3: =standardizing!W4/standardizing!$W$19 -> 0.070233629 | X3: =standardizing!X4/standardizing!$X$19 -> 0.049600346 | Y3: =standardizing!Y4/standardizing!$Y$19 -> 0.041589075 | Z3: =standardizing!Z4/standardizing!$Z$19 -> 0.091404473 | AA3: =standardizing!AA4/standardizing!$AA$19 -> 0.062962708 | AB3: =standardizing!AB4/standardizing!$AB$19 -> 0.028258562
B4: =standardizing!B5/standardizing!$B$19 -> 0.0084379184 | C4: =standardizing!C5/standardizing!$C$19 -> 0.018171596 | D4: =standardizing!D5/standardizing!$D$19 -> 0 | E4: =standardizing!E5/standardizing!$E$19 -> 0.022411953 | F4: =standardizing!F5/standardizing!$F$19 -> 0.13186813 | G4: =standardizing!G5/standardizing!$G$19 -> 0.089565217 | H4: =standardizing!H5/standardizing!$H$19 -> 0.0027286015 | I4: =standardizing!I5/standardizing!$I$19 -> 0.092708037 | J4: =standardizing!J5/standardizing!$J$19 -> 0.075569358 | K4: =standardizing!K5/standardizing!$K$19 -> 0.07647191 | L4: =standardizing!L5/standardizing!$L$19 -> 0.08190135 | M4: =standardizing!M5/standardizing!$M$19 -> 0.068778478 | N4: =standardizing!N5/standardizing!$N$19 -> 0.079928952 | O4: =standardizing!O5/standardizing!$O$19 -> 0.05624355 | P4: =standardizing!P5/standardizing!$P$19 -> 0.099646079 | Q4: =standardizing!Q5/standardizing!$Q$19 -> 0.098193411 | R4: =standardizing!R5/standardizing!$R$19 -> 0.028632025 | S4: =standardizing!S5/standardizing!$S$19 -> 0.028855266 | T4: =standardizing!T5/standardizing!$T$19 -> 0.090067863 | U4: =standardizing!U5/standardizing!$U$19 -> 0 | V4: =standardizing!V5/standardizing!$V$19 -> 0 | W4: =standardizing!W5/standardizing!$W$19 -> 0.080825863 | X4: =standardizing!X5/standardizing!$X$19 -> 0.0951421 | Y4: =standardizing!Y5/standardizing!$Y$19 -> 0.081315953 | Z4: =standardizing!Z5/standardizing!$Z$19 -> 0.098276275 | AA4: =standardizing!AA5/standardizing!$AA$19 -> 0.085654927 | AB4: =standardizing!AB5/standardizing!$AB$19 -> 0.07542207
B5: =standardizing!B6/standardizing!$B$19 -> 0 | C5: =standardizing!C6/standardizing!$C$19 -> 0.026243399 | D5: =standardizing!D6/standardizing!$D$19 -> 0.0035858507 | E5: =standardizing!E6/standardizing!$E$19 -> 0.063066193 | F5: =standardizing!F6/standardizing!$F$19 -> 0.080700549 | G5: =standardizing!G6/standardizing!$G$19 -> 0.02 | H5: =standardizing!H6/standardizing!$H$19 -> 0.028268034 | I5: =standardizing!I6/standardizing!$I$19 -> 0.076838296 | J5: =standardizing!J6/standardizing!$J$19 -> 0.073628364 | K5: =standardizing!K6/standardizing!$K$19 -> 0.066891184 | L5: =standardizing!L6/standardizing!$L$19 -> 0.076212468 | M5: =standardizing!M6/standardizing!$M$19 -> 0.067535596 | N5: =standardizing!N6/standardizing!$N$19 -> 0.076376554 | O5: =standardizing!O6/standardizing!$O$19 -> 0.020639835 | P5: =standardizing!P6/standardizing!$P$19 -> 0.08005583 | Q5: =standardizing!Q6/standardizing!$Q$19 -> 0.022741764 | R5: =standardizing!R6/standardizing!$R$19 -> 0.021208908 | S5: =standardizing!S6/standardizing!$S$19 -> 0.042721448 | T5: =standardizing!T6/standardizing!$T$19 -> 0.082438004 | U5: =standardizing!U6/standardizing!$U$19 -> 0.0064320668 | V5: =standardizing!V6/standardizing!$V$19 -> 0.019870247 | W5: =standardizing!W6/standardizing!$W$19 -> 0.070507423 | X5: =standardizing!X6/standardizing!$X$19 -> 0.08871674 | Y5: =standardizing!Y6/standardizing!$Y$19 -> 0.070142768 | Z5: =standardizing!Z6/standardizing!$Z$19 -> 0.082361367 | AA5: =standardizing!AA6/standardizing!$AA$19 -> 0.078873632 | AB5: =standardizing!AB6/standardizing!$AB$19 -> 0.068188903
B6: =standardizing!B7/standardizing!$B$19 -> 0.0053608595 | C6: =standardizing!C7/standardizing!$C$19 -> 0.082123567 | D6: =standardizing!D7/standardizing!$D$19 -> 0.072759912 | E6: =standardizing!E7/standardizing!$E$19 -> 0.054850959 | F6: =standardizing!F7/standardizing!$F$19 -> 0.022733516 | G6: =standardizing!G7/standardizing!$G$19 -> 0.028695652 | H6: =standardizing!H7/standardizing!$H$19 -> 0.062349944 | I6: =standardizing!I7/standardizing!$I$19 -> 0.03400346 | J6: =standardizing!J7/standardizing!$J$19 -> 0.063405797 | K6: =standardizing!K7/standardizing!$K$19 -> 0.077748286 | L6: =standardizing!L7/standardizing!$L$19 -> 0.057125446 | M6: =standardizing!M7/standardizing!$M$19 -> 0.067752651 | N6: =standardizing!N7/standardizing!$N$19 -> 0.079928952 | O6: =standardizing!O7/standardizing!$O$19 -> 0.013243894 | P6: =standardizing!P7/standardizing!$P$19 -> 0.076167689 | Q6: =standardizing!Q7/standardizing!$Q$19 -> 0.068437832 | R6: =standardizing!R7/standardizing!$R$19 -> 0 | S6: =standardizing!S7/standardizing!$S$19 -> 0.0056623518 | T6: =standardizing!T7/standardizing!$T$19 -> 0.066565582 | U6: =standardizing!U7/standardizing!$U$19 -> 0.042313626 | V6: =standardizing!V7/standardizing!$V$19 -> 0.049033451 | W6: =standardizing!W7/standardizing!$W$19 -> 0.031053856 | X6: =standardizing!X7/standardizing!$X$19 -> 0.082397622 | Y6: =standardizing!Y7/standardizing!$Y$19 -> 0.078833023 | Z6: =standardizing!Z7/standardizing!$Z$19 -> 0.037997633 | AA6: =standardizing!AA7/standardizing!$AA$19 -> 0.077035748 | AB6: =standardizing!AB7/standardizing!$AB$19 -> 0.078318742
B7: =standardizing!B8/standardizing!$B$19 -> 0.003619169 | C7: =standardizing!C8/standardizing!$C$19 -> 0.017990884 | D7: =standardizing!D8/standardizing!$D$19 -> 0.0088117026 | E7: =standardizing!E8/standardizing!$E$19 -> 0.077337371 | F7: =standardizing!F8/standardizing!$F$19 -> 0.080288462 | G7: =standardizing!G8/standardizing!$G$19 -> 0.080869565 | H7: =standardizing!H8/standardizing!$H$19 -> 0 | I7: =standardizing!I8/standardizing!$I$19 -> 0.085742293 | J7: =standardizing!J8/standardizing!$J$19 -> 0.075957557 | K7: =standardizing!K8/standardizing!$K$19 -> 0.071661369 | L7: =standardizing!L8/standardizing!$L$19 -> 0.076255649 | M7: =standardizing!M8/standardizing!$M$19 -> 0.066993087 | N7: =standardizing!N8/standardizing!$N$19 -> 0.040852575 | O7: =standardizing!O8/standardizing!$O$19 -> 0.0010319917 | P7: =standardizing!P8/standardizing!$P$19 -> 0.076566472 | Q7: =standardizing!Q8/standardizing!$Q$19 -> 0.076514346 | R7: =standardizing!R8/standardizing!$R$19 -> 0.0038176034 | S7: =standardizing!S8/standardizing!$S$19 -> 0.030286046 | T7: =standardizing!T8/standardizing!$T$19 -> 0.092992599 | U7: =standardizing!U8/standardizing!$U$19 -> 0.002137349 | V7: =standardizing!V8/standardizing!$V$19 -> 0.0028333541 | W7: =standardizing!W8/standardizing!$W$19 -> 0.075030018 | X7: =standardizing!X8/standardizing!$X$19 -> 0.063032266 | Y7: =standardizing!Y8/standardizing!$Y$19 -> 0.053382992 | Z7: =standardizing!Z8/standardizing!$Z$19 -> 0.090221784 | AA7: =standardizing!AA8/standardizing!$AA$19 -> 0.078258736 | AB7: =standardizing!AB8/standardizing!$AB$19 -> 0.073949434
B8: =standardizing!B9/standardizing!$B$19 -> 0.057857998 | C8: =standardizing!C9/standardizing!$C$19 -> 0.076380941 | D8: =standardizing!D9/standardizing!$D$19 -> 0.13976395 | E8: =standardizing!E9/standardizing!$E$19 -> 0.10798938 | F8: =standardizing!F9/standardizing!$F$19 -> 0.028502747 | G8: =standardizing!G9/standardizing!$G$19 -> 0.028695652 | H8: =standardizing!H9/standardizing!$H$19 -> 0.07177504 | I8: =standardizing!I9/standardizing!$I$19 -> 0 | J8: =standardizing!J9/standardizing!$J$19 -> 0.065087992 | K8: =standardizing!K9/standardizing!$K$19 -> 0 | L8: =standardizing!L9/standardizing!$L$19 -> 0.063458705 | M8: =standardizing!M9/standardizing!$M$19 -> 0.054181163 | N8: =standardizing!N9/standardizing!$N$19 -> 0.046181172 | O8: =standardizing!O9/standardizing!$O$19 -> 0.077915377 | P8: =standardizing!P9/standardizing!$P$19 -> 0.080205374 | Q8: =standardizing!Q9/standardizing!$Q$19 -> 0 | R8: =standardizing!R9/standardizing!$R$19 -> 0.09650053 | S8: =standardizing!S9/standardizing!$S$19 -> 0 | T8: =standardizing!T9/standardizing!$T$19 -> 0.055402746 | U8: =standardizing!U9/standardizing!$U$19 -> 0.14195338 | V8: =standardizing!V9/standardizing!$V$19 -> 0.05184792 | W8: =standardizing!W9/standardizing!$W$19 -> 0.064651481 | X8: =standardizing!X9/standardizing!$X$19 -> 0.037588843 | Y8: =standardizing!Y9/standardizing!$Y$19 -> 0.055245189 | Z8: =standardizing!Z9/standardizing!$Z$19 -> 0.036947852 | AA8: =standardizing!AA9/standardizing!$AA$19 -> 0.019983062 | AB8: =standardizing!AB9/standardizing!$AB$19 -> 0
B9: =standardizing!B10/standardizing!$B$19 -> 0.0084279238 | C9: =standardizing!C10/standardizing!$C$19 -> 0 | D9: =standardizing!D10/standardizing!$D$19 -> 0.0061500487 | E9: =standardizing!E10/standardizing!$E$19 -> 0.10381971 | F9: =standardizing!F10/standardizing!$F$19 -> 0.062706044 | G9: =standardizing!G10/standardizing!$G$19 -> 0.13652174 | H9: =standardizing!H10/standardizing!$H$19 -> 0.085049525 | I9: =standardizing!I10/standardizing!$I$19 -> 0.059331803 | J9: =standardizing!J10/standardizing!$J$19 -> 0.070910973 | K9: =standardizing!K10/standardizing!$K$19 -> 0.077921354 | L9: =standardizing!L10/standardizing!$L$19 -> 0.035251251 | M9: =standardizing!M10/standardizing!$M$19 -> 0.068568122 | N9: =standardizing!N10/standardizing!$N$19 -> 0.063943162 | O9: =standardizing!O10/standardizing!$O$19 -> 0.021671827 | P9: =standardizing!P10/standardizing!$P$19 -> 0.074572554 | Q9: =standardizing!Q10/standardizing!$Q$19 -> 0.072476089 | R9: =standardizing!R10/standardizing!$R$19 -> 0.039872747 | S9: =standardizing!S10/standardizing!$S$19 -> 0.08459794 | T9: =standardizing!T10/standardizing!$T$19 -> 0.091873572 | U9: =standardizing!U10/standardizing!$U$19 -> 0.0091314457 | V9: =standardizing!V10/standardizing!$V$19 -> 0.039895751 | W9: =standardizing!W10/standardizing!$W$19 -> 0.082949911 | X9: =standardizing!X10/standardizing!$X$19 -> 0.057242568 | Y9: =standardizing!Y10/standardizing!$Y$19 -> 0.078212291 | Z9: =standardizing!Z10/standardizing!$Z$19 -> 0 | AA9: =standardizing!AA10/standardizing!$AA$19 -> 0.080143672 | AB9: =standardizing!AB10/standardizing!$AB$19 -> 0.07892987
B10: =standardizing!B11/standardizing!$B$19 -> 0.0015392283 | C10: =standardizing!C11/standardizing!$C$19 -> 0.021504729 | D10: =standardizing!D11/standardizing!$D$19 -> 0.011580655 | E10: =standardizing!E11/standardizing!$E$19 -> 0.032761659 | F10: =standardizing!F11/standardizing!$F$19 -> 0.11325549 | G10: =standardizing!G11/standardizing!$G$19 -> 0.030434783 | H10: =standardizing!H11/standardizing!$H$19 -> 0.028280844 | I10: =standardizing!I11/standardizing!$I$19 -> 0.053201961 | J10: =standardizing!J11/standardizing!$J$19 -> 0.069746377 | K10: =standardizing!K11/standardizing!$K$19 -> 0.072047444 | L10: =standardizing!L11/standardizing!$L$19 -> 0.060814903 | M10: =standardizing!M11/standardizing!$M$19 -> 0.068608699 | N10: =standardizing!N11/standardizing!$N$19 -> 0.074600355 | O10: =standardizing!O11/standardizing!$O$19 -> 0.042827657 | P10: =standardizing!P11/standardizing!$P$19 -> 0.065799312 | Q10: =standardizing!Q11/standardizing!$Q$19 -> 0.059936238 | R10: =standardizing!R11/standardizing!$R$19 -> 0.12322375 | S10: =standardizing!S11/standardizing!$S$19 -> 0.052345935 | T10: =standardizing!T11/standardizing!$T$19 -> 0.091991728 | U10: =standardizing!U11/standardizing!$U$19 -> 0.005367985 | V10: =standardizing!V11/standardizing!$V$19 -> 0.032892116 | W10: =standardizing!W11/standardizing!$W$19 -> 0.079601791 | X10: =standardizing!X11/standardizing!$X$19 -> 0.085950006 | Y10: =standardizing!Y11/standardizing!$Y$19 -> 0.073246431 | Z10: =standardizing!Z11/standardizing!$Z$19 -> 0.052742175 | AA10: =standardizing!AA11/standardizing!$AA$19 -> 0.084536024 | AB10: =standardizing!AB11/standardizing!$AB$19 -> 0.073489625
B11: =standardizing!B12/standardizing!$B$19 -> 0.17738113 | C11: =standardizing!C12/standardizing!$C$19 -> 0.072204486 | D11: =standardizing!D12/standardizing!$D$19 -> 0.079780811 | E11: =standardizing!E12/standardizing!$E$19 -> 0 | F11: =standardizing!F12/standardizing!$F$19 -> 0.04478022 | G11: =standardizing!G12/standardizing!$G$19 -> 0.12695652 | H11: =standardizing!H12/standardizing!$H$19 -> 0.092782189 | I11: =standardizing!I12/standardizing!$I$19 -> 0.097785316 | J11: =standardizing!J12/standardizing!$J$19 -> 0 | K11: =standardizing!K12/standardizing!$K$19 -> 0.006293267 | L11: =standardizing!L12/standardizing!$L$19 -> 0.069864467 | M11: =standardizing!M12/standardizing!$M$19 -> 0.06571362 | N11: =standardizing!N12/standardizing!$N$19 -> 0.063943162 | O11: =standardizing!O12/standardizing!$O$19 -> 0.10767114 | P11: =standardizing!P12/standardizing!$P$19 -> 0.065948856 | Q11: =standardizing!Q12/standardizing!$Q$19 -> 0.034431456 | R11: =standardizing!R12/standardizing!$R$19 -> 0.057051962 | S11: =standardizing!S12/standardizing!$S$19 -> 0.013948175 | T11: =standardizing!T12/standardizing!$T$19 -> 0.047053394 | U11: =standardizing!U12/standardizing!$U$19 -> 0.14774495 | V11: =standardizing!V12/standardizing!$V$19 -> 0.20836229 | W11: =standardizing!W12/standardizing!$W$19 -> 0.032172084 | X11: =standardizing!X12/standardizing!$X$19 -> 0 | Y11: =standardizing!Y12/standardizing!$Y$19 -> 0 | Z11: =standardizing!Z12/standardizing!$Z$19 -> 0.030926772 | AA11: =standardizing!AA12/standardizing!$AA$19 -> 0 | AB11: =standardizing!AB12/standardizing!$AB$19 -> 0.024771399
B12: =standardizing!B13/standardizing!$B$19 -> 0.07992152 | C12: =standardizing!C13/standardizing!$C$19 -> 0.054856133 | D12: =standardizing!D13/standardizing!$D$19 -> 0.1055704 | E12: =standardizing!E13/standardizing!$E$19 -> 0.01104465 | F12: =standardizing!F13/standardizing!$F$19 -> 0.062225275 | G12: =standardizing!G13/standardizing!$G$19 -> 0.10782609 | H12: =standardizing!H13/standardizing!$H$19 -> 0.10267028 | I12: =standardizing!I13/standardizing!$I$19 -> 0.06058086 | J12: =standardizing!J13/standardizing!$J$19 -> 0.067934783 | K12: =standardizing!K13/standardizing!$K$19 -> 0.074346003 | L12: =standardizing!L13/standardizing!$L$19 -> 0.046775326 | M12: =standardizing!M13/standardizing!$M$19 -> 0.067058912 | N12: =standardizing!N13/standardizing!$N$19 -> 0.065719361 | O12: =standardizing!O13/standardizing!$O$19 -> 0.036119711 | P12: =standardizing!P13/standardizing!$P$19 -> 0 | Q12: =standardizing!Q13/standardizing!$Q$19 -> 0.034006376 | R12: =standardizing!R13/standardizing!$R$19 -> 0.083987275 | S12: =standardizing!S13/standardizing!$S$19 -> 0.051482831 | T12: =standardizing!T13/standardizing!$T$19 -> 0.035796483 | U12: =standardizing!U13/standardizing!$U$19 -> 0.10728672 | V12: =standardizing!V13/standardizing!$V$19 -> 0.098427863 | W12: =standardizing!W13/standardizing!$W$19 -> 0.082189832 | X12: =standardizing!X13/standardizing!$X$19 -> 0.06642127 | Y12: =standardizing!Y13/standardizing!$Y$19 -> 0.072625698 | Z12: =standardizing!Z13/standardizing!$Z$19 -> 0.086398411 | AA12: =standardizing!AA13/standardizing!$AA$19 -> 0.062113188 | AB12: =standardizing!AB13/standardizing!$AB$19 -> 0.078762088
B13: =standardizing!B14/standardizing!$B$19 -> 0.011021568 | C13: =standardizing!C14/standardizing!$C$19 -> 0.052587194 | D13: =standardizing!D14/standardizing!$D$19 -> 0.024394324 | E13: =standardizing!E14/standardizing!$E$19 -> 0.08046462 | F13: =standardizing!F14/standardizing!$F$19 -> 0 | G13: =standardizing!G14/standardizing!$G$19 -> 0.066956522 | H13: =standardizing!H14/standardizing!$H$19 -> 0.11498815 | I13: =standardizing!I14/standardizing!$I$19 -> 0.051266003 | J13: =standardizing!J14/standardizing!$J$19 -> 0.072334369 | K13: =standardizing!K14/standardizing!$K$19 -> 0.080682121 | L13: =standardizing!L14/standardizing!$L$19 -> 0.058925997 | M13: =standardizing!M14/standardizing!$M$19 -> 0.067857894 | N13: =standardizing!N14/standardizing!$N$19 -> 0.074600355 | O13: =standardizing!O14/standardizing!$O$19 -> 0 | P13: =standardizing!P14/standardizing!$P$19 -> 0.058521509 | Q13: =standardizing!Q14/standardizing!$Q$19 -> 0.024229543 | R13: =standardizing!R14/standardizing!$R$19 -> 0.083138918 | S13: =standardizing!S14/standardizing!$S$19 -> 0.16153859 | T13: =standardizing!T14/standardizing!$T$19 -> 0.085550087 | U13: =standardizing!U14/standardizing!$U$19 -> 0.021457112 | V13: =standardizing!V14/standardizing!$V$19 -> 0.0397693 | W13: =standardizing!W14/standardizing!$W$19 -> 0.047184534 | X13: =standardizing!X14/standardizing!$X$19 -> 0.027564675 | Y13: =standardizing!Y14/standardizing!$Y$19 -> 0.062073246 | Z13: =standardizing!Z14/standardizing!$Z$19 -> 0.019807222 | AA13: =standardizing!AA14/standardizing!$AA$19 -> 0.059513462 | AB13: =standardizing!AB14/standardizing!$AB$19 -> 0.080408063
... B16: =standardizing!B17/standardizing!$B$19 -> 0.022732855 | C16: =standardizing!C17/standardizing!$C$19 -> 0.040359015 | D16: =standardizing!D17/standardizing!$D$19 -> 0.011290379 | E16: =standardizing!E17/standardizing!$E$19 -> 0.0840138 | F16: =standardizing!F17/standardizing!$F$19 -> 0.053708791 | G16: =standardizing!G17/standardizing!$G$19 -> 0 | H16: =standardizing!H17/standardizing!$H$19 -> 0.032565162 | I16: =standardizing!I17/standardizing!$I$19 -> 0.070826953 | J16: =standardizing!J17/standardizing!$J$19 -> 0.067417184 | K16: =standardizing!K17/standardizing!$K$19 -> 0.076449444 | L16: =standardizing!L17/standardizing!$L$19 -> 0 | M16: =standardizing!M17/standardizing!$M$19 -> 0.065586608 | N16: =standardizing!N17/standardizing!$N$19 -> 0.042628774 | O16: =standardizing!O17/standardizing!$O$19 -> 0.043343653 | P16: =standardizing!P17/standardizing!$P$19 -> 0.053586561 | Q16: =standardizing!Q17/standardizing!$Q$19 -> 0.096068013 | R16: =standardizing!R17/standardizing!$R$19 -> 0.07359491 | S16: =standardizing!S17/standardizing!$S$19 -> 0.18904575 | T16: =standardizing!T17/standardizing!$T$19 -> 0.09146338 | U16: =standardizing!U17/standardizing!$U$19 -> 0.031770089 | V16: =standardizing!V17/standardizing!$V$19 -> 0.020478912 | W16: =standardizing!W17/standardizing!$W$19 -> 0.086487159 | X16: =standardizing!X17/standardizing!$X$19 -> 0.074278654 | Y16: =standardizing!Y17/standardizing!$Y$19 -> 0.064556176 | Z16: =standardizing!Z17/standardizing!$Z$19 -> 0.073583135 | AA16: =standardizing!AA17/standardizing!$AA$19 -> 0.069788258 | AB16: =standardizing!AB17/standardizing!$AB$19 -> 0.0794694
B17: =standardizing!B18/standardizing!$B$19 -> 0.05008127 | C17: =standardizing!C18/standardizing!$C$19 -> 0.076882919 | D17: =standardizing!D18/standardizing!$D$19 -> 0.054605822 | E17: =standardizing!E18/standardizing!$E$19 -> 0.11724703 | F17: =standardizing!F18/standardizing!$F$19 -> 0.095673077 | G17: =standardizing!G18/standardizing!$G$19 -> 0.037391304 | H17: =standardizing!H18/standardizing!$H$19 -> 0.10619996 | I17: =standardizing!I18/standardizing!$I$19 -> 0.055990484 | J17: =standardizing!J18/standardizing!$J$19 -> 0.072075569 | K17: =standardizing!K18/standardizing!$K$19 -> 0.083744924 | L17: =standardizing!L18/standardizing!$L$19 -> 0.076687457 | M17: =standardizing!M18/standardizing!$M$19 -> 0.068846171 | N17: =standardizing!N18/standardizing!$N$19 -> 0.081705151 | O17: =standardizing!O18/standardizing!$O$19 -> 0.14000688 | P17: =standardizing!P18/standardizing!$P$19 -> 0.092318429 | Q17: =standardizing!Q18/standardizing!$Q$19 -> 0.076089267 | R17: =standardizing!R18/standardizing!$R$19 -> 0.060657476 | S17: =standardizing!S18/standardizing!$S$19 -> 0.12263276 | T17: =standardizing!T18/standardizing!$T$19 -> 0.026611202 | U17: =standardizing!U18/standardizing!$U$19 -> 0.041287816 | V17: =standardizing!V18/standardizing!$V$19 -> 0.078541424 | W17: =standardizing!W18/standardizing!$W$19 -> 0.047124637 | X17: =standardizing!X18/standardizing!$X$19 -> 0.10127195 | Y17: =standardizing!Y18/standardizing!$Y$19 -> 0.10117939 | Z17: =standardizing!Z18/standardizing!$Z$19 -> 0.066996239 | AA17: =standardizing!AA18/standardizing!$AA$19 -> 0.087619782 | AB17: =standardizing!AB18/standardizing!$AB$19 -> 0.083849971 | AC17: Sum
A18: Entropy(ei) | B18: =-1/LN(16)*(B3*LN(B3)+B4*LN(B4)+B2*LN(B2)+B6*LN(B6)+B7*LN(B7)+B8*LN(B8)+B9*LN(B9)+B10*LN(B10)+B11*LN(B11)+B12*LN(B12)+B13*LN(B13)+B14*LN(B14)+B15*LN(B15)+B16*LN(B16)+B17*LN(B17)) -> 0.73150992 | C18: =-1/LN(16)*(C2*LN(C2)+C3*LN(C3)+C5*LN(C5)+C6*LN(C6)+C7*LN(C7)+C8*LN(C8)+C4*LN(C4)+C10*LN(C10)+C11*LN(C11)+C12*LN(C12)+C13*LN(C13)+C14*LN(C14)+C15*LN(C15)+C16*LN(C16)+C17*LN(C17)) -> 0.88606875 | D18: =-1/LN(16)*(D2*LN(D2)+D3*LN(D3)+D7*LN(D7)+D5*LN(D5)+D6*LN(D6)+D8*LN(D8)+D9*LN(D9)+D10*LN(D10)+D11*LN(D11)+D12*LN(D12)+D13*LN(D13)+D14*LN(D14)+D15*LN(D15)+D16*LN(D16)+D17*LN(D17)) -> 0.83666452 | E18: =-1/LN(16)*(E2*LN(E2)+E3*LN(E3)+E4*LN(E4)+E5*LN(E5)+E7*LN(E7)+E8*LN(E8)+E9*LN(E9)+E10*LN(E10)+E6*LN(E6)+E12*LN(E12)+E13*LN(E13)+E14*LN(E14)+E15*LN(E15)+E16*LN(E16)+E17*LN(E17)) -> 0.92615504 | F18: =-1/LN(16)*(F2*LN(F2)+F3*LN(F3)+F4*LN(F4)+F5*LN(F5)+F6*LN(F6)+F7*LN(F7)+F8*LN(F8)+F9*LN(F9)+F10*LN(F10)+F12*LN(F12)+F11*LN(F11)+F14*LN(F14)+F15*LN(F15)+F16*LN(F16)+F17*LN(F17)) -> 0.93441012 | G18: =-1/LN(16)*(G2*LN(G2)+G3*LN(G3)+G4*LN(G4)+G5*LN(G5)+G6*LN(G6)+G7*LN(G7)+G8*LN(G8)+G9*LN(G9)+G10*LN(G10)+G12*LN(G12)+G13*LN(G13)+G14*LN(G14)+G15*LN(G15)+G11*LN(G11)+G17*LN(G17)) -> 0.92638785 | H18: =-1/LN(16)*(H2*LN(H2)+H3*LN(H3)+H4*LN(H4)+H5*LN(H5)+H6*LN(H6)+H9*LN(H9)+H8*LN(H8)+H10*LN(H10)+H11*LN(H11)+H12*LN(H12)+H13*LN(H13)+H14*LN(H14)+H15*LN(H15)+H16*LN(H16)+H17*LN(H17)) -> 0.92709154 | I18: =-1/LN(16)*(I2*LN(I2)+I3*LN(I3)+I4*LN(I4)+I5*LN(I5)+I6*LN(I6)+I7*LN(I7)+I11*LN(I11)+I9*LN(I9)+I10*LN(I10)+I12*LN(I12)+I13*LN(I13)+I14*LN(I14)+I15*LN(I15)+I16*LN(I16)+I17*LN(I17)) -> 0.96223073 | J18: =-1/LN(16)*(J2*LN(J2)+J3*LN(J3)+J4*LN(J4)+J5*LN(J5)+J6*LN(J6)+J7*LN(J7)+J9*LN(J9)+J10*LN(J10)+J8*LN(J8)+J12*LN(J12)+J13*LN(J13)+J14*LN(J14)+J15*LN(J15)+J16*LN(J16)+J17*LN(J17)) -> 0.97272631 | K18: =-1/LN(16)*(K3*LN(K3)+K4*LN(K4)+K11*LN(K11)+K6*LN(K6)+K7*LN(K7)+K5*LN(K5)+K9*LN(K9)+K10*LN(K10)+K2*LN(K2)+K12*LN(K12)+K13*LN(K13)+K14*LN(K14)+K15*LN(K15)+K16*LN(K16)+K17*LN(K17)) -> 0.95334854 | L18: =-1/LN(16)*(L2*LN(L2)+L3*LN(L3)+L4*LN(L4)+L5*LN(L5)+L6*LN(L6)+L7*LN(L7)+L8*LN(L8)+L13*LN(L13)+L10*LN(L10)+L11*LN(L11)+L12*LN(L12)+L14*LN(L14)+L15*LN(L15)+L9*LN(L9)+L17*LN(L17)) -> 0.96927897 | M18: =-1/LN(16)*(M2*LN(M2)+M3*LN(M3)+M17*LN(M17)+M5*LN(M5)+M6*LN(M6)+M7*LN(M7)+M8*LN(M8)+M9*LN(M9)+M10*LN(M10)+M11*LN(M11)+M12*LN(M12)+M13*LN(M13)+M4*LN(M4)+M15*LN(M15)+M16*LN(M16)) -> 0.97620023 | N18: =-1/LN(16)*(N11*LN(N11)+N3*LN(N3)+N4*LN(N4)+N7*LN(N7)+N6*LN(N6)+N8*LN(N8)+N9*LN(N9)+N10*LN(N10)+N5*LN(N5)+N12*LN(N12)+N13*LN(N13)+N14*LN(N14)+N15*LN(N15)+N16*LN(N16)+N17*LN(N17)) -> 0.96871001 | O18: =-1/LN(16)*(O2*LN(O2)+O3*LN(O3)+O4*LN(O4)+O6*LN(O6)+O7*LN(O7)+O8*LN(O8)+O9*LN(O9)+O10*LN(O10)+O11*LN(O11)+O12*LN(O12)+O16*LN(O16)+O14*LN(O14)+O15*LN(O15)+O5*LN(O5)+O17*LN(O17)) -> 0.87939812 | P18: =-1/LN(16)*(P2*LN(P2)+P3*LN(P3)+P9*LN(P9)+P5*LN(P5)+P6*LN(P6)+P7*LN(P7)+P8*LN(P8)+P10*LN(P10)+P11*LN(P11)+P16*LN(P16)+P13*LN(P13)+P14*LN(P14)+P15*LN(P15)+P4*LN(P4)+P17*LN(P17)) -> 0.95688873 | Q18: =-1/LN(16)*(Q2*LN(Q2)+Q4*LN(Q4)+Q5*LN(Q5)+Q6*LN(Q6)+Q16*LN(Q16)+Q7*LN(Q7)+Q9*LN(Q9)+Q10*LN(Q10)+Q11*LN(Q11)+Q12*LN(Q12)+Q13*LN(Q13)+Q14*LN(Q14)+Q15*LN(Q15)+Q3*LN(Q3)+Q17*LN(Q17)) -> 0.94349868 | R18: =-1/LN(16)*(R2*LN(R2)+R3*LN(R3)+R4*LN(R4)+R5*LN(R5)+R8*LN(R8)+R7*LN(R7)+R9*LN(R9)+R10*LN(R10)+R11*LN(R11)+R12*LN(R12)+R13*LN(R13)+R14*LN(R14)+R15*LN(R15)+R16*LN(R16)+R17*LN(R17)) -> 0.91487488 | S18: =-1/LN(16)*(S3*LN(S3)+S4*LN(S4)+S5*LN(S5)+S6*LN(S6)+S7*LN(S7)+S11*LN(S11)+S9*LN(S9)+S10*LN(S10)+S2*LN(S2)+S12*LN(S12)+S13*LN(S13)+S14*LN(S14)+S15*LN(S15)+S16*LN(S16)+S17*LN(S17)) -> 0.84276403 | T18: =-1/LN(16)*(T8*LN(T8)+T4*LN(T4)+T5*LN(T5)+T6*LN(T6)+T7*LN(T7)+T11*LN(T11)+T9*LN(T9)+T10*LN(T10)+T3*LN(T3)+T12*LN(T12)+T13*LN(T13)+T14*LN(T14)+T15*LN(T15)+T16*LN(T16)+T17*LN(T17)) -> 0.95379631 | U18: =-1/LN(16)*(U2*LN(U2)+U3*LN(U3)+U16*LN(U16)+U5*LN(U5)+U6*LN(U6)+U7*LN(U7)+U9*LN(U9)+U10*LN(U10)+U11*LN(U11)+U12*LN(U12)+U13*LN(U13)+U14*LN(U14)+U15*LN(U15)+U8*LN(U8)+U17*LN(U17)) -> 0.80787284 | V18: =-1/LN(16)*(V2*LN(V2)+V3*LN(V3)+V14*LN(V14)+V6*LN(V6)+V7*LN(V7)+V8*LN(V8)+V9*LN(V9)+V10*LN(V10)+V11*LN(V11)+V12*LN(V12)+V13*LN(V13)+V16*LN(V16)+V15*LN(V15)+V5*LN(V5)+V17*LN(V17)) -> 0.86633001 | W18: =-1/LN(16)*(W14*LN(W14)+W3*LN(W3)+W4*LN(W4)+W5*LN(W5)+W6*LN(W6)+W7*LN(W7)+W9*LN(W9)+W10*LN(W10)+W11*LN(W11)+W12*LN(W12)+W13*LN(W13)+W8*LN(W8)+W2*LN(W2)+W16*LN(W16)+W17*LN(W17)) -> 0.96224618 | X18: =-1/LN(16)*(X3*LN(X3)+X4*LN(X4)+X5*LN(X5)+X6*LN(X6)+X7*LN(X7)+X8*LN(X8)+X9*LN(X9)+X10*LN(X10)+X13*LN(X13)+X12*LN(X12)+X2*LN(X2)+X14*LN(X14)+X15*LN(X15)+X16*LN(X16)+X17*LN(X17)) -> 0.94455996 | Y18: =-1/LN(16)*(Y2*LN(Y2)+Y3*LN(Y3)+Y5*LN(Y5)+Y6*LN(Y6)+Y7*LN(Y7)+Y8*LN(Y8)+Y9*LN(Y9)+Y10*LN(Y10)+Y12*LN(Y12)+Y13*LN(Y13)+Y4*LN(Y4)+Y14*LN(Y14)+Y15*LN(Y15)+Y16*LN(Y16)+Y17*LN(Y17)) -> 0.96463379 | Z18: =-1/LN(16)*(Z2*LN(Z2)+Z3*LN(Z3)+Z4*LN(Z4)+Z5*LN(Z5)+Z6*LN(Z6)+Z7*LN(Z7)+Z12*LN(Z12)+Z8*LN(Z8)+Z10*LN(Z10)+Z11*LN(Z11)+Z15*LN(Z15)+Z13*LN(Z13)+Z14*LN(Z14)+Z16*LN(Z16)+Z17*LN(Z17)) -> 0.93707794 | AA18: =-1/LN(16)*(AA2*LN(AA2)+AA3*LN(AA3)+AA4*LN(AA4)+AA5*LN(AA5)+AA8*LN(AA8)+AA7*LN(AA7)+AA16*LN(AA16)+AA9*LN(AA9)+AA10*LN(AA10)+AA6*LN(AA6)+AA12*LN(AA12)+AA13*LN(AA13)+AA14*LN(AA14)+AA15*LN(AA15)+AA17*LN(AA17)) -> 0.95619163 | AB18: =-1/LN(16)*(AB2*LN(AB2)+AB3*LN(AB3)+AB4*LN(AB4)+AB5*LN(AB5)+AB7*LN(AB7)+AB6*LN(AB6)+AB9*LN(AB9)+AB10*LN(AB10)+AB11*LN(AB11)+AB12*LN(AB12)+AB13*LN(AB13)+AB14*LN(AB14)+AB15*LN(AB15)+AB16*LN(AB16)+AB17*LN(AB17)) -> 0.95336556 | AC18: =SUM(B18:AB18) -> 24.854281
A19: Weight (1) | B19: =(1-B18)/(27-$AC$18) -> 0.12512827 | C19: =(1-C18)/(27-$AC$18) -> 0.05309701 | D19: =(1-D18)/(27-$AC$18) -> 0.076121569 | E19: =(1-E18)/(27-$AC$18) -> 0.034415021 | F19: =(1-F18)/(27-$AC$18) -> 0.030567789 | G19: =(1-G18)/(27-$AC$18) -> 0.034306522 | H19: =(1-H18)/(27-$AC$18) -> 0.033978572 | I19: =(1-I18)/(27-$AC$18) -> 0.017602152 | ... AB19: =(1-AB18)/(27-$AC$18) -> 0.021733714 | AC19: =SUM(B19:AB19) -> 1
A20: Weight(%) | B20: =B19*100 -> 12.512827 | C20: =C19*100 -> 5.309701 | D20: =D19*100 -> 7.6121569 | E20: =E19*100 -> 3.4415021 | F20: =F19*100 -> 3.0567789 | G20: =G19*100 -> 3.4306522 | H20: =H19*100 -> 3.3978572 | I20: =I19*100 -> 1.7602152 | ... AB20: =AB19*100 -> 2.1733714 | AC20: =SUM(B20:AB20) -> 100

Sheet aggregating
A1: regions | B1: Inclusive subsystem performance
A2: Hefei | B2: =standardizing!B3*weighting!$B$19 -> 0.11813979 | C2: =standardizing!C3*weighting!$C$19 -> 0.05309701 | D2: =standardizing!D3*weighting!$D$19 -> 0.065573374 | E2: =standardizing!E3*weighting!$E$19 -> 0.0089388718 | F2: =standardizing!F3*weighting!$F$19 -> 0.0092340197 | G2: =standardizing!G3*weighting!$G$19 -> 0.019666159 | H2: =standardizing!H3*weighting!$H$19 -> 0.021188447 | I2: =standardizing!I3*weighting!$I$19 -> 0.0082996504 | J2: =standardizing!J3*weighting!$J$19 -> 0.0069725051 | K2: =SUM(B2:J2) -> 0.31110983
A3: Huaibei | B3: =standardizing!B4*weighting!$B$19 -> 0.022100183 | C3: =standardizing!C4*weighting!$C$19 -> 0.024670172 | D3: =standardizing!D4*weighting!$D$19 -> 0.05450182 | E3: =standardizing!E4*weighting!$E$19 -> 0.009805804 | F3: =standardizing!F4*weighting!$F$19 -> 0.0085016664 | G3: =standardizing!G4*weighting!$G$19 -> 0.014858876 | H3: =standardizing!H4*weighting!$H$19 -> 0.015761086 | I3: =standardizing!I4*weighting!$I$19 -> 0.016037106 | J3: =standardizing!J4*weighting!$J$19 -> 0.0078603086 | K3: =SUM(B3:J3) -> 0.17409702
A4: Bozhou | B4: =standardizing!B5*weighting!$B$19 -> 0.0040910764 | C4: =standardizing!C5*weighting!$C$19 -> 0.0047482998 | D4: =standardizing!D5*weighting!$D$19 -> 0 | E4: =standardizing!E5*weighting!$E$19 -> 0.0065784851 | F4: =standardizing!F5*weighting!$F$19 -> 0.030567789 | G4: =standardizing!G5*weighting!$G$19 -> 0.022506826 | H4: =standardizing!H5*weighting!$H$19 -> 0.00080629163 | I4: =standardizing!I5*weighting!$I$19 -> 0.0166882 | J4: =standardizing!J5*weighting!$J$19 -> 0.012645786 | K4: =SUM(B4:J4) -> 0.098632754
A5: Suzhou | B5: =standardizing!B6*weighting!$B$19 -> 0 | C5: =standardizing!C6*weighting!$C$19 -> 0.0068574893 | D5: =standardizing!D6*weighting!$D$19 -> 0.0015906729 | E5: =standardizing!E6*weighting!$E$19 -> 0.018511551 | F5: =standardizing!F6*weighting!$F$19 -> 0.01870685 | G5: =standardizing!G6*weighting!$G$19 -> 0.0050257962 | H5: =standardizing!H6*weighting!$H$19 -> 0.0083530992 | I5: =standardizing!I6*weighting!$I$19 -> 0.013831518 | J5: =standardizing!J6*weighting!$J$19 -> 0.01232098 | K5: =SUM(B5:J5) -> 0.085197956
A6: Bengbu | B6: =standardizing!B7*weighting!$B$19 -> 0.002599182 | C6: =standardizing!C7*weighting!$C$19 -> 0.021459167 | D6: =standardizing!D7*weighting!$D$19 -> 0.032276085 | E6: =standardizing!E7*weighting!$E$19 -> 0.016100169 | F6: =standardizing!F7*weighting!$F$19 -> 0.0052697595 | G6: =standardizing!G7*weighting!$G$19 -> 0.0072109249 | H6: =standardizing!H7*weighting!$H$19 -> 0.018424177 | I6: =standardizing!I7*weighting!$I$19 -> 0.0061208992 | J6: =standardizing!J7*weighting!$J$19 -> 0.010610334 | K6: =SUM(B6:J6) -> 0.1200707
A7: Fuyang | B7: =standardizing!B8*weighting!$B$19 -> 0.0017547333 | C7: =standardizing!C8*weighting!$C$19 -> 0.0047010791 | D7: =standardizing!D8*weighting!$D$19 -> 0.0039088456 | E7: =standardizing!E8*weighting!$E$19 -> 0.022700509 | F7: =standardizing!F8*weighting!$F$19 -> 0.018611326 | G7: =standardizing!G8*weighting!$G$19 -> 0.020321698 | H7: =standardizing!H8*weighting!$H$19 -> 0 | I7: =standardizing!I8*weighting!$I$19 -> 0.01543431 | J7: =standardizing!J8*weighting!$J$19 -> 0.012710747 | K7: =SUM(B7:J7) -> 0.10014325
A8: Huainan | B8: =standardizing!B9*weighting!$B$19 -> 0.028052119 | C8: =standardizing!C9*weighting!$C$19 -> 0.019958599 | D8: =standardizing!D9*weighting!$D$19 -> 0.061998881 | E8: =standardizing!E9*weighting!$E$19 -> 0.031697662 | F8: =standardizing!F9*weighting!$F$19 -> 0.0066071003 | G8: =standardizing!G9*weighting!$G$19 -> 0.0072109249 | H8: =standardizing!H9*weighting!$H$19 -> 0.021209258 | I8: =standardizing!I9*weighting!$I$19 -> 0 | J8: =standardizing!J9*weighting!$J$19 -> 0.010891833 | K8: =SUM(B8:J8) -> 0.18762638
A9: Chuzhou | B9: =standardizing!B10*weighting!$B$19 -> 0.0040862305 | C9: =standardizing!C10*weighting!$C$19 -> 0 | D9: =standardizing!D10*weighting!$D$19 -> 0.0027281437 | E9: =standardizing!E10*weighting!$E$19 -> 0.030473758 | F9: =standardizing!F10*weighting!$F$19 -> 0.014535621 | G9: =standardizing!G10*weighting!$G$19 -> 0.034306522 | H9: =standardizing!H10*weighting!$H$19 -> 0.025131819 | I9: =standardizing!I10*weighting!$I$19 -> 0.010680207 | J9: =standardizing!J10*weighting!$J$19 -> 0.011866251 | K9: =SUM(B9:J9) -> 0.13380855
A10: Lu’an | B10: =standardizing!B11*weighting!$B$19 -> 0.000746286 | C10: =standardizing!C11*weighting!$C$19 -> 0.0056192587 | D10: =standardizing!D11*weighting!$D$19 -> 0.0051371447 | E10: =standardizing!E11*weighting!$E$19 -> 0.0096163902 | F10: =standardizing!F11*weighting!$F$19 -> 0.026253273 | G10: =standardizing!G11*weighting!$G$19 -> 0.0076479507 | H10: =standardizing!H11*weighting!$H$19 -> 0.0083568846 | I10: =standardizing!I11*weighting!$I$19 -> 0.0095767853 | J10: =standardizing!J11*weighting!$J$19 -> 0.011671367 | K10: =SUM(B10:J10) -> 0.084625341
A11: Ma’anshan | B11: =standardizing!B12*weighting!$B$19 -> 0.086002222 | C11: =standardizing!C12*weighting!$C$19 -> 0.018867277 | D11: =standardizing!D12*weighting!$D$19 -> 0.035390536 | E11: =standardizing!E12*weighting!$E$19 -> 0 | F11: =standardizing!F12*weighting!$F$19 -> 0.010380312 | G11: =standardizing!G12*weighting!$G$19 -> 0.03190288 | H11: =standardizing!H12*weighting!$H$19 -> 0.027416793 | I11: =standardizing!I12*weighting!$I$19 -> 0.017602152 | J11: =standardizing!J12*weighting!$J$19 -> 0 | K11: =SUM(B11:J11) -> 0.22756217
A12: Wuhu | B12: =standardizing!B13*weighting!$B$19 -> 0.038749491 | C12: =standardizing!C13*weighting!$C$19 -> 0.014334094 | D12: =standardizing!D13*weighting!$D$19 -> 0.046830721 | E12: =standardizing!E13*weighting!$E$19 -> 0.0032418891 | F12: =standardizing!F13*weighting!$F$19 -> 0.014424176 | G12: =standardizing!G13*weighting!$G$19 -> 0.027095597 | H12: =standardizing!H13*weighting!$H$19 -> 0.030338688 | I12: =standardizing!I13*weighting!$I$19 -> 0.010905047 | J12: =standardizing!J13*weighting!$J$19 -> 0.011368215 | K12: =SUM(B12:J12) -> 0.19728792
A13: Xuancheng | B13: =standardizing!B14*weighting!$B$19 -> 0.0053437442 | C13: =standardizing!C14*weighting!$C$19 -> 0.013741212 | D13: =standardizing!D14*weighting!$D$19 -> 0.010821251 | E13: =standardizing!E14*weighting!$E$19 -> 0.023618437 | F13: =standardizing!F14*weighting!$F$19 -> 0 | G13: =standardizing!G14*weighting!$G$19 -> 0.016825492 | H13: =standardizing!H14*weighting!$H$19 -> 0.033978572 | I13: =standardizing!I14*weighting!$I$19 -> 0.0092282971 | J13: =standardizing!J14*weighting!$J$19 -> 0.012104442 | K13: =SUM(B13:J13) -> 0.12566145
... A17: Huangshan | B17: =standardizing!B18*weighting!$B$19 -> 0.024281616 | C17: =standardizing!C18*weighting!$C$19 -> 0.020089768 | D17: =standardizing!D18*weighting!$D$19 -> 0.024222984 | E17: =standardizing!E18*weighting!$E$19 -> 0.034415021 | F17: =standardizing!F18*weighting!$F$19 -> 0.022177568 | G17: =standardizing!G18*weighting!$G$19 -> 0.0093960537 | H17: =standardizing!H18*weighting!$H$19 -> 0.031381694 | I17: =standardizing!I18*weighting!$I$19 -> 0.010078742 | J17: =standardizing!J18*weighting!$J$19 -> 0.012061135 | K17: =SUM(B17:J17) -> 0.18810458
A18: regions | B18: Green subsystem performance
A19: Hefei | B19: =standardizing!K3*weighting!$K$19 -> 0.018813974 | C19: =standardizing!L3*weighting!$L$19 -> 0.014317361 | D19: =standardizing!M3*weighting!$M$19 -> 0.010910985 | E19: =standardizing!N3*weighting!$N$19 -> 0 | F19: =standardizing!O3*weighting!$O$19 -> 0.035326147 | G19: =standardizing!P3*weighting!$P$19 -> 0.0028142538 | H19: =standardizing!Q3*weighting!$Q$19 -> 0.026332115 | I19: =standardizing!R3*weighting!$R$19 -> 0.039672077 | J19: =standardizing!S3*weighting!$S$19 -> 0.0054203086 | K19: =SUM(B19:J19) -> 0.15360722
A20: Huaibei | B20: =standardizing!K4*weighting!$K$19 -> 0.011208674 | C20: =standardizing!L4*weighting!$L$19 -> 0.013268683 | D20: =standardizing!M4*weighting!$M$19 -> 0.01102793 | E20: =standardizing!N4*weighting!$N$19 -> 0.012363441 | F20: =standardizing!O4*weighting!$O$19 -> 0.031319507 | G20: =standardizing!P4*weighting!$P$19 -> 0.013458164 | H20: =standardizing!Q4*weighting!$Q$19 -> 0.025192197 | I20: =standardizing!R4*weighting!$R$19 -> 0.021644796 | J20: =standardizing!S4*weighting!$S$19 -> 0.0039253201 | K20: =SUM(B20:J20) -> 0.14340871
A21: Bozhou | B21: =standardizing!K5*weighting!$K$19 -> 0.019853446 | C21: =standardizing!L5*weighting!$L$19 -> 0.014090368 | D21: =standardizing!M5*weighting!$M$19 -> 0.011080841 | E21: =standardizing!N5*weighting!$N$19 -> 0.014265509 | F21: =standardizing!O5*weighting!$O$19 -> 0.018453115 | G21: =standardizing!P5*weighting!$P$19 -> 0.020091762 | H21: =standardizing!Q5*weighting!$Q$19 -> 0.026332115 | I21: =standardizing!R5*weighting!$R$19 -> 0.0081394078 | J21: =standardizing!S5*weighting!$S$19 -> 0.011185033 | K21: =SUM(B21:J21) -> 0.1434916
A22: Suzhou | B22: =standardizing!K6*weighting!$K$19 -> 0.017366122 | C22: =standardizing!L6*weighting!$L$19 -> 0.013111648 | D22: =standardizing!M6*weighting!$M$19 -> 0.010880602 | E22: =standardizing!N6*weighting!$N$19 -> 0.013631487 | F22: =standardizing!O6*weighting!$O$19 -> 0.0067717853 | G22: =standardizing!P6*weighting!$P$19 -> 0.016141756 | H22: =standardizing!Q6*weighting!$Q$19 -> 0.0060985635 | I22: =standardizing!R6*weighting!$R$19 -> 0.006029191 | J22: =standardizing!S6*weighting!$S$19 -> 0.016559916 | K22: =SUM(B22:J22) -> 0.10659107
A23: Bengbu | B23: =standardizing!K7*weighting!$K$19 -> 0.020184816 | C23: =standardizing!L7*weighting!$L$19 -> 0.0098279031 | D23: =standardizing!M7*weighting!$M$19 -> 0.010915571 | E23: =standardizing!N7*weighting!$N$19 -> 0.014265509 | F23: =standardizing!O7*weighting!$O$19 -> 0.0043452289 | G23: =standardizing!P7*weighting!$P$19 -> 0.015357785 | H23: =standardizing!Q7*weighting!$Q$19 -> 0.018352686 | I23: =standardizing!R7*weighting!$R$19 -> 0 | J23: =standardizing!S7*weighting!$S$19 -> 0.0021948711 | K23: =SUM(B23:J23) -> 0.095444371
A24: Fuyang | B24: =standardizing!K8*weighting!$K$19 -> 0.018604546 | C24: =standardizing!L8*weighting!$L$19 -> 0.013119077 | D24: =standardizing!M8*weighting!$M$19 -> 0.010793198 | E24: =standardizing!N8*weighting!$N$19 -> 0.0072912603 | F24: =standardizing!O8*weighting!$O$19 -> 0.00033858926 | G24: =standardizing!P8*weighting!$P$19 -> 0.015438192 | H24: =standardizing!Q8*weighting!$Q$19 -> 0.020518531 | I24: =standardizing!R8*weighting!$R$19 -> 0.0010852544 | J24: =standardizing!S8*weighting!$S$19 -> 0.011739639 | K24: =SUM(B24:J24) -> 0.098928288
A25: Huainan | B25: =standardizing!K9*weighting!$K$19 -> 0 | C25: =standardizing!L9*weighting!$L$19 -> 0.010917482 | D25: =standardizing!M9*weighting!$M$19 -> 0.0087290803 | E25: =standardizing!N9*weighting!$N$19 -> 0.0082422942 | F25: =standardizing!O9*weighting!$O$19 -> 0.025563489 | G25: =standardizing!P9*weighting!$P$19 -> 0.016171908 | H25: =standardizing!Q9*weighting!$Q$19 -> 0 | I25: =standardizing!R9*weighting!$R$19 -> 0.027432819 | J25: =standardizing!S9*weighting!$S$19 -> 0 | K25: =SUM(B25:J25) -> 0.097057073
A26: Chuzhou | B26: =standardizing!K10*weighting!$K$19 -> 0.020229747 | C26: =standardizing!L10*weighting!$L$19 -> 0.0060646508 | D26: =standardizing!M10*weighting!$M$19 -> 0.011046951 | E26: =standardizing!N10*weighting!$N$19 -> 0.011412407 | F26: =standardizing!O10*weighting!$O$19 -> 0.0071103745 | G26: =standardizing!P10*weighting!$P$19 -> 0.015036156 | H26: =standardizing!Q10*weighting!$Q$19 -> 0.019435609 | I26: =standardizing!R10*weighting!$R$19 -> 0.011334879 | J26: =standardizing!S10*weighting!$S$19 -> 0.032792306 | K26: =SUM(B26:J26) -> 0.13446308
A27: Lu’an | B27: =standardizing!K11*weighting!$K$19 -> 0.018704778 | C27: =standardizing!L11*weighting!$L$19 -> 0.01046264 | D27: =standardizing!M11*weighting!$M$19 -> 0.011053488 | E27: =standardizing!N11*weighting!$N$19 -> 0.013314475 | F27: =standardizing!O11*weighting!$O$19 -> 0.014051454 | G27: =standardizing!P11*weighting!$P$19 -> 0.013267196 | H27: =standardizing!Q11*weighting!$Q$19 -> 0.01607285 | I27: =standardizing!R11*weighting!$R$19 -> 0.0350296 | J27: =standardizing!S11*weighting!$S$19 -> 0.020290611 | K27: =SUM(B27:J27) -> 0.15224709
A28: Ma’anshan | B28: =standardizing!K12*weighting!$K$19 -> 0.0016338423 | C28: =standardizing!L12*weighting!$L$19 -> 0.012019533 | D28: =standardizing!M12*weighting!$M$19 -> 0.010587065 | E28: =standardizing!N12*weighting!$N$19 -> 0.011412407 | F28: =standardizing!O12*weighting!$O$19 -> 0.035326147 | G28: =standardizing!P12*weighting!$P$19 -> 0.013297349 | H28: =standardizing!Q12*weighting!$Q$19 -> 0.0092333391 | I28: =standardizing!R12*weighting!$R$19 -> 0.016218524 | J28: =standardizing!S12*weighting!$S$19 -> 0.0054066661 | K28: =SUM(B28:J28) -> 0.11513487
A29: Wuhu | B29: =standardizing!K13*weighting!$K$19 -> 0.019301524 | C29: =standardizing!L13*weighting!$L$19 -> 0.008047261 | D29: =standardizing!M13*weighting!$M$19 -> 0.010803803 | E29: =standardizing!N13*weighting!$N$19 -> 0.011729419 | F29: =standardizing!O13*weighting!$O$19 -> 0.011850624 | G29: =standardizing!P13*weighting!$P$19 -> 0 | H29: =standardizing!Q13*weighting!$Q$19 -> 0.0091193473 | I29: =standardizing!R13*weighting!$R$19 -> 0.023875596 | J29: =standardizing!S13*weighting!$S$19 -> 0.019956051 | K29: =SUM(B29:J29) -> 0.11468363
A30: Xuancheng | B30: =standardizing!K14*weighting!$K$19 -> 0.020946491 | C30: =standardizing!L14*weighting!$L$19 -> 0.010137671 | D30: =standardizing!M14*weighting!$M$19 -> 0.010932527 | E30: =standardizing!N14*weighting!$N$19 -> 0.013314475 | F30: =standardizing!O14*weighting!$O$19 -> 0 | G30: =standardizing!P14*weighting!$P$19 -> 0.011799764 | H30: =standardizing!Q14*weighting!$Q$19 -> 0.0064975349 | I30: =standardizing!R14*weighting!$R$19 -> 0.023634429 | J30: =standardizing!S14*weighting!$S$19 -> 0.062616453 | K30: =SUM(B30:J30) -> 0.15987935
... A34: Huangshan | B34: =standardizing!K18*weighting!$K$19 -> 0.021741648 | C34: =standardizing!L18*weighting!$L$19 -> 0.013193366 | D34: =standardizing!M18*weighting!$M$19 -> 0.011091747 | E34: =standardizing!N18*weighting!$N$19 -> 0.014582521 | F34: =standardizing!O18*weighting!$O$19 -> 0.045935277 | G34: =standardizing!P18*weighting!$P$19 -> 0.018614279 | H34: =standardizing!Q18*weighting!$Q$19 -> 0.020404539 | I34: =standardizing!R18*weighting!$R$19 -> 0.017243486 | J34: =standardizing!S18*weighting!$S$19 -> 0.047535566 | K34: =SUM(B34:J34) -> 0.21034243
A35: regions | B35: Growth subsystem performance
A36: Hefei | B36: =standardizing!T3*weighting!$T$19 -> 0 | C36: =standardizing!U3*weighting!$U$19 -> 0.041777909 | D36: =standardizing!V3*weighting!$V$19 -> 0.049290021 | E36: =standardizing!W3*weighting!$W$19 -> 0.014313447 | F36: =standardizing!X3*weighting!$X$19 -> 0.025371939 | G36: =standardizing!Y3*weighting!$Y$19 -> 0.013853154 | H36: =standardizing!Z3*weighting!$Z$19 -> 0.029324467 | I36: =standardizing!AA3*weighting!$AA$19 -> 0.019585965 | J36: =standardizing!AB3*weighting!$AB$19 -> 0.02112552 | K36: =SUM(B36:J36) -> 0.21464242
A37: Huaibei | B37: =standardizing!T4*weighting!$T$19 -> 0.010066891 | C37: =standardizing!U4*weighting!$U$19 -> 0.02717723 | D37: =standardizing!V4*weighting!$V$19 -> 0.014714038 | E37: =standardizing!W4*weighting!$W$19 -> 0.014288334 | F37: =standardizing!X4*weighting!$X$19 -> 0.012654536 | G37: =standardizing!Y4*weighting!$Y$19 -> 0.0067749002 | H37: =standardizing!Z4*weighting!$Z$19 -> 0.021973344 | I37: =standardizing!AA4*weighting!$AA$19 -> 0.014671197 | J37: =standardizing!AB4*weighting!$AB$19 -> 0.0073245523 | K37: =SUM(B37:J37) -> 0.12964502
A38: Bozhou | B38: =standardizing!T5*weighting!$T$19 -> 0.020855728 | C38: =standardizing!U5*weighting!$U$19 -> 0 | D38: =standardizing!V5*weighting!$V$19 -> 0 | E38: =standardizing!W5*weighting!$W$19 -> 0.016443219 | F38: =standardizing!X5*weighting!$X$19 -> 0.024273604 | G38: =standardizing!Y5*weighting!$Y$19 -> 0.013246447 | H38: =standardizing!Z5*weighting!$Z$19 -> 0.023625303 | I38: =standardizing!AA5*weighting!$AA$19 -> 0.019958804 | J38: =standardizing!AB5*weighting!$AB$19 -> 0.019549222 | K38: =SUM(B38:J38) -> 0.13795233
A39: Suzhou | B39: =standardizing!T6*weighting!$T$19 -> 0.019088991 | C39: =standardizing!U6*weighting!$U$19 -> 0.0024436549 | D39: =standardizing!V6*weighting!$V$19 -> 0.0059408041 | E39: =standardizing!W6*weighting!$W$19 -> 0.014344035 | F39: =standardizing!X6*weighting!$X$19 -> 0.022634302 | G39: =standardizing!Y6*weighting!$Y$19 -> 0.011426324 | H39: =standardizing!Z6*weighting!$Z$19 -> 0.01979941 | I39: =standardizing!AA6*weighting!$AA$19 -> 0.018378666 | J39: =standardizing!AB6*weighting!$AB$19 -> 0.017674402 | K39: =SUM(B39:J39) -> 0.13173059
A40: Bengbu | B40: =standardizing!T7*weighting!$T$19 -> 0.015413641 | C40: =standardizing!U7*weighting!$U$19 -> 0.016075688 | D40: =standardizing!V7*weighting!$V$19 -> 0.014660016 | E40: =standardizing!W7*weighting!$W$19 -> 0.0063175985 | F40: =standardizing!X7*weighting!$X$19 -> 0.021022106 | G40: =standardizing!Y7*weighting!$Y$19 -> 0.012841975 | H40: =standardizing!Z7*weighting!$Z$19 -> 0.0091345099 | I40: =standardizing!AA7*weighting!$AA$19 -> 0.017950413 | J40: =standardizing!AB7*weighting!$AB$19 -> 0.020300033 | K40: =SUM(B40:J40) -> 0.13371598
A41: Fuyang | B41: =standardizing!T8*weighting!$T$19 -> 0.021532967 | C41: =standardizing!U8*weighting!$U$19 -> 0.00081201635 | D41: =standardizing!V8*weighting!$V$19 -> 0.00084711589 | E41: =standardizing!W8*weighting!$W$19 -> 0.015264112 | F41: =standardizing!X8*weighting!$X$19 -> 0.016081422 | G41: =standardizing!Y8*weighting!$Y$19 -> 0.0086961405 | H41: =standardizing!Z8*weighting!$Z$19 -> 0.021689029 | I41: =standardizing!AA8*weighting!$AA$19 -> 0.018235387 | J41: =standardizing!AB8*weighting!$AB$19 -> 0.019167518 | K41: =SUM(B41:J41) -> 0.12232571
A42: Huainan | B42: =standardizing!T9*weighting!$T$19 -> 0.012828822 | C42: =standardizing!U9*weighting!$U$19 -> 0.053930578 | D42: =standardizing!V9*weighting!$V$19 -> 0.015501485 | E42: =standardizing!W9*weighting!$W$19 -> 0.013152702 | F42: =standardizing!X9*weighting!$X$19 -> 0.0095900417 | G42: =standardizing!Y9*weighting!$Y$19 -> 0.0089994943 | H42: =standardizing!Z9*weighting!$Z$19 -> 0.0088821459 | I42: =standardizing!AA9*weighting!$AA$19 -> 0.0046563348 | J42: =standardizing!AB9*weighting!$AB$19 -> 0 | K42: =SUM(B42:J42) -> 0.1275416
A43: Chuzhou | B43: =standardizing!T10*weighting!$T$19 -> 0.02127385 | C43: =standardizing!U10*weighting!$U$19 -> 0.0034691963 | D43: =standardizing!V10*weighting!$V$19 -> 0.011928027 | E43: =standardizing!W10*weighting!$W$19 -> 0.016875335 | F43: =standardizing!X10*weighting!$X$19 -> 0.014604297 | G43: =standardizing!Y10*weighting!$Y$19 -> 0.012740857 | H43: =standardizing!Z10*weighting!$Z$19 -> 0 | I43: =standardizing!AA10*weighting!$AA$19 -> 0.018674604 | J43: =standardizing!AB10*weighting!$AB$19 -> 0.020458436 | K43: =SUM(B43:J43) -> 0.1200246
A44: Lu’an | B44: =standardizing!T11*weighting!$T$19 -> 0.02130121 | C44: =standardizing!U11*weighting!$U$19 -> 0.0020393916 | D44: =standardizing!V11*weighting!$V$19 -> 0.009834081 | E44: =standardizing!W11*weighting!$W$19 -> 0.016194194 | F44: =standardizing!X11*weighting!$X$19 -> 0.021928425 | G44: =standardizing!Y11*weighting!$Y$19 -> 0.011931914 | H44: =standardizing!Z11*weighting!$Z$19 -> 0.012679051 | I44: =standardizing!AA11*weighting!$AA$19 -> 0.019698083 | J44: =standardizing!AB11*weighting!$AB$19 -> 0.019048337 | K44: =SUM(B44:J44) -> 0.13465469
A45: Ma’anshan | B45: =standardizing!T12*weighting!$T$19 -> 0.010895482 | C45: =standardizing!U12*weighting!$U$19 -> 0.056130898 | D45: =standardizing!V12*weighting!$V$19 -> 0.062296134 | E45: =standardizing!W12*weighting!$W$19 -> 0.0065450909 | F45: =standardizing!X12*weighting!$X$19 -> 0 | G45: =standardizing!Y12*weighting!$Y$19 -> 0 | H45: =standardizing!Z12*weighting!$Z$19 -> 0.0074346974 | I45: =standardizing!AA12*weighting!$AA$19 -> 0 | J45: =standardizing!AB12*weighting!$AB$19 -> 0.0064206881 | K45: =SUM(B45:J45) -> 0.14972299
A46: Wuhu | B46: =standardizing!T13*weighting!$T$19 -> 0.00828888 | C46: =standardizing!U13*weighting!$U$19 -> 0.040760107 | D46: =standardizing!V13*weighting!$V$19 -> 0.029427951 | E46: =standardizing!W13*weighting!$W$19 -> 0.016720705 | F46: =standardizing!X13*weighting!$X$19 -> 0.016946059 | G46: =standardizing!Y13*weighting!$Y$19 -> 0.011830796 | H46: =standardizing!Z13*weighting!$Z$19 -> 0.020769903 | I46: =standardizing!AA13*weighting!$AA$19 -> 0.014473247 | J46: =standardizing!AB13*weighting!$AB$19 -> 0.020414947 | K46: =SUM(B46:J46) -> 0.17963259
...

Sheet 2009CCD
A2: Regions | B2: performance of each subsystem | E2: Caclulation process | K2: Results
B3: INC | C3: GRE | D3: GRO | E3: INC*GRE*GRO | F3: T | G3: T3 | I3: C | J3: C*T | K3: CCD
A4: Hefei | B4: =aggregating!K2 -> 0.31110983 | C4: =aggregating!K19 -> 0.15360722 | D4: =aggregating!K36 -> 0.21464242 | E4: =B4*C4*D4 -> 0.010257486 | F4: =(B4+C4+D4)/3 -> 0.22645316 | G4: =F4*F4*F4 -> 0.011612752 | H4: =E4/G4 -> 0.88329503 | I4: =POWER(H4,1/3) -> 0.95947853 | J4: =I4*F4 -> 0.21727694 | K4: =SQRT(J4) -> 0.46612975
A5: Huaibei | B5: =aggregating!K3 -> 0.17409702 | C5: =aggregating!K20 -> 0.14340871 | D5: =aggregating!K37 -> 0.12964502 | E5: =B5*C5*D5 -> 0.0032368511 | F5: =(B5+C5+D5)/3 -> 0.14905025 | G5: =F5*F5*F5 -> 0.0033112971 | H5: =E5/G5 -> 0.97751759 | I5: =POWER(H5,1/3) -> 0.99244899 | J5: =I5*F5 -> 0.14792477 | K5: =SQRT(J5) -> 0.3846099
A6: Bozhou | B6: =aggregating!K4 -> 0.098632754 | C6: =aggregating!K21 -> 0.1434916 | D6: =aggregating!K38 -> 0.13795233 | E6: =B6*C6*D6 -> 0.0019524353 | F6: =(B6+C6+D6)/3 -> 0.12669223 | G6: =F6*F6*F6 -> 0.0020335268 | H6: =E6/G6 -> 0.96012275 | I6: =POWER(H6,1/3) -> 0.98652687 | J6: =I6*F6 -> 0.12498529 | K6: =SQRT(J6) -> 0.35353258
A7: Suzhou | B7: =aggregating!K5 -> 0.085197956 | C7: =aggregating!K22 -> 0.10659107 | D7: =aggregating!K39 -> 0.13173059 | E7: =B7*C7*D7 -> 0.0011962904 | F7: =(B7+C7+D7)/3 -> 0.10783987 | G7: =F7*F7*F7 -> 0.0012541171 | H7: =E7/G7 -> 0.95389054 | I7: =POWER(H7,1/3) -> 0.98438771 | J7: =I7*F7 -> 0.10615624 | K7: =SQRT(J7) -> 0.32581627
A8: Bengbu | B8: =aggregating!K6 -> 0.1200707 | C8: =aggregating!K23 -> 0.095444371 | D8: =aggregating!K40 -> 0.13371598 | E8: =B8*C8*D8 -> 0.0015323948 | F8: =(B8+C8+D8)/3 -> 0.11641035 | G8: =F8*F8*F8 -> 0.0015775196 | H8: =E8/G8 -> 0.97139505 | I8: =POWER(H8,1/3) -> 0.99037263 | J8: =I8*F8 -> 0.11528962 | K8: =SQRT(J8) -> 0.33954326
A9: Fuyang | B9: =aggregating!K7 -> 0.10014325 | C9: =aggregating!K24 -> 0.098928288 | D9: =aggregating!K41 -> 0.12232571 | E9: =B9*C9*D9 -> 0.0012118808 | F9: =(B9+C9+D9)/3 -> 0.10713241 | G9: =F9*F9*F9 -> 0.0012295967 | H9: =E9/G9 -> 0.98559212 | I9: =POWER(H9,1/3) -> 0.99517412 | J9: =I9*F9 -> 0.10661541 | K9: =SQRT(J9) -> 0.32652015
A10: Huainan | B10: =aggregating!K8 -> 0.18762638 | C10: =aggregating!K25 -> 0.097057073 | D10: =aggregating!K42 -> 0.1275416 | E10: =B10*C10*D10 -> 0.0023225922 | F10: =(B10+C10+D10)/3 -> 0.13740835 | G10: =F10*F10*F10 -> 0.0025944146 | H10: =E10/G10 -> 0.89522782 | I10: =POWER(H10,1/3) -> 0.96377988 | J10: =I10*F10 -> 0.1324314 | K10: =SQRT(J10) -> 0.36391126
A11: Chuzhou | B11: =aggregating!K9 -> 0.13380855 | C11: =aggregating!K26 -> 0.13446308 | D11: =aggregating!K43 -> 0.1200246 | E11: =B11*C11*D11 -> 0.0021595199 | F11: =(B11+C11+D11)/3 -> 0.12943208 | G11: =F11*F11*F11 -> 0.002168332 | H11: =E11/G11 -> 0.995936 | I11: =POWER(H11,1/3) -> 0.99864349 | J11: =I11*F11 -> 0.1292565 | K11: =SQRT(J11) -> 0.3595226
