Workbook

Sheet raw data

Sheet standardizing
A1: years | B1: C1:Library books per 100 persons | C1: C2:10,000 people with college degrees or above | D1: C3: Number of beds per 1,000 persons | E1: C4:Registered urban unemployment rate | F1: C5:Disposable income per capita between urban and rural residents | G1: C6:Urban population density | H1: C7:Per capita housing gross leasable area | I1: C8:Amount of fertilizer per unit cultivated area | J1: C9: Incidence of population fires | K1: C10: Industrial Solid waste production | L1: C11: Discharge of COD in industrial waste-water | M1: C12: Industrial SO2 emissions | N1: C13: Proportion of air quality reaching or better than grade 2 weather | O1: C14:Per capita green area of parks | P1: C15: Average traffic volume | Q1: C16: Central processing rate of sewage treatment plant in urban areas | R1: C17: Popularity rate of sanitation toilet in rural areas | S1: C18: Per capita afforestation area | T1: C19:Fixed asset investment per unit of GDP | U1: C20: Secondary sector Land yield | V1: C21:Tertiary sector Labor productivity | W1: C22:Water consumption per unit of GDP | X1: C23:Power consumption per unit of GDP | Y1: C24: Energy consumption per unit of industrial added value | Z1: C25: Industrial waste water discharge per unit of GDP | AA1: C26:Industrial waste gas emission per unit of GDP | AB1: C27: Solid waste generation per unit of GDP
A2: 2009 | B2: 0 | C2: 0 | D2: 0 | E2: 0 | F2: 0 | G2: 1 | H2: 0.22733333 | I2: 0.22272009 | J2: 0.88 | K2: 1 | L2: 0 | M2: 0 | N2: 1 | O2: 0 | P2: 1 | Q2: 0 | R2: 0 | S2: 0.12628093 | T2: 0.29471645 | U2: 0 | V2: 0 | W2: 0 | X2: 0 | Y2: 0 | Z2: 0 | AA2: 0.98707454 | AB2: 0.66044844
A3: 2010 | B3: 0.033035032 | C3: 0.21058447 | D3: 0.060476751 | E3: 0.23853211 | F3: 0.20886907 | G3: 0.26804124 | H3: 0.29133333 | I3: 0.16814646 | J3: 0.98 | K3: 0.81306588 | L3: 0.15644375 | M3: 0.80377034 | N3: 0.97286173 | O3: 0.41417323 | P3: 0.11764706 | Q3: 0.28211432 | R3: 0.13223457 | S3: 0 | T3: 0.36139547 | U3: 0.21326042 | V3: 0.13681062 | W3: 0.31922434 | X3: 0.60667171 | Y3: 0.44615385 | Z3: 0.29190008 | AA3: 0.98970426 | AB3: 0.72517787
A4: 2011 | B4: 0.27228611 | C4: 0.17114131 | D4: 0.082503609 | E4: 0.16513761 | F4: 0.21152416 | G4: 0.68865979 | H4: 0.442 | I4: 0.072354394 | J4: 0.87 | K4: 0.33050705 | L4: 0.30981589 | M4: 0.78588819 | N4: 0.98190782 | O4: 0.56062992 | P4: 0.59558824 | Q4: 0.51137062 | R4: 0.14986585 | S4: 0.15881432 | T4: 1 | U4: 0.52412021 | V4: 0.12083026 | W4: 0.66027945 | X4: 0.61134919 | Y4: 0.50576923 | Z4: 0.44958869 | AA4: 0 | AB4: 0.72710409
A5: 2012 | B5: 0.73709802 | C5: 0.21389902 | D5: 0.1490195 | E5: 0.22018349 | F5: 0.28516645 | G5: 0.40824742 | H5: 0.5 | I5: 0.03920214 | J5: 1 | K5: 0.21605763 | L5: 0.35893375 | M5: 0.79844267 | N5: 0.99095391 | O5: 0.56692913 | P5: 0.047794118 | Q5: 0.73724647 | R5: 0.19586048 | S5: 0.32464239 | T5: 0.74730556 | U5: 0.66801475 | V5: 0.20322608 | W5: 0.76969254 | X5: 0.6253256 | Y5: 0.56730769 | Z5: 0.57485258 | AA5: 0.97829428 | AB5: 0.75980082
A6: 2013 | B6: 0.53352336 | C6: 0.19843111 | D6: 1 | E6: 0.46788991 | F6: 0.40727777 | G6: 0.49484536 | H6: 0.66758333 | I6: 0 | J6: 0.09 | K6: 0.23389899 | L6: 0.38303037 | M6: 0.81250791 | N6: 0.65624859 | O6: 0.65354331 | P6: 0 | Q6: 0.80024585 | R6: 0.32464546 | S6: 1 | T6: 0.47231849 | U6: 0.17740193 | V6: 0.28873324 | W6: 0.83249571 | X6: 0.58331233 | Y6: 0.65576923 | Z6: 0.6030616 | AA6: 0.99355184 | AB6: 0
A7: 2014 | B7: 0.49892358 | C7: 0.42525688 | D7: 0.25570306 | E7: 0.65137615 | F7: 0.92885674 | G7: 0.37731959 | H7: 0 | I7: 0.8157062 | J7: 0 | K7: 0.22072015 | L7: 0.43971943 | M7: 0.81939986 | N7: 0.69239224 | O7: 0.76850394 | P7: 0.25367647 | Q7: 0.85402581 | R7: 0.42545036 | S7: 0.63283244 | T7: 0.27424722 | U7: 0.82593733 | V7: 0.23504961 | W7: 0.88045427 | X7: 0.69876481 | Y7: 0.73269231 | Z7: 0.66997366 | AA7: 0.98846891 | AB7: 0.83526519
A8: 2015 | B8: 0.55396532 | C8: 0.66523036 | D8: 0.29902723 | E8: 0.71559633 | F8: 0.95274392 | G8: 0.29072165 | H8: 0.732 | I8: 0.83241824 | J8: 0.21 | K8: 0 | L8: 0.42813273 | M8: 0.83422571 | N8: 0.36980415 | O8: 0.79527559 | P8: 0.58455882 | Q8: 0.90350338 | R8: 0.49980836 | S8: 0.41746085 | T8: 0.070997845 | U8: 0.79532332 | V8: 1 | W8: 0.90863966 | X8: 0.81334902 | Y8: 0.80192308 | Z8: 0.68866679 | AA8: 0.99115559 | AB8: 0.8258706
A9: 2016 | B9: 0.78740345 | C9: 0.84421611 | D9: 0.33718172 | E9: 0.66055046 | F9: 0.95423687 | G9: 0.23092784 | H9: 0.911625 | I9: 0.90247388 | J9: 0.33 | K9: 0.084613064 | L9: 0.88646479 | M9: 0.96923096 | N9: 0.25093853 | O9: 0.8976378 | P9: 0.78676471 | Q9: 0.9105716 | R9: 0.56841702 | S9: 0.40739237 | T9: 0 | U9: 0.87591034 | V9: 0.54284236 | W9: 0.91870637 | X9: 0.94762345 | Y9: 0.93461538 | Z9: 0.89377487 | AA9: 1 | AB9: 0.86847709
A10: 2017 | B10: 0.80661811 | C10: 0.96420285 | D10: 0.42339466 | E10: 0.95412844 | F10: 0.96618046 | G10: 0.13195876 | H10: 0.89841667 | I10: 0.95215633 | J10: 0.43 | K10: 0.22026786 | L10: 0.98947143 | M10: 1 | N10: 0 | O10: 0.94488189 | P10: 0.70588235 | Q10: 0.96650277 | R10: 0.75507857 | S10: 0.5145585 | T10: 0.067407217 | U10: 0.86878263 | V10: 0.70045723 | W10: 0.96261935 | X10: 1 | Y10: 1 | Z10: 0.97252322 | AA10: 0.99608148 | AB10: 1
A11: 2018 | B11: 1 | C11: 1 | D11: 0.3492542 | E11: 1 | F11: 1 | G11: 0 | H11: 1 | I11: 1 | J11: 0.67 | K11: 0.2884548 | L11: 1 | M11: 1 | N11: 0.14197838 | O11: 1 | P11: 0.37132353 | Q11: 1 | R11: 1 | S11: 0.46021797 | T11: 0.048698539 | U11: 1 | V11: 0.85753933 | W11: 1 | X11: 0.94867378 | Y11: 0.92319712 | Z11: 1 | AA11: 0.9998457 | AB11: 0.94481984
A12: sum of standard-ization | B12: 5.222853 | C12: 4.6929621 | D12: 2.9565607 | E12: 5.0733945 | F12: 5.9148554 | G12: 3.8907216 | H12: 5.6702917 | I12: 5.0051777 | J12: 5.46 | K12: 3.4075854 | L12: 4.9520121 | M12: 7.8234656 | N12: 6.0570853 | O12: 6.6015748 | P12: 4.4632353 | Q12: 6.9655808 | R12: 4.0513607 | S12: 4.0421998 | T12: 3.3370868 | U12: 5.9487509 | V12: 4.0854887 | W12: 7.2521117 | X12: 6.8350699 | Y12: 6.5674279 | Z12: 6.1443415 | AA12: 8.9241766 | AB12: 7.3469639
A13: mean | B13: 0.32642831 | C13: 0.29331013 | D13: 0.18478505 | E13: 0.31708716 | F13: 0.36967847 | G13: 0.2431701 | H13: 0.35439323 | I13: 0.31282361 | J13: 0.34125 | K13: 0.21297409 | L13: 0.30950076 | M13: 0.4889666 | N13: 0.37856783 | O13: 0.41259843 | P13: 0.27895221 | Q13: 0.4353488 | R13: 0.25321004 | S13: 0.25263749 | T13: 0.20856792 | U13: 0.37179693 | V13: 0.25534305 | W13: 0.45325698 | X13: 0.42719187 | Y13: 0.41046424 | Z13: 0.38402134 | AA13: 0.55776104 | AB13: 0.45918525

Sheet weighting
B1: Inclusive subsystem | K1: Green subsystem | T1: Growth subsystem
A2: Entropy Caclulation Process | B2: C1:Library books per 100 persons | C2: C2:10,000 people with college degrees or above | D2: C3: Number of beds per 1,000 persons | E2: C4:Registered urban unemployment rate | F2: C5:Disposable income per capita between urban and rural residents | G2: C6:Urban population density | H2: C7:Per capita housing gross leasable area | I2: C8:Amount of fertilizer per unit cultivated area | J2: C9: Incidence of population fires | K2: C10: Industrial Solid waste production | L2: C11: Discharge of COD in industrial waste-water | M2: C12: Industrial SO2 emissions | N2: C13: Proportion of air quality reaching or better than grade 2 weather | O2: C14:Per capita green area of parks | P2: C15: Average traffic volume | Q2: C16: Central processing rate of sewage treatment plant in urban areas | R2: C17: Popularity rate of sanitation toilet in rural areas | S2: C18: Per capita afforestation area | T2: C19:Fixed asset investment per unit of GDP | U2: C20: Secondary sector Land yield | V2: C21:Tertiary sector Labor productivity | W2: C22:Water consumption per unit of GDP | X2: C23:Power consumption per unit of GDP | Y2: C24: Energy consumption per unit of industrial added value | Z2: C25: Industrial waste water discharge per unit of GDP | AA2: C26:Industrial waste gas emission per unit of GDP | AB2: C27: Solid waste generation per unit of GDP | AC2: Sum
B3: 0 | C3: 0 | D3: 0 | E3: 0 | F3: 0 | G3: 0.25702173 | H3: 0.040092 | I3: 0.044497939 | J3: 0.16117216 | K3: 0.29346293 | L3: 0 | M3: 0 | N3: 0.16509591 | O3: 0 | P3: 0.22405272 | Q3: 0 | R3: 0 | S3: 0.031240645 | T3: 0.088315487 | U3: 0 | V3: 0 | W3: 0 | X3: 0 | Y3: 0 | Z3: 0 | AA3: 0.11060679 | AB3: 0.089894064
B4: 0.0063250932 | C4: 0.044872399 | D4: 0.020455102 | E4: 0.047016275 | F4: 0.035312625 | G4: 0.068892422 | H4: 0.051378897 | I4: 0.033594503 | J4: 0.17948718 | K4: 0.23860469 | L4: 0.031591955 | M4: 0.1027384 | N4: 0.16061549 | O4: 0.06273855 | P4: 0.026359143 | Q4: 0.040501191 | R4: 0.032639546 | S4: 0 | T4: 0.10829669 | U4: 0.035849613 | V4: 0.033486965 | W4: 0.044018123 | X4: 0.088758669 | Y4: 0.067934335 | Z4: 0.047507138 | AA4: 0.11090146 | AB4: 0.098704427
B5: 0.052133597 | C5: 0.036467652 | D5: 0.027905265 | E5: 0.032549729 | F5: 0.035761509 | G5: 0.17700053 | H5: 0.077950135 | I5: 0.014455909 | J5: 0.15934066 | K5: 0.096991568 | L5: 0.062563636 | M5: 0.10045269 | N5: 0.16210896 | O5: 0.084923664 | P5: 0.13344316 | Q5: 0.073413924 | R5: 0.036991485 | S5: 0.039289083 | T5: 0.29966257 | U5: 0.088105926 | V5: 0.029575473 | W5: 0.091046509 | X5: 0.089443005 | Y5: 0.077011768 | Z5: 0.073171176 | AA5: 0 | AB5: 0.098966607
B6: 0.14112938 | C6: 0.04557868 | D6: 0.05040299 | E6: 0.043399638 | F6: 0.048211905 | G6: 0.10492846 | H6: 0.088178886 | I6: 0.0078323173 | J6: 0.18315018 | K6: 0.063404906 | L6: 0.072482405 | M6: 0.10205741 | N6: 0.16360243 | O6: 0.085877863 | P6: 0.010708402 | Q6: 0.10584135 | R6: 0.048344371 | S6: 0.080313296 | T6: 0.2239395 | U6: 0.11229496 | V6: 0.049743396 | W6: 0.10613358 | X6: 0.091487814 | Y6: 0.086382021 | Z6: 0.093558046 | AA6: 0.10962292 | AB6: 0.10341698
B7: 0.10215171 | C7: 0.042282701 | D7: 0.33823083 | E7: 0.092224231 | F7: 0.068856758 | G7: 0.12718601 | H7: 0.11773351 | I7: 0 | J7: 0.016483516 | K7: 0.068640684 | L7: 0.077348432 | M7: 0.10385524 | N7: 0.10834396 | O7: 0.098998092 | P7: 0 | Q7: 0.11488573 | R7: 0.08013245 | S7: 0.24739005 | T7: 0.14153617 | U7: 0.029821711 | V7: 0.070672876 | W7: 0.11479356 | X7: 0.085341092 | Y7: 0.09985176 | Z7: 0.098149102 | AA7: 0.11133261 | AB7: 0
B8: 0.095527019 | C8: 0.090615877 | D8: 0.086486659 | E8: 0.1283906 | F8: 0.15703794 | G8: 0.096979332 | H8: 0 | I8: 0.16297247 | J8: 0 | K8: 0.064773181 | L8: 0.088796114 | M8: 0.10473617 | N8: 0.11431112 | O8: 0.11641221 | P8: 0.056836903 | Q8: 0.12260655 | R8: 0.10501419 | S8: 0.15655645 | T8: 0.082181627 | U8: 0.13884214 | V8: 0.057532801 | W8: 0.12140661 | X8: 0.10223228 | Y8: 0.11156458 | Z8: 0.10903913 | AA8: 0.11076304 | AB8: 0.11368848
B9: 0.10606565 | C9: 0.14175064 | D9: 0.10114023 | E9: 0.14104882 | F9: 0.16107645 | G9: 0.074721781 | H9: 0.12909389 | I9: 0.16631142 | J9: 0.038461538 | K9: 0 | L9: 0.086456316 | M9: 0.10663122 | N9: 0.061053152 | O9: 0.12046756 | P9: 0.13097199 | Q9: 0.1297097 | R9: 0.12336802 | S9: 0.10327566 | T9: 0.021275397 | U9: 0.13369585 | V9: 0.24476876 | W9: 0.12529311 | X9: 0.11899645 | Y9: 0.12210611 | Z9: 0.11208146 | AA9: 0.11106409 | AB9: 0.11240978
B10: 0.15076117 | C10: 0.17988982 | D10: 0.11404525 | E10: 0.13019892 | F10: 0.16132886 | G10: 0.059353471 | H10: 0.16077215 | I10: 0.18030806 | J10: 0.06043956 | K10: 0.024830798 | L10: 0.17901103 | M10: 0.12388767 | N10: 0.041428925 | O10: 0.13597328 | P10: 0.17627677 | Q10: 0.13072443 | R10: 0.14030274 | S10: 0.10078482 | T10: 0 | U10: 0.14724273 | V10: 0.13287085 | W10: 0.12668122 | X10: 0.13864137 | Y10: 0.14231072 | Z10: 0.14546308 | AA10: 0.11205516 | AB10: 0.11820898
B11: 0.15444013 | C11: 0.2054572 | D11: 0.14320513 | E11: 0.1880651 | F11: 0.16334811 | G11: 0.033916269 | H11: 0.15844276 | I11: 0.19023427 | J11: 0.078754579 | K11: 0.064640452 | L11: 0.199812 | M11: 0.12782059 | N11: 0 | O11: 0.14312977 | P11: 0.15815486 | Q11: 0.13875408 | R11: 0.18637654 | S11: 0.12729665 | T11: 0.02019942 | U11: 0.14604455 | V11: 0.17145005 | W11: 0.13273642 | X11: 0.14630428 | Y11: 0.15226661 | Z11: 0.15827949 | AA11: 0.11161607 | AB11: 0.13611065
B12: 0.19146624 | C12: 0.21308504 | D12: 0.11812854 | E12: 0.19710669 | F12: 0.16906584 | G12: 0 | H12: 0.17635777 | I12: 0.1997931 | J12: 0.12271062 | K12: 0.084650789 | L12: 0.20193812 | M12: 0.12782059 | N12: 0.023440049 | O12: 0.15147901 | P12: 0.083196046 | Q12: 0.14356305 | R12: 0.24683065 | S12: 0.11385335 | T12: 0.014593129 | U12: 0.16810252 | V12: 0.20989884 | W12: 0.13789087 | X12: 0.13879504 | Y12: 0.1405721 | Z12: 0.16275137 | AA12: 0.11203787 | AB12: 0.12860004
A13: Entropy | B13: 0.87584156 | C13: 0.8652183 | D13: 0.8331312 | E13: 0.89065103 | F13: 0.88736217 | G13: 0.88653211 | H13: 0.91308489 | I13: 0.8217122 | J13: 0.8799679 | K13: 0.84333927 | L13: 0.89038644 | M13: 0.95213392 | N13: 0.89530691 | O13: 0.93966002 | P13: 0.86079874 | Q13: 0.93321913 | R13: 0.87344857 | S13: 0.89003111 | T13: 0.80595991 | U13: 0.90749911 | V13: 0.85182183 | W13: 0.93869878 | X13: 0.94476109 | Y13: 0.93940369 | Z13: 0.92946955 | AA13: 0.95423333 | AB13: 0.95075005 | AC13: 24.154423
A14: Weight（1） | B14: 0.043632077 | C14: 0.04736533 | D14: 0.058641461 | E14: 0.038427694 | F14: 0.039583474 | G14: 0.039875176 | H14: 0.030543931 | I14: 0.062654356 | J14: 0.042181987 | K14: 0.055054114 | L14: 0.038520678 | M14: 0.01682122 | N14: 0.036791512 | O14: 0.02120483 | P14: 0.048918461 | Q14: 0.023468304 | R14: 0.044473025 | S14: 0.038645547 | T14: 0.068190063 | U14: 0.032506898 | V14: 0.05207315 | W14: 0.021542631 | X14: 0.019412198 | Y14: 0.021294911 | Z14: 0.024785991 | AA14: 0.016083439 | AB14: 0.017307544 | AC14: 1
A15: Weight（%） | B15: 4.3632077 | C15: 4.736533 | D15: 5.8641461 | E15: 3.8427694 | F15: 3.9583474 | G15: 3.9875176 | H15: 3.0543931 | I15: 6.2654356 | J15: 4.2181987 | K15: 5.5054114 | L15: 3.8520678 | M15: 1.682122 | N15: 3.6791512 | O15: 2.120483 | P15: 4.8918461 | Q15: 2.3468304 | R15: 4.4473025 | S15: 3.8645547 | T15: 6.8190063 | U15: 3.2506898 | V15: 5.207315 | W15: 2.1542631 | X15: 1.9412198 | Y15: 2.1294911 | Z15: 2.4785991 | AA15: 1.6083439 | AB15: 1.7307544 | AC15: 100
A16: Proportion | B16: Inclusive | C16: Green | D16: Growth
A17: 1 | B17: =B15+C15+D15+E15+F15+G15+H15+I15+J15 -> 40.290549 | C17: =K15+L15+M15+N15+O15+P15+Q15+R15+S15 -> 32.389769 | D17: =T15+U15+V15+W15+X15+Y15+Z15+AA15+AB15 -> 27.319682

Sheet aggregating
A1: Years | B1: Inclusive subsystem | C1: Green subsystem | D1: Growth subsystem | E1: Total performance
A2: 2009 | B2: =standardizing!B2*weighting!$B$14+standardizing!C2*weighting!$C$14+standardizing!D2*weighting!$D$14+standardizing!E2*weighting!$E$14+standardizing!F2*weighting!$F$14+standardizing!G2*weighting!$G$14+standardizing!H2*weighting!$H$14+standardizing!I2*weighting!$I$14+standardizing!J2*weighting!$J$14 -> 0.097893362 | C2: =standardizing!K2*weighting!$K$14+standardizing!L2*weighting!$L$14+standardizing!M2*weighting!$M$14+standardizing!N2*weighting!$N$14+standardizing!O2*weighting!$O$14+standardizing!P2*weighting!$P$14+standardizing!Q2*weighting!$Q$14+standardizing!R2*weighting!$R$14+standardizing!S2*weighting!$S$14 -> 0.14564428 | D2: =standardizing!T2*weighting!$T$14+standardizing!U2*weighting!$U$14+standardizing!V2*weighting!$V$14+standardizing!W2*weighting!$W$14+standardizing!X2*weighting!$X$14+standardizing!Y2*weighting!$Y$14+standardizing!Z2*weighting!$Z$14+standardizing!AA2*weighting!$AA$14+standardizing!AB2*weighting!$AB$14 -> 0.047403027 | E2: =SUM(B2:D2) -> 0.29094067
A3: 2010 | B3: =standardizing!B3*weighting!$B$14+standardizing!C3*weighting!$C$14+standardizing!D3*weighting!$D$14+standardizing!E3*weighting!$E$14+standardizing!F3*weighting!$F$14+standardizing!G3*weighting!$G$14+standardizing!H3*weighting!$H$14+standardizing!I3*weighting!$I$14+standardizing!J3*weighting!$J$14 -> 0.10385635 | C3: =standardizing!K3*weighting!$K$14+standardizing!L3*weighting!$L$14+standardizing!M3*weighting!$M$14+standardizing!N3*weighting!$N$14+standardizing!O3*weighting!$O$14+standardizing!P3*weighting!$P$14+standardizing!Q3*weighting!$Q$14+standardizing!R3*weighting!$R$14+standardizing!S3*weighting!$S$14 -> 0.12714159 | D3: =standardizing!T3*weighting!$T$14+standardizing!U3*weighting!$U$14+standardizing!V3*weighting!$V$14+standardizing!W3*weighting!$W$14+standardizing!X3*weighting!$X$14+standardizing!Y3*weighting!$Y$14+standardizing!Z3*weighting!$Z$14+standardizing!AA3*weighting!$AA$14+standardizing!AB3*weighting!$AB$14 -> 0.10255867 | E3: =SUM(B3:D3) -> 0.33355662
A4: 2011 | B4: =standardizing!B4*weighting!$B$14+standardizing!C4*weighting!$C$14+standardizing!D4*weighting!$D$14+standardizing!E4*weighting!$E$14+standardizing!F4*weighting!$F$14+standardizing!G4*weighting!$G$14+standardizing!H4*weighting!$H$14+standardizing!I4*weighting!$I$14+standardizing!J4*weighting!$J$14 -> 0.12173592 | C4: =standardizing!K4*weighting!$K$14+standardizing!L4*weighting!$L$14+standardizing!M4*weighting!$M$14+standardizing!N4*weighting!$N$14+standardizing!O4*weighting!$O$14+standardizing!P4*weighting!$P$14+standardizing!Q4*weighting!$Q$14+standardizing!R4*weighting!$R$14+standardizing!S4*weighting!$S$14 -> 0.14530234 | D4: =standardizing!T4*weighting!$T$14+standardizing!U4*weighting!$U$14+standardizing!V4*weighting!$V$14+standardizing!W4*weighting!$W$14+standardizing!X4*weighting!$X$14+standardizing!Y4*weighting!$Y$14+standardizing!Z4*weighting!$Z$14+standardizing!AA4*weighting!$AA$14+standardizing!AB4*weighting!$AB$14 -> 0.15210958 | E4: =SUM(B4:D4) -> 0.41914784
A5: 2012 | B5: =standardizing!B5*weighting!$B$14+standardizing!C5*weighting!$C$14+standardizing!D5*weighting!$D$14+standardizing!E5*weighting!$E$14+standardizing!F5*weighting!$F$14+standardizing!G5*weighting!$G$14+standardizing!H5*weighting!$H$14+standardizing!I5*weighting!$I$14+standardizing!J5*weighting!$J$14 -> 0.14696933 | C5: =standardizing!K5*weighting!$K$14+standardizing!L5*weighting!$L$14+standardizing!M5*weighting!$M$14+standardizing!N5*weighting!$N$14+standardizing!O5*weighting!$O$14+standardizing!P5*weighting!$P$14+standardizing!Q5*weighting!$Q$14+standardizing!R5*weighting!$R$14+standardizing!S5*weighting!$S$14 -> 0.12852877 | D5: =standardizing!T5*weighting!$T$14+standardizing!U5*weighting!$U$14+standardizing!V5*weighting!$V$14+standardizing!W5*weighting!$W$14+standardizing!X5*weighting!$X$14+standardizing!Y5*weighting!$Y$14+standardizing!Z5*weighting!$Z$14+standardizing!AA5*weighting!$AA$14+standardizing!AB5*weighting!$AB$14 -> 0.16719035 | E5: =SUM(B5:D5) -> 0.44268845
A6: 2013 | B6: =standardizing!B6*weighting!$B$14+standardizing!C6*weighting!$C$14+standardizing!D6*weighting!$D$14+standardizing!E6*weighting!$E$14+standardizing!F6*weighting!$F$14+standardizing!G6*weighting!$G$14+standardizing!H6*weighting!$H$14+standardizing!I6*weighting!$I$14+standardizing!J6*weighting!$J$14 -> 0.16933939 | C6: =standardizing!K6*weighting!$K$14+standardizing!L6*weighting!$L$14+standardizing!M6*weighting!$M$14+standardizing!N6*weighting!$N$14+standardizing!O6*weighting!$O$14+standardizing!P6*weighting!$P$14+standardizing!Q6*weighting!$Q$14+standardizing!R6*weighting!$R$14+standardizing!S6*weighting!$S$14 -> 0.15116564 | D6: =standardizing!T6*weighting!$T$14+standardizing!U6*weighting!$U$14+standardizing!V6*weighting!$V$14+standardizing!W6*weighting!$W$14+standardizing!X6*weighting!$X$14+standardizing!Y6*weighting!$Y$14+standardizing!Z6*weighting!$Z$14+standardizing!AA6*weighting!$AA$14+standardizing!AB6*weighting!$AB$14 -> 0.12715874 | E6: =SUM(B6:D6) -> 0.44766378
A7: 2014 | B7: =standardizing!B7*weighting!$B$14+standardizing!C7*weighting!$C$14+standardizing!D7*weighting!$D$14+standardizing!E7*weighting!$E$14+standardizing!F7*weighting!$F$14+standardizing!G7*weighting!$G$14+standardizing!H7*weighting!$H$14+standardizing!I7*weighting!$I$14+standardizing!J7*weighting!$J$14 -> 0.1848578 | C7: =standardizing!K7*weighting!$K$14+standardizing!L7*weighting!$L$14+standardizing!M7*weighting!$M$14+standardizing!N7*weighting!$N$14+standardizing!O7*weighting!$O$14+standardizing!P7*weighting!$P$14+standardizing!Q7*weighting!$Q$14+standardizing!R7*weighting!$R$14+standardizing!S7*weighting!$S$14 -> 0.16047252 | D7: =standardizing!T7*weighting!$T$14+standardizing!U7*weighting!$U$14+standardizing!V7*weighting!$V$14+standardizing!W7*weighting!$W$14+standardizing!X7*weighting!$X$14+standardizing!Y7*weighting!$Y$14+standardizing!Z7*weighting!$Z$14+standardizing!AA7*weighting!$AA$14+standardizing!AB7*weighting!$AB$14 -> 0.15288418 | E7: =SUM(B7:D7) -> 0.4982145
A8: 2015 | B8: =standardizing!B8*weighting!$B$14+standardizing!C8*weighting!$C$14+standardizing!D8*weighting!$D$14+standardizing!E8*weighting!$E$14+standardizing!F8*weighting!$F$14+standardizing!G8*weighting!$G$14+standardizing!H8*weighting!$H$14+standardizing!I8*weighting!$I$14+standardizing!J8*weighting!$J$14 -> 0.23339012 | C8: =standardizing!K8*weighting!$K$14+standardizing!L8*weighting!$L$14+standardizing!M8*weighting!$M$14+standardizing!N8*weighting!$N$14+standardizing!O8*weighting!$O$14+standardizing!P8*weighting!$P$14+standardizing!Q8*weighting!$Q$14+standardizing!R8*weighting!$R$14+standardizing!S8*weighting!$S$14 -> 0.1491544 | D8: =standardizing!T8*weighting!$T$14+standardizing!U8*weighting!$U$14+standardizing!V8*weighting!$V$14+standardizing!W8*weighting!$W$14+standardizing!X8*weighting!$X$14+standardizing!Y8*weighting!$Y$14+standardizing!Z8*weighting!$Z$14+standardizing!AA8*weighting!$AA$14+standardizing!AB8*weighting!$AB$14 -> 0.18251252 | E8: =SUM(B8:D8) -> 0.56505704
A9: 2016 | B9: =standardizing!B9*weighting!$B$14+standardizing!C9*weighting!$C$14+standardizing!D9*weighting!$D$14+standardizing!E9*weighting!$E$14+standardizing!F9*weighting!$F$14+standardizing!G9*weighting!$G$14+standardizing!H9*weighting!$H$14+standardizing!I9*weighting!$I$14+standardizing!J9*weighting!$J$14 -> 0.26478777 | C9: =standardizing!K9*weighting!$K$14+standardizing!L9*weighting!$L$14+standardizing!M9*weighting!$M$14+standardizing!N9*weighting!$N$14+standardizing!O9*weighting!$O$14+standardizing!P9*weighting!$P$14+standardizing!Q9*weighting!$Q$14+standardizing!R9*weighting!$R$14+standardizing!S9*weighting!$S$14 -> 0.18425585 | D9: =standardizing!T9*weighting!$T$14+standardizing!U9*weighting!$U$14+standardizing!V9*weighting!$V$14+standardizing!W9*weighting!$W$14+standardizing!X9*weighting!$X$14+standardizing!Y9*weighting!$Y$14+standardizing!Z9*weighting!$Z$14+standardizing!AA9*weighting!$AA$14+standardizing!AB9*weighting!$AB$14 -> 0.16809774 | E9: =SUM(B9:D9) -> 0.61714135
A10: 2017 | B10: =standardizing!B10*weighting!$B$14+standardizing!C10*weighting!$C$14+standardizing!D10*weighting!$D$14+standardizing!E10*weighting!$E$14+standardizing!F10*weighting!$F$14+standardizing!G10*weighting!$G$14+standardizing!H10*weighting!$H$14+standardizing!I10*weighting!$I$14+standardizing!J10*weighting!$J$14 -> 0.29110048 | C10: =standardizing!K10*weighting!$K$14+standardizing!L10*weighting!$L$14+standardizing!M10*weighting!$M$14+standardizing!N10*weighting!$N$14+standardizing!O10*weighting!$O$14+standardizing!P10*weighting!$P$14+standardizing!Q10*weighting!$Q$14+standardizing!R10*weighting!$R$14+standardizing!S10*weighting!$S$14 -> 0.19777792 | D10: =standardizing!T10*weighting!$T$14+standardizing!U10*weighting!$U$14+standardizing!V10*weighting!$V$14+standardizing!W10*weighting!$W$14+standardizing!X10*weighting!$X$14+standardizing!Y10*weighting!$Y$14+standardizing!Z10*weighting!$Z$14+standardizing!AA10*weighting!$AA$14+standardizing!AB10*weighting!$AB$14 -> 0.18819032 | E10: =SUM(B10:D10) -> 0.67706872
A11: 2018 | B11: =standardizing!B11*weighting!$B$14+standardizing!C11*weighting!$C$14+standardizing!D11*weighting!$D$14+standardizing!E11*weighting!$E$14+standardizing!F11*weighting!$F$14+standardizing!G11*weighting!$G$14+standardizing!H11*weighting!$H$14+standardizing!I11*weighting!$I$14+standardizing!J11*weighting!$J$14 -> 0.31094957 | C11: =standardizing!K11*weighting!$K$14+standardizing!L11*weighting!$L$14+standardizing!M11*weighting!$M$14+standardizing!N11*weighting!$N$14+standardizing!O11*weighting!$O$14+standardizing!P11*weighting!$P$14+standardizing!Q11*weighting!$Q$14+standardizing!R11*weighting!$R$14+standardizing!S11*weighting!$S$14 -> 0.20154223 | D11: =standardizing!T11*weighting!$T$14+standardizing!U11*weighting!$U$14+standardizing!V11*weighting!$V$14+standardizing!W11*weighting!$W$14+standardizing!X11*weighting!$X$14+standardizing!Y11*weighting!$Y$14+standardizing!Z11*weighting!$Z$14+standardizing!AA11*weighting!$AA$14+standardizing!AB11*weighting!$AB$14 -> 0.19731976 | E11: =SUM(B11:D11) -> 0.70981156

Sheet CCD
G1: CCD among three subsystems | H1: Caclucation process
B2: Years | C2: Inclusive subsystem | D2: Green subsystem | E2: Growth subsystem | F2: Overall performance | I2: T | K2: C | L2: C*T | M2: CCD
B3: 2009 | C3: 0.097893362 | D3: 0.14564428 | E3: 0.047403027 | F3: 0.29094067 | H3: =C3*D3*E3 -> 0.00067585379 | I3: =(C3+D3+E3)/3 -> 0.096980224 | J3: =H3/I3 -> 0.0069689857 | K3: =POWER(J3,1/3) -> 0.19101018 | L3: =K3*I3 -> 0.01852421 | M3: =SQRT(L3) -> 0.13610368
B4: 2010 | C4: 0.10385635 | D4: 0.12714159 | E4: 0.10255867 | F4: 0.33355662 | H4: =C4*D4*E4 -> 0.0013542321 | I4: =(C4+D4+E4)/3 -> 0.11118554 | J4: =H4/I4 -> 0.01217993 | K4: =POWER(J4,1/3) -> 0.23008145 | L4: =K4*I4 -> 0.025581729 | M4: =SQRT(L4) -> 0.15994289
B5: 2011 | C5: 0.12173592 | D5: 0.14530234 | E5: 0.15210958 | F5: 0.41914784 | H5: =C5*D5*E5 -> 0.0026905925 | I5: =(C5+D5+E5)/3 -> 0.13971595 | J5: =H5/I5 -> 0.01925759 | K5: =POWER(J5,1/3) -> 0.26804064 | L5: =K5*I5 -> 0.037449552 | M5: =SQRT(L5) -> 0.19351887
B6: 2012 | C6: 0.14696933 | D6: 0.12852877 | E6: 0.16719035 | F6: 0.44268845 | H6: =C6*D6*E6 -> 0.0031581902 | I6: =(C6+D6+E6)/3 -> 0.14756282 | J6: =H6/I6 -> 0.021402344 | K6: =POWER(J6,1/3) -> 0.27764325 | L6: =K6*I6 -> 0.04096982 | M6: =SQRT(L6) -> 0.20241003
B7: 2013 | C7: 0.16933939 | D7: 0.15116564 | E7: 0.12715874 | F7: 0.44766378 | H7: =C7*D7*E7 -> 0.0032550474 | I7: =(C7+D7+E7)/3 -> 0.14922126 | J7: =H7/I7 -> 0.021813563 | K7: =POWER(J7,1/3) -> 0.27941017 | L7: =K7*I7 -> 0.041693937 | M7: =SQRT(L7) -> 0.20419093
B8: 2014 | C8: 0.1848578 | D8: 0.16047252 | E8: 0.15288418 | F8: 0.4982145 | H8: =C8*D8*E8 -> 0.0045352475 | I8: =(C8+D8+E8)/3 -> 0.1660715 | J8: =H8/I8 -> 0.027309006 | K8: =POWER(J8,1/3) -> 0.30114013 | L8: =K8*I8 -> 0.050010792 | M8: =SQRT(L8) -> 0.22363093
B9: 2015 | C9: 0.23339012 | D9: 0.1491544 | E9: 0.18251252 | F9: 0.56505704 | H9: =C9*D9*E9 -> 0.0063534731 | I9: =(C9+D9+E9)/3 -> 0.18835235 | J9: =H9/I9 -> 0.03373185 | K9: =POWER(J9,1/3) -> 0.32310726 | L9: =K9*I9 -> 0.060858011 | M9: =SQRT(L9) -> 0.24669416
B10: 2016 | C10: 0.26478777 | D10: 0.18425585 | E10: 0.16809774 | F10: 0.61714135 | H10: =C10*D10*E10 -> 0.0082012691 | I10: =(C10+D10+E10)/3 -> 0.20571378 | J10: =H10/I10 -> 0.039867378 | K10: =POWER(J10,1/3) -> 0.3416168 | L10: =K10*I10 -> 0.070275285 | M10: =SQRT(L10) -> 0.26509486
B11: 2017 | C11: 0.29110048 | D11: 0.19777792 | E11: 0.18819032 | F11: 0.67706872 | H11: =C11*D11*E11 -> 0.010834728 | I11: =(C11+D11+E11)/3 -> 0.22568957 | J11: =H11/I11 -> 0.048007215 | K11: =POWER(J11,1/3) -> 0.36344233 | L11: =K11*I11 -> 0.082025143 | M11: =SQRT(L11) -> 0.28640032
B12: 2018 | C12: 0.31094957 | D12: 0.20154223 | E12: 0.19731976 | F12: 0.70981156 | H12: =C12*D12*E12 -> 0.012365925 | I12: =(C12+D12+E12)/3 -> 0.23660385 | J12: =H12/I12 -> 0.052264258 | K12: =POWER(J12,1/3) -> 0.37388232 | L12: =K12*I12 -> 0.088461998 | M12: =SQRT(L12) -> 0.29742562
B13: CCD between two subsystems
C14: Caclucation process
D15: T | F15: C | G15: C*T | H15: CCD
B16: Inclusive-green | C16: =C3*D3 -> 0.014257608 | D16: =(C3+D3)/2 -> 0.12176882 | E16: =C16/D16 -> 0.11708751 | F16: =POWER(E16,1/2) -> 0.34218053 | G16: =F16*D16 -> 0.04166692 | H16: =SQRT(G16) -> 0.20412476
C17: =C4*D4 -> 0.013204462 | D17: =(C4+D4)/2 -> 0.11549897 | E17: =C17/D17 -> 0.11432536 | F17: =POWER(E17,1/2) -> 0.33812034 | G17: =F17*D17 -> 0.039052551 | H17: =SQRT(G17) -> 0.19761718
C18: =C5*D5 -> 0.017688514 | D18: =(C5+D5)/2 -> 0.13351913 | E18: =C18/D18 -> 0.13247925 | F18: =POWER(E18,1/2) -> 0.36397699 | G18: =F18*D18 -> 0.04859789 | H18: =SQRT(G18) -> 0.22044929
C19: =C6*D6 -> 0.018889788 | D19: =(C6+D6)/2 -> 0.13774905 | E19: =C19/D19 -> 0.13713189 | F19: =POWER(E19,1/2) -> 0.37031323 | G19: =F19*D19 -> 0.051010297 | H19: =SQRT(G19) -> 0.22585459
C20: =C7*D7 -> 0.025598298 | D20: =(C7+D7)/2 -> 0.16025252 | E20: =C20/D20 -> 0.15973726 | F20: =POWER(E20,1/2) -> 0.39967144 | G20: =F20*D20 -> 0.064048355 | H20: =SQRT(G20) -> 0.25307776
C21: =C8*D8 -> 0.029664597 | D21: =(C8+D8)/2 -> 0.17266516 | E21: =C21/D21 -> 0.17180418 | F21: =POWER(E21,1/2) -> 0.41449268 | G21: =F21*D21 -> 0.071568445 | H21: =SQRT(G21) -> 0.26752279
C22: =C9*D9 -> 0.034811162 | D22: =(C9+D9)/2 -> 0.19127226 | E22: =C22/D22 -> 0.18199797 | F22: =POWER(E22,1/2) -> 0.4266122 | G22: =F22*D22 -> 0.081599078 | H22: =SQRT(G22) -> 0.28565552
C23: =C10*D10 -> 0.048788695 | D23: =(C10+D10)/2 -> 0.22452181 | E23: =C23/D23 -> 0.21730047 | F23: =POWER(E23,1/2) -> 0.46615499 | G23: =F23*D23 -> 0.10466196 | H23: =SQRT(G23) -> 0.32351501
C24: =C11*D11 -> 0.057573248 | D24: =(C11+D11)/2 -> 0.2444392 | E24: =C24/D24 -> 0.23553198 | F24: =POWER(E24,1/2) -> 0.48531637 | G24: =F24*D24 -> 0.11863034 | H24: =SQRT(G24) -> 0.34442756
C25: =C12*D12 -> 0.062669469 | D25: =(C12+D12)/2 -> 0.2562459 | E25: =C25/D25 -> 0.2445677 | F25: =POWER(E25,1/2) -> 0.49453786 | G25: =F25*D25 -> 0.1267233 | H25: =SQRT(G25) -> 0.35598216
B26: Inclusive-growth | C26: =C3*E3 -> 0.0046404416 | D26: =(C3+E3)/2 -> 0.072648194 | E26: =C26/D26 -> 0.063875526 | F26: =POWER(E26,1/2) -> 0.25273608 | G26: =F26*D26 -> 0.01836082 | H26: =SQRT(G26) -> 0.1355021
C27: =C4*E4 -> 0.010651369 | D27: =(C4+E4)/2 -> 0.10320751 | E27: =C27/D27 -> 0.10320343 | F27: =POWER(E27,1/2) -> 0.32125291 | G27: =F27*D27 -> 0.033155713 | H27: =SQRT(G27) -> 0.1820871
C28: =C5*E5 -> 0.0185172 | D28: =(C5+E5)/2 -> 0.13692275 | E28: =C28/D28 -> 0.1352383 | F28: =POWER(E28,1/2) -> 0.3677476 | G28: =F28*D28 -> 0.050353013 | H28: =SQRT(G28) -> 0.22439477
C29: =C6*E6 -> 0.024571854 | D29: =(C6+E6)/2 -> 0.15707984 | E29: =C29/D29 -> 0.15642907 | F29: =POWER(E29,1/2) -> 0.39551116 | G29: =F29*D29 -> 0.06212683 | H29: =SQRT(G29) -> 0.24925254
C30: =C7*E7 -> 0.021532984 | D30: =(C7+E7)/2 -> 0.14824907 | E30: =C30/D30 -> 0.1452487 | F30: =POWER(E30,1/2) -> 0.38111507 | G30: =F30*D30 -> 0.056499954 | H30: =SQRT(G30) -> 0.23769719
C31: =C8*E8 -> 0.028261832 | D31: =(C8+E8)/2 -> 0.16887099 | E31: =C31/D31 -> 0.16735754 | F31: =POWER(E31,1/2) -> 0.40909355 | G31: =F31*D31 -> 0.069084032 | H31: =SQRT(G31) -> 0.26283842
C32: =C9*E9 -> 0.042596619 | D32: =(C9+E9)/2 -> 0.20795132 | E32: =C32/D32 -> 0.20483938 | F32: =POWER(E32,1/2) -> 0.45259185 | G32: =F32*D32 -> 0.094117072 | H32: =SQRT(G32) -> 0.30678506
C33: =C10*E10 -> 0.044510224 | D33: =(C10+E10)/2 -> 0.21644275 | E33: =C33/D33 -> 0.20564433 | F33: =POWER(E33,1/2) -> 0.45348024 | G33: =F33*D33 -> 0.098152511 | H33: =SQRT(G33) -> 0.31329301
C34: =C11*E11 -> 0.054782291 | D34: =(C11+E11)/2 -> 0.2396454 | E34: =C34/D34 -> 0.2285973 | F34: =POWER(E34,1/2) -> 0.4781185 | G34: =F34*D34 -> 0.1145789 | H34: =SQRT(G34) -> 0.33849505
C35: =C12*E12 -> 0.061356495 | D35: =(C12+E12)/2 -> 0.25413467 | E35: =C35/D35 -> 0.241433 | F35: =POWER(E35,1/2) -> 0.49135832 | G35: =F35*D35 -> 0.12487118 | H35: =SQRT(G35) -> 0.35337117
B36: Green-growth | C36: =D3*E3 -> 0.0069039798 | D36: =(D3+E3)/2 -> 0.096523654 | E36: =C36/D36 -> 0.071526299 | F36: =POWER(E36,1/2) -> 0.26744401 | G36: =F36*D36 -> 0.025814673 | H36: =SQRT(G36) -> 0.16066945
C37: =D4*E4 -> 0.013039473 | D37: =(D4+E4)/2 -> 0.11485013 | E37: =C37/D37 -> 0.11353468 | F37: =POWER(E37,1/2) -> 0.33694908 | G37: =F37*D37 -> 0.038698646 | H37: =SQRT(G37) -> 0.19671972
C38: =D5*E5 -> 0.022101878 | D38: =(D5+E5)/2 -> 0.14870596 | E38: =C38/D38 -> 0.14862806 | F38: =POWER(E38,1/2) -> 0.3855231 | G38: =F38*D38 -> 0.057329583 | H38: =SQRT(G38) -> 0.23943597
C39: =D6*E6 -> 0.02148877 | D39: =(D6+E6)/2 -> 0.14785956 | E39: =C39/D39 -> 0.1453323 | F39: =POWER(E39,1/2) -> 0.38122474 | G39: =F39*D39 -> 0.056367722 | H39: =SQRT(G39) -> 0.23741888
C40: =D7*E7 -> 0.019222033 | D40: =(D7+E7)/2 -> 0.13916219 | E40: =C40/D40 -> 0.13812683 | F40: =POWER(E40,1/2) -> 0.37165419 | G40: =F40*D40 -> 0.051720212 | H40: =SQRT(G40) -> 0.22742078
...

Sheet obstacle degree caclulation
C1: C1 | D1: C2 | E1: C3 | F1: C4 | G1: C5 | H1: C6 | I1: C7 | J1: C8 | K1: C9 | L1: C10 | M1: C11 | N1: C12 | O1: C13 | P1: C14 | Q1: C15 | R1: C16 | S1: C17 | T1: C18 | U1: C19 | V1: C20 | W1: C21 | X1: C22 | Y1: C23 | Z1: C24 | AA1: C25 | AB1: C26 | AC1: C27 | AD1: sum
A2: Index deviation degree （Di） | B2: 2009 | C2: =(1-standardizing!B2)*weighting!$B$14 -> 0.043632077 | D2: =(1-standardizing!C2)*weighting!$C$14 -> 0.04736533 | E2: =(1-standardizing!D2)*weighting!$D$14 -> 0.058641461 | F2: =(1-standardizing!E2)*weighting!$E$14 -> 0.038427694 | G2: =(1-standardizing!C2)*weighting!$C$14 -> 0.04736533 | H2: =(1-standardizing!G2)*weighting!$G$14 -> 0 | I2: =(1-standardizing!H2)*weighting!$H$14 -> 0.023600277 | J2: =(1-standardizing!I2)*weighting!$I$14 -> 0.048699972 | K2: =(1-standardizing!J2)*weighting!$J$14 -> 0.0050618384 | L2: =(1-standardizing!K2)*weighting!$K$14 -> 0 | M2: =(1-standardizing!L2)*weighting!$L$14 -> 0.038520678 | N2: =(1-standardizing!M2)*weighting!$M$14 -> 0.01682122 | O2: =(1-standardizing!N2)*weighting!$N$14 -> 0 | P2: =(1-standardizing!O2)*weighting!$O$14 -> 0.02120483 | Q2: =(1-standardizing!P2)*weighting!$P$14 -> 0 | R2: =(1-standardizing!Q2)*weighting!$Q$14 -> 0.023468304 | S2: =(1-standardizing!R2)*weighting!$R$14 -> 0.044473025 | T2: =(1-standardizing!S2)*weighting!$S$14 -> 0.033765351 | U2: =(1-standardizing!T2)*weighting!$T$14 -> 0.04809333 | V2: =(1-standardizing!U2)*weighting!$U$14 -> 0.032506898 | W2: =(1-standardizing!V2)*weighting!$V$14 -> 0.05207315 | X2: =(1-standardizing!W2)*weighting!$W$14 -> 0.021542631 | Y2: =(1-standardizing!X2)*weighting!$X$14 -> 0.019412198 | Z2: =(1-standardizing!Y2)*weighting!$Y$14 -> 0.021294911 | AA2: =(1-standardizing!Z2)*weighting!$Z$14 -> 0.024785991 | AB2: =(1-standardizing!AA2)*weighting!$AA$14 -> 0.00020788586 | AC2: =(1-standardizing!AB2)*weighting!$AB$14 -> 0.0058768034 | AD2: =SUM(C2:AC2) -> 0.71684119
B3: 2010 | C3: =(1-standardizing!B3)*weighting!$B$14 -> 0.04219069 | D3: =(1-standardizing!C3)*weighting!$C$14 -> 0.037390927 | E3: =(1-standardizing!D3)*weighting!$D$14 -> 0.055095016 | F3: =(1-standardizing!E3)*weighting!$E$14 -> 0.029261455 | G3: =(1-standardizing!C3)*weighting!$C$14 -> 0.037390927 | H3: =(1-standardizing!G3)*weighting!$G$14 -> 0.029186985 | I3: =(1-standardizing!H3)*weighting!$H$14 -> 0.021645465 | J3: =(1-standardizing!I3)*weighting!$I$14 -> 0.052119248 | K3: =(1-standardizing!J3)*weighting!$J$14 -> 0.00084363973 | L3: =(1-standardizing!K3)*weighting!$K$14 -> 0.010291492 | M3: =(1-standardizing!L3)*weighting!$L$14 -> 0.032494359 | N3: =(1-standardizing!M3)*weighting!$M$14 -> 0.0033008221 | O3: =(1-standardizing!N3)*weighting!$N$14 -> 0.00099845797 | P3: =(1-standardizing!O3)*weighting!$O$14 -> 0.012422357 | Q3: =(1-standardizing!P3)*weighting!$P$14 -> 0.043163348 | R3: =(1-standardizing!Q3)*weighting!$Q$14 -> 0.016847559 | S3: =(1-standardizing!R3)*weighting!$R$14 -> 0.038592154 | T3: =(1-standardizing!S3)*weighting!$S$14 -> 0.038645547 | U3: =(1-standardizing!T3)*weighting!$T$14 -> 0.043546484 | V3: =(1-standardizing!U3)*weighting!$U$14 -> 0.025574463 | W3: =(1-standardizing!V3)*weighting!$V$14 -> 0.04494899 | X3: =(1-standardizing!W3)*weighting!$W$14 -> 0.014665699 | Y3: =(1-standardizing!X3)*weighting!$X$14 -> 0.0076353666 | Z3: =(1-standardizing!Y3)*weighting!$Y$14 -> 0.011794105 | AA3: =(1-standardizing!Z3)*weighting!$Z$14 -> 0.017550958 | AB3: =(1-standardizing!AA3)*weighting!$AA$14 -> 0.00016559096 | AC3: =(1-standardizing!AB3)*weighting!$AB$14 -> 0.0047564961 | AD3: =SUM(C3:AC3) -> 0.6725186
B4: 2011 | C4: =(1-standardizing!B4)*weighting!$B$14 -> 0.031751668 | D4: =(1-standardizing!C4)*weighting!$C$14 -> 0.039259166 | E4: =(1-standardizing!D4)*weighting!$D$14 -> 0.053803329 | F4: =(1-standardizing!E4)*weighting!$E$14 -> 0.032081837 | G4: =(1-standardizing!C4)*weighting!$C$14 -> 0.039259166 | H4: =(1-standardizing!G4)*weighting!$G$14 -> 0.012414746 | I4: =(1-standardizing!H4)*weighting!$H$14 -> 0.017043513 | J4: =(1-standardizing!I4)*weighting!$I$14 -> 0.058121038 | K4: =(1-standardizing!J4)*weighting!$J$14 -> 0.0054836583 | L4: =(1-standardizing!K4)*weighting!$K$14 -> 0.036858341 | M4: =(1-standardizing!L4)*weighting!$L$14 -> 0.02658636 | N4: =(1-standardizing!M4)*weighting!$M$14 -> 0.0036016217 | O4: =(1-standardizing!N4)*weighting!$N$14 -> 0.00066563865 | P4: =(1-standardizing!O4)*weighting!$O$14 -> 0.0093167677 | Q4: =(1-standardizing!P4)*weighting!$P$14 -> 0.019783201 | R4: =(1-standardizing!Q4)*weighting!$Q$14 -> 0.011467303 | S4: =(1-standardizing!R4)*weighting!$R$14 -> 0.037808037 | T4: =(1-standardizing!S4)*weighting!$S$14 -> 0.032508081 | U4: =(1-standardizing!T4)*weighting!$T$14 -> 0 | V4: =(1-standardizing!U4)*weighting!$U$14 -> 0.015469376 | W4: =(1-standardizing!V4)*weighting!$V$14 -> 0.045781138 | X4: =(1-standardizing!W4)*weighting!$W$14 -> 0.0073184744 | Y4: =(1-standardizing!X4)*weighting!$X$14 -> 0.0075445664 | Z4: =(1-standardizing!Y4)*weighting!$Y$14 -> 0.0105246 | AA4: =(1-standardizing!Z4)*weighting!$Z$14 -> 0.013642489 | AB4: =(1-standardizing!AA4)*weighting!$AA$14 -> 0.016083439 | AC4: =(1-standardizing!AB4)*weighting!$AB$14 -> 0.0047231579 | AD4: =SUM(C4:AC4) -> 0.58890071
B5: 2012 | C5: =(1-standardizing!B5)*weighting!$B$14 -> 0.011470959 | D5: =(1-standardizing!C5)*weighting!$C$14 -> 0.037233933 | E5: =(1-standardizing!D5)*weighting!$D$14 -> 0.04990274 | F5: =(1-standardizing!E5)*weighting!$E$14 -> 0.029966551 | G5: =(1-standardizing!C5)*weighting!$C$14 -> 0.037233933 | H5: =(1-standardizing!G5)*weighting!$G$14 -> 0.023596238 | I5: =(1-standardizing!H5)*weighting!$H$14 -> 0.015271965 | J5: =(1-standardizing!I5)*weighting!$I$14 -> 0.060198171 | K5: =(1-standardizing!J5)*weighting!$J$14 -> 0 | L5: =(1-standardizing!K5)*weighting!$K$14 -> 0.043159252 | M5: =(1-standardizing!L5)*weighting!$L$14 -> 0.024694307 | N5: =(1-standardizing!M5)*weighting!$M$14 -> 0.00339044 | O5: =(1-standardizing!N5)*weighting!$N$14 -> 0.00033281932 | P5: =(1-standardizing!O5)*weighting!$O$14 -> 0.009183194 | Q5: =(1-standardizing!P5)*weighting!$P$14 -> 0.046580446 | R5: =(1-standardizing!Q5)*weighting!$Q$14 -> 0.0061663798 | S5: =(1-standardizing!R5)*weighting!$R$14 -> 0.035762517 | T5: =(1-standardizing!S5)*weighting!$S$14 -> 0.026099564 | U5: =(1-standardizing!T5)*weighting!$T$14 -> 0.01723125 | V5: =(1-standardizing!U5)*weighting!$U$14 -> 0.010791811 | W5: =(1-standardizing!V5)*weighting!$V$14 -> 0.041490528 | X5: =(1-standardizing!W5)*weighting!$W$14 -> 0.0049614286 | Y5: =(1-standardizing!X5)*weighting!$X$14 -> 0.0072732535 | Z5: =(1-standardizing!Y5)*weighting!$Y$14 -> 0.0092141442 | AA5: =(1-standardizing!Z5)*weighting!$Z$14 -> 0.0105377 | AB5: =(1-standardizing!AA5)*weighting!$AA$14 -> 0.0003491027 | AC5: =(1-standardizing!AB5)*weighting!$AB$14 -> 0.0041572577 | AD5: =SUM(C5:AC5) -> 0.56624988
B6: 2013 | C6: =(1-standardizing!B6)*weighting!$B$14 -> 0.020353344 | D6: =(1-standardizing!C6)*weighting!$C$14 -> 0.037966575 | E6: =(1-standardizing!D6)*weighting!$D$14 -> 0 | F6: =(1-standardizing!E6)*weighting!$E$14 -> 0.020447764 | G6: =(1-standardizing!C6)*weighting!$C$14 -> 0.037966575 | H6: =(1-standardizing!G6)*weighting!$G$14 -> 0.02014313 | I6: =(1-standardizing!H6)*weighting!$H$14 -> 0.010153312 | J6: =(1-standardizing!I6)*weighting!$I$14 -> 0.062654356 | K6: =(1-standardizing!J6)*weighting!$J$14 -> 0.038385608 | L6: =(1-standardizing!K6)*weighting!$K$14 -> 0.042177012 | M6: =(1-standardizing!L6)*weighting!$L$14 -> 0.023766089 | N6: =(1-standardizing!M6)*weighting!$M$14 -> 0.0031538456 | O6: =(1-standardizing!N6)*weighting!$N$14 -> 0.012647134 | P6: =(1-standardizing!O6)*weighting!$O$14 -> 0.0073465552 | Q6: =(1-standardizing!P6)*weighting!$P$14 -> 0.048918461 | R6: =(1-standardizing!Q6)*weighting!$Q$14 -> 0.0046878911 | S6: =(1-standardizing!R6)*weighting!$R$14 -> 0.030035059 | T6: =(1-standardizing!S6)*weighting!$S$14 -> 0 | U6: =(1-standardizing!T6)*weighting!$T$14 -> 0.035982635 | V6: =(1-standardizing!U6)*weighting!$U$14 -> 0.026740111 | W6: =(1-standardizing!V6)*weighting!$V$14 -> 0.037037901 | X6: =(1-standardizing!W6)*weighting!$W$14 -> 0.0036084831 | Y6: =(1-standardizing!X6)*weighting!$X$14 -> 0.0080888235 | Z6: =(1-standardizing!Y6)*weighting!$Y$14 -> 0.0073303636 | AA6: =(1-standardizing!Z6)*weighting!$Z$14 -> 0.0098385115 | AB6: =(1-standardizing!AA6)*weighting!$AA$14 -> 0.00010370861 | AC6: =(1-standardizing!AB6)*weighting!$AB$14 -> 0.017307544 | AD6: =SUM(C6:AC6) -> 0.56684079
B7: 2014 | C7: =(1-standardizing!B7)*weighting!$B$14 -> 0.021863005 | D7: =(1-standardizing!C7)*weighting!$C$14 -> 0.027222898 | E7: =(1-standardizing!D7)*weighting!$D$14 -> 0.04364666 | F7: =(1-standardizing!E7)*weighting!$E$14 -> 0.013396811 | G7: =(1-standardizing!C7)*weighting!$C$14 -> 0.027222898 | H7: =(1-standardizing!G7)*weighting!$G$14 -> 0.024829491 | I7: =(1-standardizing!H7)*weighting!$H$14 -> 0.030543931 | J7: =(1-standardizing!I7)*weighting!$I$14 -> 0.011546809 | K7: =(1-standardizing!J7)*weighting!$J$14 -> 0.042181987 | L7: =(1-standardizing!K7)*weighting!$K$14 -> 0.042902562 | M7: =(1-standardizing!L7)*weighting!$L$14 -> 0.021582388 | N7: =(1-standardizing!M7)*weighting!$M$14 -> 0.0030379147 | O7: =(1-standardizing!N7)*weighting!$N$14 -> 0.011317355 | P7: =(1-standardizing!O7)*weighting!$O$14 -> 0.0049088346 | Q7: =(1-standardizing!P7)*weighting!$P$14 -> 0.036508998 | R7: =(1-standardizing!Q7)*weighting!$Q$14 -> 0.0034257666 | S7: =(1-standardizing!R7)*weighting!$R$14 -> 0.02555196 | T7: =(1-standardizing!S7)*weighting!$S$14 -> 0.014189391 | U7: =(1-standardizing!T7)*weighting!$T$14 -> 0.049489128 | V7: =(1-standardizing!U7)*weighting!$U$14 -> 0.0056582373 | W7: =(1-standardizing!V7)*weighting!$V$14 -> 0.039833376 | X7: =(1-standardizing!W7)*weighting!$W$14 -> 0.0025753296 | Y7: =(1-standardizing!X7)*weighting!$X$14 -> 0.0058476371 | Z7: =(1-standardizing!Y7)*weighting!$Y$14 -> 0.0056922936 | AA7: =(1-standardizing!Z7)*weighting!$Z$14 -> 0.0081800297 | AB7: =(1-standardizing!AA7)*weighting!$AA$14 -> 0.00018545957 | AC7: =(1-standardizing!AB7)*weighting!$AB$14 -> 0.002851155 | AD7: =SUM(C7:AC7) -> 0.5261923
B8: 2015 | C8: =(1-standardizing!B8)*weighting!$B$14 -> 0.01946142 | D8: =(1-standardizing!C8)*weighting!$C$14 -> 0.015856474 | E8: =(1-standardizing!D8)*weighting!$D$14 -> 0.041106068 | F8: =(1-standardizing!E8)*weighting!$E$14 -> 0.010928977 | G8: =(1-standardizing!C8)*weighting!$C$14 -> 0.015856474 | H8: =(1-standardizing!G8)*weighting!$G$14 -> 0.028282599 | I8: =(1-standardizing!H8)*weighting!$H$14 -> 0.0081857734 | J8: =(1-standardizing!I8)*weighting!$I$14 -> 0.010499727 | K8: =(1-standardizing!J8)*weighting!$J$14 -> 0.033323769 | L8: =(1-standardizing!K8)*weighting!$K$14 -> 0.055054114 | M8: =(1-standardizing!L8)*weighting!$L$14 -> 0.022028715 | N8: =(1-standardizing!M8)*weighting!$M$14 -> 0.0027885258 | O8: =(1-standardizing!N8)*weighting!$N$14 -> 0.023185858 | P8: =(1-standardizing!O8)*weighting!$O$14 -> 0.0043411462 | Q8: =(1-standardizing!P8)*weighting!$P$14 -> 0.020322743 | R8: =(1-standardizing!Q8)*weighting!$Q$14 -> 0.002264612 | S8: =(1-standardizing!R8)*weighting!$R$14 -> 0.022245036 | T8: =(1-standardizing!S8)*weighting!$S$14 -> 0.022512544 | U8: =(1-standardizing!T8)*weighting!$T$14 -> 0.063348716 | V8: =(1-standardizing!U8)*weighting!$U$14 -> 0.0066534039 | W8: =(1-standardizing!V8)*weighting!$V$14 -> 0 | X8: =(1-standardizing!W8)*weighting!$W$14 -> 0.0019681421 | Y8: =(1-standardizing!X8)*weighting!$X$14 -> 0.0036233058 | Z8: =(1-standardizing!Y8)*weighting!$Y$14 -> 0.0042180305 | AA8: =(1-standardizing!Z8)*weighting!$Z$14 -> 0.0077167019 | AB8: =(1-standardizing!AA8)*weighting!$AA$14 -> 0.00014224846 | AC8: =(1-standardizing!AB8)*weighting!$AB$14 -> 0.0030137522 | AD8: =SUM(C8:AC8) -> 0.44892888
B9: 2016 | C9: =(1-standardizing!B9)*weighting!$B$14 -> 0.009276029 | D9: =(1-standardizing!C9)*weighting!$C$14 -> 0.0073787554 | E9: =(1-standardizing!D9)*weighting!$D$14 -> 0.038868632 | F9: =(1-standardizing!E9)*weighting!$E$14 -> 0.013044263 | G9: =(1-standardizing!C9)*weighting!$C$14 -> 0.0073787554 | H9: =(1-standardizing!G9)*weighting!$G$14 -> 0.030666888 | I9: =(1-standardizing!H9)*weighting!$H$14 -> 0.0026993199 | J9: =(1-standardizing!I9)*weighting!$I$14 -> 0.006110436 | K9: =(1-standardizing!J9)*weighting!$J$14 -> 0.028261931 | L9: =(1-standardizing!K9)*weighting!$K$14 -> 0.050395817 | M9: =(1-standardizing!L9)*weighting!$L$14 -> 0.0043734532 | N9: =(1-standardizing!M9)*weighting!$M$14 -> 0.00051757272 | O9: =(1-standardizing!N9)*weighting!$N$14 -> 0.027559104 | P9: =(1-standardizing!O9)*weighting!$O$14 -> 0.0021705731 | Q9: =(1-standardizing!P9)*weighting!$P$14 -> 0.010431142 | R9: =(1-standardizing!Q9)*weighting!$Q$14 -> 0.0020987328 | S9: =(1-standardizing!R9)*weighting!$R$14 -> 0.019193801 | T9: =(1-standardizing!S9)*weighting!$S$14 -> 0.022901646 | U9: =(1-standardizing!T9)*weighting!$T$14 -> 0.068190063 | V9: =(1-standardizing!U9)*weighting!$U$14 -> 0.00403377 | W9: =(1-standardizing!V9)*weighting!$V$14 -> 0.023805638 | X9: =(1-standardizing!W9)*weighting!$W$14 -> 0.0017512788 | Y9: =(1-standardizing!X9)*weighting!$X$14 -> 0.001016744 | Z9: =(1-standardizing!Y9)*weighting!$Y$14 -> 0.0013923596 | AA9: =(1-standardizing!Z9)*weighting!$Z$14 -> 0.0026328951 | AB9: =(1-standardizing!AA9)*weighting!$AA$14 -> 0 | AC9: =(1-standardizing!AB9)*weighting!$AB$14 -> 0.0022763386 | AD9: =SUM(C9:AC9) -> 0.38842594
B10: 2017 | C10: =(1-standardizing!B10)*weighting!$B$14 -> 0.0084376536 | D10: =(1-standardizing!C10)*weighting!$C$14 -> 0.0016955438 | E10: =(1-standardizing!D10)*weighting!$D$14 -> 0.033812979 | F10: =(1-standardizing!E10)*weighting!$E$14 -> 0.0017627383 | G10: =(1-standardizing!C10)*weighting!$C$14 -> 0.0016955438 | H10: =(1-standardizing!G10)*weighting!$G$14 -> 0.034613297 | I10: =(1-standardizing!H10)*weighting!$H$14 -> 0.0031027543 | J10: =(1-standardizing!I10)*weighting!$I$14 -> 0.0029976144 | K10: =(1-standardizing!J10)*weighting!$J$14 -> 0.024043732 | L10: =(1-standardizing!K10)*weighting!$K$14 -> 0.042927462 | M10: =(1-standardizing!L10)*weighting!$L$14 -> 0.00040556749 | N10: =(1-standardizing!M10)*weighting!$M$14 -> 0 | O10: =(1-standardizing!N10)*weighting!$N$14 -> 0.036791512 | P10: =(1-standardizing!O10)*weighting!$O$14 -> 0.0011687701 | Q10: =(1-standardizing!P10)*weighting!$P$14 -> 0.014387783 | R10: =(1-standardizing!Q10)*weighting!$Q$14 -> 0.00078612328 | S10: =(1-standardizing!R10)*weighting!$R$14 -> 0.010892397 | T10: =(1-standardizing!S10)*weighting!$S$14 -> 0.018760152 | U10: =(1-standardizing!T10)*weighting!$T$14 -> 0.063593561 | V10: =(1-standardizing!U10)*weighting!$U$14 -> 0.0042654698 | W10: =(1-standardizing!V10)*weighting!$V$14 -> 0.015598136 | X10: =(1-standardizing!W10)*weighting!$W$14 -> 0.00080527754 | Y10: =(1-standardizing!X10)*weighting!$X$14 -> 0 | Z10: =(1-standardizing!Y10)*weighting!$Y$14 -> 0 | AA10: =(1-standardizing!Z10)*weighting!$Z$14 -> 0.00068103913 | AB10: =(1-standardizing!AA10)*weighting!$AA$14 -> 6.3023328e-05 | AC10: =(1-standardizing!AB10)*weighting!$AB$14 -> 0 | AD10: =SUM(C10:AC10) -> 0.32328813
B11: 2018 | C11: =(1-standardizing!B11)*weighting!$B$14 -> 0 | D11: =(1-standardizing!C11)*weighting!$C$14 -> 0 | E11: =(1-standardizing!D11)*weighting!$D$14 -> 0.038160685 | F11: =(1-standardizing!E11)*weighting!$E$14 -> 0 | G11: =(1-standardizing!C11)*weighting!$C$14 -> 0 | H11: =(1-standardizing!G11)*weighting!$G$14 -> 0.039875176 | I11: =(1-standardizing!H11)*weighting!$H$14 -> 0 | J11: =(1-standardizing!I11)*weighting!$I$14 -> 0 | K11: =(1-standardizing!J11)*weighting!$J$14 -> 0.013920056 | L11: =(1-standardizing!K11)*weighting!$K$14 -> 0.039173491 | M11: =(1-standardizing!L11)*weighting!$L$14 -> 0 | N11: =(1-standardizing!M11)*weighting!$M$14 -> 0 | O11: =(1-standardizing!N11)*weighting!$N$14 -> 0.031567913 | P11: =(1-standardizing!O11)*weighting!$O$14 -> 0 | Q11: =(1-standardizing!P11)*weighting!$P$14 -> 0.030753885 | R11: =(1-standardizing!Q11)*weighting!$Q$14 -> 0 | S11: =(1-standardizing!R11)*weighting!$R$14 -> 0 | T11: =(1-standardizing!S11)*weighting!$S$14 -> 0.020860172 | U11: =(1-standardizing!T11)*weighting!$T$14 -> 0.064869307 | V11: =(1-standardizing!U11)*weighting!$U$14 -> 0 | W11: =(1-standardizing!V11)*weighting!$V$14 -> 0.0074183759 | X11: =(1-standardizing!W11)*weighting!$W$14 -> 0 | Y11: =(1-standardizing!X11)*weighting!$X$14 -> 0.00099635471 | Z11: =(1-standardizing!Y11)*weighting!$Y$14 -> 0.0016355106 | AA11: =(1-standardizing!Z11)*weighting!$Z$14 -> 0 | AB11: =(1-standardizing!AA11)*weighting!$AA$14 -> 2.4817527e-06 | AC11: =(1-standardizing!AB11)*weighting!$AB$14 -> 0.00095503305 | AD11: =SUM(C11:AC11) -> 0.29018844
A12: Obstacle degree for each indicator (Oi) | B12: 2009 | C12: =C2/$AD$2*100 -> 6.0867146 | D12: =D2/$AD$2*100 -> 6.6075068 | E12: =E2/$AD$2*100 -> 8.1805374 | F12: =F2/$AD$2*100 -> 5.3606985 | G12: =G2/$AD$2*100 -> 6.6075068 | H12: =H2/$AD$2*100 -> 0 | I12: =I2/$AD$2*100 -> 3.2922602 | J12: =J2/$AD$2*100 -> 6.7936905 | ... AC12: =AC2/$AD$2*100 -> 0.81981944 | AD12: =SUM(C12:AC12) -> 100
B13: 2010 | C13: =C3/$AD$3*100 -> 6.273535 | D13: =D3/$AD$3*100 -> 5.5598354 | E13: =E3/$AD$3*100 -> 8.1923408 | F13: =F3/$AD$3*100 -> 4.3510254 | G13: =G3/$AD$3*100 -> 5.5598354 | H13: =H3/$AD$3*100 -> 4.339952 | I13: =I3/$AD$3*100 -> 3.2185676 | J13: =J3/$AD$3*100 -> 7.7498596 | ... AC13: =AC3/$AD$3*100 -> 0.7072661 | AD13: =SUM(C13:AC13) -> 100
B14: 2011 | C14: =C4/$AD$4*100 -> 5.3916845 | D14: =D4/$AD$4*100 -> 6.6665169 | E14: =E4/$AD$4*100 -> 9.1362309 | F14: =F4/$AD$4*100 -> 5.4477497 | G14: =G4/$AD$4*100 -> 6.6665169 | H14: =H4/$AD$4*100 -> 2.108122 | I14: =I4/$AD$4*100 -> 2.8941234 | J14: =J4/$AD$4*100 -> 9.869412 | ... AC14: =AC4/$AD$4*100 -> 0.80202958 | AD14: =SUM(C14:AC14) -> 100
B15: 2012 | C15: =C5/$AD$5*100 -> 2.0257769 | D15: =D5/$AD$5*100 -> 6.5755303 | E15: =E5/$AD$5*100 -> 8.8128477 | F15: =F5/$AD$5*100 -> 5.2921072 | G15: =G5/$AD$5*100 -> 6.5755303 | H15: =H5/$AD$5*100 -> 4.1671069 | I15: =I5/$AD$5*100 -> 2.6970364 | J15: =J5/$AD$5*100 -> 10.631026 | ... AC15: =AC5/$AD$5*100 -> 0.7341737 | AD15: =SUM(C15:AC15) -> 100
B16: 2013 | C16: =C6/$AD$6*100 -> 3.5906633 | D16: =D6/$AD$6*100 -> 6.6979257 | E16: =E6/$AD$6*100 -> 0 | F16: =F6/$AD$6*100 -> 3.6073205 | G16: =G6/$AD$6*100 -> 6.6979257 | H16: =H6/$AD$6*100 -> 3.5535781 | I16: =I6/$AD$6*100 -> 1.7912105 | J16: =J6/$AD$6*100 -> 11.053255 | ... AC16: =AC6/$AD$6*100 -> 3.0533342 | AD16: =SUM(C16:AC16) -> 100
B17: 2014 | C17: =C7/$AD$7*100 -> 4.1549458 | D17: =D7/$AD$7*100 -> 5.1735644 | E17: =E7/$AD$7*100 -> 8.2948116 | F17: =F7/$AD$7*100 -> 2.5459914 | G17: =G7/$AD$7*100 -> 5.1735644 | H17: =H7/$AD$7*100 -> 4.7187104 | I17: =I7/$AD$7*100 -> 5.8047087 | J17: =J7/$AD$7*100 -> 2.1944086 | ... AC17: =AC7/$AD$7*100 -> 0.54184658 | AD17: =SUM(C17:AC17) -> 100
B18: 2015 | C18: =C8/$AD$8*100 -> 4.3350786 | D18: =D8/$AD$8*100 -> 3.5320683 | E18: =E8/$AD$8*100 -> 9.1564766 | F18: =F8/$AD$8*100 -> 2.4344563 | G18: =G8/$AD$8*100 -> 3.5320683 | H18: =H8/$AD$8*100 -> 6.3000178 | I18: =I8/$AD$8*100 -> 1.8234009 | J18: =J8/$AD$8*100 -> 2.3388398 | ... AC18: =AC8/$AD$8*100 -> 0.67132065 | AD18: =SUM(C18:AC18) -> 100
B19: 2016 | C19: =C9/$AD$9*100 -> 2.3881075 | D19: =D9/$AD$9*100 -> 1.8996557 | E19: =E9/$AD$9*100 -> 10.006704 | F19: =F9/$AD$9*100 -> 3.3582369 | G19: =G9/$AD$9*100 -> 1.8996557 | H19: =H9/$AD$9*100 -> 7.8951699 | I19: =I9/$AD$9*100 -> 0.69493811 | J19: =J9/$AD$9*100 -> 1.5731277 | ... AC19: =AC9/$AD$9*100 -> 0.58604185 | AD19: =SUM(C19:AC19) -> 100
B20: 2017 | C20: =C10/$AD$10*100 -> 2.6099485 | D20: =D10/$AD$10*100 -> 0.52446831 | E20: =E10/$AD$10*100 -> 10.459085 | F20: =F10/$AD$10*100 -> 0.54525301 | G20: =G10/$AD$10*100 -> 0.52446831 | H20: =H10/$AD$10*100 -> 10.70664 | I20: =I10/$AD$10*100 -> 0.9597489 | J20: =J10/$AD$10*100 -> 0.92722688 | ... AC20: =AC10/$AD$10*100 -> 0 | AD20: =SUM(C20:AC20) -> 100
B21: 2018 | C21: =C11/$AD$11*100 -> 0 | D21: =D11/$AD$11*100 -> 0 | E21: =E11/$AD$11*100 -> 13.150312 | F21: =F11/$AD$11*100 -> 0 | G21: =G11/$AD$11*100 -> 0 | H21: =H11/$AD$11*100 -> 13.741132 | I21: =I11/$AD$11*100 -> 0 | J21: =J11/$AD$11*100 -> 0 | ... AC21: =AC11/$AD$11*100 -> 0.32910789 | AD21: =SUM(C21:AC21) -> 100
A22: Obstacle degree for each subsystem (Oi) | C22: inclusive | D22: green | E22: growth
B23: 2009 | C23: =SUM(C12:K12) -> 43.635046 | D23: =SUM(L12:T12) -> 24.866513 | E23: =SUM(U12:AC12) -> 31.498441 | AD23: =SUM(C23:AC23) -> 100
B24: 2010 | C24: =SUM(C13:K13) -> 45.370396 | D24: =SUM(L13:T13) -> 29.256603 | E24: =SUM(U13:AC13) -> 25.373001 | AD24: =SUM(C24:AC24) -> 100
B25: 2011 | C25: =SUM(C14:K14) -> 49.111525 | D25: =SUM(L14:T14) -> 30.326904 | E25: =SUM(U14:AC14) -> 20.561572 | AD25: =SUM(C25:AC25) -> 100
B26: 2012 | C26: =SUM(C15:K15) -> 46.776961 | D26: =SUM(L15:T15) -> 34.502245 | E26: =SUM(U15:AC15) -> 18.720794
B27: 2013 | C27: =SUM(C16:K16) -> 43.763728 | D27: =SUM(L16:T16) -> 30.472762 | E27: =SUM(U16:AC16) -> 25.76351
B28: 2014 | C28: =SUM(C17:K17) -> 46.077164 | D28: =SUM(L17:T17) -> 31.058069 | E28: =SUM(U17:AC17) -> 22.864767
B29: 2015 | C29: =SUM(C18:K18) -> 40.875357 | D29: =SUM(L18:T18) -> 38.924494 | E29: =SUM(U18:AC18) -> 20.200149
B30: 2016 | C30: =SUM(C19:K19) -> 36.99161 | D30: =SUM(L19:T19) -> 35.950699 | E30: =SUM(U19:AC19) -> 27.05769
B31: 2017 | C31: =SUM(C20:K20) -> 34.694085 | D31: =SUM(L20:T20) -> 39.011567 | E31: =SUM(U20:AC20) -> 26.294348
B32: 2018 | C32: =SUM(C21:K21) -> 31.688346 | D32: =SUM(L21:T21) -> 42.16414 | E32: =SUM(U21:AC21) -> 26.147514

Sheet obstacle degree results
B1: The top OFs of Anhui province from 2009 to 2018
A2: 2009 | B2: C3 | C2: C21 | D2: C8 | E2: C19 | F2: C2 | G2: C5 | H2: C17 | I2: C1 | J2: C11 | K2: C4 | L2: C18 | M2: C20 | N2: C25 | O2: C7 | P2: C16 | Q2: C22 | R2: C24 | S2: C14 | T2: C23 | U2: C12 | V2: C27 | W2: C9 | X2: C26 | Y2: C6 | Z2: C10 | AA2: C13 | AB2: C15
B3: 8.1805374 | C3: 7.264252 | D3: 6.7936905 | E3: 6.7090635 | F3: 6.6075068 | G3: 6.6075068 | H3: 6.2040276 | I3: 6.0867146 | J3: 5.3736698 | K3: 5.3606985 | L3: 4.7102974 | M3: 4.5347419 | N3: 3.4576683 | O3: 3.2922602 | P3: 3.2738498 | Q3: 3.0052167 | R3: 2.9706596 | S3: 2.9580931 | T3: 2.7080193 | U3: 2.3465755 | V3: 0.81981944 | W3: 0.70613108 | X3: 0.029000268 | Y3: 0 | Z3: 0 | AA3: 0 | AB3: 0 | AC3: 100
A4: 2010 | B4: C3 | C4: C8 | D4: C21 | E4: C19 | F4: C15 | G4: C1 | H4: C18 | I4: C17 | J4: C5 | K4: C2 | L4: C11 | M4: C4 | N4: C6 | O4: C20 | P4: C7 | Q4: C25 | R4: C16 | S4: C22 | T4: C14 | U4: C24 | V4: C10 | W4: C23 | X4: C27 | Y4: C12 | Z4: C13 | AA4: C9 | AB4: C26
B5: 8.1923408 | C5: 7.7498596 | D5: 6.6836798 | E5: 6.4751344 | F5: 6.4181641 | G5: 6.273535 | H5: 5.7463908 | I5: 5.7384515 | J5: 5.5598354 | K5: 5.5598354 | L5: 4.8317413 | M5: 4.3510254 | N5: 4.339952 | O5: 3.8027889 | P5: 3.2185676 | Q5: 2.6097357 | R5: 2.505144 | S5: 2.1807127 | T5: 1.8471395 | U5: 1.7537217 | V5: 1.5302911 | W5: 1.1353391 | X5: 0.7072661 | Y5: 0.49081499 | Z5: 0.14846548 | AA5: 0.12544482 | AB5: 0.02462251 | AC5: 100
A6: 2011 | B6: C8 | C6: C3 | D6: C21 | E6: C5 | F6: C2 | G6: C17 | H6: C10 | I6: C18 | J6: C4 | K6: C1 | L6: C11 | M6: C15 | N6: C7 | O6: C26 | P6: C20 | Q6: C25 | R6: C6 | S6: C16 | T6: C24 | U6: C14 | V6: C23 | W6: C22 | X6: C9 | Y6: C27 | Z6: C12 | AA6: C13 | AB6: C19
B7: 9.869412 | C7: 9.1362309 | D7: 7.7739994 | E7: 6.6665169 | F7: 6.6665169 | G7: 6.4201039 | H7: 6.2588379 | I7: 5.5201293 | J7: 5.4477497 | K7: 5.3916845 | L7: 4.5145743 | M7: 3.359344 | N7: 2.8941234 | O7: 2.7310952 | P7: 2.6268224 | Q7: 2.3166026 | R7: 2.108122 | S7: 1.9472387 | T7: 1.7871604 | U7: 1.5820609 | V7: 1.2811271 | W7: 1.2427349 | X7: 0.93116856 | Y7: 0.80202958 | Z7: 0.61158387 | AA7: 0.11303071 | AB7: 0 | AC7: 100
A8: 2012 | B8: C8 | C8: C3 | D8: C15 | E8: C10 | F8: C21 | G8: C2 | H8: C5 | I8: C17 | J8: C4 | K8: C18 | L8: C11 | M8: C6 | N8: C19 | O8: C7 | P8: C1 | Q8: C20 | R8: C25 | S8: C24 | T8: C14 | U8: C23 | V8: C16 | W8: C22 | X8: C27 | Y8: C12 | Z8: C26 | AA8: C13 | AB8: C9
B9: 10.631026 | C9: 8.8128477 | D9: 8.226129 | E9: 7.6219446 | F9: 7.327247 | G9: 6.5755303 | H9: 6.5755303 | I9: 6.3156776 | J9: 5.2921072 | K9: 4.6091955 | L9: 4.3610264 | M9: 4.1671069 | N9: 3.043047 | O9: 2.6970364 | P9: 2.0257769 | Q9: 1.9058389 | R9: 1.8609628 | S9: 1.6272223 | T9: 1.6217564 | U9: 1.28446 | V9: 1.0889856 | W9: 0.87619066 | X9: 0.7341737 | Y9: 0.59875333 | Z9: 0.061651704 | AA9: 0.058776052 | AB9: 0 | AC9: 100
A10: 2013 | B10: C8 | C10: C15 | D10: C10 | E10: C9 | F10: C2 | G10: C5 | H10: C21 | I10: C19 | J10: C17 | K10: C20 | L10: C11 | M10: C4 | N10: C1 | O10: C6 | P10: C27 | Q10: C13 | R10: C7 | S10: C25 | T10: C23 | U10: C14 | V10: C24 | W10: C16 | X10: C22 | Y10: C12 | Z10: C26 | AA10: C3 | AB10: C18
B11: 11.053255 | C11: 8.6300177 | D11: 7.4407157 | E11: 6.7718499 | F11: 6.6979257 | G11: 6.6979257 | H11: 6.5340924 | I11: 6.3479263 | J11: 5.2986764 | K11: 4.7173936 | L11: 4.1927273 | M11: 3.6073205 | N11: 3.5906633 | O11: 3.5535781 | P11: 3.0533342 | Q11: 2.2311616 | R11: 1.7912105 | S11: 1.7356746 | T11: 1.427001 | U11: 1.2960527 | V11: 1.2931962 | W11: 0.82702077 | X11: 0.63659553 | Y11: 0.55639002 | Z11: 0.018295898 | AA11: 0 | AB11: 0 | AC11: 100
A12: 2014 | B12: C19 | C12: C3 | D12: C10 | E12: C9 | F12: C21 | G12: C15 | H12: C7 | I12: C2 | J12: C5 | K12: C17 | L12: C6 | M12: C1 | N12: C11 | O12: C18 | P12: C4 | Q12: C8 | R12: C13 | S12: C25 | T12: C23 | U12: C24 | V12: C20 | W12: C14 | X12: C16 | Y12: C12 | Z12: C27 | AA12: C22 | AB12: C26
B13: 9.4051409 | C13: 8.2948116 | D13: 8.1533997 | E13: 8.0164583 | F13: 7.5701176 | G13: 6.9383375 | H13: 5.8047087 | I13: 5.1735644 | J13: 5.1735644 | K13: 4.8560118 | L13: 4.7187104 | M13: 4.1549458 | N13: 4.101616 | O13: 2.696617 | P13: 2.5459914 | Q13: 2.1944086 | R13: 2.150802 | S13: 1.5545704 | T13: 1.1113118 | U13: 1.0817896 | V13: 1.0753174 | W13: 0.93289745 | X13: 0.6510484 | Y13: 0.57733924 | Z13: 0.54184658 | AA13: 0.48942745 | AB13: 0.035245588 | AC13: 100
A14: 2015 | B14: C19 | C14: C10 | D14: C3 | E14: C9 | F14: C6 | G14: C13 | H14: C18 | I14: C17 | J14: C11 | K14: C15 | L14: C1 | M14: C5 | N14: C2 | O14: C4 | P14: C8 | Q14: C7 | R14: C25 | S14: C20 | T14: C14 | U14: C24 | V14: C23 | W14: C27 | X14: C12 | Y14: C16 | Z14: C22 | AA14: C26 | AB14: C21
B15: 14.111081 | C15: 12.263438 | D15: 9.1564766 | E15: 7.4229508 | F15: 6.3000178 | G15: 5.1647064 | H15: 5.014724 | I15: 4.9551358 | J15: 4.90695 | K15: 4.5269404 | L15: 4.3350786 | M15: 3.5320683 | N15: 3.5320683 | O15: 2.4344563 | P15: 2.3388398 | Q15: 1.8234009 | R15: 1.7189141 | S15: 1.4820619 | T15: 0.96700089 | U15: 0.93957655 | V15: 0.80710018 | W15: 0.67132065 | X15: 0.6211509 | Y15: 0.50444784 | Z15: 0.43840843 | AA15: 0.031686191 | AB15: 0 | AC15: 100
A16: 2016 | B16: C19 | C16: C10 | D16: C3 | E16: C6 | F16: C9 | G16: C13 | H16: C21 | I16: C18 | J16: C17 | K16: C4 | L16: C15 | M16: C1 | N16: C5 | O16: C2 | P16: C8 | Q16: C11 | R16: C20 | S16: C7 | T16: C25 | U16: C27 | V16: C14 | W16: C16 | X16: C22 | Y16: C24 | Z16: C23 | AA16: C12 | AB16: C26
B17: 17.555486 | C17: 12.974369 | D17: 10.006704 | E17: 7.8951699 | F17: 7.2760154 | G17: 7.095073 | H17: 6.1287458 | I17: 5.8960136 | J17: 4.9414312 | K17: 3.3582369 | L17: 2.6854907 | M17: 2.3881075 | N17: 1.8996557 | O17: 1.8996557 | P17: 1.5731277 | Q17: 1.1259426 | R17: 1.0384914 | S17: 0.69493811 | T17: 0.6778371 | U17: 0.58604185 | V17: 0.55881261 | W17: 0.54031736 | X17: 0.45086555 | Y17: 0.35846205 | Z17: 0.26176006 | AA17: 0.13324875 | AB17: 0 | AC17: 100
