{"text_format":"3","workbook":"xlsx","n_sheets":2,"sheets":["Data","Coding"],"not_rendered":{"external_links":13,"defined_names":2,"comments":1},"read":"whole","date_system":"1900"}

{"sheet":"Data","index":0,"n_rows":6415,"n_cols":75,"rows_kept":1125,"cut":true,"bounds":{"rows_first":500,"rows_last":125,"rows_between":500,"halvings":2}}
["ctry","prov","struc","cslr","Gender","age",null,"educ","occu","remi","nchi","reby","csta","typv","typv1","typv2","typv3","typv4","typv5","typv6","typv7","typv8","typv9","typv10","typv11","typv12","typv13","typv14","typv15","typv16","typv17","typv18","Total of violence","noin","plvio","tyag","noag","ovul1","ovul2","ovul3","ovul4","ovul5","ovul6","ovul7","ovul8","ovul9","ovul9","ovul10","ovul11","ovul12","ovu13","ovul14","ovul15","ovul16","ovul17","Viol délai","Viol grossesse","metr","refe","prdep","pranx","prstr","prDASSav","prfon","PrIES","podep","poanx","postr","prDASS","poIES","pofon","inds","gros","viotocon","pretopost"]
[2,22,12,"MN",1,24,null,1,3,1,null,5,2,14,{"$f":"IF(ISNUMBER(SEARCH(\"1\",$N2)),\"1\",\"0\")","v":"1"},{"$f":"IF(ISNUMBER(SEARCH(\"2\",$N2)),\"1\",\"0\")","v":"0"},{"$f":"IF(ISNUMBER(SEARCH(\"3\",$N2)),\"1\",\"0\")","v":"0"},{"$f":"IF(ISNUMBER(SEARCH(\"4\",$N2)),\"1\",\"0\")","v":"1"},{"$f":"IF(ISNUMBER(SEARCH(\"5\",$N2)),\"1\",\"0\")","v":"0"},{"$f":"IF(ISNUMBER(SEARCH(\"6\",$N2)),\"1\",\"0\")","v":"0"},{"$f":"IF(ISNUMBER(SEARCH(\"7\",$N2)),\"1\",\"0\")","v":"0"},{"$f":"IF(ISNUMBER(SEARCH(\"8\",$N2)),\"1\",\"0\")","v":"0"},{"$f":"IF(ISNUMBER(SEARCH(\"9\",$N2)),\"1\",\"0\")","v":"0"},{"$f":"IF(ISNUMBER(SEARCH(\"10\",$N2)),\"1\",\"0\")","v":"0"},{"$f":"IF(ISNUMBER(SEARCH(\"11\",$N2)),\"1\",\"0\")","v":"0"},{"$f":"IF(ISNUMBER(SEARCH(\"12\",$N2)),\"1\",\"0\")","v":"0"},{"$f":"IF(ISNUMBER(SEARCH(\"13\",$N2)),\"1\",\"0\")","v":"0"},{"$f":"IF(ISNUMBER(SEARCH(\"14\",$N2)),\"1\",\"0\")","v":"1"},{"$f":"IF(ISNUMBER(SEARCH(\"15\",$N2)),\"1\",\"0\")","v":"0"},{"$f":"IF(ISNUMBER(SEARCH(\"16\",$N2)),\"1\",\"0\")","v":"0"},{"$f":"IF(ISNUMBER(SEARCH(\"17\",$N2)),\"1\",\"0\")","v":"0"},{"$f":"IF(ISNUMBER(SEARCH(\"18\",$N2)),\"1\",\"0\")","v":"0"},null,null,3,5,2,{"$f":"IF(ISNUMBER(SEARCH(\"1\",#REF!)),\"1\",\"0\")","v":"0"},{"$f":"IF(ISNUMBER(SEARCH(\"2\",#REF!)),\"1\",\"0\")","v":"0"},{"$f":"IF(ISNUMBER(SEARCH(\"3\",#REF!)),\"1\",\"0\")","v":"0"},{"$f":"IF(ISNUMBER(SEARCH(\"4\",#REF!)),\"1\",\"0\")","v":"0"},{"$f":"IF(ISNUMBER(SEARCH(\"5\",#REF!)),\"1\",\"0\")","v":"0"},{"$f":"IF(ISNUMBER(SEARCH(\"6\",#REF!)),\"1\",\"0\")","v":"0"},{"$f":"IF(ISNUMBER(SEARCH(\"7\",#REF!)),\"1\",\"0\")","v":"0"},{"$f":"IF(ISNUMBER(SEARCH(\"8\",#REF!)),\"1\",\"0\")","v":"0"},{"$f":"IF(ISNUMBER(SEARCH(\"9\",#REF!)),\"1\",\"0\")","v":"0"},{"$f":"IF(ISNUMBER(SEARCH(\"9\",#REF!)),\"1\",\"0\")","v":"0"},{"$f":"IF(ISNUMBER(SEARCH(\"10\",#REF!)),\"1\",\"0\")","v":"0"},{"$f":"IF(ISNUMBER(SEARCH(\"11\",#REF!)),\"1\",\"0\")","v":"0"},{"$f":"IF(ISNUMBER(SEARCH(\"12\",#REF!)),\"1\",\"0\")","v":"0"},{"$f":"IF(ISNUMBER(SEARCH(\"13\",#REF!)),\"1\",\"0\")","v":"0"},{"$f":"IF(ISNUMBER(SEARCH(\"14\",#REF!)),\"1\",\"0\")","v":"0"},{"$f":"IF(ISNUMBER(SEARCH(\"15\",#REF!)),\"1\",\"0\")","v":"0"},{"$f":"IF(ISNUMBER(SEARCH(\"16\",#REF!)),\"1\",\"0\")","v":"0"},{"$f":"IF(ISNUMBER(SEARCH(\"17\",#REF!)),\"1\",\"0\")","v":"0"},{"$nulls":4},16,14,20,{"$f":"BH2+BI2+BJ2","v":50},5,null,6,8,8,{"$f":"BN2+BO2+BP2","v":22},null,13,5,null,null,{"$f":"#REF!-#REF!","v":{"$error":"#REF!"}}]
[2,22,12,"MN",2,14,null,1,8,1,0,3,1,3,{"$f":"IF(ISNUMBER(SEARCH(\"1\",$N3)),\"1\",\"0\")","v":"0"},{"$f":"IF(ISNUMBER(SEARCH(\"2\",$N3)),\"1\",\"0\")","v":"0"},{"$f":"IF(ISNUMBER(SEARCH(\"3\",$N3)),\"1\",\"0\")","v":"1"},{"$f":"IF(ISNUMBER(SEARCH(\"4\",$N3)),\"1\",\"0\")","v":"0"},{"$f":"IF(ISNUMBER(SEARCH(\"5\",$N3)),\"1\",\"0\")","v":"0"},{"$f":"IF(ISNUMBER(SEARCH(\"6\",$N3)),\"1\",\"0\")","v":"0"},{"$f":"IF(ISNUMBER(SEARCH(\"7\",$N3)),\"1\",\"0\")","v":"0"},{"$f":"IF(ISNUMBER(SEARCH(\"8\",$N3)),\"1\",\"0\")","v":"0"},{"$f":"IF(ISNUMBER(SEARCH(\"9\",$N3)),\"1\",\"0\")","v":"0"},{"$f":"IF(ISNUMBER(SEARCH(\"10\",$N3)),\"1\",\"0\")","v":"0"},{"$f":"IF(ISNUMBER(SEARCH(\"11\",$N3)),\"1\",\"0\")","v":"0"},{"$f":"IF(ISNUMBER(SEARCH(\"12\",$N3)),\"1\",\"0\")","v":"0"},{"$f":"IF(ISNUMBER(SEARCH(\"13\",$N3)),\"1\",\"0\")","v":"0"},{"$f":"IF(ISNUMBER(SEARCH(\"14\",$N3)),\"1\",\"0\")","v":"0"},{"$f":"IF(ISNUMBER(SEARCH(\"15\",$N3)),\"1\",\"0\")","v":"0"},{"$f":"IF(ISNUMBER(SEARCH(\"16\",$N3)),\"1\",\"0\")","v":"0"},{"$f":"IF(ISNUMBER(SEARCH(\"17\",$N3)),\"1\",\"0\")","v":"0"},{"$f":"IF(ISNUMBER(SEARCH(\"18\",$N3)),\"1\",\"0\")","v":"0"},null,null,1,5,1,{"$f":"IF(ISNUMBER(SEARCH(\"1\",#REF!)),\"1\",\"0\")","v":"0"},{"$f":"IF(ISNUMBER(SEARCH(\"2\",#REF!)),\"1\",\"0\")","v":"0"},{"$f":"IF(ISNUMBER(SEARCH(\"3\",#REF!)),\"1\",\"0\")","v":"0"},{"$f":"IF(ISNUMBER(SEARCH(\"4\",#REF!)),\"1\",\"0\")","v":"0"},{"$f":"IF(ISNUMBER(SEARCH(\"5\",#REF!)),\"1\",\"0\")","v":"0"},{"$f":"IF(ISNUMBER(SEARCH(\"6\",#REF!)),\"1\",\"0\")","v":"0"},{"$f":"IF(ISNUMBER(SEARCH(\"7\",#REF!)),\"1\",\"0\")","v":"0"},{"$f":"IF(ISNUMBER(SEARCH(\"8\",#REF!)),\"1\",\"0\")","v":"0"},{"$f":"IF(ISNUMBER(SEARCH(\"9\",#REF!)),\"1\",\"0\")","v":"0"},{"$f":"IF(ISNUMBER(SEARCH(\"9\",#REF!)),\"1\",\"0\")","v":"0"},{"$f":"IF(ISNUMBER(SEARCH(\"10\",#REF!)),\"1\",\"0\")","v":"0"},{"$f":"IF(ISNUMBER(SEARCH(\"11\",#REF!)),\"1\",\"0\")","v":"0"},{"$f":"IF(ISNUMBER(SEARCH(\"12\",#REF!)),\"1\",\"0\")","v":"0"},{"$f":"IF(ISNUMBER(SEARCH(\"13\",#REF!)),\"1\",\"0\")","v":"0"},{"$f":"IF(ISNUMBER(SEARCH(\"14\",#REF!)),\"1\",\"0\")","v":"0"},{"$f":"IF(ISNUMBER(SEARCH(\"15\",#REF!)),\"1\",\"0\")","v":"0"},{"$f":"IF(ISNUMBER(SEARCH(\"16\",#REF!)),\"1\",\"0\")","v":"0"},{"$f":"IF(ISNUMBER(SEARCH(\"17\",#REF!)),\"1\",\"0\")","v":"0"},5,2,null,null,14,14,14,{"$f":"BH3+BI3+BJ3","v":42},6,{"$nulls":6},11,5,null,{"$f":"#REF!-#REF!","v":{"$error":"#REF!"}},{"$f":"#REF!-#REF!","v":{"$error":"#REF!"}}]
[2,22,12,"MN",2,18,null,1,8,2,null,11,2,3,"0","0","1","0","0","0","0","0","0","0","0","0","0","0","0","0","0","0",null,null,3,5,2,{"$f":"IF(ISNUMBER(SEARCH(\"1\",#REF!)),\"1\",\"0\")","v":"0"},{"$f":"IF(ISNUMBER(SEARCH(\"2\",#REF!)),\"1\",\"0\")","v":"0"},{"$f":"IF(ISNUMBER(SEARCH(\"3\",#REF!)),\"1\",\"0\")","v":"0"},{"$f":"IF(ISNUMBER(SEARCH(\"4\",#REF!)),\"1\",\"0\")","v":"0"},{"$f":"IF(ISNUMBER(SEARCH(\"5\",#REF!)),\"1\",\"0\")","v":"0"},{"$f":"IF(ISNUMBER(SEARCH(\"6\",#REF!)),\"1\",\"0\")","v":"0"},{"$f":"IF(ISNUMBER(SEARCH(\"7\",#REF!)),\"1\",\"0\")","v":"0"},{"$f":"IF(ISNUMBER(SEARCH(\"8\",#REF!)),\"1\",\"0\")","v":"0"},{"$f":"IF(ISNUMBER(SEARCH(\"9\",#REF!)),\"1\",\"0\")","v":"0"},{"$f":"IF(ISNUMBER(SEARCH(\"9\",#REF!)),\"1\",\"0\")","v":"0"},{"$f":"IF(ISNUMBER(SEARCH(\"10\",#REF!)),\"1\",\"0\")","v":"0"},{"$f":"IF(ISNUMBER(SEARCH(\"11\",#REF!)),\"1\",\"0\")","v":"0"},{"$f":"IF(ISNUMBER(SEARCH(\"12\",#REF!)),\"1\",\"0\")","v":"0"},{"$f":"IF(ISNUMBER(SEARCH(\"13\",#REF!)),\"1\",\"0\")","v":"0"},{"$f":"IF(ISNUMBER(SEARCH(\"14\",#REF!)),\"1\",\"0\")","v":"0"},{"$f":"IF(ISNUMBER(SEARCH(\"15\",#REF!)),\"1\",\"0\")","v":"0"},{"$f":"IF(ISNUMBER(SEARCH(\"16\",#REF!)),\"1\",\"0\")","v":"0"},{"$f":"IF(ISNUMBER(SEARCH(\"17\",#REF!)),\"1\",\"0\")","v":"0"},3,1,null,null,24,28,30,82,2,{"$nulls":6},12,5,null,{"$f":"#REF!-#REF!","v":{"$error":"#REF!"}},{"$f":"#REF!-#REF!","v":{"$error":"#REF!"}}]
[2,22,12,"MN",2,31,null,1,8,1,4,11,2,3,"0","0","1","0","0","0","0","0","0","0","0","0","0","0","0","0","0","0",null,null,3,null,2,{"$f":"IF(ISNUMBER(SEARCH(\"1\",#REF!)),\"1\",\"0\")","v":"0"},{"$f":"IF(ISNUMBER(SEARCH(\"2\",#REF!)),\"1\",\"0\")","v":"0"},{"$f":"IF(ISNUMBER(SEARCH(\"3\",#REF!)),\"1\",\"0\")","v":"0"},{"$f":"IF(ISNUMBER(SEARCH(\"4\",#REF!)),\"1\",\"0\")","v":"0"},{"$f":"IF(ISNUMBER(SEARCH(\"5\",#REF!)),\"1\",\"0\")","v":"0"},{"$f":"IF(ISNUMBER(SEARCH(\"6\",#REF!)),\"1\",\"0\")","v":"0"},{"$f":"IF(ISNUMBER(SEARCH(\"7\",#REF!)),\"1\",\"0\")","v":"0"},{"$f":"IF(ISNUMBER(SEARCH(\"8\",#REF!)),\"1\",\"0\")","v":"0"},{"$f":"IF(ISNUMBER(SEARCH(\"9\",#REF!)),\"1\",\"0\")","v":"0"},{"$f":"IF(ISNUMBER(SEARCH(\"9\",#REF!)),\"1\",\"0\")","v":"0"},{"$f":"IF(ISNUMBER(SEARCH(\"10\",#REF!)),\"1\",\"0\")","v":"0"},{"$f":"IF(ISNUMBER(SEARCH(\"11\",#REF!)),\"1\",\"0\")","v":"0"},{"$f":"IF(ISNUMBER(SEARCH(\"12\",#REF!)),\"1\",\"0\")","v":"0"},{"$f":"IF(ISNUMBER(SEARCH(\"13\",#REF!)),\"1\",\"0\")","v":"0"},{"$f":"IF(ISNUMBER(SEARCH(\"14\",#REF!)),\"1\",\"0\")","v":"0"},{"$f":"IF(ISNUMBER(SEARCH(\"15\",#REF!)),\"1\",\"0\")","v":"0"},{"$f":"IF(ISNUMBER(SEARCH(\"16\",#REF!)),\"1\",\"0\")","v":"0"},{"$f":"IF(ISNUMBER(SEARCH(\"17\",#REF!)),\"1\",\"0\")","v":"0"},{"$nulls":4},30,30,20,80,3,{"$nulls":6},14,5,null,{"$f":"#REF!-#REF!","v":{"$error":"#REF!"}},{"$f":"#REF!-#REF!","v":{"$error":"#REF!"}}]
[2,22,12,"MN",2,16,null,3,2,1,0,11,1,3,"0","0","1","0","0","0","0","0","0","0","0","0","0","0","0","0","0","0",null,null,3,5,1,{"$f":"IF(ISNUMBER(SEARCH(\"1\",#REF!)),\"1\",\"0\")","v":"0"},{"$f":"IF(ISNUMBER(SEARCH(\"2\",#REF!)),\"1\",\"0\")","v":"0"},{"$f":"IF(ISNUMBER(SEARCH(\"3\",#REF!)),\"1\",\"0\")","v":"0"},{"$f":"IF(ISNUMBER(SEARCH(\"4\",#REF!)),\"1\",\"0\")","v":"0"},{"$f":"IF(ISNUMBER(SEARCH(\"5\",#REF!)),\"1\",\"0\")","v":"0"},{"$f":"IF(ISNUMBER(SEARCH(\"6\",#REF!)),\"1\",\"0\")","v":"0"},{"$f":"IF(ISNUMBER(SEARCH(\"7\",#REF!)),\"1\",\"0\")","v":"0"},{"$f":"IF(ISNUMBER(SEARCH(\"8\",#REF!)),\"1\",\"0\")","v":"0"},{"$f":"IF(ISNUMBER(SEARCH(\"9\",#REF!)),\"1\",\"0\")","v":"0"},{"$f":"IF(ISNUMBER(SEARCH(\"9\",#REF!)),\"1\",\"0\")","v":"0"},{"$f":"IF(ISNUMBER(SEARCH(\"10\",#REF!)),\"1\",\"0\")","v":"0"},{"$f":"IF(ISNUMBER(SEARCH(\"11\",#REF!)),\"1\",\"0\")","v":"0"},{"$f":"IF(ISNUMBER(SEARCH(\"12\",#REF!)),\"1\",\"0\")","v":"0"},{"$f":"IF(ISNUMBER(SEARCH(\"13\",#REF!)),\"1\",\"0\")","v":"0"},{"$f":"IF(ISNUMBER(SEARCH(\"14\",#REF!)),\"1\",\"0\")","v":"0"},{"$f":"IF(ISNUMBER(SEARCH(\"15\",#REF!)),\"1\",\"0\")","v":"0"},{"$f":"IF(ISNUMBER(SEARCH(\"16\",#REF!)),\"1\",\"0\")","v":"0"},{"$f":"IF(ISNUMBER(SEARCH(\"17\",#REF!)),\"1\",\"0\")","v":"0"},{"$nulls":4},40,28,32,100,{"$nulls":8},4,null,null,{"$f":"#REF!-#REF!","v":{"$error":"#REF!"}}]
[2,22,12,"MN",1,28,null,2,8,2,null,5,2,14,"1","0","0","1","0","0","0","0","0","0","0","0","0","1","0","0","0","0",null,null,3,5,2,{"$f":"IF(ISNUMBER(SEARCH(\"1\",#REF!)),\"1\",\"0\")","v":"0"},{"$f":"IF(ISNUMBER(SEARCH(\"2\",#REF!)),\"1\",\"0\")","v":"0"},{"$f":"IF(ISNUMBER(SEARCH(\"3\",#REF!)),\"1\",\"0\")","v":"0"},{"$f":"IF(ISNUMBER(SEARCH(\"4\",#REF!)),\"1\",\"0\")","v":"0"},{"$f":"IF(ISNUMBER(SEARCH(\"5\",#REF!)),\"1\",\"0\")","v":"0"},{"$f":"IF(ISNUMBER(SEARCH(\"6\",#REF!)),\"1\",\"0\")","v":"0"},{"$f":"IF(ISNUMBER(SEARCH(\"7\",#REF!)),\"1\",\"0\")","v":"0"},{"$f":"IF(ISNUMBER(SEARCH(\"8\",#REF!)),\"1\",\"0\")","v":"0"},{"$f":"IF(ISNUMBER(SEARCH(\"9\",#REF!)),\"1\",\"0\")","v":"0"},{"$f":"IF(ISNUMBER(SEARCH(\"9\",#REF!)),\"1\",\"0\")","v":"0"},{"$f":"IF(ISNUMBER(SEARCH(\"10\",#REF!)),\"1\",\"0\")","v":"0"},{"$f":"IF(ISNUMBER(SEARCH(\"11\",#REF!)),\"1\",\"0\")","v":"0"},{"$f":"IF(ISNUMBER(SEARCH(\"12\",#REF!)),\"1\",\"0\")","v":"0"},{"$f":"IF(ISNUMBER(SEARCH(\"13\",#REF!)),\"1\",\"0\")","v":"0"},{"$f":"IF(ISNUMBER(SEARCH(\"14\",#REF!)),\"1\",\"0\")","v":"0"},{"$f":"IF(ISNUMBER(SEARCH(\"15\",#REF!)),\"1\",\"0\")","v":"0"},{"$f":"IF(ISNUMBER(SEARCH(\"16\",#REF!)),\"1\",\"0\")","v":"0"},{"$f":"IF(ISNUMBER(SEARCH(\"17\",#REF!)),\"1\",\"0\")","v":"0"},{"$nulls":4},24,14,24,62,8,{"$nulls":6},14,4,null,null,{"$f":"#REF!-#REF!","v":{"$error":"#REF!"}}]
[2,22,12,"MN",1,24,null,1,8,2,0,11,1,14,"1","0","0","1","0","0","0","0","0","0","0","0","0","1","0","0","0","0",null,null,2,5,2,{"$f":"IF(ISNUMBER(SEARCH(\"1\",#REF!)),\"1\",\"0\")","v":"0"},{"$f":"IF(ISNUMBER(SEARCH(\"2\",#REF!)),\"1\",\"0\")","v":"0"},{"$f":"IF(ISNUMBER(SEARCH(\"3\",#REF!)),\"1\",\"0\")","v":"0"},{"$f":"IF(ISNUMBER(SEARCH(\"4\",#REF!)),\"1\",\"0\")","v":"0"},{"$f":"IF(ISNUMBER(SEARCH(\"5\",#REF!)),\"1\",\"0\")","v":"0"},{"$f":"IF(ISNUMBER(SEARCH(\"6\",#REF!)),\"1\",\"0\")","v":"0"},{"$f":"IF(ISNUMBER(SEARCH(\"7\",#REF!)),\"1\",\"0\")","v":"0"},{"$f":"IF(ISNUMBER(SEARCH(\"8\",#REF!)),\"1\",\"0\")","v":"0"},{"$f":"IF(ISNUMBER(SEARCH(\"9\",#REF!)),\"1\",\"0\")","v":"0"},{"$f":"IF(ISNUMBER(SEARCH(\"9\",#REF!)),\"1\",\"0\")","v":"0"},{"$f":"IF(ISNUMBER(SEARCH(\"10\",#REF!)),\"1\",\"0\")","v":"0"},{"$f":"IF(ISNUMBER(SEARCH(\"11\",#REF!)),\"1\",\"0\")","v":"0"},{"$f":"IF(ISNUMBER(SEARCH(\"12\",#REF!)),\"1\",\"0\")","v":"0"},{"$f":"IF(ISNUMBER(SEARCH(\"13\",#REF!)),\"1\",\"0\")","v":"0"},{"$f":"IF(ISNUMBER(SEARCH(\"14\",#REF!)),\"1\",\"0\")","v":"0"},{"$f":"IF(ISNUMBER(SEARCH(\"15\",#REF!)),\"1\",\"0\")","v":"0"},{"$f":"IF(ISNUMBER(SEARCH(\"16\",#REF!)),\"1\",\"0\")","v":"0"},{"$f":"IF(ISNUMBER(SEARCH(\"17\",#REF!)),\"1\",\"0\")","v":"0"},{"$nulls":4},10,6,8,24,{"$nulls":8},4,null,null,{"$f":"#REF!-#REF!","v":{"$error":"#REF!"}}]
[2,22,12,"NTC",2,23,null,1,8,1,null,5,5,3,"0","0","1","0","0","0","0","0","0","0","0","0","0","0","0","0","0","0",null,null,3,5,1,{"$f":"IF(ISNUMBER(SEARCH(\"1\",#REF!)),\"1\",\"0\")","v":"0"},{"$f":"IF(ISNUMBER(SEARCH(\"2\",#REF!)),\"1\",\"0\")","v":"0"},{"$f":"IF(ISNUMBER(SEARCH(\"3\",#REF!)),\"1\",\"0\")","v":"0"},{"$f":"IF(ISNUMBER(SEARCH(\"4\",#REF!)),\"1\",\"0\")","v":"0"},{"$f":"IF(ISNUMBER(SEARCH(\"5\",#REF!)),\"1\",\"0\")","v":"0"},{"$f":"IF(ISNUMBER(SEARCH(\"6\",#REF!)),\"1\",\"0\")","v":"0"},{"$f":"IF(ISNUMBER(SEARCH(\"7\",#REF!)),\"1\",\"0\")","v":"0"},{"$f":"IF(ISNUMBER(SEARCH(\"8\",#REF!)),\"1\",\"0\")","v":"0"},{"$f":"IF(ISNUMBER(SEARCH(\"9\",#REF!)),\"1\",\"0\")","v":"0"},{"$f":"IF(ISNUMBER(SEARCH(\"9\",#REF!)),\"1\",\"0\")","v":"0"},{"$f":"IF(ISNUMBER(SEARCH(\"10\",#REF!)),\"1\",\"0\")","v":"0"},{"$f":"IF(ISNUMBER(SEARCH(\"11\",#REF!)),\"1\",\"0\")","v":"0"},{"$f":"IF(ISNUMBER(SEARCH(\"12\",#REF!)),\"1\",\"0\")","v":"0"},{"$f":"IF(ISNUMBER(SEARCH(\"13\",#REF!)),\"1\",\"0\")","v":"0"},{"$f":"IF(ISNUMBER(SEARCH(\"14\",#REF!)),\"1\",\"0\")","v":"0"},{"$f":"IF(ISNUMBER(SEARCH(\"15\",#REF!)),\"1\",\"0\")","v":"0"},{"$f":"IF(ISNUMBER(SEARCH(\"16\",#REF!)),\"1\",\"0\")","v":"0"},{"$f":"IF(ISNUMBER(SEARCH(\"17\",#REF!)),\"1\",\"0\")","v":"0"},{"$nulls":4},30,26,26,82,6,{"$nulls":6},12,4,null,{"$f":"#REF!-#REF!","v":{"$error":"#REF!"}},{"$f":"#REF!-#REF!","v":{"$error":"#REF!"}}]
[2,22,12,"NTC",2,29,null,1,3,1,3,3,2,3,"0","0","1","0","0","0","0","0","0","0","0","0","0","0","0","0","0","0",{"$nulls":3},5,1,{"$f":"IF(ISNUMBER(SEARCH(\"1\",#REF!)),\"1\",\"0\")","v":"0"},{"$f":"IF(ISNUMBER(SEARCH(\"2\",#REF!)),\"1\",\"0\")","v":"0"},{"$f":"IF(ISNUMBER(SEARCH(\"3\",#REF!)),\"1\",\"0\")","v":"0"},{"$f":"IF(ISNUMBER(SEARCH(\"4\",#REF!)),\"1\",\"0\")","v":"0"},{"$f":"IF(ISNUMBER(SEARCH(\"5\",#REF!)),\"1\",\"0\")","v":"0"},{"$f":"IF(ISNUMBER(SEARCH(\"6\",#REF!)),\"1\",\"0\")","v":"0"},{"$f":"IF(ISNUMBER(SEARCH(\"7\",#REF!)),\"1\",\"0\")","v":"0"},{"$f":"IF(ISNUMBER(SEARCH(\"8\",#REF!)),\"1\",\"0\")","v":"0"},{"$f":"IF(ISNUMBER(SEARCH(\"9\",#REF!)),\"1\",\"0\")","v":"0"},{"$f":"IF(ISNUMBER(SEARCH(\"9\",#REF!)),\"1\",\"0\")","v":"0"},{"$f":"IF(ISNUMBER(SEARCH(\"10\",#REF!)),\"1\",\"0\")","v":"0"},{"$f":"IF(ISNUMBER(SEARCH(\"11\",#REF!)),\"1\",\"0\")","v":"0"},{"$f":"IF(ISNUMBER(SEARCH(\"12\",#REF!)),\"1\",\"0\")","v":"0"},{"$f":"IF(ISNUMBER(SEARCH(\"13\",#REF!)),\"1\",\"0\")","v":"0"},{"$f":"IF(ISNUMBER(SEARCH(\"14\",#REF!)),\"1\",\"0\")","v":"0"},{"$f":"IF(ISNUMBER(SEARCH(\"15\",#REF!)),\"1\",\"0\")","v":"0"},{"$f":"IF(ISNUMBER(SEARCH(\"16\",#REF!)),\"1\",\"0\")","v":"0"},{"$f":"IF(ISNUMBER(SEARCH(\"17\",#REF!)),\"1\",\"0\")","v":"0"},{"$nulls":4},14,6,6,26,3,{"$nulls":6},11,5,null,{"$f":"#REF!-#REF!","v":{"$error":"#REF!"}},{"$f":"#REF!-#REF!","v":{"$error":"#REF!"}}]
[2,22,12,"NTC",2,32,null,1,8,1,6,5,5,3,"0","0","1","0","0","0","0","0","0","0","0","0","0","0","0","0","0","0",{"$nulls":3},5,1,{"$f":"IF(ISNUMBER(SEARCH(\"1\",#REF!)),\"1\",\"0\")","v":"0"},{"$f":"IF(ISNUMBER(SEARCH(\"2\",#REF!)),\"1\",\"0\")","v":"0"},{"$f":"IF(ISNUMBER(SEARCH(\"3\",#REF!)),\"1\",\"0\")","v":"0"},{"$f":"IF(ISNUMBER(SEARCH(\"4\",#REF!)),\"1\",\"0\")","v":"0"},{"$f":"IF(ISNUMBER(SEARCH(\"5\",#REF!)),\"1\",\"0\")","v":"0"},{"$f":"IF(ISNUMBER(SEARCH(\"6\",#REF!)),\"1\",\"0\")","v":"0"},{"$f":"IF(ISNUMBER(SEARCH(\"7\",#REF!)),\"1\",\"0\")","v":"0"},{"$f":"IF(ISNUMBER(SEARCH(\"8\",#REF!)),\"1\",\"0\")","v":"0"},{"$f":"IF(ISNUMBER(SEARCH(\"9\",#REF!)),\"1\",\"0\")","v":"0"},{"$f":"IF(ISNUMBER(SEARCH(\"9\",#REF!)),\"1\",\"0\")","v":"0"},{"$f":"IF(ISNUMBER(SEARCH(\"10\",#REF!)),\"1\",\"0\")","v":"0"},{"$f":"IF(ISNUMBER(SEARCH(\"11\",#REF!)),\"1\",\"0\")","v":"0"},{"$f":"IF(ISNUMBER(SEARCH(\"12\",#REF!)),\"1\",\"0\")","v":"0"},{"$f":"IF(ISNUMBER(SEARCH(\"13\",#REF!)),\"1\",\"0\")","v":"0"},{"$f":"IF(ISNUMBER(SEARCH(\"14\",#REF!)),\"1\",\"0\")","v":"0"},{"$f":"IF(ISNUMBER(SEARCH(\"15\",#REF!)),\"1\",\"0\")","v":"0"},{"$f":"IF(ISNUMBER(SEARCH(\"16\",#REF!)),\"1\",\"0\")","v":"0"},{"$f":"IF(ISNUMBER(SEARCH(\"17\",#REF!)),\"1\",\"0\")","v":"0"},{"$nulls":4},24,20,26,70,2,{"$nulls":6},13,6,null,{"$f":"#REF!-#REF!","v":{"$error":"#REF!"}},{"$f":"#REF!-#REF!","v":{"$error":"#REF!"}}]
[2,22,12,"NTC",2,33,null,1,8,1,null,5,5,3,"0","0","1","0","0","0","0","0","0","0","0","0","0","0","0","0","0","0",null,null,2,5,1,{"$f":"IF(ISNUMBER(SEARCH(\"1\",#REF!)),\"1\",\"0\")","v":"0"},{"$f":"IF(ISNUMBER(SEARCH(\"2\",#REF!)),\"1\",\"0\")","v":"0"},{"$f":"IF(ISNUMBER(SEARCH(\"3\",#REF!)),\"1\",\"0\")","v":"0"},{"$f":"IF(ISNUMBER(SEARCH(\"4\",#REF!)),\"1\",\"0\")","v":"0"},{"$f":"IF(ISNUMBER(SEARCH(\"5\",#REF!)),\"1\",\"0\")","v":"0"},{"$f":"IF(ISNUMBER(SEARCH(\"6\",#REF!)),\"1\",\"0\")","v":"0"},{"$f":"IF(ISNUMBER(SEARCH(\"7\",#REF!)),\"1\",\"0\")","v":"0"},{"$f":"IF(ISNUMBER(SEARCH(\"8\",#REF!)),\"1\",\"0\")","v":"0"},{"$f":"IF(ISNUMBER(SEARCH(\"9\",#REF!)),\"1\",\"0\")","v":"0"},{"$f":"IF(ISNUMBER(SEARCH(\"9\",#REF!)),\"1\",\"0\")","v":"0"},{"$f":"IF(ISNUMBER(SEARCH(\"10\",#REF!)),\"1\",\"0\")","v":"0"},{"$f":"IF(ISNUMBER(SEARCH(\"11\",#REF!)),\"1\",\"0\")","v":"0"},{"$f":"IF(ISNUMBER(SEARCH(\"12\",#REF!)),\"1\",\"0\")","v":"0"},{"$f":"IF(ISNUMBER(SEARCH(\"13\",#REF!)),\"1\",\"0\")","v":"0"},{"$f":"IF(ISNUMBER(SEARCH(\"14\",#REF!)),\"1\",\"0\")","v":"0"},{"$f":"IF(ISNUMBER(SEARCH(\"15\",#REF!)),\"1\",\"0\")","v":"0"},{"$f":"IF(ISNUMBER(SEARCH(\"16\",#REF!)),\"1\",\"0\")","v":"0"},{"$f":"IF(ISNUMBER(SEARCH(\"17\",#REF!)),\"1\",\"0\")","v":"0"},{"$nulls":4},32,26,28,86,5,{"$nulls":6},11,5,null,{"$f":"#REF!-#REF!","v":{"$error":"#REF!"}},{"$f":"#REF!-#REF!","v":{"$error":"#REF!"}}]
[2,22,12,"NTC",2,39,null,1,8,1,null,3,null,1,"1","0","0","0","0","0","0","0","0","0","0","0","0","0","0","0","0","0",null,null,2,5,2,{"$f":"IF(ISNUMBER(SEARCH(\"1\",#REF!)),\"1\",\"0\")","v":"0"},{"$f":"IF(ISNUMBER(SEARCH(\"2\",#REF!)),\"1\",\"0\")","v":"0"},{"$f":"IF(ISNUMBER(SEARCH(\"3\",#REF!)),\"1\",\"0\")","v":"0"},{"$f":"IF(ISNUMBER(SEARCH(\"4\",#REF!)),\"1\",\"0\")","v":"0"},{"$f":"IF(ISNUMBER(SEARCH(\"5\",#REF!)),\"1\",\"0\")","v":"0"},{"$f":"IF(ISNUMBER(SEARCH(\"6\",#REF!)),\"1\",\"0\")","v":"0"},{"$f":"IF(ISNUMBER(SEARCH(\"7\",#REF!)),\"1\",\"0\")","v":"0"},{"$f":"IF(ISNUMBER(SEARCH(\"8\",#REF!)),\"1\",\"0\")","v":"0"},{"$f":"IF(ISNUMBER(SEARCH(\"9\",#REF!)),\"1\",\"0\")","v":"0"},{"$f":"IF(ISNUMBER(SEARCH(\"9\",#REF!)),\"1\",\"0\")","v":"0"},{"$f":"IF(ISNUMBER(SEARCH(\"10\",#REF!)),\"1\",\"0\")","v":"0"},{"$f":"IF(ISNUMBER(SEARCH(\"11\",#REF!)),\"1\",\"0\")","v":"0"},{"$f":"IF(ISNUMBER(SEARCH(\"12\",#REF!)),\"1\",\"0\")","v":"0"},{"$f":"IF(ISNUMBER(SEARCH(\"13\",#REF!)),\"1\",\"0\")","v":"0"},{"$f":"IF(ISNUMBER(SEARCH(\"14\",#REF!)),\"1\",\"0\")","v":"0"},{"$f":"IF(ISNUMBER(SEARCH(\"15\",#REF!)),\"1\",\"0\")","v":"0"},{"$f":"IF(ISNUMBER(SEARCH(\"16\",#REF!)),\"1\",\"0\")","v":"0"},{"$f":"IF(ISNUMBER(SEARCH(\"17\",#REF!)),\"1\",\"0\")","v":"0"},{"$nulls":4},40,28,32,100,6,{"$nulls":6},14,5,null,null,{"$f":"#REF!-#REF!","v":{"$error":"#REF!"}}]
[2,22,12,"NTC",2,39,null,null,8,1,null,5,null,1,"1","0","0","0","0","0","0","0","0","0","0","0","0","0","0","0","0","0",null,null,3,5,2,{"$f":"IF(ISNUMBER(SEARCH(\"1\",#REF!)),\"1\",\"0\")","v":"0"},{"$f":"IF(ISNUMBER(SEARCH(\"2\",#REF!)),\"1\",\"0\")","v":"0"},{"$f":"IF(ISNUMBER(SEARCH(\"3\",#REF!)),\"1\",\"0\")","v":"0"},{"$f":"IF(ISNUMBER(SEARCH(\"4\",#REF!)),\"1\",\"0\")","v":"0"},{"$f":"IF(ISNUMBER(SEARCH(\"5\",#REF!)),\"1\",\"0\")","v":"0"},{"$f":"IF(ISNUMBER(SEARCH(\"6\",#REF!)),\"1\",\"0\")","v":"0"},{"$f":"IF(ISNUMBER(SEARCH(\"7\",#REF!)),\"1\",\"0\")","v":"0"},{"$f":"IF(ISNUMBER(SEARCH(\"8\",#REF!)),\"1\",\"0\")","v":"0"},{"$f":"IF(ISNUMBER(SEARCH(\"9\",#REF!)),\"1\",\"0\")","v":"0"},{"$f":"IF(ISNUMBER(SEARCH(\"9\",#REF!)),\"1\",\"0\")","v":"0"},{"$f":"IF(ISNUMBER(SEARCH(\"10\",#REF!)),\"1\",\"0\")","v":"0"},{"$f":"IF(ISNUMBER(SEARCH(\"11\",#REF!)),\"1\",\"0\")","v":"0"},{"$f":"IF(ISNUMBER(SEARCH(\"12\",#REF!)),\"1\",\"0\")","v":"0"},{"$f":"IF(ISNUMBER(SEARCH(\"13\",#REF!)),\"1\",\"0\")","v":"0"},{"$f":"IF(ISNUMBER(SEARCH(\"14\",#REF!)),\"1\",\"0\")","v":"0"},{"$f":"IF(ISNUMBER(SEARCH(\"15\",#REF!)),\"1\",\"0\")","v":"0"},{"$f":"IF(ISNUMBER(SEARCH(\"16\",#REF!)),\"1\",\"0\")","v":"0"},{"$f":"IF(ISNUMBER(SEARCH(\"17\",#REF!)),\"1\",\"0\")","v":"0"},{"$nulls":4},24,14,24,62,3,{"$nulls":6},13,4,null,null,{"$f":"#REF!-#REF!","v":{"$error":"#REF!"}}]
[2,22,12,"NTC",null,29,null,1,8,1,null,5,null,10,"1","0","0","0","0","0","0","0","0","1","0","0","0","0","0","0","0","0",null,null,2,5,1,{"$f":"IF(ISNUMBER(SEARCH(\"1\",#REF!)),\"1\",\"0\")","v":"0"},{"$f":"IF(ISNUMBER(SEARCH(\"2\",#REF!)),\"1\",\"0\")","v":"0"},{"$f":"IF(ISNUMBER(SEARCH(\"3\",#REF!)),\"1\",\"0\")","v":"0"},{"$f":"IF(ISNUMBER(SEARCH(\"4\",#REF!)),\"1\",\"0\")","v":"0"},{"$f":"IF(ISNUMBER(SEARCH(\"5\",#REF!)),\"1\",\"0\")","v":"0"},{"$f":"IF(ISNUMBER(SEARCH(\"6\",#REF!)),\"1\",\"0\")","v":"0"},{"$f":"IF(ISNUMBER(SEARCH(\"7\",#REF!)),\"1\",\"0\")","v":"0"},{"$f":"IF(ISNUMBER(SEARCH(\"8\",#REF!)),\"1\",\"0\")","v":"0"},{"$f":"IF(ISNUMBER(SEARCH(\"9\",#REF!)),\"1\",\"0\")","v":"0"},{"$f":"IF(ISNUMBER(SEARCH(\"9\",#REF!)),\"1\",\"0\")","v":"0"},{"$f":"IF(ISNUMBER(SEARCH(\"10\",#REF!)),\"1\",\"0\")","v":"0"},{"$f":"IF(ISNUMBER(SEARCH(\"11\",#REF!)),\"1\",\"0\")","v":"0"},{"$f":"IF(ISNUMBER(SEARCH(\"12\",#REF!)),\"1\",\"0\")","v":"0"},{"$f":"IF(ISNUMBER(SEARCH(\"13\",#REF!)),\"1\",\"0\")","v":"0"},{"$f":"IF(ISNUMBER(SEARCH(\"14\",#REF!)),\"1\",\"0\")","v":"0"},{"$f":"IF(ISNUMBER(SEARCH(\"15\",#REF!)),\"1\",\"0\")","v":"0"},{"$f":"IF(ISNUMBER(SEARCH(\"16\",#REF!)),\"1\",\"0\")","v":"0"},{"$f":"IF(ISNUMBER(SEARCH(\"17\",#REF!)),\"1\",\"0\")","v":"0"},{"$nulls":4},10,6,8,24,2,{"$nulls":6},14,6,null,{"$f":"#REF!-#REF!","v":{"$error":"#REF!"}},{"$f":"#REF!-#REF!","v":{"$error":"#REF!"}}]
[2,22,12,"NTC",2,13,null,null,8,1,0,3,1,3,"0","0","1","0","0","0","0","0","0","0","0","0","0","0","0","0","0","0",{"$nulls":3},5,1,{"$f":"IF(ISNUMBER(SEARCH(\"1\",#REF!)),\"1\",\"0\")","v":"0"},{"$f":"IF(ISNUMBER(SEARCH(\"2\",#REF!)),\"1\",\"0\")","v":"0"},{"$f":"IF(ISNUMBER(SEARCH(\"3\",#REF!)),\"1\",\"0\")","v":"0"},{"$f":"IF(ISNUMBER(SEARCH(\"4\",#REF!)),\"1\",\"0\")","v":"0"},{"$f":"IF(ISNUMBER(SEARCH(\"5\",#REF!)),\"1\",\"0\")","v":"0"},{"$f":"IF(ISNUMBER(SEARCH(\"6\",#REF!)),\"1\",\"0\")","v":"0"},{"$f":"IF(ISNUMBER(SEARCH(\"7\",#REF!)),\"1\",\"0\")","v":"0"},{"$f":"IF(ISNUMBER(SEARCH(\"8\",#REF!)),\"1\",\"0\")","v":"0"},{"$f":"IF(ISNUMBER(SEARCH(\"9\",#REF!)),\"1\",\"0\")","v":"0"},{"$f":"IF(ISNUMBER(SEARCH(\"9\",#REF!)),\"1\",\"0\")","v":"0"},{"$f":"IF(ISNUMBER(SEARCH(\"10\",#REF!)),\"1\",\"0\")","v":"0"},{"$f":"IF(ISNUMBER(SEARCH(\"11\",#REF!)),\"1\",\"0\")","v":"0"},{"$f":"IF(ISNUMBER(SEARCH(\"12\",#REF!)),\"1\",\"0\")","v":"0"},{"$f":"IF(ISNUMBER(SEARCH(\"13\",#REF!)),\"1\",\"0\")","v":"0"},{"$f":"IF(ISNUMBER(SEARCH(\"14\",#REF!)),\"1\",\"0\")","v":"0"},{"$f":"IF(ISNUMBER(SEARCH(\"15\",#REF!)),\"1\",\"0\")","v":"0"},{"$f":"IF(ISNUMBER(SEARCH(\"16\",#REF!)),\"1\",\"0\")","v":"0"},{"$f":"IF(ISNUMBER(SEARCH(\"17\",#REF!)),\"1\",\"0\")","v":"0"},{"$nulls":4},24,28,30,82,10,{"$nulls":6},14,5,null,{"$f":"#REF!-#REF!","v":{"$error":"#REF!"}},{"$f":"#REF!-#REF!","v":{"$error":"#REF!"}}]
[2,22,12,"MN",2,15,null,1,8,1,0,5,1,3,"0","0","1","0","0","0","0","0","0","0","0","0","0","0","0","0","0","0",null,null,2,2,2,{"$f":"IF(ISNUMBER(SEARCH(\"1\",#REF!)),\"1\",\"0\")","v":"0"},{"$f":"IF(ISNUMBER(SEARCH(\"2\",#REF!)),\"1\",\"0\")","v":"0"},{"$f":"IF(ISNUMBER(SEARCH(\"3\",#REF!)),\"1\",\"0\")","v":"0"},{"$f":"IF(ISNUMBER(SEARCH(\"4\",#REF!)),\"1\",\"0\")","v":"0"},{"$f":"IF(ISNUMBER(SEARCH(\"5\",#REF!)),\"1\",\"0\")","v":"0"},{"$f":"IF(ISNUMBER(SEARCH(\"6\",#REF!)),\"1\",\"0\")","v":"0"},{"$f":"IF(ISNUMBER(SEARCH(\"7\",#REF!)),\"1\",\"0\")","v":"0"},{"$f":"IF(ISNUMBER(SEARCH(\"8\",#REF!)),\"1\",\"0\")","v":"0"},{"$f":"IF(ISNUMBER(SEARCH(\"9\",#REF!)),\"1\",\"0\")","v":"0"},{"$f":"IF(ISNUMBER(SEARCH(\"9\",#REF!)),\"1\",\"0\")","v":"0"},{"$f":"IF(ISNUMBER(SEARCH(\"10\",#REF!)),\"1\",\"0\")","v":"0"},{"$f":"IF(ISNUMBER(SEARCH(\"11\",#REF!)),\"1\",\"0\")","v":"0"},{"$f":"IF(ISNUMBER(SEARCH(\"12\",#REF!)),\"1\",\"0\")","v":"0"},{"$f":"IF(ISNUMBER(SEARCH(\"13\",#REF!)),\"1\",\"0\")","v":"0"},{"$f":"IF(ISNUMBER(SEARCH(\"14\",#REF!)),\"1\",\"0\")","v":"0"},{"$f":"IF(ISNUMBER(SEARCH(\"15\",#REF!)),\"1\",\"0\")","v":"0"},{"$f":"IF(ISNUMBER(SEARCH(\"16\",#REF!)),\"1\",\"0\")","v":"0"},{"$f":"IF(ISNUMBER(SEARCH(\"17\",#REF!)),\"1\",\"0\")","v":"0"},{"$nulls":4},30,30,20,80,4,{"$nulls":6},12,4,null,{"$f":"#REF!-#REF!","v":{"$error":"#REF!"}},{"$f":"#REF!-#REF!","v":{"$error":"#REF!"}}]
[2,22,12,"MN",2,17,null,3,2,null,0,3,1,2,"0","1","0","0","0","0","0","0","0","0","0","0","0","0","0","0","0","0",null,null,7,5,null,{"$f":"IF(ISNUMBER(SEARCH(\"1\",#REF!)),\"1\",\"0\")","v":"0"},{"$f":"IF(ISNUMBER(SEARCH(\"2\",#REF!)),\"1\",\"0\")","v":"0"},{"$f":"IF(ISNUMBER(SEARCH(\"3\",#REF!)),\"1\",\"0\")","v":"0"},{"$f":"IF(ISNUMBER(SEARCH(\"4\",#REF!)),\"1\",\"0\")","v":"0"},{"$f":"IF(ISNUMBER(SEARCH(\"5\",#REF!)),\"1\",\"0\")","v":"0"},{"$f":"IF(ISNUMBER(SEARCH(\"6\",#REF!)),\"1\",\"0\")","v":"0"},{"$f":"IF(ISNUMBER(SEARCH(\"7\",#REF!)),\"1\",\"0\")","v":"0"},{"$f":"IF(ISNUMBER(SEARCH(\"8\",#REF!)),\"1\",\"0\")","v":"0"},{"$f":"IF(ISNUMBER(SEARCH(\"9\",#REF!)),\"1\",\"0\")","v":"0"},{"$f":"IF(ISNUMBER(SEARCH(\"9\",#REF!)),\"1\",\"0\")","v":"0"},{"$f":"IF(ISNUMBER(SEARCH(\"10\",#REF!)),\"1\",\"0\")","v":"0"},{"$f":"IF(ISNUMBER(SEARCH(\"11\",#REF!)),\"1\",\"0\")","v":"0"},{"$f":"IF(ISNUMBER(SEARCH(\"12\",#REF!)),\"1\",\"0\")","v":"0"},{"$f":"IF(ISNUMBER(SEARCH(\"13\",#REF!)),\"1\",\"0\")","v":"0"},{"$f":"IF(ISNUMBER(SEARCH(\"14\",#REF!)),\"1\",\"0\")","v":"0"},{"$f":"IF(ISNUMBER(SEARCH(\"15\",#REF!)),\"1\",\"0\")","v":"0"},{"$f":"IF(ISNUMBER(SEARCH(\"16\",#REF!)),\"1\",\"0\")","v":"0"},{"$f":"IF(ISNUMBER(SEARCH(\"17\",#REF!)),\"1\",\"0\")","v":"0"},{"$nulls":4},14,6,6,26,6,{"$nulls":6},14,4]
[2,22,12,"MN",2,33,null,1,3,1,5,5,5,3,"0","0","1","0","0","0","0","0","0","0","0","0","0","0","0","0","0","0",null,null,2,5,2,{"$f":"IF(ISNUMBER(SEARCH(\"1\",#REF!)),\"1\",\"0\")","v":"0"},{"$f":"IF(ISNUMBER(SEARCH(\"2\",#REF!)),\"1\",\"0\")","v":"0"},{"$f":"IF(ISNUMBER(SEARCH(\"3\",#REF!)),\"1\",\"0\")","v":"0"},{"$f":"IF(ISNUMBER(SEARCH(\"4\",#REF!)),\"1\",\"0\")","v":"0"},{"$f":"IF(ISNUMBER(SEARCH(\"5\",#REF!)),\"1\",\"0\")","v":"0"},{"$f":"IF(ISNUMBER(SEARCH(\"6\",#REF!)),\"1\",\"0\")","v":"0"},{"$f":"IF(ISNUMBER(SEARCH(\"7\",#REF!)),\"1\",\"0\")","v":"0"},{"$f":"IF(ISNUMBER(SEARCH(\"8\",#REF!)),\"1\",\"0\")","v":"0"},{"$f":"IF(ISNUMBER(SEARCH(\"9\",#REF!)),\"1\",\"0\")","v":"0"},{"$f":"IF(ISNUMBER(SEARCH(\"9\",#REF!)),\"1\",\"0\")","v":"0"},{"$f":"IF(ISNUMBER(SEARCH(\"10\",#REF!)),\"1\",\"0\")","v":"0"},{"$f":"IF(ISNUMBER(SEARCH(\"11\",#REF!)),\"1\",\"0\")","v":"0"},{"$f":"IF(ISNUMBER(SEARCH(\"12\",#REF!)),\"1\",\"0\")","v":"0"},{"$f":"IF(ISNUMBER(SEARCH(\"13\",#REF!)),\"1\",\"0\")","v":"0"},{"$f":"IF(ISNUMBER(SEARCH(\"14\",#REF!)),\"1\",\"0\")","v":"0"},{"$f":"IF(ISNUMBER(SEARCH(\"15\",#REF!)),\"1\",\"0\")","v":"0"},{"$f":"IF(ISNUMBER(SEARCH(\"16\",#REF!)),\"1\",\"0\")","v":"0"},{"$f":"IF(ISNUMBER(SEARCH(\"17\",#REF!)),\"1\",\"0\")","v":"0"},5,{"$nulls":3},12,16,20,48,9,{"$nulls":6},14,5,null,{"$f":"#REF!-#REF!","v":{"$error":"#REF!"}},{"$f":"#REF!-#REF!","v":{"$error":"#REF!"}}]
[2,22,12,"MN",2,39,null,1,7,2,3,11,6,3,"0","0","1","0","0","0","0","0","0","0","0","0","0","0","0","0","0","0",null,null,2,5,1,{"$f":"IF(ISNUMBER(SEARCH(\"1\",#REF!)),\"1\",\"0\")","v":"0"},{"$f":"IF(ISNUMBER(SEARCH(\"2\",#REF!)),\"1\",\"0\")","v":"0"},{"$f":"IF(ISNUMBER(SEARCH(\"3\",#REF!)),\"1\",\"0\")","v":"0"},{"$f":"IF(ISNUMBER(SEARCH(\"4\",#REF!)),\"1\",\"0\")","v":"0"},{"$f":"IF(ISNUMBER(SEARCH(\"5\",#REF!)),\"1\",\"0\")","v":"0"},{"$f":"IF(ISNUMBER(SEARCH(\"6\",#REF!)),\"1\",\"0\")","v":"0"},{"$f":"IF(ISNUMBER(SEARCH(\"7\",#REF!)),\"1\",\"0\")","v":"0"},{"$f":"IF(ISNUMBER(SEARCH(\"8\",#REF!)),\"1\",\"0\")","v":"0"},{"$f":"IF(ISNUMBER(SEARCH(\"9\",#REF!)),\"1\",\"0\")","v":"0"},{"$f":"IF(ISNUMBER(SEARCH(\"9\",#REF!)),\"1\",\"0\")","v":"0"},{"$f":"IF(ISNUMBER(SEARCH(\"10\",#REF!)),\"1\",\"0\")","v":"0"},{"$f":"IF(ISNUMBER(SEARCH(\"11\",#REF!)),\"1\",\"0\")","v":"0"},{"$f":"IF(ISNUMBER(SEARCH(\"12\",#REF!)),\"1\",\"0\")","v":"0"},{"$f":"IF(ISNUMBER(SEARCH(\"13\",#REF!)),\"1\",\"0\")","v":"0"},{"$f":"IF(ISNUMBER(SEARCH(\"14\",#REF!)),\"1\",\"0\")","v":"0"},{"$f":"IF(ISNUMBER(SEARCH(\"15\",#REF!)),\"1\",\"0\")","v":"0"},{"$f":"IF(ISNUMBER(SEARCH(\"16\",#REF!)),\"1\",\"0\")","v":"0"},{"$f":"IF(ISNUMBER(SEARCH(\"17\",#REF!)),\"1\",\"0\")","v":"0"},5,2,null,null,16,12,14,42,8,{"$nulls":6},14,5,null,{"$f":"#REF!-#REF!","v":{"$error":"#REF!"}},{"$f":"#REF!-#REF!","v":{"$error":"#REF!"}}]
[2,22,12,"MN",2,26,null,2,8,2,3,11,5,3,"0","0","1","0","0","0","0","0","0","0","0","0","0","0","0","0","0","0",null,null,2,5,2,{"$f":"IF(ISNUMBER(SEARCH(\"1\",#REF!)),\"1\",\"0\")","v":"0"},{"$f":"IF(ISNUMBER(SEARCH(\"2\",#REF!)),\"1\",\"0\")","v":"0"},{"$f":"IF(ISNUMBER(SEARCH(\"3\",#REF!)),\"1\",\"0\")","v":"0"},{"$f":"IF(ISNUMBER(SEARCH(\"4\",#REF!)),\"1\",\"0\")","v":"0"},{"$f":"IF(ISNUMBER(SEARCH(\"5\",#REF!)),\"1\",\"0\")","v":"0"},{"$f":"IF(ISNUMBER(SEARCH(\"6\",#REF!)),\"1\",\"0\")","v":"0"},{"$f":"IF(ISNUMBER(SEARCH(\"7\",#REF!)),\"1\",\"0\")","v":"0"},{"$f":"IF(ISNUMBER(SEARCH(\"8\",#REF!)),\"1\",\"0\")","v":"0"},{"$f":"IF(ISNUMBER(SEARCH(\"9\",#REF!)),\"1\",\"0\")","v":"0"},{"$f":"IF(ISNUMBER(SEARCH(\"9\",#REF!)),\"1\",\"0\")","v":"0"},{"$f":"IF(ISNUMBER(SEARCH(\"10\",#REF!)),\"1\",\"0\")","v":"0"},{"$f":"IF(ISNUMBER(SEARCH(\"11\",#REF!)),\"1\",\"0\")","v":"0"},{"$f":"IF(ISNUMBER(SEARCH(\"12\",#REF!)),\"1\",\"0\")","v":"0"},{"$f":"IF(ISNUMBER(SEARCH(\"13\",#REF!)),\"1\",\"0\")","v":"0"},{"$f":"IF(ISNUMBER(SEARCH(\"14\",#REF!)),\"1\",\"0\")","v":"0"},{"$f":"IF(ISNUMBER(SEARCH(\"15\",#REF!)),\"1\",\"0\")","v":"0"},{"$f":"IF(ISNUMBER(SEARCH(\"16\",#REF!)),\"1\",\"0\")","v":"0"},{"$f":"IF(ISNUMBER(SEARCH(\"17\",#REF!)),\"1\",\"0\")","v":"0"},5,{"$nulls":3},14,14,10,38,7,{"$nulls":6},14,5,null,{"$f":"#REF!-#REF!","v":{"$error":"#REF!"}},{"$f":"#REF!-#REF!","v":{"$error":"#REF!"}}]
[2,22,12,"MN",2,39,null,1,8,2,5,5,2,3,"0","0","1","0","0","0","0","0","0","0","0","0","0","0","0","0","0","0",null,null,2,5,1,{"$f":"IF(ISNUMBER(SEARCH(\"1\",#REF!)),\"1\",\"0\")","v":"0"},{"$f":"IF(ISNUMBER(SEARCH(\"2\",#REF!)),\"1\",\"0\")","v":"0"},{"$f":"IF(ISNUMBER(SEARCH(\"3\",#REF!)),\"1\",\"0\")","v":"0"},{"$f":"IF(ISNUMBER(SEARCH(\"4\",#REF!)),\"1\",\"0\")","v":"0"},{"$f":"IF(ISNUMBER(SEARCH(\"5\",#REF!)),\"1\",\"0\")","v":"0"},{"$f":"IF(ISNUMBER(SEARCH(\"6\",#REF!)),\"1\",\"0\")","v":"0"},{"$f":"IF(ISNUMBER(SEARCH(\"7\",#REF!)),\"1\",\"0\")","v":"0"},{"$f":"IF(ISNUMBER(SEARCH(\"8\",#REF!)),\"1\",\"0\")","v":"0"},{"$f":"IF(ISNUMBER(SEARCH(\"9\",#REF!)),\"1\",\"0\")","v":"0"},{"$f":"IF(ISNUMBER(SEARCH(\"9\",#REF!)),\"1\",\"0\")","v":"0"},{"$f":"IF(ISNUMBER(SEARCH(\"10\",#REF!)),\"1\",\"0\")","v":"0"},{"$f":"IF(ISNUMBER(SEARCH(\"11\",#REF!)),\"1\",\"0\")","v":"0"},{"$f":"IF(ISNUMBER(SEARCH(\"12\",#REF!)),\"1\",\"0\")","v":"0"},{"$f":"IF(ISNUMBER(SEARCH(\"13\",#REF!)),\"1\",\"0\")","v":"0"},{"$f":"IF(ISNUMBER(SEARCH(\"14\",#REF!)),\"1\",\"0\")","v":"0"},{"$f":"IF(ISNUMBER(SEARCH(\"15\",#REF!)),\"1\",\"0\")","v":"0"},{"$f":"IF(ISNUMBER(SEARCH(\"16\",#REF!)),\"1\",\"0\")","v":"0"},{"$f":"IF(ISNUMBER(SEARCH(\"17\",#REF!)),\"1\",\"0\")","v":"0"},4,{"$nulls":3},14,10,10,34,9,{"$nulls":6},14,4,null,{"$f":"#REF!-#REF!","v":{"$error":"#REF!"}},{"$f":"#REF!-#REF!","v":{"$error":"#REF!"}}]
[2,22,12,"MN",2,39,null,1,3,2,3,5,2,3,"0","0","1","0","0","0","0","0","0","0","0","0","0","0","0","0","0","0",null,null,2,5,2,{"$f":"IF(ISNUMBER(SEARCH(\"1\",#REF!)),\"1\",\"0\")","v":"0"},{"$f":"IF(ISNUMBER(SEARCH(\"2\",#REF!)),\"1\",\"0\")","v":"0"},{"$f":"IF(ISNUMBER(SEARCH(\"3\",#REF!)),\"1\",\"0\")","v":"0"},{"$f":"IF(ISNUMBER(SEARCH(\"4\",#REF!)),\"1\",\"0\")","v":"0"},{"$f":"IF(ISNUMBER(SEARCH(\"5\",#REF!)),\"1\",\"0\")","v":"0"},{"$f":"IF(ISNUMBER(SEARCH(\"6\",#REF!)),\"1\",\"0\")","v":"0"},{"$f":"IF(ISNUMBER(SEARCH(\"7\",#REF!)),\"1\",\"0\")","v":"0"},{"$f":"IF(ISNUMBER(SEARCH(\"8\",#REF!)),\"1\",\"0\")","v":"0"},{"$f":"IF(ISNUMBER(SEARCH(\"9\",#REF!)),\"1\",\"0\")","v":"0"},{"$f":"IF(ISNUMBER(SEARCH(\"9\",#REF!)),\"1\",\"0\")","v":"0"},{"$f":"IF(ISNUMBER(SEARCH(\"10\",#REF!)),\"1\",\"0\")","v":"0"},{"$f":"IF(ISNUMBER(SEARCH(\"11\",#REF!)),\"1\",\"0\")","v":"0"},{"$f":"IF(ISNUMBER(SEARCH(\"12\",#REF!)),\"1\",\"0\")","v":"0"},{"$f":"IF(ISNUMBER(SEARCH(\"13\",#REF!)),\"1\",\"0\")","v":"0"},{"$f":"IF(ISNUMBER(SEARCH(\"14\",#REF!)),\"1\",\"0\")","v":"0"},{"$f":"IF(ISNUMBER(SEARCH(\"15\",#REF!)),\"1\",\"0\")","v":"0"},{"$f":"IF(ISNUMBER(SEARCH(\"16\",#REF!)),\"1\",\"0\")","v":"0"},{"$f":"IF(ISNUMBER(SEARCH(\"17\",#REF!)),\"1\",\"0\")","v":"0"},2,{"$nulls":3},6,2,0,8,12,{"$nulls":6},14,4,null,{"$f":"#REF!-#REF!","v":{"$error":"#REF!"}},{"$f":"#REF!-#REF!","v":{"$error":"#REF!"}}]
[2,22,12,"MN",2,21,null,1,3,1,3,5,2,3,"0","0","1","0","0","0","0","0","0","0","0","0","0","0","0","0","0","0",null,null,2,5,2,{"$f":"IF(ISNUMBER(SEARCH(\"1\",#REF!)),\"1\",\"0\")","v":"0"},{"$f":"IF(ISNUMBER(SEARCH(\"2\",#REF!)),\"1\",\"0\")","v":"0"},{"$f":"IF(ISNUMBER(SEARCH(\"3\",#REF!)),\"1\",\"0\")","v":"0"},{"$f":"IF(ISNUMBER(SEARCH(\"4\",#REF!)),\"1\",\"0\")","v":"0"},{"$f":"IF(ISNUMBER(SEARCH(\"5\",#REF!)),\"1\",\"0\")","v":"0"},{"$f":"IF(ISNUMBER(SEARCH(\"6\",#REF!)),\"1\",\"0\")","v":"0"},{"$f":"IF(ISNUMBER(SEARCH(\"7\",#REF!)),\"1\",\"0\")","v":"0"},{"$f":"IF(ISNUMBER(SEARCH(\"8\",#REF!)),\"1\",\"0\")","v":"0"},{"$f":"IF(ISNUMBER(SEARCH(\"9\",#REF!)),\"1\",\"0\")","v":"0"},{"$f":"IF(ISNUMBER(SEARCH(\"9\",#REF!)),\"1\",\"0\")","v":"0"},{"$f":"IF(ISNUMBER(SEARCH(\"10\",#REF!)),\"1\",\"0\")","v":"0"},{"$f":"IF(ISNUMBER(SEARCH(\"11\",#REF!)),\"1\",\"0\")","v":"0"},{"$f":"IF(ISNUMBER(SEARCH(\"12\",#REF!)),\"1\",\"0\")","v":"0"},{"$f":"IF(ISNUMBER(SEARCH(\"13\",#REF!)),\"1\",\"0\")","v":"0"},{"$f":"IF(ISNUMBER(SEARCH(\"14\",#REF!)),\"1\",\"0\")","v":"0"},{"$f":"IF(ISNUMBER(SEARCH(\"15\",#REF!)),\"1\",\"0\")","v":"0"},{"$f":"IF(ISNUMBER(SEARCH(\"16\",#REF!)),\"1\",\"0\")","v":"0"},{"$f":"IF(ISNUMBER(SEARCH(\"17\",#REF!)),\"1\",\"0\")","v":"0"},1,{"$nulls":3},14,6,6,26,{"$nulls":10},{"$f":"#REF!-#REF!","v":{"$error":"#REF!"}}]
[2,22,12,"NTC",1,40,null,1,8,1,5,5,2,14,"1","0","0","1","0","0","0","0","0","0","0","0","0","1","0","0","0","0",null,null,3,5,2,{"$f":"IF(ISNUMBER(SEARCH(\"1\",#REF!)),\"1\",\"0\")","v":"0"},{"$f":"IF(ISNUMBER(SEARCH(\"2\",#REF!)),\"1\",\"0\")","v":"0"},{"$f":"IF(ISNUMBER(SEARCH(\"3\",#REF!)),\"1\",\"0\")","v":"0"},{"$f":"IF(ISNUMBER(SEARCH(\"4\",#REF!)),\"1\",\"0\")","v":"0"},{"$f":"IF(ISNUMBER(SEARCH(\"5\",#REF!)),\"1\",\"0\")","v":"0"},{"$f":"IF(ISNUMBER(SEARCH(\"6\",#REF!)),\"1\",\"0\")","v":"0"},{"$f":"IF(ISNUMBER(SEARCH(\"7\",#REF!)),\"1\",\"0\")","v":"0"},{"$f":"IF(ISNUMBER(SEARCH(\"8\",#REF!)),\"1\",\"0\")","v":"0"},{"$f":"IF(ISNUMBER(SEARCH(\"9\",#REF!)),\"1\",\"0\")","v":"0"},{"$f":"IF(ISNUMBER(SEARCH(\"9\",#REF!)),\"1\",\"0\")","v":"0"},{"$f":"IF(ISNUMBER(SEARCH(\"10\",#REF!)),\"1\",\"0\")","v":"0"},{"$f":"IF(ISNUMBER(SEARCH(\"11\",#REF!)),\"1\",\"0\")","v":"0"},{"$f":"IF(ISNUMBER(SEARCH(\"12\",#REF!)),\"1\",\"0\")","v":"0"},{"$f":"IF(ISNUMBER(SEARCH(\"13\",#REF!)),\"1\",\"0\")","v":"0"},{"$f":"IF(ISNUMBER(SEARCH(\"14\",#REF!)),\"1\",\"0\")","v":"0"},{"$f":"IF(ISNUMBER(SEARCH(\"15\",#REF!)),\"1\",\"0\")","v":"0"},{"$f":"IF(ISNUMBER(SEARCH(\"16\",#REF!)),\"1\",\"0\")","v":"0"},{"$f":"IF(ISNUMBER(SEARCH(\"17\",#REF!)),\"1\",\"0\")","v":"0"},{"$nulls":4},42,32,22,96,2,{"$nulls":6},14,5,null,{"$f":"#REF!-#REF!","v":{"$error":"#REF!"}},{"$f":"#REF!-#REF!","v":{"$error":"#REF!"}}]
[2,22,12,"NTC",2,36,null,1,3,1,9,1,2,1,"1","0","0","0","0","0","0","0","0","0","0","0","0","0","0","0","0","0",null,null,3,5,2,{"$f":"IF(ISNUMBER(SEARCH(\"1\",#REF!)),\"1\",\"0\")","v":"0"},{"$f":"IF(ISNUMBER(SEARCH(\"2\",#REF!)),\"1\",\"0\")","v":"0"},{"$f":"IF(ISNUMBER(SEARCH(\"3\",#REF!)),\"1\",\"0\")","v":"0"},{"$f":"IF(ISNUMBER(SEARCH(\"4\",#REF!)),\"1\",\"0\")","v":"0"},{"$f":"IF(ISNUMBER(SEARCH(\"5\",#REF!)),\"1\",\"0\")","v":"0"},{"$f":"IF(ISNUMBER(SEARCH(\"6\",#REF!)),\"1\",\"0\")","v":"0"},{"$f":"IF(ISNUMBER(SEARCH(\"7\",#REF!)),\"1\",\"0\")","v":"0"},{"$f":"IF(ISNUMBER(SEARCH(\"8\",#REF!)),\"1\",\"0\")","v":"0"},{"$f":"IF(ISNUMBER(SEARCH(\"9\",#REF!)),\"1\",\"0\")","v":"0"},{"$f":"IF(ISNUMBER(SEARCH(\"9\",#REF!)),\"1\",\"0\")","v":"0"},{"$f":"IF(ISNUMBER(SEARCH(\"10\",#REF!)),\"1\",\"0\")","v":"0"},{"$f":"IF(ISNUMBER(SEARCH(\"11\",#REF!)),\"1\",\"0\")","v":"0"},{"$f":"IF(ISNUMBER(SEARCH(\"12\",#REF!)),\"1\",\"0\")","v":"0"},{"$f":"IF(ISNUMBER(SEARCH(\"13\",#REF!)),\"1\",\"0\")","v":"0"},{"$f":"IF(ISNUMBER(SEARCH(\"14\",#REF!)),\"1\",\"0\")","v":"0"},{"$f":"IF(ISNUMBER(SEARCH(\"15\",#REF!)),\"1\",\"0\")","v":"0"},{"$f":"IF(ISNUMBER(SEARCH(\"16\",#REF!)),\"1\",\"0\")","v":"0"},{"$f":"IF(ISNUMBER(SEARCH(\"17\",#REF!)),\"1\",\"0\")","v":"0"},{"$nulls":4},10,8,8,26,4,{"$nulls":9},{"$f":"#REF!-#REF!","v":{"$error":"#REF!"}}]
[2,22,12,"NTC",2,30,null,1,8,1,4,5,5,3,"0","0","1","0","0","0","0","0","0","0","0","0","0","0","0","0","0","0",null,null,1,5,1,{"$f":"IF(ISNUMBER(SEARCH(\"1\",#REF!)),\"1\",\"0\")","v":"0"},{"$f":"IF(ISNUMBER(SEARCH(\"2\",#REF!)),\"1\",\"0\")","v":"0"},{"$f":"IF(ISNUMBER(SEARCH(\"3\",#REF!)),\"1\",\"0\")","v":"0"},{"$f":"IF(ISNUMBER(SEARCH(\"4\",#REF!)),\"1\",\"0\")","v":"0"},{"$f":"IF(ISNUMBER(SEARCH(\"5\",#REF!)),\"1\",\"0\")","v":"0"},{"$f":"IF(ISNUMBER(SEARCH(\"6\",#REF!)),\"1\",\"0\")","v":"0"},{"$f":"IF(ISNUMBER(SEARCH(\"7\",#REF!)),\"1\",\"0\")","v":"0"},{"$f":"IF(ISNUMBER(SEARCH(\"8\",#REF!)),\"1\",\"0\")","v":"0"},{"$f":"IF(ISNUMBER(SEARCH(\"9\",#REF!)),\"1\",\"0\")","v":"0"},{"$f":"IF(ISNUMBER(SEARCH(\"9\",#REF!)),\"1\",\"0\")","v":"0"},{"$f":"IF(ISNUMBER(SEARCH(\"10\",#REF!)),\"1\",\"0\")","v":"0"},{"$f":"IF(ISNUMBER(SEARCH(\"11\",#REF!)),\"1\",\"0\")","v":"0"},{"$f":"IF(ISNUMBER(SEARCH(\"12\",#REF!)),\"1\",\"0\")","v":"0"},{"$f":"IF(ISNUMBER(SEARCH(\"13\",#REF!)),\"1\",\"0\")","v":"0"},{"$f":"IF(ISNUMBER(SEARCH(\"14\",#REF!)),\"1\",\"0\")","v":"0"},{"$f":"IF(ISNUMBER(SEARCH(\"15\",#REF!)),\"1\",\"0\")","v":"0"},{"$f":"IF(ISNUMBER(SEARCH(\"16\",#REF!)),\"1\",\"0\")","v":"0"},{"$f":"IF(ISNUMBER(SEARCH(\"17\",#REF!)),\"1\",\"0\")","v":"0"},{"$nulls":4},40,30,24,94,2,{"$nulls":6},14,6,null,{"$f":"#REF!-#REF!","v":{"$error":"#REF!"}},{"$f":"#REF!-#REF!","v":{"$error":"#REF!"}}]
[2,22,12,"NTC",1,30,null,1,8,1,6,5,2,"9. Kidnapping/  Enlèvement/ Otage (SANS violence sexuelle)","0","0","0","0","0","0","0","0","1","0","0","0","0","0","0","0","0","0",null,null,3,5,1,{"$f":"IF(ISNUMBER(SEARCH(\"1\",#REF!)),\"1\",\"0\")","v":"0"},{"$f":"IF(ISNUMBER(SEARCH(\"2\",#REF!)),\"1\",\"0\")","v":"0"},{"$f":"IF(ISNUMBER(SEARCH(\"3\",#REF!)),\"1\",\"0\")","v":"0"},{"$f":"IF(ISNUMBER(SEARCH(\"4\",#REF!)),\"1\",\"0\")","v":"0"},{"$f":"IF(ISNUMBER(SEARCH(\"5\",#REF!)),\"1\",\"0\")","v":"0"},{"$f":"IF(ISNUMBER(SEARCH(\"6\",#REF!)),\"1\",\"0\")","v":"0"},{"$f":"IF(ISNUMBER(SEARCH(\"7\",#REF!)),\"1\",\"0\")","v":"0"},{"$f":"IF(ISNUMBER(SEARCH(\"8\",#REF!)),\"1\",\"0\")","v":"0"},{"$f":"IF(ISNUMBER(SEARCH(\"9\",#REF!)),\"1\",\"0\")","v":"0"},{"$f":"IF(ISNUMBER(SEARCH(\"9\",#REF!)),\"1\",\"0\")","v":"0"},{"$f":"IF(ISNUMBER(SEARCH(\"10\",#REF!)),\"1\",\"0\")","v":"0"},{"$f":"IF(ISNUMBER(SEARCH(\"11\",#REF!)),\"1\",\"0\")","v":"0"},{"$f":"IF(ISNUMBER(SEARCH(\"12\",#REF!)),\"1\",\"0\")","v":"0"},{"$f":"IF(ISNUMBER(SEARCH(\"13\",#REF!)),\"1\",\"0\")","v":"0"},{"$f":"IF(ISNUMBER(SEARCH(\"14\",#REF!)),\"1\",\"0\")","v":"0"},{"$f":"IF(ISNUMBER(SEARCH(\"15\",#REF!)),\"1\",\"0\")","v":"0"},{"$f":"IF(ISNUMBER(SEARCH(\"16\",#REF!)),\"1\",\"0\")","v":"0"},{"$f":"IF(ISNUMBER(SEARCH(\"17\",#REF!)),\"1\",\"0\")","v":"0"},{"$nulls":4},20,16,14,50,4,{"$nulls":9},{"$f":"#REF!-#REF!","v":{"$error":"#REF!"}}]
[2,22,12,"NTC",1,40,null,1,8,1,6,1,2,"9. Kidnapping/  Enlèvement/ Otage (SANS violence sexuelle)","0","0","0","0","0","0","0","0","1","0","0","0","0","0","0","0","0","0",null,null,3,5,2,{"$f":"IF(ISNUMBER(SEARCH(\"1\",#REF!)),\"1\",\"0\")","v":"0"},{"$f":"IF(ISNUMBER(SEARCH(\"2\",#REF!)),\"1\",\"0\")","v":"0"},{"$f":"IF(ISNUMBER(SEARCH(\"3\",#REF!)),\"1\",\"0\")","v":"0"},{"$f":"IF(ISNUMBER(SEARCH(\"4\",#REF!)),\"1\",\"0\")","v":"0"},{"$f":"IF(ISNUMBER(SEARCH(\"5\",#REF!)),\"1\",\"0\")","v":"0"},{"$f":"IF(ISNUMBER(SEARCH(\"6\",#REF!)),\"1\",\"0\")","v":"0"},{"$f":"IF(ISNUMBER(SEARCH(\"7\",#REF!)),\"1\",\"0\")","v":"0"},{"$f":"IF(ISNUMBER(SEARCH(\"8\",#REF!)),\"1\",\"0\")","v":"0"},{"$f":"IF(ISNUMBER(SEARCH(\"9\",#REF!)),\"1\",\"0\")","v":"0"},{"$f":"IF(ISNUMBER(SEARCH(\"9\",#REF!)),\"1\",\"0\")","v":"0"},{"$f":"IF(ISNUMBER(SEARCH(\"10\",#REF!)),\"1\",\"0\")","v":"0"},{"$f":"IF(ISNUMBER(SEARCH(\"11\",#REF!)),\"1\",\"0\")","v":"0"},{"$f":"IF(ISNUMBER(SEARCH(\"12\",#REF!)),\"1\",\"0\")","v":"0"},{"$f":"IF(ISNUMBER(SEARCH(\"13\",#REF!)),\"1\",\"0\")","v":"0"},{"$f":"IF(ISNUMBER(SEARCH(\"14\",#REF!)),\"1\",\"0\")","v":"0"},{"$f":"IF(ISNUMBER(SEARCH(\"15\",#REF!)),\"1\",\"0\")","v":"0"},{"$f":"IF(ISNUMBER(SEARCH(\"16\",#REF!)),\"1\",\"0\")","v":"0"},{"$f":"IF(ISNUMBER(SEARCH(\"17\",#REF!)),\"1\",\"0\")","v":"0"},{"$nulls":4},36,30,24,90,3,{"$nulls":6},14,4,null,{"$f":"#REF!-#REF!","v":{"$error":"#REF!"}},{"$f":"#REF!-#REF!","v":{"$error":"#REF!"}}]
[2,22,12,"CBM",2,23,null,1,8,1,3,11,2,3,"0","0","1","0","0","0","0","0","0","0","0","0","0","0","0","0","0","0",null,null,3,5,2,{"$f":"IF(ISNUMBER(SEARCH(\"1\",#REF!)),\"1\",\"0\")","v":"0"},{"$f":"IF(ISNUMBER(SEARCH(\"2\",#REF!)),\"1\",\"0\")","v":"0"},{"$f":"IF(ISNUMBER(SEARCH(\"3\",#REF!)),\"1\",\"0\")","v":"0"},{"$f":"IF(ISNUMBER(SEARCH(\"4\",#REF!)),\"1\",\"0\")","v":"0"},{"$f":"IF(ISNUMBER(SEARCH(\"5\",#REF!)),\"1\",\"0\")","v":"0"},{"$f":"IF(ISNUMBER(SEARCH(\"6\",#REF!)),\"1\",\"0\")","v":"0"},{"$f":"IF(ISNUMBER(SEARCH(\"7\",#REF!)),\"1\",\"0\")","v":"0"},{"$f":"IF(ISNUMBER(SEARCH(\"8\",#REF!)),\"1\",\"0\")","v":"0"},{"$f":"IF(ISNUMBER(SEARCH(\"9\",#REF!)),\"1\",\"0\")","v":"0"},{"$f":"IF(ISNUMBER(SEARCH(\"9\",#REF!)),\"1\",\"0\")","v":"0"},{"$f":"IF(ISNUMBER(SEARCH(\"10\",#REF!)),\"1\",\"0\")","v":"0"},{"$f":"IF(ISNUMBER(SEARCH(\"11\",#REF!)),\"1\",\"0\")","v":"0"},{"$f":"IF(ISNUMBER(SEARCH(\"12\",#REF!)),\"1\",\"0\")","v":"0"},{"$f":"IF(ISNUMBER(SEARCH(\"13\",#REF!)),\"1\",\"0\")","v":"0"},{"$f":"IF(ISNUMBER(SEARCH(\"14\",#REF!)),\"1\",\"0\")","v":"0"},{"$f":"IF(ISNUMBER(SEARCH(\"15\",#REF!)),\"1\",\"0\")","v":"0"},{"$f":"IF(ISNUMBER(SEARCH(\"16\",#REF!)),\"1\",\"0\")","v":"0"},{"$f":"IF(ISNUMBER(SEARCH(\"17\",#REF!)),\"1\",\"0\")","v":"0"},5,{"$nulls":3},28,26,24,78,7,{"$nulls":6},14,5,null,{"$f":"#REF!-#REF!","v":{"$error":"#REF!"}},{"$f":"#REF!-#REF!","v":{"$error":"#REF!"}}]
[2,22,12,"CBM",2,40,null,1,8,1,6,5,2,3,"0","0","1","0","0","0","0","0","0","0","0","0","0","0","0","0","0","0",null,null,3,5,1,{"$f":"IF(ISNUMBER(SEARCH(\"1\",#REF!)),\"1\",\"0\")","v":"0"},{"$f":"IF(ISNUMBER(SEARCH(\"2\",#REF!)),\"1\",\"0\")","v":"0"},{"$f":"IF(ISNUMBER(SEARCH(\"3\",#REF!)),\"1\",\"0\")","v":"0"},{"$f":"IF(ISNUMBER(SEARCH(\"4\",#REF!)),\"1\",\"0\")","v":"0"},{"$f":"IF(ISNUMBER(SEARCH(\"5\",#REF!)),\"1\",\"0\")","v":"0"},{"$f":"IF(ISNUMBER(SEARCH(\"6\",#REF!)),\"1\",\"0\")","v":"0"},{"$f":"IF(ISNUMBER(SEARCH(\"7\",#REF!)),\"1\",\"0\")","v":"0"},{"$f":"IF(ISNUMBER(SEARCH(\"8\",#REF!)),\"1\",\"0\")","v":"0"},{"$f":"IF(ISNUMBER(SEARCH(\"9\",#REF!)),\"1\",\"0\")","v":"0"},{"$f":"IF(ISNUMBER(SEARCH(\"9\",#REF!)),\"1\",\"0\")","v":"0"},{"$f":"IF(ISNUMBER(SEARCH(\"10\",#REF!)),\"1\",\"0\")","v":"0"},{"$f":"IF(ISNUMBER(SEARCH(\"11\",#REF!)),\"1\",\"0\")","v":"0"},{"$f":"IF(ISNUMBER(SEARCH(\"12\",#REF!)),\"1\",\"0\")","v":"0"},{"$f":"IF(ISNUMBER(SEARCH(\"13\",#REF!)),\"1\",\"0\")","v":"0"},{"$f":"IF(ISNUMBER(SEARCH(\"14\",#REF!)),\"1\",\"0\")","v":"0"},{"$f":"IF(ISNUMBER(SEARCH(\"15\",#REF!)),\"1\",\"0\")","v":"0"},{"$f":"IF(ISNUMBER(SEARCH(\"16\",#REF!)),\"1\",\"0\")","v":"0"},{"$f":"IF(ISNUMBER(SEARCH(\"17\",#REF!)),\"1\",\"0\")","v":"0"},4,{"$nulls":3},24,20,26,70,6,{"$nulls":6},14,5,null,{"$f":"#REF!-#REF!","v":{"$error":"#REF!"}},{"$f":"#REF!-#REF!","v":{"$error":"#REF!"}}]
[2,22,12,"CBM",2,53,null,1,3,1,6,5,2,"11. Membre de famille / personne proche assassinée","1","0","0","0","0","0","0","0","0","0","1","0","0","0","0","0","0","0",null,null,1,2,1,{"$f":"IF(ISNUMBER(SEARCH(\"1\",#REF!)),\"1\",\"0\")","v":"0"},{"$f":"IF(ISNUMBER(SEARCH(\"2\",#REF!)),\"1\",\"0\")","v":"0"},{"$f":"IF(ISNUMBER(SEARCH(\"3\",#REF!)),\"1\",\"0\")","v":"0"},{"$f":"IF(ISNUMBER(SEARCH(\"4\",#REF!)),\"1\",\"0\")","v":"0"},{"$f":"IF(ISNUMBER(SEARCH(\"5\",#REF!)),\"1\",\"0\")","v":"0"},{"$f":"IF(ISNUMBER(SEARCH(\"6\",#REF!)),\"1\",\"0\")","v":"0"},{"$f":"IF(ISNUMBER(SEARCH(\"7\",#REF!)),\"1\",\"0\")","v":"0"},{"$f":"IF(ISNUMBER(SEARCH(\"8\",#REF!)),\"1\",\"0\")","v":"0"},{"$f":"IF(ISNUMBER(SEARCH(\"9\",#REF!)),\"1\",\"0\")","v":"0"},{"$f":"IF(ISNUMBER(SEARCH(\"9\",#REF!)),\"1\",\"0\")","v":"0"},{"$f":"IF(ISNUMBER(SEARCH(\"10\",#REF!)),\"1\",\"0\")","v":"0"},{"$f":"IF(ISNUMBER(SEARCH(\"11\",#REF!)),\"1\",\"0\")","v":"0"},{"$f":"IF(ISNUMBER(SEARCH(\"12\",#REF!)),\"1\",\"0\")","v":"0"},{"$f":"IF(ISNUMBER(SEARCH(\"13\",#REF!)),\"1\",\"0\")","v":"0"},{"$f":"IF(ISNUMBER(SEARCH(\"14\",#REF!)),\"1\",\"0\")","v":"0"},{"$f":"IF(ISNUMBER(SEARCH(\"15\",#REF!)),\"1\",\"0\")","v":"0"},{"$f":"IF(ISNUMBER(SEARCH(\"16\",#REF!)),\"1\",\"0\")","v":"0"},{"$f":"IF(ISNUMBER(SEARCH(\"17\",#REF!)),\"1\",\"0\")","v":"0"},{"$nulls":4},32,26,28,86,5,{"$nulls":6},14,5,null,{"$f":"#REF!-#REF!","v":{"$error":"#REF!"}},{"$f":"#REF!-#REF!","v":{"$error":"#REF!"}}]
[2,22,12,"NTC",1,35,null,1,8,1,7,3,5,"9. Kidnapping/  Enlèvement/ Otage (SANS violence sexuelle)","0","0","0","0","0","0","0","0","1","0","0","0","0","0","0","0","0","0",null,null,3,5,1,{"$f":"IF(ISNUMBER(SEARCH(\"1\",#REF!)),\"1\",\"0\")","v":"0"},{"$f":"IF(ISNUMBER(SEARCH(\"2\",#REF!)),\"1\",\"0\")","v":"0"},{"$f":"IF(ISNUMBER(SEARCH(\"3\",#REF!)),\"1\",\"0\")","v":"0"},{"$f":"IF(ISNUMBER(SEARCH(\"4\",#REF!)),\"1\",\"0\")","v":"0"},{"$f":"IF(ISNUMBER(SEARCH(\"5\",#REF!)),\"1\",\"0\")","v":"0"},{"$f":"IF(ISNUMBER(SEARCH(\"6\",#REF!)),\"1\",\"0\")","v":"0"},{"$f":"IF(ISNUMBER(SEARCH(\"7\",#REF!)),\"1\",\"0\")","v":"0"},{"$f":"IF(ISNUMBER(SEARCH(\"8\",#REF!)),\"1\",\"0\")","v":"0"},{"$f":"IF(ISNUMBER(SEARCH(\"9\",#REF!)),\"1\",\"0\")","v":"0"},{"$f":"IF(ISNUMBER(SEARCH(\"9\",#REF!)),\"1\",\"0\")","v":"0"},{"$f":"IF(ISNUMBER(SEARCH(\"10\",#REF!)),\"1\",\"0\")","v":"0"},{"$f":"IF(ISNUMBER(SEARCH(\"11\",#REF!)),\"1\",\"0\")","v":"0"},{"$f":"IF(ISNUMBER(SEARCH(\"12\",#REF!)),\"1\",\"0\")","v":"0"},{"$f":"IF(ISNUMBER(SEARCH(\"13\",#REF!)),\"1\",\"0\")","v":"0"},{"$f":"IF(ISNUMBER(SEARCH(\"14\",#REF!)),\"1\",\"0\")","v":"0"},{"$f":"IF(ISNUMBER(SEARCH(\"15\",#REF!)),\"1\",\"0\")","v":"0"},{"$f":"IF(ISNUMBER(SEARCH(\"16\",#REF!)),\"1\",\"0\")","v":"0"},{"$f":"IF(ISNUMBER(SEARCH(\"17\",#REF!)),\"1\",\"0\")","v":"0"},{"$nulls":4},18,26,16,60,5,{"$nulls":9},{"$f":"#REF!-#REF!","v":{"$error":"#REF!"}}]
[2,22,12,"MN",2,16,null,3,2,1,0,11,1,3,"0","0","1","0","0","0","0","0","0","0","0","0","0","0","0","0","0","0",null,null,2,5,2,{"$f":"IF(ISNUMBER(SEARCH(\"1\",#REF!)),\"1\",\"0\")","v":"0"},{"$f":"IF(ISNUMBER(SEARCH(\"2\",#REF!)),\"1\",\"0\")","v":"0"},{"$f":"IF(ISNUMBER(SEARCH(\"3\",#REF!)),\"1\",\"0\")","v":"0"},{"$f":"IF(ISNUMBER(SEARCH(\"4\",#REF!)),\"1\",\"0\")","v":"0"},{"$f":"IF(ISNUMBER(SEARCH(\"5\",#REF!)),\"1\",\"0\")","v":"0"},{"$f":"IF(ISNUMBER(SEARCH(\"6\",#REF!)),\"1\",\"0\")","v":"0"},{"$f":"IF(ISNUMBER(SEARCH(\"7\",#REF!)),\"1\",\"0\")","v":"0"},{"$f":"IF(ISNUMBER(SEARCH(\"8\",#REF!)),\"1\",\"0\")","v":"0"},{"$f":"IF(ISNUMBER(SEARCH(\"9\",#REF!)),\"1\",\"0\")","v":"0"},{"$f":"IF(ISNUMBER(SEARCH(\"9\",#REF!)),\"1\",\"0\")","v":"0"},{"$f":"IF(ISNUMBER(SEARCH(\"10\",#REF!)),\"1\",\"0\")","v":"0"},{"$f":"IF(ISNUMBER(SEARCH(\"11\",#REF!)),\"1\",\"0\")","v":"0"},{"$f":"IF(ISNUMBER(SEARCH(\"12\",#REF!)),\"1\",\"0\")","v":"0"},{"$f":"IF(ISNUMBER(SEARCH(\"13\",#REF!)),\"1\",\"0\")","v":"0"},{"$f":"IF(ISNUMBER(SEARCH(\"14\",#REF!)),\"1\",\"0\")","v":"0"},{"$f":"IF(ISNUMBER(SEARCH(\"15\",#REF!)),\"1\",\"0\")","v":"0"},{"$f":"IF(ISNUMBER(SEARCH(\"16\",#REF!)),\"1\",\"0\")","v":"0"},{"$f":"IF(ISNUMBER(SEARCH(\"17\",#REF!)),\"1\",\"0\")","v":"0"},5,{"$nulls":3},8,12,4,24,9,{"$nulls":6},14,5,null,{"$f":"#REF!-#REF!","v":{"$error":"#REF!"}},{"$f":"#REF!-#REF!","v":{"$error":"#REF!"}}]
[2,22,12,"MN",1,27,null,2,7,1,5,5,2,14,"1","0","0","1","0","0","0","0","0","0","0","0","0","1","0","0","0","0",null,null,3,5,2,{"$f":"IF(ISNUMBER(SEARCH(\"1\",#REF!)),\"1\",\"0\")","v":"0"},{"$f":"IF(ISNUMBER(SEARCH(\"2\",#REF!)),\"1\",\"0\")","v":"0"},{"$f":"IF(ISNUMBER(SEARCH(\"3\",#REF!)),\"1\",\"0\")","v":"0"},{"$f":"IF(ISNUMBER(SEARCH(\"4\",#REF!)),\"1\",\"0\")","v":"0"},{"$f":"IF(ISNUMBER(SEARCH(\"5\",#REF!)),\"1\",\"0\")","v":"0"},{"$f":"IF(ISNUMBER(SEARCH(\"6\",#REF!)),\"1\",\"0\")","v":"0"},{"$f":"IF(ISNUMBER(SEARCH(\"7\",#REF!)),\"1\",\"0\")","v":"0"},{"$f":"IF(ISNUMBER(SEARCH(\"8\",#REF!)),\"1\",\"0\")","v":"0"},{"$f":"IF(ISNUMBER(SEARCH(\"9\",#REF!)),\"1\",\"0\")","v":"0"},{"$f":"IF(ISNUMBER(SEARCH(\"9\",#REF!)),\"1\",\"0\")","v":"0"},{"$f":"IF(ISNUMBER(SEARCH(\"10\",#REF!)),\"1\",\"0\")","v":"0"},{"$f":"IF(ISNUMBER(SEARCH(\"11\",#REF!)),\"1\",\"0\")","v":"0"},{"$f":"IF(ISNUMBER(SEARCH(\"12\",#REF!)),\"1\",\"0\")","v":"0"},{"$f":"IF(ISNUMBER(SEARCH(\"13\",#REF!)),\"1\",\"0\")","v":"0"},{"$f":"IF(ISNUMBER(SEARCH(\"14\",#REF!)),\"1\",\"0\")","v":"0"},{"$f":"IF(ISNUMBER(SEARCH(\"15\",#REF!)),\"1\",\"0\")","v":"0"},{"$f":"IF(ISNUMBER(SEARCH(\"16\",#REF!)),\"1\",\"0\")","v":"0"},{"$f":"IF(ISNUMBER(SEARCH(\"17\",#REF!)),\"1\",\"0\")","v":"0"},{"$nulls":4},12,4,12,28,10,{"$nulls":6},14,5,null,{"$f":"#REF!-#REF!","v":{"$error":"#REF!"}},{"$f":"#REF!-#REF!","v":{"$error":"#REF!"}}]
[2,22,12,"NTC",1,35,null,1,8,2,7,5,6,10,"1","0","0","0","0","0","0","0","0","1","0","0","0","0","0","0","0","0",null,null,3,5,1,{"$f":"IF(ISNUMBER(SEARCH(\"1\",#REF!)),\"1\",\"0\")","v":"0"},{"$f":"IF(ISNUMBER(SEARCH(\"2\",#REF!)),\"1\",\"0\")","v":"0"},{"$f":"IF(ISNUMBER(SEARCH(\"3\",#REF!)),\"1\",\"0\")","v":"0"},{"$f":"IF(ISNUMBER(SEARCH(\"4\",#REF!)),\"1\",\"0\")","v":"0"},{"$f":"IF(ISNUMBER(SEARCH(\"5\",#REF!)),\"1\",\"0\")","v":"0"},{"$f":"IF(ISNUMBER(SEARCH(\"6\",#REF!)),\"1\",\"0\")","v":"0"},{"$f":"IF(ISNUMBER(SEARCH(\"7\",#REF!)),\"1\",\"0\")","v":"0"},{"$f":"IF(ISNUMBER(SEARCH(\"8\",#REF!)),\"1\",\"0\")","v":"0"},{"$f":"IF(ISNUMBER(SEARCH(\"9\",#REF!)),\"1\",\"0\")","v":"0"},{"$f":"IF(ISNUMBER(SEARCH(\"9\",#REF!)),\"1\",\"0\")","v":"0"},{"$f":"IF(ISNUMBER(SEARCH(\"10\",#REF!)),\"1\",\"0\")","v":"0"},{"$f":"IF(ISNUMBER(SEARCH(\"11\",#REF!)),\"1\",\"0\")","v":"0"},{"$f":"IF(ISNUMBER(SEARCH(\"12\",#REF!)),\"1\",\"0\")","v":"0"},{"$f":"IF(ISNUMBER(SEARCH(\"13\",#REF!)),\"1\",\"0\")","v":"0"},{"$f":"IF(ISNUMBER(SEARCH(\"14\",#REF!)),\"1\",\"0\")","v":"0"},{"$f":"IF(ISNUMBER(SEARCH(\"15\",#REF!)),\"1\",\"0\")","v":"0"},{"$f":"IF(ISNUMBER(SEARCH(\"16\",#REF!)),\"1\",\"0\")","v":"0"},{"$f":"IF(ISNUMBER(SEARCH(\"17\",#REF!)),\"1\",\"0\")","v":"0"},{"$nulls":4},16,16,22,54,5,{"$nulls":9},{"$f":"#REF!-#REF!","v":{"$error":"#REF!"}}]
[2,22,12,"NTC",2,34,null,1,8,2,8,5,5,3,"0","0","1","0","0","0","0","0","0","0","0","0","0","0","0","0","0","0",null,null,3,5,1,{"$f":"IF(ISNUMBER(SEARCH(\"1\",#REF!)),\"1\",\"0\")","v":"0"},{"$f":"IF(ISNUMBER(SEARCH(\"2\",#REF!)),\"1\",\"0\")","v":"0"},{"$f":"IF(ISNUMBER(SEARCH(\"3\",#REF!)),\"1\",\"0\")","v":"0"},{"$f":"IF(ISNUMBER(SEARCH(\"4\",#REF!)),\"1\",\"0\")","v":"0"},{"$f":"IF(ISNUMBER(SEARCH(\"5\",#REF!)),\"1\",\"0\")","v":"0"},{"$f":"IF(ISNUMBER(SEARCH(\"6\",#REF!)),\"1\",\"0\")","v":"0"},{"$f":"IF(ISNUMBER(SEARCH(\"7\",#REF!)),\"1\",\"0\")","v":"0"},{"$f":"IF(ISNUMBER(SEARCH(\"8\",#REF!)),\"1\",\"0\")","v":"0"},{"$f":"IF(ISNUMBER(SEARCH(\"9\",#REF!)),\"1\",\"0\")","v":"0"},{"$f":"IF(ISNUMBER(SEARCH(\"9\",#REF!)),\"1\",\"0\")","v":"0"},{"$f":"IF(ISNUMBER(SEARCH(\"10\",#REF!)),\"1\",\"0\")","v":"0"},{"$f":"IF(ISNUMBER(SEARCH(\"11\",#REF!)),\"1\",\"0\")","v":"0"},{"$f":"IF(ISNUMBER(SEARCH(\"12\",#REF!)),\"1\",\"0\")","v":"0"},{"$f":"IF(ISNUMBER(SEARCH(\"13\",#REF!)),\"1\",\"0\")","v":"0"},{"$f":"IF(ISNUMBER(SEARCH(\"14\",#REF!)),\"1\",\"0\")","v":"0"},{"$f":"IF(ISNUMBER(SEARCH(\"15\",#REF!)),\"1\",\"0\")","v":"0"},{"$f":"IF(ISNUMBER(SEARCH(\"16\",#REF!)),\"1\",\"0\")","v":"0"},{"$f":"IF(ISNUMBER(SEARCH(\"17\",#REF!)),\"1\",\"0\")","v":"0"},1,1,null,null,10,16,12,38,7,{"$nulls":9},{"$f":"#REF!-#REF!","v":{"$error":"#REF!"}}]
[2,22,12,"NTC",2,60,null,1,8,2,8,5,6,3,"0","0","1","0","0","0","0","0","0","0","0","0","0","0","0","0","0","0",null,null,3,5,1,{"$f":"IF(ISNUMBER(SEARCH(\"1\",#REF!)),\"1\",\"0\")","v":"0"},{"$f":"IF(ISNUMBER(SEARCH(\"2\",#REF!)),\"1\",\"0\")","v":"0"},{"$f":"IF(ISNUMBER(SEARCH(\"3\",#REF!)),\"1\",\"0\")","v":"0"},{"$f":"IF(ISNUMBER(SEARCH(\"4\",#REF!)),\"1\",\"0\")","v":"0"},{"$f":"IF(ISNUMBER(SEARCH(\"5\",#REF!)),\"1\",\"0\")","v":"0"},{"$f":"IF(ISNUMBER(SEARCH(\"6\",#REF!)),\"1\",\"0\")","v":"0"},{"$f":"IF(ISNUMBER(SEARCH(\"7\",#REF!)),\"1\",\"0\")","v":"0"},{"$f":"IF(ISNUMBER(SEARCH(\"8\",#REF!)),\"1\",\"0\")","v":"0"},{"$f":"IF(ISNUMBER(SEARCH(\"9\",#REF!)),\"1\",\"0\")","v":"0"},{"$f":"IF(ISNUMBER(SEARCH(\"9\",#REF!)),\"1\",\"0\")","v":"0"},{"$f":"IF(ISNUMBER(SEARCH(\"10\",#REF!)),\"1\",\"0\")","v":"0"},{"$f":"IF(ISNUMBER(SEARCH(\"11\",#REF!)),\"1\",\"0\")","v":"0"},{"$f":"IF(ISNUMBER(SEARCH(\"12\",#REF!)),\"1\",\"0\")","v":"0"},{"$f":"IF(ISNUMBER(SEARCH(\"13\",#REF!)),\"1\",\"0\")","v":"0"},{"$f":"IF(ISNUMBER(SEARCH(\"14\",#REF!)),\"1\",\"0\")","v":"0"},{"$f":"IF(ISNUMBER(SEARCH(\"15\",#REF!)),\"1\",\"0\")","v":"0"},{"$f":"IF(ISNUMBER(SEARCH(\"16\",#REF!)),\"1\",\"0\")","v":"0"},{"$f":"IF(ISNUMBER(SEARCH(\"17\",#REF!)),\"1\",\"0\")","v":"0"},1,1,null,null,12,8,12,32,10,{"$nulls":9},{"$f":"#REF!-#REF!","v":{"$error":"#REF!"}}]
[2,22,12,"NTC",1,35,null,1,3,1,5,3,5,1,"1","0","0","0","0","0","0","0","0","0","0","0","0","0","0","0","0","0",null,null,1,2,2,{"$f":"IF(ISNUMBER(SEARCH(\"1\",#REF!)),\"1\",\"0\")","v":"0"},{"$f":"IF(ISNUMBER(SEARCH(\"2\",#REF!)),\"1\",\"0\")","v":"0"},{"$f":"IF(ISNUMBER(SEARCH(\"3\",#REF!)),\"1\",\"0\")","v":"0"},{"$f":"IF(ISNUMBER(SEARCH(\"4\",#REF!)),\"1\",\"0\")","v":"0"},{"$f":"IF(ISNUMBER(SEARCH(\"5\",#REF!)),\"1\",\"0\")","v":"0"},{"$f":"IF(ISNUMBER(SEARCH(\"6\",#REF!)),\"1\",\"0\")","v":"0"},{"$f":"IF(ISNUMBER(SEARCH(\"7\",#REF!)),\"1\",\"0\")","v":"0"},{"$f":"IF(ISNUMBER(SEARCH(\"8\",#REF!)),\"1\",\"0\")","v":"0"},{"$f":"IF(ISNUMBER(SEARCH(\"9\",#REF!)),\"1\",\"0\")","v":"0"},{"$f":"IF(ISNUMBER(SEARCH(\"9\",#REF!)),\"1\",\"0\")","v":"0"},{"$f":"IF(ISNUMBER(SEARCH(\"10\",#REF!)),\"1\",\"0\")","v":"0"},{"$f":"IF(ISNUMBER(SEARCH(\"11\",#REF!)),\"1\",\"0\")","v":"0"},{"$f":"IF(ISNUMBER(SEARCH(\"12\",#REF!)),\"1\",\"0\")","v":"0"},{"$f":"IF(ISNUMBER(SEARCH(\"13\",#REF!)),\"1\",\"0\")","v":"0"},{"$f":"IF(ISNUMBER(SEARCH(\"14\",#REF!)),\"1\",\"0\")","v":"0"},{"$f":"IF(ISNUMBER(SEARCH(\"15\",#REF!)),\"1\",\"0\")","v":"0"},{"$f":"IF(ISNUMBER(SEARCH(\"16\",#REF!)),\"1\",\"0\")","v":"0"},{"$f":"IF(ISNUMBER(SEARCH(\"17\",#REF!)),\"1\",\"0\")","v":"0"},{"$nulls":4},10,8,10,28,5,{"$nulls":9},{"$f":"#REF!-#REF!","v":{"$error":"#REF!"}}]
[2,22,12,"MN",1,32,null,3,7,1,7,5,2,"9. Kidnapping/  Enlèvement/ Otage (SANS violence sexuelle)","0","0","0","0","0","0","0","0","1","0","0","0","0","0","0","0","0","0",null,null,3,5,2,{"$f":"IF(ISNUMBER(SEARCH(\"1\",#REF!)),\"1\",\"0\")","v":"0"},{"$f":"IF(ISNUMBER(SEARCH(\"2\",#REF!)),\"1\",\"0\")","v":"0"},{"$f":"IF(ISNUMBER(SEARCH(\"3\",#REF!)),\"1\",\"0\")","v":"0"},{"$f":"IF(ISNUMBER(SEARCH(\"4\",#REF!)),\"1\",\"0\")","v":"0"},{"$f":"IF(ISNUMBER(SEARCH(\"5\",#REF!)),\"1\",\"0\")","v":"0"},{"$f":"IF(ISNUMBER(SEARCH(\"6\",#REF!)),\"1\",\"0\")","v":"0"},{"$f":"IF(ISNUMBER(SEARCH(\"7\",#REF!)),\"1\",\"0\")","v":"0"},{"$f":"IF(ISNUMBER(SEARCH(\"8\",#REF!)),\"1\",\"0\")","v":"0"},{"$f":"IF(ISNUMBER(SEARCH(\"9\",#REF!)),\"1\",\"0\")","v":"0"},{"$f":"IF(ISNUMBER(SEARCH(\"9\",#REF!)),\"1\",\"0\")","v":"0"},{"$f":"IF(ISNUMBER(SEARCH(\"10\",#REF!)),\"1\",\"0\")","v":"0"},{"$f":"IF(ISNUMBER(SEARCH(\"11\",#REF!)),\"1\",\"0\")","v":"0"},{"$f":"IF(ISNUMBER(SEARCH(\"12\",#REF!)),\"1\",\"0\")","v":"0"},{"$f":"IF(ISNUMBER(SEARCH(\"13\",#REF!)),\"1\",\"0\")","v":"0"},{"$f":"IF(ISNUMBER(SEARCH(\"14\",#REF!)),\"1\",\"0\")","v":"0"},{"$f":"IF(ISNUMBER(SEARCH(\"15\",#REF!)),\"1\",\"0\")","v":"0"},{"$f":"IF(ISNUMBER(SEARCH(\"16\",#REF!)),\"1\",\"0\")","v":"0"},{"$f":"IF(ISNUMBER(SEARCH(\"17\",#REF!)),\"1\",\"0\")","v":"0"},{"$nulls":4},8,6,2,16,11,null,2,0,0,{"$f":"BN40+BO40+BP40","v":2},null,14,4,null,{"$f":"#REF!-#REF!","v":{"$error":"#REF!"}},{"$f":"#REF!-#REF!","v":{"$error":"#REF!"}}]
[2,22,12,"MN",1,22,null,3,7,1,2,5,2,"9. Kidnapping/  Enlèvement/ Otage (SANS violence sexuelle)","0","0","0","0","0","0","0","0","1","0","0","0","0","0","0","0","0","0",{"$nulls":3},5,2,{"$f":"IF(ISNUMBER(SEARCH(\"1\",#REF!)),\"1\",\"0\")","v":"0"},{"$f":"IF(ISNUMBER(SEARCH(\"2\",#REF!)),\"1\",\"0\")","v":"0"},{"$f":"IF(ISNUMBER(SEARCH(\"3\",#REF!)),\"1\",\"0\")","v":"0"},{"$f":"IF(ISNUMBER(SEARCH(\"4\",#REF!)),\"1\",\"0\")","v":"0"},{"$f":"IF(ISNUMBER(SEARCH(\"5\",#REF!)),\"1\",\"0\")","v":"0"},{"$f":"IF(ISNUMBER(SEARCH(\"6\",#REF!)),\"1\",\"0\")","v":"0"},{"$f":"IF(ISNUMBER(SEARCH(\"7\",#REF!)),\"1\",\"0\")","v":"0"},{"$f":"IF(ISNUMBER(SEARCH(\"8\",#REF!)),\"1\",\"0\")","v":"0"},{"$f":"IF(ISNUMBER(SEARCH(\"9\",#REF!)),\"1\",\"0\")","v":"0"},{"$f":"IF(ISNUMBER(SEARCH(\"9\",#REF!)),\"1\",\"0\")","v":"0"},{"$f":"IF(ISNUMBER(SEARCH(\"10\",#REF!)),\"1\",\"0\")","v":"0"},{"$f":"IF(ISNUMBER(SEARCH(\"11\",#REF!)),\"1\",\"0\")","v":"0"},{"$f":"IF(ISNUMBER(SEARCH(\"12\",#REF!)),\"1\",\"0\")","v":"0"},{"$f":"IF(ISNUMBER(SEARCH(\"13\",#REF!)),\"1\",\"0\")","v":"0"},{"$f":"IF(ISNUMBER(SEARCH(\"14\",#REF!)),\"1\",\"0\")","v":"0"},{"$f":"IF(ISNUMBER(SEARCH(\"15\",#REF!)),\"1\",\"0\")","v":"0"},{"$f":"IF(ISNUMBER(SEARCH(\"16\",#REF!)),\"1\",\"0\")","v":"0"},{"$f":"IF(ISNUMBER(SEARCH(\"17\",#REF!)),\"1\",\"0\")","v":"0"},{"$nulls":4},14,14,18,46,11,null,0,0,2,2,null,14,4,null,{"$f":"#REF!-#REF!","v":{"$error":"#REF!"}},{"$f":"#REF!-#REF!","v":{"$error":"#REF!"}}]
[2,22,12,"NTC",2,36,null,2,8,null,2,5,null,"3, 10","1","0","1","0","0","0","0","0","0","1","0","0","0","0","0","0","0","0",null,null,3,5,1,{"$f":"IF(ISNUMBER(SEARCH(\"1\",#REF!)),\"1\",\"0\")","v":"0"},{"$f":"IF(ISNUMBER(SEARCH(\"2\",#REF!)),\"1\",\"0\")","v":"0"},{"$f":"IF(ISNUMBER(SEARCH(\"3\",#REF!)),\"1\",\"0\")","v":"0"},{"$f":"IF(ISNUMBER(SEARCH(\"4\",#REF!)),\"1\",\"0\")","v":"0"},{"$f":"IF(ISNUMBER(SEARCH(\"5\",#REF!)),\"1\",\"0\")","v":"0"},{"$f":"IF(ISNUMBER(SEARCH(\"6\",#REF!)),\"1\",\"0\")","v":"0"},{"$f":"IF(ISNUMBER(SEARCH(\"7\",#REF!)),\"1\",\"0\")","v":"0"},{"$f":"IF(ISNUMBER(SEARCH(\"8\",#REF!)),\"1\",\"0\")","v":"0"},{"$f":"IF(ISNUMBER(SEARCH(\"9\",#REF!)),\"1\",\"0\")","v":"0"},{"$f":"IF(ISNUMBER(SEARCH(\"9\",#REF!)),\"1\",\"0\")","v":"0"},{"$f":"IF(ISNUMBER(SEARCH(\"10\",#REF!)),\"1\",\"0\")","v":"0"},{"$f":"IF(ISNUMBER(SEARCH(\"11\",#REF!)),\"1\",\"0\")","v":"0"},{"$f":"IF(ISNUMBER(SEARCH(\"12\",#REF!)),\"1\",\"0\")","v":"0"},{"$f":"IF(ISNUMBER(SEARCH(\"13\",#REF!)),\"1\",\"0\")","v":"0"},{"$f":"IF(ISNUMBER(SEARCH(\"14\",#REF!)),\"1\",\"0\")","v":"0"},{"$f":"IF(ISNUMBER(SEARCH(\"15\",#REF!)),\"1\",\"0\")","v":"0"},{"$f":"IF(ISNUMBER(SEARCH(\"16\",#REF!)),\"1\",\"0\")","v":"0"},{"$f":"IF(ISNUMBER(SEARCH(\"17\",#REF!)),\"1\",\"0\")","v":"0"},{"$nulls":4},14,6,6,26]
[2,22,12,"NTC",2,31,null,1,8,1,4,11,5,3,"0","0","1","0","0","0","0","0","0","0","0","0","0","0","0","0","0","0",null,null,1,5,1,{"$f":"IF(ISNUMBER(SEARCH(\"1\",#REF!)),\"1\",\"0\")","v":"0"},{"$f":"IF(ISNUMBER(SEARCH(\"2\",#REF!)),\"1\",\"0\")","v":"0"},{"$f":"IF(ISNUMBER(SEARCH(\"3\",#REF!)),\"1\",\"0\")","v":"0"},{"$f":"IF(ISNUMBER(SEARCH(\"4\",#REF!)),\"1\",\"0\")","v":"0"},{"$f":"IF(ISNUMBER(SEARCH(\"5\",#REF!)),\"1\",\"0\")","v":"0"},{"$f":"IF(ISNUMBER(SEARCH(\"6\",#REF!)),\"1\",\"0\")","v":"0"},{"$f":"IF(ISNUMBER(SEARCH(\"7\",#REF!)),\"1\",\"0\")","v":"0"},{"$f":"IF(ISNUMBER(SEARCH(\"8\",#REF!)),\"1\",\"0\")","v":"0"},{"$f":"IF(ISNUMBER(SEARCH(\"9\",#REF!)),\"1\",\"0\")","v":"0"},{"$f":"IF(ISNUMBER(SEARCH(\"9\",#REF!)),\"1\",\"0\")","v":"0"},{"$f":"IF(ISNUMBER(SEARCH(\"10\",#REF!)),\"1\",\"0\")","v":"0"},{"$f":"IF(ISNUMBER(SEARCH(\"11\",#REF!)),\"1\",\"0\")","v":"0"},{"$f":"IF(ISNUMBER(SEARCH(\"12\",#REF!)),\"1\",\"0\")","v":"0"},{"$f":"IF(ISNUMBER(SEARCH(\"13\",#REF!)),\"1\",\"0\")","v":"0"},{"$f":"IF(ISNUMBER(SEARCH(\"14\",#REF!)),\"1\",\"0\")","v":"0"},{"$f":"IF(ISNUMBER(SEARCH(\"15\",#REF!)),\"1\",\"0\")","v":"0"},{"$f":"IF(ISNUMBER(SEARCH(\"16\",#REF!)),\"1\",\"0\")","v":"0"},{"$f":"IF(ISNUMBER(SEARCH(\"17\",#REF!)),\"1\",\"0\")","v":"0"},5,2,null,null,28,12,16,56,11,{"$nulls":6},12,5,null,null,{"$f":"#REF!-#REF!","v":{"$error":"#REF!"}}]
[2,22,12,"MN",2,34,null,2,3,2,3,3,5,3,"0","0","1","0","0","0","0","0","0","0","0","0","0","0","0","0","0","0",null,null,2,5,2,{"$f":"IF(ISNUMBER(SEARCH(\"1\",#REF!)),\"1\",\"0\")","v":"0"},{"$f":"IF(ISNUMBER(SEARCH(\"2\",#REF!)),\"1\",\"0\")","v":"0"},{"$f":"IF(ISNUMBER(SEARCH(\"3\",#REF!)),\"1\",\"0\")","v":"0"},{"$f":"IF(ISNUMBER(SEARCH(\"4\",#REF!)),\"1\",\"0\")","v":"0"},{"$f":"IF(ISNUMBER(SEARCH(\"5\",#REF!)),\"1\",\"0\")","v":"0"},{"$f":"IF(ISNUMBER(SEARCH(\"6\",#REF!)),\"1\",\"0\")","v":"0"},{"$f":"IF(ISNUMBER(SEARCH(\"7\",#REF!)),\"1\",\"0\")","v":"0"},{"$f":"IF(ISNUMBER(SEARCH(\"8\",#REF!)),\"1\",\"0\")","v":"0"},{"$f":"IF(ISNUMBER(SEARCH(\"9\",#REF!)),\"1\",\"0\")","v":"0"},{"$f":"IF(ISNUMBER(SEARCH(\"9\",#REF!)),\"1\",\"0\")","v":"0"},{"$f":"IF(ISNUMBER(SEARCH(\"10\",#REF!)),\"1\",\"0\")","v":"0"},{"$f":"IF(ISNUMBER(SEARCH(\"11\",#REF!)),\"1\",\"0\")","v":"0"},{"$f":"IF(ISNUMBER(SEARCH(\"12\",#REF!)),\"1\",\"0\")","v":"0"},{"$f":"IF(ISNUMBER(SEARCH(\"13\",#REF!)),\"1\",\"0\")","v":"0"},{"$f":"IF(ISNUMBER(SEARCH(\"14\",#REF!)),\"1\",\"0\")","v":"0"},{"$f":"IF(ISNUMBER(SEARCH(\"15\",#REF!)),\"1\",\"0\")","v":"0"},{"$f":"IF(ISNUMBER(SEARCH(\"16\",#REF!)),\"1\",\"0\")","v":"0"},{"$f":"IF(ISNUMBER(SEARCH(\"17\",#REF!)),\"1\",\"0\")","v":"0"},1,{"$nulls":3},24,28,30,82,{"$nulls":10},{"$f":"#REF!-#REF!","v":{"$error":"#REF!"}}]
[2,22,12,"MN",2,17,null,3,2,1,0,5,1,3,"0","0","1","0","0","0","0","0","0","0","0","0","0","0","0","0","0","0",null,null,2,4,1,{"$f":"IF(ISNUMBER(SEARCH(\"1\",#REF!)),\"1\",\"0\")","v":"0"},{"$f":"IF(ISNUMBER(SEARCH(\"2\",#REF!)),\"1\",\"0\")","v":"0"},{"$f":"IF(ISNUMBER(SEARCH(\"3\",#REF!)),\"1\",\"0\")","v":"0"},{"$f":"IF(ISNUMBER(SEARCH(\"4\",#REF!)),\"1\",\"0\")","v":"0"},{"$f":"IF(ISNUMBER(SEARCH(\"5\",#REF!)),\"1\",\"0\")","v":"0"},{"$f":"IF(ISNUMBER(SEARCH(\"6\",#REF!)),\"1\",\"0\")","v":"0"},{"$f":"IF(ISNUMBER(SEARCH(\"7\",#REF!)),\"1\",\"0\")","v":"0"},{"$f":"IF(ISNUMBER(SEARCH(\"8\",#REF!)),\"1\",\"0\")","v":"0"},{"$f":"IF(ISNUMBER(SEARCH(\"9\",#REF!)),\"1\",\"0\")","v":"0"},{"$f":"IF(ISNUMBER(SEARCH(\"9\",#REF!)),\"1\",\"0\")","v":"0"},{"$f":"IF(ISNUMBER(SEARCH(\"10\",#REF!)),\"1\",\"0\")","v":"0"},{"$f":"IF(ISNUMBER(SEARCH(\"11\",#REF!)),\"1\",\"0\")","v":"0"},{"$f":"IF(ISNUMBER(SEARCH(\"12\",#REF!)),\"1\",\"0\")","v":"0"},{"$f":"IF(ISNUMBER(SEARCH(\"13\",#REF!)),\"1\",\"0\")","v":"0"},{"$f":"IF(ISNUMBER(SEARCH(\"14\",#REF!)),\"1\",\"0\")","v":"0"},{"$f":"IF(ISNUMBER(SEARCH(\"15\",#REF!)),\"1\",\"0\")","v":"0"},{"$f":"IF(ISNUMBER(SEARCH(\"16\",#REF!)),\"1\",\"0\")","v":"0"},{"$f":"IF(ISNUMBER(SEARCH(\"17\",#REF!)),\"1\",\"0\")","v":"0"},1,1,null,null,30,30,20,80]
[2,22,12,"NTC",1,65,null,1,8,null,2,5,2,"9. Kidnapping/  Enlèvement/ Otage (SANS violence sexuelle)","0","0","0","0","0","0","0","0","1","0","0","0","0","0","0","0","0","0",null,null,1,5,2,{"$f":"IF(ISNUMBER(SEARCH(\"1\",#REF!)),\"1\",\"0\")","v":"0"},{"$f":"IF(ISNUMBER(SEARCH(\"2\",#REF!)),\"1\",\"0\")","v":"0"},{"$f":"IF(ISNUMBER(SEARCH(\"3\",#REF!)),\"1\",\"0\")","v":"0"},{"$f":"IF(ISNUMBER(SEARCH(\"4\",#REF!)),\"1\",\"0\")","v":"0"},{"$f":"IF(ISNUMBER(SEARCH(\"5\",#REF!)),\"1\",\"0\")","v":"0"},{"$f":"IF(ISNUMBER(SEARCH(\"6\",#REF!)),\"1\",\"0\")","v":"0"},{"$f":"IF(ISNUMBER(SEARCH(\"7\",#REF!)),\"1\",\"0\")","v":"0"},{"$f":"IF(ISNUMBER(SEARCH(\"8\",#REF!)),\"1\",\"0\")","v":"0"},{"$f":"IF(ISNUMBER(SEARCH(\"9\",#REF!)),\"1\",\"0\")","v":"0"},{"$f":"IF(ISNUMBER(SEARCH(\"9\",#REF!)),\"1\",\"0\")","v":"0"},{"$f":"IF(ISNUMBER(SEARCH(\"10\",#REF!)),\"1\",\"0\")","v":"0"},{"$f":"IF(ISNUMBER(SEARCH(\"11\",#REF!)),\"1\",\"0\")","v":"0"},{"$f":"IF(ISNUMBER(SEARCH(\"12\",#REF!)),\"1\",\"0\")","v":"0"},{"$f":"IF(ISNUMBER(SEARCH(\"13\",#REF!)),\"1\",\"0\")","v":"0"},{"$f":"IF(ISNUMBER(SEARCH(\"14\",#REF!)),\"1\",\"0\")","v":"0"},{"$f":"IF(ISNUMBER(SEARCH(\"15\",#REF!)),\"1\",\"0\")","v":"0"},{"$f":"IF(ISNUMBER(SEARCH(\"16\",#REF!)),\"1\",\"0\")","v":"0"},{"$f":"IF(ISNUMBER(SEARCH(\"17\",#REF!)),\"1\",\"0\")","v":"0"},{"$nulls":4},14,6,6,26]
[2,22,12,"NTC",2,45,null,2,8,1,8,11,2,10,"1","0","0","0","0","0","0","0","0","1","0","0","0","0","0","0","0","0",null,null,3,5,2,{"$f":"IF(ISNUMBER(SEARCH(\"1\",#REF!)),\"1\",\"0\")","v":"0"},{"$f":"IF(ISNUMBER(SEARCH(\"2\",#REF!)),\"1\",\"0\")","v":"0"},{"$f":"IF(ISNUMBER(SEARCH(\"3\",#REF!)),\"1\",\"0\")","v":"0"},{"$f":"IF(ISNUMBER(SEARCH(\"4\",#REF!)),\"1\",\"0\")","v":"0"},{"$f":"IF(ISNUMBER(SEARCH(\"5\",#REF!)),\"1\",\"0\")","v":"0"},{"$f":"IF(ISNUMBER(SEARCH(\"6\",#REF!)),\"1\",\"0\")","v":"0"},{"$f":"IF(ISNUMBER(SEARCH(\"7\",#REF!)),\"1\",\"0\")","v":"0"},{"$f":"IF(ISNUMBER(SEARCH(\"8\",#REF!)),\"1\",\"0\")","v":"0"},{"$f":"IF(ISNUMBER(SEARCH(\"9\",#REF!)),\"1\",\"0\")","v":"0"},{"$f":"IF(ISNUMBER(SEARCH(\"9\",#REF!)),\"1\",\"0\")","v":"0"},{"$f":"IF(ISNUMBER(SEARCH(\"10\",#REF!)),\"1\",\"0\")","v":"0"},{"$f":"IF(ISNUMBER(SEARCH(\"11\",#REF!)),\"1\",\"0\")","v":"0"},{"$f":"IF(ISNUMBER(SEARCH(\"12\",#REF!)),\"1\",\"0\")","v":"0"},{"$f":"IF(ISNUMBER(SEARCH(\"13\",#REF!)),\"1\",\"0\")","v":"0"},{"$f":"IF(ISNUMBER(SEARCH(\"14\",#REF!)),\"1\",\"0\")","v":"0"},{"$f":"IF(ISNUMBER(SEARCH(\"15\",#REF!)),\"1\",\"0\")","v":"0"},{"$f":"IF(ISNUMBER(SEARCH(\"16\",#REF!)),\"1\",\"0\")","v":"0"},{"$f":"IF(ISNUMBER(SEARCH(\"17\",#REF!)),\"1\",\"0\")","v":"0"},5,{"$nulls":3},20,20,18,58,{"$nulls":8},5,null,{"$f":"#REF!-#REF!","v":{"$error":"#REF!"}}]
[2,22,3,"KN",null,41,null,1,3,null,5,5,6,"2, 3","0","1","1","0","0","0","0","0","0","0","0","0","0","0","0","0","0","0",null,null,2,5,2,{"$f":"IF(ISNUMBER(SEARCH(\"1\",#REF!)),\"1\",\"0\")","v":"0"},{"$f":"IF(ISNUMBER(SEARCH(\"2\",#REF!)),\"1\",\"0\")","v":"0"},{"$f":"IF(ISNUMBER(SEARCH(\"3\",#REF!)),\"1\",\"0\")","v":"0"},{"$f":"IF(ISNUMBER(SEARCH(\"4\",#REF!)),\"1\",\"0\")","v":"0"},{"$f":"IF(ISNUMBER(SEARCH(\"5\",#REF!)),\"1\",\"0\")","v":"0"},{"$f":"IF(ISNUMBER(SEARCH(\"6\",#REF!)),\"1\",\"0\")","v":"0"},{"$f":"IF(ISNUMBER(SEARCH(\"7\",#REF!)),\"1\",\"0\")","v":"0"},{"$f":"IF(ISNUMBER(SEARCH(\"8\",#REF!)),\"1\",\"0\")","v":"0"},{"$f":"IF(ISNUMBER(SEARCH(\"9\",#REF!)),\"1\",\"0\")","v":"0"},{"$f":"IF(ISNUMBER(SEARCH(\"9\",#REF!)),\"1\",\"0\")","v":"0"},{"$f":"IF(ISNUMBER(SEARCH(\"10\",#REF!)),\"1\",\"0\")","v":"0"},{"$f":"IF(ISNUMBER(SEARCH(\"11\",#REF!)),\"1\",\"0\")","v":"0"},{"$f":"IF(ISNUMBER(SEARCH(\"12\",#REF!)),\"1\",\"0\")","v":"0"},{"$f":"IF(ISNUMBER(SEARCH(\"13\",#REF!)),\"1\",\"0\")","v":"0"},{"$f":"IF(ISNUMBER(SEARCH(\"14\",#REF!)),\"1\",\"0\")","v":"0"},{"$f":"IF(ISNUMBER(SEARCH(\"15\",#REF!)),\"1\",\"0\")","v":"0"},{"$f":"IF(ISNUMBER(SEARCH(\"16\",#REF!)),\"1\",\"0\")","v":"0"},{"$f":"IF(ISNUMBER(SEARCH(\"17\",#REF!)),\"1\",\"0\")","v":"0"},3,{"$nulls":3},8,4,4,16,null,null,0,4,6,10,{"$nulls":5},{"$f":"#REF!-#REF!","v":{"$error":"#REF!"}}]
[2,22,3,"KF",2,35,null,2,3,1,5,5,2,"3, 10","1","0","1","0","0","0","0","0","0","1","0","0","0","0","0","0","0","0",null,null,3,5,1,{"$f":"IF(ISNUMBER(SEARCH(\"1\",#REF!)),\"1\",\"0\")","v":"0"},{"$f":"IF(ISNUMBER(SEARCH(\"2\",#REF!)),\"1\",\"0\")","v":"0"},{"$f":"IF(ISNUMBER(SEARCH(\"3\",#REF!)),\"1\",\"0\")","v":"0"},{"$f":"IF(ISNUMBER(SEARCH(\"4\",#REF!)),\"1\",\"0\")","v":"0"},{"$f":"IF(ISNUMBER(SEARCH(\"5\",#REF!)),\"1\",\"0\")","v":"0"},{"$f":"IF(ISNUMBER(SEARCH(\"6\",#REF!)),\"1\",\"0\")","v":"0"},{"$f":"IF(ISNUMBER(SEARCH(\"7\",#REF!)),\"1\",\"0\")","v":"0"},{"$f":"IF(ISNUMBER(SEARCH(\"8\",#REF!)),\"1\",\"0\")","v":"0"},{"$f":"IF(ISNUMBER(SEARCH(\"9\",#REF!)),\"1\",\"0\")","v":"0"},{"$f":"IF(ISNUMBER(SEARCH(\"9\",#REF!)),\"1\",\"0\")","v":"0"},{"$f":"IF(ISNUMBER(SEARCH(\"10\",#REF!)),\"1\",\"0\")","v":"0"},{"$f":"IF(ISNUMBER(SEARCH(\"11\",#REF!)),\"1\",\"0\")","v":"0"},{"$f":"IF(ISNUMBER(SEARCH(\"12\",#REF!)),\"1\",\"0\")","v":"0"},{"$f":"IF(ISNUMBER(SEARCH(\"13\",#REF!)),\"1\",\"0\")","v":"0"},{"$f":"IF(ISNUMBER(SEARCH(\"14\",#REF!)),\"1\",\"0\")","v":"0"},{"$f":"IF(ISNUMBER(SEARCH(\"15\",#REF!)),\"1\",\"0\")","v":"0"},{"$f":"IF(ISNUMBER(SEARCH(\"16\",#REF!)),\"1\",\"0\")","v":"0"},{"$f":"IF(ISNUMBER(SEARCH(\"17\",#REF!)),\"1\",\"0\")","v":"0"},4,1,null,null,14,8,18,40,{"$nulls":10},{"$f":"#REF!-#REF!","v":{"$error":"#REF!"}}]
[2,22,3,"KF",2,26,null,3,8,1,3,5,5,"3, 15. Insultes / a reçu des menaces","1","0","1","0","1","0","0","0","0","0","0","0","0","0","1","0","0","0",null,null,2,5,2,{"$f":"IF(ISNUMBER(SEARCH(\"1\",#REF!)),\"1\",\"0\")","v":"0"},{"$f":"IF(ISNUMBER(SEARCH(\"2\",#REF!)),\"1\",\"0\")","v":"0"},{"$f":"IF(ISNUMBER(SEARCH(\"3\",#REF!)),\"1\",\"0\")","v":"0"},{"$f":"IF(ISNUMBER(SEARCH(\"4\",#REF!)),\"1\",\"0\")","v":"0"},{"$f":"IF(ISNUMBER(SEARCH(\"5\",#REF!)),\"1\",\"0\")","v":"0"},{"$f":"IF(ISNUMBER(SEARCH(\"6\",#REF!)),\"1\",\"0\")","v":"0"},{"$f":"IF(ISNUMBER(SEARCH(\"7\",#REF!)),\"1\",\"0\")","v":"0"},{"$f":"IF(ISNUMBER(SEARCH(\"8\",#REF!)),\"1\",\"0\")","v":"0"},{"$f":"IF(ISNUMBER(SEARCH(\"9\",#REF!)),\"1\",\"0\")","v":"0"},{"$f":"IF(ISNUMBER(SEARCH(\"9\",#REF!)),\"1\",\"0\")","v":"0"},{"$f":"IF(ISNUMBER(SEARCH(\"10\",#REF!)),\"1\",\"0\")","v":"0"},{"$f":"IF(ISNUMBER(SEARCH(\"11\",#REF!)),\"1\",\"0\")","v":"0"},{"$f":"IF(ISNUMBER(SEARCH(\"12\",#REF!)),\"1\",\"0\")","v":"0"},{"$f":"IF(ISNUMBER(SEARCH(\"13\",#REF!)),\"1\",\"0\")","v":"0"},{"$f":"IF(ISNUMBER(SEARCH(\"14\",#REF!)),\"1\",\"0\")","v":"0"},{"$f":"IF(ISNUMBER(SEARCH(\"15\",#REF!)),\"1\",\"0\")","v":"0"},{"$f":"IF(ISNUMBER(SEARCH(\"16\",#REF!)),\"1\",\"0\")","v":"0"},{"$f":"IF(ISNUMBER(SEARCH(\"17\",#REF!)),\"1\",\"0\")","v":"0"},4,1,null,null,18,12,18,48,3,null,10,6,12,28,null,8,3,null,{"$f":"#REF!-#REF!","v":{"$error":"#REF!"}},{"$f":"#REF!-#REF!","v":{"$error":"#REF!"}}]
[2,22,3,"KF",2,37,null,null,8,null,7,5,2,"3, 2","0","1","1","0","0","0","0","0","0","0","0","0","0","0","0","0","0","0",null,null,3,5,1,{"$f":"IF(ISNUMBER(SEARCH(\"1\",#REF!)),\"1\",\"0\")","v":"0"},{"$f":"IF(ISNUMBER(SEARCH(\"2\",#REF!)),\"1\",\"0\")","v":"0"},{"$f":"IF(ISNUMBER(SEARCH(\"3\",#REF!)),\"1\",\"0\")","v":"0"},{"$f":"IF(ISNUMBER(SEARCH(\"4\",#REF!)),\"1\",\"0\")","v":"0"},{"$f":"IF(ISNUMBER(SEARCH(\"5\",#REF!)),\"1\",\"0\")","v":"0"},{"$f":"IF(ISNUMBER(SEARCH(\"6\",#REF!)),\"1\",\"0\")","v":"0"},{"$f":"IF(ISNUMBER(SEARCH(\"7\",#REF!)),\"1\",\"0\")","v":"0"},{"$f":"IF(ISNUMBER(SEARCH(\"8\",#REF!)),\"1\",\"0\")","v":"0"},{"$f":"IF(ISNUMBER(SEARCH(\"9\",#REF!)),\"1\",\"0\")","v":"0"},{"$f":"IF(ISNUMBER(SEARCH(\"9\",#REF!)),\"1\",\"0\")","v":"0"},{"$f":"IF(ISNUMBER(SEARCH(\"10\",#REF!)),\"1\",\"0\")","v":"0"},{"$f":"IF(ISNUMBER(SEARCH(\"11\",#REF!)),\"1\",\"0\")","v":"0"},{"$f":"IF(ISNUMBER(SEARCH(\"12\",#REF!)),\"1\",\"0\")","v":"0"},{"$f":"IF(ISNUMBER(SEARCH(\"13\",#REF!)),\"1\",\"0\")","v":"0"},{"$f":"IF(ISNUMBER(SEARCH(\"14\",#REF!)),\"1\",\"0\")","v":"0"},{"$f":"IF(ISNUMBER(SEARCH(\"15\",#REF!)),\"1\",\"0\")","v":"0"},{"$f":"IF(ISNUMBER(SEARCH(\"16\",#REF!)),\"1\",\"0\")","v":"0"},{"$f":"IF(ISNUMBER(SEARCH(\"17\",#REF!)),\"1\",\"0\")","v":"0"},1,1,null,null,16,14,16,46,null,null,8,8,6,22,null,null,3,null,{"$f":"#REF!-#REF!","v":{"$error":"#REF!"}},{"$f":"#REF!-#REF!","v":{"$error":"#REF!"}}]
[2,22,3,"SK",2,32,null,1,7,1,5,5,null,3,"0","0","1","0","0","0","0","0","0","0","0","0","0","0","0","0","0","0",null,null,2,5,2,{"$f":"IF(ISNUMBER(SEARCH(\"1\",#REF!)),\"1\",\"0\")","v":"0"},{"$f":"IF(ISNUMBER(SEARCH(\"2\",#REF!)),\"1\",\"0\")","v":"0"},{"$f":"IF(ISNUMBER(SEARCH(\"3\",#REF!)),\"1\",\"0\")","v":"0"},{"$f":"IF(ISNUMBER(SEARCH(\"4\",#REF!)),\"1\",\"0\")","v":"0"},{"$f":"IF(ISNUMBER(SEARCH(\"5\",#REF!)),\"1\",\"0\")","v":"0"},{"$f":"IF(ISNUMBER(SEARCH(\"6\",#REF!)),\"1\",\"0\")","v":"0"},{"$f":"IF(ISNUMBER(SEARCH(\"7\",#REF!)),\"1\",\"0\")","v":"0"},{"$f":"IF(ISNUMBER(SEARCH(\"8\",#REF!)),\"1\",\"0\")","v":"0"},{"$f":"IF(ISNUMBER(SEARCH(\"9\",#REF!)),\"1\",\"0\")","v":"0"},{"$f":"IF(ISNUMBER(SEARCH(\"9\",#REF!)),\"1\",\"0\")","v":"0"},{"$f":"IF(ISNUMBER(SEARCH(\"10\",#REF!)),\"1\",\"0\")","v":"0"},{"$f":"IF(ISNUMBER(SEARCH(\"11\",#REF!)),\"1\",\"0\")","v":"0"},{"$f":"IF(ISNUMBER(SEARCH(\"12\",#REF!)),\"1\",\"0\")","v":"0"},{"$f":"IF(ISNUMBER(SEARCH(\"13\",#REF!)),\"1\",\"0\")","v":"0"},{"$f":"IF(ISNUMBER(SEARCH(\"14\",#REF!)),\"1\",\"0\")","v":"0"},{"$f":"IF(ISNUMBER(SEARCH(\"15\",#REF!)),\"1\",\"0\")","v":"0"},{"$f":"IF(ISNUMBER(SEARCH(\"16\",#REF!)),\"1\",\"0\")","v":"0"},{"$f":"IF(ISNUMBER(SEARCH(\"17\",#REF!)),\"1\",\"0\")","v":"0"},{"$nulls":4},8,4,6,18,8]
[2,22,3,"SK",2,27,null,2,7,1,null,4,2,3,"0","0","1","0","0","0","0","0","0","0","0","0","0","0","0","0","0","0",null,null,3,5,2,{"$f":"IF(ISNUMBER(SEARCH(\"1\",#REF!)),\"1\",\"0\")","v":"0"},{"$f":"IF(ISNUMBER(SEARCH(\"2\",#REF!)),\"1\",\"0\")","v":"0"},{"$f":"IF(ISNUMBER(SEARCH(\"3\",#REF!)),\"1\",\"0\")","v":"0"},{"$f":"IF(ISNUMBER(SEARCH(\"4\",#REF!)),\"1\",\"0\")","v":"0"},{"$f":"IF(ISNUMBER(SEARCH(\"5\",#REF!)),\"1\",\"0\")","v":"0"},{"$f":"IF(ISNUMBER(SEARCH(\"6\",#REF!)),\"1\",\"0\")","v":"0"},{"$f":"IF(ISNUMBER(SEARCH(\"7\",#REF!)),\"1\",\"0\")","v":"0"},{"$f":"IF(ISNUMBER(SEARCH(\"8\",#REF!)),\"1\",\"0\")","v":"0"},{"$f":"IF(ISNUMBER(SEARCH(\"9\",#REF!)),\"1\",\"0\")","v":"0"},{"$f":"IF(ISNUMBER(SEARCH(\"9\",#REF!)),\"1\",\"0\")","v":"0"},{"$f":"IF(ISNUMBER(SEARCH(\"10\",#REF!)),\"1\",\"0\")","v":"0"},{"$f":"IF(ISNUMBER(SEARCH(\"11\",#REF!)),\"1\",\"0\")","v":"0"},{"$f":"IF(ISNUMBER(SEARCH(\"12\",#REF!)),\"1\",\"0\")","v":"0"},{"$f":"IF(ISNUMBER(SEARCH(\"13\",#REF!)),\"1\",\"0\")","v":"0"},{"$f":"IF(ISNUMBER(SEARCH(\"14\",#REF!)),\"1\",\"0\")","v":"0"},{"$f":"IF(ISNUMBER(SEARCH(\"15\",#REF!)),\"1\",\"0\")","v":"0"},{"$f":"IF(ISNUMBER(SEARCH(\"16\",#REF!)),\"1\",\"0\")","v":"0"},{"$f":"IF(ISNUMBER(SEARCH(\"17\",#REF!)),\"1\",\"0\")","v":"0"},1,2,null,null,8,6,4,18,6]
[2,22,3,"KN",2,20,null,3,3,null,0,5,1,2,"0","1","0","0","0","0","0","0","0","0","0","0","0","0","0","0","0","0",null,null,2,5,2,{"$f":"IF(ISNUMBER(SEARCH(\"1\",#REF!)),\"1\",\"0\")","v":"0"},{"$f":"IF(ISNUMBER(SEARCH(\"2\",#REF!)),\"1\",\"0\")","v":"0"},{"$f":"IF(ISNUMBER(SEARCH(\"3\",#REF!)),\"1\",\"0\")","v":"0"},{"$f":"IF(ISNUMBER(SEARCH(\"4\",#REF!)),\"1\",\"0\")","v":"0"},{"$f":"IF(ISNUMBER(SEARCH(\"5\",#REF!)),\"1\",\"0\")","v":"0"},{"$f":"IF(ISNUMBER(SEARCH(\"6\",#REF!)),\"1\",\"0\")","v":"0"},{"$f":"IF(ISNUMBER(SEARCH(\"7\",#REF!)),\"1\",\"0\")","v":"0"},{"$f":"IF(ISNUMBER(SEARCH(\"8\",#REF!)),\"1\",\"0\")","v":"0"},{"$f":"IF(ISNUMBER(SEARCH(\"9\",#REF!)),\"1\",\"0\")","v":"0"},{"$f":"IF(ISNUMBER(SEARCH(\"9\",#REF!)),\"1\",\"0\")","v":"0"},{"$f":"IF(ISNUMBER(SEARCH(\"10\",#REF!)),\"1\",\"0\")","v":"0"},{"$f":"IF(ISNUMBER(SEARCH(\"11\",#REF!)),\"1\",\"0\")","v":"0"},{"$f":"IF(ISNUMBER(SEARCH(\"12\",#REF!)),\"1\",\"0\")","v":"0"},{"$f":"IF(ISNUMBER(SEARCH(\"13\",#REF!)),\"1\",\"0\")","v":"0"},{"$f":"IF(ISNUMBER(SEARCH(\"14\",#REF!)),\"1\",\"0\")","v":"0"},{"$f":"IF(ISNUMBER(SEARCH(\"15\",#REF!)),\"1\",\"0\")","v":"0"},{"$f":"IF(ISNUMBER(SEARCH(\"16\",#REF!)),\"1\",\"0\")","v":"0"},{"$f":"IF(ISNUMBER(SEARCH(\"17\",#REF!)),\"1\",\"0\")","v":"0"},{"$nulls":4},4,6,16,26,{"$nulls":10},{"$f":"#REF!-#REF!","v":{"$error":"#REF!"}}]
[2,22,3,"KN",1,43,null,2,3,1,7,1,2,2,"0","1","0","0","0","0","0","0","0","0","0","0","0","0","0","0","0","0",null,null,2,5,2,{"$f":"IF(ISNUMBER(SEARCH(\"1\",#REF!)),\"1\",\"0\")","v":"0"},{"$f":"IF(ISNUMBER(SEARCH(\"2\",#REF!)),\"1\",\"0\")","v":"0"},{"$f":"IF(ISNUMBER(SEARCH(\"3\",#REF!)),\"1\",\"0\")","v":"0"},{"$f":"IF(ISNUMBER(SEARCH(\"4\",#REF!)),\"1\",\"0\")","v":"0"},{"$f":"IF(ISNUMBER(SEARCH(\"5\",#REF!)),\"1\",\"0\")","v":"0"},{"$f":"IF(ISNUMBER(SEARCH(\"6\",#REF!)),\"1\",\"0\")","v":"0"},{"$f":"IF(ISNUMBER(SEARCH(\"7\",#REF!)),\"1\",\"0\")","v":"0"},{"$f":"IF(ISNUMBER(SEARCH(\"8\",#REF!)),\"1\",\"0\")","v":"0"},{"$f":"IF(ISNUMBER(SEARCH(\"9\",#REF!)),\"1\",\"0\")","v":"0"},{"$f":"IF(ISNUMBER(SEARCH(\"9\",#REF!)),\"1\",\"0\")","v":"0"},{"$f":"IF(ISNUMBER(SEARCH(\"10\",#REF!)),\"1\",\"0\")","v":"0"},{"$f":"IF(ISNUMBER(SEARCH(\"11\",#REF!)),\"1\",\"0\")","v":"0"},{"$f":"IF(ISNUMBER(SEARCH(\"12\",#REF!)),\"1\",\"0\")","v":"0"},{"$f":"IF(ISNUMBER(SEARCH(\"13\",#REF!)),\"1\",\"0\")","v":"0"},{"$f":"IF(ISNUMBER(SEARCH(\"14\",#REF!)),\"1\",\"0\")","v":"0"},{"$f":"IF(ISNUMBER(SEARCH(\"15\",#REF!)),\"1\",\"0\")","v":"0"},{"$f":"IF(ISNUMBER(SEARCH(\"16\",#REF!)),\"1\",\"0\")","v":"0"},{"$f":"IF(ISNUMBER(SEARCH(\"17\",#REF!)),\"1\",\"0\")","v":"0"},{"$nulls":4},4,8,16,28,{"$nulls":10},{"$f":"#REF!-#REF!","v":{"$error":"#REF!"}}]
[2,22,3,"KF",{"$nulls":3},2,2,1,0,null,1,"4. Tentative de Viol","0","0","0","1","0","0","0","0","0","0","0","0","0","0","0","0","0","0",null,null,3,3,1,{"$f":"IF(ISNUMBER(SEARCH(\"1\",#REF!)),\"1\",\"0\")","v":"0"},{"$f":"IF(ISNUMBER(SEARCH(\"2\",#REF!)),\"1\",\"0\")","v":"0"},{"$f":"IF(ISNUMBER(SEARCH(\"3\",#REF!)),\"1\",\"0\")","v":"0"},{"$f":"IF(ISNUMBER(SEARCH(\"4\",#REF!)),\"1\",\"0\")","v":"0"},{"$f":"IF(ISNUMBER(SEARCH(\"5\",#REF!)),\"1\",\"0\")","v":"0"},{"$f":"IF(ISNUMBER(SEARCH(\"6\",#REF!)),\"1\",\"0\")","v":"0"},{"$f":"IF(ISNUMBER(SEARCH(\"7\",#REF!)),\"1\",\"0\")","v":"0"},{"$f":"IF(ISNUMBER(SEARCH(\"8\",#REF!)),\"1\",\"0\")","v":"0"},{"$f":"IF(ISNUMBER(SEARCH(\"9\",#REF!)),\"1\",\"0\")","v":"0"},{"$f":"IF(ISNUMBER(SEARCH(\"9\",#REF!)),\"1\",\"0\")","v":"0"},{"$f":"IF(ISNUMBER(SEARCH(\"10\",#REF!)),\"1\",\"0\")","v":"0"},{"$f":"IF(ISNUMBER(SEARCH(\"11\",#REF!)),\"1\",\"0\")","v":"0"},{"$f":"IF(ISNUMBER(SEARCH(\"12\",#REF!)),\"1\",\"0\")","v":"0"},{"$f":"IF(ISNUMBER(SEARCH(\"13\",#REF!)),\"1\",\"0\")","v":"0"},{"$f":"IF(ISNUMBER(SEARCH(\"14\",#REF!)),\"1\",\"0\")","v":"0"},{"$f":"IF(ISNUMBER(SEARCH(\"15\",#REF!)),\"1\",\"0\")","v":"0"},{"$f":"IF(ISNUMBER(SEARCH(\"16\",#REF!)),\"1\",\"0\")","v":"0"},{"$f":"IF(ISNUMBER(SEARCH(\"17\",#REF!)),\"1\",\"0\")","v":"0"},null,1,null,null,8,12,20,40,null,null,6,8,8,22,{"$nulls":5},{"$f":"#REF!-#REF!","v":{"$error":"#REF!"}}]
[2,22,3,"KN",null,37,null,2,3,null,null,5,2,3,"0","0","1","0","0","0","0","0","0","0","0","0","0","0","0","0","0","0",{"$nulls":3},5,2,{"$f":"IF(ISNUMBER(SEARCH(\"1\",#REF!)),\"1\",\"0\")","v":"0"},{"$f":"IF(ISNUMBER(SEARCH(\"2\",#REF!)),\"1\",\"0\")","v":"0"},{"$f":"IF(ISNUMBER(SEARCH(\"3\",#REF!)),\"1\",\"0\")","v":"0"},{"$f":"IF(ISNUMBER(SEARCH(\"4\",#REF!)),\"1\",\"0\")","v":"0"},{"$f":"IF(ISNUMBER(SEARCH(\"5\",#REF!)),\"1\",\"0\")","v":"0"},{"$f":"IF(ISNUMBER(SEARCH(\"6\",#REF!)),\"1\",\"0\")","v":"0"},{"$f":"IF(ISNUMBER(SEARCH(\"7\",#REF!)),\"1\",\"0\")","v":"0"},{"$f":"IF(ISNUMBER(SEARCH(\"8\",#REF!)),\"1\",\"0\")","v":"0"},{"$f":"IF(ISNUMBER(SEARCH(\"9\",#REF!)),\"1\",\"0\")","v":"0"},{"$f":"IF(ISNUMBER(SEARCH(\"9\",#REF!)),\"1\",\"0\")","v":"0"},{"$f":"IF(ISNUMBER(SEARCH(\"10\",#REF!)),\"1\",\"0\")","v":"0"},{"$f":"IF(ISNUMBER(SEARCH(\"11\",#REF!)),\"1\",\"0\")","v":"0"},{"$f":"IF(ISNUMBER(SEARCH(\"12\",#REF!)),\"1\",\"0\")","v":"0"},{"$f":"IF(ISNUMBER(SEARCH(\"13\",#REF!)),\"1\",\"0\")","v":"0"},{"$f":"IF(ISNUMBER(SEARCH(\"14\",#REF!)),\"1\",\"0\")","v":"0"},{"$f":"IF(ISNUMBER(SEARCH(\"15\",#REF!)),\"1\",\"0\")","v":"0"},{"$f":"IF(ISNUMBER(SEARCH(\"16\",#REF!)),\"1\",\"0\")","v":"0"},{"$f":"IF(ISNUMBER(SEARCH(\"17\",#REF!)),\"1\",\"0\")","v":"0"},1,1,null,null,2,0,8,10]
[2,22,3,"SK",2,34,null,3,3,2,7,5,5,3,"0","0","1","0","0","0","0","0","0","0","0","0","0","0","0","0","0","0",null,null,3,5,2,{"$f":"IF(ISNUMBER(SEARCH(\"1\",#REF!)),\"1\",\"0\")","v":"0"},{"$f":"IF(ISNUMBER(SEARCH(\"2\",#REF!)),\"1\",\"0\")","v":"0"},{"$f":"IF(ISNUMBER(SEARCH(\"3\",#REF!)),\"1\",\"0\")","v":"0"},{"$f":"IF(ISNUMBER(SEARCH(\"4\",#REF!)),\"1\",\"0\")","v":"0"},{"$f":"IF(ISNUMBER(SEARCH(\"5\",#REF!)),\"1\",\"0\")","v":"0"},{"$f":"IF(ISNUMBER(SEARCH(\"6\",#REF!)),\"1\",\"0\")","v":"0"},{"$f":"IF(ISNUMBER(SEARCH(\"7\",#REF!)),\"1\",\"0\")","v":"0"},{"$f":"IF(ISNUMBER(SEARCH(\"8\",#REF!)),\"1\",\"0\")","v":"0"},{"$f":"IF(ISNUMBER(SEARCH(\"9\",#REF!)),\"1\",\"0\")","v":"0"},{"$f":"IF(ISNUMBER(SEARCH(\"9\",#REF!)),\"1\",\"0\")","v":"0"},{"$f":"IF(ISNUMBER(SEARCH(\"10\",#REF!)),\"1\",\"0\")","v":"0"},{"$f":"IF(ISNUMBER(SEARCH(\"11\",#REF!)),\"1\",\"0\")","v":"0"},{"$f":"IF(ISNUMBER(SEARCH(\"12\",#REF!)),\"1\",\"0\")","v":"0"},{"$f":"IF(ISNUMBER(SEARCH(\"13\",#REF!)),\"1\",\"0\")","v":"0"},{"$f":"IF(ISNUMBER(SEARCH(\"14\",#REF!)),\"1\",\"0\")","v":"0"},{"$f":"IF(ISNUMBER(SEARCH(\"15\",#REF!)),\"1\",\"0\")","v":"0"},{"$f":"IF(ISNUMBER(SEARCH(\"16\",#REF!)),\"1\",\"0\")","v":"0"},{"$f":"IF(ISNUMBER(SEARCH(\"17\",#REF!)),\"1\",\"0\")","v":"0"},1,{"$nulls":3},10,4,2,16]
[2,22,3,"SK",{"$nulls":4},7,null,null,5,null,null,"0","0","0","0","0","0","0","0","0","0","0","0","0","0","0","0","0","0",{"$nulls":5},{"$f":"IF(ISNUMBER(SEARCH(\"1\",#REF!)),\"1\",\"0\")","v":"0"},{"$f":"IF(ISNUMBER(SEARCH(\"2\",#REF!)),\"1\",\"0\")","v":"0"},{"$f":"IF(ISNUMBER(SEARCH(\"3\",#REF!)),\"1\",\"0\")","v":"0"},{"$f":"IF(ISNUMBER(SEARCH(\"4\",#REF!)),\"1\",\"0\")","v":"0"},{"$f":"IF(ISNUMBER(SEARCH(\"5\",#REF!)),\"1\",\"0\")","v":"0"},{"$f":"IF(ISNUMBER(SEARCH(\"6\",#REF!)),\"1\",\"0\")","v":"0"},{"$f":"IF(ISNUMBER(SEARCH(\"7\",#REF!)),\"1\",\"0\")","v":"0"},{"$f":"IF(ISNUMBER(SEARCH(\"8\",#REF!)),\"1\",\"0\")","v":"0"},{"$f":"IF(ISNUMBER(SEARCH(\"9\",#REF!)),\"1\",\"0\")","v":"0"},{"$f":"IF(ISNUMBER(SEARCH(\"9\",#REF!)),\"1\",\"0\")","v":"0"},{"$f":"IF(ISNUMBER(SEARCH(\"10\",#REF!)),\"1\",\"0\")","v":"0"},{"$f":"IF(ISNUMBER(SEARCH(\"11\",#REF!)),\"1\",\"0\")","v":"0"},{"$f":"IF(ISNUMBER(SEARCH(\"12\",#REF!)),\"1\",\"0\")","v":"0"},{"$f":"IF(ISNUMBER(SEARCH(\"13\",#REF!)),\"1\",\"0\")","v":"0"},{"$f":"IF(ISNUMBER(SEARCH(\"14\",#REF!)),\"1\",\"0\")","v":"0"},{"$f":"IF(ISNUMBER(SEARCH(\"15\",#REF!)),\"1\",\"0\")","v":"0"},{"$f":"IF(ISNUMBER(SEARCH(\"16\",#REF!)),\"1\",\"0\")","v":"0"},{"$f":"IF(ISNUMBER(SEARCH(\"17\",#REF!)),\"1\",\"0\")","v":"0"}]
[2,22,3,"SK",2,20,null,3,3,1,null,null,1,3,"0","0","1","0","0","0","0","0","0","0","0","0","0","0","0","0","0","0",null,null,3,5,null,{"$f":"IF(ISNUMBER(SEARCH(\"1\",#REF!)),\"1\",\"0\")","v":"0"},{"$f":"IF(ISNUMBER(SEARCH(\"2\",#REF!)),\"1\",\"0\")","v":"0"},{"$f":"IF(ISNUMBER(SEARCH(\"3\",#REF!)),\"1\",\"0\")","v":"0"},{"$f":"IF(ISNUMBER(SEARCH(\"4\",#REF!)),\"1\",\"0\")","v":"0"},{"$f":"IF(ISNUMBER(SEARCH(\"5\",#REF!)),\"1\",\"0\")","v":"0"},{"$f":"IF(ISNUMBER(SEARCH(\"6\",#REF!)),\"1\",\"0\")","v":"0"},{"$f":"IF(ISNUMBER(SEARCH(\"7\",#REF!)),\"1\",\"0\")","v":"0"},{"$f":"IF(ISNUMBER(SEARCH(\"8\",#REF!)),\"1\",\"0\")","v":"0"},{"$f":"IF(ISNUMBER(SEARCH(\"9\",#REF!)),\"1\",\"0\")","v":"0"},{"$f":"IF(ISNUMBER(SEARCH(\"9\",#REF!)),\"1\",\"0\")","v":"0"},{"$f":"IF(ISNUMBER(SEARCH(\"10\",#REF!)),\"1\",\"0\")","v":"0"},{"$f":"IF(ISNUMBER(SEARCH(\"11\",#REF!)),\"1\",\"0\")","v":"0"},{"$f":"IF(ISNUMBER(SEARCH(\"12\",#REF!)),\"1\",\"0\")","v":"0"},{"$f":"IF(ISNUMBER(SEARCH(\"13\",#REF!)),\"1\",\"0\")","v":"0"},{"$f":"IF(ISNUMBER(SEARCH(\"14\",#REF!)),\"1\",\"0\")","v":"0"},{"$f":"IF(ISNUMBER(SEARCH(\"15\",#REF!)),\"1\",\"0\")","v":"0"},{"$f":"IF(ISNUMBER(SEARCH(\"16\",#REF!)),\"1\",\"0\")","v":"0"},{"$f":"IF(ISNUMBER(SEARCH(\"17\",#REF!)),\"1\",\"0\")","v":"0"}]
[2,22,4,"VMA",1,26,null,2,3,1,3,3,2,"16. Autre (SVP dans la case suivante) ","1","0","0","0","0","1","0","0","0","0","0","0","0","0","0","1","0","0",{"$nulls":5},{"$f":"IF(ISNUMBER(SEARCH(\"1\",#REF!)),\"1\",\"0\")","v":"0"},{"$f":"IF(ISNUMBER(SEARCH(\"2\",#REF!)),\"1\",\"0\")","v":"0"},{"$f":"IF(ISNUMBER(SEARCH(\"3\",#REF!)),\"1\",\"0\")","v":"0"},{"$f":"IF(ISNUMBER(SEARCH(\"4\",#REF!)),\"1\",\"0\")","v":"0"},{"$f":"IF(ISNUMBER(SEARCH(\"5\",#REF!)),\"1\",\"0\")","v":"0"},{"$f":"IF(ISNUMBER(SEARCH(\"6\",#REF!)),\"1\",\"0\")","v":"0"},{"$f":"IF(ISNUMBER(SEARCH(\"7\",#REF!)),\"1\",\"0\")","v":"0"},{"$f":"IF(ISNUMBER(SEARCH(\"8\",#REF!)),\"1\",\"0\")","v":"0"},{"$f":"IF(ISNUMBER(SEARCH(\"9\",#REF!)),\"1\",\"0\")","v":"0"},{"$f":"IF(ISNUMBER(SEARCH(\"9\",#REF!)),\"1\",\"0\")","v":"0"},{"$f":"IF(ISNUMBER(SEARCH(\"10\",#REF!)),\"1\",\"0\")","v":"0"},{"$f":"IF(ISNUMBER(SEARCH(\"11\",#REF!)),\"1\",\"0\")","v":"0"},{"$f":"IF(ISNUMBER(SEARCH(\"12\",#REF!)),\"1\",\"0\")","v":"0"},{"$f":"IF(ISNUMBER(SEARCH(\"13\",#REF!)),\"1\",\"0\")","v":"0"},{"$f":"IF(ISNUMBER(SEARCH(\"14\",#REF!)),\"1\",\"0\")","v":"0"},{"$f":"IF(ISNUMBER(SEARCH(\"15\",#REF!)),\"1\",\"0\")","v":"0"},{"$f":"IF(ISNUMBER(SEARCH(\"16\",#REF!)),\"1\",\"0\")","v":"0"},{"$f":"IF(ISNUMBER(SEARCH(\"17\",#REF!)),\"1\",\"0\")","v":"0"}]
[2,22,4,"VMA",1,31,null,null,1,null,6,1,null,null,"0","0","0","0","0","0","0","0","0","0","0","0","0","0","0","0","0","0",{"$nulls":5},{"$f":"IF(ISNUMBER(SEARCH(\"1\",#REF!)),\"1\",\"0\")","v":"0"},{"$f":"IF(ISNUMBER(SEARCH(\"2\",#REF!)),\"1\",\"0\")","v":"0"},{"$f":"IF(ISNUMBER(SEARCH(\"3\",#REF!)),\"1\",\"0\")","v":"0"},{"$f":"IF(ISNUMBER(SEARCH(\"4\",#REF!)),\"1\",\"0\")","v":"0"},{"$f":"IF(ISNUMBER(SEARCH(\"5\",#REF!)),\"1\",\"0\")","v":"0"},{"$f":"IF(ISNUMBER(SEARCH(\"6\",#REF!)),\"1\",\"0\")","v":"0"},{"$f":"IF(ISNUMBER(SEARCH(\"7\",#REF!)),\"1\",\"0\")","v":"0"},{"$f":"IF(ISNUMBER(SEARCH(\"8\",#REF!)),\"1\",\"0\")","v":"0"},{"$f":"IF(ISNUMBER(SEARCH(\"9\",#REF!)),\"1\",\"0\")","v":"0"},{"$f":"IF(ISNUMBER(SEARCH(\"9\",#REF!)),\"1\",\"0\")","v":"0"},{"$f":"IF(ISNUMBER(SEARCH(\"10\",#REF!)),\"1\",\"0\")","v":"0"},{"$f":"IF(ISNUMBER(SEARCH(\"11\",#REF!)),\"1\",\"0\")","v":"0"},{"$f":"IF(ISNUMBER(SEARCH(\"12\",#REF!)),\"1\",\"0\")","v":"0"},{"$f":"IF(ISNUMBER(SEARCH(\"13\",#REF!)),\"1\",\"0\")","v":"0"},{"$f":"IF(ISNUMBER(SEARCH(\"14\",#REF!)),\"1\",\"0\")","v":"0"},{"$f":"IF(ISNUMBER(SEARCH(\"15\",#REF!)),\"1\",\"0\")","v":"0"},{"$f":"IF(ISNUMBER(SEARCH(\"16\",#REF!)),\"1\",\"0\")","v":"0"},{"$f":"IF(ISNUMBER(SEARCH(\"17\",#REF!)),\"1\",\"0\")","v":"0"}]
[2,22,4,"VMA",2,19,null,null,3,2,0,3,null,null,"0","0","0","0","0","0","0","0","0","0","0","0","0","0","0","0","0","0",{"$nulls":5},{"$f":"IF(ISNUMBER(SEARCH(\"1\",#REF!)),\"1\",\"0\")","v":"0"},{"$f":"IF(ISNUMBER(SEARCH(\"2\",#REF!)),\"1\",\"0\")","v":"0"},{"$f":"IF(ISNUMBER(SEARCH(\"3\",#REF!)),\"1\",\"0\")","v":"0"},{"$f":"IF(ISNUMBER(SEARCH(\"4\",#REF!)),\"1\",\"0\")","v":"0"},{"$f":"IF(ISNUMBER(SEARCH(\"5\",#REF!)),\"1\",\"0\")","v":"0"},{"$f":"IF(ISNUMBER(SEARCH(\"6\",#REF!)),\"1\",\"0\")","v":"0"},{"$f":"IF(ISNUMBER(SEARCH(\"7\",#REF!)),\"1\",\"0\")","v":"0"},{"$f":"IF(ISNUMBER(SEARCH(\"8\",#REF!)),\"1\",\"0\")","v":"0"},{"$f":"IF(ISNUMBER(SEARCH(\"9\",#REF!)),\"1\",\"0\")","v":"0"},{"$f":"IF(ISNUMBER(SEARCH(\"9\",#REF!)),\"1\",\"0\")","v":"0"},{"$f":"IF(ISNUMBER(SEARCH(\"10\",#REF!)),\"1\",\"0\")","v":"0"},{"$f":"IF(ISNUMBER(SEARCH(\"11\",#REF!)),\"1\",\"0\")","v":"0"},{"$f":"IF(ISNUMBER(SEARCH(\"12\",#REF!)),\"1\",\"0\")","v":"0"},{"$f":"IF(ISNUMBER(SEARCH(\"13\",#REF!)),\"1\",\"0\")","v":"0"},{"$f":"IF(ISNUMBER(SEARCH(\"14\",#REF!)),\"1\",\"0\")","v":"0"},{"$f":"IF(ISNUMBER(SEARCH(\"15\",#REF!)),\"1\",\"0\")","v":"0"},{"$f":"IF(ISNUMBER(SEARCH(\"16\",#REF!)),\"1\",\"0\")","v":"0"},{"$f":"IF(ISNUMBER(SEARCH(\"17\",#REF!)),\"1\",\"0\")","v":"0"}]
[2,22,4,"VMA",2,20,null,3,1,1,null,1,1,3,"0","0","1","0","0","0","0","0","0","0","0","0","0","0","0","0","0","0",{"$nulls":3},5,1,{"$f":"IF(ISNUMBER(SEARCH(\"1\",#REF!)),\"1\",\"0\")","v":"0"},{"$f":"IF(ISNUMBER(SEARCH(\"2\",#REF!)),\"1\",\"0\")","v":"0"},{"$f":"IF(ISNUMBER(SEARCH(\"3\",#REF!)),\"1\",\"0\")","v":"0"},{"$f":"IF(ISNUMBER(SEARCH(\"4\",#REF!)),\"1\",\"0\")","v":"0"},{"$f":"IF(ISNUMBER(SEARCH(\"5\",#REF!)),\"1\",\"0\")","v":"0"},{"$f":"IF(ISNUMBER(SEARCH(\"6\",#REF!)),\"1\",\"0\")","v":"0"},{"$f":"IF(ISNUMBER(SEARCH(\"7\",#REF!)),\"1\",\"0\")","v":"0"},{"$f":"IF(ISNUMBER(SEARCH(\"8\",#REF!)),\"1\",\"0\")","v":"0"},{"$f":"IF(ISNUMBER(SEARCH(\"9\",#REF!)),\"1\",\"0\")","v":"0"},{"$f":"IF(ISNUMBER(SEARCH(\"9\",#REF!)),\"1\",\"0\")","v":"0"},{"$f":"IF(ISNUMBER(SEARCH(\"10\",#REF!)),\"1\",\"0\")","v":"0"},{"$f":"IF(ISNUMBER(SEARCH(\"11\",#REF!)),\"1\",\"0\")","v":"0"},{"$f":"IF(ISNUMBER(SEARCH(\"12\",#REF!)),\"1\",\"0\")","v":"0"},{"$f":"IF(ISNUMBER(SEARCH(\"13\",#REF!)),\"1\",\"0\")","v":"0"},{"$f":"IF(ISNUMBER(SEARCH(\"14\",#REF!)),\"1\",\"0\")","v":"0"},{"$f":"IF(ISNUMBER(SEARCH(\"15\",#REF!)),\"1\",\"0\")","v":"0"},{"$f":"IF(ISNUMBER(SEARCH(\"16\",#REF!)),\"1\",\"0\")","v":"0"},{"$f":"IF(ISNUMBER(SEARCH(\"17\",#REF!)),\"1\",\"0\")","v":"0"},4]
[2,22,4,"BIDA",2,37,null,2,8,1,6,3,2,"16. Autre (SVP dans la case suivante) ","1","0","0","0","0","1","0","0","0","0","0","0","0","0","0","1","0","0",{"$nulls":5},{"$f":"IF(ISNUMBER(SEARCH(\"1\",#REF!)),\"1\",\"0\")","v":"0"},{"$f":"IF(ISNUMBER(SEARCH(\"2\",#REF!)),\"1\",\"0\")","v":"0"},{"$f":"IF(ISNUMBER(SEARCH(\"3\",#REF!)),\"1\",\"0\")","v":"0"},{"$f":"IF(ISNUMBER(SEARCH(\"4\",#REF!)),\"1\",\"0\")","v":"0"},{"$f":"IF(ISNUMBER(SEARCH(\"5\",#REF!)),\"1\",\"0\")","v":"0"},{"$f":"IF(ISNUMBER(SEARCH(\"6\",#REF!)),\"1\",\"0\")","v":"0"},{"$f":"IF(ISNUMBER(SEARCH(\"7\",#REF!)),\"1\",\"0\")","v":"0"},{"$f":"IF(ISNUMBER(SEARCH(\"8\",#REF!)),\"1\",\"0\")","v":"0"},{"$f":"IF(ISNUMBER(SEARCH(\"9\",#REF!)),\"1\",\"0\")","v":"0"},{"$f":"IF(ISNUMBER(SEARCH(\"9\",#REF!)),\"1\",\"0\")","v":"0"},{"$f":"IF(ISNUMBER(SEARCH(\"10\",#REF!)),\"1\",\"0\")","v":"0"},{"$f":"IF(ISNUMBER(SEARCH(\"11\",#REF!)),\"1\",\"0\")","v":"0"},{"$f":"IF(ISNUMBER(SEARCH(\"12\",#REF!)),\"1\",\"0\")","v":"0"},{"$f":"IF(ISNUMBER(SEARCH(\"13\",#REF!)),\"1\",\"0\")","v":"0"},{"$f":"IF(ISNUMBER(SEARCH(\"14\",#REF!)),\"1\",\"0\")","v":"0"},{"$f":"IF(ISNUMBER(SEARCH(\"15\",#REF!)),\"1\",\"0\")","v":"0"},{"$f":"IF(ISNUMBER(SEARCH(\"16\",#REF!)),\"1\",\"0\")","v":"0"},{"$f":"IF(ISNUMBER(SEARCH(\"17\",#REF!)),\"1\",\"0\")","v":"0"}]
[2,22,4,"BIDA",2,29,null,1,3,null,7,3,6,null,"0","0","0","0","0","0","0","0","0","0","0","0","0","0","0","0","0","0",{"$nulls":5},{"$f":"IF(ISNUMBER(SEARCH(\"1\",#REF!)),\"1\",\"0\")","v":"0"},{"$f":"IF(ISNUMBER(SEARCH(\"2\",#REF!)),\"1\",\"0\")","v":"0"},{"$f":"IF(ISNUMBER(SEARCH(\"3\",#REF!)),\"1\",\"0\")","v":"0"},{"$f":"IF(ISNUMBER(SEARCH(\"4\",#REF!)),\"1\",\"0\")","v":"0"},{"$f":"IF(ISNUMBER(SEARCH(\"5\",#REF!)),\"1\",\"0\")","v":"0"},{"$f":"IF(ISNUMBER(SEARCH(\"6\",#REF!)),\"1\",\"0\")","v":"0"},{"$f":"IF(ISNUMBER(SEARCH(\"7\",#REF!)),\"1\",\"0\")","v":"0"},{"$f":"IF(ISNUMBER(SEARCH(\"8\",#REF!)),\"1\",\"0\")","v":"0"},{"$f":"IF(ISNUMBER(SEARCH(\"9\",#REF!)),\"1\",\"0\")","v":"0"},{"$f":"IF(ISNUMBER(SEARCH(\"9\",#REF!)),\"1\",\"0\")","v":"0"},{"$f":"IF(ISNUMBER(SEARCH(\"10\",#REF!)),\"1\",\"0\")","v":"0"},{"$f":"IF(ISNUMBER(SEARCH(\"11\",#REF!)),\"1\",\"0\")","v":"0"},{"$f":"IF(ISNUMBER(SEARCH(\"12\",#REF!)),\"1\",\"0\")","v":"0"},{"$f":"IF(ISNUMBER(SEARCH(\"13\",#REF!)),\"1\",\"0\")","v":"0"},{"$f":"IF(ISNUMBER(SEARCH(\"14\",#REF!)),\"1\",\"0\")","v":"0"},{"$f":"IF(ISNUMBER(SEARCH(\"15\",#REF!)),\"1\",\"0\")","v":"0"},{"$f":"IF(ISNUMBER(SEARCH(\"16\",#REF!)),\"1\",\"0\")","v":"0"},{"$f":"IF(ISNUMBER(SEARCH(\"17\",#REF!)),\"1\",\"0\")","v":"0"}]
[2,22,4,"BIDA",2,34,null,2,8,1,8,5,2,3,{"$f":"IF(ISNUMBER(SEARCH(\"1\",$N67)),\"1\",\"0\")","v":"0"},{"$f":"IF(ISNUMBER(SEARCH(\"2\",$N67)),\"1\",\"0\")","v":"0"},{"$f":"IF(ISNUMBER(SEARCH(\"3\",$N67)),\"1\",\"0\")","v":"1"},{"$f":"IF(ISNUMBER(SEARCH(\"4\",$N67)),\"1\",\"0\")","v":"0"},{"$f":"IF(ISNUMBER(SEARCH(\"5\",$N67)),\"1\",\"0\")","v":"0"},{"$f":"IF(ISNUMBER(SEARCH(\"6\",$N67)),\"1\",\"0\")","v":"0"},{"$f":"IF(ISNUMBER(SEARCH(\"7\",$N67)),\"1\",\"0\")","v":"0"},{"$f":"IF(ISNUMBER(SEARCH(\"8\",$N67)),\"1\",\"0\")","v":"0"},{"$f":"IF(ISNUMBER(SEARCH(\"9\",$N67)),\"1\",\"0\")","v":"0"},{"$f":"IF(ISNUMBER(SEARCH(\"10\",$N67)),\"1\",\"0\")","v":"0"},{"$f":"IF(ISNUMBER(SEARCH(\"11\",$N67)),\"1\",\"0\")","v":"0"},{"$f":"IF(ISNUMBER(SEARCH(\"12\",$N67)),\"1\",\"0\")","v":"0"},{"$f":"IF(ISNUMBER(SEARCH(\"13\",$N67)),\"1\",\"0\")","v":"0"},{"$f":"IF(ISNUMBER(SEARCH(\"14\",$N67)),\"1\",\"0\")","v":"0"},{"$f":"IF(ISNUMBER(SEARCH(\"15\",$N67)),\"1\",\"0\")","v":"0"},{"$f":"IF(ISNUMBER(SEARCH(\"16\",$N67)),\"1\",\"0\")","v":"0"},{"$f":"IF(ISNUMBER(SEARCH(\"17\",$N67)),\"1\",\"0\")","v":"0"},{"$f":"IF(ISNUMBER(SEARCH(\"18\",$N67)),\"1\",\"0\")","v":"0"},null,null,3,5,2,{"$f":"IF(ISNUMBER(SEARCH(\"1\",#REF!)),\"1\",\"0\")","v":"0"},{"$f":"IF(ISNUMBER(SEARCH(\"2\",#REF!)),\"1\",\"0\")","v":"0"},{"$f":"IF(ISNUMBER(SEARCH(\"3\",#REF!)),\"1\",\"0\")","v":"0"},{"$f":"IF(ISNUMBER(SEARCH(\"4\",#REF!)),\"1\",\"0\")","v":"0"},{"$f":"IF(ISNUMBER(SEARCH(\"5\",#REF!)),\"1\",\"0\")","v":"0"},{"$f":"IF(ISNUMBER(SEARCH(\"6\",#REF!)),\"1\",\"0\")","v":"0"},{"$f":"IF(ISNUMBER(SEARCH(\"7\",#REF!)),\"1\",\"0\")","v":"0"},{"$f":"IF(ISNUMBER(SEARCH(\"8\",#REF!)),\"1\",\"0\")","v":"0"},{"$f":"IF(ISNUMBER(SEARCH(\"9\",#REF!)),\"1\",\"0\")","v":"0"},{"$f":"IF(ISNUMBER(SEARCH(\"9\",#REF!)),\"1\",\"0\")","v":"0"},{"$f":"IF(ISNUMBER(SEARCH(\"10\",#REF!)),\"1\",\"0\")","v":"0"},{"$f":"IF(ISNUMBER(SEARCH(\"11\",#REF!)),\"1\",\"0\")","v":"0"},{"$f":"IF(ISNUMBER(SEARCH(\"12\",#REF!)),\"1\",\"0\")","v":"0"},{"$f":"IF(ISNUMBER(SEARCH(\"13\",#REF!)),\"1\",\"0\")","v":"0"},{"$f":"IF(ISNUMBER(SEARCH(\"14\",#REF!)),\"1\",\"0\")","v":"0"},{"$f":"IF(ISNUMBER(SEARCH(\"15\",#REF!)),\"1\",\"0\")","v":"0"},{"$f":"IF(ISNUMBER(SEARCH(\"16\",#REF!)),\"1\",\"0\")","v":"0"},{"$f":"IF(ISNUMBER(SEARCH(\"17\",#REF!)),\"1\",\"0\")","v":"0"},2,3]
[2,22,4,"BIDA",2,39,null,1,3,1,6,5,6,"16. Autre (SVP dans la case suivante) ","1","0","0","0","0","1","0","0","0","0","0","0","0","0","0","1","0","0",null,null,1,null,null,{"$f":"IF(ISNUMBER(SEARCH(\"1\",#REF!)),\"1\",\"0\")","v":"0"},{"$f":"IF(ISNUMBER(SEARCH(\"2\",#REF!)),\"1\",\"0\")","v":"0"},{"$f":"IF(ISNUMBER(SEARCH(\"3\",#REF!)),\"1\",\"0\")","v":"0"},{"$f":"IF(ISNUMBER(SEARCH(\"4\",#REF!)),\"1\",\"0\")","v":"0"},{"$f":"IF(ISNUMBER(SEARCH(\"5\",#REF!)),\"1\",\"0\")","v":"0"},{"$f":"IF(ISNUMBER(SEARCH(\"6\",#REF!)),\"1\",\"0\")","v":"0"},{"$f":"IF(ISNUMBER(SEARCH(\"7\",#REF!)),\"1\",\"0\")","v":"0"},{"$f":"IF(ISNUMBER(SEARCH(\"8\",#REF!)),\"1\",\"0\")","v":"0"},{"$f":"IF(ISNUMBER(SEARCH(\"9\",#REF!)),\"1\",\"0\")","v":"0"},{"$f":"IF(ISNUMBER(SEARCH(\"9\",#REF!)),\"1\",\"0\")","v":"0"},{"$f":"IF(ISNUMBER(SEARCH(\"10\",#REF!)),\"1\",\"0\")","v":"0"},{"$f":"IF(ISNUMBER(SEARCH(\"11\",#REF!)),\"1\",\"0\")","v":"0"},{"$f":"IF(ISNUMBER(SEARCH(\"12\",#REF!)),\"1\",\"0\")","v":"0"},{"$f":"IF(ISNUMBER(SEARCH(\"13\",#REF!)),\"1\",\"0\")","v":"0"},{"$f":"IF(ISNUMBER(SEARCH(\"14\",#REF!)),\"1\",\"0\")","v":"0"},{"$f":"IF(ISNUMBER(SEARCH(\"15\",#REF!)),\"1\",\"0\")","v":"0"},{"$f":"IF(ISNUMBER(SEARCH(\"16\",#REF!)),\"1\",\"0\")","v":"0"},{"$f":"IF(ISNUMBER(SEARCH(\"17\",#REF!)),\"1\",\"0\")","v":"0"}]
[2,22,4,"BIDA",2,null,null,2,3,2,2,5,2,3,"0","0","1","0","0","0","0","0","0","0","0","0","0","0","0","0","0","0",null,null,3,5,1,{"$f":"IF(ISNUMBER(SEARCH(\"1\",#REF!)),\"1\",\"0\")","v":"0"},{"$f":"IF(ISNUMBER(SEARCH(\"2\",#REF!)),\"1\",\"0\")","v":"0"},{"$f":"IF(ISNUMBER(SEARCH(\"3\",#REF!)),\"1\",\"0\")","v":"0"},{"$f":"IF(ISNUMBER(SEARCH(\"4\",#REF!)),\"1\",\"0\")","v":"0"},{"$f":"IF(ISNUMBER(SEARCH(\"5\",#REF!)),\"1\",\"0\")","v":"0"},{"$f":"IF(ISNUMBER(SEARCH(\"6\",#REF!)),\"1\",\"0\")","v":"0"},{"$f":"IF(ISNUMBER(SEARCH(\"7\",#REF!)),\"1\",\"0\")","v":"0"},{"$f":"IF(ISNUMBER(SEARCH(\"8\",#REF!)),\"1\",\"0\")","v":"0"},{"$f":"IF(ISNUMBER(SEARCH(\"9\",#REF!)),\"1\",\"0\")","v":"0"},{"$f":"IF(ISNUMBER(SEARCH(\"9\",#REF!)),\"1\",\"0\")","v":"0"},{"$f":"IF(ISNUMBER(SEARCH(\"10\",#REF!)),\"1\",\"0\")","v":"0"},{"$f":"IF(ISNUMBER(SEARCH(\"11\",#REF!)),\"1\",\"0\")","v":"0"},{"$f":"IF(ISNUMBER(SEARCH(\"12\",#REF!)),\"1\",\"0\")","v":"0"},{"$f":"IF(ISNUMBER(SEARCH(\"13\",#REF!)),\"1\",\"0\")","v":"0"},{"$f":"IF(ISNUMBER(SEARCH(\"14\",#REF!)),\"1\",\"0\")","v":"0"},{"$f":"IF(ISNUMBER(SEARCH(\"15\",#REF!)),\"1\",\"0\")","v":"0"},{"$f":"IF(ISNUMBER(SEARCH(\"16\",#REF!)),\"1\",\"0\")","v":"0"},{"$f":"IF(ISNUMBER(SEARCH(\"17\",#REF!)),\"1\",\"0\")","v":"0"},2,2]
[2,22,4,"BIDA",null,17,null,null,2,1,0,3,1,3,"0","0","1","0","0","0","0","0","0","0","0","0","0","0","0","0","0","0",null,null,1,3,1,{"$f":"IF(ISNUMBER(SEARCH(\"1\",#REF!)),\"1\",\"0\")","v":"0"},{"$f":"IF(ISNUMBER(SEARCH(\"2\",#REF!)),\"1\",\"0\")","v":"0"},{"$f":"IF(ISNUMBER(SEARCH(\"3\",#REF!)),\"1\",\"0\")","v":"0"},{"$f":"IF(ISNUMBER(SEARCH(\"4\",#REF!)),\"1\",\"0\")","v":"0"},{"$f":"IF(ISNUMBER(SEARCH(\"5\",#REF!)),\"1\",\"0\")","v":"0"},{"$f":"IF(ISNUMBER(SEARCH(\"6\",#REF!)),\"1\",\"0\")","v":"0"},{"$f":"IF(ISNUMBER(SEARCH(\"7\",#REF!)),\"1\",\"0\")","v":"0"},{"$f":"IF(ISNUMBER(SEARCH(\"8\",#REF!)),\"1\",\"0\")","v":"0"},{"$f":"IF(ISNUMBER(SEARCH(\"9\",#REF!)),\"1\",\"0\")","v":"0"},{"$f":"IF(ISNUMBER(SEARCH(\"9\",#REF!)),\"1\",\"0\")","v":"0"},{"$f":"IF(ISNUMBER(SEARCH(\"10\",#REF!)),\"1\",\"0\")","v":"0"},{"$f":"IF(ISNUMBER(SEARCH(\"11\",#REF!)),\"1\",\"0\")","v":"0"},{"$f":"IF(ISNUMBER(SEARCH(\"12\",#REF!)),\"1\",\"0\")","v":"0"},{"$f":"IF(ISNUMBER(SEARCH(\"13\",#REF!)),\"1\",\"0\")","v":"0"},{"$f":"IF(ISNUMBER(SEARCH(\"14\",#REF!)),\"1\",\"0\")","v":"0"},{"$f":"IF(ISNUMBER(SEARCH(\"15\",#REF!)),\"1\",\"0\")","v":"0"},{"$f":"IF(ISNUMBER(SEARCH(\"16\",#REF!)),\"1\",\"0\")","v":"0"},{"$f":"IF(ISNUMBER(SEARCH(\"17\",#REF!)),\"1\",\"0\")","v":"0"},1]
[2,22,4,"MIK",2,27,null,1,3,1,1,3,1,3,"0","0","1","0","0","0","0","0","0","0","0","0","0","0","0","0","0","0",null,null,3,5,1,{"$f":"IF(ISNUMBER(SEARCH(\"1\",#REF!)),\"1\",\"0\")","v":"0"},{"$f":"IF(ISNUMBER(SEARCH(\"2\",#REF!)),\"1\",\"0\")","v":"0"},{"$f":"IF(ISNUMBER(SEARCH(\"3\",#REF!)),\"1\",\"0\")","v":"0"},{"$f":"IF(ISNUMBER(SEARCH(\"4\",#REF!)),\"1\",\"0\")","v":"0"},{"$f":"IF(ISNUMBER(SEARCH(\"5\",#REF!)),\"1\",\"0\")","v":"0"},{"$f":"IF(ISNUMBER(SEARCH(\"6\",#REF!)),\"1\",\"0\")","v":"0"},{"$f":"IF(ISNUMBER(SEARCH(\"7\",#REF!)),\"1\",\"0\")","v":"0"},{"$f":"IF(ISNUMBER(SEARCH(\"8\",#REF!)),\"1\",\"0\")","v":"0"},{"$f":"IF(ISNUMBER(SEARCH(\"9\",#REF!)),\"1\",\"0\")","v":"0"},{"$f":"IF(ISNUMBER(SEARCH(\"9\",#REF!)),\"1\",\"0\")","v":"0"},{"$f":"IF(ISNUMBER(SEARCH(\"10\",#REF!)),\"1\",\"0\")","v":"0"},{"$f":"IF(ISNUMBER(SEARCH(\"11\",#REF!)),\"1\",\"0\")","v":"0"},{"$f":"IF(ISNUMBER(SEARCH(\"12\",#REF!)),\"1\",\"0\")","v":"0"},{"$f":"IF(ISNUMBER(SEARCH(\"13\",#REF!)),\"1\",\"0\")","v":"0"},{"$f":"IF(ISNUMBER(SEARCH(\"14\",#REF!)),\"1\",\"0\")","v":"0"},{"$f":"IF(ISNUMBER(SEARCH(\"15\",#REF!)),\"1\",\"0\")","v":"0"},{"$f":"IF(ISNUMBER(SEARCH(\"16\",#REF!)),\"1\",\"0\")","v":"0"},{"$f":"IF(ISNUMBER(SEARCH(\"17\",#REF!)),\"1\",\"0\")","v":"0"},1,{"$nulls":3},22,22,32,{"$f":"BH71+BI71+BJ71","v":76},{"$nulls":10},{"$f":"#REF!-#REF!","v":{"$error":"#REF!"}}]
[2,22,4,"MIK",2,19,null,1,3,1,null,5,7,1,"1","0","0","0","0","0","0","0","0","0","0","0","0","0","0","0","0","0",null,null,1,2,null,{"$f":"IF(ISNUMBER(SEARCH(\"1\",#REF!)),\"1\",\"0\")","v":"0"},{"$f":"IF(ISNUMBER(SEARCH(\"2\",#REF!)),\"1\",\"0\")","v":"0"},{"$f":"IF(ISNUMBER(SEARCH(\"3\",#REF!)),\"1\",\"0\")","v":"0"},{"$f":"IF(ISNUMBER(SEARCH(\"4\",#REF!)),\"1\",\"0\")","v":"0"},{"$f":"IF(ISNUMBER(SEARCH(\"5\",#REF!)),\"1\",\"0\")","v":"0"},{"$f":"IF(ISNUMBER(SEARCH(\"6\",#REF!)),\"1\",\"0\")","v":"0"},{"$f":"IF(ISNUMBER(SEARCH(\"7\",#REF!)),\"1\",\"0\")","v":"0"},{"$f":"IF(ISNUMBER(SEARCH(\"8\",#REF!)),\"1\",\"0\")","v":"0"},{"$f":"IF(ISNUMBER(SEARCH(\"9\",#REF!)),\"1\",\"0\")","v":"0"},{"$f":"IF(ISNUMBER(SEARCH(\"9\",#REF!)),\"1\",\"0\")","v":"0"},{"$f":"IF(ISNUMBER(SEARCH(\"10\",#REF!)),\"1\",\"0\")","v":"0"},{"$f":"IF(ISNUMBER(SEARCH(\"11\",#REF!)),\"1\",\"0\")","v":"0"},{"$f":"IF(ISNUMBER(SEARCH(\"12\",#REF!)),\"1\",\"0\")","v":"0"},{"$f":"IF(ISNUMBER(SEARCH(\"13\",#REF!)),\"1\",\"0\")","v":"0"},{"$f":"IF(ISNUMBER(SEARCH(\"14\",#REF!)),\"1\",\"0\")","v":"0"},{"$f":"IF(ISNUMBER(SEARCH(\"15\",#REF!)),\"1\",\"0\")","v":"0"},{"$f":"IF(ISNUMBER(SEARCH(\"16\",#REF!)),\"1\",\"0\")","v":"0"},{"$f":"IF(ISNUMBER(SEARCH(\"17\",#REF!)),\"1\",\"0\")","v":"0"}]
[2,22,4,"BCA",1,42,null,4,3,1,null,1,5,1,"1","0","0","0","0","0","0","0","0","0","0","0","0","0","0","0","0","0",null,null,1,5,1,{"$f":"IF(ISNUMBER(SEARCH(\"1\",#REF!)),\"1\",\"0\")","v":"0"},{"$f":"IF(ISNUMBER(SEARCH(\"2\",#REF!)),\"1\",\"0\")","v":"0"},{"$f":"IF(ISNUMBER(SEARCH(\"3\",#REF!)),\"1\",\"0\")","v":"0"},{"$f":"IF(ISNUMBER(SEARCH(\"4\",#REF!)),\"1\",\"0\")","v":"0"},{"$f":"IF(ISNUMBER(SEARCH(\"5\",#REF!)),\"1\",\"0\")","v":"0"},{"$f":"IF(ISNUMBER(SEARCH(\"6\",#REF!)),\"1\",\"0\")","v":"0"},{"$f":"IF(ISNUMBER(SEARCH(\"7\",#REF!)),\"1\",\"0\")","v":"0"},{"$f":"IF(ISNUMBER(SEARCH(\"8\",#REF!)),\"1\",\"0\")","v":"0"},{"$f":"IF(ISNUMBER(SEARCH(\"9\",#REF!)),\"1\",\"0\")","v":"0"},{"$f":"IF(ISNUMBER(SEARCH(\"9\",#REF!)),\"1\",\"0\")","v":"0"},{"$f":"IF(ISNUMBER(SEARCH(\"10\",#REF!)),\"1\",\"0\")","v":"0"},{"$f":"IF(ISNUMBER(SEARCH(\"11\",#REF!)),\"1\",\"0\")","v":"0"},{"$f":"IF(ISNUMBER(SEARCH(\"12\",#REF!)),\"1\",\"0\")","v":"0"},{"$f":"IF(ISNUMBER(SEARCH(\"13\",#REF!)),\"1\",\"0\")","v":"0"},{"$f":"IF(ISNUMBER(SEARCH(\"14\",#REF!)),\"1\",\"0\")","v":"0"},{"$f":"IF(ISNUMBER(SEARCH(\"15\",#REF!)),\"1\",\"0\")","v":"0"},{"$f":"IF(ISNUMBER(SEARCH(\"16\",#REF!)),\"1\",\"0\")","v":"0"},{"$f":"IF(ISNUMBER(SEARCH(\"17\",#REF!)),\"1\",\"0\")","v":"0"}]
[2,22,4,"BCA",2,20,null,2,3,1,2,5,6,3,"0","0","1","0","0","0","0","0","0","0","0","0","0","0","0","0","0","0",null,null,3,5,2,{"$f":"IF(ISNUMBER(SEARCH(\"1\",#REF!)),\"1\",\"0\")","v":"0"},{"$f":"IF(ISNUMBER(SEARCH(\"2\",#REF!)),\"1\",\"0\")","v":"0"},{"$f":"IF(ISNUMBER(SEARCH(\"3\",#REF!)),\"1\",\"0\")","v":"0"},{"$f":"IF(ISNUMBER(SEARCH(\"4\",#REF!)),\"1\",\"0\")","v":"0"},{"$f":"IF(ISNUMBER(SEARCH(\"5\",#REF!)),\"1\",\"0\")","v":"0"},{"$f":"IF(ISNUMBER(SEARCH(\"6\",#REF!)),\"1\",\"0\")","v":"0"},{"$f":"IF(ISNUMBER(SEARCH(\"7\",#REF!)),\"1\",\"0\")","v":"0"},{"$f":"IF(ISNUMBER(SEARCH(\"8\",#REF!)),\"1\",\"0\")","v":"0"},{"$f":"IF(ISNUMBER(SEARCH(\"9\",#REF!)),\"1\",\"0\")","v":"0"},{"$f":"IF(ISNUMBER(SEARCH(\"9\",#REF!)),\"1\",\"0\")","v":"0"},{"$f":"IF(ISNUMBER(SEARCH(\"10\",#REF!)),\"1\",\"0\")","v":"0"},{"$f":"IF(ISNUMBER(SEARCH(\"11\",#REF!)),\"1\",\"0\")","v":"0"},{"$f":"IF(ISNUMBER(SEARCH(\"12\",#REF!)),\"1\",\"0\")","v":"0"},{"$f":"IF(ISNUMBER(SEARCH(\"13\",#REF!)),\"1\",\"0\")","v":"0"},{"$f":"IF(ISNUMBER(SEARCH(\"14\",#REF!)),\"1\",\"0\")","v":"0"},{"$f":"IF(ISNUMBER(SEARCH(\"15\",#REF!)),\"1\",\"0\")","v":"0"},{"$f":"IF(ISNUMBER(SEARCH(\"16\",#REF!)),\"1\",\"0\")","v":"0"},{"$f":"IF(ISNUMBER(SEARCH(\"17\",#REF!)),\"1\",\"0\")","v":"0"},1]
[2,22,4,"BCA",2,22,null,1,3,2,1,3,6,3,"0","0","1","0","0","0","0","0","0","0","0","0","0","0","0","0","0","0",null,null,4,5,null,{"$f":"IF(ISNUMBER(SEARCH(\"1\",#REF!)),\"1\",\"0\")","v":"0"},{"$f":"IF(ISNUMBER(SEARCH(\"2\",#REF!)),\"1\",\"0\")","v":"0"},{"$f":"IF(ISNUMBER(SEARCH(\"3\",#REF!)),\"1\",\"0\")","v":"0"},{"$f":"IF(ISNUMBER(SEARCH(\"4\",#REF!)),\"1\",\"0\")","v":"0"},{"$f":"IF(ISNUMBER(SEARCH(\"5\",#REF!)),\"1\",\"0\")","v":"0"},{"$f":"IF(ISNUMBER(SEARCH(\"6\",#REF!)),\"1\",\"0\")","v":"0"},{"$f":"IF(ISNUMBER(SEARCH(\"7\",#REF!)),\"1\",\"0\")","v":"0"},{"$f":"IF(ISNUMBER(SEARCH(\"8\",#REF!)),\"1\",\"0\")","v":"0"},{"$f":"IF(ISNUMBER(SEARCH(\"9\",#REF!)),\"1\",\"0\")","v":"0"},{"$f":"IF(ISNUMBER(SEARCH(\"9\",#REF!)),\"1\",\"0\")","v":"0"},{"$f":"IF(ISNUMBER(SEARCH(\"10\",#REF!)),\"1\",\"0\")","v":"0"},{"$f":"IF(ISNUMBER(SEARCH(\"11\",#REF!)),\"1\",\"0\")","v":"0"},{"$f":"IF(ISNUMBER(SEARCH(\"12\",#REF!)),\"1\",\"0\")","v":"0"},{"$f":"IF(ISNUMBER(SEARCH(\"13\",#REF!)),\"1\",\"0\")","v":"0"},{"$f":"IF(ISNUMBER(SEARCH(\"14\",#REF!)),\"1\",\"0\")","v":"0"},{"$f":"IF(ISNUMBER(SEARCH(\"15\",#REF!)),\"1\",\"0\")","v":"0"},{"$f":"IF(ISNUMBER(SEARCH(\"16\",#REF!)),\"1\",\"0\")","v":"0"},{"$f":"IF(ISNUMBER(SEARCH(\"17\",#REF!)),\"1\",\"0\")","v":"0"},1]
[2,22,4,"BCA",2,26,null,1,3,2,3,2,4,3,"0","0","1","0","0","0","0","0","0","0","0","0","0","0","0","0","0","0",null,null,3,4,1,{"$f":"IF(ISNUMBER(SEARCH(\"1\",#REF!)),\"1\",\"0\")","v":"0"},{"$f":"IF(ISNUMBER(SEARCH(\"2\",#REF!)),\"1\",\"0\")","v":"0"},{"$f":"IF(ISNUMBER(SEARCH(\"3\",#REF!)),\"1\",\"0\")","v":"0"},{"$f":"IF(ISNUMBER(SEARCH(\"4\",#REF!)),\"1\",\"0\")","v":"0"},{"$f":"IF(ISNUMBER(SEARCH(\"5\",#REF!)),\"1\",\"0\")","v":"0"},{"$f":"IF(ISNUMBER(SEARCH(\"6\",#REF!)),\"1\",\"0\")","v":"0"},{"$f":"IF(ISNUMBER(SEARCH(\"7\",#REF!)),\"1\",\"0\")","v":"0"},{"$f":"IF(ISNUMBER(SEARCH(\"8\",#REF!)),\"1\",\"0\")","v":"0"},{"$f":"IF(ISNUMBER(SEARCH(\"9\",#REF!)),\"1\",\"0\")","v":"0"},{"$f":"IF(ISNUMBER(SEARCH(\"9\",#REF!)),\"1\",\"0\")","v":"0"},{"$f":"IF(ISNUMBER(SEARCH(\"10\",#REF!)),\"1\",\"0\")","v":"0"},{"$f":"IF(ISNUMBER(SEARCH(\"11\",#REF!)),\"1\",\"0\")","v":"0"},{"$f":"IF(ISNUMBER(SEARCH(\"12\",#REF!)),\"1\",\"0\")","v":"0"},{"$f":"IF(ISNUMBER(SEARCH(\"13\",#REF!)),\"1\",\"0\")","v":"0"},{"$f":"IF(ISNUMBER(SEARCH(\"14\",#REF!)),\"1\",\"0\")","v":"0"},{"$f":"IF(ISNUMBER(SEARCH(\"15\",#REF!)),\"1\",\"0\")","v":"0"},{"$f":"IF(ISNUMBER(SEARCH(\"16\",#REF!)),\"1\",\"0\")","v":"0"},{"$f":"IF(ISNUMBER(SEARCH(\"17\",#REF!)),\"1\",\"0\")","v":"0"},1]
[2,22,4,"MIK",2,31,null,2,3,1,null,1,1,1,"1","0","0","0","0","0","0","0","0","0","0","0","0","0","0","0","0","0",null,null,1,4,null,{"$f":"IF(ISNUMBER(SEARCH(\"1\",#REF!)),\"1\",\"0\")","v":"0"},{"$f":"IF(ISNUMBER(SEARCH(\"2\",#REF!)),\"1\",\"0\")","v":"0"},{"$f":"IF(ISNUMBER(SEARCH(\"3\",#REF!)),\"1\",\"0\")","v":"0"},{"$f":"IF(ISNUMBER(SEARCH(\"4\",#REF!)),\"1\",\"0\")","v":"0"},{"$f":"IF(ISNUMBER(SEARCH(\"5\",#REF!)),\"1\",\"0\")","v":"0"},{"$f":"IF(ISNUMBER(SEARCH(\"6\",#REF!)),\"1\",\"0\")","v":"0"},{"$f":"IF(ISNUMBER(SEARCH(\"7\",#REF!)),\"1\",\"0\")","v":"0"},{"$f":"IF(ISNUMBER(SEARCH(\"8\",#REF!)),\"1\",\"0\")","v":"0"},{"$f":"IF(ISNUMBER(SEARCH(\"9\",#REF!)),\"1\",\"0\")","v":"0"},{"$f":"IF(ISNUMBER(SEARCH(\"9\",#REF!)),\"1\",\"0\")","v":"0"},{"$f":"IF(ISNUMBER(SEARCH(\"10\",#REF!)),\"1\",\"0\")","v":"0"},{"$f":"IF(ISNUMBER(SEARCH(\"11\",#REF!)),\"1\",\"0\")","v":"0"},{"$f":"IF(ISNUMBER(SEARCH(\"12\",#REF!)),\"1\",\"0\")","v":"0"},{"$f":"IF(ISNUMBER(SEARCH(\"13\",#REF!)),\"1\",\"0\")","v":"0"},{"$f":"IF(ISNUMBER(SEARCH(\"14\",#REF!)),\"1\",\"0\")","v":"0"},{"$f":"IF(ISNUMBER(SEARCH(\"15\",#REF!)),\"1\",\"0\")","v":"0"},{"$f":"IF(ISNUMBER(SEARCH(\"16\",#REF!)),\"1\",\"0\")","v":"0"},{"$f":"IF(ISNUMBER(SEARCH(\"17\",#REF!)),\"1\",\"0\")","v":"0"},{"$nulls":4},30,20,30,80,{"$nulls":10},{"$f":"#REF!-#REF!","v":{"$error":"#REF!"}}]
[2,22,4,"MIK",1,23,null,null,3,1,null,1,5,2,"0","1","0","0","0","0","0","0","0","0","0","0","0","0","0","0","0","0",null,null,1,2,2,{"$f":"IF(ISNUMBER(SEARCH(\"1\",#REF!)),\"1\",\"0\")","v":"0"},{"$f":"IF(ISNUMBER(SEARCH(\"2\",#REF!)),\"1\",\"0\")","v":"0"},{"$f":"IF(ISNUMBER(SEARCH(\"3\",#REF!)),\"1\",\"0\")","v":"0"},{"$f":"IF(ISNUMBER(SEARCH(\"4\",#REF!)),\"1\",\"0\")","v":"0"},{"$f":"IF(ISNUMBER(SEARCH(\"5\",#REF!)),\"1\",\"0\")","v":"0"},{"$f":"IF(ISNUMBER(SEARCH(\"6\",#REF!)),\"1\",\"0\")","v":"0"},{"$f":"IF(ISNUMBER(SEARCH(\"7\",#REF!)),\"1\",\"0\")","v":"0"},{"$f":"IF(ISNUMBER(SEARCH(\"8\",#REF!)),\"1\",\"0\")","v":"0"},{"$f":"IF(ISNUMBER(SEARCH(\"9\",#REF!)),\"1\",\"0\")","v":"0"},{"$f":"IF(ISNUMBER(SEARCH(\"9\",#REF!)),\"1\",\"0\")","v":"0"},{"$f":"IF(ISNUMBER(SEARCH(\"10\",#REF!)),\"1\",\"0\")","v":"0"},{"$f":"IF(ISNUMBER(SEARCH(\"11\",#REF!)),\"1\",\"0\")","v":"0"},{"$f":"IF(ISNUMBER(SEARCH(\"12\",#REF!)),\"1\",\"0\")","v":"0"},{"$f":"IF(ISNUMBER(SEARCH(\"13\",#REF!)),\"1\",\"0\")","v":"0"},{"$f":"IF(ISNUMBER(SEARCH(\"14\",#REF!)),\"1\",\"0\")","v":"0"},{"$f":"IF(ISNUMBER(SEARCH(\"15\",#REF!)),\"1\",\"0\")","v":"0"},{"$f":"IF(ISNUMBER(SEARCH(\"16\",#REF!)),\"1\",\"0\")","v":"0"},{"$f":"IF(ISNUMBER(SEARCH(\"17\",#REF!)),\"1\",\"0\")","v":"0"},{"$nulls":4},30,24,30,84,{"$nulls":10},{"$f":"#REF!-#REF!","v":{"$error":"#REF!"}}]
[2,22,12,"MN",2,40,null,2,7,1,7,5,2,14,"1","0","0","1","0","0","0","0","0","0","0","0","0","1","0","0","0","0",null,null,2,5,2,{"$f":"IF(ISNUMBER(SEARCH(\"1\",#REF!)),\"1\",\"0\")","v":"0"},{"$f":"IF(ISNUMBER(SEARCH(\"2\",#REF!)),\"1\",\"0\")","v":"0"},{"$f":"IF(ISNUMBER(SEARCH(\"3\",#REF!)),\"1\",\"0\")","v":"0"},{"$f":"IF(ISNUMBER(SEARCH(\"4\",#REF!)),\"1\",\"0\")","v":"0"},{"$f":"IF(ISNUMBER(SEARCH(\"5\",#REF!)),\"1\",\"0\")","v":"0"},{"$f":"IF(ISNUMBER(SEARCH(\"6\",#REF!)),\"1\",\"0\")","v":"0"},{"$f":"IF(ISNUMBER(SEARCH(\"7\",#REF!)),\"1\",\"0\")","v":"0"},{"$f":"IF(ISNUMBER(SEARCH(\"8\",#REF!)),\"1\",\"0\")","v":"0"},{"$f":"IF(ISNUMBER(SEARCH(\"9\",#REF!)),\"1\",\"0\")","v":"0"},{"$f":"IF(ISNUMBER(SEARCH(\"9\",#REF!)),\"1\",\"0\")","v":"0"},{"$f":"IF(ISNUMBER(SEARCH(\"10\",#REF!)),\"1\",\"0\")","v":"0"},{"$f":"IF(ISNUMBER(SEARCH(\"11\",#REF!)),\"1\",\"0\")","v":"0"},{"$f":"IF(ISNUMBER(SEARCH(\"12\",#REF!)),\"1\",\"0\")","v":"0"},{"$f":"IF(ISNUMBER(SEARCH(\"13\",#REF!)),\"1\",\"0\")","v":"0"},{"$f":"IF(ISNUMBER(SEARCH(\"14\",#REF!)),\"1\",\"0\")","v":"0"},{"$f":"IF(ISNUMBER(SEARCH(\"15\",#REF!)),\"1\",\"0\")","v":"0"},{"$f":"IF(ISNUMBER(SEARCH(\"16\",#REF!)),\"1\",\"0\")","v":"0"},{"$f":"IF(ISNUMBER(SEARCH(\"17\",#REF!)),\"1\",\"0\")","v":"0"},{"$nulls":4},10,12,12,34,9,null,0,0,2,{"$f":"BN79+BO79+BP79","v":2},null,14,5,null,{"$f":"#REF!-#REF!","v":{"$error":"#REF!"}},{"$f":"#REF!-#REF!","v":{"$error":"#REF!"}}]
[2,22,12,"MN",2,23,null,1,3,2,3,11,5,10,"1","0","0","0","0","0","0","0","0","1","0","0","0","0","0","0","0","0",null,null,1,5,2,{"$f":"IF(ISNUMBER(SEARCH(\"1\",#REF!)),\"1\",\"0\")","v":"0"},{"$f":"IF(ISNUMBER(SEARCH(\"2\",#REF!)),\"1\",\"0\")","v":"0"},{"$f":"IF(ISNUMBER(SEARCH(\"3\",#REF!)),\"1\",\"0\")","v":"0"},{"$f":"IF(ISNUMBER(SEARCH(\"4\",#REF!)),\"1\",\"0\")","v":"0"},{"$f":"IF(ISNUMBER(SEARCH(\"5\",#REF!)),\"1\",\"0\")","v":"0"},{"$f":"IF(ISNUMBER(SEARCH(\"6\",#REF!)),\"1\",\"0\")","v":"0"},{"$f":"IF(ISNUMBER(SEARCH(\"7\",#REF!)),\"1\",\"0\")","v":"0"},{"$f":"IF(ISNUMBER(SEARCH(\"8\",#REF!)),\"1\",\"0\")","v":"0"},{"$f":"IF(ISNUMBER(SEARCH(\"9\",#REF!)),\"1\",\"0\")","v":"0"},{"$f":"IF(ISNUMBER(SEARCH(\"9\",#REF!)),\"1\",\"0\")","v":"0"},{"$f":"IF(ISNUMBER(SEARCH(\"10\",#REF!)),\"1\",\"0\")","v":"0"},{"$f":"IF(ISNUMBER(SEARCH(\"11\",#REF!)),\"1\",\"0\")","v":"0"},{"$f":"IF(ISNUMBER(SEARCH(\"12\",#REF!)),\"1\",\"0\")","v":"0"},{"$f":"IF(ISNUMBER(SEARCH(\"13\",#REF!)),\"1\",\"0\")","v":"0"},{"$f":"IF(ISNUMBER(SEARCH(\"14\",#REF!)),\"1\",\"0\")","v":"0"},{"$f":"IF(ISNUMBER(SEARCH(\"15\",#REF!)),\"1\",\"0\")","v":"0"},{"$f":"IF(ISNUMBER(SEARCH(\"16\",#REF!)),\"1\",\"0\")","v":"0"},{"$f":"IF(ISNUMBER(SEARCH(\"17\",#REF!)),\"1\",\"0\")","v":"0"},5,{"$nulls":3},18,8,8,34,10,{"$nulls":9},{"$f":"#REF!-#REF!","v":{"$error":"#REF!"}},{"$f":"#REF!-#REF!","v":{"$error":"#REF!"}}]
[2,22,12,"MN",2,50,null,1,7,1,5,11,6,3,"0","0","1","0","0","0","0","0","0","0","0","0","0","0","0","0","0","0",null,null,1,5,1,{"$f":"IF(ISNUMBER(SEARCH(\"1\",#REF!)),\"1\",\"0\")","v":"0"},{"$f":"IF(ISNUMBER(SEARCH(\"2\",#REF!)),\"1\",\"0\")","v":"0"},{"$f":"IF(ISNUMBER(SEARCH(\"3\",#REF!)),\"1\",\"0\")","v":"0"},{"$f":"IF(ISNUMBER(SEARCH(\"4\",#REF!)),\"1\",\"0\")","v":"0"},{"$f":"IF(ISNUMBER(SEARCH(\"5\",#REF!)),\"1\",\"0\")","v":"0"},{"$f":"IF(ISNUMBER(SEARCH(\"6\",#REF!)),\"1\",\"0\")","v":"0"},{"$f":"IF(ISNUMBER(SEARCH(\"7\",#REF!)),\"1\",\"0\")","v":"0"},{"$f":"IF(ISNUMBER(SEARCH(\"8\",#REF!)),\"1\",\"0\")","v":"0"},{"$f":"IF(ISNUMBER(SEARCH(\"9\",#REF!)),\"1\",\"0\")","v":"0"},{"$f":"IF(ISNUMBER(SEARCH(\"9\",#REF!)),\"1\",\"0\")","v":"0"},{"$f":"IF(ISNUMBER(SEARCH(\"10\",#REF!)),\"1\",\"0\")","v":"0"},{"$f":"IF(ISNUMBER(SEARCH(\"11\",#REF!)),\"1\",\"0\")","v":"0"},{"$f":"IF(ISNUMBER(SEARCH(\"12\",#REF!)),\"1\",\"0\")","v":"0"},{"$f":"IF(ISNUMBER(SEARCH(\"13\",#REF!)),\"1\",\"0\")","v":"0"},{"$f":"IF(ISNUMBER(SEARCH(\"14\",#REF!)),\"1\",\"0\")","v":"0"},{"$f":"IF(ISNUMBER(SEARCH(\"15\",#REF!)),\"1\",\"0\")","v":"0"},{"$f":"IF(ISNUMBER(SEARCH(\"16\",#REF!)),\"1\",\"0\")","v":"0"},{"$f":"IF(ISNUMBER(SEARCH(\"17\",#REF!)),\"1\",\"0\")","v":"0"},5,{"$nulls":3},24,28,30,82,8,null,2,0,2,4,null,14,4,null,{"$f":"#REF!-#REF!","v":{"$error":"#REF!"}},{"$f":"#REF!-#REF!","v":{"$error":"#REF!"}}]
[2,22,12,"MN",1,16,null,2,8,1,0,11,1,3,"0","0","1","0","0","0","0","0","0","0","0","0","0","0","0","0","0","0",null,null,1,5,1,{"$f":"IF(ISNUMBER(SEARCH(\"1\",#REF!)),\"1\",\"0\")","v":"0"},{"$f":"IF(ISNUMBER(SEARCH(\"2\",#REF!)),\"1\",\"0\")","v":"0"},{"$f":"IF(ISNUMBER(SEARCH(\"3\",#REF!)),\"1\",\"0\")","v":"0"},{"$f":"IF(ISNUMBER(SEARCH(\"4\",#REF!)),\"1\",\"0\")","v":"0"},{"$f":"IF(ISNUMBER(SEARCH(\"5\",#REF!)),\"1\",\"0\")","v":"0"},{"$f":"IF(ISNUMBER(SEARCH(\"6\",#REF!)),\"1\",\"0\")","v":"0"},{"$f":"IF(ISNUMBER(SEARCH(\"7\",#REF!)),\"1\",\"0\")","v":"0"},{"$f":"IF(ISNUMBER(SEARCH(\"8\",#REF!)),\"1\",\"0\")","v":"0"},{"$f":"IF(ISNUMBER(SEARCH(\"9\",#REF!)),\"1\",\"0\")","v":"0"},{"$f":"IF(ISNUMBER(SEARCH(\"9\",#REF!)),\"1\",\"0\")","v":"0"},{"$f":"IF(ISNUMBER(SEARCH(\"10\",#REF!)),\"1\",\"0\")","v":"0"},{"$f":"IF(ISNUMBER(SEARCH(\"11\",#REF!)),\"1\",\"0\")","v":"0"},{"$f":"IF(ISNUMBER(SEARCH(\"12\",#REF!)),\"1\",\"0\")","v":"0"},{"$f":"IF(ISNUMBER(SEARCH(\"13\",#REF!)),\"1\",\"0\")","v":"0"},{"$f":"IF(ISNUMBER(SEARCH(\"14\",#REF!)),\"1\",\"0\")","v":"0"},{"$f":"IF(ISNUMBER(SEARCH(\"15\",#REF!)),\"1\",\"0\")","v":"0"},{"$f":"IF(ISNUMBER(SEARCH(\"16\",#REF!)),\"1\",\"0\")","v":"0"},{"$f":"IF(ISNUMBER(SEARCH(\"17\",#REF!)),\"1\",\"0\")","v":"0"},5,{"$nulls":3},30,30,20,80,8,null,4,0,2,6,null,14,5,null,{"$f":"#REF!-#REF!","v":{"$error":"#REF!"}},{"$f":"#REF!-#REF!","v":{"$error":"#REF!"}}]
[2,22,12,"CBM",1,22,null,3,7,2,2,5,2,"9. Kidnapping/  Enlèvement/ Otage (SANS violence sexuelle)","0","0","0","0","0","0","0","0","1","0","0","0","0","0","0","0","0","0",null,null,2,5,2,{"$f":"IF(ISNUMBER(SEARCH(\"1\",#REF!)),\"1\",\"0\")","v":"0"},{"$f":"IF(ISNUMBER(SEARCH(\"2\",#REF!)),\"1\",\"0\")","v":"0"},{"$f":"IF(ISNUMBER(SEARCH(\"3\",#REF!)),\"1\",\"0\")","v":"0"},{"$f":"IF(ISNUMBER(SEARCH(\"4\",#REF!)),\"1\",\"0\")","v":"0"},{"$f":"IF(ISNUMBER(SEARCH(\"5\",#REF!)),\"1\",\"0\")","v":"0"},{"$f":"IF(ISNUMBER(SEARCH(\"6\",#REF!)),\"1\",\"0\")","v":"0"},{"$f":"IF(ISNUMBER(SEARCH(\"7\",#REF!)),\"1\",\"0\")","v":"0"},{"$f":"IF(ISNUMBER(SEARCH(\"8\",#REF!)),\"1\",\"0\")","v":"0"},{"$f":"IF(ISNUMBER(SEARCH(\"9\",#REF!)),\"1\",\"0\")","v":"0"},{"$f":"IF(ISNUMBER(SEARCH(\"9\",#REF!)),\"1\",\"0\")","v":"0"},{"$f":"IF(ISNUMBER(SEARCH(\"10\",#REF!)),\"1\",\"0\")","v":"0"},{"$f":"IF(ISNUMBER(SEARCH(\"11\",#REF!)),\"1\",\"0\")","v":"0"},{"$f":"IF(ISNUMBER(SEARCH(\"12\",#REF!)),\"1\",\"0\")","v":"0"},{"$f":"IF(ISNUMBER(SEARCH(\"13\",#REF!)),\"1\",\"0\")","v":"0"},{"$f":"IF(ISNUMBER(SEARCH(\"14\",#REF!)),\"1\",\"0\")","v":"0"},{"$f":"IF(ISNUMBER(SEARCH(\"15\",#REF!)),\"1\",\"0\")","v":"0"},{"$f":"IF(ISNUMBER(SEARCH(\"16\",#REF!)),\"1\",\"0\")","v":"0"},{"$f":"IF(ISNUMBER(SEARCH(\"17\",#REF!)),\"1\",\"0\")","v":"0"},{"$nulls":4},28,20,32,80,5,{"$nulls":6},14,5,null,{"$f":"#REF!-#REF!","v":{"$error":"#REF!"}},{"$f":"#REF!-#REF!","v":{"$error":"#REF!"}}]
[2,22,12,"MN",2,15,null,2,8,1,0,11,1,3,"0","0","1","0","0","0","0","0","0","0","0","0","0","0","0","0","0","0",null,null,2,5,2,{"$f":"IF(ISNUMBER(SEARCH(\"1\",#REF!)),\"1\",\"0\")","v":"0"},{"$f":"IF(ISNUMBER(SEARCH(\"2\",#REF!)),\"1\",\"0\")","v":"0"},{"$f":"IF(ISNUMBER(SEARCH(\"3\",#REF!)),\"1\",\"0\")","v":"0"},{"$f":"IF(ISNUMBER(SEARCH(\"4\",#REF!)),\"1\",\"0\")","v":"0"},{"$f":"IF(ISNUMBER(SEARCH(\"5\",#REF!)),\"1\",\"0\")","v":"0"},{"$f":"IF(ISNUMBER(SEARCH(\"6\",#REF!)),\"1\",\"0\")","v":"0"},{"$f":"IF(ISNUMBER(SEARCH(\"7\",#REF!)),\"1\",\"0\")","v":"0"},{"$f":"IF(ISNUMBER(SEARCH(\"8\",#REF!)),\"1\",\"0\")","v":"0"},{"$f":"IF(ISNUMBER(SEARCH(\"9\",#REF!)),\"1\",\"0\")","v":"0"},{"$f":"IF(ISNUMBER(SEARCH(\"9\",#REF!)),\"1\",\"0\")","v":"0"},{"$f":"IF(ISNUMBER(SEARCH(\"10\",#REF!)),\"1\",\"0\")","v":"0"},{"$f":"IF(ISNUMBER(SEARCH(\"11\",#REF!)),\"1\",\"0\")","v":"0"},{"$f":"IF(ISNUMBER(SEARCH(\"12\",#REF!)),\"1\",\"0\")","v":"0"},{"$f":"IF(ISNUMBER(SEARCH(\"13\",#REF!)),\"1\",\"0\")","v":"0"},{"$f":"IF(ISNUMBER(SEARCH(\"14\",#REF!)),\"1\",\"0\")","v":"0"},{"$f":"IF(ISNUMBER(SEARCH(\"15\",#REF!)),\"1\",\"0\")","v":"0"},{"$f":"IF(ISNUMBER(SEARCH(\"16\",#REF!)),\"1\",\"0\")","v":"0"},{"$f":"IF(ISNUMBER(SEARCH(\"17\",#REF!)),\"1\",\"0\")","v":"0"},3,{"$nulls":3},32,32,32,96,4,{"$nulls":6},14,5,null,{"$f":"#REF!-#REF!","v":{"$error":"#REF!"}},{"$f":"#REF!-#REF!","v":{"$error":"#REF!"}}]
[2,22,12,"MN",2,41,null,1,3,1,9,5,6,10,"1","0","0","0","0","0","0","0","0","1","0","0","0","0","0","0","0","0",null,null,1,5,1,{"$f":"IF(ISNUMBER(SEARCH(\"1\",#REF!)),\"1\",\"0\")","v":"0"},{"$f":"IF(ISNUMBER(SEARCH(\"2\",#REF!)),\"1\",\"0\")","v":"0"},{"$f":"IF(ISNUMBER(SEARCH(\"3\",#REF!)),\"1\",\"0\")","v":"0"},{"$f":"IF(ISNUMBER(SEARCH(\"4\",#REF!)),\"1\",\"0\")","v":"0"},{"$f":"IF(ISNUMBER(SEARCH(\"5\",#REF!)),\"1\",\"0\")","v":"0"},{"$f":"IF(ISNUMBER(SEARCH(\"6\",#REF!)),\"1\",\"0\")","v":"0"},{"$f":"IF(ISNUMBER(SEARCH(\"7\",#REF!)),\"1\",\"0\")","v":"0"},{"$f":"IF(ISNUMBER(SEARCH(\"8\",#REF!)),\"1\",\"0\")","v":"0"},{"$f":"IF(ISNUMBER(SEARCH(\"9\",#REF!)),\"1\",\"0\")","v":"0"},{"$f":"IF(ISNUMBER(SEARCH(\"9\",#REF!)),\"1\",\"0\")","v":"0"},{"$f":"IF(ISNUMBER(SEARCH(\"10\",#REF!)),\"1\",\"0\")","v":"0"},{"$f":"IF(ISNUMBER(SEARCH(\"11\",#REF!)),\"1\",\"0\")","v":"0"},{"$f":"IF(ISNUMBER(SEARCH(\"12\",#REF!)),\"1\",\"0\")","v":"0"},{"$f":"IF(ISNUMBER(SEARCH(\"13\",#REF!)),\"1\",\"0\")","v":"0"},{"$f":"IF(ISNUMBER(SEARCH(\"14\",#REF!)),\"1\",\"0\")","v":"0"},{"$f":"IF(ISNUMBER(SEARCH(\"15\",#REF!)),\"1\",\"0\")","v":"0"},{"$f":"IF(ISNUMBER(SEARCH(\"16\",#REF!)),\"1\",\"0\")","v":"0"},{"$f":"IF(ISNUMBER(SEARCH(\"17\",#REF!)),\"1\",\"0\")","v":"0"},5,{"$nulls":3},18,18,10,46,9,null,2,2,0,4,null,14,4,null,{"$f":"#REF!-#REF!","v":{"$error":"#REF!"}},{"$f":"#REF!-#REF!","v":{"$error":"#REF!"}}]
[2,22,12,"MN",2,35,null,1,8,1,5,5,6,10,"1","0","0","0","0","0","0","0","0","1","0","0","0","0","0","0","0","0",null,null,2,5,2,{"$f":"IF(ISNUMBER(SEARCH(\"1\",#REF!)),\"1\",\"0\")","v":"0"},{"$f":"IF(ISNUMBER(SEARCH(\"2\",#REF!)),\"1\",\"0\")","v":"0"},{"$f":"IF(ISNUMBER(SEARCH(\"3\",#REF!)),\"1\",\"0\")","v":"0"},{"$f":"IF(ISNUMBER(SEARCH(\"4\",#REF!)),\"1\",\"0\")","v":"0"},{"$f":"IF(ISNUMBER(SEARCH(\"5\",#REF!)),\"1\",\"0\")","v":"0"},{"$f":"IF(ISNUMBER(SEARCH(\"6\",#REF!)),\"1\",\"0\")","v":"0"},{"$f":"IF(ISNUMBER(SEARCH(\"7\",#REF!)),\"1\",\"0\")","v":"0"},{"$f":"IF(ISNUMBER(SEARCH(\"8\",#REF!)),\"1\",\"0\")","v":"0"},{"$f":"IF(ISNUMBER(SEARCH(\"9\",#REF!)),\"1\",\"0\")","v":"0"},{"$f":"IF(ISNUMBER(SEARCH(\"9\",#REF!)),\"1\",\"0\")","v":"0"},{"$f":"IF(ISNUMBER(SEARCH(\"10\",#REF!)),\"1\",\"0\")","v":"0"},{"$f":"IF(ISNUMBER(SEARCH(\"11\",#REF!)),\"1\",\"0\")","v":"0"},{"$f":"IF(ISNUMBER(SEARCH(\"12\",#REF!)),\"1\",\"0\")","v":"0"},{"$f":"IF(ISNUMBER(SEARCH(\"13\",#REF!)),\"1\",\"0\")","v":"0"},{"$f":"IF(ISNUMBER(SEARCH(\"14\",#REF!)),\"1\",\"0\")","v":"0"},{"$f":"IF(ISNUMBER(SEARCH(\"15\",#REF!)),\"1\",\"0\")","v":"0"},{"$f":"IF(ISNUMBER(SEARCH(\"16\",#REF!)),\"1\",\"0\")","v":"0"},{"$f":"IF(ISNUMBER(SEARCH(\"17\",#REF!)),\"1\",\"0\")","v":"0"},2,{"$nulls":3},16,16,14,46,8,null,6,0,6,12,null,14,4,null,{"$f":"#REF!-#REF!","v":{"$error":"#REF!"}},{"$f":"#REF!-#REF!","v":{"$error":"#REF!"}}]
[2,22,12,"MN",1,42,null,1,3,1,5,5,null,14,"1","0","0","1","0","0","0","0","0","0","0","0","0","1","0","0","0","0",null,null,2,5,2,{"$f":"IF(ISNUMBER(SEARCH(\"1\",#REF!)),\"1\",\"0\")","v":"0"},{"$f":"IF(ISNUMBER(SEARCH(\"2\",#REF!)),\"1\",\"0\")","v":"0"},{"$f":"IF(ISNUMBER(SEARCH(\"3\",#REF!)),\"1\",\"0\")","v":"0"},{"$f":"IF(ISNUMBER(SEARCH(\"4\",#REF!)),\"1\",\"0\")","v":"0"},{"$f":"IF(ISNUMBER(SEARCH(\"5\",#REF!)),\"1\",\"0\")","v":"0"},{"$f":"IF(ISNUMBER(SEARCH(\"6\",#REF!)),\"1\",\"0\")","v":"0"},{"$f":"IF(ISNUMBER(SEARCH(\"7\",#REF!)),\"1\",\"0\")","v":"0"},{"$f":"IF(ISNUMBER(SEARCH(\"8\",#REF!)),\"1\",\"0\")","v":"0"},{"$f":"IF(ISNUMBER(SEARCH(\"9\",#REF!)),\"1\",\"0\")","v":"0"},{"$f":"IF(ISNUMBER(SEARCH(\"9\",#REF!)),\"1\",\"0\")","v":"0"},{"$f":"IF(ISNUMBER(SEARCH(\"10\",#REF!)),\"1\",\"0\")","v":"0"},{"$f":"IF(ISNUMBER(SEARCH(\"11\",#REF!)),\"1\",\"0\")","v":"0"},{"$f":"IF(ISNUMBER(SEARCH(\"12\",#REF!)),\"1\",\"0\")","v":"0"},{"$f":"IF(ISNUMBER(SEARCH(\"13\",#REF!)),\"1\",\"0\")","v":"0"},{"$f":"IF(ISNUMBER(SEARCH(\"14\",#REF!)),\"1\",\"0\")","v":"0"},{"$f":"IF(ISNUMBER(SEARCH(\"15\",#REF!)),\"1\",\"0\")","v":"0"},{"$f":"IF(ISNUMBER(SEARCH(\"16\",#REF!)),\"1\",\"0\")","v":"0"},{"$f":"IF(ISNUMBER(SEARCH(\"17\",#REF!)),\"1\",\"0\")","v":"0"},{"$nulls":4},8,12,10,30,8,null,2,0,2,4,null,14,4,null,{"$f":"#REF!-#REF!","v":{"$error":"#REF!"}},{"$f":"#REF!-#REF!","v":{"$error":"#REF!"}}]
[2,22,12,"CBM",2,34,null,1,8,2,7,5,2,3,"0","0","1","0","0","0","0","0","0","0","0","0","0","0","0","0","0","0",null,null,2,5,2,{"$f":"IF(ISNUMBER(SEARCH(\"1\",#REF!)),\"1\",\"0\")","v":"0"},{"$f":"IF(ISNUMBER(SEARCH(\"2\",#REF!)),\"1\",\"0\")","v":"0"},{"$f":"IF(ISNUMBER(SEARCH(\"3\",#REF!)),\"1\",\"0\")","v":"0"},{"$f":"IF(ISNUMBER(SEARCH(\"4\",#REF!)),\"1\",\"0\")","v":"0"},{"$f":"IF(ISNUMBER(SEARCH(\"5\",#REF!)),\"1\",\"0\")","v":"0"},{"$f":"IF(ISNUMBER(SEARCH(\"6\",#REF!)),\"1\",\"0\")","v":"0"},{"$f":"IF(ISNUMBER(SEARCH(\"7\",#REF!)),\"1\",\"0\")","v":"0"},{"$f":"IF(ISNUMBER(SEARCH(\"8\",#REF!)),\"1\",\"0\")","v":"0"},{"$f":"IF(ISNUMBER(SEARCH(\"9\",#REF!)),\"1\",\"0\")","v":"0"},{"$f":"IF(ISNUMBER(SEARCH(\"9\",#REF!)),\"1\",\"0\")","v":"0"},{"$f":"IF(ISNUMBER(SEARCH(\"10\",#REF!)),\"1\",\"0\")","v":"0"},{"$f":"IF(ISNUMBER(SEARCH(\"11\",#REF!)),\"1\",\"0\")","v":"0"},{"$f":"IF(ISNUMBER(SEARCH(\"12\",#REF!)),\"1\",\"0\")","v":"0"},{"$f":"IF(ISNUMBER(SEARCH(\"13\",#REF!)),\"1\",\"0\")","v":"0"},{"$f":"IF(ISNUMBER(SEARCH(\"14\",#REF!)),\"1\",\"0\")","v":"0"},{"$f":"IF(ISNUMBER(SEARCH(\"15\",#REF!)),\"1\",\"0\")","v":"0"},{"$f":"IF(ISNUMBER(SEARCH(\"16\",#REF!)),\"1\",\"0\")","v":"0"},{"$f":"IF(ISNUMBER(SEARCH(\"17\",#REF!)),\"1\",\"0\")","v":"0"},2,1,null,null,26,22,26,74,4,{"$nulls":6},14,5,null,{"$f":"#REF!-#REF!","v":{"$error":"#REF!"}},{"$f":"#REF!-#REF!","v":{"$error":"#REF!"}}]
[2,22,12,"MN",1,35,null,2,7,1,6,3,2,14,"1","0","0","1","0","0","0","0","0","0","0","0","0","1","0","0","0","0",null,null,2,4,2,{"$f":"IF(ISNUMBER(SEARCH(\"1\",#REF!)),\"1\",\"0\")","v":"0"},{"$f":"IF(ISNUMBER(SEARCH(\"2\",#REF!)),\"1\",\"0\")","v":"0"},{"$f":"IF(ISNUMBER(SEARCH(\"3\",#REF!)),\"1\",\"0\")","v":"0"},{"$f":"IF(ISNUMBER(SEARCH(\"4\",#REF!)),\"1\",\"0\")","v":"0"},{"$f":"IF(ISNUMBER(SEARCH(\"5\",#REF!)),\"1\",\"0\")","v":"0"},{"$f":"IF(ISNUMBER(SEARCH(\"6\",#REF!)),\"1\",\"0\")","v":"0"},{"$f":"IF(ISNUMBER(SEARCH(\"7\",#REF!)),\"1\",\"0\")","v":"0"},{"$f":"IF(ISNUMBER(SEARCH(\"8\",#REF!)),\"1\",\"0\")","v":"0"},{"$f":"IF(ISNUMBER(SEARCH(\"9\",#REF!)),\"1\",\"0\")","v":"0"},{"$f":"IF(ISNUMBER(SEARCH(\"9\",#REF!)),\"1\",\"0\")","v":"0"},{"$f":"IF(ISNUMBER(SEARCH(\"10\",#REF!)),\"1\",\"0\")","v":"0"},{"$f":"IF(ISNUMBER(SEARCH(\"11\",#REF!)),\"1\",\"0\")","v":"0"},{"$f":"IF(ISNUMBER(SEARCH(\"12\",#REF!)),\"1\",\"0\")","v":"0"},{"$f":"IF(ISNUMBER(SEARCH(\"13\",#REF!)),\"1\",\"0\")","v":"0"},{"$f":"IF(ISNUMBER(SEARCH(\"14\",#REF!)),\"1\",\"0\")","v":"0"},{"$f":"IF(ISNUMBER(SEARCH(\"15\",#REF!)),\"1\",\"0\")","v":"0"},{"$f":"IF(ISNUMBER(SEARCH(\"16\",#REF!)),\"1\",\"0\")","v":"0"},{"$f":"IF(ISNUMBER(SEARCH(\"17\",#REF!)),\"1\",\"0\")","v":"0"},{"$nulls":4},8,22,8,38,6,{"$nulls":9},{"$f":"#REF!-#REF!","v":{"$error":"#REF!"}}]
[2,22,12,"CBM",1,30,null,1,8,2,6,5,5,1,"1","0","0","0","0","0","0","0","0","0","0","0","0","0","0","0","0","0",null,null,1,2,1,{"$f":"IF(ISNUMBER(SEARCH(\"1\",#REF!)),\"1\",\"0\")","v":"0"},{"$f":"IF(ISNUMBER(SEARCH(\"2\",#REF!)),\"1\",\"0\")","v":"0"},{"$f":"IF(ISNUMBER(SEARCH(\"3\",#REF!)),\"1\",\"0\")","v":"0"},{"$f":"IF(ISNUMBER(SEARCH(\"4\",#REF!)),\"1\",\"0\")","v":"0"},{"$f":"IF(ISNUMBER(SEARCH(\"5\",#REF!)),\"1\",\"0\")","v":"0"},{"$f":"IF(ISNUMBER(SEARCH(\"6\",#REF!)),\"1\",\"0\")","v":"0"},{"$f":"IF(ISNUMBER(SEARCH(\"7\",#REF!)),\"1\",\"0\")","v":"0"},{"$f":"IF(ISNUMBER(SEARCH(\"8\",#REF!)),\"1\",\"0\")","v":"0"},{"$f":"IF(ISNUMBER(SEARCH(\"9\",#REF!)),\"1\",\"0\")","v":"0"},{"$f":"IF(ISNUMBER(SEARCH(\"9\",#REF!)),\"1\",\"0\")","v":"0"},{"$f":"IF(ISNUMBER(SEARCH(\"10\",#REF!)),\"1\",\"0\")","v":"0"},{"$f":"IF(ISNUMBER(SEARCH(\"11\",#REF!)),\"1\",\"0\")","v":"0"},{"$f":"IF(ISNUMBER(SEARCH(\"12\",#REF!)),\"1\",\"0\")","v":"0"},{"$f":"IF(ISNUMBER(SEARCH(\"13\",#REF!)),\"1\",\"0\")","v":"0"},{"$f":"IF(ISNUMBER(SEARCH(\"14\",#REF!)),\"1\",\"0\")","v":"0"},{"$f":"IF(ISNUMBER(SEARCH(\"15\",#REF!)),\"1\",\"0\")","v":"0"},{"$f":"IF(ISNUMBER(SEARCH(\"16\",#REF!)),\"1\",\"0\")","v":"0"},{"$f":"IF(ISNUMBER(SEARCH(\"17\",#REF!)),\"1\",\"0\")","v":"0"},{"$nulls":4},26,14,22,62,8,{"$nulls":6},14,5,null,{"$f":"#REF!-#REF!","v":{"$error":"#REF!"}},{"$f":"#REF!-#REF!","v":{"$error":"#REF!"}}]
[2,22,12,"NTC",1,40,null,1,3,1,8,5,2,"9. Kidnapping/  Enlèvement/ Otage (SANS violence sexuelle)","0","0","0","0","0","0","0","0","1","0","0","0","0","0","0","0","0","0",null,null,2,5,2,{"$f":"IF(ISNUMBER(SEARCH(\"1\",#REF!)),\"1\",\"0\")","v":"0"},{"$f":"IF(ISNUMBER(SEARCH(\"2\",#REF!)),\"1\",\"0\")","v":"0"},{"$f":"IF(ISNUMBER(SEARCH(\"3\",#REF!)),\"1\",\"0\")","v":"0"},{"$f":"IF(ISNUMBER(SEARCH(\"4\",#REF!)),\"1\",\"0\")","v":"0"},{"$f":"IF(ISNUMBER(SEARCH(\"5\",#REF!)),\"1\",\"0\")","v":"0"},{"$f":"IF(ISNUMBER(SEARCH(\"6\",#REF!)),\"1\",\"0\")","v":"0"},{"$f":"IF(ISNUMBER(SEARCH(\"7\",#REF!)),\"1\",\"0\")","v":"0"},{"$f":"IF(ISNUMBER(SEARCH(\"8\",#REF!)),\"1\",\"0\")","v":"0"},{"$f":"IF(ISNUMBER(SEARCH(\"9\",#REF!)),\"1\",\"0\")","v":"0"},{"$f":"IF(ISNUMBER(SEARCH(\"9\",#REF!)),\"1\",\"0\")","v":"0"},{"$f":"IF(ISNUMBER(SEARCH(\"10\",#REF!)),\"1\",\"0\")","v":"0"},{"$f":"IF(ISNUMBER(SEARCH(\"11\",#REF!)),\"1\",\"0\")","v":"0"},{"$f":"IF(ISNUMBER(SEARCH(\"12\",#REF!)),\"1\",\"0\")","v":"0"},{"$f":"IF(ISNUMBER(SEARCH(\"13\",#REF!)),\"1\",\"0\")","v":"0"},{"$f":"IF(ISNUMBER(SEARCH(\"14\",#REF!)),\"1\",\"0\")","v":"0"},{"$f":"IF(ISNUMBER(SEARCH(\"15\",#REF!)),\"1\",\"0\")","v":"0"},{"$f":"IF(ISNUMBER(SEARCH(\"16\",#REF!)),\"1\",\"0\")","v":"0"},{"$f":"IF(ISNUMBER(SEARCH(\"17\",#REF!)),\"1\",\"0\")","v":"0"},{"$nulls":4},30,32,26,88,5,{"$nulls":6},14,5,null,{"$f":"#REF!-#REF!","v":{"$error":"#REF!"}},{"$f":"#REF!-#REF!","v":{"$error":"#REF!"}}]
[2,22,12,"NTC",2,45,null,2,8,1,9,5,2,2,"0","1","0","0","0","0","0","0","0","0","0","0","0","0","0","0","0","0",null,null,3,5,2,{"$f":"IF(ISNUMBER(SEARCH(\"1\",#REF!)),\"1\",\"0\")","v":"0"},{"$f":"IF(ISNUMBER(SEARCH(\"2\",#REF!)),\"1\",\"0\")","v":"0"},{"$f":"IF(ISNUMBER(SEARCH(\"3\",#REF!)),\"1\",\"0\")","v":"0"},{"$f":"IF(ISNUMBER(SEARCH(\"4\",#REF!)),\"1\",\"0\")","v":"0"},{"$f":"IF(ISNUMBER(SEARCH(\"5\",#REF!)),\"1\",\"0\")","v":"0"},{"$f":"IF(ISNUMBER(SEARCH(\"6\",#REF!)),\"1\",\"0\")","v":"0"},{"$f":"IF(ISNUMBER(SEARCH(\"7\",#REF!)),\"1\",\"0\")","v":"0"},{"$f":"IF(ISNUMBER(SEARCH(\"8\",#REF!)),\"1\",\"0\")","v":"0"},{"$f":"IF(ISNUMBER(SEARCH(\"9\",#REF!)),\"1\",\"0\")","v":"0"},{"$f":"IF(ISNUMBER(SEARCH(\"9\",#REF!)),\"1\",\"0\")","v":"0"},{"$f":"IF(ISNUMBER(SEARCH(\"10\",#REF!)),\"1\",\"0\")","v":"0"},{"$f":"IF(ISNUMBER(SEARCH(\"11\",#REF!)),\"1\",\"0\")","v":"0"},{"$f":"IF(ISNUMBER(SEARCH(\"12\",#REF!)),\"1\",\"0\")","v":"0"},{"$f":"IF(ISNUMBER(SEARCH(\"13\",#REF!)),\"1\",\"0\")","v":"0"},{"$f":"IF(ISNUMBER(SEARCH(\"14\",#REF!)),\"1\",\"0\")","v":"0"},{"$f":"IF(ISNUMBER(SEARCH(\"15\",#REF!)),\"1\",\"0\")","v":"0"},{"$f":"IF(ISNUMBER(SEARCH(\"16\",#REF!)),\"1\",\"0\")","v":"0"},{"$f":"IF(ISNUMBER(SEARCH(\"17\",#REF!)),\"1\",\"0\")","v":"0"},{"$nulls":4},34,34,22,90,null,null,2,2,0,4,null,null,4,null,{"$f":"#REF!-#REF!","v":{"$error":"#REF!"}},{"$f":"#REF!-#REF!","v":{"$error":"#REF!"}}]
[2,22,12,"NTC",1,40,null,1,8,1,null,5,5,3,"0","0","1","0","0","0","0","0","0","0","0","0","0","0","0","0","0","0",null,null,1,5,1,{"$f":"IF(ISNUMBER(SEARCH(\"1\",#REF!)),\"1\",\"0\")","v":"0"},{"$f":"IF(ISNUMBER(SEARCH(\"2\",#REF!)),\"1\",\"0\")","v":"0"},{"$f":"IF(ISNUMBER(SEARCH(\"3\",#REF!)),\"1\",\"0\")","v":"0"},{"$f":"IF(ISNUMBER(SEARCH(\"4\",#REF!)),\"1\",\"0\")","v":"0"},{"$f":"IF(ISNUMBER(SEARCH(\"5\",#REF!)),\"1\",\"0\")","v":"0"},{"$f":"IF(ISNUMBER(SEARCH(\"6\",#REF!)),\"1\",\"0\")","v":"0"},{"$f":"IF(ISNUMBER(SEARCH(\"7\",#REF!)),\"1\",\"0\")","v":"0"},{"$f":"IF(ISNUMBER(SEARCH(\"8\",#REF!)),\"1\",\"0\")","v":"0"},{"$f":"IF(ISNUMBER(SEARCH(\"9\",#REF!)),\"1\",\"0\")","v":"0"},{"$f":"IF(ISNUMBER(SEARCH(\"9\",#REF!)),\"1\",\"0\")","v":"0"},{"$f":"IF(ISNUMBER(SEARCH(\"10\",#REF!)),\"1\",\"0\")","v":"0"},{"$f":"IF(ISNUMBER(SEARCH(\"11\",#REF!)),\"1\",\"0\")","v":"0"},{"$f":"IF(ISNUMBER(SEARCH(\"12\",#REF!)),\"1\",\"0\")","v":"0"},{"$f":"IF(ISNUMBER(SEARCH(\"13\",#REF!)),\"1\",\"0\")","v":"0"},{"$f":"IF(ISNUMBER(SEARCH(\"14\",#REF!)),\"1\",\"0\")","v":"0"},{"$f":"IF(ISNUMBER(SEARCH(\"15\",#REF!)),\"1\",\"0\")","v":"0"},{"$f":"IF(ISNUMBER(SEARCH(\"16\",#REF!)),\"1\",\"0\")","v":"0"},{"$f":"IF(ISNUMBER(SEARCH(\"17\",#REF!)),\"1\",\"0\")","v":"0"},4,2,null,null,26,28,24,78,3,{"$nulls":6},14,5,null,{"$f":"#REF!-#REF!","v":{"$error":"#REF!"}},{"$f":"#REF!-#REF!","v":{"$error":"#REF!"}}]
[2,22,12,"MN",2,16,null,2,2,1,0,11,2,3,"0","0","1","0","0","0","0","0","0","0","0","0","0","0","0","0","0","0",null,null,2,5,1,{"$f":"IF(ISNUMBER(SEARCH(\"1\",#REF!)),\"1\",\"0\")","v":"0"},{"$f":"IF(ISNUMBER(SEARCH(\"2\",#REF!)),\"1\",\"0\")","v":"0"},{"$f":"IF(ISNUMBER(SEARCH(\"3\",#REF!)),\"1\",\"0\")","v":"0"},{"$f":"IF(ISNUMBER(SEARCH(\"4\",#REF!)),\"1\",\"0\")","v":"0"},{"$f":"IF(ISNUMBER(SEARCH(\"5\",#REF!)),\"1\",\"0\")","v":"0"},{"$f":"IF(ISNUMBER(SEARCH(\"6\",#REF!)),\"1\",\"0\")","v":"0"},{"$f":"IF(ISNUMBER(SEARCH(\"7\",#REF!)),\"1\",\"0\")","v":"0"},{"$f":"IF(ISNUMBER(SEARCH(\"8\",#REF!)),\"1\",\"0\")","v":"0"},{"$f":"IF(ISNUMBER(SEARCH(\"9\",#REF!)),\"1\",\"0\")","v":"0"},{"$f":"IF(ISNUMBER(SEARCH(\"9\",#REF!)),\"1\",\"0\")","v":"0"},{"$f":"IF(ISNUMBER(SEARCH(\"10\",#REF!)),\"1\",\"0\")","v":"0"},{"$f":"IF(ISNUMBER(SEARCH(\"11\",#REF!)),\"1\",\"0\")","v":"0"},{"$f":"IF(ISNUMBER(SEARCH(\"12\",#REF!)),\"1\",\"0\")","v":"0"},{"$f":"IF(ISNUMBER(SEARCH(\"13\",#REF!)),\"1\",\"0\")","v":"0"},{"$f":"IF(ISNUMBER(SEARCH(\"14\",#REF!)),\"1\",\"0\")","v":"0"},{"$f":"IF(ISNUMBER(SEARCH(\"15\",#REF!)),\"1\",\"0\")","v":"0"},{"$f":"IF(ISNUMBER(SEARCH(\"16\",#REF!)),\"1\",\"0\")","v":"0"},{"$f":"IF(ISNUMBER(SEARCH(\"17\",#REF!)),\"1\",\"0\")","v":"0"},5,{"$nulls":3},14,6,6,26,7,{"$nulls":6},14,5,null,{"$f":"#REF!-#REF!","v":{"$error":"#REF!"}},{"$f":"#REF!-#REF!","v":{"$error":"#REF!"}}]
[2,22,12,"MN",2,22,null,2,8,1,0,5,5,3,"0","0","1","0","0","0","0","0","0","0","0","0","0","0","0","0","0","0",null,null,3,5,2,{"$f":"IF(ISNUMBER(SEARCH(\"1\",#REF!)),\"1\",\"0\")","v":"0"},{"$f":"IF(ISNUMBER(SEARCH(\"2\",#REF!)),\"1\",\"0\")","v":"0"},{"$f":"IF(ISNUMBER(SEARCH(\"3\",#REF!)),\"1\",\"0\")","v":"0"},{"$f":"IF(ISNUMBER(SEARCH(\"4\",#REF!)),\"1\",\"0\")","v":"0"},{"$f":"IF(ISNUMBER(SEARCH(\"5\",#REF!)),\"1\",\"0\")","v":"0"},{"$f":"IF(ISNUMBER(SEARCH(\"6\",#REF!)),\"1\",\"0\")","v":"0"},{"$f":"IF(ISNUMBER(SEARCH(\"7\",#REF!)),\"1\",\"0\")","v":"0"},{"$f":"IF(ISNUMBER(SEARCH(\"8\",#REF!)),\"1\",\"0\")","v":"0"},{"$f":"IF(ISNUMBER(SEARCH(\"9\",#REF!)),\"1\",\"0\")","v":"0"},{"$f":"IF(ISNUMBER(SEARCH(\"9\",#REF!)),\"1\",\"0\")","v":"0"},{"$f":"IF(ISNUMBER(SEARCH(\"10\",#REF!)),\"1\",\"0\")","v":"0"},{"$f":"IF(ISNUMBER(SEARCH(\"11\",#REF!)),\"1\",\"0\")","v":"0"},{"$f":"IF(ISNUMBER(SEARCH(\"12\",#REF!)),\"1\",\"0\")","v":"0"},{"$f":"IF(ISNUMBER(SEARCH(\"13\",#REF!)),\"1\",\"0\")","v":"0"},{"$f":"IF(ISNUMBER(SEARCH(\"14\",#REF!)),\"1\",\"0\")","v":"0"},{"$f":"IF(ISNUMBER(SEARCH(\"15\",#REF!)),\"1\",\"0\")","v":"0"},{"$f":"IF(ISNUMBER(SEARCH(\"16\",#REF!)),\"1\",\"0\")","v":"0"},{"$f":"IF(ISNUMBER(SEARCH(\"17\",#REF!)),\"1\",\"0\")","v":"0"},5,{"$nulls":3},12,10,14,36,6,null,2,0,0,2,null,14,4,null,{"$f":"#REF!-#REF!","v":{"$error":"#REF!"}},{"$f":"#REF!-#REF!","v":{"$error":"#REF!"}}]
[2,22,12,"CBM",2,36,null,1,8,2,7,11,2,3,"0","0","1","0","0","0","0","0","0","0","0","0","0","0","0","0","0","0",null,null,2,5,2,{"$f":"IF(ISNUMBER(SEARCH(\"1\",#REF!)),\"1\",\"0\")","v":"0"},{"$f":"IF(ISNUMBER(SEARCH(\"2\",#REF!)),\"1\",\"0\")","v":"0"},{"$f":"IF(ISNUMBER(SEARCH(\"3\",#REF!)),\"1\",\"0\")","v":"0"},{"$f":"IF(ISNUMBER(SEARCH(\"4\",#REF!)),\"1\",\"0\")","v":"0"},{"$f":"IF(ISNUMBER(SEARCH(\"5\",#REF!)),\"1\",\"0\")","v":"0"},{"$f":"IF(ISNUMBER(SEARCH(\"6\",#REF!)),\"1\",\"0\")","v":"0"},{"$f":"IF(ISNUMBER(SEARCH(\"7\",#REF!)),\"1\",\"0\")","v":"0"},{"$f":"IF(ISNUMBER(SEARCH(\"8\",#REF!)),\"1\",\"0\")","v":"0"},{"$f":"IF(ISNUMBER(SEARCH(\"9\",#REF!)),\"1\",\"0\")","v":"0"},{"$f":"IF(ISNUMBER(SEARCH(\"9\",#REF!)),\"1\",\"0\")","v":"0"},{"$f":"IF(ISNUMBER(SEARCH(\"10\",#REF!)),\"1\",\"0\")","v":"0"},{"$f":"IF(ISNUMBER(SEARCH(\"11\",#REF!)),\"1\",\"0\")","v":"0"},{"$f":"IF(ISNUMBER(SEARCH(\"12\",#REF!)),\"1\",\"0\")","v":"0"},{"$f":"IF(ISNUMBER(SEARCH(\"13\",#REF!)),\"1\",\"0\")","v":"0"},{"$f":"IF(ISNUMBER(SEARCH(\"14\",#REF!)),\"1\",\"0\")","v":"0"},{"$f":"IF(ISNUMBER(SEARCH(\"15\",#REF!)),\"1\",\"0\")","v":"0"},{"$f":"IF(ISNUMBER(SEARCH(\"16\",#REF!)),\"1\",\"0\")","v":"0"},{"$f":"IF(ISNUMBER(SEARCH(\"17\",#REF!)),\"1\",\"0\")","v":"0"},5,{"$nulls":3},28,26,32,86,4,{"$nulls":6},14,5,null,{"$f":"#REF!-#REF!","v":{"$error":"#REF!"}},{"$f":"#REF!-#REF!","v":{"$error":"#REF!"}}]
[2,22,12,"NTC",2,30,null,1,8,2,null,5,6,3,"0","0","1","0","0","0","0","0","0","0","0","0","0","0","0","0","0","0",null,null,1,5,1,{"$f":"IF(ISNUMBER(SEARCH(\"1\",#REF!)),\"1\",\"0\")","v":"0"},{"$f":"IF(ISNUMBER(SEARCH(\"2\",#REF!)),\"1\",\"0\")","v":"0"},{"$f":"IF(ISNUMBER(SEARCH(\"3\",#REF!)),\"1\",\"0\")","v":"0"},{"$f":"IF(ISNUMBER(SEARCH(\"4\",#REF!)),\"1\",\"0\")","v":"0"},{"$f":"IF(ISNUMBER(SEARCH(\"5\",#REF!)),\"1\",\"0\")","v":"0"},{"$f":"IF(ISNUMBER(SEARCH(\"6\",#REF!)),\"1\",\"0\")","v":"0"},{"$f":"IF(ISNUMBER(SEARCH(\"7\",#REF!)),\"1\",\"0\")","v":"0"},{"$f":"IF(ISNUMBER(SEARCH(\"8\",#REF!)),\"1\",\"0\")","v":"0"},{"$f":"IF(ISNUMBER(SEARCH(\"9\",#REF!)),\"1\",\"0\")","v":"0"},{"$f":"IF(ISNUMBER(SEARCH(\"9\",#REF!)),\"1\",\"0\")","v":"0"},{"$f":"IF(ISNUMBER(SEARCH(\"10\",#REF!)),\"1\",\"0\")","v":"0"},{"$f":"IF(ISNUMBER(SEARCH(\"11\",#REF!)),\"1\",\"0\")","v":"0"},{"$f":"IF(ISNUMBER(SEARCH(\"12\",#REF!)),\"1\",\"0\")","v":"0"},{"$f":"IF(ISNUMBER(SEARCH(\"13\",#REF!)),\"1\",\"0\")","v":"0"},{"$f":"IF(ISNUMBER(SEARCH(\"14\",#REF!)),\"1\",\"0\")","v":"0"},{"$f":"IF(ISNUMBER(SEARCH(\"15\",#REF!)),\"1\",\"0\")","v":"0"},{"$f":"IF(ISNUMBER(SEARCH(\"16\",#REF!)),\"1\",\"0\")","v":"0"},{"$f":"IF(ISNUMBER(SEARCH(\"17\",#REF!)),\"1\",\"0\")","v":"0"},5,{"$nulls":3},38,32,26,96,4,null,4,4,0,8,null,14,4,null,{"$f":"#REF!-#REF!","v":{"$error":"#REF!"}},{"$f":"#REF!-#REF!","v":{"$error":"#REF!"}}]
[2,22,12,"NTC",2,30,null,1,8,2,6,5,5,10,"1","0","0","0","0","0","0","0","0","1","0","0","0","0","0","0","0","0",null,null,1,5,1,{"$f":"IF(ISNUMBER(SEARCH(\"1\",#REF!)),\"1\",\"0\")","v":"0"},{"$f":"IF(ISNUMBER(SEARCH(\"2\",#REF!)),\"1\",\"0\")","v":"0"},{"$f":"IF(ISNUMBER(SEARCH(\"3\",#REF!)),\"1\",\"0\")","v":"0"},{"$f":"IF(ISNUMBER(SEARCH(\"4\",#REF!)),\"1\",\"0\")","v":"0"},{"$f":"IF(ISNUMBER(SEARCH(\"5\",#REF!)),\"1\",\"0\")","v":"0"},{"$f":"IF(ISNUMBER(SEARCH(\"6\",#REF!)),\"1\",\"0\")","v":"0"},{"$f":"IF(ISNUMBER(SEARCH(\"7\",#REF!)),\"1\",\"0\")","v":"0"},{"$f":"IF(ISNUMBER(SEARCH(\"8\",#REF!)),\"1\",\"0\")","v":"0"},{"$f":"IF(ISNUMBER(SEARCH(\"9\",#REF!)),\"1\",\"0\")","v":"0"},{"$f":"IF(ISNUMBER(SEARCH(\"9\",#REF!)),\"1\",\"0\")","v":"0"},{"$f":"IF(ISNUMBER(SEARCH(\"10\",#REF!)),\"1\",\"0\")","v":"0"},{"$f":"IF(ISNUMBER(SEARCH(\"11\",#REF!)),\"1\",\"0\")","v":"0"},{"$f":"IF(ISNUMBER(SEARCH(\"12\",#REF!)),\"1\",\"0\")","v":"0"},{"$f":"IF(ISNUMBER(SEARCH(\"13\",#REF!)),\"1\",\"0\")","v":"0"},{"$f":"IF(ISNUMBER(SEARCH(\"14\",#REF!)),\"1\",\"0\")","v":"0"},{"$f":"IF(ISNUMBER(SEARCH(\"15\",#REF!)),\"1\",\"0\")","v":"0"},{"$f":"IF(ISNUMBER(SEARCH(\"16\",#REF!)),\"1\",\"0\")","v":"0"},{"$f":"IF(ISNUMBER(SEARCH(\"17\",#REF!)),\"1\",\"0\")","v":"0"},5,2,null,null,38,24,18,80,3,null,2,0,0,2,null,14,5,null,{"$f":"#REF!-#REF!","v":{"$error":"#REF!"}},{"$f":"#REF!-#REF!","v":{"$error":"#REF!"}}]
[2,22,12,"NTC",2,35,null,1,8,2,7,5,5,10,"1","0","0","0","0","0","0","0","0","1","0","0","0","0","0","0","0","0",null,null,3,5,1,{"$f":"IF(ISNUMBER(SEARCH(\"1\",#REF!)),\"1\",\"0\")","v":"0"},{"$f":"IF(ISNUMBER(SEARCH(\"2\",#REF!)),\"1\",\"0\")","v":"0"},{"$f":"IF(ISNUMBER(SEARCH(\"3\",#REF!)),\"1\",\"0\")","v":"0"},{"$f":"IF(ISNUMBER(SEARCH(\"4\",#REF!)),\"1\",\"0\")","v":"0"},{"$f":"IF(ISNUMBER(SEARCH(\"5\",#REF!)),\"1\",\"0\")","v":"0"},{"$f":"IF(ISNUMBER(SEARCH(\"6\",#REF!)),\"1\",\"0\")","v":"0"},{"$f":"IF(ISNUMBER(SEARCH(\"7\",#REF!)),\"1\",\"0\")","v":"0"},{"$f":"IF(ISNUMBER(SEARCH(\"8\",#REF!)),\"1\",\"0\")","v":"0"},{"$f":"IF(ISNUMBER(SEARCH(\"9\",#REF!)),\"1\",\"0\")","v":"0"},{"$f":"IF(ISNUMBER(SEARCH(\"9\",#REF!)),\"1\",\"0\")","v":"0"},{"$f":"IF(ISNUMBER(SEARCH(\"10\",#REF!)),\"1\",\"0\")","v":"0"},{"$f":"IF(ISNUMBER(SEARCH(\"11\",#REF!)),\"1\",\"0\")","v":"0"},{"$f":"IF(ISNUMBER(SEARCH(\"12\",#REF!)),\"1\",\"0\")","v":"0"},{"$f":"IF(ISNUMBER(SEARCH(\"13\",#REF!)),\"1\",\"0\")","v":"0"},{"$f":"IF(ISNUMBER(SEARCH(\"14\",#REF!)),\"1\",\"0\")","v":"0"},{"$f":"IF(ISNUMBER(SEARCH(\"15\",#REF!)),\"1\",\"0\")","v":"0"},{"$f":"IF(ISNUMBER(SEARCH(\"16\",#REF!)),\"1\",\"0\")","v":"0"},{"$f":"IF(ISNUMBER(SEARCH(\"17\",#REF!)),\"1\",\"0\")","v":"0"},4,{"$nulls":3},40,24,14,78,2,{"$nulls":6},14,4,null,{"$f":"#REF!-#REF!","v":{"$error":"#REF!"}},{"$f":"#REF!-#REF!","v":{"$error":"#REF!"}}]
[2,22,9,"NT",2,34,null,null,1,1,4,5,5,3,"0","0","1","0","0","0","0","0","0","0","0","0","0","0","0","0","0","0",null,null,3,5,2,{"$f":"IF(ISNUMBER(SEARCH(\"1\",#REF!)),\"1\",\"0\")","v":"0"},{"$f":"IF(ISNUMBER(SEARCH(\"2\",#REF!)),\"1\",\"0\")","v":"0"},{"$f":"IF(ISNUMBER(SEARCH(\"3\",#REF!)),\"1\",\"0\")","v":"0"},{"$f":"IF(ISNUMBER(SEARCH(\"4\",#REF!)),\"1\",\"0\")","v":"0"},{"$f":"IF(ISNUMBER(SEARCH(\"5\",#REF!)),\"1\",\"0\")","v":"0"},{"$f":"IF(ISNUMBER(SEARCH(\"6\",#REF!)),\"1\",\"0\")","v":"0"},{"$f":"IF(ISNUMBER(SEARCH(\"7\",#REF!)),\"1\",\"0\")","v":"0"},{"$f":"IF(ISNUMBER(SEARCH(\"8\",#REF!)),\"1\",\"0\")","v":"0"},{"$f":"IF(ISNUMBER(SEARCH(\"9\",#REF!)),\"1\",\"0\")","v":"0"},{"$f":"IF(ISNUMBER(SEARCH(\"9\",#REF!)),\"1\",\"0\")","v":"0"},{"$f":"IF(ISNUMBER(SEARCH(\"10\",#REF!)),\"1\",\"0\")","v":"0"},{"$f":"IF(ISNUMBER(SEARCH(\"11\",#REF!)),\"1\",\"0\")","v":"0"},{"$f":"IF(ISNUMBER(SEARCH(\"12\",#REF!)),\"1\",\"0\")","v":"0"},{"$f":"IF(ISNUMBER(SEARCH(\"13\",#REF!)),\"1\",\"0\")","v":"0"},{"$f":"IF(ISNUMBER(SEARCH(\"14\",#REF!)),\"1\",\"0\")","v":"0"},{"$f":"IF(ISNUMBER(SEARCH(\"15\",#REF!)),\"1\",\"0\")","v":"0"},{"$f":"IF(ISNUMBER(SEARCH(\"16\",#REF!)),\"1\",\"0\")","v":"0"},{"$f":"IF(ISNUMBER(SEARCH(\"17\",#REF!)),\"1\",\"0\")","v":"0"},5,1,null,null,8,10,8,26,5,null,10,4,4,18,null,null,5,null,{"$f":"#REF!-#REF!","v":{"$error":"#REF!"}},{"$f":"#REF!-#REF!","v":{"$error":"#REF!"}}]
[2,22,9,"NT",2,36,null,1,3,1,3,3,5,3,"0","0","1","0","0","0","0","0","0","0","0","0","0","0","0","0","0","0",null,null,1,3,2,{"$f":"IF(ISNUMBER(SEARCH(\"1\",#REF!)),\"1\",\"0\")","v":"0"},{"$f":"IF(ISNUMBER(SEARCH(\"2\",#REF!)),\"1\",\"0\")","v":"0"},{"$f":"IF(ISNUMBER(SEARCH(\"3\",#REF!)),\"1\",\"0\")","v":"0"},{"$f":"IF(ISNUMBER(SEARCH(\"4\",#REF!)),\"1\",\"0\")","v":"0"},{"$f":"IF(ISNUMBER(SEARCH(\"5\",#REF!)),\"1\",\"0\")","v":"0"},{"$f":"IF(ISNUMBER(SEARCH(\"6\",#REF!)),\"1\",\"0\")","v":"0"},{"$f":"IF(ISNUMBER(SEARCH(\"7\",#REF!)),\"1\",\"0\")","v":"0"},{"$f":"IF(ISNUMBER(SEARCH(\"8\",#REF!)),\"1\",\"0\")","v":"0"},{"$f":"IF(ISNUMBER(SEARCH(\"9\",#REF!)),\"1\",\"0\")","v":"0"},{"$f":"IF(ISNUMBER(SEARCH(\"9\",#REF!)),\"1\",\"0\")","v":"0"},{"$f":"IF(ISNUMBER(SEARCH(\"10\",#REF!)),\"1\",\"0\")","v":"0"},{"$f":"IF(ISNUMBER(SEARCH(\"11\",#REF!)),\"1\",\"0\")","v":"0"},{"$f":"IF(ISNUMBER(SEARCH(\"12\",#REF!)),\"1\",\"0\")","v":"0"},{"$f":"IF(ISNUMBER(SEARCH(\"13\",#REF!)),\"1\",\"0\")","v":"0"},{"$f":"IF(ISNUMBER(SEARCH(\"14\",#REF!)),\"1\",\"0\")","v":"0"},{"$f":"IF(ISNUMBER(SEARCH(\"15\",#REF!)),\"1\",\"0\")","v":"0"},{"$f":"IF(ISNUMBER(SEARCH(\"16\",#REF!)),\"1\",\"0\")","v":"0"},{"$f":"IF(ISNUMBER(SEARCH(\"17\",#REF!)),\"1\",\"0\")","v":"0"},1,2,null,null,8,8,18,34,6,null,6,6,10,22,null,12,5,null,{"$f":"#REF!-#REF!","v":{"$error":"#REF!"}},{"$f":"#REF!-#REF!","v":{"$error":"#REF!"}}]
[2,22,9,"LL",2,25,null,3,1,1,3,1,2,1,"1","0","0","0","0","0","0","0","0","0","0","0","0","0","0","0","0","0",null,null,3,4,2,{"$f":"IF(ISNUMBER(SEARCH(\"1\",#REF!)),\"1\",\"0\")","v":"0"},{"$f":"IF(ISNUMBER(SEARCH(\"2\",#REF!)),\"1\",\"0\")","v":"0"},{"$f":"IF(ISNUMBER(SEARCH(\"3\",#REF!)),\"1\",\"0\")","v":"0"},{"$f":"IF(ISNUMBER(SEARCH(\"4\",#REF!)),\"1\",\"0\")","v":"0"},{"$f":"IF(ISNUMBER(SEARCH(\"5\",#REF!)),\"1\",\"0\")","v":"0"},{"$f":"IF(ISNUMBER(SEARCH(\"6\",#REF!)),\"1\",\"0\")","v":"0"},{"$f":"IF(ISNUMBER(SEARCH(\"7\",#REF!)),\"1\",\"0\")","v":"0"},{"$f":"IF(ISNUMBER(SEARCH(\"8\",#REF!)),\"1\",\"0\")","v":"0"},{"$f":"IF(ISNUMBER(SEARCH(\"9\",#REF!)),\"1\",\"0\")","v":"0"},{"$f":"IF(ISNUMBER(SEARCH(\"9\",#REF!)),\"1\",\"0\")","v":"0"},{"$f":"IF(ISNUMBER(SEARCH(\"10\",#REF!)),\"1\",\"0\")","v":"0"},{"$f":"IF(ISNUMBER(SEARCH(\"11\",#REF!)),\"1\",\"0\")","v":"0"},{"$f":"IF(ISNUMBER(SEARCH(\"12\",#REF!)),\"1\",\"0\")","v":"0"},{"$f":"IF(ISNUMBER(SEARCH(\"13\",#REF!)),\"1\",\"0\")","v":"0"},{"$f":"IF(ISNUMBER(SEARCH(\"14\",#REF!)),\"1\",\"0\")","v":"0"},{"$f":"IF(ISNUMBER(SEARCH(\"15\",#REF!)),\"1\",\"0\")","v":"0"},{"$f":"IF(ISNUMBER(SEARCH(\"16\",#REF!)),\"1\",\"0\")","v":"0"},{"$f":"IF(ISNUMBER(SEARCH(\"17\",#REF!)),\"1\",\"0\")","v":"0"},{"$nulls":8},9]
[2,22,9,"NT",2,60,null,1,8,1,5,5,6,3,"0","0","1","0","0","0","0","0","0","0","0","0","0","0","0","0","0","0",null,null,1,5,2,{"$f":"IF(ISNUMBER(SEARCH(\"1\",#REF!)),\"1\",\"0\")","v":"0"},{"$f":"IF(ISNUMBER(SEARCH(\"2\",#REF!)),\"1\",\"0\")","v":"0"},{"$f":"IF(ISNUMBER(SEARCH(\"3\",#REF!)),\"1\",\"0\")","v":"0"},{"$f":"IF(ISNUMBER(SEARCH(\"4\",#REF!)),\"1\",\"0\")","v":"0"},{"$f":"IF(ISNUMBER(SEARCH(\"5\",#REF!)),\"1\",\"0\")","v":"0"},{"$f":"IF(ISNUMBER(SEARCH(\"6\",#REF!)),\"1\",\"0\")","v":"0"},{"$f":"IF(ISNUMBER(SEARCH(\"7\",#REF!)),\"1\",\"0\")","v":"0"},{"$f":"IF(ISNUMBER(SEARCH(\"8\",#REF!)),\"1\",\"0\")","v":"0"},{"$f":"IF(ISNUMBER(SEARCH(\"9\",#REF!)),\"1\",\"0\")","v":"0"},{"$f":"IF(ISNUMBER(SEARCH(\"9\",#REF!)),\"1\",\"0\")","v":"0"},{"$f":"IF(ISNUMBER(SEARCH(\"10\",#REF!)),\"1\",\"0\")","v":"0"},{"$f":"IF(ISNUMBER(SEARCH(\"11\",#REF!)),\"1\",\"0\")","v":"0"},{"$f":"IF(ISNUMBER(SEARCH(\"12\",#REF!)),\"1\",\"0\")","v":"0"},{"$f":"IF(ISNUMBER(SEARCH(\"13\",#REF!)),\"1\",\"0\")","v":"0"},{"$f":"IF(ISNUMBER(SEARCH(\"14\",#REF!)),\"1\",\"0\")","v":"0"},{"$f":"IF(ISNUMBER(SEARCH(\"15\",#REF!)),\"1\",\"0\")","v":"0"},{"$f":"IF(ISNUMBER(SEARCH(\"16\",#REF!)),\"1\",\"0\")","v":"0"},{"$f":"IF(ISNUMBER(SEARCH(\"17\",#REF!)),\"1\",\"0\")","v":"0"},3,{"$nulls":7},8]
[2,22,9,"NT",2,17,null,1,1,1,0,8,1,3,"0","0","1","0","0","0","0","0","0","0","0","0","0","0","0","0","0","0",null,null,3,4,1,{"$f":"IF(ISNUMBER(SEARCH(\"1\",#REF!)),\"1\",\"0\")","v":"0"},{"$f":"IF(ISNUMBER(SEARCH(\"2\",#REF!)),\"1\",\"0\")","v":"0"},{"$f":"IF(ISNUMBER(SEARCH(\"3\",#REF!)),\"1\",\"0\")","v":"0"},{"$f":"IF(ISNUMBER(SEARCH(\"4\",#REF!)),\"1\",\"0\")","v":"0"},{"$f":"IF(ISNUMBER(SEARCH(\"5\",#REF!)),\"1\",\"0\")","v":"0"},{"$f":"IF(ISNUMBER(SEARCH(\"6\",#REF!)),\"1\",\"0\")","v":"0"},{"$f":"IF(ISNUMBER(SEARCH(\"7\",#REF!)),\"1\",\"0\")","v":"0"},{"$f":"IF(ISNUMBER(SEARCH(\"8\",#REF!)),\"1\",\"0\")","v":"0"},{"$f":"IF(ISNUMBER(SEARCH(\"9\",#REF!)),\"1\",\"0\")","v":"0"},{"$f":"IF(ISNUMBER(SEARCH(\"9\",#REF!)),\"1\",\"0\")","v":"0"},{"$f":"IF(ISNUMBER(SEARCH(\"10\",#REF!)),\"1\",\"0\")","v":"0"},{"$f":"IF(ISNUMBER(SEARCH(\"11\",#REF!)),\"1\",\"0\")","v":"0"},{"$f":"IF(ISNUMBER(SEARCH(\"12\",#REF!)),\"1\",\"0\")","v":"0"},{"$f":"IF(ISNUMBER(SEARCH(\"13\",#REF!)),\"1\",\"0\")","v":"0"},{"$f":"IF(ISNUMBER(SEARCH(\"14\",#REF!)),\"1\",\"0\")","v":"0"},{"$f":"IF(ISNUMBER(SEARCH(\"15\",#REF!)),\"1\",\"0\")","v":"0"},{"$f":"IF(ISNUMBER(SEARCH(\"16\",#REF!)),\"1\",\"0\")","v":"0"},{"$f":"IF(ISNUMBER(SEARCH(\"17\",#REF!)),\"1\",\"0\")","v":"0"},1,2,{"$nulls":6},5]
[2,22,9,"NT",2,37,null,3,3,1,9,1,4,3,"0","0","1","0","0","0","0","0","0","0","0","0","0","0","0","0","0","0",null,null,3,5,1,{"$f":"IF(ISNUMBER(SEARCH(\"1\",#REF!)),\"1\",\"0\")","v":"0"},{"$f":"IF(ISNUMBER(SEARCH(\"2\",#REF!)),\"1\",\"0\")","v":"0"},{"$f":"IF(ISNUMBER(SEARCH(\"3\",#REF!)),\"1\",\"0\")","v":"0"},{"$f":"IF(ISNUMBER(SEARCH(\"4\",#REF!)),\"1\",\"0\")","v":"0"},{"$f":"IF(ISNUMBER(SEARCH(\"5\",#REF!)),\"1\",\"0\")","v":"0"},{"$f":"IF(ISNUMBER(SEARCH(\"6\",#REF!)),\"1\",\"0\")","v":"0"},{"$f":"IF(ISNUMBER(SEARCH(\"7\",#REF!)),\"1\",\"0\")","v":"0"},{"$f":"IF(ISNUMBER(SEARCH(\"8\",#REF!)),\"1\",\"0\")","v":"0"},{"$f":"IF(ISNUMBER(SEARCH(\"9\",#REF!)),\"1\",\"0\")","v":"0"},{"$f":"IF(ISNUMBER(SEARCH(\"9\",#REF!)),\"1\",\"0\")","v":"0"},{"$f":"IF(ISNUMBER(SEARCH(\"10\",#REF!)),\"1\",\"0\")","v":"0"},{"$f":"IF(ISNUMBER(SEARCH(\"11\",#REF!)),\"1\",\"0\")","v":"0"},{"$f":"IF(ISNUMBER(SEARCH(\"12\",#REF!)),\"1\",\"0\")","v":"0"},{"$f":"IF(ISNUMBER(SEARCH(\"13\",#REF!)),\"1\",\"0\")","v":"0"},{"$f":"IF(ISNUMBER(SEARCH(\"14\",#REF!)),\"1\",\"0\")","v":"0"},{"$f":"IF(ISNUMBER(SEARCH(\"15\",#REF!)),\"1\",\"0\")","v":"0"},{"$f":"IF(ISNUMBER(SEARCH(\"16\",#REF!)),\"1\",\"0\")","v":"0"},{"$f":"IF(ISNUMBER(SEARCH(\"17\",#REF!)),\"1\",\"0\")","v":"0"},4,2,null,null,14,6,16,36,6,null,0,10,0,10,null,13,5,null,{"$f":"#REF!-#REF!","v":{"$error":"#REF!"}},{"$f":"#REF!-#REF!","v":{"$error":"#REF!"}}]
[2,22,9,"FB",2,50,null,1,1,1,5,5,null,3,"0","0","1","0","0","0","0","0","0","0","0","0","0","0","0","0","0","0",null,null,1,4,1,{"$f":"IF(ISNUMBER(SEARCH(\"1\",#REF!)),\"1\",\"0\")","v":"0"},{"$f":"IF(ISNUMBER(SEARCH(\"2\",#REF!)),\"1\",\"0\")","v":"0"},{"$f":"IF(ISNUMBER(SEARCH(\"3\",#REF!)),\"1\",\"0\")","v":"0"},{"$f":"IF(ISNUMBER(SEARCH(\"4\",#REF!)),\"1\",\"0\")","v":"0"},{"$f":"IF(ISNUMBER(SEARCH(\"5\",#REF!)),\"1\",\"0\")","v":"0"},{"$f":"IF(ISNUMBER(SEARCH(\"6\",#REF!)),\"1\",\"0\")","v":"0"},{"$f":"IF(ISNUMBER(SEARCH(\"7\",#REF!)),\"1\",\"0\")","v":"0"},{"$f":"IF(ISNUMBER(SEARCH(\"8\",#REF!)),\"1\",\"0\")","v":"0"},{"$f":"IF(ISNUMBER(SEARCH(\"9\",#REF!)),\"1\",\"0\")","v":"0"},{"$f":"IF(ISNUMBER(SEARCH(\"9\",#REF!)),\"1\",\"0\")","v":"0"},{"$f":"IF(ISNUMBER(SEARCH(\"10\",#REF!)),\"1\",\"0\")","v":"0"},{"$f":"IF(ISNUMBER(SEARCH(\"11\",#REF!)),\"1\",\"0\")","v":"0"},{"$f":"IF(ISNUMBER(SEARCH(\"12\",#REF!)),\"1\",\"0\")","v":"0"},{"$f":"IF(ISNUMBER(SEARCH(\"13\",#REF!)),\"1\",\"0\")","v":"0"},{"$f":"IF(ISNUMBER(SEARCH(\"14\",#REF!)),\"1\",\"0\")","v":"0"},{"$f":"IF(ISNUMBER(SEARCH(\"15\",#REF!)),\"1\",\"0\")","v":"0"},{"$f":"IF(ISNUMBER(SEARCH(\"16\",#REF!)),\"1\",\"0\")","v":"0"},{"$f":"IF(ISNUMBER(SEARCH(\"17\",#REF!)),\"1\",\"0\")","v":"0"},2,{"$nulls":7},7,null,0,2,4,6,null,11,3]
[2,22,9,"FB",2,42,null,2,8,1,8,5,null,3,"0","0","1","0","0","0","0","0","0","0","0","0","0","0","0","0","0","0",null,null,3,4,2,{"$f":"IF(ISNUMBER(SEARCH(\"1\",#REF!)),\"1\",\"0\")","v":"0"},{"$f":"IF(ISNUMBER(SEARCH(\"2\",#REF!)),\"1\",\"0\")","v":"0"},{"$f":"IF(ISNUMBER(SEARCH(\"3\",#REF!)),\"1\",\"0\")","v":"0"},{"$f":"IF(ISNUMBER(SEARCH(\"4\",#REF!)),\"1\",\"0\")","v":"0"},{"$f":"IF(ISNUMBER(SEARCH(\"5\",#REF!)),\"1\",\"0\")","v":"0"},{"$f":"IF(ISNUMBER(SEARCH(\"6\",#REF!)),\"1\",\"0\")","v":"0"},{"$f":"IF(ISNUMBER(SEARCH(\"7\",#REF!)),\"1\",\"0\")","v":"0"},{"$f":"IF(ISNUMBER(SEARCH(\"8\",#REF!)),\"1\",\"0\")","v":"0"},{"$f":"IF(ISNUMBER(SEARCH(\"9\",#REF!)),\"1\",\"0\")","v":"0"},{"$f":"IF(ISNUMBER(SEARCH(\"9\",#REF!)),\"1\",\"0\")","v":"0"},{"$f":"IF(ISNUMBER(SEARCH(\"10\",#REF!)),\"1\",\"0\")","v":"0"},{"$f":"IF(ISNUMBER(SEARCH(\"11\",#REF!)),\"1\",\"0\")","v":"0"},{"$f":"IF(ISNUMBER(SEARCH(\"12\",#REF!)),\"1\",\"0\")","v":"0"},{"$f":"IF(ISNUMBER(SEARCH(\"13\",#REF!)),\"1\",\"0\")","v":"0"},{"$f":"IF(ISNUMBER(SEARCH(\"14\",#REF!)),\"1\",\"0\")","v":"0"},{"$f":"IF(ISNUMBER(SEARCH(\"15\",#REF!)),\"1\",\"0\")","v":"0"},{"$f":"IF(ISNUMBER(SEARCH(\"16\",#REF!)),\"1\",\"0\")","v":"0"},{"$f":"IF(ISNUMBER(SEARCH(\"17\",#REF!)),\"1\",\"0\")","v":"0"},2,{"$nulls":7},6]
[2,22,9,"LL",2,28,null,1,1,1,6,3,2,1,"1","0","0","0","0","0","0","0","0","0","0","0","0","0","0","0","0","0",null,null,2,5,null,{"$f":"IF(ISNUMBER(SEARCH(\"1\",#REF!)),\"1\",\"0\")","v":"0"},{"$f":"IF(ISNUMBER(SEARCH(\"2\",#REF!)),\"1\",\"0\")","v":"0"},{"$f":"IF(ISNUMBER(SEARCH(\"3\",#REF!)),\"1\",\"0\")","v":"0"},{"$f":"IF(ISNUMBER(SEARCH(\"4\",#REF!)),\"1\",\"0\")","v":"0"},{"$f":"IF(ISNUMBER(SEARCH(\"5\",#REF!)),\"1\",\"0\")","v":"0"},{"$f":"IF(ISNUMBER(SEARCH(\"6\",#REF!)),\"1\",\"0\")","v":"0"},{"$f":"IF(ISNUMBER(SEARCH(\"7\",#REF!)),\"1\",\"0\")","v":"0"},{"$f":"IF(ISNUMBER(SEARCH(\"8\",#REF!)),\"1\",\"0\")","v":"0"},{"$f":"IF(ISNUMBER(SEARCH(\"9\",#REF!)),\"1\",\"0\")","v":"0"},{"$f":"IF(ISNUMBER(SEARCH(\"9\",#REF!)),\"1\",\"0\")","v":"0"},{"$f":"IF(ISNUMBER(SEARCH(\"10\",#REF!)),\"1\",\"0\")","v":"0"},{"$f":"IF(ISNUMBER(SEARCH(\"11\",#REF!)),\"1\",\"0\")","v":"0"},{"$f":"IF(ISNUMBER(SEARCH(\"12\",#REF!)),\"1\",\"0\")","v":"0"},{"$f":"IF(ISNUMBER(SEARCH(\"13\",#REF!)),\"1\",\"0\")","v":"0"},{"$f":"IF(ISNUMBER(SEARCH(\"14\",#REF!)),\"1\",\"0\")","v":"0"},{"$f":"IF(ISNUMBER(SEARCH(\"15\",#REF!)),\"1\",\"0\")","v":"0"},{"$f":"IF(ISNUMBER(SEARCH(\"16\",#REF!)),\"1\",\"0\")","v":"0"},{"$f":"IF(ISNUMBER(SEARCH(\"17\",#REF!)),\"1\",\"0\")","v":"0"},{"$nulls":8},11]
[2,22,9,"LL",2,18,null,2,1,1,0,1,1,2,"0","1","0","0","0","0","0","0","0","0","0","0","0","0","0","0","0","0",null,null,1,5,2,{"$f":"IF(ISNUMBER(SEARCH(\"1\",#REF!)),\"1\",\"0\")","v":"0"},{"$f":"IF(ISNUMBER(SEARCH(\"2\",#REF!)),\"1\",\"0\")","v":"0"},{"$f":"IF(ISNUMBER(SEARCH(\"3\",#REF!)),\"1\",\"0\")","v":"0"},{"$f":"IF(ISNUMBER(SEARCH(\"4\",#REF!)),\"1\",\"0\")","v":"0"},{"$f":"IF(ISNUMBER(SEARCH(\"5\",#REF!)),\"1\",\"0\")","v":"0"},{"$f":"IF(ISNUMBER(SEARCH(\"6\",#REF!)),\"1\",\"0\")","v":"0"},{"$f":"IF(ISNUMBER(SEARCH(\"7\",#REF!)),\"1\",\"0\")","v":"0"},{"$f":"IF(ISNUMBER(SEARCH(\"8\",#REF!)),\"1\",\"0\")","v":"0"},{"$f":"IF(ISNUMBER(SEARCH(\"9\",#REF!)),\"1\",\"0\")","v":"0"},{"$f":"IF(ISNUMBER(SEARCH(\"9\",#REF!)),\"1\",\"0\")","v":"0"},{"$f":"IF(ISNUMBER(SEARCH(\"10\",#REF!)),\"1\",\"0\")","v":"0"},{"$f":"IF(ISNUMBER(SEARCH(\"11\",#REF!)),\"1\",\"0\")","v":"0"},{"$f":"IF(ISNUMBER(SEARCH(\"12\",#REF!)),\"1\",\"0\")","v":"0"},{"$f":"IF(ISNUMBER(SEARCH(\"13\",#REF!)),\"1\",\"0\")","v":"0"},{"$f":"IF(ISNUMBER(SEARCH(\"14\",#REF!)),\"1\",\"0\")","v":"0"},{"$f":"IF(ISNUMBER(SEARCH(\"15\",#REF!)),\"1\",\"0\")","v":"0"},{"$f":"IF(ISNUMBER(SEARCH(\"16\",#REF!)),\"1\",\"0\")","v":"0"},{"$f":"IF(ISNUMBER(SEARCH(\"17\",#REF!)),\"1\",\"0\")","v":"0"},{"$nulls":8},12]
[2,22,9,"NT",2,15,null,2,2,1,0,3,1,3,"0","0","1","0","0","0","0","0","0","0","0","0","0","0","0","0","0","0",null,null,3,4,2,{"$f":"IF(ISNUMBER(SEARCH(\"1\",#REF!)),\"1\",\"0\")","v":"0"},{"$f":"IF(ISNUMBER(SEARCH(\"2\",#REF!)),\"1\",\"0\")","v":"0"},{"$f":"IF(ISNUMBER(SEARCH(\"3\",#REF!)),\"1\",\"0\")","v":"0"},{"$f":"IF(ISNUMBER(SEARCH(\"4\",#REF!)),\"1\",\"0\")","v":"0"},{"$f":"IF(ISNUMBER(SEARCH(\"5\",#REF!)),\"1\",\"0\")","v":"0"},{"$f":"IF(ISNUMBER(SEARCH(\"6\",#REF!)),\"1\",\"0\")","v":"0"},{"$f":"IF(ISNUMBER(SEARCH(\"7\",#REF!)),\"1\",\"0\")","v":"0"},{"$f":"IF(ISNUMBER(SEARCH(\"8\",#REF!)),\"1\",\"0\")","v":"0"},{"$f":"IF(ISNUMBER(SEARCH(\"9\",#REF!)),\"1\",\"0\")","v":"0"},{"$f":"IF(ISNUMBER(SEARCH(\"9\",#REF!)),\"1\",\"0\")","v":"0"},{"$f":"IF(ISNUMBER(SEARCH(\"10\",#REF!)),\"1\",\"0\")","v":"0"},{"$f":"IF(ISNUMBER(SEARCH(\"11\",#REF!)),\"1\",\"0\")","v":"0"},{"$f":"IF(ISNUMBER(SEARCH(\"12\",#REF!)),\"1\",\"0\")","v":"0"},{"$f":"IF(ISNUMBER(SEARCH(\"13\",#REF!)),\"1\",\"0\")","v":"0"},{"$f":"IF(ISNUMBER(SEARCH(\"14\",#REF!)),\"1\",\"0\")","v":"0"},{"$f":"IF(ISNUMBER(SEARCH(\"15\",#REF!)),\"1\",\"0\")","v":"0"},{"$f":"IF(ISNUMBER(SEARCH(\"16\",#REF!)),\"1\",\"0\")","v":"0"},{"$f":"IF(ISNUMBER(SEARCH(\"17\",#REF!)),\"1\",\"0\")","v":"0"},3,2,{"$nulls":6},4]
[2,22,9,"FB",2,18,null,3,1,1,0,5,1,3,"0","0","1","0","0","0","0","0","0","0","0","0","0","0","0","0","0","0",null,null,3,4,2,{"$f":"IF(ISNUMBER(SEARCH(\"1\",#REF!)),\"1\",\"0\")","v":"0"},{"$f":"IF(ISNUMBER(SEARCH(\"2\",#REF!)),\"1\",\"0\")","v":"0"},{"$f":"IF(ISNUMBER(SEARCH(\"3\",#REF!)),\"1\",\"0\")","v":"0"},{"$f":"IF(ISNUMBER(SEARCH(\"4\",#REF!)),\"1\",\"0\")","v":"0"},{"$f":"IF(ISNUMBER(SEARCH(\"5\",#REF!)),\"1\",\"0\")","v":"0"},{"$f":"IF(ISNUMBER(SEARCH(\"6\",#REF!)),\"1\",\"0\")","v":"0"},{"$f":"IF(ISNUMBER(SEARCH(\"7\",#REF!)),\"1\",\"0\")","v":"0"},{"$f":"IF(ISNUMBER(SEARCH(\"8\",#REF!)),\"1\",\"0\")","v":"0"},{"$f":"IF(ISNUMBER(SEARCH(\"9\",#REF!)),\"1\",\"0\")","v":"0"},{"$f":"IF(ISNUMBER(SEARCH(\"9\",#REF!)),\"1\",\"0\")","v":"0"},{"$f":"IF(ISNUMBER(SEARCH(\"10\",#REF!)),\"1\",\"0\")","v":"0"},{"$f":"IF(ISNUMBER(SEARCH(\"11\",#REF!)),\"1\",\"0\")","v":"0"},{"$f":"IF(ISNUMBER(SEARCH(\"12\",#REF!)),\"1\",\"0\")","v":"0"},{"$f":"IF(ISNUMBER(SEARCH(\"13\",#REF!)),\"1\",\"0\")","v":"0"},{"$f":"IF(ISNUMBER(SEARCH(\"14\",#REF!)),\"1\",\"0\")","v":"0"},{"$f":"IF(ISNUMBER(SEARCH(\"15\",#REF!)),\"1\",\"0\")","v":"0"},{"$f":"IF(ISNUMBER(SEARCH(\"16\",#REF!)),\"1\",\"0\")","v":"0"},{"$f":"IF(ISNUMBER(SEARCH(\"17\",#REF!)),\"1\",\"0\")","v":"0"},3,2,{"$nulls":6},7,null,0,2,0,2,null,12,4]
[2,22,9,"FB",2,20,null,3,3,1,0,5,1,3,"0","0","1","0","0","0","0","0","0","0","0","0","0","0","0","0","0","0",null,null,3,3,1,{"$f":"IF(ISNUMBER(SEARCH(\"1\",#REF!)),\"1\",\"0\")","v":"0"},{"$f":"IF(ISNUMBER(SEARCH(\"2\",#REF!)),\"1\",\"0\")","v":"0"},{"$f":"IF(ISNUMBER(SEARCH(\"3\",#REF!)),\"1\",\"0\")","v":"0"},{"$f":"IF(ISNUMBER(SEARCH(\"4\",#REF!)),\"1\",\"0\")","v":"0"},{"$f":"IF(ISNUMBER(SEARCH(\"5\",#REF!)),\"1\",\"0\")","v":"0"},{"$f":"IF(ISNUMBER(SEARCH(\"6\",#REF!)),\"1\",\"0\")","v":"0"},{"$f":"IF(ISNUMBER(SEARCH(\"7\",#REF!)),\"1\",\"0\")","v":"0"},{"$f":"IF(ISNUMBER(SEARCH(\"8\",#REF!)),\"1\",\"0\")","v":"0"},{"$f":"IF(ISNUMBER(SEARCH(\"9\",#REF!)),\"1\",\"0\")","v":"0"},{"$f":"IF(ISNUMBER(SEARCH(\"9\",#REF!)),\"1\",\"0\")","v":"0"},{"$f":"IF(ISNUMBER(SEARCH(\"10\",#REF!)),\"1\",\"0\")","v":"0"},{"$f":"IF(ISNUMBER(SEARCH(\"11\",#REF!)),\"1\",\"0\")","v":"0"},{"$f":"IF(ISNUMBER(SEARCH(\"12\",#REF!)),\"1\",\"0\")","v":"0"},{"$f":"IF(ISNUMBER(SEARCH(\"13\",#REF!)),\"1\",\"0\")","v":"0"},{"$f":"IF(ISNUMBER(SEARCH(\"14\",#REF!)),\"1\",\"0\")","v":"0"},{"$f":"IF(ISNUMBER(SEARCH(\"15\",#REF!)),\"1\",\"0\")","v":"0"},{"$f":"IF(ISNUMBER(SEARCH(\"16\",#REF!)),\"1\",\"0\")","v":"0"},{"$f":"IF(ISNUMBER(SEARCH(\"17\",#REF!)),\"1\",\"0\")","v":"0"},1,{"$nulls":7},6]
[2,22,9,"FB",2,17,null,1,1,1,0,3,1,3,"0","0","1","0","0","0","0","0","0","0","0","0","0","0","0","0","0","0",null,null,3,4,2,{"$f":"IF(ISNUMBER(SEARCH(\"1\",#REF!)),\"1\",\"0\")","v":"0"},{"$f":"IF(ISNUMBER(SEARCH(\"2\",#REF!)),\"1\",\"0\")","v":"0"},{"$f":"IF(ISNUMBER(SEARCH(\"3\",#REF!)),\"1\",\"0\")","v":"0"},{"$f":"IF(ISNUMBER(SEARCH(\"4\",#REF!)),\"1\",\"0\")","v":"0"},{"$f":"IF(ISNUMBER(SEARCH(\"5\",#REF!)),\"1\",\"0\")","v":"0"},{"$f":"IF(ISNUMBER(SEARCH(\"6\",#REF!)),\"1\",\"0\")","v":"0"},{"$f":"IF(ISNUMBER(SEARCH(\"7\",#REF!)),\"1\",\"0\")","v":"0"},{"$f":"IF(ISNUMBER(SEARCH(\"8\",#REF!)),\"1\",\"0\")","v":"0"},{"$f":"IF(ISNUMBER(SEARCH(\"9\",#REF!)),\"1\",\"0\")","v":"0"},{"$f":"IF(ISNUMBER(SEARCH(\"9\",#REF!)),\"1\",\"0\")","v":"0"},{"$f":"IF(ISNUMBER(SEARCH(\"10\",#REF!)),\"1\",\"0\")","v":"0"},{"$f":"IF(ISNUMBER(SEARCH(\"11\",#REF!)),\"1\",\"0\")","v":"0"},{"$f":"IF(ISNUMBER(SEARCH(\"12\",#REF!)),\"1\",\"0\")","v":"0"},{"$f":"IF(ISNUMBER(SEARCH(\"13\",#REF!)),\"1\",\"0\")","v":"0"},{"$f":"IF(ISNUMBER(SEARCH(\"14\",#REF!)),\"1\",\"0\")","v":"0"},{"$f":"IF(ISNUMBER(SEARCH(\"15\",#REF!)),\"1\",\"0\")","v":"0"},{"$f":"IF(ISNUMBER(SEARCH(\"16\",#REF!)),\"1\",\"0\")","v":"0"},{"$f":"IF(ISNUMBER(SEARCH(\"17\",#REF!)),\"1\",\"0\")","v":"0"},1,2,{"$nulls":6},6,null,4,4,2,10,null,10,4]
[2,22,9,"NT",1,26,null,4,7,1,null,6,null,1,"1","0","0","0","0","0","0","0","0","0","0","0","0","0","0","0","0","0",null,null,3,5,2,{"$f":"IF(ISNUMBER(SEARCH(\"1\",#REF!)),\"1\",\"0\")","v":"0"},{"$f":"IF(ISNUMBER(SEARCH(\"2\",#REF!)),\"1\",\"0\")","v":"0"},{"$f":"IF(ISNUMBER(SEARCH(\"3\",#REF!)),\"1\",\"0\")","v":"0"},{"$f":"IF(ISNUMBER(SEARCH(\"4\",#REF!)),\"1\",\"0\")","v":"0"},{"$f":"IF(ISNUMBER(SEARCH(\"5\",#REF!)),\"1\",\"0\")","v":"0"},{"$f":"IF(ISNUMBER(SEARCH(\"6\",#REF!)),\"1\",\"0\")","v":"0"},{"$f":"IF(ISNUMBER(SEARCH(\"7\",#REF!)),\"1\",\"0\")","v":"0"},{"$f":"IF(ISNUMBER(SEARCH(\"8\",#REF!)),\"1\",\"0\")","v":"0"},{"$f":"IF(ISNUMBER(SEARCH(\"9\",#REF!)),\"1\",\"0\")","v":"0"},{"$f":"IF(ISNUMBER(SEARCH(\"9\",#REF!)),\"1\",\"0\")","v":"0"},{"$f":"IF(ISNUMBER(SEARCH(\"10\",#REF!)),\"1\",\"0\")","v":"0"},{"$f":"IF(ISNUMBER(SEARCH(\"11\",#REF!)),\"1\",\"0\")","v":"0"},{"$f":"IF(ISNUMBER(SEARCH(\"12\",#REF!)),\"1\",\"0\")","v":"0"},{"$f":"IF(ISNUMBER(SEARCH(\"13\",#REF!)),\"1\",\"0\")","v":"0"},{"$f":"IF(ISNUMBER(SEARCH(\"14\",#REF!)),\"1\",\"0\")","v":"0"},{"$f":"IF(ISNUMBER(SEARCH(\"15\",#REF!)),\"1\",\"0\")","v":"0"},{"$f":"IF(ISNUMBER(SEARCH(\"16\",#REF!)),\"1\",\"0\")","v":"0"},{"$f":"IF(ISNUMBER(SEARCH(\"17\",#REF!)),\"1\",\"0\")","v":"0"},{"$nulls":8},0]
[2,22,9,"NT",2,17,null,3,2,null,0,5,1,3,"0","0","1","0","0","0","0","0","0","0","0","0","0","0","0","0","0","0",null,null,3,3,1,{"$f":"IF(ISNUMBER(SEARCH(\"1\",#REF!)),\"1\",\"0\")","v":"0"},{"$f":"IF(ISNUMBER(SEARCH(\"2\",#REF!)),\"1\",\"0\")","v":"0"},{"$f":"IF(ISNUMBER(SEARCH(\"3\",#REF!)),\"1\",\"0\")","v":"0"},{"$f":"IF(ISNUMBER(SEARCH(\"4\",#REF!)),\"1\",\"0\")","v":"0"},{"$f":"IF(ISNUMBER(SEARCH(\"5\",#REF!)),\"1\",\"0\")","v":"0"},{"$f":"IF(ISNUMBER(SEARCH(\"6\",#REF!)),\"1\",\"0\")","v":"0"},{"$f":"IF(ISNUMBER(SEARCH(\"7\",#REF!)),\"1\",\"0\")","v":"0"},{"$f":"IF(ISNUMBER(SEARCH(\"8\",#REF!)),\"1\",\"0\")","v":"0"},{"$f":"IF(ISNUMBER(SEARCH(\"9\",#REF!)),\"1\",\"0\")","v":"0"},{"$f":"IF(ISNUMBER(SEARCH(\"9\",#REF!)),\"1\",\"0\")","v":"0"},{"$f":"IF(ISNUMBER(SEARCH(\"10\",#REF!)),\"1\",\"0\")","v":"0"},{"$f":"IF(ISNUMBER(SEARCH(\"11\",#REF!)),\"1\",\"0\")","v":"0"},{"$f":"IF(ISNUMBER(SEARCH(\"12\",#REF!)),\"1\",\"0\")","v":"0"},{"$f":"IF(ISNUMBER(SEARCH(\"13\",#REF!)),\"1\",\"0\")","v":"0"},{"$f":"IF(ISNUMBER(SEARCH(\"14\",#REF!)),\"1\",\"0\")","v":"0"},{"$f":"IF(ISNUMBER(SEARCH(\"15\",#REF!)),\"1\",\"0\")","v":"0"},{"$f":"IF(ISNUMBER(SEARCH(\"16\",#REF!)),\"1\",\"0\")","v":"0"},{"$f":"IF(ISNUMBER(SEARCH(\"17\",#REF!)),\"1\",\"0\")","v":"0"},1,2,{"$nulls":6},9]
[2,22,9,"FB",2,19,null,2,2,null,0,5,1,3,"0","0","1","0","0","0","0","0","0","0","0","0","0","0","0","0","0","0",null,null,3,5,2,{"$f":"IF(ISNUMBER(SEARCH(\"1\",#REF!)),\"1\",\"0\")","v":"0"},{"$f":"IF(ISNUMBER(SEARCH(\"2\",#REF!)),\"1\",\"0\")","v":"0"},{"$f":"IF(ISNUMBER(SEARCH(\"3\",#REF!)),\"1\",\"0\")","v":"0"},{"$f":"IF(ISNUMBER(SEARCH(\"4\",#REF!)),\"1\",\"0\")","v":"0"},{"$f":"IF(ISNUMBER(SEARCH(\"5\",#REF!)),\"1\",\"0\")","v":"0"},{"$f":"IF(ISNUMBER(SEARCH(\"6\",#REF!)),\"1\",\"0\")","v":"0"},{"$f":"IF(ISNUMBER(SEARCH(\"7\",#REF!)),\"1\",\"0\")","v":"0"},{"$f":"IF(ISNUMBER(SEARCH(\"8\",#REF!)),\"1\",\"0\")","v":"0"},{"$f":"IF(ISNUMBER(SEARCH(\"9\",#REF!)),\"1\",\"0\")","v":"0"},{"$f":"IF(ISNUMBER(SEARCH(\"9\",#REF!)),\"1\",\"0\")","v":"0"},{"$f":"IF(ISNUMBER(SEARCH(\"10\",#REF!)),\"1\",\"0\")","v":"0"},{"$f":"IF(ISNUMBER(SEARCH(\"11\",#REF!)),\"1\",\"0\")","v":"0"},{"$f":"IF(ISNUMBER(SEARCH(\"12\",#REF!)),\"1\",\"0\")","v":"0"},{"$f":"IF(ISNUMBER(SEARCH(\"13\",#REF!)),\"1\",\"0\")","v":"0"},{"$f":"IF(ISNUMBER(SEARCH(\"14\",#REF!)),\"1\",\"0\")","v":"0"},{"$f":"IF(ISNUMBER(SEARCH(\"15\",#REF!)),\"1\",\"0\")","v":"0"},{"$f":"IF(ISNUMBER(SEARCH(\"16\",#REF!)),\"1\",\"0\")","v":"0"},{"$f":"IF(ISNUMBER(SEARCH(\"17\",#REF!)),\"1\",\"0\")","v":"0"},3,2,{"$nulls":6},7]
[2,22,9,"LL",2,20,null,3,8,1,2,1,2,3,"0","0","1","0","0","0","0","0","0","0","0","0","0","0","0","0","0","0",{"$nulls":3},3,2,{"$f":"IF(ISNUMBER(SEARCH(\"1\",#REF!)),\"1\",\"0\")","v":"0"},{"$f":"IF(ISNUMBER(SEARCH(\"2\",#REF!)),\"1\",\"0\")","v":"0"},{"$f":"IF(ISNUMBER(SEARCH(\"3\",#REF!)),\"1\",\"0\")","v":"0"},{"$f":"IF(ISNUMBER(SEARCH(\"4\",#REF!)),\"1\",\"0\")","v":"0"},{"$f":"IF(ISNUMBER(SEARCH(\"5\",#REF!)),\"1\",\"0\")","v":"0"},{"$f":"IF(ISNUMBER(SEARCH(\"6\",#REF!)),\"1\",\"0\")","v":"0"},{"$f":"IF(ISNUMBER(SEARCH(\"7\",#REF!)),\"1\",\"0\")","v":"0"},{"$f":"IF(ISNUMBER(SEARCH(\"8\",#REF!)),\"1\",\"0\")","v":"0"},{"$f":"IF(ISNUMBER(SEARCH(\"9\",#REF!)),\"1\",\"0\")","v":"0"},{"$f":"IF(ISNUMBER(SEARCH(\"9\",#REF!)),\"1\",\"0\")","v":"0"},{"$f":"IF(ISNUMBER(SEARCH(\"10\",#REF!)),\"1\",\"0\")","v":"0"},{"$f":"IF(ISNUMBER(SEARCH(\"11\",#REF!)),\"1\",\"0\")","v":"0"},{"$f":"IF(ISNUMBER(SEARCH(\"12\",#REF!)),\"1\",\"0\")","v":"0"},{"$f":"IF(ISNUMBER(SEARCH(\"13\",#REF!)),\"1\",\"0\")","v":"0"},{"$f":"IF(ISNUMBER(SEARCH(\"14\",#REF!)),\"1\",\"0\")","v":"0"},{"$f":"IF(ISNUMBER(SEARCH(\"15\",#REF!)),\"1\",\"0\")","v":"0"},{"$f":"IF(ISNUMBER(SEARCH(\"16\",#REF!)),\"1\",\"0\")","v":"0"},{"$f":"IF(ISNUMBER(SEARCH(\"17\",#REF!)),\"1\",\"0\")","v":"0"},2,{"$nulls":3},2,2,6,10,6,null,4,0,4,8,null,8,5,null,{"$f":"#REF!-#REF!","v":{"$error":"#REF!"}},{"$f":"#REF!-#REF!","v":{"$error":"#REF!"}}]
[2,22,9,"NT",2,33,null,2,1,1,4,5,4,"16. Autre (SVP dans la case suivante) ","1","0","0","0","0","1","0","0","0","0","0","0","0","0","0","1","0","0",null,null,1,8,null,{"$f":"IF(ISNUMBER(SEARCH(\"1\",#REF!)),\"1\",\"0\")","v":"0"},{"$f":"IF(ISNUMBER(SEARCH(\"2\",#REF!)),\"1\",\"0\")","v":"0"},{"$f":"IF(ISNUMBER(SEARCH(\"3\",#REF!)),\"1\",\"0\")","v":"0"},{"$f":"IF(ISNUMBER(SEARCH(\"4\",#REF!)),\"1\",\"0\")","v":"0"},{"$f":"IF(ISNUMBER(SEARCH(\"5\",#REF!)),\"1\",\"0\")","v":"0"},{"$f":"IF(ISNUMBER(SEARCH(\"6\",#REF!)),\"1\",\"0\")","v":"0"},{"$f":"IF(ISNUMBER(SEARCH(\"7\",#REF!)),\"1\",\"0\")","v":"0"},{"$f":"IF(ISNUMBER(SEARCH(\"8\",#REF!)),\"1\",\"0\")","v":"0"},{"$f":"IF(ISNUMBER(SEARCH(\"9\",#REF!)),\"1\",\"0\")","v":"0"},{"$f":"IF(ISNUMBER(SEARCH(\"9\",#REF!)),\"1\",\"0\")","v":"0"},{"$f":"IF(ISNUMBER(SEARCH(\"10\",#REF!)),\"1\",\"0\")","v":"0"},{"$f":"IF(ISNUMBER(SEARCH(\"11\",#REF!)),\"1\",\"0\")","v":"0"},{"$f":"IF(ISNUMBER(SEARCH(\"12\",#REF!)),\"1\",\"0\")","v":"0"},{"$f":"IF(ISNUMBER(SEARCH(\"13\",#REF!)),\"1\",\"0\")","v":"0"},{"$f":"IF(ISNUMBER(SEARCH(\"14\",#REF!)),\"1\",\"0\")","v":"0"},{"$f":"IF(ISNUMBER(SEARCH(\"15\",#REF!)),\"1\",\"0\")","v":"0"},{"$f":"IF(ISNUMBER(SEARCH(\"16\",#REF!)),\"1\",\"0\")","v":"0"},{"$f":"IF(ISNUMBER(SEARCH(\"17\",#REF!)),\"1\",\"0\")","v":"0"},{"$nulls":8},10]
[2,22,9,"NT",2,20,null,3,2,1,0,1,1,1,"1","0","0","0","0","0","0","0","0","0","0","0","0","0","0","0","0","0",null,null,2,3,2,{"$f":"IF(ISNUMBER(SEARCH(\"1\",#REF!)),\"1\",\"0\")","v":"0"},{"$f":"IF(ISNUMBER(SEARCH(\"2\",#REF!)),\"1\",\"0\")","v":"0"},{"$f":"IF(ISNUMBER(SEARCH(\"3\",#REF!)),\"1\",\"0\")","v":"0"},{"$f":"IF(ISNUMBER(SEARCH(\"4\",#REF!)),\"1\",\"0\")","v":"0"},{"$f":"IF(ISNUMBER(SEARCH(\"5\",#REF!)),\"1\",\"0\")","v":"0"},{"$f":"IF(ISNUMBER(SEARCH(\"6\",#REF!)),\"1\",\"0\")","v":"0"},{"$f":"IF(ISNUMBER(SEARCH(\"7\",#REF!)),\"1\",\"0\")","v":"0"},{"$f":"IF(ISNUMBER(SEARCH(\"8\",#REF!)),\"1\",\"0\")","v":"0"},{"$f":"IF(ISNUMBER(SEARCH(\"9\",#REF!)),\"1\",\"0\")","v":"0"},{"$f":"IF(ISNUMBER(SEARCH(\"9\",#REF!)),\"1\",\"0\")","v":"0"},{"$f":"IF(ISNUMBER(SEARCH(\"10\",#REF!)),\"1\",\"0\")","v":"0"},{"$f":"IF(ISNUMBER(SEARCH(\"11\",#REF!)),\"1\",\"0\")","v":"0"},{"$f":"IF(ISNUMBER(SEARCH(\"12\",#REF!)),\"1\",\"0\")","v":"0"},{"$f":"IF(ISNUMBER(SEARCH(\"13\",#REF!)),\"1\",\"0\")","v":"0"},{"$f":"IF(ISNUMBER(SEARCH(\"14\",#REF!)),\"1\",\"0\")","v":"0"},{"$f":"IF(ISNUMBER(SEARCH(\"15\",#REF!)),\"1\",\"0\")","v":"0"},{"$f":"IF(ISNUMBER(SEARCH(\"16\",#REF!)),\"1\",\"0\")","v":"0"},{"$f":"IF(ISNUMBER(SEARCH(\"17\",#REF!)),\"1\",\"0\")","v":"0"},{"$nulls":8},3]
[2,22,9,"FB",2,22,null,3,2,1,0,3,null,3,"0","0","1","0","0","0","0","0","0","0","0","0","0","0","0","0","0","0",null,null,3,3,1,{"$f":"IF(ISNUMBER(SEARCH(\"1\",#REF!)),\"1\",\"0\")","v":"0"},{"$f":"IF(ISNUMBER(SEARCH(\"2\",#REF!)),\"1\",\"0\")","v":"0"},{"$f":"IF(ISNUMBER(SEARCH(\"3\",#REF!)),\"1\",\"0\")","v":"0"},{"$f":"IF(ISNUMBER(SEARCH(\"4\",#REF!)),\"1\",\"0\")","v":"0"},{"$f":"IF(ISNUMBER(SEARCH(\"5\",#REF!)),\"1\",\"0\")","v":"0"},{"$f":"IF(ISNUMBER(SEARCH(\"6\",#REF!)),\"1\",\"0\")","v":"0"},{"$f":"IF(ISNUMBER(SEARCH(\"7\",#REF!)),\"1\",\"0\")","v":"0"},{"$f":"IF(ISNUMBER(SEARCH(\"8\",#REF!)),\"1\",\"0\")","v":"0"},{"$f":"IF(ISNUMBER(SEARCH(\"9\",#REF!)),\"1\",\"0\")","v":"0"},{"$f":"IF(ISNUMBER(SEARCH(\"9\",#REF!)),\"1\",\"0\")","v":"0"},{"$f":"IF(ISNUMBER(SEARCH(\"10\",#REF!)),\"1\",\"0\")","v":"0"},{"$f":"IF(ISNUMBER(SEARCH(\"11\",#REF!)),\"1\",\"0\")","v":"0"},{"$f":"IF(ISNUMBER(SEARCH(\"12\",#REF!)),\"1\",\"0\")","v":"0"},{"$f":"IF(ISNUMBER(SEARCH(\"13\",#REF!)),\"1\",\"0\")","v":"0"},{"$f":"IF(ISNUMBER(SEARCH(\"14\",#REF!)),\"1\",\"0\")","v":"0"},{"$f":"IF(ISNUMBER(SEARCH(\"15\",#REF!)),\"1\",\"0\")","v":"0"},{"$f":"IF(ISNUMBER(SEARCH(\"16\",#REF!)),\"1\",\"0\")","v":"0"},{"$f":"IF(ISNUMBER(SEARCH(\"17\",#REF!)),\"1\",\"0\")","v":"0"},5,2,null,null,14,10,16,40,9,null,2,2,8,12,null,14,5,null,{"$f":"#REF!-#REF!","v":{"$error":"#REF!"}},{"$f":"#REF!-#REF!","v":{"$error":"#REF!"}}]
[2,22,9,"LL",2,26,null,3,2,1,0,3,1,3,"0","0","1","0","0","0","0","0","0","0","0","0","0","0","0","0","0","0",null,null,3,5,1,{"$f":"IF(ISNUMBER(SEARCH(\"1\",#REF!)),\"1\",\"0\")","v":"0"},{"$f":"IF(ISNUMBER(SEARCH(\"2\",#REF!)),\"1\",\"0\")","v":"0"},{"$f":"IF(ISNUMBER(SEARCH(\"3\",#REF!)),\"1\",\"0\")","v":"0"},{"$f":"IF(ISNUMBER(SEARCH(\"4\",#REF!)),\"1\",\"0\")","v":"0"},{"$f":"IF(ISNUMBER(SEARCH(\"5\",#REF!)),\"1\",\"0\")","v":"0"},{"$f":"IF(ISNUMBER(SEARCH(\"6\",#REF!)),\"1\",\"0\")","v":"0"},{"$f":"IF(ISNUMBER(SEARCH(\"7\",#REF!)),\"1\",\"0\")","v":"0"},{"$f":"IF(ISNUMBER(SEARCH(\"8\",#REF!)),\"1\",\"0\")","v":"0"},{"$f":"IF(ISNUMBER(SEARCH(\"9\",#REF!)),\"1\",\"0\")","v":"0"},{"$f":"IF(ISNUMBER(SEARCH(\"9\",#REF!)),\"1\",\"0\")","v":"0"},{"$f":"IF(ISNUMBER(SEARCH(\"10\",#REF!)),\"1\",\"0\")","v":"0"},{"$f":"IF(ISNUMBER(SEARCH(\"11\",#REF!)),\"1\",\"0\")","v":"0"},{"$f":"IF(ISNUMBER(SEARCH(\"12\",#REF!)),\"1\",\"0\")","v":"0"},{"$f":"IF(ISNUMBER(SEARCH(\"13\",#REF!)),\"1\",\"0\")","v":"0"},{"$f":"IF(ISNUMBER(SEARCH(\"14\",#REF!)),\"1\",\"0\")","v":"0"},{"$f":"IF(ISNUMBER(SEARCH(\"15\",#REF!)),\"1\",\"0\")","v":"0"},{"$f":"IF(ISNUMBER(SEARCH(\"16\",#REF!)),\"1\",\"0\")","v":"0"},{"$f":"IF(ISNUMBER(SEARCH(\"17\",#REF!)),\"1\",\"0\")","v":"0"},2,{"$nulls":7},6,{"$nulls":6},0,3]
[2,22,9,"NT",2,19,null,2,1,null,0,5,1,3,"0","0","1","0","0","0","0","0","0","0","0","0","0","0","0","0","0","0",null,null,3,4,1,{"$f":"IF(ISNUMBER(SEARCH(\"1\",#REF!)),\"1\",\"0\")","v":"0"},{"$f":"IF(ISNUMBER(SEARCH(\"2\",#REF!)),\"1\",\"0\")","v":"0"},{"$f":"IF(ISNUMBER(SEARCH(\"3\",#REF!)),\"1\",\"0\")","v":"0"},{"$f":"IF(ISNUMBER(SEARCH(\"4\",#REF!)),\"1\",\"0\")","v":"0"},{"$f":"IF(ISNUMBER(SEARCH(\"5\",#REF!)),\"1\",\"0\")","v":"0"},{"$f":"IF(ISNUMBER(SEARCH(\"6\",#REF!)),\"1\",\"0\")","v":"0"},{"$f":"IF(ISNUMBER(SEARCH(\"7\",#REF!)),\"1\",\"0\")","v":"0"},{"$f":"IF(ISNUMBER(SEARCH(\"8\",#REF!)),\"1\",\"0\")","v":"0"},{"$f":"IF(ISNUMBER(SEARCH(\"9\",#REF!)),\"1\",\"0\")","v":"0"},{"$f":"IF(ISNUMBER(SEARCH(\"9\",#REF!)),\"1\",\"0\")","v":"0"},{"$f":"IF(ISNUMBER(SEARCH(\"10\",#REF!)),\"1\",\"0\")","v":"0"},{"$f":"IF(ISNUMBER(SEARCH(\"11\",#REF!)),\"1\",\"0\")","v":"0"},{"$f":"IF(ISNUMBER(SEARCH(\"12\",#REF!)),\"1\",\"0\")","v":"0"},{"$f":"IF(ISNUMBER(SEARCH(\"13\",#REF!)),\"1\",\"0\")","v":"0"},{"$f":"IF(ISNUMBER(SEARCH(\"14\",#REF!)),\"1\",\"0\")","v":"0"},{"$f":"IF(ISNUMBER(SEARCH(\"15\",#REF!)),\"1\",\"0\")","v":"0"},{"$f":"IF(ISNUMBER(SEARCH(\"16\",#REF!)),\"1\",\"0\")","v":"0"},{"$f":"IF(ISNUMBER(SEARCH(\"17\",#REF!)),\"1\",\"0\")","v":"0"},5,{"$nulls":7},1]
[2,22,9,"NT",2,41,null,2,8,1,9,5,4,3,"0","0","1","0","0","0","0","0","0","0","0","0","0","0","0","0","0","0",null,null,3,5,2,{"$f":"IF(ISNUMBER(SEARCH(\"1\",#REF!)),\"1\",\"0\")","v":"0"},{"$f":"IF(ISNUMBER(SEARCH(\"2\",#REF!)),\"1\",\"0\")","v":"0"},{"$f":"IF(ISNUMBER(SEARCH(\"3\",#REF!)),\"1\",\"0\")","v":"0"},{"$f":"IF(ISNUMBER(SEARCH(\"4\",#REF!)),\"1\",\"0\")","v":"0"},{"$f":"IF(ISNUMBER(SEARCH(\"5\",#REF!)),\"1\",\"0\")","v":"0"},{"$f":"IF(ISNUMBER(SEARCH(\"6\",#REF!)),\"1\",\"0\")","v":"0"},{"$f":"IF(ISNUMBER(SEARCH(\"7\",#REF!)),\"1\",\"0\")","v":"0"},{"$f":"IF(ISNUMBER(SEARCH(\"8\",#REF!)),\"1\",\"0\")","v":"0"},{"$f":"IF(ISNUMBER(SEARCH(\"9\",#REF!)),\"1\",\"0\")","v":"0"},{"$f":"IF(ISNUMBER(SEARCH(\"9\",#REF!)),\"1\",\"0\")","v":"0"},{"$f":"IF(ISNUMBER(SEARCH(\"10\",#REF!)),\"1\",\"0\")","v":"0"},{"$f":"IF(ISNUMBER(SEARCH(\"11\",#REF!)),\"1\",\"0\")","v":"0"},{"$f":"IF(ISNUMBER(SEARCH(\"12\",#REF!)),\"1\",\"0\")","v":"0"},{"$f":"IF(ISNUMBER(SEARCH(\"13\",#REF!)),\"1\",\"0\")","v":"0"},{"$f":"IF(ISNUMBER(SEARCH(\"14\",#REF!)),\"1\",\"0\")","v":"0"},{"$f":"IF(ISNUMBER(SEARCH(\"15\",#REF!)),\"1\",\"0\")","v":"0"},{"$f":"IF(ISNUMBER(SEARCH(\"16\",#REF!)),\"1\",\"0\")","v":"0"},{"$f":"IF(ISNUMBER(SEARCH(\"17\",#REF!)),\"1\",\"0\")","v":"0"},1,2,{"$nulls":6},6]
[2,22,9,"NT",2,49,null,1,3,1,7,5,2,3,"0","0","1","0","0","0","0","0","0","0","0","0","0","0","0","0","0","0",null,null,3,5,2,{"$f":"IF(ISNUMBER(SEARCH(\"1\",#REF!)),\"1\",\"0\")","v":"0"},{"$f":"IF(ISNUMBER(SEARCH(\"2\",#REF!)),\"1\",\"0\")","v":"0"},{"$f":"IF(ISNUMBER(SEARCH(\"3\",#REF!)),\"1\",\"0\")","v":"0"},{"$f":"IF(ISNUMBER(SEARCH(\"4\",#REF!)),\"1\",\"0\")","v":"0"},{"$f":"IF(ISNUMBER(SEARCH(\"5\",#REF!)),\"1\",\"0\")","v":"0"},{"$f":"IF(ISNUMBER(SEARCH(\"6\",#REF!)),\"1\",\"0\")","v":"0"},{"$f":"IF(ISNUMBER(SEARCH(\"7\",#REF!)),\"1\",\"0\")","v":"0"},{"$f":"IF(ISNUMBER(SEARCH(\"8\",#REF!)),\"1\",\"0\")","v":"0"},{"$f":"IF(ISNUMBER(SEARCH(\"9\",#REF!)),\"1\",\"0\")","v":"0"},{"$f":"IF(ISNUMBER(SEARCH(\"9\",#REF!)),\"1\",\"0\")","v":"0"},{"$f":"IF(ISNUMBER(SEARCH(\"10\",#REF!)),\"1\",\"0\")","v":"0"},{"$f":"IF(ISNUMBER(SEARCH(\"11\",#REF!)),\"1\",\"0\")","v":"0"},{"$f":"IF(ISNUMBER(SEARCH(\"12\",#REF!)),\"1\",\"0\")","v":"0"},{"$f":"IF(ISNUMBER(SEARCH(\"13\",#REF!)),\"1\",\"0\")","v":"0"},{"$f":"IF(ISNUMBER(SEARCH(\"14\",#REF!)),\"1\",\"0\")","v":"0"},{"$f":"IF(ISNUMBER(SEARCH(\"15\",#REF!)),\"1\",\"0\")","v":"0"},{"$f":"IF(ISNUMBER(SEARCH(\"16\",#REF!)),\"1\",\"0\")","v":"0"},{"$f":"IF(ISNUMBER(SEARCH(\"17\",#REF!)),\"1\",\"0\")","v":"0"},1,2,null,null,16,10,6,32,4,null,2,4,2,8,null,7,5,null,{"$f":"#REF!-#REF!","v":{"$error":"#REF!"}},{"$f":"#REF!-#REF!","v":{"$error":"#REF!"}}]
[2,22,9,"NT",1,27,null,4,7,1,0,5,1,1,"1","0","0","0","0","0","0","0","0","0","0","0","0","0","0","0","0","0",null,null,3,3,1,{"$f":"IF(ISNUMBER(SEARCH(\"1\",#REF!)),\"1\",\"0\")","v":"0"},{"$f":"IF(ISNUMBER(SEARCH(\"2\",#REF!)),\"1\",\"0\")","v":"0"},{"$f":"IF(ISNUMBER(SEARCH(\"3\",#REF!)),\"1\",\"0\")","v":"0"},{"$f":"IF(ISNUMBER(SEARCH(\"4\",#REF!)),\"1\",\"0\")","v":"0"},{"$f":"IF(ISNUMBER(SEARCH(\"5\",#REF!)),\"1\",\"0\")","v":"0"},{"$f":"IF(ISNUMBER(SEARCH(\"6\",#REF!)),\"1\",\"0\")","v":"0"},{"$f":"IF(ISNUMBER(SEARCH(\"7\",#REF!)),\"1\",\"0\")","v":"0"},{"$f":"IF(ISNUMBER(SEARCH(\"8\",#REF!)),\"1\",\"0\")","v":"0"},{"$f":"IF(ISNUMBER(SEARCH(\"9\",#REF!)),\"1\",\"0\")","v":"0"},{"$f":"IF(ISNUMBER(SEARCH(\"9\",#REF!)),\"1\",\"0\")","v":"0"},{"$f":"IF(ISNUMBER(SEARCH(\"10\",#REF!)),\"1\",\"0\")","v":"0"},{"$f":"IF(ISNUMBER(SEARCH(\"11\",#REF!)),\"1\",\"0\")","v":"0"},{"$f":"IF(ISNUMBER(SEARCH(\"12\",#REF!)),\"1\",\"0\")","v":"0"},{"$f":"IF(ISNUMBER(SEARCH(\"13\",#REF!)),\"1\",\"0\")","v":"0"},{"$f":"IF(ISNUMBER(SEARCH(\"14\",#REF!)),\"1\",\"0\")","v":"0"},{"$f":"IF(ISNUMBER(SEARCH(\"15\",#REF!)),\"1\",\"0\")","v":"0"},{"$f":"IF(ISNUMBER(SEARCH(\"16\",#REF!)),\"1\",\"0\")","v":"0"},{"$f":"IF(ISNUMBER(SEARCH(\"17\",#REF!)),\"1\",\"0\")","v":"0"},{"$nulls":4},6,10,12,28,4,null,8,4,0,12,null,9,5,null,null,{"$f":"#REF!-#REF!","v":{"$error":"#REF!"}}]
[2,22,9,"LL",2,33,null,3,1,1,3,3,2,3,"0","0","1","0","0","0","0","0","0","0","0","0","0","0","0","0","0","0",null,null,3,5,1,{"$f":"IF(ISNUMBER(SEARCH(\"1\",#REF!)),\"1\",\"0\")","v":"0"},{"$f":"IF(ISNUMBER(SEARCH(\"2\",#REF!)),\"1\",\"0\")","v":"0"},{"$f":"IF(ISNUMBER(SEARCH(\"3\",#REF!)),\"1\",\"0\")","v":"0"},{"$f":"IF(ISNUMBER(SEARCH(\"4\",#REF!)),\"1\",\"0\")","v":"0"},{"$f":"IF(ISNUMBER(SEARCH(\"5\",#REF!)),\"1\",\"0\")","v":"0"},{"$f":"IF(ISNUMBER(SEARCH(\"6\",#REF!)),\"1\",\"0\")","v":"0"},{"$f":"IF(ISNUMBER(SEARCH(\"7\",#REF!)),\"1\",\"0\")","v":"0"},{"$f":"IF(ISNUMBER(SEARCH(\"8\",#REF!)),\"1\",\"0\")","v":"0"},{"$f":"IF(ISNUMBER(SEARCH(\"9\",#REF!)),\"1\",\"0\")","v":"0"},{"$f":"IF(ISNUMBER(SEARCH(\"9\",#REF!)),\"1\",\"0\")","v":"0"},{"$f":"IF(ISNUMBER(SEARCH(\"10\",#REF!)),\"1\",\"0\")","v":"0"},{"$f":"IF(ISNUMBER(SEARCH(\"11\",#REF!)),\"1\",\"0\")","v":"0"},{"$f":"IF(ISNUMBER(SEARCH(\"12\",#REF!)),\"1\",\"0\")","v":"0"},{"$f":"IF(ISNUMBER(SEARCH(\"13\",#REF!)),\"1\",\"0\")","v":"0"},{"$f":"IF(ISNUMBER(SEARCH(\"14\",#REF!)),\"1\",\"0\")","v":"0"},{"$f":"IF(ISNUMBER(SEARCH(\"15\",#REF!)),\"1\",\"0\")","v":"0"},{"$f":"IF(ISNUMBER(SEARCH(\"16\",#REF!)),\"1\",\"0\")","v":"0"},{"$f":"IF(ISNUMBER(SEARCH(\"17\",#REF!)),\"1\",\"0\")","v":"0"},1,{"$nulls":3},16,18,30,64,7,null,4,6,6,16,null,8,3,null,{"$f":"#REF!-#REF!","v":{"$error":"#REF!"}},{"$f":"#REF!-#REF!","v":{"$error":"#REF!"}}]
[2,22,9,"NT",2,34,null,2,1,null,6,5,2,3,"0","0","1","0","0","0","0","0","0","0","0","0","0","0","0","0","0","0",null,null,3,5,2,{"$f":"IF(ISNUMBER(SEARCH(\"1\",#REF!)),\"1\",\"0\")","v":"0"},{"$f":"IF(ISNUMBER(SEARCH(\"2\",#REF!)),\"1\",\"0\")","v":"0"},{"$f":"IF(ISNUMBER(SEARCH(\"3\",#REF!)),\"1\",\"0\")","v":"0"},{"$f":"IF(ISNUMBER(SEARCH(\"4\",#REF!)),\"1\",\"0\")","v":"0"},{"$f":"IF(ISNUMBER(SEARCH(\"5\",#REF!)),\"1\",\"0\")","v":"0"},{"$f":"IF(ISNUMBER(SEARCH(\"6\",#REF!)),\"1\",\"0\")","v":"0"},{"$f":"IF(ISNUMBER(SEARCH(\"7\",#REF!)),\"1\",\"0\")","v":"0"},{"$f":"IF(ISNUMBER(SEARCH(\"8\",#REF!)),\"1\",\"0\")","v":"0"},{"$f":"IF(ISNUMBER(SEARCH(\"9\",#REF!)),\"1\",\"0\")","v":"0"},{"$f":"IF(ISNUMBER(SEARCH(\"9\",#REF!)),\"1\",\"0\")","v":"0"},{"$f":"IF(ISNUMBER(SEARCH(\"10\",#REF!)),\"1\",\"0\")","v":"0"},{"$f":"IF(ISNUMBER(SEARCH(\"11\",#REF!)),\"1\",\"0\")","v":"0"},{"$f":"IF(ISNUMBER(SEARCH(\"12\",#REF!)),\"1\",\"0\")","v":"0"},{"$f":"IF(ISNUMBER(SEARCH(\"13\",#REF!)),\"1\",\"0\")","v":"0"},{"$f":"IF(ISNUMBER(SEARCH(\"14\",#REF!)),\"1\",\"0\")","v":"0"},{"$f":"IF(ISNUMBER(SEARCH(\"15\",#REF!)),\"1\",\"0\")","v":"0"},{"$f":"IF(ISNUMBER(SEARCH(\"16\",#REF!)),\"1\",\"0\")","v":"0"},{"$f":"IF(ISNUMBER(SEARCH(\"17\",#REF!)),\"1\",\"0\")","v":"0"},1,{"$nulls":3},20,16,22,58,8,null,6,2,8,16,null,8,4,null,{"$f":"#REF!-#REF!","v":{"$error":"#REF!"}},{"$f":"#REF!-#REF!","v":{"$error":"#REF!"}}]
[2,22,9,"LL",2,23,null,3,1,1,1,3,1,3,"0","0","1","0","0","0","0","0","0","0","0","0","0","0","0","0","0","0",null,null,3,5,2,{"$f":"IF(ISNUMBER(SEARCH(\"1\",#REF!)),\"1\",\"0\")","v":"0"},{"$f":"IF(ISNUMBER(SEARCH(\"2\",#REF!)),\"1\",\"0\")","v":"0"},{"$f":"IF(ISNUMBER(SEARCH(\"3\",#REF!)),\"1\",\"0\")","v":"0"},{"$f":"IF(ISNUMBER(SEARCH(\"4\",#REF!)),\"1\",\"0\")","v":"0"},{"$f":"IF(ISNUMBER(SEARCH(\"5\",#REF!)),\"1\",\"0\")","v":"0"},{"$f":"IF(ISNUMBER(SEARCH(\"6\",#REF!)),\"1\",\"0\")","v":"0"},{"$f":"IF(ISNUMBER(SEARCH(\"7\",#REF!)),\"1\",\"0\")","v":"0"},{"$f":"IF(ISNUMBER(SEARCH(\"8\",#REF!)),\"1\",\"0\")","v":"0"},{"$f":"IF(ISNUMBER(SEARCH(\"9\",#REF!)),\"1\",\"0\")","v":"0"},{"$f":"IF(ISNUMBER(SEARCH(\"9\",#REF!)),\"1\",\"0\")","v":"0"},{"$f":"IF(ISNUMBER(SEARCH(\"10\",#REF!)),\"1\",\"0\")","v":"0"},{"$f":"IF(ISNUMBER(SEARCH(\"11\",#REF!)),\"1\",\"0\")","v":"0"},{"$f":"IF(ISNUMBER(SEARCH(\"12\",#REF!)),\"1\",\"0\")","v":"0"},{"$f":"IF(ISNUMBER(SEARCH(\"13\",#REF!)),\"1\",\"0\")","v":"0"},{"$f":"IF(ISNUMBER(SEARCH(\"14\",#REF!)),\"1\",\"0\")","v":"0"},{"$f":"IF(ISNUMBER(SEARCH(\"15\",#REF!)),\"1\",\"0\")","v":"0"},{"$f":"IF(ISNUMBER(SEARCH(\"16\",#REF!)),\"1\",\"0\")","v":"0"},{"$f":"IF(ISNUMBER(SEARCH(\"17\",#REF!)),\"1\",\"0\")","v":"0"},4,{"$nulls":7},7]
[2,22,9,"NT",1,32,null,3,7,1,0,2,2,1,"1","0","0","0","0","0","0","0","0","0","0","0","0","0","0","0","0","0",null,null,1,2,2,{"$f":"IF(ISNUMBER(SEARCH(\"1\",#REF!)),\"1\",\"0\")","v":"0"},{"$f":"IF(ISNUMBER(SEARCH(\"2\",#REF!)),\"1\",\"0\")","v":"0"},{"$f":"IF(ISNUMBER(SEARCH(\"3\",#REF!)),\"1\",\"0\")","v":"0"},{"$f":"IF(ISNUMBER(SEARCH(\"4\",#REF!)),\"1\",\"0\")","v":"0"},{"$f":"IF(ISNUMBER(SEARCH(\"5\",#REF!)),\"1\",\"0\")","v":"0"},{"$f":"IF(ISNUMBER(SEARCH(\"6\",#REF!)),\"1\",\"0\")","v":"0"},{"$f":"IF(ISNUMBER(SEARCH(\"7\",#REF!)),\"1\",\"0\")","v":"0"},{"$f":"IF(ISNUMBER(SEARCH(\"8\",#REF!)),\"1\",\"0\")","v":"0"},{"$f":"IF(ISNUMBER(SEARCH(\"9\",#REF!)),\"1\",\"0\")","v":"0"},{"$f":"IF(ISNUMBER(SEARCH(\"9\",#REF!)),\"1\",\"0\")","v":"0"},{"$f":"IF(ISNUMBER(SEARCH(\"10\",#REF!)),\"1\",\"0\")","v":"0"},{"$f":"IF(ISNUMBER(SEARCH(\"11\",#REF!)),\"1\",\"0\")","v":"0"},{"$f":"IF(ISNUMBER(SEARCH(\"12\",#REF!)),\"1\",\"0\")","v":"0"},{"$f":"IF(ISNUMBER(SEARCH(\"13\",#REF!)),\"1\",\"0\")","v":"0"},{"$f":"IF(ISNUMBER(SEARCH(\"14\",#REF!)),\"1\",\"0\")","v":"0"},{"$f":"IF(ISNUMBER(SEARCH(\"15\",#REF!)),\"1\",\"0\")","v":"0"},{"$f":"IF(ISNUMBER(SEARCH(\"16\",#REF!)),\"1\",\"0\")","v":"0"},{"$f":"IF(ISNUMBER(SEARCH(\"17\",#REF!)),\"1\",\"0\")","v":"0"},{"$nulls":8},9]
[2,22,9,"NT",2,27,null,3,8,1,0,5,1,3,"0","0","1","0","0","0","0","0","0","0","0","0","0","0","0","0","0","0",null,null,3,5,1,{"$f":"IF(ISNUMBER(SEARCH(\"1\",#REF!)),\"1\",\"0\")","v":"0"},{"$f":"IF(ISNUMBER(SEARCH(\"2\",#REF!)),\"1\",\"0\")","v":"0"},{"$f":"IF(ISNUMBER(SEARCH(\"3\",#REF!)),\"1\",\"0\")","v":"0"},{"$f":"IF(ISNUMBER(SEARCH(\"4\",#REF!)),\"1\",\"0\")","v":"0"},{"$f":"IF(ISNUMBER(SEARCH(\"5\",#REF!)),\"1\",\"0\")","v":"0"},{"$f":"IF(ISNUMBER(SEARCH(\"6\",#REF!)),\"1\",\"0\")","v":"0"},{"$f":"IF(ISNUMBER(SEARCH(\"7\",#REF!)),\"1\",\"0\")","v":"0"},{"$f":"IF(ISNUMBER(SEARCH(\"8\",#REF!)),\"1\",\"0\")","v":"0"},{"$f":"IF(ISNUMBER(SEARCH(\"9\",#REF!)),\"1\",\"0\")","v":"0"},{"$f":"IF(ISNUMBER(SEARCH(\"9\",#REF!)),\"1\",\"0\")","v":"0"},{"$f":"IF(ISNUMBER(SEARCH(\"10\",#REF!)),\"1\",\"0\")","v":"0"},{"$f":"IF(ISNUMBER(SEARCH(\"11\",#REF!)),\"1\",\"0\")","v":"0"},{"$f":"IF(ISNUMBER(SEARCH(\"12\",#REF!)),\"1\",\"0\")","v":"0"},{"$f":"IF(ISNUMBER(SEARCH(\"13\",#REF!)),\"1\",\"0\")","v":"0"},{"$f":"IF(ISNUMBER(SEARCH(\"14\",#REF!)),\"1\",\"0\")","v":"0"},{"$f":"IF(ISNUMBER(SEARCH(\"15\",#REF!)),\"1\",\"0\")","v":"0"},{"$f":"IF(ISNUMBER(SEARCH(\"16\",#REF!)),\"1\",\"0\")","v":"0"},{"$f":"IF(ISNUMBER(SEARCH(\"17\",#REF!)),\"1\",\"0\")","v":"0"},1,2,null,null,28,8,22,58,9,null,2,4,0,6,null,13,5,null,{"$f":"#REF!-#REF!","v":{"$error":"#REF!"}},{"$f":"#REF!-#REF!","v":{"$error":"#REF!"}}]
[2,22,9,"FB",2,18,null,3,2,1,0,5,1,3,{"$f":"IF(ISNUMBER(SEARCH(\"1\",$N131)),\"1\",\"0\")","v":"0"},{"$f":"IF(ISNUMBER(SEARCH(\"2\",$N131)),\"1\",\"0\")","v":"0"},{"$f":"IF(ISNUMBER(SEARCH(\"3\",$N131)),\"1\",\"0\")","v":"1"},{"$f":"IF(ISNUMBER(SEARCH(\"4\",$N131)),\"1\",\"0\")","v":"0"},{"$f":"IF(ISNUMBER(SEARCH(\"5\",$N131)),\"1\",\"0\")","v":"0"},{"$f":"IF(ISNUMBER(SEARCH(\"6\",$N131)),\"1\",\"0\")","v":"0"},{"$f":"IF(ISNUMBER(SEARCH(\"7\",$N131)),\"1\",\"0\")","v":"0"},{"$f":"IF(ISNUMBER(SEARCH(\"8\",$N131)),\"1\",\"0\")","v":"0"},{"$f":"IF(ISNUMBER(SEARCH(\"9\",$N131)),\"1\",\"0\")","v":"0"},{"$f":"IF(ISNUMBER(SEARCH(\"10\",$N131)),\"1\",\"0\")","v":"0"},{"$f":"IF(ISNUMBER(SEARCH(\"11\",$N131)),\"1\",\"0\")","v":"0"},{"$f":"IF(ISNUMBER(SEARCH(\"12\",$N131)),\"1\",\"0\")","v":"0"},{"$f":"IF(ISNUMBER(SEARCH(\"13\",$N131)),\"1\",\"0\")","v":"0"},{"$f":"IF(ISNUMBER(SEARCH(\"14\",$N131)),\"1\",\"0\")","v":"0"},{"$f":"IF(ISNUMBER(SEARCH(\"15\",$N131)),\"1\",\"0\")","v":"0"},{"$f":"IF(ISNUMBER(SEARCH(\"16\",$N131)),\"1\",\"0\")","v":"0"},{"$f":"IF(ISNUMBER(SEARCH(\"17\",$N131)),\"1\",\"0\")","v":"0"},{"$f":"IF(ISNUMBER(SEARCH(\"18\",$N131)),\"1\",\"0\")","v":"0"},null,null,3,5,1,{"$f":"IF(ISNUMBER(SEARCH(\"1\",#REF!)),\"1\",\"0\")","v":"0"},{"$f":"IF(ISNUMBER(SEARCH(\"2\",#REF!)),\"1\",\"0\")","v":"0"},{"$f":"IF(ISNUMBER(SEARCH(\"3\",#REF!)),\"1\",\"0\")","v":"0"},{"$f":"IF(ISNUMBER(SEARCH(\"4\",#REF!)),\"1\",\"0\")","v":"0"},{"$f":"IF(ISNUMBER(SEARCH(\"5\",#REF!)),\"1\",\"0\")","v":"0"},{"$f":"IF(ISNUMBER(SEARCH(\"6\",#REF!)),\"1\",\"0\")","v":"0"},{"$f":"IF(ISNUMBER(SEARCH(\"7\",#REF!)),\"1\",\"0\")","v":"0"},{"$f":"IF(ISNUMBER(SEARCH(\"8\",#REF!)),\"1\",\"0\")","v":"0"},{"$f":"IF(ISNUMBER(SEARCH(\"9\",#REF!)),\"1\",\"0\")","v":"0"},{"$f":"IF(ISNUMBER(SEARCH(\"9\",#REF!)),\"1\",\"0\")","v":"0"},{"$f":"IF(ISNUMBER(SEARCH(\"10\",#REF!)),\"1\",\"0\")","v":"0"},{"$f":"IF(ISNUMBER(SEARCH(\"11\",#REF!)),\"1\",\"0\")","v":"0"},{"$f":"IF(ISNUMBER(SEARCH(\"12\",#REF!)),\"1\",\"0\")","v":"0"},{"$f":"IF(ISNUMBER(SEARCH(\"13\",#REF!)),\"1\",\"0\")","v":"0"},{"$f":"IF(ISNUMBER(SEARCH(\"14\",#REF!)),\"1\",\"0\")","v":"0"},{"$f":"IF(ISNUMBER(SEARCH(\"15\",#REF!)),\"1\",\"0\")","v":"0"},{"$f":"IF(ISNUMBER(SEARCH(\"16\",#REF!)),\"1\",\"0\")","v":"0"},{"$f":"IF(ISNUMBER(SEARCH(\"17\",#REF!)),\"1\",\"0\")","v":"0"},1,2,null,null,28,24,32,{"$f":"BH131+BI131+BJ131","v":84},6,null,6,0,2,{"$f":"BN131+BO131+BP131","v":8},null,12,5,null,{"$f":"#REF!-#REF!","v":{"$error":"#REF!"}},{"$f":"#REF!-#REF!","v":{"$error":"#REF!"}}]
[2,22,9,"NT",2,36,null,1,3,1,4,3,2,3,"0","0","1","0","0","0","0","0","0","0","0","0","0","0","0","0","0","0",null,null,5,5,1,{"$f":"IF(ISNUMBER(SEARCH(\"1\",#REF!)),\"1\",\"0\")","v":"0"},{"$f":"IF(ISNUMBER(SEARCH(\"2\",#REF!)),\"1\",\"0\")","v":"0"},{"$f":"IF(ISNUMBER(SEARCH(\"3\",#REF!)),\"1\",\"0\")","v":"0"},{"$f":"IF(ISNUMBER(SEARCH(\"4\",#REF!)),\"1\",\"0\")","v":"0"},{"$f":"IF(ISNUMBER(SEARCH(\"5\",#REF!)),\"1\",\"0\")","v":"0"},{"$f":"IF(ISNUMBER(SEARCH(\"6\",#REF!)),\"1\",\"0\")","v":"0"},{"$f":"IF(ISNUMBER(SEARCH(\"7\",#REF!)),\"1\",\"0\")","v":"0"},{"$f":"IF(ISNUMBER(SEARCH(\"8\",#REF!)),\"1\",\"0\")","v":"0"},{"$f":"IF(ISNUMBER(SEARCH(\"9\",#REF!)),\"1\",\"0\")","v":"0"},{"$f":"IF(ISNUMBER(SEARCH(\"9\",#REF!)),\"1\",\"0\")","v":"0"},{"$f":"IF(ISNUMBER(SEARCH(\"10\",#REF!)),\"1\",\"0\")","v":"0"},{"$f":"IF(ISNUMBER(SEARCH(\"11\",#REF!)),\"1\",\"0\")","v":"0"},{"$f":"IF(ISNUMBER(SEARCH(\"12\",#REF!)),\"1\",\"0\")","v":"0"},{"$f":"IF(ISNUMBER(SEARCH(\"13\",#REF!)),\"1\",\"0\")","v":"0"},{"$f":"IF(ISNUMBER(SEARCH(\"14\",#REF!)),\"1\",\"0\")","v":"0"},{"$f":"IF(ISNUMBER(SEARCH(\"15\",#REF!)),\"1\",\"0\")","v":"0"},{"$f":"IF(ISNUMBER(SEARCH(\"16\",#REF!)),\"1\",\"0\")","v":"0"},{"$f":"IF(ISNUMBER(SEARCH(\"17\",#REF!)),\"1\",\"0\")","v":"0"},1,2,{"$nulls":6},6]
[2,22,3,"KF",2,32,null,2,3,1,5,5,2,3,"0","0","1","0","0","0","0","0","0","0","0","0","0","0","0","0","0","0",null,null,3,5,1,{"$f":"IF(ISNUMBER(SEARCH(\"1\",#REF!)),\"1\",\"0\")","v":"0"},{"$f":"IF(ISNUMBER(SEARCH(\"2\",#REF!)),\"1\",\"0\")","v":"0"},{"$f":"IF(ISNUMBER(SEARCH(\"3\",#REF!)),\"1\",\"0\")","v":"0"},{"$f":"IF(ISNUMBER(SEARCH(\"4\",#REF!)),\"1\",\"0\")","v":"0"},{"$f":"IF(ISNUMBER(SEARCH(\"5\",#REF!)),\"1\",\"0\")","v":"0"},{"$f":"IF(ISNUMBER(SEARCH(\"6\",#REF!)),\"1\",\"0\")","v":"0"},{"$f":"IF(ISNUMBER(SEARCH(\"7\",#REF!)),\"1\",\"0\")","v":"0"},{"$f":"IF(ISNUMBER(SEARCH(\"8\",#REF!)),\"1\",\"0\")","v":"0"},{"$f":"IF(ISNUMBER(SEARCH(\"9\",#REF!)),\"1\",\"0\")","v":"0"},{"$f":"IF(ISNUMBER(SEARCH(\"9\",#REF!)),\"1\",\"0\")","v":"0"},{"$f":"IF(ISNUMBER(SEARCH(\"10\",#REF!)),\"1\",\"0\")","v":"0"},{"$f":"IF(ISNUMBER(SEARCH(\"11\",#REF!)),\"1\",\"0\")","v":"0"},{"$f":"IF(ISNUMBER(SEARCH(\"12\",#REF!)),\"1\",\"0\")","v":"0"},{"$f":"IF(ISNUMBER(SEARCH(\"13\",#REF!)),\"1\",\"0\")","v":"0"},{"$f":"IF(ISNUMBER(SEARCH(\"14\",#REF!)),\"1\",\"0\")","v":"0"},{"$f":"IF(ISNUMBER(SEARCH(\"15\",#REF!)),\"1\",\"0\")","v":"0"},{"$f":"IF(ISNUMBER(SEARCH(\"16\",#REF!)),\"1\",\"0\")","v":"0"},{"$f":"IF(ISNUMBER(SEARCH(\"17\",#REF!)),\"1\",\"0\")","v":"0"},4,1,null,null,12,14,20,46,9,null,6,4,12,22,null,null,5,null,null,{"$f":"#REF!-#REF!","v":{"$error":"#REF!"}}]
[2,22,3,"KF",2,36,null,1,3,2,6,5,6,3,"0","0","1","0","0","0","0","0","0","0","0","0","0","0","0","0","0","0",null,null,3,5,2,{"$f":"IF(ISNUMBER(SEARCH(\"1\",#REF!)),\"1\",\"0\")","v":"0"},{"$f":"IF(ISNUMBER(SEARCH(\"2\",#REF!)),\"1\",\"0\")","v":"0"},{"$f":"IF(ISNUMBER(SEARCH(\"3\",#REF!)),\"1\",\"0\")","v":"0"},{"$f":"IF(ISNUMBER(SEARCH(\"4\",#REF!)),\"1\",\"0\")","v":"0"},{"$f":"IF(ISNUMBER(SEARCH(\"5\",#REF!)),\"1\",\"0\")","v":"0"},{"$f":"IF(ISNUMBER(SEARCH(\"6\",#REF!)),\"1\",\"0\")","v":"0"},{"$f":"IF(ISNUMBER(SEARCH(\"7\",#REF!)),\"1\",\"0\")","v":"0"},{"$f":"IF(ISNUMBER(SEARCH(\"8\",#REF!)),\"1\",\"0\")","v":"0"},{"$f":"IF(ISNUMBER(SEARCH(\"9\",#REF!)),\"1\",\"0\")","v":"0"},{"$f":"IF(ISNUMBER(SEARCH(\"9\",#REF!)),\"1\",\"0\")","v":"0"},{"$f":"IF(ISNUMBER(SEARCH(\"10\",#REF!)),\"1\",\"0\")","v":"0"},{"$f":"IF(ISNUMBER(SEARCH(\"11\",#REF!)),\"1\",\"0\")","v":"0"},{"$f":"IF(ISNUMBER(SEARCH(\"12\",#REF!)),\"1\",\"0\")","v":"0"},{"$f":"IF(ISNUMBER(SEARCH(\"13\",#REF!)),\"1\",\"0\")","v":"0"},{"$f":"IF(ISNUMBER(SEARCH(\"14\",#REF!)),\"1\",\"0\")","v":"0"},{"$f":"IF(ISNUMBER(SEARCH(\"15\",#REF!)),\"1\",\"0\")","v":"0"},{"$f":"IF(ISNUMBER(SEARCH(\"16\",#REF!)),\"1\",\"0\")","v":"0"},{"$f":"IF(ISNUMBER(SEARCH(\"17\",#REF!)),\"1\",\"0\")","v":"0"},1,1,null,null,16,14,22,52,9,null,6,4,8,18,null,14,4,null,null,{"$f":"#REF!-#REF!","v":{"$error":"#REF!"}}]
[2,22,3,"KF",2,28,null,2,3,1,3,3,5,"3, 15. Insultes / a reçu des menaces","1","0","1","0","1","0","0","0","0","0","0","0","0","0","1","0","0","0",null,null,2,5,null,{"$f":"IF(ISNUMBER(SEARCH(\"1\",#REF!)),\"1\",\"0\")","v":"0"},{"$f":"IF(ISNUMBER(SEARCH(\"2\",#REF!)),\"1\",\"0\")","v":"0"},{"$f":"IF(ISNUMBER(SEARCH(\"3\",#REF!)),\"1\",\"0\")","v":"0"},{"$f":"IF(ISNUMBER(SEARCH(\"4\",#REF!)),\"1\",\"0\")","v":"0"},{"$f":"IF(ISNUMBER(SEARCH(\"5\",#REF!)),\"1\",\"0\")","v":"0"},{"$f":"IF(ISNUMBER(SEARCH(\"6\",#REF!)),\"1\",\"0\")","v":"0"},{"$f":"IF(ISNUMBER(SEARCH(\"7\",#REF!)),\"1\",\"0\")","v":"0"},{"$f":"IF(ISNUMBER(SEARCH(\"8\",#REF!)),\"1\",\"0\")","v":"0"},{"$f":"IF(ISNUMBER(SEARCH(\"9\",#REF!)),\"1\",\"0\")","v":"0"},{"$f":"IF(ISNUMBER(SEARCH(\"9\",#REF!)),\"1\",\"0\")","v":"0"},{"$f":"IF(ISNUMBER(SEARCH(\"10\",#REF!)),\"1\",\"0\")","v":"0"},{"$f":"IF(ISNUMBER(SEARCH(\"11\",#REF!)),\"1\",\"0\")","v":"0"},{"$f":"IF(ISNUMBER(SEARCH(\"12\",#REF!)),\"1\",\"0\")","v":"0"},{"$f":"IF(ISNUMBER(SEARCH(\"13\",#REF!)),\"1\",\"0\")","v":"0"},{"$f":"IF(ISNUMBER(SEARCH(\"14\",#REF!)),\"1\",\"0\")","v":"0"},{"$f":"IF(ISNUMBER(SEARCH(\"15\",#REF!)),\"1\",\"0\")","v":"0"},{"$f":"IF(ISNUMBER(SEARCH(\"16\",#REF!)),\"1\",\"0\")","v":"0"},{"$f":"IF(ISNUMBER(SEARCH(\"17\",#REF!)),\"1\",\"0\")","v":"0"},3,1,null,null,16,8,22,46,6,null,14,8,12,34,null,10,4,null,{"$f":"#REF!-#REF!","v":{"$error":"#REF!"}},{"$f":"#REF!-#REF!","v":{"$error":"#REF!"}}]
[2,22,3,"KN",2,31,null,2,8,1,3,5,1,"3, 16. Autre (SVP dans la case suivante) ","1","0","1","0","0","1","0","0","0","0","0","0","0","0","0","1","0","0",null,null,3,5,1,{"$f":"IF(ISNUMBER(SEARCH(\"1\",#REF!)),\"1\",\"0\")","v":"0"},{"$f":"IF(ISNUMBER(SEARCH(\"2\",#REF!)),\"1\",\"0\")","v":"0"},{"$f":"IF(ISNUMBER(SEARCH(\"3\",#REF!)),\"1\",\"0\")","v":"0"},{"$f":"IF(ISNUMBER(SEARCH(\"4\",#REF!)),\"1\",\"0\")","v":"0"},{"$f":"IF(ISNUMBER(SEARCH(\"5\",#REF!)),\"1\",\"0\")","v":"0"},{"$f":"IF(ISNUMBER(SEARCH(\"6\",#REF!)),\"1\",\"0\")","v":"0"},{"$f":"IF(ISNUMBER(SEARCH(\"7\",#REF!)),\"1\",\"0\")","v":"0"},{"$f":"IF(ISNUMBER(SEARCH(\"8\",#REF!)),\"1\",\"0\")","v":"0"},{"$f":"IF(ISNUMBER(SEARCH(\"9\",#REF!)),\"1\",\"0\")","v":"0"},{"$f":"IF(ISNUMBER(SEARCH(\"9\",#REF!)),\"1\",\"0\")","v":"0"},{"$f":"IF(ISNUMBER(SEARCH(\"10\",#REF!)),\"1\",\"0\")","v":"0"},{"$f":"IF(ISNUMBER(SEARCH(\"11\",#REF!)),\"1\",\"0\")","v":"0"},{"$f":"IF(ISNUMBER(SEARCH(\"12\",#REF!)),\"1\",\"0\")","v":"0"},{"$f":"IF(ISNUMBER(SEARCH(\"13\",#REF!)),\"1\",\"0\")","v":"0"},{"$f":"IF(ISNUMBER(SEARCH(\"14\",#REF!)),\"1\",\"0\")","v":"0"},{"$f":"IF(ISNUMBER(SEARCH(\"15\",#REF!)),\"1\",\"0\")","v":"0"},{"$f":"IF(ISNUMBER(SEARCH(\"16\",#REF!)),\"1\",\"0\")","v":"0"},{"$f":"IF(ISNUMBER(SEARCH(\"17\",#REF!)),\"1\",\"0\")","v":"0"},3,1,null,null,10,8,18,36,4,{"$nulls":9},{"$f":"#REF!-#REF!","v":{"$error":"#REF!"}}]
[2,22,3,"KN",1,44,null,2,3,1,null,5,2,"1, 16. Autre (SVP dans la case suivante) ","1","0","0","0","0","1","0","0","0","0","0","0","0","0","0","1","0","0",{"$nulls":3},5,2,{"$f":"IF(ISNUMBER(SEARCH(\"1\",#REF!)),\"1\",\"0\")","v":"0"},{"$f":"IF(ISNUMBER(SEARCH(\"2\",#REF!)),\"1\",\"0\")","v":"0"},{"$f":"IF(ISNUMBER(SEARCH(\"3\",#REF!)),\"1\",\"0\")","v":"0"},{"$f":"IF(ISNUMBER(SEARCH(\"4\",#REF!)),\"1\",\"0\")","v":"0"},{"$f":"IF(ISNUMBER(SEARCH(\"5\",#REF!)),\"1\",\"0\")","v":"0"},{"$f":"IF(ISNUMBER(SEARCH(\"6\",#REF!)),\"1\",\"0\")","v":"0"},{"$f":"IF(ISNUMBER(SEARCH(\"7\",#REF!)),\"1\",\"0\")","v":"0"},{"$f":"IF(ISNUMBER(SEARCH(\"8\",#REF!)),\"1\",\"0\")","v":"0"},{"$f":"IF(ISNUMBER(SEARCH(\"9\",#REF!)),\"1\",\"0\")","v":"0"},{"$f":"IF(ISNUMBER(SEARCH(\"9\",#REF!)),\"1\",\"0\")","v":"0"},{"$f":"IF(ISNUMBER(SEARCH(\"10\",#REF!)),\"1\",\"0\")","v":"0"},{"$f":"IF(ISNUMBER(SEARCH(\"11\",#REF!)),\"1\",\"0\")","v":"0"},{"$f":"IF(ISNUMBER(SEARCH(\"12\",#REF!)),\"1\",\"0\")","v":"0"},{"$f":"IF(ISNUMBER(SEARCH(\"13\",#REF!)),\"1\",\"0\")","v":"0"},{"$f":"IF(ISNUMBER(SEARCH(\"14\",#REF!)),\"1\",\"0\")","v":"0"},{"$f":"IF(ISNUMBER(SEARCH(\"15\",#REF!)),\"1\",\"0\")","v":"0"},{"$f":"IF(ISNUMBER(SEARCH(\"16\",#REF!)),\"1\",\"0\")","v":"0"},{"$f":"IF(ISNUMBER(SEARCH(\"17\",#REF!)),\"1\",\"0\")","v":"0"},{"$nulls":4},16,8,16,40,7,{"$nulls":9},{"$f":"#REF!-#REF!","v":{"$error":"#REF!"}}]
[2,22,3,"KN",2,31,null,2,3,1,4,5,2,3,"0","0","1","0","0","0","0","0","0","0","0","0","0","0","0","0","0","0",null,null,3,5,1,{"$f":"IF(ISNUMBER(SEARCH(\"1\",#REF!)),\"1\",\"0\")","v":"0"},{"$f":"IF(ISNUMBER(SEARCH(\"2\",#REF!)),\"1\",\"0\")","v":"0"},{"$f":"IF(ISNUMBER(SEARCH(\"3\",#REF!)),\"1\",\"0\")","v":"0"},{"$f":"IF(ISNUMBER(SEARCH(\"4\",#REF!)),\"1\",\"0\")","v":"0"},{"$f":"IF(ISNUMBER(SEARCH(\"5\",#REF!)),\"1\",\"0\")","v":"0"},{"$f":"IF(ISNUMBER(SEARCH(\"6\",#REF!)),\"1\",\"0\")","v":"0"},{"$f":"IF(ISNUMBER(SEARCH(\"7\",#REF!)),\"1\",\"0\")","v":"0"},{"$f":"IF(ISNUMBER(SEARCH(\"8\",#REF!)),\"1\",\"0\")","v":"0"},{"$f":"IF(ISNUMBER(SEARCH(\"9\",#REF!)),\"1\",\"0\")","v":"0"},{"$f":"IF(ISNUMBER(SEARCH(\"9\",#REF!)),\"1\",\"0\")","v":"0"},{"$f":"IF(ISNUMBER(SEARCH(\"10\",#REF!)),\"1\",\"0\")","v":"0"},{"$f":"IF(ISNUMBER(SEARCH(\"11\",#REF!)),\"1\",\"0\")","v":"0"},{"$f":"IF(ISNUMBER(SEARCH(\"12\",#REF!)),\"1\",\"0\")","v":"0"},{"$f":"IF(ISNUMBER(SEARCH(\"13\",#REF!)),\"1\",\"0\")","v":"0"},{"$f":"IF(ISNUMBER(SEARCH(\"14\",#REF!)),\"1\",\"0\")","v":"0"},{"$f":"IF(ISNUMBER(SEARCH(\"15\",#REF!)),\"1\",\"0\")","v":"0"},{"$f":"IF(ISNUMBER(SEARCH(\"16\",#REF!)),\"1\",\"0\")","v":"0"},{"$f":"IF(ISNUMBER(SEARCH(\"17\",#REF!)),\"1\",\"0\")","v":"0"},3,1,null,null,10,14,18,42,4]
[2,22,3,"KN",2,17,null,3,2,1,0,3,1,3,"0","0","1","0","0","0","0","0","0","0","0","0","0","0","0","0","0","0",null,null,3,3,1,{"$f":"IF(ISNUMBER(SEARCH(\"1\",#REF!)),\"1\",\"0\")","v":"0"},{"$f":"IF(ISNUMBER(SEARCH(\"2\",#REF!)),\"1\",\"0\")","v":"0"},{"$f":"IF(ISNUMBER(SEARCH(\"3\",#REF!)),\"1\",\"0\")","v":"0"},{"$f":"IF(ISNUMBER(SEARCH(\"4\",#REF!)),\"1\",\"0\")","v":"0"},{"$f":"IF(ISNUMBER(SEARCH(\"5\",#REF!)),\"1\",\"0\")","v":"0"},{"$f":"IF(ISNUMBER(SEARCH(\"6\",#REF!)),\"1\",\"0\")","v":"0"},{"$f":"IF(ISNUMBER(SEARCH(\"7\",#REF!)),\"1\",\"0\")","v":"0"},{"$f":"IF(ISNUMBER(SEARCH(\"8\",#REF!)),\"1\",\"0\")","v":"0"},{"$f":"IF(ISNUMBER(SEARCH(\"9\",#REF!)),\"1\",\"0\")","v":"0"},{"$f":"IF(ISNUMBER(SEARCH(\"9\",#REF!)),\"1\",\"0\")","v":"0"},{"$f":"IF(ISNUMBER(SEARCH(\"10\",#REF!)),\"1\",\"0\")","v":"0"},{"$f":"IF(ISNUMBER(SEARCH(\"11\",#REF!)),\"1\",\"0\")","v":"0"},{"$f":"IF(ISNUMBER(SEARCH(\"12\",#REF!)),\"1\",\"0\")","v":"0"},{"$f":"IF(ISNUMBER(SEARCH(\"13\",#REF!)),\"1\",\"0\")","v":"0"},{"$f":"IF(ISNUMBER(SEARCH(\"14\",#REF!)),\"1\",\"0\")","v":"0"},{"$f":"IF(ISNUMBER(SEARCH(\"15\",#REF!)),\"1\",\"0\")","v":"0"},{"$f":"IF(ISNUMBER(SEARCH(\"16\",#REF!)),\"1\",\"0\")","v":"0"},{"$f":"IF(ISNUMBER(SEARCH(\"17\",#REF!)),\"1\",\"0\")","v":"0"},1,{"$nulls":3},2,0,6,8,3]
[2,22,3,"SK",2,17,null,3,2,2,0,5,1,3,"0","0","1","0","0","0","0","0","0","0","0","0","0","0","0","0","0","0",null,null,2,5,2,{"$f":"IF(ISNUMBER(SEARCH(\"1\",#REF!)),\"1\",\"0\")","v":"0"},0,{"$f":"IF(ISNUMBER(SEARCH(\"3\",#REF!)),\"1\",\"0\")","v":"0"},{"$f":"IF(ISNUMBER(SEARCH(\"4\",#REF!)),\"1\",\"0\")","v":"0"},{"$f":"IF(ISNUMBER(SEARCH(\"5\",#REF!)),\"1\",\"0\")","v":"0"},{"$f":"IF(ISNUMBER(SEARCH(\"6\",#REF!)),\"1\",\"0\")","v":"0"},{"$f":"IF(ISNUMBER(SEARCH(\"7\",#REF!)),\"1\",\"0\")","v":"0"},{"$f":"IF(ISNUMBER(SEARCH(\"8\",#REF!)),\"1\",\"0\")","v":"0"},{"$f":"IF(ISNUMBER(SEARCH(\"9\",#REF!)),\"1\",\"0\")","v":"0"},{"$f":"IF(ISNUMBER(SEARCH(\"9\",#REF!)),\"1\",\"0\")","v":"0"},{"$f":"IF(ISNUMBER(SEARCH(\"10\",#REF!)),\"1\",\"0\")","v":"0"},{"$f":"IF(ISNUMBER(SEARCH(\"11\",#REF!)),\"1\",\"0\")","v":"0"},{"$f":"IF(ISNUMBER(SEARCH(\"12\",#REF!)),\"1\",\"0\")","v":"0"},{"$f":"IF(ISNUMBER(SEARCH(\"13\",#REF!)),\"1\",\"0\")","v":"0"},{"$f":"IF(ISNUMBER(SEARCH(\"14\",#REF!)),\"1\",\"0\")","v":"0"},{"$f":"IF(ISNUMBER(SEARCH(\"15\",#REF!)),\"1\",\"0\")","v":"0"},{"$f":"IF(ISNUMBER(SEARCH(\"16\",#REF!)),\"1\",\"0\")","v":"0"},{"$f":"IF(ISNUMBER(SEARCH(\"17\",#REF!)),\"1\",\"0\")","v":"0"},4,2,null,null,12,6,4,22,8]
[2,22,3,"SK",2,42,null,1,7,1,9,5,2,3,"0","0","1","0","0","0","0","0","0","0","0","0","0","0","0","0","0","0",{"$nulls":3},5,2,{"$f":"IF(ISNUMBER(SEARCH(\"1\",#REF!)),\"1\",\"0\")","v":"0"},{"$f":"IF(ISNUMBER(SEARCH(\"2\",#REF!)),\"1\",\"0\")","v":"0"},{"$f":"IF(ISNUMBER(SEARCH(\"3\",#REF!)),\"1\",\"0\")","v":"0"},{"$f":"IF(ISNUMBER(SEARCH(\"4\",#REF!)),\"1\",\"0\")","v":"0"},{"$f":"IF(ISNUMBER(SEARCH(\"5\",#REF!)),\"1\",\"0\")","v":"0"},{"$f":"IF(ISNUMBER(SEARCH(\"6\",#REF!)),\"1\",\"0\")","v":"0"},{"$f":"IF(ISNUMBER(SEARCH(\"7\",#REF!)),\"1\",\"0\")","v":"0"},{"$f":"IF(ISNUMBER(SEARCH(\"8\",#REF!)),\"1\",\"0\")","v":"0"},{"$f":"IF(ISNUMBER(SEARCH(\"9\",#REF!)),\"1\",\"0\")","v":"0"},{"$f":"IF(ISNUMBER(SEARCH(\"9\",#REF!)),\"1\",\"0\")","v":"0"},{"$f":"IF(ISNUMBER(SEARCH(\"10\",#REF!)),\"1\",\"0\")","v":"0"},{"$f":"IF(ISNUMBER(SEARCH(\"11\",#REF!)),\"1\",\"0\")","v":"0"},{"$f":"IF(ISNUMBER(SEARCH(\"12\",#REF!)),\"1\",\"0\")","v":"0"},{"$f":"IF(ISNUMBER(SEARCH(\"13\",#REF!)),\"1\",\"0\")","v":"0"},{"$f":"IF(ISNUMBER(SEARCH(\"14\",#REF!)),\"1\",\"0\")","v":"0"},{"$f":"IF(ISNUMBER(SEARCH(\"15\",#REF!)),\"1\",\"0\")","v":"0"},{"$f":"IF(ISNUMBER(SEARCH(\"16\",#REF!)),\"1\",\"0\")","v":"0"},{"$f":"IF(ISNUMBER(SEARCH(\"17\",#REF!)),\"1\",\"0\")","v":"0"},4,2,null,null,10,6,4,20,9]
[2,22,3,"KF",1,34,null,3,3,1,null,1,2,"1, 16. Autre (SVP dans la case suivante) ","1","0","0","0","0","1","0","0","0","0","0","0","0","0","0","1","0","0",null,null,3,5,2,{"$f":"IF(ISNUMBER(SEARCH(\"1\",#REF!)),\"1\",\"0\")","v":"0"},{"$f":"IF(ISNUMBER(SEARCH(\"2\",#REF!)),\"1\",\"0\")","v":"0"},{"$f":"IF(ISNUMBER(SEARCH(\"3\",#REF!)),\"1\",\"0\")","v":"0"},{"$f":"IF(ISNUMBER(SEARCH(\"4\",#REF!)),\"1\",\"0\")","v":"0"},{"$f":"IF(ISNUMBER(SEARCH(\"5\",#REF!)),\"1\",\"0\")","v":"0"},{"$f":"IF(ISNUMBER(SEARCH(\"6\",#REF!)),\"1\",\"0\")","v":"0"},{"$f":"IF(ISNUMBER(SEARCH(\"7\",#REF!)),\"1\",\"0\")","v":"0"},{"$f":"IF(ISNUMBER(SEARCH(\"8\",#REF!)),\"1\",\"0\")","v":"0"},{"$f":"IF(ISNUMBER(SEARCH(\"9\",#REF!)),\"1\",\"0\")","v":"0"},{"$f":"IF(ISNUMBER(SEARCH(\"9\",#REF!)),\"1\",\"0\")","v":"0"},{"$f":"IF(ISNUMBER(SEARCH(\"10\",#REF!)),\"1\",\"0\")","v":"0"},{"$f":"IF(ISNUMBER(SEARCH(\"11\",#REF!)),\"1\",\"0\")","v":"0"},{"$f":"IF(ISNUMBER(SEARCH(\"12\",#REF!)),\"1\",\"0\")","v":"0"},{"$f":"IF(ISNUMBER(SEARCH(\"13\",#REF!)),\"1\",\"0\")","v":"0"},{"$f":"IF(ISNUMBER(SEARCH(\"14\",#REF!)),\"1\",\"0\")","v":"0"},{"$f":"IF(ISNUMBER(SEARCH(\"15\",#REF!)),\"1\",\"0\")","v":"0"},{"$f":"IF(ISNUMBER(SEARCH(\"16\",#REF!)),\"1\",\"0\")","v":"0"},{"$f":"IF(ISNUMBER(SEARCH(\"17\",#REF!)),\"1\",\"0\")","v":"0"},{"$nulls":4},14,10,18,42,8,{"$nulls":9},{"$f":"#REF!-#REF!","v":{"$error":"#REF!"}}]
[2,22,3,"KF",2,31,null,2,7,1,4,3,2,2,"0","1","0","0","0","0","0","0","0","0","0","0","0","0","0","0","0","0",null,null,3,5,2,{"$f":"IF(ISNUMBER(SEARCH(\"1\",#REF!)),\"1\",\"0\")","v":"0"},{"$f":"IF(ISNUMBER(SEARCH(\"2\",#REF!)),\"1\",\"0\")","v":"0"},{"$f":"IF(ISNUMBER(SEARCH(\"3\",#REF!)),\"1\",\"0\")","v":"0"},{"$f":"IF(ISNUMBER(SEARCH(\"4\",#REF!)),\"1\",\"0\")","v":"0"},{"$f":"IF(ISNUMBER(SEARCH(\"5\",#REF!)),\"1\",\"0\")","v":"0"},{"$f":"IF(ISNUMBER(SEARCH(\"6\",#REF!)),\"1\",\"0\")","v":"0"},{"$f":"IF(ISNUMBER(SEARCH(\"7\",#REF!)),\"1\",\"0\")","v":"0"},{"$f":"IF(ISNUMBER(SEARCH(\"8\",#REF!)),\"1\",\"0\")","v":"0"},{"$f":"IF(ISNUMBER(SEARCH(\"9\",#REF!)),\"1\",\"0\")","v":"0"},{"$f":"IF(ISNUMBER(SEARCH(\"9\",#REF!)),\"1\",\"0\")","v":"0"},{"$f":"IF(ISNUMBER(SEARCH(\"10\",#REF!)),\"1\",\"0\")","v":"0"},{"$f":"IF(ISNUMBER(SEARCH(\"11\",#REF!)),\"1\",\"0\")","v":"0"},{"$f":"IF(ISNUMBER(SEARCH(\"12\",#REF!)),\"1\",\"0\")","v":"0"},{"$f":"IF(ISNUMBER(SEARCH(\"13\",#REF!)),\"1\",\"0\")","v":"0"},{"$f":"IF(ISNUMBER(SEARCH(\"14\",#REF!)),\"1\",\"0\")","v":"0"},{"$f":"IF(ISNUMBER(SEARCH(\"15\",#REF!)),\"1\",\"0\")","v":"0"},{"$f":"IF(ISNUMBER(SEARCH(\"16\",#REF!)),\"1\",\"0\")","v":"0"},{"$f":"IF(ISNUMBER(SEARCH(\"17\",#REF!)),\"1\",\"0\")","v":"0"},{"$nulls":4},18,12,20,50,7]
[2,22,3,"KN",2,null,null,3,2,1,null,5,1,"7. Prostitution forcée, 15. Insultes / a reçu des menaces","1","0","0","0","1","0","1","0","0","0","0","0","0","0","1","0","0","0",null,null,1,2,1,{"$f":"IF(ISNUMBER(SEARCH(\"1\",#REF!)),\"1\",\"0\")","v":"0"},{"$f":"IF(ISNUMBER(SEARCH(\"2\",#REF!)),\"1\",\"0\")","v":"0"},{"$f":"IF(ISNUMBER(SEARCH(\"3\",#REF!)),\"1\",\"0\")","v":"0"},{"$f":"IF(ISNUMBER(SEARCH(\"4\",#REF!)),\"1\",\"0\")","v":"0"},{"$f":"IF(ISNUMBER(SEARCH(\"5\",#REF!)),\"1\",\"0\")","v":"0"},{"$f":"IF(ISNUMBER(SEARCH(\"6\",#REF!)),\"1\",\"0\")","v":"0"},{"$f":"IF(ISNUMBER(SEARCH(\"7\",#REF!)),\"1\",\"0\")","v":"0"},{"$f":"IF(ISNUMBER(SEARCH(\"8\",#REF!)),\"1\",\"0\")","v":"0"},{"$f":"IF(ISNUMBER(SEARCH(\"9\",#REF!)),\"1\",\"0\")","v":"0"},{"$f":"IF(ISNUMBER(SEARCH(\"9\",#REF!)),\"1\",\"0\")","v":"0"},{"$f":"IF(ISNUMBER(SEARCH(\"10\",#REF!)),\"1\",\"0\")","v":"0"},{"$f":"IF(ISNUMBER(SEARCH(\"11\",#REF!)),\"1\",\"0\")","v":"0"},{"$f":"IF(ISNUMBER(SEARCH(\"12\",#REF!)),\"1\",\"0\")","v":"0"},{"$f":"IF(ISNUMBER(SEARCH(\"13\",#REF!)),\"1\",\"0\")","v":"0"},{"$f":"IF(ISNUMBER(SEARCH(\"14\",#REF!)),\"1\",\"0\")","v":"0"},{"$f":"IF(ISNUMBER(SEARCH(\"15\",#REF!)),\"1\",\"0\")","v":"0"},{"$f":"IF(ISNUMBER(SEARCH(\"16\",#REF!)),\"1\",\"0\")","v":"0"},{"$f":"IF(ISNUMBER(SEARCH(\"17\",#REF!)),\"1\",\"0\")","v":"0"},{"$nulls":4},18,12,22,52,5,{"$nulls":9},{"$f":"#REF!-#REF!","v":{"$error":"#REF!"}}]
[2,22,3,"KF",2,32,null,2,3,1,3,5,2,3,"0","0","1","0","0","0","0","0","0","0","0","0","0","0","0","0","0","0",null,null,2,5,2,{"$f":"IF(ISNUMBER(SEARCH(\"1\",#REF!)),\"1\",\"0\")","v":"0"},{"$f":"IF(ISNUMBER(SEARCH(\"2\",#REF!)),\"1\",\"0\")","v":"0"},{"$f":"IF(ISNUMBER(SEARCH(\"3\",#REF!)),\"1\",\"0\")","v":"0"},{"$f":"IF(ISNUMBER(SEARCH(\"4\",#REF!)),\"1\",\"0\")","v":"0"},{"$f":"IF(ISNUMBER(SEARCH(\"5\",#REF!)),\"1\",\"0\")","v":"0"},{"$f":"IF(ISNUMBER(SEARCH(\"6\",#REF!)),\"1\",\"0\")","v":"0"},{"$f":"IF(ISNUMBER(SEARCH(\"7\",#REF!)),\"1\",\"0\")","v":"0"},{"$f":"IF(ISNUMBER(SEARCH(\"8\",#REF!)),\"1\",\"0\")","v":"0"},{"$f":"IF(ISNUMBER(SEARCH(\"9\",#REF!)),\"1\",\"0\")","v":"0"},{"$f":"IF(ISNUMBER(SEARCH(\"9\",#REF!)),\"1\",\"0\")","v":"0"},{"$f":"IF(ISNUMBER(SEARCH(\"10\",#REF!)),\"1\",\"0\")","v":"0"},{"$f":"IF(ISNUMBER(SEARCH(\"11\",#REF!)),\"1\",\"0\")","v":"0"},{"$f":"IF(ISNUMBER(SEARCH(\"12\",#REF!)),\"1\",\"0\")","v":"0"},{"$f":"IF(ISNUMBER(SEARCH(\"13\",#REF!)),\"1\",\"0\")","v":"0"},{"$f":"IF(ISNUMBER(SEARCH(\"14\",#REF!)),\"1\",\"0\")","v":"0"},{"$f":"IF(ISNUMBER(SEARCH(\"15\",#REF!)),\"1\",\"0\")","v":"0"},{"$f":"IF(ISNUMBER(SEARCH(\"16\",#REF!)),\"1\",\"0\")","v":"0"},{"$f":"IF(ISNUMBER(SEARCH(\"17\",#REF!)),\"1\",\"0\")","v":"0"},1,1,{"$nulls":6},9]
[2,22,3,"KN",1,null,null,2,3,null,null,5,2,"1, 14","1","0","0","1","0","0","0","0","0","0","0","0","0","1","0","0","0","0",null,null,3,5,2,{"$f":"IF(ISNUMBER(SEARCH(\"1\",#REF!)),\"1\",\"0\")","v":"0"},{"$f":"IF(ISNUMBER(SEARCH(\"2\",#REF!)),\"1\",\"0\")","v":"0"},{"$f":"IF(ISNUMBER(SEARCH(\"3\",#REF!)),\"1\",\"0\")","v":"0"},{"$f":"IF(ISNUMBER(SEARCH(\"4\",#REF!)),\"1\",\"0\")","v":"0"},{"$f":"IF(ISNUMBER(SEARCH(\"5\",#REF!)),\"1\",\"0\")","v":"0"},{"$f":"IF(ISNUMBER(SEARCH(\"6\",#REF!)),\"1\",\"0\")","v":"0"},{"$f":"IF(ISNUMBER(SEARCH(\"7\",#REF!)),\"1\",\"0\")","v":"0"},{"$f":"IF(ISNUMBER(SEARCH(\"8\",#REF!)),\"1\",\"0\")","v":"0"},{"$f":"IF(ISNUMBER(SEARCH(\"9\",#REF!)),\"1\",\"0\")","v":"0"},{"$f":"IF(ISNUMBER(SEARCH(\"9\",#REF!)),\"1\",\"0\")","v":"0"},{"$f":"IF(ISNUMBER(SEARCH(\"10\",#REF!)),\"1\",\"0\")","v":"0"},{"$f":"IF(ISNUMBER(SEARCH(\"11\",#REF!)),\"1\",\"0\")","v":"0"},{"$f":"IF(ISNUMBER(SEARCH(\"12\",#REF!)),\"1\",\"0\")","v":"0"},{"$f":"IF(ISNUMBER(SEARCH(\"13\",#REF!)),\"1\",\"0\")","v":"0"},{"$f":"IF(ISNUMBER(SEARCH(\"14\",#REF!)),\"1\",\"0\")","v":"0"},{"$f":"IF(ISNUMBER(SEARCH(\"15\",#REF!)),\"1\",\"0\")","v":"0"},{"$f":"IF(ISNUMBER(SEARCH(\"16\",#REF!)),\"1\",\"0\")","v":"0"},{"$f":"IF(ISNUMBER(SEARCH(\"17\",#REF!)),\"1\",\"0\")","v":"0"},{"$nulls":4},22,8,20,50,6,{"$nulls":9},{"$f":"#REF!-#REF!","v":{"$error":"#REF!"}}]
[2,22,3,"KF",1,26,null,3,3,1,2,5,2,1,"1","0","0","0","0","0","0","0","0","0","0","0","0","0","0","0","0","0",null,null,3,5,2,{"$f":"IF(ISNUMBER(SEARCH(\"1\",#REF!)),\"1\",\"0\")","v":"0"},{"$f":"IF(ISNUMBER(SEARCH(\"2\",#REF!)),\"1\",\"0\")","v":"0"},{"$f":"IF(ISNUMBER(SEARCH(\"3\",#REF!)),\"1\",\"0\")","v":"0"},{"$f":"IF(ISNUMBER(SEARCH(\"4\",#REF!)),\"1\",\"0\")","v":"0"},{"$f":"IF(ISNUMBER(SEARCH(\"5\",#REF!)),\"1\",\"0\")","v":"0"},{"$f":"IF(ISNUMBER(SEARCH(\"6\",#REF!)),\"1\",\"0\")","v":"0"},{"$f":"IF(ISNUMBER(SEARCH(\"7\",#REF!)),\"1\",\"0\")","v":"0"},{"$f":"IF(ISNUMBER(SEARCH(\"8\",#REF!)),\"1\",\"0\")","v":"0"},{"$f":"IF(ISNUMBER(SEARCH(\"9\",#REF!)),\"1\",\"0\")","v":"0"},{"$f":"IF(ISNUMBER(SEARCH(\"9\",#REF!)),\"1\",\"0\")","v":"0"},{"$f":"IF(ISNUMBER(SEARCH(\"10\",#REF!)),\"1\",\"0\")","v":"0"},{"$f":"IF(ISNUMBER(SEARCH(\"11\",#REF!)),\"1\",\"0\")","v":"0"},{"$f":"IF(ISNUMBER(SEARCH(\"12\",#REF!)),\"1\",\"0\")","v":"0"},{"$f":"IF(ISNUMBER(SEARCH(\"13\",#REF!)),\"1\",\"0\")","v":"0"},{"$f":"IF(ISNUMBER(SEARCH(\"14\",#REF!)),\"1\",\"0\")","v":"0"},{"$f":"IF(ISNUMBER(SEARCH(\"15\",#REF!)),\"1\",\"0\")","v":"0"},{"$f":"IF(ISNUMBER(SEARCH(\"16\",#REF!)),\"1\",\"0\")","v":"0"},{"$f":"IF(ISNUMBER(SEARCH(\"17\",#REF!)),\"1\",\"0\")","v":"0"},{"$nulls":4},16,8,20,44,7,null,4,4,4,12,null,14,4,null,null,{"$f":"#REF!-#REF!","v":{"$error":"#REF!"}}]
[2,22,3,"KN",2,16,null,3,2,1,0,3,2,3,"0","0","1","0","0","0","0","0","0","0","0","0","0","0","0","0","0","0",null,null,3,5,2,{"$f":"IF(ISNUMBER(SEARCH(\"1\",#REF!)),\"1\",\"0\")","v":"0"},{"$f":"IF(ISNUMBER(SEARCH(\"2\",#REF!)),\"1\",\"0\")","v":"0"},{"$f":"IF(ISNUMBER(SEARCH(\"3\",#REF!)),\"1\",\"0\")","v":"0"},{"$f":"IF(ISNUMBER(SEARCH(\"4\",#REF!)),\"1\",\"0\")","v":"0"},{"$f":"IF(ISNUMBER(SEARCH(\"5\",#REF!)),\"1\",\"0\")","v":"0"},{"$f":"IF(ISNUMBER(SEARCH(\"6\",#REF!)),\"1\",\"0\")","v":"0"},{"$f":"IF(ISNUMBER(SEARCH(\"7\",#REF!)),\"1\",\"0\")","v":"0"},{"$f":"IF(ISNUMBER(SEARCH(\"8\",#REF!)),\"1\",\"0\")","v":"0"},{"$f":"IF(ISNUMBER(SEARCH(\"9\",#REF!)),\"1\",\"0\")","v":"0"},{"$f":"IF(ISNUMBER(SEARCH(\"9\",#REF!)),\"1\",\"0\")","v":"0"},{"$f":"IF(ISNUMBER(SEARCH(\"10\",#REF!)),\"1\",\"0\")","v":"0"},{"$f":"IF(ISNUMBER(SEARCH(\"11\",#REF!)),\"1\",\"0\")","v":"0"},{"$f":"IF(ISNUMBER(SEARCH(\"12\",#REF!)),\"1\",\"0\")","v":"0"},{"$f":"IF(ISNUMBER(SEARCH(\"13\",#REF!)),\"1\",\"0\")","v":"0"},{"$f":"IF(ISNUMBER(SEARCH(\"14\",#REF!)),\"1\",\"0\")","v":"0"},{"$f":"IF(ISNUMBER(SEARCH(\"15\",#REF!)),\"1\",\"0\")","v":"0"},{"$f":"IF(ISNUMBER(SEARCH(\"16\",#REF!)),\"1\",\"0\")","v":"0"},{"$f":"IF(ISNUMBER(SEARCH(\"17\",#REF!)),\"1\",\"0\")","v":"0"},1,1,null,null,2,4,10,16,5,{"$nulls":6},14,3]
[2,22,3,"KF",2,25,null,2,8,1,3,5,null,3,"0","0","1","0","0","0","0","0","0","0","0","0","0","0","0","0","0","0",null,null,3,5,1,{"$f":"IF(ISNUMBER(SEARCH(\"1\",#REF!)),\"1\",\"0\")","v":"0"},{"$f":"IF(ISNUMBER(SEARCH(\"2\",#REF!)),\"1\",\"0\")","v":"0"},{"$f":"IF(ISNUMBER(SEARCH(\"3\",#REF!)),\"1\",\"0\")","v":"0"},{"$f":"IF(ISNUMBER(SEARCH(\"4\",#REF!)),\"1\",\"0\")","v":"0"},{"$f":"IF(ISNUMBER(SEARCH(\"5\",#REF!)),\"1\",\"0\")","v":"0"},{"$f":"IF(ISNUMBER(SEARCH(\"6\",#REF!)),\"1\",\"0\")","v":"0"},{"$f":"IF(ISNUMBER(SEARCH(\"7\",#REF!)),\"1\",\"0\")","v":"0"},{"$f":"IF(ISNUMBER(SEARCH(\"8\",#REF!)),\"1\",\"0\")","v":"0"},{"$f":"IF(ISNUMBER(SEARCH(\"9\",#REF!)),\"1\",\"0\")","v":"0"},{"$f":"IF(ISNUMBER(SEARCH(\"9\",#REF!)),\"1\",\"0\")","v":"0"},{"$f":"IF(ISNUMBER(SEARCH(\"10\",#REF!)),\"1\",\"0\")","v":"0"},{"$f":"IF(ISNUMBER(SEARCH(\"11\",#REF!)),\"1\",\"0\")","v":"0"},{"$f":"IF(ISNUMBER(SEARCH(\"12\",#REF!)),\"1\",\"0\")","v":"0"},{"$f":"IF(ISNUMBER(SEARCH(\"13\",#REF!)),\"1\",\"0\")","v":"0"},{"$f":"IF(ISNUMBER(SEARCH(\"14\",#REF!)),\"1\",\"0\")","v":"0"},{"$f":"IF(ISNUMBER(SEARCH(\"15\",#REF!)),\"1\",\"0\")","v":"0"},{"$f":"IF(ISNUMBER(SEARCH(\"16\",#REF!)),\"1\",\"0\")","v":"0"},{"$f":"IF(ISNUMBER(SEARCH(\"17\",#REF!)),\"1\",\"0\")","v":"0"},1,1,null,null,20,18,20,58,6,null,8,6,8,22,null,14,4,null,null,{"$f":"#REF!-#REF!","v":{"$error":"#REF!"}}]
[2,22,3,"KF",1,37,null,3,3,1,5,5,2,"1, 2","1","1","0","0","0","0","0","0","0","0","0","0","0","0","0","0","0","0",null,null,3,5,2,{"$f":"IF(ISNUMBER(SEARCH(\"1\",#REF!)),\"1\",\"0\")","v":"0"},{"$f":"IF(ISNUMBER(SEARCH(\"2\",#REF!)),\"1\",\"0\")","v":"0"},{"$f":"IF(ISNUMBER(SEARCH(\"3\",#REF!)),\"1\",\"0\")","v":"0"},{"$f":"IF(ISNUMBER(SEARCH(\"4\",#REF!)),\"1\",\"0\")","v":"0"},{"$f":"IF(ISNUMBER(SEARCH(\"5\",#REF!)),\"1\",\"0\")","v":"0"},{"$f":"IF(ISNUMBER(SEARCH(\"6\",#REF!)),\"1\",\"0\")","v":"0"},{"$f":"IF(ISNUMBER(SEARCH(\"7\",#REF!)),\"1\",\"0\")","v":"0"},{"$f":"IF(ISNUMBER(SEARCH(\"8\",#REF!)),\"1\",\"0\")","v":"0"},{"$f":"IF(ISNUMBER(SEARCH(\"9\",#REF!)),\"1\",\"0\")","v":"0"},{"$f":"IF(ISNUMBER(SEARCH(\"9\",#REF!)),\"1\",\"0\")","v":"0"},{"$f":"IF(ISNUMBER(SEARCH(\"10\",#REF!)),\"1\",\"0\")","v":"0"},{"$f":"IF(ISNUMBER(SEARCH(\"11\",#REF!)),\"1\",\"0\")","v":"0"},{"$f":"IF(ISNUMBER(SEARCH(\"12\",#REF!)),\"1\",\"0\")","v":"0"},{"$f":"IF(ISNUMBER(SEARCH(\"13\",#REF!)),\"1\",\"0\")","v":"0"},{"$f":"IF(ISNUMBER(SEARCH(\"14\",#REF!)),\"1\",\"0\")","v":"0"},{"$f":"IF(ISNUMBER(SEARCH(\"15\",#REF!)),\"1\",\"0\")","v":"0"},{"$f":"IF(ISNUMBER(SEARCH(\"16\",#REF!)),\"1\",\"0\")","v":"0"},{"$f":"IF(ISNUMBER(SEARCH(\"17\",#REF!)),\"1\",\"0\")","v":"0"},{"$nulls":4},22,12,20,54,7,null,6,4,6,16,null,12,5,null,{"$f":"#REF!-#REF!","v":{"$error":"#REF!"}},{"$f":"#REF!-#REF!","v":{"$error":"#REF!"}}]
[2,22,3,"KN",2,30,null,2,3,1,5,5,2,"3, 16. Autre (SVP dans la case suivante) ","1","0","1","0","0","1","0","0","0","0","0","0","0","0","0","1","0","0",null,null,2,5,2,{"$f":"IF(ISNUMBER(SEARCH(\"1\",#REF!)),\"1\",\"0\")","v":"0"},{"$f":"IF(ISNUMBER(SEARCH(\"2\",#REF!)),\"1\",\"0\")","v":"0"},{"$f":"IF(ISNUMBER(SEARCH(\"3\",#REF!)),\"1\",\"0\")","v":"0"},{"$f":"IF(ISNUMBER(SEARCH(\"4\",#REF!)),\"1\",\"0\")","v":"0"},{"$f":"IF(ISNUMBER(SEARCH(\"5\",#REF!)),\"1\",\"0\")","v":"0"},{"$f":"IF(ISNUMBER(SEARCH(\"6\",#REF!)),\"1\",\"0\")","v":"0"},{"$f":"IF(ISNUMBER(SEARCH(\"7\",#REF!)),\"1\",\"0\")","v":"0"},{"$f":"IF(ISNUMBER(SEARCH(\"8\",#REF!)),\"1\",\"0\")","v":"0"},{"$f":"IF(ISNUMBER(SEARCH(\"9\",#REF!)),\"1\",\"0\")","v":"0"},{"$f":"IF(ISNUMBER(SEARCH(\"9\",#REF!)),\"1\",\"0\")","v":"0"},{"$f":"IF(ISNUMBER(SEARCH(\"10\",#REF!)),\"1\",\"0\")","v":"0"},{"$f":"IF(ISNUMBER(SEARCH(\"11\",#REF!)),\"1\",\"0\")","v":"0"},{"$f":"IF(ISNUMBER(SEARCH(\"12\",#REF!)),\"1\",\"0\")","v":"0"},{"$f":"IF(ISNUMBER(SEARCH(\"13\",#REF!)),\"1\",\"0\")","v":"0"},{"$f":"IF(ISNUMBER(SEARCH(\"14\",#REF!)),\"1\",\"0\")","v":"0"},{"$f":"IF(ISNUMBER(SEARCH(\"15\",#REF!)),\"1\",\"0\")","v":"0"},{"$f":"IF(ISNUMBER(SEARCH(\"16\",#REF!)),\"1\",\"0\")","v":"0"},{"$f":"IF(ISNUMBER(SEARCH(\"17\",#REF!)),\"1\",\"0\")","v":"0"},3,1,null,null,20,14,18,52,6,null,8,6,8,22,null,13,4,null,{"$f":"#REF!-#REF!","v":{"$error":"#REF!"}},{"$f":"#REF!-#REF!","v":{"$error":"#REF!"}}]
[2,22,3,"KF",1,40,null,2,3,null,4,5,2,"1, 16. Autre (SVP dans la case suivante) ","1","0","0","0","0","1","0","0","0","0","0","0","0","0","0","1","0","0",null,null,2,5,2,{"$f":"IF(ISNUMBER(SEARCH(\"1\",#REF!)),\"1\",\"0\")","v":"0"},{"$f":"IF(ISNUMBER(SEARCH(\"2\",#REF!)),\"1\",\"0\")","v":"0"},{"$f":"IF(ISNUMBER(SEARCH(\"3\",#REF!)),\"1\",\"0\")","v":"0"},{"$f":"IF(ISNUMBER(SEARCH(\"4\",#REF!)),\"1\",\"0\")","v":"0"},{"$f":"IF(ISNUMBER(SEARCH(\"5\",#REF!)),\"1\",\"0\")","v":"0"},{"$f":"IF(ISNUMBER(SEARCH(\"6\",#REF!)),\"1\",\"0\")","v":"0"},{"$f":"IF(ISNUMBER(SEARCH(\"7\",#REF!)),\"1\",\"0\")","v":"0"},{"$f":"IF(ISNUMBER(SEARCH(\"8\",#REF!)),\"1\",\"0\")","v":"0"},{"$f":"IF(ISNUMBER(SEARCH(\"9\",#REF!)),\"1\",\"0\")","v":"0"},{"$f":"IF(ISNUMBER(SEARCH(\"9\",#REF!)),\"1\",\"0\")","v":"0"},{"$f":"IF(ISNUMBER(SEARCH(\"10\",#REF!)),\"1\",\"0\")","v":"0"},{"$f":"IF(ISNUMBER(SEARCH(\"11\",#REF!)),\"1\",\"0\")","v":"0"},{"$f":"IF(ISNUMBER(SEARCH(\"12\",#REF!)),\"1\",\"0\")","v":"0"},{"$f":"IF(ISNUMBER(SEARCH(\"13\",#REF!)),\"1\",\"0\")","v":"0"},{"$f":"IF(ISNUMBER(SEARCH(\"14\",#REF!)),\"1\",\"0\")","v":"0"},{"$f":"IF(ISNUMBER(SEARCH(\"15\",#REF!)),\"1\",\"0\")","v":"0"},{"$f":"IF(ISNUMBER(SEARCH(\"16\",#REF!)),\"1\",\"0\")","v":"0"},{"$f":"IF(ISNUMBER(SEARCH(\"17\",#REF!)),\"1\",\"0\")","v":"0"},{"$nulls":4},14,12,24,50,7,null,6,4,4,14,null,14,5,null,{"$f":"#REF!-#REF!","v":{"$error":"#REF!"}},{"$f":"#REF!-#REF!","v":{"$error":"#REF!"}}]
[2,22,3,"KF",2,28,null,2,3,1,4,5,2,"3, 4. Tentative de Viol","0","0","1","1","0","0","0","0","0","0","0","0","0","0","0","0","0","0",null,null,2,5,2,{"$f":"IF(ISNUMBER(SEARCH(\"1\",#REF!)),\"1\",\"0\")","v":"0"},{"$f":"IF(ISNUMBER(SEARCH(\"2\",#REF!)),\"1\",\"0\")","v":"0"},{"$f":"IF(ISNUMBER(SEARCH(\"3\",#REF!)),\"1\",\"0\")","v":"0"},{"$f":"IF(ISNUMBER(SEARCH(\"4\",#REF!)),\"1\",\"0\")","v":"0"},{"$f":"IF(ISNUMBER(SEARCH(\"5\",#REF!)),\"1\",\"0\")","v":"0"},{"$f":"IF(ISNUMBER(SEARCH(\"6\",#REF!)),\"1\",\"0\")","v":"0"},{"$f":"IF(ISNUMBER(SEARCH(\"7\",#REF!)),\"1\",\"0\")","v":"0"},{"$f":"IF(ISNUMBER(SEARCH(\"8\",#REF!)),\"1\",\"0\")","v":"0"},{"$f":"IF(ISNUMBER(SEARCH(\"9\",#REF!)),\"1\",\"0\")","v":"0"},{"$f":"IF(ISNUMBER(SEARCH(\"9\",#REF!)),\"1\",\"0\")","v":"0"},{"$f":"IF(ISNUMBER(SEARCH(\"10\",#REF!)),\"1\",\"0\")","v":"0"},{"$f":"IF(ISNUMBER(SEARCH(\"11\",#REF!)),\"1\",\"0\")","v":"0"},{"$f":"IF(ISNUMBER(SEARCH(\"12\",#REF!)),\"1\",\"0\")","v":"0"},{"$f":"IF(ISNUMBER(SEARCH(\"13\",#REF!)),\"1\",\"0\")","v":"0"},{"$f":"IF(ISNUMBER(SEARCH(\"14\",#REF!)),\"1\",\"0\")","v":"0"},{"$f":"IF(ISNUMBER(SEARCH(\"15\",#REF!)),\"1\",\"0\")","v":"0"},{"$f":"IF(ISNUMBER(SEARCH(\"16\",#REF!)),\"1\",\"0\")","v":"0"},{"$f":"IF(ISNUMBER(SEARCH(\"17\",#REF!)),\"1\",\"0\")","v":"0"},1,1,null,null,12,12,22,46,5,null,10,4,8,22,null,14,5,null,{"$f":"#REF!-#REF!","v":{"$error":"#REF!"}},{"$f":"#REF!-#REF!","v":{"$error":"#REF!"}}]
[2,22,3,"KN",2,27,null,2,8,1,3,5,2,3,"0","0","1","0","0","0","0","0","0","0","0","0","0","0","0","0","0","0",null,null,3,3,1,{"$f":"IF(ISNUMBER(SEARCH(\"1\",#REF!)),\"1\",\"0\")","v":"0"},{"$f":"IF(ISNUMBER(SEARCH(\"2\",#REF!)),\"1\",\"0\")","v":"0"},{"$f":"IF(ISNUMBER(SEARCH(\"3\",#REF!)),\"1\",\"0\")","v":"0"},{"$f":"IF(ISNUMBER(SEARCH(\"4\",#REF!)),\"1\",\"0\")","v":"0"},{"$f":"IF(ISNUMBER(SEARCH(\"5\",#REF!)),\"1\",\"0\")","v":"0"},{"$f":"IF(ISNUMBER(SEARCH(\"6\",#REF!)),\"1\",\"0\")","v":"0"},{"$f":"IF(ISNUMBER(SEARCH(\"7\",#REF!)),\"1\",\"0\")","v":"0"},{"$f":"IF(ISNUMBER(SEARCH(\"8\",#REF!)),\"1\",\"0\")","v":"0"},{"$f":"IF(ISNUMBER(SEARCH(\"9\",#REF!)),\"1\",\"0\")","v":"0"},{"$f":"IF(ISNUMBER(SEARCH(\"9\",#REF!)),\"1\",\"0\")","v":"0"},{"$f":"IF(ISNUMBER(SEARCH(\"10\",#REF!)),\"1\",\"0\")","v":"0"},{"$f":"IF(ISNUMBER(SEARCH(\"11\",#REF!)),\"1\",\"0\")","v":"0"},{"$f":"IF(ISNUMBER(SEARCH(\"12\",#REF!)),\"1\",\"0\")","v":"0"},{"$f":"IF(ISNUMBER(SEARCH(\"13\",#REF!)),\"1\",\"0\")","v":"0"},{"$f":"IF(ISNUMBER(SEARCH(\"14\",#REF!)),\"1\",\"0\")","v":"0"},{"$f":"IF(ISNUMBER(SEARCH(\"15\",#REF!)),\"1\",\"0\")","v":"0"},{"$f":"IF(ISNUMBER(SEARCH(\"16\",#REF!)),\"1\",\"0\")","v":"0"},{"$f":"IF(ISNUMBER(SEARCH(\"17\",#REF!)),\"1\",\"0\")","v":"0"},3,1,null,null,24,12,16,52,4,null,0,6,6,12,null,14,4,null,{"$f":"#REF!-#REF!","v":{"$error":"#REF!"}},{"$f":"#REF!-#REF!","v":{"$error":"#REF!"}}]
[2,22,3,"SK",2,28,null,1,3,1,4,5,2,3,"0","0","1","0","0","0","0","0","0","0","0","0","0","0","0","0","0","0",null,null,2,5,1,{"$f":"IF(ISNUMBER(SEARCH(\"1\",#REF!)),\"1\",\"0\")","v":"0"},{"$f":"IF(ISNUMBER(SEARCH(\"2\",#REF!)),\"1\",\"0\")","v":"0"},{"$f":"IF(ISNUMBER(SEARCH(\"3\",#REF!)),\"1\",\"0\")","v":"0"},{"$f":"IF(ISNUMBER(SEARCH(\"4\",#REF!)),\"1\",\"0\")","v":"0"},{"$f":"IF(ISNUMBER(SEARCH(\"5\",#REF!)),\"1\",\"0\")","v":"0"},{"$f":"IF(ISNUMBER(SEARCH(\"6\",#REF!)),\"1\",\"0\")","v":"0"},{"$f":"IF(ISNUMBER(SEARCH(\"7\",#REF!)),\"1\",\"0\")","v":"0"},{"$f":"IF(ISNUMBER(SEARCH(\"8\",#REF!)),\"1\",\"0\")","v":"0"},{"$f":"IF(ISNUMBER(SEARCH(\"9\",#REF!)),\"1\",\"0\")","v":"0"},{"$f":"IF(ISNUMBER(SEARCH(\"9\",#REF!)),\"1\",\"0\")","v":"0"},{"$f":"IF(ISNUMBER(SEARCH(\"10\",#REF!)),\"1\",\"0\")","v":"0"},{"$f":"IF(ISNUMBER(SEARCH(\"11\",#REF!)),\"1\",\"0\")","v":"0"},{"$f":"IF(ISNUMBER(SEARCH(\"12\",#REF!)),\"1\",\"0\")","v":"0"},{"$f":"IF(ISNUMBER(SEARCH(\"13\",#REF!)),\"1\",\"0\")","v":"0"},{"$f":"IF(ISNUMBER(SEARCH(\"14\",#REF!)),\"1\",\"0\")","v":"0"},{"$f":"IF(ISNUMBER(SEARCH(\"15\",#REF!)),\"1\",\"0\")","v":"0"},{"$f":"IF(ISNUMBER(SEARCH(\"16\",#REF!)),\"1\",\"0\")","v":"0"},{"$f":"IF(ISNUMBER(SEARCH(\"17\",#REF!)),\"1\",\"0\")","v":"0"},1,{"$nulls":3},4,6,4,14]
[2,22,3,"SK",2,45,null,1,7,1,7,5,2,3,"0","0","1","0","0","0","0","0","0","0","0","0","0","0","0","0","0","0",null,null,3,5,2,{"$f":"IF(ISNUMBER(SEARCH(\"1\",#REF!)),\"1\",\"0\")","v":"0"},{"$f":"IF(ISNUMBER(SEARCH(\"2\",#REF!)),\"1\",\"0\")","v":"0"},{"$f":"IF(ISNUMBER(SEARCH(\"3\",#REF!)),\"1\",\"0\")","v":"0"},{"$f":"IF(ISNUMBER(SEARCH(\"4\",#REF!)),\"1\",\"0\")","v":"0"},{"$f":"IF(ISNUMBER(SEARCH(\"5\",#REF!)),\"1\",\"0\")","v":"0"},{"$f":"IF(ISNUMBER(SEARCH(\"6\",#REF!)),\"1\",\"0\")","v":"0"},{"$f":"IF(ISNUMBER(SEARCH(\"7\",#REF!)),\"1\",\"0\")","v":"0"},{"$f":"IF(ISNUMBER(SEARCH(\"8\",#REF!)),\"1\",\"0\")","v":"0"},{"$f":"IF(ISNUMBER(SEARCH(\"9\",#REF!)),\"1\",\"0\")","v":"0"},{"$f":"IF(ISNUMBER(SEARCH(\"9\",#REF!)),\"1\",\"0\")","v":"0"},{"$f":"IF(ISNUMBER(SEARCH(\"10\",#REF!)),\"1\",\"0\")","v":"0"},{"$f":"IF(ISNUMBER(SEARCH(\"11\",#REF!)),\"1\",\"0\")","v":"0"},{"$f":"IF(ISNUMBER(SEARCH(\"12\",#REF!)),\"1\",\"0\")","v":"0"},{"$f":"IF(ISNUMBER(SEARCH(\"13\",#REF!)),\"1\",\"0\")","v":"0"},{"$f":"IF(ISNUMBER(SEARCH(\"14\",#REF!)),\"1\",\"0\")","v":"0"},{"$f":"IF(ISNUMBER(SEARCH(\"15\",#REF!)),\"1\",\"0\")","v":"0"},{"$f":"IF(ISNUMBER(SEARCH(\"16\",#REF!)),\"1\",\"0\")","v":"0"},{"$f":"IF(ISNUMBER(SEARCH(\"17\",#REF!)),\"1\",\"0\")","v":"0"},3,{"$nulls":3},12,4,4,20,7]
[2,22,3,"KN",1,38,null,2,7,1,7,5,2,1,"1","0","0","0","0","0","0","0","0","0","0","0","0","0","0","0","0","0",null,null,1,5,2,{"$f":"IF(ISNUMBER(SEARCH(\"1\",#REF!)),\"1\",\"0\")","v":"0"},{"$f":"IF(ISNUMBER(SEARCH(\"2\",#REF!)),\"1\",\"0\")","v":"0"},{"$f":"IF(ISNUMBER(SEARCH(\"3\",#REF!)),\"1\",\"0\")","v":"0"},{"$f":"IF(ISNUMBER(SEARCH(\"4\",#REF!)),\"1\",\"0\")","v":"0"},{"$f":"IF(ISNUMBER(SEARCH(\"5\",#REF!)),\"1\",\"0\")","v":"0"},{"$f":"IF(ISNUMBER(SEARCH(\"6\",#REF!)),\"1\",\"0\")","v":"0"},{"$f":"IF(ISNUMBER(SEARCH(\"7\",#REF!)),\"1\",\"0\")","v":"0"},{"$f":"IF(ISNUMBER(SEARCH(\"8\",#REF!)),\"1\",\"0\")","v":"0"},{"$f":"IF(ISNUMBER(SEARCH(\"9\",#REF!)),\"1\",\"0\")","v":"0"},{"$f":"IF(ISNUMBER(SEARCH(\"9\",#REF!)),\"1\",\"0\")","v":"0"},{"$f":"IF(ISNUMBER(SEARCH(\"10\",#REF!)),\"1\",\"0\")","v":"0"},{"$f":"IF(ISNUMBER(SEARCH(\"11\",#REF!)),\"1\",\"0\")","v":"0"},{"$f":"IF(ISNUMBER(SEARCH(\"12\",#REF!)),\"1\",\"0\")","v":"0"},{"$f":"IF(ISNUMBER(SEARCH(\"13\",#REF!)),\"1\",\"0\")","v":"0"},{"$f":"IF(ISNUMBER(SEARCH(\"14\",#REF!)),\"1\",\"0\")","v":"0"},{"$f":"IF(ISNUMBER(SEARCH(\"15\",#REF!)),\"1\",\"0\")","v":"0"},{"$f":"IF(ISNUMBER(SEARCH(\"16\",#REF!)),\"1\",\"0\")","v":"0"},{"$f":"IF(ISNUMBER(SEARCH(\"17\",#REF!)),\"1\",\"0\")","v":"0"},{"$nulls":4},22,12,24,58,3,null,4,4,14,22,null,13,3,null,{"$f":"#REF!-#REF!","v":{"$error":"#REF!"}},{"$f":"#REF!-#REF!","v":{"$error":"#REF!"}}]
[2,22,3,"SK",2,null,null,2,3,1,3,5,2,3,"0","0","1","0","0","0","0","0","0","0","0","0","0","0","0","0","0","0",null,null,2,null,2,{"$f":"IF(ISNUMBER(SEARCH(\"1\",#REF!)),\"1\",\"0\")","v":"0"},{"$f":"IF(ISNUMBER(SEARCH(\"2\",#REF!)),\"1\",\"0\")","v":"0"},{"$f":"IF(ISNUMBER(SEARCH(\"3\",#REF!)),\"1\",\"0\")","v":"0"},{"$f":"IF(ISNUMBER(SEARCH(\"4\",#REF!)),\"1\",\"0\")","v":"0"},{"$f":"IF(ISNUMBER(SEARCH(\"5\",#REF!)),\"1\",\"0\")","v":"0"},{"$f":"IF(ISNUMBER(SEARCH(\"6\",#REF!)),\"1\",\"0\")","v":"0"},{"$f":"IF(ISNUMBER(SEARCH(\"7\",#REF!)),\"1\",\"0\")","v":"0"},{"$f":"IF(ISNUMBER(SEARCH(\"8\",#REF!)),\"1\",\"0\")","v":"0"},{"$f":"IF(ISNUMBER(SEARCH(\"9\",#REF!)),\"1\",\"0\")","v":"0"},{"$f":"IF(ISNUMBER(SEARCH(\"9\",#REF!)),\"1\",\"0\")","v":"0"},{"$f":"IF(ISNUMBER(SEARCH(\"10\",#REF!)),\"1\",\"0\")","v":"0"},{"$f":"IF(ISNUMBER(SEARCH(\"11\",#REF!)),\"1\",\"0\")","v":"0"},{"$f":"IF(ISNUMBER(SEARCH(\"12\",#REF!)),\"1\",\"0\")","v":"0"},{"$f":"IF(ISNUMBER(SEARCH(\"13\",#REF!)),\"1\",\"0\")","v":"0"},{"$f":"IF(ISNUMBER(SEARCH(\"14\",#REF!)),\"1\",\"0\")","v":"0"},{"$f":"IF(ISNUMBER(SEARCH(\"15\",#REF!)),\"1\",\"0\")","v":"0"},{"$f":"IF(ISNUMBER(SEARCH(\"16\",#REF!)),\"1\",\"0\")","v":"0"},{"$f":"IF(ISNUMBER(SEARCH(\"17\",#REF!)),\"1\",\"0\")","v":"0"},1,{"$nulls":7},4]
[2,22,3,"SK",2,null,null,2,3,1,6,5,2,3,"0","0","1","0","0","0","0","0","0","0","0","0","0","0","0","0","0","0",{"$nulls":3},5,2,{"$f":"IF(ISNUMBER(SEARCH(\"1\",#REF!)),\"1\",\"0\")","v":"0"},{"$f":"IF(ISNUMBER(SEARCH(\"2\",#REF!)),\"1\",\"0\")","v":"0"},{"$f":"IF(ISNUMBER(SEARCH(\"3\",#REF!)),\"1\",\"0\")","v":"0"},{"$f":"IF(ISNUMBER(SEARCH(\"4\",#REF!)),\"1\",\"0\")","v":"0"},{"$f":"IF(ISNUMBER(SEARCH(\"5\",#REF!)),\"1\",\"0\")","v":"0"},{"$f":"IF(ISNUMBER(SEARCH(\"6\",#REF!)),\"1\",\"0\")","v":"0"},{"$f":"IF(ISNUMBER(SEARCH(\"7\",#REF!)),\"1\",\"0\")","v":"0"},{"$f":"IF(ISNUMBER(SEARCH(\"8\",#REF!)),\"1\",\"0\")","v":"0"},{"$f":"IF(ISNUMBER(SEARCH(\"9\",#REF!)),\"1\",\"0\")","v":"0"},{"$f":"IF(ISNUMBER(SEARCH(\"9\",#REF!)),\"1\",\"0\")","v":"0"},{"$f":"IF(ISNUMBER(SEARCH(\"10\",#REF!)),\"1\",\"0\")","v":"0"},{"$f":"IF(ISNUMBER(SEARCH(\"11\",#REF!)),\"1\",\"0\")","v":"0"},{"$f":"IF(ISNUMBER(SEARCH(\"12\",#REF!)),\"1\",\"0\")","v":"0"},{"$f":"IF(ISNUMBER(SEARCH(\"13\",#REF!)),\"1\",\"0\")","v":"0"},{"$f":"IF(ISNUMBER(SEARCH(\"14\",#REF!)),\"1\",\"0\")","v":"0"},{"$f":"IF(ISNUMBER(SEARCH(\"15\",#REF!)),\"1\",\"0\")","v":"0"},{"$f":"IF(ISNUMBER(SEARCH(\"16\",#REF!)),\"1\",\"0\")","v":"0"},{"$f":"IF(ISNUMBER(SEARCH(\"17\",#REF!)),\"1\",\"0\")","v":"0"},3,{"$nulls":3},12,8,10,30,5]
[2,22,3,"SK",1,null,null,3,3,1,null,5,2,1,"1","0","0","0","0","0","0","0","0","0","0","0","0","0","0","0","0","0",null,null,2,5,2,{"$f":"IF(ISNUMBER(SEARCH(\"1\",#REF!)),\"1\",\"0\")","v":"0"},{"$f":"IF(ISNUMBER(SEARCH(\"2\",#REF!)),\"1\",\"0\")","v":"0"},{"$f":"IF(ISNUMBER(SEARCH(\"3\",#REF!)),\"1\",\"0\")","v":"0"},{"$f":"IF(ISNUMBER(SEARCH(\"4\",#REF!)),\"1\",\"0\")","v":"0"},{"$f":"IF(ISNUMBER(SEARCH(\"5\",#REF!)),\"1\",\"0\")","v":"0"},{"$f":"IF(ISNUMBER(SEARCH(\"6\",#REF!)),\"1\",\"0\")","v":"0"},{"$f":"IF(ISNUMBER(SEARCH(\"7\",#REF!)),\"1\",\"0\")","v":"0"},{"$f":"IF(ISNUMBER(SEARCH(\"8\",#REF!)),\"1\",\"0\")","v":"0"},{"$f":"IF(ISNUMBER(SEARCH(\"9\",#REF!)),\"1\",\"0\")","v":"0"},{"$f":"IF(ISNUMBER(SEARCH(\"9\",#REF!)),\"1\",\"0\")","v":"0"},{"$f":"IF(ISNUMBER(SEARCH(\"10\",#REF!)),\"1\",\"0\")","v":"0"},{"$f":"IF(ISNUMBER(SEARCH(\"11\",#REF!)),\"1\",\"0\")","v":"0"},{"$f":"IF(ISNUMBER(SEARCH(\"12\",#REF!)),\"1\",\"0\")","v":"0"},{"$f":"IF(ISNUMBER(SEARCH(\"13\",#REF!)),\"1\",\"0\")","v":"0"},{"$f":"IF(ISNUMBER(SEARCH(\"14\",#REF!)),\"1\",\"0\")","v":"0"},{"$f":"IF(ISNUMBER(SEARCH(\"15\",#REF!)),\"1\",\"0\")","v":"0"},{"$f":"IF(ISNUMBER(SEARCH(\"16\",#REF!)),\"1\",\"0\")","v":"0"},{"$f":"IF(ISNUMBER(SEARCH(\"17\",#REF!)),\"1\",\"0\")","v":"0"},{"$nulls":4},16,12,8,36,5]
[2,22,3,"SK",2,33,null,1,3,1,5,5,2,3,"0","0","1","0","0","0","0","0","0","0","0","0","0","0","0","0","0","0",{"$nulls":3},5,2,{"$f":"IF(ISNUMBER(SEARCH(\"1\",#REF!)),\"1\",\"0\")","v":"0"},{"$f":"IF(ISNUMBER(SEARCH(\"2\",#REF!)),\"1\",\"0\")","v":"0"},{"$f":"IF(ISNUMBER(SEARCH(\"3\",#REF!)),\"1\",\"0\")","v":"0"},{"$f":"IF(ISNUMBER(SEARCH(\"4\",#REF!)),\"1\",\"0\")","v":"0"},{"$f":"IF(ISNUMBER(SEARCH(\"5\",#REF!)),\"1\",\"0\")","v":"0"},{"$f":"IF(ISNUMBER(SEARCH(\"6\",#REF!)),\"1\",\"0\")","v":"0"},{"$f":"IF(ISNUMBER(SEARCH(\"7\",#REF!)),\"1\",\"0\")","v":"0"},{"$f":"IF(ISNUMBER(SEARCH(\"8\",#REF!)),\"1\",\"0\")","v":"0"},{"$f":"IF(ISNUMBER(SEARCH(\"9\",#REF!)),\"1\",\"0\")","v":"0"},{"$f":"IF(ISNUMBER(SEARCH(\"9\",#REF!)),\"1\",\"0\")","v":"0"},{"$f":"IF(ISNUMBER(SEARCH(\"10\",#REF!)),\"1\",\"0\")","v":"0"},{"$f":"IF(ISNUMBER(SEARCH(\"11\",#REF!)),\"1\",\"0\")","v":"0"},{"$f":"IF(ISNUMBER(SEARCH(\"12\",#REF!)),\"1\",\"0\")","v":"0"},{"$f":"IF(ISNUMBER(SEARCH(\"13\",#REF!)),\"1\",\"0\")","v":"0"},{"$f":"IF(ISNUMBER(SEARCH(\"14\",#REF!)),\"1\",\"0\")","v":"0"},{"$f":"IF(ISNUMBER(SEARCH(\"15\",#REF!)),\"1\",\"0\")","v":"0"},{"$f":"IF(ISNUMBER(SEARCH(\"16\",#REF!)),\"1\",\"0\")","v":"0"},{"$f":"IF(ISNUMBER(SEARCH(\"17\",#REF!)),\"1\",\"0\")","v":"0"},1,{"$nulls":3},6,4,4,14]
[2,22,3,"SK",2,28,null,3,3,1,5,5,2,3,"0","0","1","0","0","0","0","0","0","0","0","0","0","0","0","0","0","0",null,null,2,null,2,{"$f":"IF(ISNUMBER(SEARCH(\"1\",#REF!)),\"1\",\"0\")","v":"0"},{"$f":"IF(ISNUMBER(SEARCH(\"2\",#REF!)),\"1\",\"0\")","v":"0"},{"$f":"IF(ISNUMBER(SEARCH(\"3\",#REF!)),\"1\",\"0\")","v":"0"},{"$f":"IF(ISNUMBER(SEARCH(\"4\",#REF!)),\"1\",\"0\")","v":"0"},{"$f":"IF(ISNUMBER(SEARCH(\"5\",#REF!)),\"1\",\"0\")","v":"0"},{"$f":"IF(ISNUMBER(SEARCH(\"6\",#REF!)),\"1\",\"0\")","v":"0"},{"$f":"IF(ISNUMBER(SEARCH(\"7\",#REF!)),\"1\",\"0\")","v":"0"},{"$f":"IF(ISNUMBER(SEARCH(\"8\",#REF!)),\"1\",\"0\")","v":"0"},{"$f":"IF(ISNUMBER(SEARCH(\"9\",#REF!)),\"1\",\"0\")","v":"0"},{"$f":"IF(ISNUMBER(SEARCH(\"9\",#REF!)),\"1\",\"0\")","v":"0"},{"$f":"IF(ISNUMBER(SEARCH(\"10\",#REF!)),\"1\",\"0\")","v":"0"},{"$f":"IF(ISNUMBER(SEARCH(\"11\",#REF!)),\"1\",\"0\")","v":"0"},{"$f":"IF(ISNUMBER(SEARCH(\"12\",#REF!)),\"1\",\"0\")","v":"0"},{"$f":"IF(ISNUMBER(SEARCH(\"13\",#REF!)),\"1\",\"0\")","v":"0"},{"$f":"IF(ISNUMBER(SEARCH(\"14\",#REF!)),\"1\",\"0\")","v":"0"},{"$f":"IF(ISNUMBER(SEARCH(\"15\",#REF!)),\"1\",\"0\")","v":"0"},{"$f":"IF(ISNUMBER(SEARCH(\"16\",#REF!)),\"1\",\"0\")","v":"0"},{"$f":"IF(ISNUMBER(SEARCH(\"17\",#REF!)),\"1\",\"0\")","v":"0"},1,{"$nulls":3},4,4,4,12,5,null,10,6,6,22,null,13,5,null,null,{"$f":"#REF!-#REF!","v":{"$error":"#REF!"}}]
[2,22,3,"SK",1,null,null,3,3,1,8,5,null,1,"1","0","0","0","0","0","0","0","0","0","0","0","0","0","0","0","0","0",null,null,2,5,2,{"$f":"IF(ISNUMBER(SEARCH(\"1\",#REF!)),\"1\",\"0\")","v":"0"},{"$f":"IF(ISNUMBER(SEARCH(\"2\",#REF!)),\"1\",\"0\")","v":"0"},{"$f":"IF(ISNUMBER(SEARCH(\"3\",#REF!)),\"1\",\"0\")","v":"0"},{"$f":"IF(ISNUMBER(SEARCH(\"4\",#REF!)),\"1\",\"0\")","v":"0"},{"$f":"IF(ISNUMBER(SEARCH(\"5\",#REF!)),\"1\",\"0\")","v":"0"},{"$f":"IF(ISNUMBER(SEARCH(\"6\",#REF!)),\"1\",\"0\")","v":"0"},{"$f":"IF(ISNUMBER(SEARCH(\"7\",#REF!)),\"1\",\"0\")","v":"0"},{"$f":"IF(ISNUMBER(SEARCH(\"8\",#REF!)),\"1\",\"0\")","v":"0"},{"$f":"IF(ISNUMBER(SEARCH(\"9\",#REF!)),\"1\",\"0\")","v":"0"},{"$f":"IF(ISNUMBER(SEARCH(\"9\",#REF!)),\"1\",\"0\")","v":"0"},{"$f":"IF(ISNUMBER(SEARCH(\"10\",#REF!)),\"1\",\"0\")","v":"0"},{"$f":"IF(ISNUMBER(SEARCH(\"11\",#REF!)),\"1\",\"0\")","v":"0"},{"$f":"IF(ISNUMBER(SEARCH(\"12\",#REF!)),\"1\",\"0\")","v":"0"},{"$f":"IF(ISNUMBER(SEARCH(\"13\",#REF!)),\"1\",\"0\")","v":"0"},{"$f":"IF(ISNUMBER(SEARCH(\"14\",#REF!)),\"1\",\"0\")","v":"0"},{"$f":"IF(ISNUMBER(SEARCH(\"15\",#REF!)),\"1\",\"0\")","v":"0"},{"$f":"IF(ISNUMBER(SEARCH(\"16\",#REF!)),\"1\",\"0\")","v":"0"},{"$f":"IF(ISNUMBER(SEARCH(\"17\",#REF!)),\"1\",\"0\")","v":"0"},{"$nulls":4},8,4,6,18,3,null,10,6,6,22,null,13,3,null,null,{"$f":"#REF!-#REF!","v":{"$error":"#REF!"}}]
[2,22,3,"SK",2,null,null,2,3,1,5,5,2,3,"0","0","1","0","0","0","0","0","0","0","0","0","0","0","0","0","0","0",null,null,2,4,2,{"$f":"IF(ISNUMBER(SEARCH(\"1\",#REF!)),\"1\",\"0\")","v":"0"},{"$f":"IF(ISNUMBER(SEARCH(\"2\",#REF!)),\"1\",\"0\")","v":"0"},{"$f":"IF(ISNUMBER(SEARCH(\"3\",#REF!)),\"1\",\"0\")","v":"0"},{"$f":"IF(ISNUMBER(SEARCH(\"4\",#REF!)),\"1\",\"0\")","v":"0"},{"$f":"IF(ISNUMBER(SEARCH(\"5\",#REF!)),\"1\",\"0\")","v":"0"},{"$f":"IF(ISNUMBER(SEARCH(\"6\",#REF!)),\"1\",\"0\")","v":"0"},{"$f":"IF(ISNUMBER(SEARCH(\"7\",#REF!)),\"1\",\"0\")","v":"0"},{"$f":"IF(ISNUMBER(SEARCH(\"8\",#REF!)),\"1\",\"0\")","v":"0"},{"$f":"IF(ISNUMBER(SEARCH(\"9\",#REF!)),\"1\",\"0\")","v":"0"},{"$f":"IF(ISNUMBER(SEARCH(\"9\",#REF!)),\"1\",\"0\")","v":"0"},{"$f":"IF(ISNUMBER(SEARCH(\"10\",#REF!)),\"1\",\"0\")","v":"0"},{"$f":"IF(ISNUMBER(SEARCH(\"11\",#REF!)),\"1\",\"0\")","v":"0"},{"$f":"IF(ISNUMBER(SEARCH(\"12\",#REF!)),\"1\",\"0\")","v":"0"},{"$f":"IF(ISNUMBER(SEARCH(\"13\",#REF!)),\"1\",\"0\")","v":"0"},{"$f":"IF(ISNUMBER(SEARCH(\"14\",#REF!)),\"1\",\"0\")","v":"0"},{"$f":"IF(ISNUMBER(SEARCH(\"15\",#REF!)),\"1\",\"0\")","v":"0"},{"$f":"IF(ISNUMBER(SEARCH(\"16\",#REF!)),\"1\",\"0\")","v":"0"},{"$f":"IF(ISNUMBER(SEARCH(\"17\",#REF!)),\"1\",\"0\")","v":"0"},3,{"$nulls":3},12,6,8,26,8,null,6,6,6,18,null,14,4,null,null,{"$f":"#REF!-#REF!","v":{"$error":"#REF!"}}]
[2,22,3,"KF",2,25,null,2,8,1,3,4,2,"3, 9. Kidnapping/  Enlèvement/ Otage (SANS violence sexuelle)","0","0","1","0","0","0","0","0","1","0","0","0","0","0","0","0","0","0",null,null,3,5,1,{"$f":"IF(ISNUMBER(SEARCH(\"1\",#REF!)),\"1\",\"0\")","v":"0"},{"$f":"IF(ISNUMBER(SEARCH(\"2\",#REF!)),\"1\",\"0\")","v":"0"},{"$f":"IF(ISNUMBER(SEARCH(\"3\",#REF!)),\"1\",\"0\")","v":"0"},{"$f":"IF(ISNUMBER(SEARCH(\"4\",#REF!)),\"1\",\"0\")","v":"0"},{"$f":"IF(ISNUMBER(SEARCH(\"5\",#REF!)),\"1\",\"0\")","v":"0"},{"$f":"IF(ISNUMBER(SEARCH(\"6\",#REF!)),\"1\",\"0\")","v":"0"},{"$f":"IF(ISNUMBER(SEARCH(\"7\",#REF!)),\"1\",\"0\")","v":"0"},{"$f":"IF(ISNUMBER(SEARCH(\"8\",#REF!)),\"1\",\"0\")","v":"0"},{"$f":"IF(ISNUMBER(SEARCH(\"9\",#REF!)),\"1\",\"0\")","v":"0"},{"$f":"IF(ISNUMBER(SEARCH(\"9\",#REF!)),\"1\",\"0\")","v":"0"},{"$f":"IF(ISNUMBER(SEARCH(\"10\",#REF!)),\"1\",\"0\")","v":"0"},{"$f":"IF(ISNUMBER(SEARCH(\"11\",#REF!)),\"1\",\"0\")","v":"0"},{"$f":"IF(ISNUMBER(SEARCH(\"12\",#REF!)),\"1\",\"0\")","v":"0"},{"$f":"IF(ISNUMBER(SEARCH(\"13\",#REF!)),\"1\",\"0\")","v":"0"},{"$f":"IF(ISNUMBER(SEARCH(\"14\",#REF!)),\"1\",\"0\")","v":"0"},{"$f":"IF(ISNUMBER(SEARCH(\"15\",#REF!)),\"1\",\"0\")","v":"0"},{"$f":"IF(ISNUMBER(SEARCH(\"16\",#REF!)),\"1\",\"0\")","v":"0"},{"$f":"IF(ISNUMBER(SEARCH(\"17\",#REF!)),\"1\",\"0\")","v":"0"},3,1,null,null,18,18,20,56,6,null,4,4,4,12,null,13,5,null,{"$f":"#REF!-#REF!","v":{"$error":"#REF!"}},{"$f":"#REF!-#REF!","v":{"$error":"#REF!"}}]
[2,22,3,"KF",2,28,null,2,3,1,3,5,2,2,"0","1","0","0","0","0","0","0","0","0","0","0","0","0","0","0","0","0",null,null,2,5,2,{"$f":"IF(ISNUMBER(SEARCH(\"1\",#REF!)),\"1\",\"0\")","v":"0"},{"$f":"IF(ISNUMBER(SEARCH(\"2\",#REF!)),\"1\",\"0\")","v":"0"},{"$f":"IF(ISNUMBER(SEARCH(\"3\",#REF!)),\"1\",\"0\")","v":"0"},{"$f":"IF(ISNUMBER(SEARCH(\"4\",#REF!)),\"1\",\"0\")","v":"0"},{"$f":"IF(ISNUMBER(SEARCH(\"5\",#REF!)),\"1\",\"0\")","v":"0"},{"$f":"IF(ISNUMBER(SEARCH(\"6\",#REF!)),\"1\",\"0\")","v":"0"},{"$f":"IF(ISNUMBER(SEARCH(\"7\",#REF!)),\"1\",\"0\")","v":"0"},{"$f":"IF(ISNUMBER(SEARCH(\"8\",#REF!)),\"1\",\"0\")","v":"0"},{"$f":"IF(ISNUMBER(SEARCH(\"9\",#REF!)),\"1\",\"0\")","v":"0"},{"$f":"IF(ISNUMBER(SEARCH(\"9\",#REF!)),\"1\",\"0\")","v":"0"},{"$f":"IF(ISNUMBER(SEARCH(\"10\",#REF!)),\"1\",\"0\")","v":"0"},{"$f":"IF(ISNUMBER(SEARCH(\"11\",#REF!)),\"1\",\"0\")","v":"0"},{"$f":"IF(ISNUMBER(SEARCH(\"12\",#REF!)),\"1\",\"0\")","v":"0"},{"$f":"IF(ISNUMBER(SEARCH(\"13\",#REF!)),\"1\",\"0\")","v":"0"},{"$f":"IF(ISNUMBER(SEARCH(\"14\",#REF!)),\"1\",\"0\")","v":"0"},{"$f":"IF(ISNUMBER(SEARCH(\"15\",#REF!)),\"1\",\"0\")","v":"0"},{"$f":"IF(ISNUMBER(SEARCH(\"16\",#REF!)),\"1\",\"0\")","v":"0"},{"$f":"IF(ISNUMBER(SEARCH(\"17\",#REF!)),\"1\",\"0\")","v":"0"},{"$nulls":4},18,10,22,50,7,null,6,4,6,16,null,13,4,null,null,{"$f":"#REF!-#REF!","v":{"$error":"#REF!"}}]
[2,22,3,"SK",2,36,null,2,3,1,null,5,2,3,"0","0","1","0","0","0","0","0","0","0","0","0","0","0","0","0","0","0",null,null,3,5,2,{"$f":"IF(ISNUMBER(SEARCH(\"1\",#REF!)),\"1\",\"0\")","v":"0"},{"$f":"IF(ISNUMBER(SEARCH(\"2\",#REF!)),\"1\",\"0\")","v":"0"},{"$f":"IF(ISNUMBER(SEARCH(\"3\",#REF!)),\"1\",\"0\")","v":"0"},{"$f":"IF(ISNUMBER(SEARCH(\"4\",#REF!)),\"1\",\"0\")","v":"0"},{"$f":"IF(ISNUMBER(SEARCH(\"5\",#REF!)),\"1\",\"0\")","v":"0"},{"$f":"IF(ISNUMBER(SEARCH(\"6\",#REF!)),\"1\",\"0\")","v":"0"},{"$f":"IF(ISNUMBER(SEARCH(\"7\",#REF!)),\"1\",\"0\")","v":"0"},{"$f":"IF(ISNUMBER(SEARCH(\"8\",#REF!)),\"1\",\"0\")","v":"0"},{"$f":"IF(ISNUMBER(SEARCH(\"9\",#REF!)),\"1\",\"0\")","v":"0"},{"$f":"IF(ISNUMBER(SEARCH(\"9\",#REF!)),\"1\",\"0\")","v":"0"},{"$f":"IF(ISNUMBER(SEARCH(\"10\",#REF!)),\"1\",\"0\")","v":"0"},{"$f":"IF(ISNUMBER(SEARCH(\"11\",#REF!)),\"1\",\"0\")","v":"0"},{"$f":"IF(ISNUMBER(SEARCH(\"12\",#REF!)),\"1\",\"0\")","v":"0"},{"$f":"IF(ISNUMBER(SEARCH(\"13\",#REF!)),\"1\",\"0\")","v":"0"},{"$f":"IF(ISNUMBER(SEARCH(\"14\",#REF!)),\"1\",\"0\")","v":"0"},{"$f":"IF(ISNUMBER(SEARCH(\"15\",#REF!)),\"1\",\"0\")","v":"0"},{"$f":"IF(ISNUMBER(SEARCH(\"16\",#REF!)),\"1\",\"0\")","v":"0"},{"$f":"IF(ISNUMBER(SEARCH(\"17\",#REF!)),\"1\",\"0\")","v":"0"},4,{"$nulls":3},8,4,2,14,8,{"$nulls":6},14]
[2,22,3,"SK",2,20,null,3,7,1,0,5,1,3,"0","0","1","0","0","0","0","0","0","0","0","0","0","0","0","0","0","0",null,null,2,3,1,{"$f":"IF(ISNUMBER(SEARCH(\"1\",#REF!)),\"1\",\"0\")","v":"0"},{"$f":"IF(ISNUMBER(SEARCH(\"2\",#REF!)),\"1\",\"0\")","v":"0"},{"$f":"IF(ISNUMBER(SEARCH(\"3\",#REF!)),\"1\",\"0\")","v":"0"},{"$f":"IF(ISNUMBER(SEARCH(\"4\",#REF!)),\"1\",\"0\")","v":"0"},{"$f":"IF(ISNUMBER(SEARCH(\"5\",#REF!)),\"1\",\"0\")","v":"0"},{"$f":"IF(ISNUMBER(SEARCH(\"6\",#REF!)),\"1\",\"0\")","v":"0"},{"$f":"IF(ISNUMBER(SEARCH(\"7\",#REF!)),\"1\",\"0\")","v":"0"},{"$f":"IF(ISNUMBER(SEARCH(\"8\",#REF!)),\"1\",\"0\")","v":"0"},{"$f":"IF(ISNUMBER(SEARCH(\"9\",#REF!)),\"1\",\"0\")","v":"0"},{"$f":"IF(ISNUMBER(SEARCH(\"9\",#REF!)),\"1\",\"0\")","v":"0"},{"$f":"IF(ISNUMBER(SEARCH(\"10\",#REF!)),\"1\",\"0\")","v":"0"},{"$f":"IF(ISNUMBER(SEARCH(\"11\",#REF!)),\"1\",\"0\")","v":"0"},{"$f":"IF(ISNUMBER(SEARCH(\"12\",#REF!)),\"1\",\"0\")","v":"0"},{"$f":"IF(ISNUMBER(SEARCH(\"13\",#REF!)),\"1\",\"0\")","v":"0"},{"$f":"IF(ISNUMBER(SEARCH(\"14\",#REF!)),\"1\",\"0\")","v":"0"},{"$f":"IF(ISNUMBER(SEARCH(\"15\",#REF!)),\"1\",\"0\")","v":"0"},{"$f":"IF(ISNUMBER(SEARCH(\"16\",#REF!)),\"1\",\"0\")","v":"0"},{"$f":"IF(ISNUMBER(SEARCH(\"17\",#REF!)),\"1\",\"0\")","v":"0"},3,{"$nulls":3},8,6,4,18,6]
[2,22,3,"SK",2,37,null,2,7,1,null,5,2,3,"0","0","1","0","0","0","0","0","0","0","0","0","0","0","0","0","0","0",{"$nulls":3},4,2,{"$f":"IF(ISNUMBER(SEARCH(\"1\",#REF!)),\"1\",\"0\")","v":"0"},{"$f":"IF(ISNUMBER(SEARCH(\"2\",#REF!)),\"1\",\"0\")","v":"0"},{"$f":"IF(ISNUMBER(SEARCH(\"3\",#REF!)),\"1\",\"0\")","v":"0"},{"$f":"IF(ISNUMBER(SEARCH(\"4\",#REF!)),\"1\",\"0\")","v":"0"},{"$f":"IF(ISNUMBER(SEARCH(\"5\",#REF!)),\"1\",\"0\")","v":"0"},{"$f":"IF(ISNUMBER(SEARCH(\"6\",#REF!)),\"1\",\"0\")","v":"0"},{"$f":"IF(ISNUMBER(SEARCH(\"7\",#REF!)),\"1\",\"0\")","v":"0"},{"$f":"IF(ISNUMBER(SEARCH(\"8\",#REF!)),\"1\",\"0\")","v":"0"},{"$f":"IF(ISNUMBER(SEARCH(\"9\",#REF!)),\"1\",\"0\")","v":"0"},{"$f":"IF(ISNUMBER(SEARCH(\"9\",#REF!)),\"1\",\"0\")","v":"0"},{"$f":"IF(ISNUMBER(SEARCH(\"10\",#REF!)),\"1\",\"0\")","v":"0"},{"$f":"IF(ISNUMBER(SEARCH(\"11\",#REF!)),\"1\",\"0\")","v":"0"},{"$f":"IF(ISNUMBER(SEARCH(\"12\",#REF!)),\"1\",\"0\")","v":"0"},{"$f":"IF(ISNUMBER(SEARCH(\"13\",#REF!)),\"1\",\"0\")","v":"0"},{"$f":"IF(ISNUMBER(SEARCH(\"14\",#REF!)),\"1\",\"0\")","v":"0"},{"$f":"IF(ISNUMBER(SEARCH(\"15\",#REF!)),\"1\",\"0\")","v":"0"},{"$f":"IF(ISNUMBER(SEARCH(\"16\",#REF!)),\"1\",\"0\")","v":"0"},{"$f":"IF(ISNUMBER(SEARCH(\"17\",#REF!)),\"1\",\"0\")","v":"0"},4,{"$nulls":3},14,4,4,22,5,null,4,2,4,10,{"$nulls":5},{"$f":"#REF!-#REF!","v":{"$error":"#REF!"}}]
[2,22,3,"SK",2,45,null,1,3,2,6,5,6,"3, 16. Autre (SVP dans la case suivante) ","1","0","1","0","0","1","0","0","0","0","0","0","0","0","0","1","0","0",null,null,3,5,null,{"$f":"IF(ISNUMBER(SEARCH(\"1\",#REF!)),\"1\",\"0\")","v":"0"},{"$f":"IF(ISNUMBER(SEARCH(\"2\",#REF!)),\"1\",\"0\")","v":"0"},{"$f":"IF(ISNUMBER(SEARCH(\"3\",#REF!)),\"1\",\"0\")","v":"0"},{"$f":"IF(ISNUMBER(SEARCH(\"4\",#REF!)),\"1\",\"0\")","v":"0"},{"$f":"IF(ISNUMBER(SEARCH(\"5\",#REF!)),\"1\",\"0\")","v":"0"},{"$f":"IF(ISNUMBER(SEARCH(\"6\",#REF!)),\"1\",\"0\")","v":"0"},{"$f":"IF(ISNUMBER(SEARCH(\"7\",#REF!)),\"1\",\"0\")","v":"0"},{"$f":"IF(ISNUMBER(SEARCH(\"8\",#REF!)),\"1\",\"0\")","v":"0"},{"$f":"IF(ISNUMBER(SEARCH(\"9\",#REF!)),\"1\",\"0\")","v":"0"},{"$f":"IF(ISNUMBER(SEARCH(\"9\",#REF!)),\"1\",\"0\")","v":"0"},{"$f":"IF(ISNUMBER(SEARCH(\"10\",#REF!)),\"1\",\"0\")","v":"0"},{"$f":"IF(ISNUMBER(SEARCH(\"11\",#REF!)),\"1\",\"0\")","v":"0"},{"$f":"IF(ISNUMBER(SEARCH(\"12\",#REF!)),\"1\",\"0\")","v":"0"},{"$f":"IF(ISNUMBER(SEARCH(\"13\",#REF!)),\"1\",\"0\")","v":"0"},{"$f":"IF(ISNUMBER(SEARCH(\"14\",#REF!)),\"1\",\"0\")","v":"0"},{"$f":"IF(ISNUMBER(SEARCH(\"15\",#REF!)),\"1\",\"0\")","v":"0"},{"$f":"IF(ISNUMBER(SEARCH(\"16\",#REF!)),\"1\",\"0\")","v":"0"},{"$f":"IF(ISNUMBER(SEARCH(\"17\",#REF!)),\"1\",\"0\")","v":"0"},3,{"$nulls":3},6,4,6,16,7,null,10,6,6,22,null,13,5,null,{"$f":"#REF!-#REF!","v":{"$error":"#REF!"}},{"$f":"#REF!-#REF!","v":{"$error":"#REF!"}}]
[2,22,3,"KN",2,33,null,2,3,1,4,8,1,"3, 1, 15. Insultes / a reçu des menaces","1","0","1","0","1","0","0","0","0","0","0","0","0","0","1","0","0","0",null,null,3,5,2,{"$f":"IF(ISNUMBER(SEARCH(\"1\",#REF!)),\"1\",\"0\")","v":"0"},{"$f":"IF(ISNUMBER(SEARCH(\"2\",#REF!)),\"1\",\"0\")","v":"0"},{"$f":"IF(ISNUMBER(SEARCH(\"3\",#REF!)),\"1\",\"0\")","v":"0"},{"$f":"IF(ISNUMBER(SEARCH(\"4\",#REF!)),\"1\",\"0\")","v":"0"},{"$f":"IF(ISNUMBER(SEARCH(\"5\",#REF!)),\"1\",\"0\")","v":"0"},{"$f":"IF(ISNUMBER(SEARCH(\"6\",#REF!)),\"1\",\"0\")","v":"0"},{"$f":"IF(ISNUMBER(SEARCH(\"7\",#REF!)),\"1\",\"0\")","v":"0"},{"$f":"IF(ISNUMBER(SEARCH(\"8\",#REF!)),\"1\",\"0\")","v":"0"},{"$f":"IF(ISNUMBER(SEARCH(\"9\",#REF!)),\"1\",\"0\")","v":"0"},{"$f":"IF(ISNUMBER(SEARCH(\"9\",#REF!)),\"1\",\"0\")","v":"0"},{"$f":"IF(ISNUMBER(SEARCH(\"10\",#REF!)),\"1\",\"0\")","v":"0"},{"$f":"IF(ISNUMBER(SEARCH(\"11\",#REF!)),\"1\",\"0\")","v":"0"},{"$f":"IF(ISNUMBER(SEARCH(\"12\",#REF!)),\"1\",\"0\")","v":"0"},{"$f":"IF(ISNUMBER(SEARCH(\"13\",#REF!)),\"1\",\"0\")","v":"0"},{"$f":"IF(ISNUMBER(SEARCH(\"14\",#REF!)),\"1\",\"0\")","v":"0"},{"$f":"IF(ISNUMBER(SEARCH(\"15\",#REF!)),\"1\",\"0\")","v":"0"},{"$f":"IF(ISNUMBER(SEARCH(\"16\",#REF!)),\"1\",\"0\")","v":"0"},{"$f":"IF(ISNUMBER(SEARCH(\"17\",#REF!)),\"1\",\"0\")","v":"0"},3,1,null,null,18,14,22,54,5,null,2,6,10,18,null,14,5,null,{"$f":"#REF!-#REF!","v":{"$error":"#REF!"}},{"$f":"#REF!-#REF!","v":{"$error":"#REF!"}}]
[2,22,3,"KN",1,41,null,2,3,null,null,5,null,"1, 16. Autre (SVP dans la case suivante) ","1","0","0","0","0","1","0","0","0","0","0","0","0","0","0","1","0","0",{"$nulls":3},5,2,{"$f":"IF(ISNUMBER(SEARCH(\"1\",#REF!)),\"1\",\"0\")","v":"0"},{"$f":"IF(ISNUMBER(SEARCH(\"2\",#REF!)),\"1\",\"0\")","v":"0"},{"$f":"IF(ISNUMBER(SEARCH(\"3\",#REF!)),\"1\",\"0\")","v":"0"},{"$f":"IF(ISNUMBER(SEARCH(\"4\",#REF!)),\"1\",\"0\")","v":"0"},{"$f":"IF(ISNUMBER(SEARCH(\"5\",#REF!)),\"1\",\"0\")","v":"0"},{"$f":"IF(ISNUMBER(SEARCH(\"6\",#REF!)),\"1\",\"0\")","v":"0"},{"$f":"IF(ISNUMBER(SEARCH(\"7\",#REF!)),\"1\",\"0\")","v":"0"},{"$f":"IF(ISNUMBER(SEARCH(\"8\",#REF!)),\"1\",\"0\")","v":"0"},{"$f":"IF(ISNUMBER(SEARCH(\"9\",#REF!)),\"1\",\"0\")","v":"0"},{"$f":"IF(ISNUMBER(SEARCH(\"9\",#REF!)),\"1\",\"0\")","v":"0"},{"$f":"IF(ISNUMBER(SEARCH(\"10\",#REF!)),\"1\",\"0\")","v":"0"},{"$f":"IF(ISNUMBER(SEARCH(\"11\",#REF!)),\"1\",\"0\")","v":"0"},{"$f":"IF(ISNUMBER(SEARCH(\"12\",#REF!)),\"1\",\"0\")","v":"0"},{"$f":"IF(ISNUMBER(SEARCH(\"13\",#REF!)),\"1\",\"0\")","v":"0"},{"$f":"IF(ISNUMBER(SEARCH(\"14\",#REF!)),\"1\",\"0\")","v":"0"},{"$f":"IF(ISNUMBER(SEARCH(\"15\",#REF!)),\"1\",\"0\")","v":"0"},{"$f":"IF(ISNUMBER(SEARCH(\"16\",#REF!)),\"1\",\"0\")","v":"0"},{"$f":"IF(ISNUMBER(SEARCH(\"17\",#REF!)),\"1\",\"0\")","v":"0"},{"$nulls":4},10,8,22,40,6,{"$nulls":9},{"$f":"#REF!-#REF!","v":{"$error":"#REF!"}}]
[2,22,3,"KN",2,15,null,3,2,1,0,4,1,3,"0","0","1","0","0","0","0","0","0","0","0","0","0","0","0","0","0","0",{"$nulls":4},1,{"$f":"IF(ISNUMBER(SEARCH(\"1\",#REF!)),\"1\",\"0\")","v":"0"},{"$f":"IF(ISNUMBER(SEARCH(\"2\",#REF!)),\"1\",\"0\")","v":"0"},{"$f":"IF(ISNUMBER(SEARCH(\"3\",#REF!)),\"1\",\"0\")","v":"0"},{"$f":"IF(ISNUMBER(SEARCH(\"4\",#REF!)),\"1\",\"0\")","v":"0"},{"$f":"IF(ISNUMBER(SEARCH(\"5\",#REF!)),\"1\",\"0\")","v":"0"},{"$f":"IF(ISNUMBER(SEARCH(\"6\",#REF!)),\"1\",\"0\")","v":"0"},{"$f":"IF(ISNUMBER(SEARCH(\"7\",#REF!)),\"1\",\"0\")","v":"0"},{"$f":"IF(ISNUMBER(SEARCH(\"8\",#REF!)),\"1\",\"0\")","v":"0"},{"$f":"IF(ISNUMBER(SEARCH(\"9\",#REF!)),\"1\",\"0\")","v":"0"},{"$f":"IF(ISNUMBER(SEARCH(\"9\",#REF!)),\"1\",\"0\")","v":"0"},{"$f":"IF(ISNUMBER(SEARCH(\"10\",#REF!)),\"1\",\"0\")","v":"0"},{"$f":"IF(ISNUMBER(SEARCH(\"11\",#REF!)),\"1\",\"0\")","v":"0"},{"$f":"IF(ISNUMBER(SEARCH(\"12\",#REF!)),\"1\",\"0\")","v":"0"},{"$f":"IF(ISNUMBER(SEARCH(\"13\",#REF!)),\"1\",\"0\")","v":"0"},{"$f":"IF(ISNUMBER(SEARCH(\"14\",#REF!)),\"1\",\"0\")","v":"0"},{"$f":"IF(ISNUMBER(SEARCH(\"15\",#REF!)),\"1\",\"0\")","v":"0"},{"$f":"IF(ISNUMBER(SEARCH(\"16\",#REF!)),\"1\",\"0\")","v":"0"},{"$f":"IF(ISNUMBER(SEARCH(\"17\",#REF!)),\"1\",\"0\")","v":"0"},1,1,null,null,2,0,10,12,{"$nulls":10},{"$f":"#REF!-#REF!","v":{"$error":"#REF!"}}]
[2,22,3,"KN",2,18,null,3,8,1,0,5,1,3,"0","0","1","0","0","0","0","0","0","0","0","0","0","0","0","0","0","0",null,null,1,5,2,{"$f":"IF(ISNUMBER(SEARCH(\"1\",#REF!)),\"1\",\"0\")","v":"0"},{"$f":"IF(ISNUMBER(SEARCH(\"2\",#REF!)),\"1\",\"0\")","v":"0"},{"$f":"IF(ISNUMBER(SEARCH(\"3\",#REF!)),\"1\",\"0\")","v":"0"},{"$f":"IF(ISNUMBER(SEARCH(\"4\",#REF!)),\"1\",\"0\")","v":"0"},{"$f":"IF(ISNUMBER(SEARCH(\"5\",#REF!)),\"1\",\"0\")","v":"0"},{"$f":"IF(ISNUMBER(SEARCH(\"6\",#REF!)),\"1\",\"0\")","v":"0"},{"$f":"IF(ISNUMBER(SEARCH(\"7\",#REF!)),\"1\",\"0\")","v":"0"},{"$f":"IF(ISNUMBER(SEARCH(\"8\",#REF!)),\"1\",\"0\")","v":"0"},{"$f":"IF(ISNUMBER(SEARCH(\"9\",#REF!)),\"1\",\"0\")","v":"0"},{"$f":"IF(ISNUMBER(SEARCH(\"9\",#REF!)),\"1\",\"0\")","v":"0"},{"$f":"IF(ISNUMBER(SEARCH(\"10\",#REF!)),\"1\",\"0\")","v":"0"},{"$f":"IF(ISNUMBER(SEARCH(\"11\",#REF!)),\"1\",\"0\")","v":"0"},{"$f":"IF(ISNUMBER(SEARCH(\"12\",#REF!)),\"1\",\"0\")","v":"0"},{"$f":"IF(ISNUMBER(SEARCH(\"13\",#REF!)),\"1\",\"0\")","v":"0"},{"$f":"IF(ISNUMBER(SEARCH(\"14\",#REF!)),\"1\",\"0\")","v":"0"},{"$f":"IF(ISNUMBER(SEARCH(\"15\",#REF!)),\"1\",\"0\")","v":"0"},{"$f":"IF(ISNUMBER(SEARCH(\"16\",#REF!)),\"1\",\"0\")","v":"0"},{"$f":"IF(ISNUMBER(SEARCH(\"17\",#REF!)),\"1\",\"0\")","v":"0"},3,1,null,null,20,14,18,52,6,null,10,6,14,30,null,14,4,null,{"$f":"#REF!-#REF!","v":{"$error":"#REF!"}},{"$f":"#REF!-#REF!","v":{"$error":"#REF!"}}]
[2,22,3,"KF",2,38,null,2,7,null,3,5,2,"3, 14","1","0","1","1","0","0","0","0","0","0","0","0","0","1","0","0","0","0",null,null,1,3,1,{"$f":"IF(ISNUMBER(SEARCH(\"1\",#REF!)),\"1\",\"0\")","v":"0"},{"$f":"IF(ISNUMBER(SEARCH(\"2\",#REF!)),\"1\",\"0\")","v":"0"},{"$f":"IF(ISNUMBER(SEARCH(\"3\",#REF!)),\"1\",\"0\")","v":"0"},{"$f":"IF(ISNUMBER(SEARCH(\"4\",#REF!)),\"1\",\"0\")","v":"0"},{"$f":"IF(ISNUMBER(SEARCH(\"5\",#REF!)),\"1\",\"0\")","v":"0"},{"$f":"IF(ISNUMBER(SEARCH(\"6\",#REF!)),\"1\",\"0\")","v":"0"},{"$f":"IF(ISNUMBER(SEARCH(\"7\",#REF!)),\"1\",\"0\")","v":"0"},{"$f":"IF(ISNUMBER(SEARCH(\"8\",#REF!)),\"1\",\"0\")","v":"0"},{"$f":"IF(ISNUMBER(SEARCH(\"9\",#REF!)),\"1\",\"0\")","v":"0"},{"$f":"IF(ISNUMBER(SEARCH(\"9\",#REF!)),\"1\",\"0\")","v":"0"},{"$f":"IF(ISNUMBER(SEARCH(\"10\",#REF!)),\"1\",\"0\")","v":"0"},{"$f":"IF(ISNUMBER(SEARCH(\"11\",#REF!)),\"1\",\"0\")","v":"0"},{"$f":"IF(ISNUMBER(SEARCH(\"12\",#REF!)),\"1\",\"0\")","v":"0"},{"$f":"IF(ISNUMBER(SEARCH(\"13\",#REF!)),\"1\",\"0\")","v":"0"},{"$f":"IF(ISNUMBER(SEARCH(\"14\",#REF!)),\"1\",\"0\")","v":"0"},{"$f":"IF(ISNUMBER(SEARCH(\"15\",#REF!)),\"1\",\"0\")","v":"0"},{"$f":"IF(ISNUMBER(SEARCH(\"16\",#REF!)),\"1\",\"0\")","v":"0"},{"$f":"IF(ISNUMBER(SEARCH(\"17\",#REF!)),\"1\",\"0\")","v":"0"},1,1,null,null,26,14,20,60,5,null,6,4,8,18,null,13,5,null,{"$f":"#REF!-#REF!","v":{"$error":"#REF!"}},{"$f":"#REF!-#REF!","v":{"$error":"#REF!"}}]
[2,22,3,"KF",2,24,null,2,3,null,3,4,2,3,"0","0","1","0","0","0","0","0","0","0","0","0","0","0","0","0","0","0",null,null,3,4,null,{"$f":"IF(ISNUMBER(SEARCH(\"1\",#REF!)),\"1\",\"0\")","v":"0"},{"$f":"IF(ISNUMBER(SEARCH(\"2\",#REF!)),\"1\",\"0\")","v":"0"},{"$f":"IF(ISNUMBER(SEARCH(\"3\",#REF!)),\"1\",\"0\")","v":"0"},{"$f":"IF(ISNUMBER(SEARCH(\"4\",#REF!)),\"1\",\"0\")","v":"0"},{"$f":"IF(ISNUMBER(SEARCH(\"5\",#REF!)),\"1\",\"0\")","v":"0"},{"$f":"IF(ISNUMBER(SEARCH(\"6\",#REF!)),\"1\",\"0\")","v":"0"},{"$f":"IF(ISNUMBER(SEARCH(\"7\",#REF!)),\"1\",\"0\")","v":"0"},{"$f":"IF(ISNUMBER(SEARCH(\"8\",#REF!)),\"1\",\"0\")","v":"0"},{"$f":"IF(ISNUMBER(SEARCH(\"9\",#REF!)),\"1\",\"0\")","v":"0"},{"$f":"IF(ISNUMBER(SEARCH(\"9\",#REF!)),\"1\",\"0\")","v":"0"},{"$f":"IF(ISNUMBER(SEARCH(\"10\",#REF!)),\"1\",\"0\")","v":"0"},{"$f":"IF(ISNUMBER(SEARCH(\"11\",#REF!)),\"1\",\"0\")","v":"0"},{"$f":"IF(ISNUMBER(SEARCH(\"12\",#REF!)),\"1\",\"0\")","v":"0"},{"$f":"IF(ISNUMBER(SEARCH(\"13\",#REF!)),\"1\",\"0\")","v":"0"},{"$f":"IF(ISNUMBER(SEARCH(\"14\",#REF!)),\"1\",\"0\")","v":"0"},{"$f":"IF(ISNUMBER(SEARCH(\"15\",#REF!)),\"1\",\"0\")","v":"0"},{"$f":"IF(ISNUMBER(SEARCH(\"16\",#REF!)),\"1\",\"0\")","v":"0"},{"$f":"IF(ISNUMBER(SEARCH(\"17\",#REF!)),\"1\",\"0\")","v":"0"},3,1,null,null,22,14,20,56,6,null,6,4,4,14,null,13,4]
[2,22,3,"KF",2,22,null,2,3,null,0,3,1,3,"0","0","1","0","0","0","0","0","0","0","0","0","0","0","0","0","0","0",null,null,3,4,1,{"$f":"IF(ISNUMBER(SEARCH(\"1\",#REF!)),\"1\",\"0\")","v":"0"},{"$f":"IF(ISNUMBER(SEARCH(\"2\",#REF!)),\"1\",\"0\")","v":"0"},{"$f":"IF(ISNUMBER(SEARCH(\"3\",#REF!)),\"1\",\"0\")","v":"0"},{"$f":"IF(ISNUMBER(SEARCH(\"4\",#REF!)),\"1\",\"0\")","v":"0"},{"$f":"IF(ISNUMBER(SEARCH(\"5\",#REF!)),\"1\",\"0\")","v":"0"},{"$f":"IF(ISNUMBER(SEARCH(\"6\",#REF!)),\"1\",\"0\")","v":"0"},{"$f":"IF(ISNUMBER(SEARCH(\"7\",#REF!)),\"1\",\"0\")","v":"0"},{"$f":"IF(ISNUMBER(SEARCH(\"8\",#REF!)),\"1\",\"0\")","v":"0"},{"$f":"IF(ISNUMBER(SEARCH(\"9\",#REF!)),\"1\",\"0\")","v":"0"},{"$f":"IF(ISNUMBER(SEARCH(\"9\",#REF!)),\"1\",\"0\")","v":"0"},{"$f":"IF(ISNUMBER(SEARCH(\"10\",#REF!)),\"1\",\"0\")","v":"0"},{"$f":"IF(ISNUMBER(SEARCH(\"11\",#REF!)),\"1\",\"0\")","v":"0"},{"$f":"IF(ISNUMBER(SEARCH(\"12\",#REF!)),\"1\",\"0\")","v":"0"},{"$f":"IF(ISNUMBER(SEARCH(\"13\",#REF!)),\"1\",\"0\")","v":"0"},{"$f":"IF(ISNUMBER(SEARCH(\"14\",#REF!)),\"1\",\"0\")","v":"0"},{"$f":"IF(ISNUMBER(SEARCH(\"15\",#REF!)),\"1\",\"0\")","v":"0"},{"$f":"IF(ISNUMBER(SEARCH(\"16\",#REF!)),\"1\",\"0\")","v":"0"},{"$f":"IF(ISNUMBER(SEARCH(\"17\",#REF!)),\"1\",\"0\")","v":"0"},1,1,null,null,18,18,16,52,7,null,6,6,8,20,null,12,4,null,null,{"$f":"#REF!-#REF!","v":{"$error":"#REF!"}}]
[2,22,3,"KN",2,15,null,3,2,1,0,5,1,3,"0","0","1","0","0","0","0","0","0","0","0","0","0","0","0","0","0","0",null,null,3,3,1,{"$f":"IF(ISNUMBER(SEARCH(\"1\",#REF!)),\"1\",\"0\")","v":"0"},{"$f":"IF(ISNUMBER(SEARCH(\"2\",#REF!)),\"1\",\"0\")","v":"0"},{"$f":"IF(ISNUMBER(SEARCH(\"3\",#REF!)),\"1\",\"0\")","v":"0"},{"$f":"IF(ISNUMBER(SEARCH(\"4\",#REF!)),\"1\",\"0\")","v":"0"},{"$f":"IF(ISNUMBER(SEARCH(\"5\",#REF!)),\"1\",\"0\")","v":"0"},{"$f":"IF(ISNUMBER(SEARCH(\"6\",#REF!)),\"1\",\"0\")","v":"0"},{"$f":"IF(ISNUMBER(SEARCH(\"7\",#REF!)),\"1\",\"0\")","v":"0"},{"$f":"IF(ISNUMBER(SEARCH(\"8\",#REF!)),\"1\",\"0\")","v":"0"},{"$f":"IF(ISNUMBER(SEARCH(\"9\",#REF!)),\"1\",\"0\")","v":"0"},{"$f":"IF(ISNUMBER(SEARCH(\"9\",#REF!)),\"1\",\"0\")","v":"0"},{"$f":"IF(ISNUMBER(SEARCH(\"10\",#REF!)),\"1\",\"0\")","v":"0"},{"$f":"IF(ISNUMBER(SEARCH(\"11\",#REF!)),\"1\",\"0\")","v":"0"},{"$f":"IF(ISNUMBER(SEARCH(\"12\",#REF!)),\"1\",\"0\")","v":"0"},{"$f":"IF(ISNUMBER(SEARCH(\"13\",#REF!)),\"1\",\"0\")","v":"0"},{"$f":"IF(ISNUMBER(SEARCH(\"14\",#REF!)),\"1\",\"0\")","v":"0"},{"$f":"IF(ISNUMBER(SEARCH(\"15\",#REF!)),\"1\",\"0\")","v":"0"},{"$f":"IF(ISNUMBER(SEARCH(\"16\",#REF!)),\"1\",\"0\")","v":"0"},{"$f":"IF(ISNUMBER(SEARCH(\"17\",#REF!)),\"1\",\"0\")","v":"0"},1,1,null,null,0,0,8,8,5,null,10,8,14,32,null,13,5,null,{"$f":"#REF!-#REF!","v":{"$error":"#REF!"}},{"$f":"#REF!-#REF!","v":{"$error":"#REF!"}}]
[2,22,3,"SK",2,30,null,2,8,2,5,5,2,"3, 10","1","0","1","0","0","0","0","0","0","1","0","0","0","0","0","0","0","0",null,null,3,5,2,{"$f":"IF(ISNUMBER(SEARCH(\"1\",#REF!)),\"1\",\"0\")","v":"0"},{"$f":"IF(ISNUMBER(SEARCH(\"2\",#REF!)),\"1\",\"0\")","v":"0"},{"$f":"IF(ISNUMBER(SEARCH(\"3\",#REF!)),\"1\",\"0\")","v":"0"},{"$f":"IF(ISNUMBER(SEARCH(\"4\",#REF!)),\"1\",\"0\")","v":"0"},{"$f":"IF(ISNUMBER(SEARCH(\"5\",#REF!)),\"1\",\"0\")","v":"0"},{"$f":"IF(ISNUMBER(SEARCH(\"6\",#REF!)),\"1\",\"0\")","v":"0"},{"$f":"IF(ISNUMBER(SEARCH(\"7\",#REF!)),\"1\",\"0\")","v":"0"},{"$f":"IF(ISNUMBER(SEARCH(\"8\",#REF!)),\"1\",\"0\")","v":"0"},{"$f":"IF(ISNUMBER(SEARCH(\"9\",#REF!)),\"1\",\"0\")","v":"0"},{"$f":"IF(ISNUMBER(SEARCH(\"9\",#REF!)),\"1\",\"0\")","v":"0"},{"$f":"IF(ISNUMBER(SEARCH(\"10\",#REF!)),\"1\",\"0\")","v":"0"},{"$f":"IF(ISNUMBER(SEARCH(\"11\",#REF!)),\"1\",\"0\")","v":"0"},{"$f":"IF(ISNUMBER(SEARCH(\"12\",#REF!)),\"1\",\"0\")","v":"0"},{"$f":"IF(ISNUMBER(SEARCH(\"13\",#REF!)),\"1\",\"0\")","v":"0"},{"$f":"IF(ISNUMBER(SEARCH(\"14\",#REF!)),\"1\",\"0\")","v":"0"},{"$f":"IF(ISNUMBER(SEARCH(\"15\",#REF!)),\"1\",\"0\")","v":"0"},{"$f":"IF(ISNUMBER(SEARCH(\"16\",#REF!)),\"1\",\"0\")","v":"0"},{"$f":"IF(ISNUMBER(SEARCH(\"17\",#REF!)),\"1\",\"0\")","v":"0"},3,{"$nulls":3},10,10,4,24,5,null,10,10,4,24,null,8,4,null,null,{"$f":"#REF!-#REF!","v":{"$error":"#REF!"}}]
[2,22,3,"KF",2,26,null,3,8,1,3,5,2,3,"0","0","1","0","0","0","0","0","0","0","0","0","0","0","0","0","0","0",null,null,2,3,1,{"$f":"IF(ISNUMBER(SEARCH(\"1\",#REF!)),\"1\",\"0\")","v":"0"},{"$f":"IF(ISNUMBER(SEARCH(\"2\",#REF!)),\"1\",\"0\")","v":"0"},{"$f":"IF(ISNUMBER(SEARCH(\"3\",#REF!)),\"1\",\"0\")","v":"0"},{"$f":"IF(ISNUMBER(SEARCH(\"4\",#REF!)),\"1\",\"0\")","v":"0"},{"$f":"IF(ISNUMBER(SEARCH(\"5\",#REF!)),\"1\",\"0\")","v":"0"},{"$f":"IF(ISNUMBER(SEARCH(\"6\",#REF!)),\"1\",\"0\")","v":"0"},{"$f":"IF(ISNUMBER(SEARCH(\"7\",#REF!)),\"1\",\"0\")","v":"0"},{"$f":"IF(ISNUMBER(SEARCH(\"8\",#REF!)),\"1\",\"0\")","v":"0"},{"$f":"IF(ISNUMBER(SEARCH(\"9\",#REF!)),\"1\",\"0\")","v":"0"},{"$f":"IF(ISNUMBER(SEARCH(\"9\",#REF!)),\"1\",\"0\")","v":"0"},{"$f":"IF(ISNUMBER(SEARCH(\"10\",#REF!)),\"1\",\"0\")","v":"0"},{"$f":"IF(ISNUMBER(SEARCH(\"11\",#REF!)),\"1\",\"0\")","v":"0"},{"$f":"IF(ISNUMBER(SEARCH(\"12\",#REF!)),\"1\",\"0\")","v":"0"},{"$f":"IF(ISNUMBER(SEARCH(\"13\",#REF!)),\"1\",\"0\")","v":"0"},{"$f":"IF(ISNUMBER(SEARCH(\"14\",#REF!)),\"1\",\"0\")","v":"0"},{"$f":"IF(ISNUMBER(SEARCH(\"15\",#REF!)),\"1\",\"0\")","v":"0"},{"$f":"IF(ISNUMBER(SEARCH(\"16\",#REF!)),\"1\",\"0\")","v":"0"},{"$f":"IF(ISNUMBER(SEARCH(\"17\",#REF!)),\"1\",\"0\")","v":"0"},3,1,null,null,20,14,24,58,8,null,6,4,8,18,null,13,3,null,null,{"$f":"#REF!-#REF!","v":{"$error":"#REF!"}}]
[2,22,4,"VMA",2,16,null,3,2,null,0,3,1,3,"0","0","1","0","0","0","0","0","0","0","0","0","0","0","0","0","0","0",null,null,3,4,1,{"$f":"IF(ISNUMBER(SEARCH(\"1\",#REF!)),\"1\",\"0\")","v":"0"},{"$f":"IF(ISNUMBER(SEARCH(\"2\",#REF!)),\"1\",\"0\")","v":"0"},{"$f":"IF(ISNUMBER(SEARCH(\"3\",#REF!)),\"1\",\"0\")","v":"0"},{"$f":"IF(ISNUMBER(SEARCH(\"4\",#REF!)),\"1\",\"0\")","v":"0"},{"$f":"IF(ISNUMBER(SEARCH(\"5\",#REF!)),\"1\",\"0\")","v":"0"},{"$f":"IF(ISNUMBER(SEARCH(\"6\",#REF!)),\"1\",\"0\")","v":"0"},{"$f":"IF(ISNUMBER(SEARCH(\"7\",#REF!)),\"1\",\"0\")","v":"0"},{"$f":"IF(ISNUMBER(SEARCH(\"8\",#REF!)),\"1\",\"0\")","v":"0"},{"$f":"IF(ISNUMBER(SEARCH(\"9\",#REF!)),\"1\",\"0\")","v":"0"},{"$f":"IF(ISNUMBER(SEARCH(\"9\",#REF!)),\"1\",\"0\")","v":"0"},{"$f":"IF(ISNUMBER(SEARCH(\"10\",#REF!)),\"1\",\"0\")","v":"0"},{"$f":"IF(ISNUMBER(SEARCH(\"11\",#REF!)),\"1\",\"0\")","v":"0"},{"$f":"IF(ISNUMBER(SEARCH(\"12\",#REF!)),\"1\",\"0\")","v":"0"},{"$f":"IF(ISNUMBER(SEARCH(\"13\",#REF!)),\"1\",\"0\")","v":"0"},{"$f":"IF(ISNUMBER(SEARCH(\"14\",#REF!)),\"1\",\"0\")","v":"0"},{"$f":"IF(ISNUMBER(SEARCH(\"15\",#REF!)),\"1\",\"0\")","v":"0"},{"$f":"IF(ISNUMBER(SEARCH(\"16\",#REF!)),\"1\",\"0\")","v":"0"},{"$f":"IF(ISNUMBER(SEARCH(\"17\",#REF!)),\"1\",\"0\")","v":"0"},1,{"$nulls":3},0,2,2,4,{"$nulls":10},{"$f":"#REF!-#REF!","v":{"$error":"#REF!"}}]
[2,22,4,"VMA",2,17,null,3,2,1,0,3,1,3,"0","0","1","0","0","0","0","0","0","0","0","0","0","0","0","0","0","0",{"$nulls":4},1,{"$f":"IF(ISNUMBER(SEARCH(\"1\",#REF!)),\"1\",\"0\")","v":"0"},{"$f":"IF(ISNUMBER(SEARCH(\"2\",#REF!)),\"1\",\"0\")","v":"0"},{"$f":"IF(ISNUMBER(SEARCH(\"3\",#REF!)),\"1\",\"0\")","v":"0"},{"$f":"IF(ISNUMBER(SEARCH(\"4\",#REF!)),\"1\",\"0\")","v":"0"},{"$f":"IF(ISNUMBER(SEARCH(\"5\",#REF!)),\"1\",\"0\")","v":"0"},{"$f":"IF(ISNUMBER(SEARCH(\"6\",#REF!)),\"1\",\"0\")","v":"0"},{"$f":"IF(ISNUMBER(SEARCH(\"7\",#REF!)),\"1\",\"0\")","v":"0"},{"$f":"IF(ISNUMBER(SEARCH(\"8\",#REF!)),\"1\",\"0\")","v":"0"},{"$f":"IF(ISNUMBER(SEARCH(\"9\",#REF!)),\"1\",\"0\")","v":"0"},{"$f":"IF(ISNUMBER(SEARCH(\"9\",#REF!)),\"1\",\"0\")","v":"0"},{"$f":"IF(ISNUMBER(SEARCH(\"10\",#REF!)),\"1\",\"0\")","v":"0"},{"$f":"IF(ISNUMBER(SEARCH(\"11\",#REF!)),\"1\",\"0\")","v":"0"},{"$f":"IF(ISNUMBER(SEARCH(\"12\",#REF!)),\"1\",\"0\")","v":"0"},{"$f":"IF(ISNUMBER(SEARCH(\"13\",#REF!)),\"1\",\"0\")","v":"0"},{"$f":"IF(ISNUMBER(SEARCH(\"14\",#REF!)),\"1\",\"0\")","v":"0"},{"$f":"IF(ISNUMBER(SEARCH(\"15\",#REF!)),\"1\",\"0\")","v":"0"},{"$f":"IF(ISNUMBER(SEARCH(\"16\",#REF!)),\"1\",\"0\")","v":"0"},{"$f":"IF(ISNUMBER(SEARCH(\"17\",#REF!)),\"1\",\"0\")","v":"0"},1,{"$nulls":7},5,{"$nulls":9},{"$f":"#REF!-#REF!","v":{"$error":"#REF!"}}]
[2,22,4,"VMA",2,14,null,1,2,null,0,3,1,3,"0","0","1","0","0","0","0","0","0","0","0","0","0","0","0","0","0","0",null,null,3,3,1,{"$f":"IF(ISNUMBER(SEARCH(\"1\",#REF!)),\"1\",\"0\")","v":"0"},{"$f":"IF(ISNUMBER(SEARCH(\"2\",#REF!)),\"1\",\"0\")","v":"0"},{"$f":"IF(ISNUMBER(SEARCH(\"3\",#REF!)),\"1\",\"0\")","v":"0"},{"$f":"IF(ISNUMBER(SEARCH(\"4\",#REF!)),\"1\",\"0\")","v":"0"},{"$f":"IF(ISNUMBER(SEARCH(\"5\",#REF!)),\"1\",\"0\")","v":"0"},{"$f":"IF(ISNUMBER(SEARCH(\"6\",#REF!)),\"1\",\"0\")","v":"0"},{"$f":"IF(ISNUMBER(SEARCH(\"7\",#REF!)),\"1\",\"0\")","v":"0"},{"$f":"IF(ISNUMBER(SEARCH(\"8\",#REF!)),\"1\",\"0\")","v":"0"},{"$f":"IF(ISNUMBER(SEARCH(\"9\",#REF!)),\"1\",\"0\")","v":"0"},{"$f":"IF(ISNUMBER(SEARCH(\"9\",#REF!)),\"1\",\"0\")","v":"0"},{"$f":"IF(ISNUMBER(SEARCH(\"10\",#REF!)),\"1\",\"0\")","v":"0"},{"$f":"IF(ISNUMBER(SEARCH(\"11\",#REF!)),\"1\",\"0\")","v":"0"},{"$f":"IF(ISNUMBER(SEARCH(\"12\",#REF!)),\"1\",\"0\")","v":"0"},{"$f":"IF(ISNUMBER(SEARCH(\"13\",#REF!)),\"1\",\"0\")","v":"0"},{"$f":"IF(ISNUMBER(SEARCH(\"14\",#REF!)),\"1\",\"0\")","v":"0"},{"$f":"IF(ISNUMBER(SEARCH(\"15\",#REF!)),\"1\",\"0\")","v":"0"},{"$f":"IF(ISNUMBER(SEARCH(\"16\",#REF!)),\"1\",\"0\")","v":"0"},{"$f":"IF(ISNUMBER(SEARCH(\"17\",#REF!)),\"1\",\"0\")","v":"0"},1,{"$nulls":7},2]
[2,22,4,"VMA",2,40,null,1,3,1,null,3,2,14,"1","0","0","1","0","0","0","0","0","0","0","0","0","1","0","0","0","0",{"$nulls":3},3,null,{"$f":"IF(ISNUMBER(SEARCH(\"1\",#REF!)),\"1\",\"0\")","v":"0"},{"$f":"IF(ISNUMBER(SEARCH(\"2\",#REF!)),\"1\",\"0\")","v":"0"},{"$f":"IF(ISNUMBER(SEARCH(\"3\",#REF!)),\"1\",\"0\")","v":"0"},{"$f":"IF(ISNUMBER(SEARCH(\"4\",#REF!)),\"1\",\"0\")","v":"0"},{"$f":"IF(ISNUMBER(SEARCH(\"5\",#REF!)),\"1\",\"0\")","v":"0"},{"$f":"IF(ISNUMBER(SEARCH(\"6\",#REF!)),\"1\",\"0\")","v":"0"},{"$f":"IF(ISNUMBER(SEARCH(\"7\",#REF!)),\"1\",\"0\")","v":"0"},{"$f":"IF(ISNUMBER(SEARCH(\"8\",#REF!)),\"1\",\"0\")","v":"0"},{"$f":"IF(ISNUMBER(SEARCH(\"9\",#REF!)),\"1\",\"0\")","v":"0"},{"$f":"IF(ISNUMBER(SEARCH(\"9\",#REF!)),\"1\",\"0\")","v":"0"},{"$f":"IF(ISNUMBER(SEARCH(\"10\",#REF!)),\"1\",\"0\")","v":"0"},{"$f":"IF(ISNUMBER(SEARCH(\"11\",#REF!)),\"1\",\"0\")","v":"0"},{"$f":"IF(ISNUMBER(SEARCH(\"12\",#REF!)),\"1\",\"0\")","v":"0"},{"$f":"IF(ISNUMBER(SEARCH(\"13\",#REF!)),\"1\",\"0\")","v":"0"},{"$f":"IF(ISNUMBER(SEARCH(\"14\",#REF!)),\"1\",\"0\")","v":"0"},{"$f":"IF(ISNUMBER(SEARCH(\"15\",#REF!)),\"1\",\"0\")","v":"0"},{"$f":"IF(ISNUMBER(SEARCH(\"16\",#REF!)),\"1\",\"0\")","v":"0"},{"$f":"IF(ISNUMBER(SEARCH(\"17\",#REF!)),\"1\",\"0\")","v":"0"},{"$nulls":4},28,18,18,64,3,{"$nulls":9},{"$f":"#REF!-#REF!","v":{"$error":"#REF!"}}]
[2,22,4,"VMA",2,27,null,3,7,1,null,1,null,null,"0","0","0","0","0","0","0","0","0","0","0","0","0","0","0","0","0","0",{"$nulls":4},1,{"$f":"IF(ISNUMBER(SEARCH(\"1\",#REF!)),\"1\",\"0\")","v":"0"},{"$f":"IF(ISNUMBER(SEARCH(\"2\",#REF!)),\"1\",\"0\")","v":"0"},{"$f":"IF(ISNUMBER(SEARCH(\"3\",#REF!)),\"1\",\"0\")","v":"0"},{"$f":"IF(ISNUMBER(SEARCH(\"4\",#REF!)),\"1\",\"0\")","v":"0"},{"$f":"IF(ISNUMBER(SEARCH(\"5\",#REF!)),\"1\",\"0\")","v":"0"},{"$f":"IF(ISNUMBER(SEARCH(\"6\",#REF!)),\"1\",\"0\")","v":"0"},{"$f":"IF(ISNUMBER(SEARCH(\"7\",#REF!)),\"1\",\"0\")","v":"0"},{"$f":"IF(ISNUMBER(SEARCH(\"8\",#REF!)),\"1\",\"0\")","v":"0"},{"$f":"IF(ISNUMBER(SEARCH(\"9\",#REF!)),\"1\",\"0\")","v":"0"},{"$f":"IF(ISNUMBER(SEARCH(\"9\",#REF!)),\"1\",\"0\")","v":"0"},{"$f":"IF(ISNUMBER(SEARCH(\"10\",#REF!)),\"1\",\"0\")","v":"0"},{"$f":"IF(ISNUMBER(SEARCH(\"11\",#REF!)),\"1\",\"0\")","v":"0"},{"$f":"IF(ISNUMBER(SEARCH(\"12\",#REF!)),\"1\",\"0\")","v":"0"},{"$f":"IF(ISNUMBER(SEARCH(\"13\",#REF!)),\"1\",\"0\")","v":"0"},{"$f":"IF(ISNUMBER(SEARCH(\"14\",#REF!)),\"1\",\"0\")","v":"0"},{"$f":"IF(ISNUMBER(SEARCH(\"15\",#REF!)),\"1\",\"0\")","v":"0"},{"$f":"IF(ISNUMBER(SEARCH(\"16\",#REF!)),\"1\",\"0\")","v":"0"},{"$f":"IF(ISNUMBER(SEARCH(\"17\",#REF!)),\"1\",\"0\")","v":"0"},{"$nulls":4},36,36,36,108,5,{"$nulls":9},{"$f":"#REF!-#REF!","v":{"$error":"#REF!"}}]
[2,22,4,"VMA",2,10,null,null,2,null,0,1,1,3,"0","0","1","0","0","0","0","0","0","0","0","0","0","0","0","0","0","0",{"$nulls":5},{"$f":"IF(ISNUMBER(SEARCH(\"1\",#REF!)),\"1\",\"0\")","v":"0"},{"$f":"IF(ISNUMBER(SEARCH(\"2\",#REF!)),\"1\",\"0\")","v":"0"},{"$f":"IF(ISNUMBER(SEARCH(\"3\",#REF!)),\"1\",\"0\")","v":"0"},{"$f":"IF(ISNUMBER(SEARCH(\"4\",#REF!)),\"1\",\"0\")","v":"0"},{"$f":"IF(ISNUMBER(SEARCH(\"5\",#REF!)),\"1\",\"0\")","v":"0"},{"$f":"IF(ISNUMBER(SEARCH(\"6\",#REF!)),\"1\",\"0\")","v":"0"},{"$f":"IF(ISNUMBER(SEARCH(\"7\",#REF!)),\"1\",\"0\")","v":"0"},{"$f":"IF(ISNUMBER(SEARCH(\"8\",#REF!)),\"1\",\"0\")","v":"0"},{"$f":"IF(ISNUMBER(SEARCH(\"9\",#REF!)),\"1\",\"0\")","v":"0"},{"$f":"IF(ISNUMBER(SEARCH(\"9\",#REF!)),\"1\",\"0\")","v":"0"},{"$f":"IF(ISNUMBER(SEARCH(\"10\",#REF!)),\"1\",\"0\")","v":"0"},{"$f":"IF(ISNUMBER(SEARCH(\"11\",#REF!)),\"1\",\"0\")","v":"0"},{"$f":"IF(ISNUMBER(SEARCH(\"12\",#REF!)),\"1\",\"0\")","v":"0"},{"$f":"IF(ISNUMBER(SEARCH(\"13\",#REF!)),\"1\",\"0\")","v":"0"},{"$f":"IF(ISNUMBER(SEARCH(\"14\",#REF!)),\"1\",\"0\")","v":"0"},{"$f":"IF(ISNUMBER(SEARCH(\"15\",#REF!)),\"1\",\"0\")","v":"0"},{"$f":"IF(ISNUMBER(SEARCH(\"16\",#REF!)),\"1\",\"0\")","v":"0"},{"$f":"IF(ISNUMBER(SEARCH(\"17\",#REF!)),\"1\",\"0\")","v":"0"},1,{"$nulls":3},0,0,4,4,{"$nulls":10},{"$f":"#REF!-#REF!","v":{"$error":"#REF!"}}]
[2,22,4,"BCA",2,29,null,2,3,2,4,5,2,1,"1","0","0","0","0","0","0","0","0","0","0","0","0","0","0","0","0","0",null,null,1,3,1,{"$f":"IF(ISNUMBER(SEARCH(\"1\",#REF!)),\"1\",\"0\")","v":"0"},{"$f":"IF(ISNUMBER(SEARCH(\"2\",#REF!)),\"1\",\"0\")","v":"0"},{"$f":"IF(ISNUMBER(SEARCH(\"3\",#REF!)),\"1\",\"0\")","v":"0"},{"$f":"IF(ISNUMBER(SEARCH(\"4\",#REF!)),\"1\",\"0\")","v":"0"},{"$f":"IF(ISNUMBER(SEARCH(\"5\",#REF!)),\"1\",\"0\")","v":"0"},{"$f":"IF(ISNUMBER(SEARCH(\"6\",#REF!)),\"1\",\"0\")","v":"0"},{"$f":"IF(ISNUMBER(SEARCH(\"7\",#REF!)),\"1\",\"0\")","v":"0"},{"$f":"IF(ISNUMBER(SEARCH(\"8\",#REF!)),\"1\",\"0\")","v":"0"},{"$f":"IF(ISNUMBER(SEARCH(\"9\",#REF!)),\"1\",\"0\")","v":"0"},{"$f":"IF(ISNUMBER(SEARCH(\"9\",#REF!)),\"1\",\"0\")","v":"0"},{"$f":"IF(ISNUMBER(SEARCH(\"10\",#REF!)),\"1\",\"0\")","v":"0"},{"$f":"IF(ISNUMBER(SEARCH(\"11\",#REF!)),\"1\",\"0\")","v":"0"},{"$f":"IF(ISNUMBER(SEARCH(\"12\",#REF!)),\"1\",\"0\")","v":"0"},{"$f":"IF(ISNUMBER(SEARCH(\"13\",#REF!)),\"1\",\"0\")","v":"0"},{"$f":"IF(ISNUMBER(SEARCH(\"14\",#REF!)),\"1\",\"0\")","v":"0"},{"$f":"IF(ISNUMBER(SEARCH(\"15\",#REF!)),\"1\",\"0\")","v":"0"},{"$f":"IF(ISNUMBER(SEARCH(\"16\",#REF!)),\"1\",\"0\")","v":"0"},{"$f":"IF(ISNUMBER(SEARCH(\"17\",#REF!)),\"1\",\"0\")","v":"0"},{"$nulls":4},26,24,22,72,6,{"$nulls":9},{"$f":"#REF!-#REF!","v":{"$error":"#REF!"}}]
[2,22,4,"BCA",2,23,null,1,3,1,2,5,6,3,"0","0","1","0","0","0","0","0","0","0","0","0","0","0","0","0","0","0",null,null,3,5,null,{"$f":"IF(ISNUMBER(SEARCH(\"1\",#REF!)),\"1\",\"0\")","v":"0"},{"$f":"IF(ISNUMBER(SEARCH(\"2\",#REF!)),\"1\",\"0\")","v":"0"},{"$f":"IF(ISNUMBER(SEARCH(\"3\",#REF!)),\"1\",\"0\")","v":"0"},{"$f":"IF(ISNUMBER(SEARCH(\"4\",#REF!)),\"1\",\"0\")","v":"0"},{"$f":"IF(ISNUMBER(SEARCH(\"5\",#REF!)),\"1\",\"0\")","v":"0"},{"$f":"IF(ISNUMBER(SEARCH(\"6\",#REF!)),\"1\",\"0\")","v":"0"},{"$f":"IF(ISNUMBER(SEARCH(\"7\",#REF!)),\"1\",\"0\")","v":"0"},{"$f":"IF(ISNUMBER(SEARCH(\"8\",#REF!)),\"1\",\"0\")","v":"0"},{"$f":"IF(ISNUMBER(SEARCH(\"9\",#REF!)),\"1\",\"0\")","v":"0"},{"$f":"IF(ISNUMBER(SEARCH(\"9\",#REF!)),\"1\",\"0\")","v":"0"},{"$f":"IF(ISNUMBER(SEARCH(\"10\",#REF!)),\"1\",\"0\")","v":"0"},{"$f":"IF(ISNUMBER(SEARCH(\"11\",#REF!)),\"1\",\"0\")","v":"0"},{"$f":"IF(ISNUMBER(SEARCH(\"12\",#REF!)),\"1\",\"0\")","v":"0"},{"$f":"IF(ISNUMBER(SEARCH(\"13\",#REF!)),\"1\",\"0\")","v":"0"},{"$f":"IF(ISNUMBER(SEARCH(\"14\",#REF!)),\"1\",\"0\")","v":"0"},{"$f":"IF(ISNUMBER(SEARCH(\"15\",#REF!)),\"1\",\"0\")","v":"0"},{"$f":"IF(ISNUMBER(SEARCH(\"16\",#REF!)),\"1\",\"0\")","v":"0"},{"$f":"IF(ISNUMBER(SEARCH(\"17\",#REF!)),\"1\",\"0\")","v":"0"},3,{"$nulls":3},20,16,20,56,9,null,4,6,6,16,{"$nulls":4},{"$f":"#REF!-#REF!","v":{"$error":"#REF!"}},{"$f":"#REF!-#REF!","v":{"$error":"#REF!"}}]
[2,22,4,"BCA",2,19,null,3,2,2,0,5,1,3,"0","0","1","0","0","0","0","0","0","0","0","0","0","0","0","0","0","0",null,null,3,5,2,{"$f":"IF(ISNUMBER(SEARCH(\"1\",#REF!)),\"1\",\"0\")","v":"0"},{"$f":"IF(ISNUMBER(SEARCH(\"2\",#REF!)),\"1\",\"0\")","v":"0"},{"$f":"IF(ISNUMBER(SEARCH(\"3\",#REF!)),\"1\",\"0\")","v":"0"},{"$f":"IF(ISNUMBER(SEARCH(\"4\",#REF!)),\"1\",\"0\")","v":"0"},{"$f":"IF(ISNUMBER(SEARCH(\"5\",#REF!)),\"1\",\"0\")","v":"0"},{"$f":"IF(ISNUMBER(SEARCH(\"6\",#REF!)),\"1\",\"0\")","v":"0"},{"$f":"IF(ISNUMBER(SEARCH(\"7\",#REF!)),\"1\",\"0\")","v":"0"},{"$f":"IF(ISNUMBER(SEARCH(\"8\",#REF!)),\"1\",\"0\")","v":"0"},{"$f":"IF(ISNUMBER(SEARCH(\"9\",#REF!)),\"1\",\"0\")","v":"0"},{"$f":"IF(ISNUMBER(SEARCH(\"9\",#REF!)),\"1\",\"0\")","v":"0"},{"$f":"IF(ISNUMBER(SEARCH(\"10\",#REF!)),\"1\",\"0\")","v":"0"},{"$f":"IF(ISNUMBER(SEARCH(\"11\",#REF!)),\"1\",\"0\")","v":"0"},{"$f":"IF(ISNUMBER(SEARCH(\"12\",#REF!)),\"1\",\"0\")","v":"0"},{"$f":"IF(ISNUMBER(SEARCH(\"13\",#REF!)),\"1\",\"0\")","v":"0"},{"$f":"IF(ISNUMBER(SEARCH(\"14\",#REF!)),\"1\",\"0\")","v":"0"},{"$f":"IF(ISNUMBER(SEARCH(\"15\",#REF!)),\"1\",\"0\")","v":"0"},{"$f":"IF(ISNUMBER(SEARCH(\"16\",#REF!)),\"1\",\"0\")","v":"0"},{"$f":"IF(ISNUMBER(SEARCH(\"17\",#REF!)),\"1\",\"0\")","v":"0"},1,{"$nulls":3},14,10,16,40,9,{"$nulls":6},12,null,null,{"$f":"#REF!-#REF!","v":{"$error":"#REF!"}}]
[2,22,4,"BCA",2,20,null,1,3,2,5,5,2,1,"1","0","0","0","0","0","0","0","0","0","0","0","0","0","0","0","0","0",null,null,1,4,1,{"$f":"IF(ISNUMBER(SEARCH(\"1\",#REF!)),\"1\",\"0\")","v":"0"},{"$f":"IF(ISNUMBER(SEARCH(\"2\",#REF!)),\"1\",\"0\")","v":"0"},{"$f":"IF(ISNUMBER(SEARCH(\"3\",#REF!)),\"1\",\"0\")","v":"0"},{"$f":"IF(ISNUMBER(SEARCH(\"4\",#REF!)),\"1\",\"0\")","v":"0"},{"$f":"IF(ISNUMBER(SEARCH(\"5\",#REF!)),\"1\",\"0\")","v":"0"},{"$f":"IF(ISNUMBER(SEARCH(\"6\",#REF!)),\"1\",\"0\")","v":"0"},{"$f":"IF(ISNUMBER(SEARCH(\"7\",#REF!)),\"1\",\"0\")","v":"0"},{"$f":"IF(ISNUMBER(SEARCH(\"8\",#REF!)),\"1\",\"0\")","v":"0"},{"$f":"IF(ISNUMBER(SEARCH(\"9\",#REF!)),\"1\",\"0\")","v":"0"},{"$f":"IF(ISNUMBER(SEARCH(\"9\",#REF!)),\"1\",\"0\")","v":"0"},{"$f":"IF(ISNUMBER(SEARCH(\"10\",#REF!)),\"1\",\"0\")","v":"0"},{"$f":"IF(ISNUMBER(SEARCH(\"11\",#REF!)),\"1\",\"0\")","v":"0"},{"$f":"IF(ISNUMBER(SEARCH(\"12\",#REF!)),\"1\",\"0\")","v":"0"},{"$f":"IF(ISNUMBER(SEARCH(\"13\",#REF!)),\"1\",\"0\")","v":"0"},{"$f":"IF(ISNUMBER(SEARCH(\"14\",#REF!)),\"1\",\"0\")","v":"0"},{"$f":"IF(ISNUMBER(SEARCH(\"15\",#REF!)),\"1\",\"0\")","v":"0"},{"$f":"IF(ISNUMBER(SEARCH(\"16\",#REF!)),\"1\",\"0\")","v":"0"},{"$f":"IF(ISNUMBER(SEARCH(\"17\",#REF!)),\"1\",\"0\")","v":"0"},{"$nulls":4},22,14,22,58,9,null,2,2,4,8,null,13,4,null,{"$f":"#REF!-#REF!","v":{"$error":"#REF!"}},{"$f":"#REF!-#REF!","v":{"$error":"#REF!"}}]
[2,22,4,"BCA",2,22,null,2,3,1,0,5,1,3,"0","0","1","0","0","0","0","0","0","0","0","0","0","0","0","0","0","0",null,null,3,5,null,{"$f":"IF(ISNUMBER(SEARCH(\"1\",#REF!)),\"1\",\"0\")","v":"0"},{"$f":"IF(ISNUMBER(SEARCH(\"2\",#REF!)),\"1\",\"0\")","v":"0"},{"$f":"IF(ISNUMBER(SEARCH(\"3\",#REF!)),\"1\",\"0\")","v":"0"},{"$f":"IF(ISNUMBER(SEARCH(\"4\",#REF!)),\"1\",\"0\")","v":"0"},{"$f":"IF(ISNUMBER(SEARCH(\"5\",#REF!)),\"1\",\"0\")","v":"0"},{"$f":"IF(ISNUMBER(SEARCH(\"6\",#REF!)),\"1\",\"0\")","v":"0"},{"$f":"IF(ISNUMBER(SEARCH(\"7\",#REF!)),\"1\",\"0\")","v":"0"},{"$f":"IF(ISNUMBER(SEARCH(\"8\",#REF!)),\"1\",\"0\")","v":"0"},{"$f":"IF(ISNUMBER(SEARCH(\"9\",#REF!)),\"1\",\"0\")","v":"0"},{"$f":"IF(ISNUMBER(SEARCH(\"9\",#REF!)),\"1\",\"0\")","v":"0"},{"$f":"IF(ISNUMBER(SEARCH(\"10\",#REF!)),\"1\",\"0\")","v":"0"},{"$f":"IF(ISNUMBER(SEARCH(\"11\",#REF!)),\"1\",\"0\")","v":"0"},{"$f":"IF(ISNUMBER(SEARCH(\"12\",#REF!)),\"1\",\"0\")","v":"0"},{"$f":"IF(ISNUMBER(SEARCH(\"13\",#REF!)),\"1\",\"0\")","v":"0"},{"$f":"IF(ISNUMBER(SEARCH(\"14\",#REF!)),\"1\",\"0\")","v":"0"},{"$f":"IF(ISNUMBER(SEARCH(\"15\",#REF!)),\"1\",\"0\")","v":"0"},{"$f":"IF(ISNUMBER(SEARCH(\"16\",#REF!)),\"1\",\"0\")","v":"0"},{"$f":"IF(ISNUMBER(SEARCH(\"17\",#REF!)),\"1\",\"0\")","v":"0"},1,{"$nulls":3},10,14,10,34,10,null,6,4,6,16,null,13,5,null,{"$f":"#REF!-#REF!","v":{"$error":"#REF!"}},{"$f":"#REF!-#REF!","v":{"$error":"#REF!"}}]
[2,22,4,"BCA",1,24,null,2,3,1,4,5,1,2,"0","1","0","0","0","0","0","0","0","0","0","0","0","0","0","0","0","0",null,null,1,null,0,{"$f":"IF(ISNUMBER(SEARCH(\"1\",#REF!)),\"1\",\"0\")","v":"0"},0,{"$f":"IF(ISNUMBER(SEARCH(\"3\",#REF!)),\"1\",\"0\")","v":"0"},{"$f":"IF(ISNUMBER(SEARCH(\"4\",#REF!)),\"1\",\"0\")","v":"0"},{"$f":"IF(ISNUMBER(SEARCH(\"5\",#REF!)),\"1\",\"0\")","v":"0"},{"$f":"IF(ISNUMBER(SEARCH(\"6\",#REF!)),\"1\",\"0\")","v":"0"},{"$f":"IF(ISNUMBER(SEARCH(\"7\",#REF!)),\"1\",\"0\")","v":"0"},{"$f":"IF(ISNUMBER(SEARCH(\"8\",#REF!)),\"1\",\"0\")","v":"0"},{"$f":"IF(ISNUMBER(SEARCH(\"9\",#REF!)),\"1\",\"0\")","v":"0"},{"$f":"IF(ISNUMBER(SEARCH(\"9\",#REF!)),\"1\",\"0\")","v":"0"},{"$f":"IF(ISNUMBER(SEARCH(\"10\",#REF!)),\"1\",\"0\")","v":"0"},{"$f":"IF(ISNUMBER(SEARCH(\"11\",#REF!)),\"1\",\"0\")","v":"0"},{"$f":"IF(ISNUMBER(SEARCH(\"12\",#REF!)),\"1\",\"0\")","v":"0"},{"$f":"IF(ISNUMBER(SEARCH(\"13\",#REF!)),\"1\",\"0\")","v":"0"},{"$f":"IF(ISNUMBER(SEARCH(\"14\",#REF!)),\"1\",\"0\")","v":"0"},{"$f":"IF(ISNUMBER(SEARCH(\"15\",#REF!)),\"1\",\"0\")","v":"0"},{"$f":"IF(ISNUMBER(SEARCH(\"16\",#REF!)),\"1\",\"0\")","v":"0"},{"$f":"IF(ISNUMBER(SEARCH(\"17\",#REF!)),\"1\",\"0\")","v":"0"},{"$nulls":4},20,12,10,42,7,null,4,8,4,16,null,12,4,null,{"$f":"#REF!-#REF!","v":{"$error":"#REF!"}},{"$f":"#REF!-#REF!","v":{"$error":"#REF!"}}]
[2,22,4,"BCA",2,34,null,2,3,2,6,5,6,1,"1","0","0","0","0","0","0","0","0","0","0","0","0","0","0","0","0","0",null,null,1,2,1,{"$f":"IF(ISNUMBER(SEARCH(\"1\",#REF!)),\"1\",\"0\")","v":"0"},{"$f":"IF(ISNUMBER(SEARCH(\"2\",#REF!)),\"1\",\"0\")","v":"0"},{"$f":"IF(ISNUMBER(SEARCH(\"3\",#REF!)),\"1\",\"0\")","v":"0"},{"$f":"IF(ISNUMBER(SEARCH(\"4\",#REF!)),\"1\",\"0\")","v":"0"},{"$f":"IF(ISNUMBER(SEARCH(\"5\",#REF!)),\"1\",\"0\")","v":"0"},{"$f":"IF(ISNUMBER(SEARCH(\"6\",#REF!)),\"1\",\"0\")","v":"0"},{"$f":"IF(ISNUMBER(SEARCH(\"7\",#REF!)),\"1\",\"0\")","v":"0"},{"$f":"IF(ISNUMBER(SEARCH(\"8\",#REF!)),\"1\",\"0\")","v":"0"},{"$f":"IF(ISNUMBER(SEARCH(\"9\",#REF!)),\"1\",\"0\")","v":"0"},{"$f":"IF(ISNUMBER(SEARCH(\"9\",#REF!)),\"1\",\"0\")","v":"0"},{"$f":"IF(ISNUMBER(SEARCH(\"10\",#REF!)),\"1\",\"0\")","v":"0"},{"$f":"IF(ISNUMBER(SEARCH(\"11\",#REF!)),\"1\",\"0\")","v":"0"},{"$f":"IF(ISNUMBER(SEARCH(\"12\",#REF!)),\"1\",\"0\")","v":"0"},{"$f":"IF(ISNUMBER(SEARCH(\"13\",#REF!)),\"1\",\"0\")","v":"0"},{"$f":"IF(ISNUMBER(SEARCH(\"14\",#REF!)),\"1\",\"0\")","v":"0"},{"$f":"IF(ISNUMBER(SEARCH(\"15\",#REF!)),\"1\",\"0\")","v":"0"},{"$f":"IF(ISNUMBER(SEARCH(\"16\",#REF!)),\"1\",\"0\")","v":"0"},{"$f":"IF(ISNUMBER(SEARCH(\"17\",#REF!)),\"1\",\"0\")","v":"0"},{"$nulls":4},16,16,14,46,8,{"$nulls":9},{"$f":"#REF!-#REF!","v":{"$error":"#REF!"}}]
[2,22,4,"BIDA",2,25,null,null,3,null,2,1,2,3,"0","0","1","0","0","0","0","0","0","0","0","0","0","0","0","0","0","0",null,null,3,5,1,{"$f":"IF(ISNUMBER(SEARCH(\"1\",#REF!)),\"1\",\"0\")","v":"0"},{"$f":"IF(ISNUMBER(SEARCH(\"2\",#REF!)),\"1\",\"0\")","v":"0"},{"$f":"IF(ISNUMBER(SEARCH(\"3\",#REF!)),\"1\",\"0\")","v":"0"},{"$f":"IF(ISNUMBER(SEARCH(\"4\",#REF!)),\"1\",\"0\")","v":"0"},{"$f":"IF(ISNUMBER(SEARCH(\"5\",#REF!)),\"1\",\"0\")","v":"0"},{"$f":"IF(ISNUMBER(SEARCH(\"6\",#REF!)),\"1\",\"0\")","v":"0"},{"$f":"IF(ISNUMBER(SEARCH(\"7\",#REF!)),\"1\",\"0\")","v":"0"},{"$f":"IF(ISNUMBER(SEARCH(\"8\",#REF!)),\"1\",\"0\")","v":"0"},{"$f":"IF(ISNUMBER(SEARCH(\"9\",#REF!)),\"1\",\"0\")","v":"0"},{"$f":"IF(ISNUMBER(SEARCH(\"9\",#REF!)),\"1\",\"0\")","v":"0"},{"$f":"IF(ISNUMBER(SEARCH(\"10\",#REF!)),\"1\",\"0\")","v":"0"},{"$f":"IF(ISNUMBER(SEARCH(\"11\",#REF!)),\"1\",\"0\")","v":"0"},{"$f":"IF(ISNUMBER(SEARCH(\"12\",#REF!)),\"1\",\"0\")","v":"0"},{"$f":"IF(ISNUMBER(SEARCH(\"13\",#REF!)),\"1\",\"0\")","v":"0"},{"$f":"IF(ISNUMBER(SEARCH(\"14\",#REF!)),\"1\",\"0\")","v":"0"},{"$f":"IF(ISNUMBER(SEARCH(\"15\",#REF!)),\"1\",\"0\")","v":"0"},{"$f":"IF(ISNUMBER(SEARCH(\"16\",#REF!)),\"1\",\"0\")","v":"0"},{"$f":"IF(ISNUMBER(SEARCH(\"17\",#REF!)),\"1\",\"0\")","v":"0"},3,2,{"$nulls":6},9]
[2,22,4,"BIDA",2,25,null,null,8,1,3,1,2,3,{"$f":"IF(ISNUMBER(SEARCH(\"1\",$N195)),\"1\",\"0\")","v":"0"},{"$f":"IF(ISNUMBER(SEARCH(\"2\",$N195)),\"1\",\"0\")","v":"0"},{"$f":"IF(ISNUMBER(SEARCH(\"3\",$N195)),\"1\",\"0\")","v":"1"},{"$f":"IF(ISNUMBER(SEARCH(\"4\",$N195)),\"1\",\"0\")","v":"0"},{"$f":"IF(ISNUMBER(SEARCH(\"5\",$N195)),\"1\",\"0\")","v":"0"},{"$f":"IF(ISNUMBER(SEARCH(\"6\",$N195)),\"1\",\"0\")","v":"0"},{"$f":"IF(ISNUMBER(SEARCH(\"7\",$N195)),\"1\",\"0\")","v":"0"},{"$f":"IF(ISNUMBER(SEARCH(\"8\",$N195)),\"1\",\"0\")","v":"0"},{"$f":"IF(ISNUMBER(SEARCH(\"9\",$N195)),\"1\",\"0\")","v":"0"},{"$f":"IF(ISNUMBER(SEARCH(\"10\",$N195)),\"1\",\"0\")","v":"0"},{"$f":"IF(ISNUMBER(SEARCH(\"11\",$N195)),\"1\",\"0\")","v":"0"},{"$f":"IF(ISNUMBER(SEARCH(\"12\",$N195)),\"1\",\"0\")","v":"0"},{"$f":"IF(ISNUMBER(SEARCH(\"13\",$N195)),\"1\",\"0\")","v":"0"},{"$f":"IF(ISNUMBER(SEARCH(\"14\",$N195)),\"1\",\"0\")","v":"0"},{"$f":"IF(ISNUMBER(SEARCH(\"15\",$N195)),\"1\",\"0\")","v":"0"},{"$f":"IF(ISNUMBER(SEARCH(\"16\",$N195)),\"1\",\"0\")","v":"0"},{"$f":"IF(ISNUMBER(SEARCH(\"17\",$N195)),\"1\",\"0\")","v":"0"},{"$f":"IF(ISNUMBER(SEARCH(\"18\",$N195)),\"1\",\"0\")","v":"0"},null,null,3,5,1,{"$f":"IF(ISNUMBER(SEARCH(\"1\",#REF!)),\"1\",\"0\")","v":"0"},{"$f":"IF(ISNUMBER(SEARCH(\"2\",#REF!)),\"1\",\"0\")","v":"0"},{"$f":"IF(ISNUMBER(SEARCH(\"3\",#REF!)),\"1\",\"0\")","v":"0"},{"$f":"IF(ISNUMBER(SEARCH(\"4\",#REF!)),\"1\",\"0\")","v":"0"},{"$f":"IF(ISNUMBER(SEARCH(\"5\",#REF!)),\"1\",\"0\")","v":"0"},{"$f":"IF(ISNUMBER(SEARCH(\"6\",#REF!)),\"1\",\"0\")","v":"0"},{"$f":"IF(ISNUMBER(SEARCH(\"7\",#REF!)),\"1\",\"0\")","v":"0"},{"$f":"IF(ISNUMBER(SEARCH(\"8\",#REF!)),\"1\",\"0\")","v":"0"},{"$f":"IF(ISNUMBER(SEARCH(\"9\",#REF!)),\"1\",\"0\")","v":"0"},{"$f":"IF(ISNUMBER(SEARCH(\"9\",#REF!)),\"1\",\"0\")","v":"0"},{"$f":"IF(ISNUMBER(SEARCH(\"10\",#REF!)),\"1\",\"0\")","v":"0"},{"$f":"IF(ISNUMBER(SEARCH(\"11\",#REF!)),\"1\",\"0\")","v":"0"},{"$f":"IF(ISNUMBER(SEARCH(\"12\",#REF!)),\"1\",\"0\")","v":"0"},{"$f":"IF(ISNUMBER(SEARCH(\"13\",#REF!)),\"1\",\"0\")","v":"0"},{"$f":"IF(ISNUMBER(SEARCH(\"14\",#REF!)),\"1\",\"0\")","v":"0"},{"$f":"IF(ISNUMBER(SEARCH(\"15\",#REF!)),\"1\",\"0\")","v":"0"},{"$f":"IF(ISNUMBER(SEARCH(\"16\",#REF!)),\"1\",\"0\")","v":"0"},{"$f":"IF(ISNUMBER(SEARCH(\"17\",#REF!)),\"1\",\"0\")","v":"0"},3,2,null,null,16,10,22,{"$f":"BH195+BI195+BJ195","v":48},10,{"$nulls":6},14,null,null,{"$f":"#REF!-#REF!","v":{"$error":"#REF!"}},{"$f":"#REF!-#REF!","v":{"$error":"#REF!"}}]
[2,22,4,"VMA",null,18,null,2,3,2,0,11,null,"16. Autre (SVP dans la case suivante) ","1","0","0","0","0","1","0","0","0","0","0","0","0","0","0","1","0","0",{"$nulls":3},5,null,{"$f":"IF(ISNUMBER(SEARCH(\"1\",#REF!)),\"1\",\"0\")","v":"0"},{"$f":"IF(ISNUMBER(SEARCH(\"2\",#REF!)),\"1\",\"0\")","v":"0"},{"$f":"IF(ISNUMBER(SEARCH(\"3\",#REF!)),\"1\",\"0\")","v":"0"},{"$f":"IF(ISNUMBER(SEARCH(\"4\",#REF!)),\"1\",\"0\")","v":"0"},{"$f":"IF(ISNUMBER(SEARCH(\"5\",#REF!)),\"1\",\"0\")","v":"0"},{"$f":"IF(ISNUMBER(SEARCH(\"6\",#REF!)),\"1\",\"0\")","v":"0"},{"$f":"IF(ISNUMBER(SEARCH(\"7\",#REF!)),\"1\",\"0\")","v":"0"},{"$f":"IF(ISNUMBER(SEARCH(\"8\",#REF!)),\"1\",\"0\")","v":"0"},{"$f":"IF(ISNUMBER(SEARCH(\"9\",#REF!)),\"1\",\"0\")","v":"0"},{"$f":"IF(ISNUMBER(SEARCH(\"9\",#REF!)),\"1\",\"0\")","v":"0"},{"$f":"IF(ISNUMBER(SEARCH(\"10\",#REF!)),\"1\",\"0\")","v":"0"},{"$f":"IF(ISNUMBER(SEARCH(\"11\",#REF!)),\"1\",\"0\")","v":"0"},{"$f":"IF(ISNUMBER(SEARCH(\"12\",#REF!)),\"1\",\"0\")","v":"0"},{"$f":"IF(ISNUMBER(SEARCH(\"13\",#REF!)),\"1\",\"0\")","v":"0"},{"$f":"IF(ISNUMBER(SEARCH(\"14\",#REF!)),\"1\",\"0\")","v":"0"},{"$f":"IF(ISNUMBER(SEARCH(\"15\",#REF!)),\"1\",\"0\")","v":"0"},{"$f":"IF(ISNUMBER(SEARCH(\"16\",#REF!)),\"1\",\"0\")","v":"0"},{"$f":"IF(ISNUMBER(SEARCH(\"17\",#REF!)),\"1\",\"0\")","v":"0"},{"$nulls":4},32,30,28,90,null,null,12,10,16,{"$f":"BN196+BO196+BP196","v":38},null,12,5,null,{"$f":"#REF!-#REF!","v":{"$error":"#REF!"}},{"$f":"#REF!-#REF!","v":{"$error":"#REF!"}}]
[2,22,4,"VMA",2,14,null,3,2,1,0,3,1,3,"0","0","1","0","0","0","0","0","0","0","0","0","0","0","0","0","0","0",null,null,3,4,1,{"$f":"IF(ISNUMBER(SEARCH(\"1\",#REF!)),\"1\",\"0\")","v":"0"},{"$f":"IF(ISNUMBER(SEARCH(\"2\",#REF!)),\"1\",\"0\")","v":"0"},{"$f":"IF(ISNUMBER(SEARCH(\"3\",#REF!)),\"1\",\"0\")","v":"0"},{"$f":"IF(ISNUMBER(SEARCH(\"4\",#REF!)),\"1\",\"0\")","v":"0"},{"$f":"IF(ISNUMBER(SEARCH(\"5\",#REF!)),\"1\",\"0\")","v":"0"},{"$f":"IF(ISNUMBER(SEARCH(\"6\",#REF!)),\"1\",\"0\")","v":"0"},{"$f":"IF(ISNUMBER(SEARCH(\"7\",#REF!)),\"1\",\"0\")","v":"0"},{"$f":"IF(ISNUMBER(SEARCH(\"8\",#REF!)),\"1\",\"0\")","v":"0"},{"$f":"IF(ISNUMBER(SEARCH(\"9\",#REF!)),\"1\",\"0\")","v":"0"},{"$f":"IF(ISNUMBER(SEARCH(\"9\",#REF!)),\"1\",\"0\")","v":"0"},{"$f":"IF(ISNUMBER(SEARCH(\"10\",#REF!)),\"1\",\"0\")","v":"0"},{"$f":"IF(ISNUMBER(SEARCH(\"11\",#REF!)),\"1\",\"0\")","v":"0"},{"$f":"IF(ISNUMBER(SEARCH(\"12\",#REF!)),\"1\",\"0\")","v":"0"},{"$f":"IF(ISNUMBER(SEARCH(\"13\",#REF!)),\"1\",\"0\")","v":"0"},{"$f":"IF(ISNUMBER(SEARCH(\"14\",#REF!)),\"1\",\"0\")","v":"0"},{"$f":"IF(ISNUMBER(SEARCH(\"15\",#REF!)),\"1\",\"0\")","v":"0"},{"$f":"IF(ISNUMBER(SEARCH(\"16\",#REF!)),\"1\",\"0\")","v":"0"},{"$f":"IF(ISNUMBER(SEARCH(\"17\",#REF!)),\"1\",\"0\")","v":"0"},5,{"$nulls":3},42,38,34,114,5,null,12,8,12,32,null,12,{"$nulls":3},{"$f":"#REF!-#REF!","v":{"$error":"#REF!"}}]
[2,22,4,"MIK",1,8,null,1,2,1,0,4,1,2,"0","1","0","0","0","0","0","0","0","0","0","0","0","0","0","0","0","0",{"$nulls":3},5,2,{"$f":"IF(ISNUMBER(SEARCH(\"1\",#REF!)),\"1\",\"0\")","v":"0"},{"$f":"IF(ISNUMBER(SEARCH(\"2\",#REF!)),\"1\",\"0\")","v":"0"},{"$f":"IF(ISNUMBER(SEARCH(\"3\",#REF!)),\"1\",\"0\")","v":"0"},{"$f":"IF(ISNUMBER(SEARCH(\"4\",#REF!)),\"1\",\"0\")","v":"0"},{"$f":"IF(ISNUMBER(SEARCH(\"5\",#REF!)),\"1\",\"0\")","v":"0"},{"$f":"IF(ISNUMBER(SEARCH(\"6\",#REF!)),\"1\",\"0\")","v":"0"},{"$f":"IF(ISNUMBER(SEARCH(\"7\",#REF!)),\"1\",\"0\")","v":"0"},{"$f":"IF(ISNUMBER(SEARCH(\"8\",#REF!)),\"1\",\"0\")","v":"0"},{"$f":"IF(ISNUMBER(SEARCH(\"9\",#REF!)),\"1\",\"0\")","v":"0"},{"$f":"IF(ISNUMBER(SEARCH(\"9\",#REF!)),\"1\",\"0\")","v":"0"},{"$f":"IF(ISNUMBER(SEARCH(\"10\",#REF!)),\"1\",\"0\")","v":"0"},{"$f":"IF(ISNUMBER(SEARCH(\"11\",#REF!)),\"1\",\"0\")","v":"0"},{"$f":"IF(ISNUMBER(SEARCH(\"12\",#REF!)),\"1\",\"0\")","v":"0"},{"$f":"IF(ISNUMBER(SEARCH(\"13\",#REF!)),\"1\",\"0\")","v":"0"},{"$f":"IF(ISNUMBER(SEARCH(\"14\",#REF!)),\"1\",\"0\")","v":"0"},{"$f":"IF(ISNUMBER(SEARCH(\"15\",#REF!)),\"1\",\"0\")","v":"0"},{"$f":"IF(ISNUMBER(SEARCH(\"16\",#REF!)),\"1\",\"0\")","v":"0"},{"$f":"IF(ISNUMBER(SEARCH(\"17\",#REF!)),\"1\",\"0\")","v":"0"},{"$nulls":4},30,26,24,80,6,{"$nulls":9},{"$f":"#REF!-#REF!","v":{"$error":"#REF!"}}]
[2,22,4,"MIK",2,18,null,2,3,1,0,3,1,1,"1","0","0","0","0","0","0","0","0","0","0","0","0","0","0","0","0","0",null,null,1,2,2,{"$f":"IF(ISNUMBER(SEARCH(\"1\",#REF!)),\"1\",\"0\")","v":"0"},{"$f":"IF(ISNUMBER(SEARCH(\"2\",#REF!)),\"1\",\"0\")","v":"0"},{"$f":"IF(ISNUMBER(SEARCH(\"3\",#REF!)),\"1\",\"0\")","v":"0"},{"$f":"IF(ISNUMBER(SEARCH(\"4\",#REF!)),\"1\",\"0\")","v":"0"},{"$f":"IF(ISNUMBER(SEARCH(\"5\",#REF!)),\"1\",\"0\")","v":"0"},{"$f":"IF(ISNUMBER(SEARCH(\"6\",#REF!)),\"1\",\"0\")","v":"0"},{"$f":"IF(ISNUMBER(SEARCH(\"7\",#REF!)),\"1\",\"0\")","v":"0"},{"$f":"IF(ISNUMBER(SEARCH(\"8\",#REF!)),\"1\",\"0\")","v":"0"},{"$f":"IF(ISNUMBER(SEARCH(\"9\",#REF!)),\"1\",\"0\")","v":"0"},{"$f":"IF(ISNUMBER(SEARCH(\"9\",#REF!)),\"1\",\"0\")","v":"0"},{"$f":"IF(ISNUMBER(SEARCH(\"10\",#REF!)),\"1\",\"0\")","v":"0"},{"$f":"IF(ISNUMBER(SEARCH(\"11\",#REF!)),\"1\",\"0\")","v":"0"},{"$f":"IF(ISNUMBER(SEARCH(\"12\",#REF!)),\"1\",\"0\")","v":"0"},{"$f":"IF(ISNUMBER(SEARCH(\"13\",#REF!)),\"1\",\"0\")","v":"0"},{"$f":"IF(ISNUMBER(SEARCH(\"14\",#REF!)),\"1\",\"0\")","v":"0"},{"$f":"IF(ISNUMBER(SEARCH(\"15\",#REF!)),\"1\",\"0\")","v":"0"},{"$f":"IF(ISNUMBER(SEARCH(\"16\",#REF!)),\"1\",\"0\")","v":"0"},{"$f":"IF(ISNUMBER(SEARCH(\"17\",#REF!)),\"1\",\"0\")","v":"0"},{"$nulls":4},32,24,20,76,5,{"$nulls":9},{"$f":"#REF!-#REF!","v":{"$error":"#REF!"}}]
[2,22,4,"MIK",1,47,null,2,3,1,null,1,null,1,"1","0","0","0","0","0","0","0","0","0","0","0","0","0","0","0","0","0",null,null,1,2,1,{"$f":"IF(ISNUMBER(SEARCH(\"1\",#REF!)),\"1\",\"0\")","v":"0"},{"$f":"IF(ISNUMBER(SEARCH(\"2\",#REF!)),\"1\",\"0\")","v":"0"},{"$f":"IF(ISNUMBER(SEARCH(\"3\",#REF!)),\"1\",\"0\")","v":"0"},{"$f":"IF(ISNUMBER(SEARCH(\"4\",#REF!)),\"1\",\"0\")","v":"0"},{"$f":"IF(ISNUMBER(SEARCH(\"5\",#REF!)),\"1\",\"0\")","v":"0"},{"$f":"IF(ISNUMBER(SEARCH(\"6\",#REF!)),\"1\",\"0\")","v":"0"},{"$f":"IF(ISNUMBER(SEARCH(\"7\",#REF!)),\"1\",\"0\")","v":"0"},{"$f":"IF(ISNUMBER(SEARCH(\"8\",#REF!)),\"1\",\"0\")","v":"0"},{"$f":"IF(ISNUMBER(SEARCH(\"9\",#REF!)),\"1\",\"0\")","v":"0"},{"$f":"IF(ISNUMBER(SEARCH(\"9\",#REF!)),\"1\",\"0\")","v":"0"},{"$f":"IF(ISNUMBER(SEARCH(\"10\",#REF!)),\"1\",\"0\")","v":"0"},{"$f":"IF(ISNUMBER(SEARCH(\"11\",#REF!)),\"1\",\"0\")","v":"0"},{"$f":"IF(ISNUMBER(SEARCH(\"12\",#REF!)),\"1\",\"0\")","v":"0"},{"$f":"IF(ISNUMBER(SEARCH(\"13\",#REF!)),\"1\",\"0\")","v":"0"},{"$f":"IF(ISNUMBER(SEARCH(\"14\",#REF!)),\"1\",\"0\")","v":"0"},{"$f":"IF(ISNUMBER(SEARCH(\"15\",#REF!)),\"1\",\"0\")","v":"0"},{"$f":"IF(ISNUMBER(SEARCH(\"16\",#REF!)),\"1\",\"0\")","v":"0"},{"$f":"IF(ISNUMBER(SEARCH(\"17\",#REF!)),\"1\",\"0\")","v":"0"},{"$nulls":4},28,18,26,72,9,{"$nulls":9},{"$f":"#REF!-#REF!","v":{"$error":"#REF!"}}]
[2,22,4,"MIK",2,15,null,2,2,1,0,3,1,3,"0","0","1","0","0","0","0","0","0","0","0","0","0","0","0","0","0","0",null,null,3,5,null,{"$f":"IF(ISNUMBER(SEARCH(\"1\",#REF!)),\"1\",\"0\")","v":"0"},{"$f":"IF(ISNUMBER(SEARCH(\"2\",#REF!)),\"1\",\"0\")","v":"0"},{"$f":"IF(ISNUMBER(SEARCH(\"3\",#REF!)),\"1\",\"0\")","v":"0"},{"$f":"IF(ISNUMBER(SEARCH(\"4\",#REF!)),\"1\",\"0\")","v":"0"},{"$f":"IF(ISNUMBER(SEARCH(\"5\",#REF!)),\"1\",\"0\")","v":"0"},{"$f":"IF(ISNUMBER(SEARCH(\"6\",#REF!)),\"1\",\"0\")","v":"0"},{"$f":"IF(ISNUMBER(SEARCH(\"7\",#REF!)),\"1\",\"0\")","v":"0"},{"$f":"IF(ISNUMBER(SEARCH(\"8\",#REF!)),\"1\",\"0\")","v":"0"},{"$f":"IF(ISNUMBER(SEARCH(\"9\",#REF!)),\"1\",\"0\")","v":"0"},{"$f":"IF(ISNUMBER(SEARCH(\"9\",#REF!)),\"1\",\"0\")","v":"0"},{"$f":"IF(ISNUMBER(SEARCH(\"10\",#REF!)),\"1\",\"0\")","v":"0"},{"$f":"IF(ISNUMBER(SEARCH(\"11\",#REF!)),\"1\",\"0\")","v":"0"},{"$f":"IF(ISNUMBER(SEARCH(\"12\",#REF!)),\"1\",\"0\")","v":"0"},{"$f":"IF(ISNUMBER(SEARCH(\"13\",#REF!)),\"1\",\"0\")","v":"0"},{"$f":"IF(ISNUMBER(SEARCH(\"14\",#REF!)),\"1\",\"0\")","v":"0"},{"$f":"IF(ISNUMBER(SEARCH(\"15\",#REF!)),\"1\",\"0\")","v":"0"},{"$f":"IF(ISNUMBER(SEARCH(\"16\",#REF!)),\"1\",\"0\")","v":"0"},{"$f":"IF(ISNUMBER(SEARCH(\"17\",#REF!)),\"1\",\"0\")","v":"0"},2,{"$nulls":7},6]
[2,22,4,"MIK",2,38,null,2,3,1,5,1,5,1,"1","0","0","0","0","0","0","0","0","0","0","0","0","0","0","0","0","0",null,null,1,2,2,{"$f":"IF(ISNUMBER(SEARCH(\"1\",#REF!)),\"1\",\"0\")","v":"0"},{"$f":"IF(ISNUMBER(SEARCH(\"2\",#REF!)),\"1\",\"0\")","v":"0"},{"$f":"IF(ISNUMBER(SEARCH(\"3\",#REF!)),\"1\",\"0\")","v":"0"},{"$f":"IF(ISNUMBER(SEARCH(\"4\",#REF!)),\"1\",\"0\")","v":"0"},{"$f":"IF(ISNUMBER(SEARCH(\"5\",#REF!)),\"1\",\"0\")","v":"0"},{"$f":"IF(ISNUMBER(SEARCH(\"6\",#REF!)),\"1\",\"0\")","v":"0"},{"$f":"IF(ISNUMBER(SEARCH(\"7\",#REF!)),\"1\",\"0\")","v":"0"},{"$f":"IF(ISNUMBER(SEARCH(\"8\",#REF!)),\"1\",\"0\")","v":"0"},{"$f":"IF(ISNUMBER(SEARCH(\"9\",#REF!)),\"1\",\"0\")","v":"0"},{"$f":"IF(ISNUMBER(SEARCH(\"9\",#REF!)),\"1\",\"0\")","v":"0"},{"$f":"IF(ISNUMBER(SEARCH(\"10\",#REF!)),\"1\",\"0\")","v":"0"},{"$f":"IF(ISNUMBER(SEARCH(\"11\",#REF!)),\"1\",\"0\")","v":"0"},{"$f":"IF(ISNUMBER(SEARCH(\"12\",#REF!)),\"1\",\"0\")","v":"0"},{"$f":"IF(ISNUMBER(SEARCH(\"13\",#REF!)),\"1\",\"0\")","v":"0"},{"$f":"IF(ISNUMBER(SEARCH(\"14\",#REF!)),\"1\",\"0\")","v":"0"},{"$f":"IF(ISNUMBER(SEARCH(\"15\",#REF!)),\"1\",\"0\")","v":"0"},{"$f":"IF(ISNUMBER(SEARCH(\"16\",#REF!)),\"1\",\"0\")","v":"0"},{"$f":"IF(ISNUMBER(SEARCH(\"17\",#REF!)),\"1\",\"0\")","v":"0"},{"$nulls":4},26,6,22,54,6,{"$nulls":9},{"$f":"#REF!-#REF!","v":{"$error":"#REF!"}}]
[2,22,4,"MIK",2,42,null,1,3,1,4,1,6,1,"1","0","0","0","0","0","0","0","0","0","0","0","0","0","0","0","0","0",null,null,1,2,2,{"$f":"IF(ISNUMBER(SEARCH(\"1\",#REF!)),\"1\",\"0\")","v":"0"},{"$f":"IF(ISNUMBER(SEARCH(\"2\",#REF!)),\"1\",\"0\")","v":"0"},{"$f":"IF(ISNUMBER(SEARCH(\"3\",#REF!)),\"1\",\"0\")","v":"0"},{"$f":"IF(ISNUMBER(SEARCH(\"4\",#REF!)),\"1\",\"0\")","v":"0"},{"$f":"IF(ISNUMBER(SEARCH(\"5\",#REF!)),\"1\",\"0\")","v":"0"},{"$f":"IF(ISNUMBER(SEARCH(\"6\",#REF!)),\"1\",\"0\")","v":"0"},{"$f":"IF(ISNUMBER(SEARCH(\"7\",#REF!)),\"1\",\"0\")","v":"0"},{"$f":"IF(ISNUMBER(SEARCH(\"8\",#REF!)),\"1\",\"0\")","v":"0"},{"$f":"IF(ISNUMBER(SEARCH(\"9\",#REF!)),\"1\",\"0\")","v":"0"},{"$f":"IF(ISNUMBER(SEARCH(\"9\",#REF!)),\"1\",\"0\")","v":"0"},{"$f":"IF(ISNUMBER(SEARCH(\"10\",#REF!)),\"1\",\"0\")","v":"0"},{"$f":"IF(ISNUMBER(SEARCH(\"11\",#REF!)),\"1\",\"0\")","v":"0"},{"$f":"IF(ISNUMBER(SEARCH(\"12\",#REF!)),\"1\",\"0\")","v":"0"},{"$f":"IF(ISNUMBER(SEARCH(\"13\",#REF!)),\"1\",\"0\")","v":"0"},{"$f":"IF(ISNUMBER(SEARCH(\"14\",#REF!)),\"1\",\"0\")","v":"0"},{"$f":"IF(ISNUMBER(SEARCH(\"15\",#REF!)),\"1\",\"0\")","v":"0"},{"$f":"IF(ISNUMBER(SEARCH(\"16\",#REF!)),\"1\",\"0\")","v":"0"},{"$f":"IF(ISNUMBER(SEARCH(\"17\",#REF!)),\"1\",\"0\")","v":"0"},{"$nulls":4},24,24,28,76,4,{"$nulls":9},{"$f":"#REF!-#REF!","v":{"$error":"#REF!"}}]
[2,22,4,"BIDA",2,28,null,1,3,null,7,5,2,"8. Victime de trafic / contrebande","0","0","0","0","0","0","0","1","0","0","0","0","0","0","0","0","0","0",null,null,1,2,1,{"$f":"IF(ISNUMBER(SEARCH(\"1\",#REF!)),\"1\",\"0\")","v":"0"},{"$f":"IF(ISNUMBER(SEARCH(\"2\",#REF!)),\"1\",\"0\")","v":"0"},{"$f":"IF(ISNUMBER(SEARCH(\"3\",#REF!)),\"1\",\"0\")","v":"0"},{"$f":"IF(ISNUMBER(SEARCH(\"4\",#REF!)),\"1\",\"0\")","v":"0"},{"$f":"IF(ISNUMBER(SEARCH(\"5\",#REF!)),\"1\",\"0\")","v":"0"},{"$f":"IF(ISNUMBER(SEARCH(\"6\",#REF!)),\"1\",\"0\")","v":"0"},{"$f":"IF(ISNUMBER(SEARCH(\"7\",#REF!)),\"1\",\"0\")","v":"0"},{"$f":"IF(ISNUMBER(SEARCH(\"8\",#REF!)),\"1\",\"0\")","v":"0"},{"$f":"IF(ISNUMBER(SEARCH(\"9\",#REF!)),\"1\",\"0\")","v":"0"},{"$f":"IF(ISNUMBER(SEARCH(\"9\",#REF!)),\"1\",\"0\")","v":"0"},{"$f":"IF(ISNUMBER(SEARCH(\"10\",#REF!)),\"1\",\"0\")","v":"0"},{"$f":"IF(ISNUMBER(SEARCH(\"11\",#REF!)),\"1\",\"0\")","v":"0"},{"$f":"IF(ISNUMBER(SEARCH(\"12\",#REF!)),\"1\",\"0\")","v":"0"},{"$f":"IF(ISNUMBER(SEARCH(\"13\",#REF!)),\"1\",\"0\")","v":"0"},{"$f":"IF(ISNUMBER(SEARCH(\"14\",#REF!)),\"1\",\"0\")","v":"0"},{"$f":"IF(ISNUMBER(SEARCH(\"15\",#REF!)),\"1\",\"0\")","v":"0"},{"$f":"IF(ISNUMBER(SEARCH(\"16\",#REF!)),\"1\",\"0\")","v":"0"},{"$f":"IF(ISNUMBER(SEARCH(\"17\",#REF!)),\"1\",\"0\")","v":"0"},{"$nulls":4},18,10,16,44,5,{"$nulls":6},14,null,null,{"$f":"#REF!-#REF!","v":{"$error":"#REF!"}},{"$f":"#REF!-#REF!","v":{"$error":"#REF!"}}]
[2,22,4,"BIDA",2,24,null,2,3,1,0,3,2,"16. Autre (SVP dans la case suivante) ","1","0","0","0","0","1","0","0","0","0","0","0","0","0","0","1","0","0",null,null,1,2,1,{"$f":"IF(ISNUMBER(SEARCH(\"1\",#REF!)),\"1\",\"0\")","v":"0"},{"$f":"IF(ISNUMBER(SEARCH(\"2\",#REF!)),\"1\",\"0\")","v":"0"},{"$f":"IF(ISNUMBER(SEARCH(\"3\",#REF!)),\"1\",\"0\")","v":"0"},{"$f":"IF(ISNUMBER(SEARCH(\"4\",#REF!)),\"1\",\"0\")","v":"0"},{"$f":"IF(ISNUMBER(SEARCH(\"5\",#REF!)),\"1\",\"0\")","v":"0"},{"$f":"IF(ISNUMBER(SEARCH(\"6\",#REF!)),\"1\",\"0\")","v":"0"},{"$f":"IF(ISNUMBER(SEARCH(\"7\",#REF!)),\"1\",\"0\")","v":"0"},{"$f":"IF(ISNUMBER(SEARCH(\"8\",#REF!)),\"1\",\"0\")","v":"0"},{"$f":"IF(ISNUMBER(SEARCH(\"9\",#REF!)),\"1\",\"0\")","v":"0"},{"$f":"IF(ISNUMBER(SEARCH(\"9\",#REF!)),\"1\",\"0\")","v":"0"},{"$f":"IF(ISNUMBER(SEARCH(\"10\",#REF!)),\"1\",\"0\")","v":"0"},{"$f":"IF(ISNUMBER(SEARCH(\"11\",#REF!)),\"1\",\"0\")","v":"0"},{"$f":"IF(ISNUMBER(SEARCH(\"12\",#REF!)),\"1\",\"0\")","v":"0"},{"$f":"IF(ISNUMBER(SEARCH(\"13\",#REF!)),\"1\",\"0\")","v":"0"},{"$f":"IF(ISNUMBER(SEARCH(\"14\",#REF!)),\"1\",\"0\")","v":"0"},{"$f":"IF(ISNUMBER(SEARCH(\"15\",#REF!)),\"1\",\"0\")","v":"0"},{"$f":"IF(ISNUMBER(SEARCH(\"16\",#REF!)),\"1\",\"0\")","v":"0"},{"$f":"IF(ISNUMBER(SEARCH(\"17\",#REF!)),\"1\",\"0\")","v":"0"},{"$nulls":4},22,14,12,48,8,{"$nulls":6},14,null,null,{"$f":"#REF!-#REF!","v":{"$error":"#REF!"}},{"$f":"#REF!-#REF!","v":{"$error":"#REF!"}}]
[2,22,4,"BIDA",null,27,null,2,3,null,4,3,null,1,"1","0","0","0","0","0","0","0","0","0","0","0","0","0","0","0","0","0",null,null,3,4,2,{"$f":"IF(ISNUMBER(SEARCH(\"1\",#REF!)),\"1\",\"0\")","v":"0"},{"$f":"IF(ISNUMBER(SEARCH(\"2\",#REF!)),\"1\",\"0\")","v":"0"},{"$f":"IF(ISNUMBER(SEARCH(\"3\",#REF!)),\"1\",\"0\")","v":"0"},{"$f":"IF(ISNUMBER(SEARCH(\"4\",#REF!)),\"1\",\"0\")","v":"0"},{"$f":"IF(ISNUMBER(SEARCH(\"5\",#REF!)),\"1\",\"0\")","v":"0"},{"$f":"IF(ISNUMBER(SEARCH(\"6\",#REF!)),\"1\",\"0\")","v":"0"},{"$f":"IF(ISNUMBER(SEARCH(\"7\",#REF!)),\"1\",\"0\")","v":"0"},{"$f":"IF(ISNUMBER(SEARCH(\"8\",#REF!)),\"1\",\"0\")","v":"0"},{"$f":"IF(ISNUMBER(SEARCH(\"9\",#REF!)),\"1\",\"0\")","v":"0"},{"$f":"IF(ISNUMBER(SEARCH(\"9\",#REF!)),\"1\",\"0\")","v":"0"},{"$f":"IF(ISNUMBER(SEARCH(\"10\",#REF!)),\"1\",\"0\")","v":"0"},{"$f":"IF(ISNUMBER(SEARCH(\"11\",#REF!)),\"1\",\"0\")","v":"0"},{"$f":"IF(ISNUMBER(SEARCH(\"12\",#REF!)),\"1\",\"0\")","v":"0"},{"$f":"IF(ISNUMBER(SEARCH(\"13\",#REF!)),\"1\",\"0\")","v":"0"},{"$f":"IF(ISNUMBER(SEARCH(\"14\",#REF!)),\"1\",\"0\")","v":"0"},{"$f":"IF(ISNUMBER(SEARCH(\"15\",#REF!)),\"1\",\"0\")","v":"0"},{"$f":"IF(ISNUMBER(SEARCH(\"16\",#REF!)),\"1\",\"0\")","v":"0"},{"$f":"IF(ISNUMBER(SEARCH(\"17\",#REF!)),\"1\",\"0\")","v":"0"},{"$nulls":4},20,10,16,46,5,{"$nulls":6},14,null,null,{"$f":"#REF!-#REF!","v":{"$error":"#REF!"}},{"$f":"#REF!-#REF!","v":{"$error":"#REF!"}}]
[2,22,4,"BCA",2,27,null,1,3,1,4,5,6,1,"1","0","0","0","0","0","0","0","0","0","0","0","0","0","0","0","0","0",null,null,1,null,null,{"$f":"IF(ISNUMBER(SEARCH(\"1\",#REF!)),\"1\",\"0\")","v":"0"},{"$f":"IF(ISNUMBER(SEARCH(\"2\",#REF!)),\"1\",\"0\")","v":"0"},{"$f":"IF(ISNUMBER(SEARCH(\"3\",#REF!)),\"1\",\"0\")","v":"0"},{"$f":"IF(ISNUMBER(SEARCH(\"4\",#REF!)),\"1\",\"0\")","v":"0"},{"$f":"IF(ISNUMBER(SEARCH(\"5\",#REF!)),\"1\",\"0\")","v":"0"},{"$f":"IF(ISNUMBER(SEARCH(\"6\",#REF!)),\"1\",\"0\")","v":"0"},{"$f":"IF(ISNUMBER(SEARCH(\"7\",#REF!)),\"1\",\"0\")","v":"0"},{"$f":"IF(ISNUMBER(SEARCH(\"8\",#REF!)),\"1\",\"0\")","v":"0"},{"$f":"IF(ISNUMBER(SEARCH(\"9\",#REF!)),\"1\",\"0\")","v":"0"},{"$f":"IF(ISNUMBER(SEARCH(\"9\",#REF!)),\"1\",\"0\")","v":"0"},{"$f":"IF(ISNUMBER(SEARCH(\"10\",#REF!)),\"1\",\"0\")","v":"0"},{"$f":"IF(ISNUMBER(SEARCH(\"11\",#REF!)),\"1\",\"0\")","v":"0"},{"$f":"IF(ISNUMBER(SEARCH(\"12\",#REF!)),\"1\",\"0\")","v":"0"},{"$f":"IF(ISNUMBER(SEARCH(\"13\",#REF!)),\"1\",\"0\")","v":"0"},{"$f":"IF(ISNUMBER(SEARCH(\"14\",#REF!)),\"1\",\"0\")","v":"0"},{"$f":"IF(ISNUMBER(SEARCH(\"15\",#REF!)),\"1\",\"0\")","v":"0"},{"$f":"IF(ISNUMBER(SEARCH(\"16\",#REF!)),\"1\",\"0\")","v":"0"},{"$f":"IF(ISNUMBER(SEARCH(\"17\",#REF!)),\"1\",\"0\")","v":"0"},{"$nulls":4},22,20,20,62,7,{"$nulls":6},13,null,null,{"$f":"#REF!-#REF!","v":{"$error":"#REF!"}}]
[2,22,4,"BCA",2,19,null,3,2,2,1,3,1,"6. Mariage Forcé","0","0","0","0","0","1","0","0","0","0","0","0","0","0","0","0","0","0",null,null,3,4,1,{"$f":"IF(ISNUMBER(SEARCH(\"1\",#REF!)),\"1\",\"0\")","v":"0"},{"$f":"IF(ISNUMBER(SEARCH(\"2\",#REF!)),\"1\",\"0\")","v":"0"},{"$f":"IF(ISNUMBER(SEARCH(\"3\",#REF!)),\"1\",\"0\")","v":"0"},{"$f":"IF(ISNUMBER(SEARCH(\"4\",#REF!)),\"1\",\"0\")","v":"0"},{"$f":"IF(ISNUMBER(SEARCH(\"5\",#REF!)),\"1\",\"0\")","v":"0"},{"$f":"IF(ISNUMBER(SEARCH(\"6\",#REF!)),\"1\",\"0\")","v":"0"},{"$f":"IF(ISNUMBER(SEARCH(\"7\",#REF!)),\"1\",\"0\")","v":"0"},{"$f":"IF(ISNUMBER(SEARCH(\"8\",#REF!)),\"1\",\"0\")","v":"0"},{"$f":"IF(ISNUMBER(SEARCH(\"9\",#REF!)),\"1\",\"0\")","v":"0"},{"$f":"IF(ISNUMBER(SEARCH(\"9\",#REF!)),\"1\",\"0\")","v":"0"},{"$f":"IF(ISNUMBER(SEARCH(\"10\",#REF!)),\"1\",\"0\")","v":"0"},{"$f":"IF(ISNUMBER(SEARCH(\"11\",#REF!)),\"1\",\"0\")","v":"0"},{"$f":"IF(ISNUMBER(SEARCH(\"12\",#REF!)),\"1\",\"0\")","v":"0"},{"$f":"IF(ISNUMBER(SEARCH(\"13\",#REF!)),\"1\",\"0\")","v":"0"},{"$f":"IF(ISNUMBER(SEARCH(\"14\",#REF!)),\"1\",\"0\")","v":"0"},{"$f":"IF(ISNUMBER(SEARCH(\"15\",#REF!)),\"1\",\"0\")","v":"0"},{"$f":"IF(ISNUMBER(SEARCH(\"16\",#REF!)),\"1\",\"0\")","v":"0"},{"$f":"IF(ISNUMBER(SEARCH(\"17\",#REF!)),\"1\",\"0\")","v":"0"},5,{"$nulls":7},10,{"$nulls":6},13]
[2,22,4,"BCA",1,14,null,2,2,2,0,5,1,1,"1","0","0","0","0","0","0","0","0","0","0","0","0","0","0","0","0","0",null,null,1,null,null,{"$f":"IF(ISNUMBER(SEARCH(\"1\",#REF!)),\"1\",\"0\")","v":"0"},{"$f":"IF(ISNUMBER(SEARCH(\"2\",#REF!)),\"1\",\"0\")","v":"0"},{"$f":"IF(ISNUMBER(SEARCH(\"3\",#REF!)),\"1\",\"0\")","v":"0"},{"$f":"IF(ISNUMBER(SEARCH(\"4\",#REF!)),\"1\",\"0\")","v":"0"},{"$f":"IF(ISNUMBER(SEARCH(\"5\",#REF!)),\"1\",\"0\")","v":"0"},{"$f":"IF(ISNUMBER(SEARCH(\"6\",#REF!)),\"1\",\"0\")","v":"0"},{"$f":"IF(ISNUMBER(SEARCH(\"7\",#REF!)),\"1\",\"0\")","v":"0"},{"$f":"IF(ISNUMBER(SEARCH(\"8\",#REF!)),\"1\",\"0\")","v":"0"},{"$f":"IF(ISNUMBER(SEARCH(\"9\",#REF!)),\"1\",\"0\")","v":"0"},{"$f":"IF(ISNUMBER(SEARCH(\"9\",#REF!)),\"1\",\"0\")","v":"0"},{"$f":"IF(ISNUMBER(SEARCH(\"10\",#REF!)),\"1\",\"0\")","v":"0"},{"$f":"IF(ISNUMBER(SEARCH(\"11\",#REF!)),\"1\",\"0\")","v":"0"},{"$f":"IF(ISNUMBER(SEARCH(\"12\",#REF!)),\"1\",\"0\")","v":"0"},{"$f":"IF(ISNUMBER(SEARCH(\"13\",#REF!)),\"1\",\"0\")","v":"0"},{"$f":"IF(ISNUMBER(SEARCH(\"14\",#REF!)),\"1\",\"0\")","v":"0"},{"$f":"IF(ISNUMBER(SEARCH(\"15\",#REF!)),\"1\",\"0\")","v":"0"},{"$f":"IF(ISNUMBER(SEARCH(\"16\",#REF!)),\"1\",\"0\")","v":"0"},{"$f":"IF(ISNUMBER(SEARCH(\"17\",#REF!)),\"1\",\"0\")","v":"0"},{"$nulls":4},18,18,18,54,8,{"$nulls":9},{"$f":"#REF!-#REF!","v":{"$error":"#REF!"}}]
[2,22,4,"BCA",2,29,null,2,3,2,5,5,2,3,"0","0","1","0","0","0","0","0","0","0","0","0","0","0","0","0","0","0",null,null,1,null,null,{"$f":"IF(ISNUMBER(SEARCH(\"1\",#REF!)),\"1\",\"0\")","v":"0"},{"$f":"IF(ISNUMBER(SEARCH(\"2\",#REF!)),\"1\",\"0\")","v":"0"},{"$f":"IF(ISNUMBER(SEARCH(\"3\",#REF!)),\"1\",\"0\")","v":"0"},{"$f":"IF(ISNUMBER(SEARCH(\"4\",#REF!)),\"1\",\"0\")","v":"0"},{"$f":"IF(ISNUMBER(SEARCH(\"5\",#REF!)),\"1\",\"0\")","v":"0"},{"$f":"IF(ISNUMBER(SEARCH(\"6\",#REF!)),\"1\",\"0\")","v":"0"},{"$f":"IF(ISNUMBER(SEARCH(\"7\",#REF!)),\"1\",\"0\")","v":"0"},{"$f":"IF(ISNUMBER(SEARCH(\"8\",#REF!)),\"1\",\"0\")","v":"0"},{"$f":"IF(ISNUMBER(SEARCH(\"9\",#REF!)),\"1\",\"0\")","v":"0"},{"$f":"IF(ISNUMBER(SEARCH(\"9\",#REF!)),\"1\",\"0\")","v":"0"},{"$f":"IF(ISNUMBER(SEARCH(\"10\",#REF!)),\"1\",\"0\")","v":"0"},{"$f":"IF(ISNUMBER(SEARCH(\"11\",#REF!)),\"1\",\"0\")","v":"0"},{"$f":"IF(ISNUMBER(SEARCH(\"12\",#REF!)),\"1\",\"0\")","v":"0"},{"$f":"IF(ISNUMBER(SEARCH(\"13\",#REF!)),\"1\",\"0\")","v":"0"},{"$f":"IF(ISNUMBER(SEARCH(\"14\",#REF!)),\"1\",\"0\")","v":"0"},{"$f":"IF(ISNUMBER(SEARCH(\"15\",#REF!)),\"1\",\"0\")","v":"0"},{"$f":"IF(ISNUMBER(SEARCH(\"16\",#REF!)),\"1\",\"0\")","v":"0"},{"$f":"IF(ISNUMBER(SEARCH(\"17\",#REF!)),\"1\",\"0\")","v":"0"},{"$nulls":4},14,20,18,52,8,{"$nulls":9},{"$f":"#REF!-#REF!","v":{"$error":"#REF!"}}]
[2,22,4,"BCA",2,30,null,null,3,2,6,5,2,null,"0","0","0","0","0","0","0","0","0","0","0","0","0","0","0","0","0","0",null,null,1,null,null,{"$f":"IF(ISNUMBER(SEARCH(\"1\",#REF!)),\"1\",\"0\")","v":"0"},{"$f":"IF(ISNUMBER(SEARCH(\"2\",#REF!)),\"1\",\"0\")","v":"0"},{"$f":"IF(ISNUMBER(SEARCH(\"3\",#REF!)),\"1\",\"0\")","v":"0"},{"$f":"IF(ISNUMBER(SEARCH(\"4\",#REF!)),\"1\",\"0\")","v":"0"},{"$f":"IF(ISNUMBER(SEARCH(\"5\",#REF!)),\"1\",\"0\")","v":"0"},{"$f":"IF(ISNUMBER(SEARCH(\"6\",#REF!)),\"1\",\"0\")","v":"0"},{"$f":"IF(ISNUMBER(SEARCH(\"7\",#REF!)),\"1\",\"0\")","v":"0"},{"$f":"IF(ISNUMBER(SEARCH(\"8\",#REF!)),\"1\",\"0\")","v":"0"},{"$f":"IF(ISNUMBER(SEARCH(\"9\",#REF!)),\"1\",\"0\")","v":"0"},{"$f":"IF(ISNUMBER(SEARCH(\"9\",#REF!)),\"1\",\"0\")","v":"0"},{"$f":"IF(ISNUMBER(SEARCH(\"10\",#REF!)),\"1\",\"0\")","v":"0"},{"$f":"IF(ISNUMBER(SEARCH(\"11\",#REF!)),\"1\",\"0\")","v":"0"},{"$f":"IF(ISNUMBER(SEARCH(\"12\",#REF!)),\"1\",\"0\")","v":"0"},{"$f":"IF(ISNUMBER(SEARCH(\"13\",#REF!)),\"1\",\"0\")","v":"0"},{"$f":"IF(ISNUMBER(SEARCH(\"14\",#REF!)),\"1\",\"0\")","v":"0"},{"$f":"IF(ISNUMBER(SEARCH(\"15\",#REF!)),\"1\",\"0\")","v":"0"},{"$f":"IF(ISNUMBER(SEARCH(\"16\",#REF!)),\"1\",\"0\")","v":"0"},{"$f":"IF(ISNUMBER(SEARCH(\"17\",#REF!)),\"1\",\"0\")","v":"0"},{"$nulls":4},8,18,16,42,9,{"$nulls":9},{"$f":"#REF!-#REF!","v":{"$error":"#REF!"}}]
[2,22,4,"BCA",2,46,null,1,3,2,9,5,null,3,"0","0","1","0","0","0","0","0","0","0","0","0","0","0","0","0","0","0",null,null,2,5,null,{"$f":"IF(ISNUMBER(SEARCH(\"1\",#REF!)),\"1\",\"0\")","v":"0"},{"$f":"IF(ISNUMBER(SEARCH(\"2\",#REF!)),\"1\",\"0\")","v":"0"},{"$f":"IF(ISNUMBER(SEARCH(\"3\",#REF!)),\"1\",\"0\")","v":"0"},{"$f":"IF(ISNUMBER(SEARCH(\"4\",#REF!)),\"1\",\"0\")","v":"0"},{"$f":"IF(ISNUMBER(SEARCH(\"5\",#REF!)),\"1\",\"0\")","v":"0"},{"$f":"IF(ISNUMBER(SEARCH(\"6\",#REF!)),\"1\",\"0\")","v":"0"},{"$f":"IF(ISNUMBER(SEARCH(\"7\",#REF!)),\"1\",\"0\")","v":"0"},{"$f":"IF(ISNUMBER(SEARCH(\"8\",#REF!)),\"1\",\"0\")","v":"0"},{"$f":"IF(ISNUMBER(SEARCH(\"9\",#REF!)),\"1\",\"0\")","v":"0"},{"$f":"IF(ISNUMBER(SEARCH(\"9\",#REF!)),\"1\",\"0\")","v":"0"},{"$f":"IF(ISNUMBER(SEARCH(\"10\",#REF!)),\"1\",\"0\")","v":"0"},{"$f":"IF(ISNUMBER(SEARCH(\"11\",#REF!)),\"1\",\"0\")","v":"0"},{"$f":"IF(ISNUMBER(SEARCH(\"12\",#REF!)),\"1\",\"0\")","v":"0"},{"$f":"IF(ISNUMBER(SEARCH(\"13\",#REF!)),\"1\",\"0\")","v":"0"},{"$f":"IF(ISNUMBER(SEARCH(\"14\",#REF!)),\"1\",\"0\")","v":"0"},{"$f":"IF(ISNUMBER(SEARCH(\"15\",#REF!)),\"1\",\"0\")","v":"0"},{"$f":"IF(ISNUMBER(SEARCH(\"16\",#REF!)),\"1\",\"0\")","v":"0"},{"$f":"IF(ISNUMBER(SEARCH(\"17\",#REF!)),\"1\",\"0\")","v":"0"},1,{"$nulls":3},18,20,22,60,9,{"$nulls":9},{"$f":"#REF!-#REF!","v":{"$error":"#REF!"}}]
[2,22,4,"VMA",1,57,null,null,3,1,null,1,null,null,"0","0","0","0","0","0","0","0","0","0","0","0","0","0","0","0","0","0",{"$nulls":4},1,{"$f":"IF(ISNUMBER(SEARCH(\"1\",#REF!)),\"1\",\"0\")","v":"0"},{"$f":"IF(ISNUMBER(SEARCH(\"2\",#REF!)),\"1\",\"0\")","v":"0"},{"$f":"IF(ISNUMBER(SEARCH(\"3\",#REF!)),\"1\",\"0\")","v":"0"},{"$f":"IF(ISNUMBER(SEARCH(\"4\",#REF!)),\"1\",\"0\")","v":"0"},{"$f":"IF(ISNUMBER(SEARCH(\"5\",#REF!)),\"1\",\"0\")","v":"0"},{"$f":"IF(ISNUMBER(SEARCH(\"6\",#REF!)),\"1\",\"0\")","v":"0"},{"$f":"IF(ISNUMBER(SEARCH(\"7\",#REF!)),\"1\",\"0\")","v":"0"},{"$f":"IF(ISNUMBER(SEARCH(\"8\",#REF!)),\"1\",\"0\")","v":"0"},{"$f":"IF(ISNUMBER(SEARCH(\"9\",#REF!)),\"1\",\"0\")","v":"0"},{"$f":"IF(ISNUMBER(SEARCH(\"9\",#REF!)),\"1\",\"0\")","v":"0"},{"$f":"IF(ISNUMBER(SEARCH(\"10\",#REF!)),\"1\",\"0\")","v":"0"},{"$f":"IF(ISNUMBER(SEARCH(\"11\",#REF!)),\"1\",\"0\")","v":"0"},{"$f":"IF(ISNUMBER(SEARCH(\"12\",#REF!)),\"1\",\"0\")","v":"0"},{"$f":"IF(ISNUMBER(SEARCH(\"13\",#REF!)),\"1\",\"0\")","v":"0"},{"$f":"IF(ISNUMBER(SEARCH(\"14\",#REF!)),\"1\",\"0\")","v":"0"},{"$f":"IF(ISNUMBER(SEARCH(\"15\",#REF!)),\"1\",\"0\")","v":"0"},{"$f":"IF(ISNUMBER(SEARCH(\"16\",#REF!)),\"1\",\"0\")","v":"0"},{"$f":"IF(ISNUMBER(SEARCH(\"17\",#REF!)),\"1\",\"0\")","v":"0"},{"$nulls":4},20,14,32,66,10,null,2,6,14,22,null,13,5,null,null,{"$f":"#REF!-#REF!","v":{"$error":"#REF!"}}]
[2,22,4,"VMA",2,35,null,1,3,1,8,3,6,1,"1","0","0","0","0","0","0","0","0","0","0","0","0","0","0","0","0","0",null,null,1,2,1,{"$f":"IF(ISNUMBER(SEARCH(\"1\",#REF!)),\"1\",\"0\")","v":"0"},{"$f":"IF(ISNUMBER(SEARCH(\"2\",#REF!)),\"1\",\"0\")","v":"0"},{"$f":"IF(ISNUMBER(SEARCH(\"3\",#REF!)),\"1\",\"0\")","v":"0"},{"$f":"IF(ISNUMBER(SEARCH(\"4\",#REF!)),\"1\",\"0\")","v":"0"},{"$f":"IF(ISNUMBER(SEARCH(\"5\",#REF!)),\"1\",\"0\")","v":"0"},{"$f":"IF(ISNUMBER(SEARCH(\"6\",#REF!)),\"1\",\"0\")","v":"0"},{"$f":"IF(ISNUMBER(SEARCH(\"7\",#REF!)),\"1\",\"0\")","v":"0"},{"$f":"IF(ISNUMBER(SEARCH(\"8\",#REF!)),\"1\",\"0\")","v":"0"},{"$f":"IF(ISNUMBER(SEARCH(\"9\",#REF!)),\"1\",\"0\")","v":"0"},{"$f":"IF(ISNUMBER(SEARCH(\"9\",#REF!)),\"1\",\"0\")","v":"0"},{"$f":"IF(ISNUMBER(SEARCH(\"10\",#REF!)),\"1\",\"0\")","v":"0"},{"$f":"IF(ISNUMBER(SEARCH(\"11\",#REF!)),\"1\",\"0\")","v":"0"},{"$f":"IF(ISNUMBER(SEARCH(\"12\",#REF!)),\"1\",\"0\")","v":"0"},{"$f":"IF(ISNUMBER(SEARCH(\"13\",#REF!)),\"1\",\"0\")","v":"0"},{"$f":"IF(ISNUMBER(SEARCH(\"14\",#REF!)),\"1\",\"0\")","v":"0"},{"$f":"IF(ISNUMBER(SEARCH(\"15\",#REF!)),\"1\",\"0\")","v":"0"},{"$f":"IF(ISNUMBER(SEARCH(\"16\",#REF!)),\"1\",\"0\")","v":"0"},{"$f":"IF(ISNUMBER(SEARCH(\"17\",#REF!)),\"1\",\"0\")","v":"0"},{"$nulls":4},32,20,26,78,10,{"$nulls":9},{"$f":"#REF!-#REF!","v":{"$error":"#REF!"}}]
[2,22,4,"VMA",2,43,null,1,3,2,1,3,6,"11. Membre de famille / personne proche assassinée","1","0","0","0","0","0","0","0","0","0","1","0","0","0","0","0","0","0",null,null,1,3,2,{"$f":"IF(ISNUMBER(SEARCH(\"1\",#REF!)),\"1\",\"0\")","v":"0"},{"$f":"IF(ISNUMBER(SEARCH(\"2\",#REF!)),\"1\",\"0\")","v":"0"},{"$f":"IF(ISNUMBER(SEARCH(\"3\",#REF!)),\"1\",\"0\")","v":"0"},{"$f":"IF(ISNUMBER(SEARCH(\"4\",#REF!)),\"1\",\"0\")","v":"0"},{"$f":"IF(ISNUMBER(SEARCH(\"5\",#REF!)),\"1\",\"0\")","v":"0"},{"$f":"IF(ISNUMBER(SEARCH(\"6\",#REF!)),\"1\",\"0\")","v":"0"},{"$f":"IF(ISNUMBER(SEARCH(\"7\",#REF!)),\"1\",\"0\")","v":"0"},{"$f":"IF(ISNUMBER(SEARCH(\"8\",#REF!)),\"1\",\"0\")","v":"0"},{"$f":"IF(ISNUMBER(SEARCH(\"9\",#REF!)),\"1\",\"0\")","v":"0"},{"$f":"IF(ISNUMBER(SEARCH(\"9\",#REF!)),\"1\",\"0\")","v":"0"},{"$f":"IF(ISNUMBER(SEARCH(\"10\",#REF!)),\"1\",\"0\")","v":"0"},{"$f":"IF(ISNUMBER(SEARCH(\"11\",#REF!)),\"1\",\"0\")","v":"0"},{"$f":"IF(ISNUMBER(SEARCH(\"12\",#REF!)),\"1\",\"0\")","v":"0"},{"$f":"IF(ISNUMBER(SEARCH(\"13\",#REF!)),\"1\",\"0\")","v":"0"},{"$f":"IF(ISNUMBER(SEARCH(\"14\",#REF!)),\"1\",\"0\")","v":"0"},{"$f":"IF(ISNUMBER(SEARCH(\"15\",#REF!)),\"1\",\"0\")","v":"0"},{"$f":"IF(ISNUMBER(SEARCH(\"16\",#REF!)),\"1\",\"0\")","v":"0"},{"$f":"IF(ISNUMBER(SEARCH(\"17\",#REF!)),\"1\",\"0\")","v":"0"},{"$nulls":4},42,40,38,120,5]
[2,22,4,"VMA",2,49,null,1,3,1,6,3,6,3,"0","0","1","0","0","0","0","0","0","0","0","0","0","0","0","0","0","0",null,null,3,5,2,{"$f":"IF(ISNUMBER(SEARCH(\"1\",#REF!)),\"1\",\"0\")","v":"0"},{"$f":"IF(ISNUMBER(SEARCH(\"2\",#REF!)),\"1\",\"0\")","v":"0"},{"$f":"IF(ISNUMBER(SEARCH(\"3\",#REF!)),\"1\",\"0\")","v":"0"},{"$f":"IF(ISNUMBER(SEARCH(\"4\",#REF!)),\"1\",\"0\")","v":"0"},{"$f":"IF(ISNUMBER(SEARCH(\"5\",#REF!)),\"1\",\"0\")","v":"0"},{"$f":"IF(ISNUMBER(SEARCH(\"6\",#REF!)),\"1\",\"0\")","v":"0"},{"$f":"IF(ISNUMBER(SEARCH(\"7\",#REF!)),\"1\",\"0\")","v":"0"},{"$f":"IF(ISNUMBER(SEARCH(\"8\",#REF!)),\"1\",\"0\")","v":"0"},{"$f":"IF(ISNUMBER(SEARCH(\"9\",#REF!)),\"1\",\"0\")","v":"0"},{"$f":"IF(ISNUMBER(SEARCH(\"9\",#REF!)),\"1\",\"0\")","v":"0"},{"$f":"IF(ISNUMBER(SEARCH(\"10\",#REF!)),\"1\",\"0\")","v":"0"},{"$f":"IF(ISNUMBER(SEARCH(\"11\",#REF!)),\"1\",\"0\")","v":"0"},{"$f":"IF(ISNUMBER(SEARCH(\"12\",#REF!)),\"1\",\"0\")","v":"0"},{"$f":"IF(ISNUMBER(SEARCH(\"13\",#REF!)),\"1\",\"0\")","v":"0"},{"$f":"IF(ISNUMBER(SEARCH(\"14\",#REF!)),\"1\",\"0\")","v":"0"},{"$f":"IF(ISNUMBER(SEARCH(\"15\",#REF!)),\"1\",\"0\")","v":"0"},{"$f":"IF(ISNUMBER(SEARCH(\"16\",#REF!)),\"1\",\"0\")","v":"0"},{"$f":"IF(ISNUMBER(SEARCH(\"17\",#REF!)),\"1\",\"0\")","v":"0"},1,{"$nulls":3},42,32,36,110,4]
[2,22,4,"VMA",2,13,null,2,2,1,0,3,1,3,"0","0","1","0","0","0","0","0","0","0","0","0","0","0","0","0","0","0",null,null,1,3,1,{"$f":"IF(ISNUMBER(SEARCH(\"1\",#REF!)),\"1\",\"0\")","v":"0"},{"$f":"IF(ISNUMBER(SEARCH(\"2\",#REF!)),\"1\",\"0\")","v":"0"},{"$f":"IF(ISNUMBER(SEARCH(\"3\",#REF!)),\"1\",\"0\")","v":"0"},{"$f":"IF(ISNUMBER(SEARCH(\"4\",#REF!)),\"1\",\"0\")","v":"0"},{"$f":"IF(ISNUMBER(SEARCH(\"5\",#REF!)),\"1\",\"0\")","v":"0"},{"$f":"IF(ISNUMBER(SEARCH(\"6\",#REF!)),\"1\",\"0\")","v":"0"},{"$f":"IF(ISNUMBER(SEARCH(\"7\",#REF!)),\"1\",\"0\")","v":"0"},{"$f":"IF(ISNUMBER(SEARCH(\"8\",#REF!)),\"1\",\"0\")","v":"0"},{"$f":"IF(ISNUMBER(SEARCH(\"9\",#REF!)),\"1\",\"0\")","v":"0"},{"$f":"IF(ISNUMBER(SEARCH(\"9\",#REF!)),\"1\",\"0\")","v":"0"},{"$f":"IF(ISNUMBER(SEARCH(\"10\",#REF!)),\"1\",\"0\")","v":"0"},{"$f":"IF(ISNUMBER(SEARCH(\"11\",#REF!)),\"1\",\"0\")","v":"0"},{"$f":"IF(ISNUMBER(SEARCH(\"12\",#REF!)),\"1\",\"0\")","v":"0"},{"$f":"IF(ISNUMBER(SEARCH(\"13\",#REF!)),\"1\",\"0\")","v":"0"},{"$f":"IF(ISNUMBER(SEARCH(\"14\",#REF!)),\"1\",\"0\")","v":"0"},{"$f":"IF(ISNUMBER(SEARCH(\"15\",#REF!)),\"1\",\"0\")","v":"0"},{"$f":"IF(ISNUMBER(SEARCH(\"16\",#REF!)),\"1\",\"0\")","v":"0"},{"$f":"IF(ISNUMBER(SEARCH(\"17\",#REF!)),\"1\",\"0\")","v":"0"},3,{"$nulls":3},38,36,36,110,4,{"$nulls":9},{"$f":"#REF!-#REF!","v":{"$error":"#REF!"}}]
[2,22,4,"MIK",2,30,null,1,3,1,0,3,1,2,"0","1","0","0","0","0","0","0","0","0","0","0","0","0","0","0","0","0",null,null,3,3,2,{"$f":"IF(ISNUMBER(SEARCH(\"1\",#REF!)),\"1\",\"0\")","v":"0"},{"$f":"IF(ISNUMBER(SEARCH(\"2\",#REF!)),\"1\",\"0\")","v":"0"},{"$f":"IF(ISNUMBER(SEARCH(\"3\",#REF!)),\"1\",\"0\")","v":"0"},{"$f":"IF(ISNUMBER(SEARCH(\"4\",#REF!)),\"1\",\"0\")","v":"0"},{"$f":"IF(ISNUMBER(SEARCH(\"5\",#REF!)),\"1\",\"0\")","v":"0"},{"$f":"IF(ISNUMBER(SEARCH(\"6\",#REF!)),\"1\",\"0\")","v":"0"},{"$f":"IF(ISNUMBER(SEARCH(\"7\",#REF!)),\"1\",\"0\")","v":"0"},{"$f":"IF(ISNUMBER(SEARCH(\"8\",#REF!)),\"1\",\"0\")","v":"0"},{"$f":"IF(ISNUMBER(SEARCH(\"9\",#REF!)),\"1\",\"0\")","v":"0"},{"$f":"IF(ISNUMBER(SEARCH(\"9\",#REF!)),\"1\",\"0\")","v":"0"},{"$f":"IF(ISNUMBER(SEARCH(\"10\",#REF!)),\"1\",\"0\")","v":"0"},{"$f":"IF(ISNUMBER(SEARCH(\"11\",#REF!)),\"1\",\"0\")","v":"0"},{"$f":"IF(ISNUMBER(SEARCH(\"12\",#REF!)),\"1\",\"0\")","v":"0"},{"$f":"IF(ISNUMBER(SEARCH(\"13\",#REF!)),\"1\",\"0\")","v":"0"},{"$f":"IF(ISNUMBER(SEARCH(\"14\",#REF!)),\"1\",\"0\")","v":"0"},{"$f":"IF(ISNUMBER(SEARCH(\"15\",#REF!)),\"1\",\"0\")","v":"0"},{"$f":"IF(ISNUMBER(SEARCH(\"16\",#REF!)),\"1\",\"0\")","v":"0"},{"$f":"IF(ISNUMBER(SEARCH(\"17\",#REF!)),\"1\",\"0\")","v":"0"},{"$nulls":4},30,34,22,86,7,{"$nulls":9},{"$f":"#REF!-#REF!","v":{"$error":"#REF!"}}]
[2,22,4,"BIDA",2,16,null,3,2,2,0,3,1,3,"0","0","1","0","0","0","0","0","0","0","0","0","0","0","0","0","0","0",null,null,2,3,1,{"$f":"IF(ISNUMBER(SEARCH(\"1\",#REF!)),\"1\",\"0\")","v":"0"},{"$f":"IF(ISNUMBER(SEARCH(\"2\",#REF!)),\"1\",\"0\")","v":"0"},{"$f":"IF(ISNUMBER(SEARCH(\"3\",#REF!)),\"1\",\"0\")","v":"0"},{"$f":"IF(ISNUMBER(SEARCH(\"4\",#REF!)),\"1\",\"0\")","v":"0"},{"$f":"IF(ISNUMBER(SEARCH(\"5\",#REF!)),\"1\",\"0\")","v":"0"},{"$f":"IF(ISNUMBER(SEARCH(\"6\",#REF!)),\"1\",\"0\")","v":"0"},{"$f":"IF(ISNUMBER(SEARCH(\"7\",#REF!)),\"1\",\"0\")","v":"0"},{"$f":"IF(ISNUMBER(SEARCH(\"8\",#REF!)),\"1\",\"0\")","v":"0"},{"$f":"IF(ISNUMBER(SEARCH(\"9\",#REF!)),\"1\",\"0\")","v":"0"},{"$f":"IF(ISNUMBER(SEARCH(\"9\",#REF!)),\"1\",\"0\")","v":"0"},{"$f":"IF(ISNUMBER(SEARCH(\"10\",#REF!)),\"1\",\"0\")","v":"0"},{"$f":"IF(ISNUMBER(SEARCH(\"11\",#REF!)),\"1\",\"0\")","v":"0"},{"$f":"IF(ISNUMBER(SEARCH(\"12\",#REF!)),\"1\",\"0\")","v":"0"},{"$f":"IF(ISNUMBER(SEARCH(\"13\",#REF!)),\"1\",\"0\")","v":"0"},{"$f":"IF(ISNUMBER(SEARCH(\"14\",#REF!)),\"1\",\"0\")","v":"0"},{"$f":"IF(ISNUMBER(SEARCH(\"15\",#REF!)),\"1\",\"0\")","v":"0"},{"$f":"IF(ISNUMBER(SEARCH(\"16\",#REF!)),\"1\",\"0\")","v":"0"},{"$f":"IF(ISNUMBER(SEARCH(\"17\",#REF!)),\"1\",\"0\")","v":"0"},1,{"$nulls":3},22,10,14,46,5,{"$nulls":6},14,null,null,{"$f":"#REF!-#REF!","v":{"$error":"#REF!"}},{"$f":"#REF!-#REF!","v":{"$error":"#REF!"}}]
[2,22,4,"MIK",2,50,null,1,3,2,7,1,5,1,"1","0","0","0","0","0","0","0","0","0","0","0","0","0","0","0","0","0",null,null,1,3,2,{"$f":"IF(ISNUMBER(SEARCH(\"1\",#REF!)),\"1\",\"0\")","v":"0"},{"$f":"IF(ISNUMBER(SEARCH(\"2\",#REF!)),\"1\",\"0\")","v":"0"},{"$f":"IF(ISNUMBER(SEARCH(\"3\",#REF!)),\"1\",\"0\")","v":"0"},{"$f":"IF(ISNUMBER(SEARCH(\"4\",#REF!)),\"1\",\"0\")","v":"0"},{"$f":"IF(ISNUMBER(SEARCH(\"5\",#REF!)),\"1\",\"0\")","v":"0"},{"$f":"IF(ISNUMBER(SEARCH(\"6\",#REF!)),\"1\",\"0\")","v":"0"},{"$f":"IF(ISNUMBER(SEARCH(\"7\",#REF!)),\"1\",\"0\")","v":"0"},{"$f":"IF(ISNUMBER(SEARCH(\"8\",#REF!)),\"1\",\"0\")","v":"0"},{"$f":"IF(ISNUMBER(SEARCH(\"9\",#REF!)),\"1\",\"0\")","v":"0"},{"$f":"IF(ISNUMBER(SEARCH(\"9\",#REF!)),\"1\",\"0\")","v":"0"},{"$f":"IF(ISNUMBER(SEARCH(\"10\",#REF!)),\"1\",\"0\")","v":"0"},{"$f":"IF(ISNUMBER(SEARCH(\"11\",#REF!)),\"1\",\"0\")","v":"0"},{"$f":"IF(ISNUMBER(SEARCH(\"12\",#REF!)),\"1\",\"0\")","v":"0"},{"$f":"IF(ISNUMBER(SEARCH(\"13\",#REF!)),\"1\",\"0\")","v":"0"},{"$f":"IF(ISNUMBER(SEARCH(\"14\",#REF!)),\"1\",\"0\")","v":"0"},{"$f":"IF(ISNUMBER(SEARCH(\"15\",#REF!)),\"1\",\"0\")","v":"0"},{"$f":"IF(ISNUMBER(SEARCH(\"16\",#REF!)),\"1\",\"0\")","v":"0"},{"$f":"IF(ISNUMBER(SEARCH(\"17\",#REF!)),\"1\",\"0\")","v":"0"},{"$nulls":4},28,24,26,78,9,{"$nulls":9},{"$f":"#REF!-#REF!","v":{"$error":"#REF!"}}]
[2,22,4,"MIK",1,null,null,3,3,1,null,3,1,2,"0","1","0","0","0","0","0","0","0","0","0","0","0","0","0","0","0","0",null,null,3,3,2,{"$f":"IF(ISNUMBER(SEARCH(\"1\",#REF!)),\"1\",\"0\")","v":"0"},{"$f":"IF(ISNUMBER(SEARCH(\"2\",#REF!)),\"1\",\"0\")","v":"0"},{"$f":"IF(ISNUMBER(SEARCH(\"3\",#REF!)),\"1\",\"0\")","v":"0"},{"$f":"IF(ISNUMBER(SEARCH(\"4\",#REF!)),\"1\",\"0\")","v":"0"},{"$f":"IF(ISNUMBER(SEARCH(\"5\",#REF!)),\"1\",\"0\")","v":"0"},{"$f":"IF(ISNUMBER(SEARCH(\"6\",#REF!)),\"1\",\"0\")","v":"0"},{"$f":"IF(ISNUMBER(SEARCH(\"7\",#REF!)),\"1\",\"0\")","v":"0"},{"$f":"IF(ISNUMBER(SEARCH(\"8\",#REF!)),\"1\",\"0\")","v":"0"},{"$f":"IF(ISNUMBER(SEARCH(\"9\",#REF!)),\"1\",\"0\")","v":"0"},{"$f":"IF(ISNUMBER(SEARCH(\"9\",#REF!)),\"1\",\"0\")","v":"0"},{"$f":"IF(ISNUMBER(SEARCH(\"10\",#REF!)),\"1\",\"0\")","v":"0"},{"$f":"IF(ISNUMBER(SEARCH(\"11\",#REF!)),\"1\",\"0\")","v":"0"},{"$f":"IF(ISNUMBER(SEARCH(\"12\",#REF!)),\"1\",\"0\")","v":"0"},{"$f":"IF(ISNUMBER(SEARCH(\"13\",#REF!)),\"1\",\"0\")","v":"0"},{"$f":"IF(ISNUMBER(SEARCH(\"14\",#REF!)),\"1\",\"0\")","v":"0"},{"$f":"IF(ISNUMBER(SEARCH(\"15\",#REF!)),\"1\",\"0\")","v":"0"},{"$f":"IF(ISNUMBER(SEARCH(\"16\",#REF!)),\"1\",\"0\")","v":"0"},{"$f":"IF(ISNUMBER(SEARCH(\"17\",#REF!)),\"1\",\"0\")","v":"0"},{"$nulls":4},26,18,28,72,6,{"$nulls":9},{"$f":"#REF!-#REF!","v":{"$error":"#REF!"}}]
[2,22,4,"BIDA",2,16,null,3,2,null,0,3,1,3,"0","0","1","0","0","0","0","0","0","0","0","0","0","0","0","0","0","0",null,null,3,5,2,{"$f":"IF(ISNUMBER(SEARCH(\"1\",#REF!)),\"1\",\"0\")","v":"0"},{"$f":"IF(ISNUMBER(SEARCH(\"2\",#REF!)),\"1\",\"0\")","v":"0"},{"$f":"IF(ISNUMBER(SEARCH(\"3\",#REF!)),\"1\",\"0\")","v":"0"},{"$f":"IF(ISNUMBER(SEARCH(\"4\",#REF!)),\"1\",\"0\")","v":"0"},{"$f":"IF(ISNUMBER(SEARCH(\"5\",#REF!)),\"1\",\"0\")","v":"0"},{"$f":"IF(ISNUMBER(SEARCH(\"6\",#REF!)),\"1\",\"0\")","v":"0"},{"$f":"IF(ISNUMBER(SEARCH(\"7\",#REF!)),\"1\",\"0\")","v":"0"},{"$f":"IF(ISNUMBER(SEARCH(\"8\",#REF!)),\"1\",\"0\")","v":"0"},{"$f":"IF(ISNUMBER(SEARCH(\"9\",#REF!)),\"1\",\"0\")","v":"0"},{"$f":"IF(ISNUMBER(SEARCH(\"9\",#REF!)),\"1\",\"0\")","v":"0"},{"$f":"IF(ISNUMBER(SEARCH(\"10\",#REF!)),\"1\",\"0\")","v":"0"},{"$f":"IF(ISNUMBER(SEARCH(\"11\",#REF!)),\"1\",\"0\")","v":"0"},{"$f":"IF(ISNUMBER(SEARCH(\"12\",#REF!)),\"1\",\"0\")","v":"0"},{"$f":"IF(ISNUMBER(SEARCH(\"13\",#REF!)),\"1\",\"0\")","v":"0"},{"$f":"IF(ISNUMBER(SEARCH(\"14\",#REF!)),\"1\",\"0\")","v":"0"},{"$f":"IF(ISNUMBER(SEARCH(\"15\",#REF!)),\"1\",\"0\")","v":"0"},{"$f":"IF(ISNUMBER(SEARCH(\"16\",#REF!)),\"1\",\"0\")","v":"0"},{"$f":"IF(ISNUMBER(SEARCH(\"17\",#REF!)),\"1\",\"0\")","v":"0"},1,3,null,null,14,12,8,34,4,null,2,2,6,10,null,14,4,null,{"$f":"#REF!-#REF!","v":{"$error":"#REF!"}},{"$f":"#REF!-#REF!","v":{"$error":"#REF!"}}]
[2,22,4,"BIDA",null,28,null,1,3,2,4,3,null,1,"1","0","0","0","0","0","0","0","0","0","0","0","0","0","0","0","0","0",null,null,3,5,2,{"$f":"IF(ISNUMBER(SEARCH(\"1\",#REF!)),\"1\",\"0\")","v":"0"},{"$f":"IF(ISNUMBER(SEARCH(\"2\",#REF!)),\"1\",\"0\")","v":"0"},{"$f":"IF(ISNUMBER(SEARCH(\"3\",#REF!)),\"1\",\"0\")","v":"0"},{"$f":"IF(ISNUMBER(SEARCH(\"4\",#REF!)),\"1\",\"0\")","v":"0"},{"$f":"IF(ISNUMBER(SEARCH(\"5\",#REF!)),\"1\",\"0\")","v":"0"},{"$f":"IF(ISNUMBER(SEARCH(\"6\",#REF!)),\"1\",\"0\")","v":"0"},{"$f":"IF(ISNUMBER(SEARCH(\"7\",#REF!)),\"1\",\"0\")","v":"0"},{"$f":"IF(ISNUMBER(SEARCH(\"8\",#REF!)),\"1\",\"0\")","v":"0"},{"$f":"IF(ISNUMBER(SEARCH(\"9\",#REF!)),\"1\",\"0\")","v":"0"},{"$f":"IF(ISNUMBER(SEARCH(\"9\",#REF!)),\"1\",\"0\")","v":"0"},{"$f":"IF(ISNUMBER(SEARCH(\"10\",#REF!)),\"1\",\"0\")","v":"0"},{"$f":"IF(ISNUMBER(SEARCH(\"11\",#REF!)),\"1\",\"0\")","v":"0"},{"$f":"IF(ISNUMBER(SEARCH(\"12\",#REF!)),\"1\",\"0\")","v":"0"},{"$f":"IF(ISNUMBER(SEARCH(\"13\",#REF!)),\"1\",\"0\")","v":"0"},{"$f":"IF(ISNUMBER(SEARCH(\"14\",#REF!)),\"1\",\"0\")","v":"0"},{"$f":"IF(ISNUMBER(SEARCH(\"15\",#REF!)),\"1\",\"0\")","v":"0"},{"$f":"IF(ISNUMBER(SEARCH(\"16\",#REF!)),\"1\",\"0\")","v":"0"},{"$f":"IF(ISNUMBER(SEARCH(\"17\",#REF!)),\"1\",\"0\")","v":"0"},{"$nulls":4},22,14,16,52,4,{"$nulls":6},14,null,null,{"$f":"#REF!-#REF!","v":{"$error":"#REF!"}},{"$f":"#REF!-#REF!","v":{"$error":"#REF!"}}]
[2,22,4,"BIDA",2,32,null,2,8,null,7,1,2,3,"0","0","1","0","0","0","0","0","0","0","0","0","0","0","0","0","0","0",null,null,3,5,1,{"$f":"IF(ISNUMBER(SEARCH(\"1\",#REF!)),\"1\",\"0\")","v":"0"},{"$f":"IF(ISNUMBER(SEARCH(\"2\",#REF!)),\"1\",\"0\")","v":"0"},{"$f":"IF(ISNUMBER(SEARCH(\"3\",#REF!)),\"1\",\"0\")","v":"0"},{"$f":"IF(ISNUMBER(SEARCH(\"4\",#REF!)),\"1\",\"0\")","v":"0"},{"$f":"IF(ISNUMBER(SEARCH(\"5\",#REF!)),\"1\",\"0\")","v":"0"},{"$f":"IF(ISNUMBER(SEARCH(\"6\",#REF!)),\"1\",\"0\")","v":"0"},{"$f":"IF(ISNUMBER(SEARCH(\"7\",#REF!)),\"1\",\"0\")","v":"0"},{"$f":"IF(ISNUMBER(SEARCH(\"8\",#REF!)),\"1\",\"0\")","v":"0"},{"$f":"IF(ISNUMBER(SEARCH(\"9\",#REF!)),\"1\",\"0\")","v":"0"},{"$f":"IF(ISNUMBER(SEARCH(\"9\",#REF!)),\"1\",\"0\")","v":"0"},{"$f":"IF(ISNUMBER(SEARCH(\"10\",#REF!)),\"1\",\"0\")","v":"0"},{"$f":"IF(ISNUMBER(SEARCH(\"11\",#REF!)),\"1\",\"0\")","v":"0"},{"$f":"IF(ISNUMBER(SEARCH(\"12\",#REF!)),\"1\",\"0\")","v":"0"},{"$f":"IF(ISNUMBER(SEARCH(\"13\",#REF!)),\"1\",\"0\")","v":"0"},{"$f":"IF(ISNUMBER(SEARCH(\"14\",#REF!)),\"1\",\"0\")","v":"0"},{"$f":"IF(ISNUMBER(SEARCH(\"15\",#REF!)),\"1\",\"0\")","v":"0"},{"$f":"IF(ISNUMBER(SEARCH(\"16\",#REF!)),\"1\",\"0\")","v":"0"},{"$f":"IF(ISNUMBER(SEARCH(\"17\",#REF!)),\"1\",\"0\")","v":"0"},2,3,null,null,14,20,10,44,7,null,4,2,2,8,null,14,4,null,{"$f":"#REF!-#REF!","v":{"$error":"#REF!"}},{"$f":"#REF!-#REF!","v":{"$error":"#REF!"}}]
[2,22,4,"BIDA",2,29,null,1,3,1,5,3,2,3,"0","0","1","0","0","0","0","0","0","0","0","0","0","0","0","0","0","0",null,null,3,5,1,{"$f":"IF(ISNUMBER(SEARCH(\"1\",#REF!)),\"1\",\"0\")","v":"0"},{"$f":"IF(ISNUMBER(SEARCH(\"2\",#REF!)),\"1\",\"0\")","v":"0"},{"$f":"IF(ISNUMBER(SEARCH(\"3\",#REF!)),\"1\",\"0\")","v":"0"},{"$f":"IF(ISNUMBER(SEARCH(\"4\",#REF!)),\"1\",\"0\")","v":"0"},{"$f":"IF(ISNUMBER(SEARCH(\"5\",#REF!)),\"1\",\"0\")","v":"0"},{"$f":"IF(ISNUMBER(SEARCH(\"6\",#REF!)),\"1\",\"0\")","v":"0"},{"$f":"IF(ISNUMBER(SEARCH(\"7\",#REF!)),\"1\",\"0\")","v":"0"},{"$f":"IF(ISNUMBER(SEARCH(\"8\",#REF!)),\"1\",\"0\")","v":"0"},{"$f":"IF(ISNUMBER(SEARCH(\"9\",#REF!)),\"1\",\"0\")","v":"0"},{"$f":"IF(ISNUMBER(SEARCH(\"9\",#REF!)),\"1\",\"0\")","v":"0"},{"$f":"IF(ISNUMBER(SEARCH(\"10\",#REF!)),\"1\",\"0\")","v":"0"},{"$f":"IF(ISNUMBER(SEARCH(\"11\",#REF!)),\"1\",\"0\")","v":"0"},{"$f":"IF(ISNUMBER(SEARCH(\"12\",#REF!)),\"1\",\"0\")","v":"0"},{"$f":"IF(ISNUMBER(SEARCH(\"13\",#REF!)),\"1\",\"0\")","v":"0"},{"$f":"IF(ISNUMBER(SEARCH(\"14\",#REF!)),\"1\",\"0\")","v":"0"},{"$f":"IF(ISNUMBER(SEARCH(\"15\",#REF!)),\"1\",\"0\")","v":"0"},{"$f":"IF(ISNUMBER(SEARCH(\"16\",#REF!)),\"1\",\"0\")","v":"0"},{"$f":"IF(ISNUMBER(SEARCH(\"17\",#REF!)),\"1\",\"0\")","v":"0"},1,{"$nulls":3},20,14,20,54,6,null,4,2,2,8,null,14,3,null,{"$f":"#REF!-#REF!","v":{"$error":"#REF!"}},{"$f":"#REF!-#REF!","v":{"$error":"#REF!"}}]
[2,22,4,"BIDA",1,32,null,1,3,2,8,3,2,1,"1","0","0","0","0","0","0","0","0","0","0","0","0","0","0","0","0","0",null,null,1,5,2,{"$f":"IF(ISNUMBER(SEARCH(\"1\",#REF!)),\"1\",\"0\")","v":"0"},{"$f":"IF(ISNUMBER(SEARCH(\"2\",#REF!)),\"1\",\"0\")","v":"0"},{"$f":"IF(ISNUMBER(SEARCH(\"3\",#REF!)),\"1\",\"0\")","v":"0"},{"$f":"IF(ISNUMBER(SEARCH(\"4\",#REF!)),\"1\",\"0\")","v":"0"},{"$f":"IF(ISNUMBER(SEARCH(\"5\",#REF!)),\"1\",\"0\")","v":"0"},{"$f":"IF(ISNUMBER(SEARCH(\"6\",#REF!)),\"1\",\"0\")","v":"0"},{"$f":"IF(ISNUMBER(SEARCH(\"7\",#REF!)),\"1\",\"0\")","v":"0"},{"$f":"IF(ISNUMBER(SEARCH(\"8\",#REF!)),\"1\",\"0\")","v":"0"},{"$f":"IF(ISNUMBER(SEARCH(\"9\",#REF!)),\"1\",\"0\")","v":"0"},{"$f":"IF(ISNUMBER(SEARCH(\"9\",#REF!)),\"1\",\"0\")","v":"0"},{"$f":"IF(ISNUMBER(SEARCH(\"10\",#REF!)),\"1\",\"0\")","v":"0"},{"$f":"IF(ISNUMBER(SEARCH(\"11\",#REF!)),\"1\",\"0\")","v":"0"},{"$f":"IF(ISNUMBER(SEARCH(\"12\",#REF!)),\"1\",\"0\")","v":"0"},{"$f":"IF(ISNUMBER(SEARCH(\"13\",#REF!)),\"1\",\"0\")","v":"0"},{"$f":"IF(ISNUMBER(SEARCH(\"14\",#REF!)),\"1\",\"0\")","v":"0"},{"$f":"IF(ISNUMBER(SEARCH(\"15\",#REF!)),\"1\",\"0\")","v":"0"},{"$f":"IF(ISNUMBER(SEARCH(\"16\",#REF!)),\"1\",\"0\")","v":"0"},{"$f":"IF(ISNUMBER(SEARCH(\"17\",#REF!)),\"1\",\"0\")","v":"0"},{"$nulls":4},14,14,10,38,6,null,4,4,2,10,null,14,4,null,{"$f":"#REF!-#REF!","v":{"$error":"#REF!"}},{"$f":"#REF!-#REF!","v":{"$error":"#REF!"}}]
[2,22,4,"BCA",2,33,null,1,3,null,6,5,2,3,"0","0","1","0","0","0","0","0","0","0","0","0","0","0","0","0","0","0",null,null,3,5,2,{"$f":"IF(ISNUMBER(SEARCH(\"1\",#REF!)),\"1\",\"0\")","v":"0"},{"$f":"IF(ISNUMBER(SEARCH(\"2\",#REF!)),\"1\",\"0\")","v":"0"},{"$f":"IF(ISNUMBER(SEARCH(\"3\",#REF!)),\"1\",\"0\")","v":"0"},{"$f":"IF(ISNUMBER(SEARCH(\"4\",#REF!)),\"1\",\"0\")","v":"0"},{"$f":"IF(ISNUMBER(SEARCH(\"5\",#REF!)),\"1\",\"0\")","v":"0"},{"$f":"IF(ISNUMBER(SEARCH(\"6\",#REF!)),\"1\",\"0\")","v":"0"},{"$f":"IF(ISNUMBER(SEARCH(\"7\",#REF!)),\"1\",\"0\")","v":"0"},{"$f":"IF(ISNUMBER(SEARCH(\"8\",#REF!)),\"1\",\"0\")","v":"0"},{"$f":"IF(ISNUMBER(SEARCH(\"9\",#REF!)),\"1\",\"0\")","v":"0"},{"$f":"IF(ISNUMBER(SEARCH(\"9\",#REF!)),\"1\",\"0\")","v":"0"},{"$f":"IF(ISNUMBER(SEARCH(\"10\",#REF!)),\"1\",\"0\")","v":"0"},{"$f":"IF(ISNUMBER(SEARCH(\"11\",#REF!)),\"1\",\"0\")","v":"0"},{"$f":"IF(ISNUMBER(SEARCH(\"12\",#REF!)),\"1\",\"0\")","v":"0"},{"$f":"IF(ISNUMBER(SEARCH(\"13\",#REF!)),\"1\",\"0\")","v":"0"},{"$f":"IF(ISNUMBER(SEARCH(\"14\",#REF!)),\"1\",\"0\")","v":"0"},{"$f":"IF(ISNUMBER(SEARCH(\"15\",#REF!)),\"1\",\"0\")","v":"0"},{"$f":"IF(ISNUMBER(SEARCH(\"16\",#REF!)),\"1\",\"0\")","v":"0"},{"$f":"IF(ISNUMBER(SEARCH(\"17\",#REF!)),\"1\",\"0\")","v":"0"},1,{"$nulls":3},20,22,28,70,9,null,2,2,2,6,null,13,5,null,{"$f":"#REF!-#REF!","v":{"$error":"#REF!"}},{"$f":"#REF!-#REF!","v":{"$error":"#REF!"}}]
[2,22,4,"BCA",2,25,null,null,3,2,6,5,2,3,"0","0","1","0","0","0","0","0","0","0","0","0","0","0","0","0","0","0",null,null,3,5,2,{"$f":"IF(ISNUMBER(SEARCH(\"1\",#REF!)),\"1\",\"0\")","v":"0"},{"$f":"IF(ISNUMBER(SEARCH(\"2\",#REF!)),\"1\",\"0\")","v":"0"},{"$f":"IF(ISNUMBER(SEARCH(\"3\",#REF!)),\"1\",\"0\")","v":"0"},{"$f":"IF(ISNUMBER(SEARCH(\"4\",#REF!)),\"1\",\"0\")","v":"0"},{"$f":"IF(ISNUMBER(SEARCH(\"5\",#REF!)),\"1\",\"0\")","v":"0"},{"$f":"IF(ISNUMBER(SEARCH(\"6\",#REF!)),\"1\",\"0\")","v":"0"},{"$f":"IF(ISNUMBER(SEARCH(\"7\",#REF!)),\"1\",\"0\")","v":"0"},{"$f":"IF(ISNUMBER(SEARCH(\"8\",#REF!)),\"1\",\"0\")","v":"0"},{"$f":"IF(ISNUMBER(SEARCH(\"9\",#REF!)),\"1\",\"0\")","v":"0"},{"$f":"IF(ISNUMBER(SEARCH(\"9\",#REF!)),\"1\",\"0\")","v":"0"},{"$f":"IF(ISNUMBER(SEARCH(\"10\",#REF!)),\"1\",\"0\")","v":"0"},{"$f":"IF(ISNUMBER(SEARCH(\"11\",#REF!)),\"1\",\"0\")","v":"0"},{"$f":"IF(ISNUMBER(SEARCH(\"12\",#REF!)),\"1\",\"0\")","v":"0"},{"$f":"IF(ISNUMBER(SEARCH(\"13\",#REF!)),\"1\",\"0\")","v":"0"},{"$f":"IF(ISNUMBER(SEARCH(\"14\",#REF!)),\"1\",\"0\")","v":"0"},{"$f":"IF(ISNUMBER(SEARCH(\"15\",#REF!)),\"1\",\"0\")","v":"0"},{"$f":"IF(ISNUMBER(SEARCH(\"16\",#REF!)),\"1\",\"0\")","v":"0"},{"$f":"IF(ISNUMBER(SEARCH(\"17\",#REF!)),\"1\",\"0\")","v":"0"},3,{"$nulls":3},12,14,18,44,7,null,2,4,6,12,null,null,4,null,{"$f":"#REF!-#REF!","v":{"$error":"#REF!"}},{"$f":"#REF!-#REF!","v":{"$error":"#REF!"}}]
[2,22,4,"BCA",2,29,null,1,3,2,5,5,2,3,"0","0","1","0","0","0","0","0","0","0","0","0","0","0","0","0","0","0",null,null,2,5,1,{"$f":"IF(ISNUMBER(SEARCH(\"1\",#REF!)),\"1\",\"0\")","v":"0"},{"$f":"IF(ISNUMBER(SEARCH(\"2\",#REF!)),\"1\",\"0\")","v":"0"},{"$f":"IF(ISNUMBER(SEARCH(\"3\",#REF!)),\"1\",\"0\")","v":"0"},{"$f":"IF(ISNUMBER(SEARCH(\"4\",#REF!)),\"1\",\"0\")","v":"0"},{"$f":"IF(ISNUMBER(SEARCH(\"5\",#REF!)),\"1\",\"0\")","v":"0"},{"$f":"IF(ISNUMBER(SEARCH(\"6\",#REF!)),\"1\",\"0\")","v":"0"},{"$f":"IF(ISNUMBER(SEARCH(\"7\",#REF!)),\"1\",\"0\")","v":"0"},{"$f":"IF(ISNUMBER(SEARCH(\"8\",#REF!)),\"1\",\"0\")","v":"0"},{"$f":"IF(ISNUMBER(SEARCH(\"9\",#REF!)),\"1\",\"0\")","v":"0"},{"$f":"IF(ISNUMBER(SEARCH(\"9\",#REF!)),\"1\",\"0\")","v":"0"},{"$f":"IF(ISNUMBER(SEARCH(\"10\",#REF!)),\"1\",\"0\")","v":"0"},{"$f":"IF(ISNUMBER(SEARCH(\"11\",#REF!)),\"1\",\"0\")","v":"0"},{"$f":"IF(ISNUMBER(SEARCH(\"12\",#REF!)),\"1\",\"0\")","v":"0"},{"$f":"IF(ISNUMBER(SEARCH(\"13\",#REF!)),\"1\",\"0\")","v":"0"},{"$f":"IF(ISNUMBER(SEARCH(\"14\",#REF!)),\"1\",\"0\")","v":"0"},{"$f":"IF(ISNUMBER(SEARCH(\"15\",#REF!)),\"1\",\"0\")","v":"0"},{"$f":"IF(ISNUMBER(SEARCH(\"16\",#REF!)),\"1\",\"0\")","v":"0"},{"$f":"IF(ISNUMBER(SEARCH(\"17\",#REF!)),\"1\",\"0\")","v":"0"},1,{"$nulls":3},14,22,16,52,9,null,2,0,8,10,null,13,4,null,{"$f":"#REF!-#REF!","v":{"$error":"#REF!"}},{"$f":"#REF!-#REF!","v":{"$error":"#REF!"}}]
[2,22,4,"BCA",2,45,null,null,3,2,8,5,2,3,"0","0","1","0","0","0","0","0","0","0","0","0","0","0","0","0","0","0",null,null,4,null,1,{"$f":"IF(ISNUMBER(SEARCH(\"1\",#REF!)),\"1\",\"0\")","v":"0"},{"$f":"IF(ISNUMBER(SEARCH(\"2\",#REF!)),\"1\",\"0\")","v":"0"},{"$f":"IF(ISNUMBER(SEARCH(\"3\",#REF!)),\"1\",\"0\")","v":"0"},{"$f":"IF(ISNUMBER(SEARCH(\"4\",#REF!)),\"1\",\"0\")","v":"0"},{"$f":"IF(ISNUMBER(SEARCH(\"5\",#REF!)),\"1\",\"0\")","v":"0"},{"$f":"IF(ISNUMBER(SEARCH(\"6\",#REF!)),\"1\",\"0\")","v":"0"},{"$f":"IF(ISNUMBER(SEARCH(\"7\",#REF!)),\"1\",\"0\")","v":"0"},{"$f":"IF(ISNUMBER(SEARCH(\"8\",#REF!)),\"1\",\"0\")","v":"0"},{"$f":"IF(ISNUMBER(SEARCH(\"9\",#REF!)),\"1\",\"0\")","v":"0"},{"$f":"IF(ISNUMBER(SEARCH(\"9\",#REF!)),\"1\",\"0\")","v":"0"},{"$f":"IF(ISNUMBER(SEARCH(\"10\",#REF!)),\"1\",\"0\")","v":"0"},{"$f":"IF(ISNUMBER(SEARCH(\"11\",#REF!)),\"1\",\"0\")","v":"0"},{"$f":"IF(ISNUMBER(SEARCH(\"12\",#REF!)),\"1\",\"0\")","v":"0"},{"$f":"IF(ISNUMBER(SEARCH(\"13\",#REF!)),\"1\",\"0\")","v":"0"},{"$f":"IF(ISNUMBER(SEARCH(\"14\",#REF!)),\"1\",\"0\")","v":"0"},{"$f":"IF(ISNUMBER(SEARCH(\"15\",#REF!)),\"1\",\"0\")","v":"0"},{"$f":"IF(ISNUMBER(SEARCH(\"16\",#REF!)),\"1\",\"0\")","v":"0"},{"$f":"IF(ISNUMBER(SEARCH(\"17\",#REF!)),\"1\",\"0\")","v":"0"},{"$nulls":4},16,22,16,54,null,null,2,4,6,12,null,null,5,null,{"$f":"#REF!-#REF!","v":{"$error":"#REF!"}},{"$f":"#REF!-#REF!","v":{"$error":"#REF!"}}]
[2,22,4,"BCA",2,38,null,1,3,null,6,5,6,3,"0","0","1","0","0","0","0","0","0","0","0","0","0","0","0","0","0","0",null,null,3,null,1,{"$f":"IF(ISNUMBER(SEARCH(\"1\",#REF!)),\"1\",\"0\")","v":"0"},{"$f":"IF(ISNUMBER(SEARCH(\"2\",#REF!)),\"1\",\"0\")","v":"0"},{"$f":"IF(ISNUMBER(SEARCH(\"3\",#REF!)),\"1\",\"0\")","v":"0"},{"$f":"IF(ISNUMBER(SEARCH(\"4\",#REF!)),\"1\",\"0\")","v":"0"},{"$f":"IF(ISNUMBER(SEARCH(\"5\",#REF!)),\"1\",\"0\")","v":"0"},{"$f":"IF(ISNUMBER(SEARCH(\"6\",#REF!)),\"1\",\"0\")","v":"0"},{"$f":"IF(ISNUMBER(SEARCH(\"7\",#REF!)),\"1\",\"0\")","v":"0"},{"$f":"IF(ISNUMBER(SEARCH(\"8\",#REF!)),\"1\",\"0\")","v":"0"},{"$f":"IF(ISNUMBER(SEARCH(\"9\",#REF!)),\"1\",\"0\")","v":"0"},{"$f":"IF(ISNUMBER(SEARCH(\"9\",#REF!)),\"1\",\"0\")","v":"0"},{"$f":"IF(ISNUMBER(SEARCH(\"10\",#REF!)),\"1\",\"0\")","v":"0"},{"$f":"IF(ISNUMBER(SEARCH(\"11\",#REF!)),\"1\",\"0\")","v":"0"},{"$f":"IF(ISNUMBER(SEARCH(\"12\",#REF!)),\"1\",\"0\")","v":"0"},{"$f":"IF(ISNUMBER(SEARCH(\"13\",#REF!)),\"1\",\"0\")","v":"0"},{"$f":"IF(ISNUMBER(SEARCH(\"14\",#REF!)),\"1\",\"0\")","v":"0"},{"$f":"IF(ISNUMBER(SEARCH(\"15\",#REF!)),\"1\",\"0\")","v":"0"},{"$f":"IF(ISNUMBER(SEARCH(\"16\",#REF!)),\"1\",\"0\")","v":"0"},{"$f":"IF(ISNUMBER(SEARCH(\"17\",#REF!)),\"1\",\"0\")","v":"0"},1,{"$nulls":3},14,16,20,50,10,null,2,4,2,8,null,null,4,null,{"$f":"#REF!-#REF!","v":{"$error":"#REF!"}},{"$f":"#REF!-#REF!","v":{"$error":"#REF!"}}]
[2,22,4,"VMA",2,28,null,null,3,2,4,1,null,3,"0","0","1","0","0","0","0","0","0","0","0","0","0","0","0","0","0","0",null,null,3,5,2,{"$f":"IF(ISNUMBER(SEARCH(\"1\",#REF!)),\"1\",\"0\")","v":"0"},{"$f":"IF(ISNUMBER(SEARCH(\"2\",#REF!)),\"1\",\"0\")","v":"0"},{"$f":"IF(ISNUMBER(SEARCH(\"3\",#REF!)),\"1\",\"0\")","v":"0"},{"$f":"IF(ISNUMBER(SEARCH(\"4\",#REF!)),\"1\",\"0\")","v":"0"},{"$f":"IF(ISNUMBER(SEARCH(\"5\",#REF!)),\"1\",\"0\")","v":"0"},{"$f":"IF(ISNUMBER(SEARCH(\"6\",#REF!)),\"1\",\"0\")","v":"0"},{"$f":"IF(ISNUMBER(SEARCH(\"7\",#REF!)),\"1\",\"0\")","v":"0"},{"$f":"IF(ISNUMBER(SEARCH(\"8\",#REF!)),\"1\",\"0\")","v":"0"},{"$f":"IF(ISNUMBER(SEARCH(\"9\",#REF!)),\"1\",\"0\")","v":"0"},{"$f":"IF(ISNUMBER(SEARCH(\"9\",#REF!)),\"1\",\"0\")","v":"0"},{"$f":"IF(ISNUMBER(SEARCH(\"10\",#REF!)),\"1\",\"0\")","v":"0"},{"$f":"IF(ISNUMBER(SEARCH(\"11\",#REF!)),\"1\",\"0\")","v":"0"},{"$f":"IF(ISNUMBER(SEARCH(\"12\",#REF!)),\"1\",\"0\")","v":"0"},{"$f":"IF(ISNUMBER(SEARCH(\"13\",#REF!)),\"1\",\"0\")","v":"0"},{"$f":"IF(ISNUMBER(SEARCH(\"14\",#REF!)),\"1\",\"0\")","v":"0"},{"$f":"IF(ISNUMBER(SEARCH(\"15\",#REF!)),\"1\",\"0\")","v":"0"},{"$f":"IF(ISNUMBER(SEARCH(\"16\",#REF!)),\"1\",\"0\")","v":"0"},{"$f":"IF(ISNUMBER(SEARCH(\"17\",#REF!)),\"1\",\"0\")","v":"0"},1,{"$nulls":3},18,14,22,54,7,null,14,10,14,38,null,11,4,null,null,{"$f":"#REF!-#REF!","v":{"$error":"#REF!"}}]
[2,22,4,"VMA",2,14,null,2,2,2,0,3,1,null,"0","0","0","0","0","0","0","0","0","0","0","0","0","0","0","0","0","0",null,null,1,null,null,{"$f":"IF(ISNUMBER(SEARCH(\"1\",#REF!)),\"1\",\"0\")","v":"0"},{"$f":"IF(ISNUMBER(SEARCH(\"2\",#REF!)),\"1\",\"0\")","v":"0"},{"$f":"IF(ISNUMBER(SEARCH(\"3\",#REF!)),\"1\",\"0\")","v":"0"},{"$f":"IF(ISNUMBER(SEARCH(\"4\",#REF!)),\"1\",\"0\")","v":"0"},{"$f":"IF(ISNUMBER(SEARCH(\"5\",#REF!)),\"1\",\"0\")","v":"0"},{"$f":"IF(ISNUMBER(SEARCH(\"6\",#REF!)),\"1\",\"0\")","v":"0"},{"$f":"IF(ISNUMBER(SEARCH(\"7\",#REF!)),\"1\",\"0\")","v":"0"},{"$f":"IF(ISNUMBER(SEARCH(\"8\",#REF!)),\"1\",\"0\")","v":"0"},{"$f":"IF(ISNUMBER(SEARCH(\"9\",#REF!)),\"1\",\"0\")","v":"0"},{"$f":"IF(ISNUMBER(SEARCH(\"9\",#REF!)),\"1\",\"0\")","v":"0"},{"$f":"IF(ISNUMBER(SEARCH(\"10\",#REF!)),\"1\",\"0\")","v":"0"},{"$f":"IF(ISNUMBER(SEARCH(\"11\",#REF!)),\"1\",\"0\")","v":"0"},{"$f":"IF(ISNUMBER(SEARCH(\"12\",#REF!)),\"1\",\"0\")","v":"0"},{"$f":"IF(ISNUMBER(SEARCH(\"13\",#REF!)),\"1\",\"0\")","v":"0"},{"$f":"IF(ISNUMBER(SEARCH(\"14\",#REF!)),\"1\",\"0\")","v":"0"},{"$f":"IF(ISNUMBER(SEARCH(\"15\",#REF!)),\"1\",\"0\")","v":"0"},{"$f":"IF(ISNUMBER(SEARCH(\"16\",#REF!)),\"1\",\"0\")","v":"0"},{"$f":"IF(ISNUMBER(SEARCH(\"17\",#REF!)),\"1\",\"0\")","v":"0"},{"$nulls":4},42,42,42,126,0,{"$nulls":9},{"$f":"#REF!-#REF!","v":{"$error":"#REF!"}}]
[2,22,4,"VMA",2,16,null,null,2,null,0,3,1,3,"0","0","1","0","0","0","0","0","0","0","0","0","0","0","0","0","0","0",null,null,3,5,1,{"$f":"IF(ISNUMBER(SEARCH(\"1\",#REF!)),\"1\",\"0\")","v":"0"},{"$f":"IF(ISNUMBER(SEARCH(\"2\",#REF!)),\"1\",\"0\")","v":"0"},{"$f":"IF(ISNUMBER(SEARCH(\"3\",#REF!)),\"1\",\"0\")","v":"0"},{"$f":"IF(ISNUMBER(SEARCH(\"4\",#REF!)),\"1\",\"0\")","v":"0"},{"$f":"IF(ISNUMBER(SEARCH(\"5\",#REF!)),\"1\",\"0\")","v":"0"},{"$f":"IF(ISNUMBER(SEARCH(\"6\",#REF!)),\"1\",\"0\")","v":"0"},{"$f":"IF(ISNUMBER(SEARCH(\"7\",#REF!)),\"1\",\"0\")","v":"0"},{"$f":"IF(ISNUMBER(SEARCH(\"8\",#REF!)),\"1\",\"0\")","v":"0"},{"$f":"IF(ISNUMBER(SEARCH(\"9\",#REF!)),\"1\",\"0\")","v":"0"},{"$f":"IF(ISNUMBER(SEARCH(\"9\",#REF!)),\"1\",\"0\")","v":"0"},{"$f":"IF(ISNUMBER(SEARCH(\"10\",#REF!)),\"1\",\"0\")","v":"0"},{"$f":"IF(ISNUMBER(SEARCH(\"11\",#REF!)),\"1\",\"0\")","v":"0"},{"$f":"IF(ISNUMBER(SEARCH(\"12\",#REF!)),\"1\",\"0\")","v":"0"},{"$f":"IF(ISNUMBER(SEARCH(\"13\",#REF!)),\"1\",\"0\")","v":"0"},{"$f":"IF(ISNUMBER(SEARCH(\"14\",#REF!)),\"1\",\"0\")","v":"0"},{"$f":"IF(ISNUMBER(SEARCH(\"15\",#REF!)),\"1\",\"0\")","v":"0"},{"$f":"IF(ISNUMBER(SEARCH(\"16\",#REF!)),\"1\",\"0\")","v":"0"},{"$f":"IF(ISNUMBER(SEARCH(\"17\",#REF!)),\"1\",\"0\")","v":"0"},5,{"$nulls":3},34,26,24,84,8,{"$nulls":9},{"$f":"#REF!-#REF!","v":{"$error":"#REF!"}}]
[2,22,4,"VMA",null,30,null,3,3,null,5,1,null,"2, 16. Autre (SVP dans la case suivante) ","1","1","0","0","0","1","0","0","0","0","0","0","0","0","0","1","0","0",null,null,1,5,null,{"$f":"IF(ISNUMBER(SEARCH(\"1\",#REF!)),\"1\",\"0\")","v":"0"},{"$f":"IF(ISNUMBER(SEARCH(\"2\",#REF!)),\"1\",\"0\")","v":"0"},{"$f":"IF(ISNUMBER(SEARCH(\"3\",#REF!)),\"1\",\"0\")","v":"0"},{"$f":"IF(ISNUMBER(SEARCH(\"4\",#REF!)),\"1\",\"0\")","v":"0"},{"$f":"IF(ISNUMBER(SEARCH(\"5\",#REF!)),\"1\",\"0\")","v":"0"},{"$f":"IF(ISNUMBER(SEARCH(\"6\",#REF!)),\"1\",\"0\")","v":"0"},{"$f":"IF(ISNUMBER(SEARCH(\"7\",#REF!)),\"1\",\"0\")","v":"0"},{"$f":"IF(ISNUMBER(SEARCH(\"8\",#REF!)),\"1\",\"0\")","v":"0"},{"$f":"IF(ISNUMBER(SEARCH(\"9\",#REF!)),\"1\",\"0\")","v":"0"},{"$f":"IF(ISNUMBER(SEARCH(\"9\",#REF!)),\"1\",\"0\")","v":"0"},{"$f":"IF(ISNUMBER(SEARCH(\"10\",#REF!)),\"1\",\"0\")","v":"0"},{"$f":"IF(ISNUMBER(SEARCH(\"11\",#REF!)),\"1\",\"0\")","v":"0"},{"$f":"IF(ISNUMBER(SEARCH(\"12\",#REF!)),\"1\",\"0\")","v":"0"},{"$f":"IF(ISNUMBER(SEARCH(\"13\",#REF!)),\"1\",\"0\")","v":"0"},{"$f":"IF(ISNUMBER(SEARCH(\"14\",#REF!)),\"1\",\"0\")","v":"0"},{"$f":"IF(ISNUMBER(SEARCH(\"15\",#REF!)),\"1\",\"0\")","v":"0"},{"$f":"IF(ISNUMBER(SEARCH(\"16\",#REF!)),\"1\",\"0\")","v":"0"},{"$f":"IF(ISNUMBER(SEARCH(\"17\",#REF!)),\"1\",\"0\")","v":"0"},{"$nulls":4},36,40,34,110,8,{"$nulls":9},{"$f":"#REF!-#REF!","v":{"$error":"#REF!"}}]
[2,22,4,"VMA",1,30,null,null,3,1,7,3,6,"12. Pesonne de la famille disparue, 16. Autre (SVP dans la case suivante) ","1","1","0","0","0","1","0","0","0","0","0","1","0","0","0","1","0","0",null,null,1,null,null,{"$f":"IF(ISNUMBER(SEARCH(\"1\",#REF!)),\"1\",\"0\")","v":"0"},{"$f":"IF(ISNUMBER(SEARCH(\"2\",#REF!)),\"1\",\"0\")","v":"0"},{"$f":"IF(ISNUMBER(SEARCH(\"3\",#REF!)),\"1\",\"0\")","v":"0"},{"$f":"IF(ISNUMBER(SEARCH(\"4\",#REF!)),\"1\",\"0\")","v":"0"},{"$f":"IF(ISNUMBER(SEARCH(\"5\",#REF!)),\"1\",\"0\")","v":"0"},{"$f":"IF(ISNUMBER(SEARCH(\"6\",#REF!)),\"1\",\"0\")","v":"0"},{"$f":"IF(ISNUMBER(SEARCH(\"7\",#REF!)),\"1\",\"0\")","v":"0"},{"$f":"IF(ISNUMBER(SEARCH(\"8\",#REF!)),\"1\",\"0\")","v":"0"},{"$f":"IF(ISNUMBER(SEARCH(\"9\",#REF!)),\"1\",\"0\")","v":"0"},{"$f":"IF(ISNUMBER(SEARCH(\"9\",#REF!)),\"1\",\"0\")","v":"0"},{"$f":"IF(ISNUMBER(SEARCH(\"10\",#REF!)),\"1\",\"0\")","v":"0"},{"$f":"IF(ISNUMBER(SEARCH(\"11\",#REF!)),\"1\",\"0\")","v":"0"},{"$f":"IF(ISNUMBER(SEARCH(\"12\",#REF!)),\"1\",\"0\")","v":"0"},{"$f":"IF(ISNUMBER(SEARCH(\"13\",#REF!)),\"1\",\"0\")","v":"0"},{"$f":"IF(ISNUMBER(SEARCH(\"14\",#REF!)),\"1\",\"0\")","v":"0"},{"$f":"IF(ISNUMBER(SEARCH(\"15\",#REF!)),\"1\",\"0\")","v":"0"},{"$f":"IF(ISNUMBER(SEARCH(\"16\",#REF!)),\"1\",\"0\")","v":"0"},{"$f":"IF(ISNUMBER(SEARCH(\"17\",#REF!)),\"1\",\"0\")","v":"0"},{"$nulls":4},32,30,30,92,4,null,12,12,14,38,null,12,5,null,{"$f":"#REF!-#REF!","v":{"$error":"#REF!"}},{"$f":"#REF!-#REF!","v":{"$error":"#REF!"}}]
[2,22,4,"VMA",2,45,null,1,3,null,6,1,null,3,"0","0","1","0","0","0","0","0","0","0","0","0","0","0","0","0","0","0",{"$nulls":5},{"$f":"IF(ISNUMBER(SEARCH(\"1\",#REF!)),\"1\",\"0\")","v":"0"},{"$f":"IF(ISNUMBER(SEARCH(\"2\",#REF!)),\"1\",\"0\")","v":"0"},{"$f":"IF(ISNUMBER(SEARCH(\"3\",#REF!)),\"1\",\"0\")","v":"0"},{"$f":"IF(ISNUMBER(SEARCH(\"4\",#REF!)),\"1\",\"0\")","v":"0"},{"$f":"IF(ISNUMBER(SEARCH(\"5\",#REF!)),\"1\",\"0\")","v":"0"},{"$f":"IF(ISNUMBER(SEARCH(\"6\",#REF!)),\"1\",\"0\")","v":"0"},{"$f":"IF(ISNUMBER(SEARCH(\"7\",#REF!)),\"1\",\"0\")","v":"0"},{"$f":"IF(ISNUMBER(SEARCH(\"8\",#REF!)),\"1\",\"0\")","v":"0"},{"$f":"IF(ISNUMBER(SEARCH(\"9\",#REF!)),\"1\",\"0\")","v":"0"},{"$f":"IF(ISNUMBER(SEARCH(\"9\",#REF!)),\"1\",\"0\")","v":"0"},{"$f":"IF(ISNUMBER(SEARCH(\"10\",#REF!)),\"1\",\"0\")","v":"0"},{"$f":"IF(ISNUMBER(SEARCH(\"11\",#REF!)),\"1\",\"0\")","v":"0"},{"$f":"IF(ISNUMBER(SEARCH(\"12\",#REF!)),\"1\",\"0\")","v":"0"},{"$f":"IF(ISNUMBER(SEARCH(\"13\",#REF!)),\"1\",\"0\")","v":"0"},{"$f":"IF(ISNUMBER(SEARCH(\"14\",#REF!)),\"1\",\"0\")","v":"0"},{"$f":"IF(ISNUMBER(SEARCH(\"15\",#REF!)),\"1\",\"0\")","v":"0"},{"$f":"IF(ISNUMBER(SEARCH(\"16\",#REF!)),\"1\",\"0\")","v":"0"},{"$f":"IF(ISNUMBER(SEARCH(\"17\",#REF!)),\"1\",\"0\")","v":"0"},5,{"$nulls":3},36,34,36,106,4,{"$nulls":9},{"$f":"#REF!-#REF!","v":{"$error":"#REF!"}}]
[2,22,2,"EK",2,37,null,2,3,1,null,5,6,3,"0","0","1","0","0","0","0","0","0","0","0","0","0","0","0","0","0","0",null,null,3,5,2,{"$f":"IF(ISNUMBER(SEARCH(\"1\",#REF!)),\"1\",\"0\")","v":"0"},{"$f":"IF(ISNUMBER(SEARCH(\"2\",#REF!)),\"1\",\"0\")","v":"0"},{"$f":"IF(ISNUMBER(SEARCH(\"3\",#REF!)),\"1\",\"0\")","v":"0"},{"$f":"IF(ISNUMBER(SEARCH(\"4\",#REF!)),\"1\",\"0\")","v":"0"},{"$f":"IF(ISNUMBER(SEARCH(\"5\",#REF!)),\"1\",\"0\")","v":"0"},{"$f":"IF(ISNUMBER(SEARCH(\"6\",#REF!)),\"1\",\"0\")","v":"0"},{"$f":"IF(ISNUMBER(SEARCH(\"7\",#REF!)),\"1\",\"0\")","v":"0"},{"$f":"IF(ISNUMBER(SEARCH(\"8\",#REF!)),\"1\",\"0\")","v":"0"},{"$f":"IF(ISNUMBER(SEARCH(\"9\",#REF!)),\"1\",\"0\")","v":"0"},{"$f":"IF(ISNUMBER(SEARCH(\"9\",#REF!)),\"1\",\"0\")","v":"0"},{"$f":"IF(ISNUMBER(SEARCH(\"10\",#REF!)),\"1\",\"0\")","v":"0"},{"$f":"IF(ISNUMBER(SEARCH(\"11\",#REF!)),\"1\",\"0\")","v":"0"},{"$f":"IF(ISNUMBER(SEARCH(\"12\",#REF!)),\"1\",\"0\")","v":"0"},{"$f":"IF(ISNUMBER(SEARCH(\"13\",#REF!)),\"1\",\"0\")","v":"0"},{"$f":"IF(ISNUMBER(SEARCH(\"14\",#REF!)),\"1\",\"0\")","v":"0"},{"$f":"IF(ISNUMBER(SEARCH(\"15\",#REF!)),\"1\",\"0\")","v":"0"},{"$f":"IF(ISNUMBER(SEARCH(\"16\",#REF!)),\"1\",\"0\")","v":"0"},{"$f":"IF(ISNUMBER(SEARCH(\"17\",#REF!)),\"1\",\"0\")","v":"0"},1,1,null,null,28,16,12,56]
[2,22,2,"EK",2,15,null,2,2,1,0,5,1,3,"0","0","1","0","0","0","0","0","0","0","0","0","0","0","0","0","0","0",null,null,3,null,2,{"$f":"IF(ISNUMBER(SEARCH(\"1\",#REF!)),\"1\",\"0\")","v":"0"},{"$f":"IF(ISNUMBER(SEARCH(\"2\",#REF!)),\"1\",\"0\")","v":"0"},{"$f":"IF(ISNUMBER(SEARCH(\"3\",#REF!)),\"1\",\"0\")","v":"0"},{"$f":"IF(ISNUMBER(SEARCH(\"4\",#REF!)),\"1\",\"0\")","v":"0"},{"$f":"IF(ISNUMBER(SEARCH(\"5\",#REF!)),\"1\",\"0\")","v":"0"},{"$f":"IF(ISNUMBER(SEARCH(\"6\",#REF!)),\"1\",\"0\")","v":"0"},{"$f":"IF(ISNUMBER(SEARCH(\"7\",#REF!)),\"1\",\"0\")","v":"0"},{"$f":"IF(ISNUMBER(SEARCH(\"8\",#REF!)),\"1\",\"0\")","v":"0"},{"$f":"IF(ISNUMBER(SEARCH(\"9\",#REF!)),\"1\",\"0\")","v":"0"},{"$f":"IF(ISNUMBER(SEARCH(\"9\",#REF!)),\"1\",\"0\")","v":"0"},{"$f":"IF(ISNUMBER(SEARCH(\"10\",#REF!)),\"1\",\"0\")","v":"0"},{"$f":"IF(ISNUMBER(SEARCH(\"11\",#REF!)),\"1\",\"0\")","v":"0"},{"$f":"IF(ISNUMBER(SEARCH(\"12\",#REF!)),\"1\",\"0\")","v":"0"},{"$f":"IF(ISNUMBER(SEARCH(\"13\",#REF!)),\"1\",\"0\")","v":"0"},{"$f":"IF(ISNUMBER(SEARCH(\"14\",#REF!)),\"1\",\"0\")","v":"0"},{"$f":"IF(ISNUMBER(SEARCH(\"15\",#REF!)),\"1\",\"0\")","v":"0"},{"$f":"IF(ISNUMBER(SEARCH(\"16\",#REF!)),\"1\",\"0\")","v":"0"},{"$f":"IF(ISNUMBER(SEARCH(\"17\",#REF!)),\"1\",\"0\")","v":"0"},1,1,null,null,28,10,8,46]
[2,22,2,"EK",2,32,null,2,3,null,null,5,2,3,"0","0","1","0","0","0","0","0","0","0","0","0","0","0","0","0","0","0",null,null,2,5,2,{"$f":"IF(ISNUMBER(SEARCH(\"1\",#REF!)),\"1\",\"0\")","v":"0"},{"$f":"IF(ISNUMBER(SEARCH(\"2\",#REF!)),\"1\",\"0\")","v":"0"},{"$f":"IF(ISNUMBER(SEARCH(\"3\",#REF!)),\"1\",\"0\")","v":"0"},{"$f":"IF(ISNUMBER(SEARCH(\"4\",#REF!)),\"1\",\"0\")","v":"0"},{"$f":"IF(ISNUMBER(SEARCH(\"5\",#REF!)),\"1\",\"0\")","v":"0"},{"$f":"IF(ISNUMBER(SEARCH(\"6\",#REF!)),\"1\",\"0\")","v":"0"},{"$f":"IF(ISNUMBER(SEARCH(\"7\",#REF!)),\"1\",\"0\")","v":"0"},{"$f":"IF(ISNUMBER(SEARCH(\"8\",#REF!)),\"1\",\"0\")","v":"0"},{"$f":"IF(ISNUMBER(SEARCH(\"9\",#REF!)),\"1\",\"0\")","v":"0"},{"$f":"IF(ISNUMBER(SEARCH(\"9\",#REF!)),\"1\",\"0\")","v":"0"},{"$f":"IF(ISNUMBER(SEARCH(\"10\",#REF!)),\"1\",\"0\")","v":"0"},{"$f":"IF(ISNUMBER(SEARCH(\"11\",#REF!)),\"1\",\"0\")","v":"0"},{"$f":"IF(ISNUMBER(SEARCH(\"12\",#REF!)),\"1\",\"0\")","v":"0"},{"$f":"IF(ISNUMBER(SEARCH(\"13\",#REF!)),\"1\",\"0\")","v":"0"},{"$f":"IF(ISNUMBER(SEARCH(\"14\",#REF!)),\"1\",\"0\")","v":"0"},{"$f":"IF(ISNUMBER(SEARCH(\"15\",#REF!)),\"1\",\"0\")","v":"0"},{"$f":"IF(ISNUMBER(SEARCH(\"16\",#REF!)),\"1\",\"0\")","v":"0"},{"$f":"IF(ISNUMBER(SEARCH(\"17\",#REF!)),\"1\",\"0\")","v":"0"},1,1,null,null,26,12,10,48,12]
[2,22,2,"EK",2,45,null,2,3,1,null,5,2,3,"0","0","1","0","0","0","0","0","0","0","0","0","0","0","0","0","0","0",null,null,3,5,2,{"$f":"IF(ISNUMBER(SEARCH(\"1\",#REF!)),\"1\",\"0\")","v":"0"},{"$f":"IF(ISNUMBER(SEARCH(\"2\",#REF!)),\"1\",\"0\")","v":"0"},{"$f":"IF(ISNUMBER(SEARCH(\"3\",#REF!)),\"1\",\"0\")","v":"0"},{"$f":"IF(ISNUMBER(SEARCH(\"4\",#REF!)),\"1\",\"0\")","v":"0"},{"$f":"IF(ISNUMBER(SEARCH(\"5\",#REF!)),\"1\",\"0\")","v":"0"},{"$f":"IF(ISNUMBER(SEARCH(\"6\",#REF!)),\"1\",\"0\")","v":"0"},{"$f":"IF(ISNUMBER(SEARCH(\"7\",#REF!)),\"1\",\"0\")","v":"0"},{"$f":"IF(ISNUMBER(SEARCH(\"8\",#REF!)),\"1\",\"0\")","v":"0"},{"$f":"IF(ISNUMBER(SEARCH(\"9\",#REF!)),\"1\",\"0\")","v":"0"},{"$f":"IF(ISNUMBER(SEARCH(\"9\",#REF!)),\"1\",\"0\")","v":"0"},{"$f":"IF(ISNUMBER(SEARCH(\"10\",#REF!)),\"1\",\"0\")","v":"0"},{"$f":"IF(ISNUMBER(SEARCH(\"11\",#REF!)),\"1\",\"0\")","v":"0"},{"$f":"IF(ISNUMBER(SEARCH(\"12\",#REF!)),\"1\",\"0\")","v":"0"},{"$f":"IF(ISNUMBER(SEARCH(\"13\",#REF!)),\"1\",\"0\")","v":"0"},{"$f":"IF(ISNUMBER(SEARCH(\"14\",#REF!)),\"1\",\"0\")","v":"0"},{"$f":"IF(ISNUMBER(SEARCH(\"15\",#REF!)),\"1\",\"0\")","v":"0"},{"$f":"IF(ISNUMBER(SEARCH(\"16\",#REF!)),\"1\",\"0\")","v":"0"},{"$f":"IF(ISNUMBER(SEARCH(\"17\",#REF!)),\"1\",\"0\")","v":"0"},1,1,null,null,28,12,12,52]
[2,22,2,"AE",1,28,null,null,5,null,3,1,null,"1, 13. Recrutement Forcé (par Groupe Armé), 14","1","0","1","1","0","0","0","0","0","0","0","0","1","1","0","0","0","0",null,null,4,5,2,{"$f":"IF(ISNUMBER(SEARCH(\"1\",#REF!)),\"1\",\"0\")","v":"0"},{"$f":"IF(ISNUMBER(SEARCH(\"2\",#REF!)),\"1\",\"0\")","v":"0"},{"$f":"IF(ISNUMBER(SEARCH(\"3\",#REF!)),\"1\",\"0\")","v":"0"},{"$f":"IF(ISNUMBER(SEARCH(\"4\",#REF!)),\"1\",\"0\")","v":"0"},{"$f":"IF(ISNUMBER(SEARCH(\"5\",#REF!)),\"1\",\"0\")","v":"0"},{"$f":"IF(ISNUMBER(SEARCH(\"6\",#REF!)),\"1\",\"0\")","v":"0"},{"$f":"IF(ISNUMBER(SEARCH(\"7\",#REF!)),\"1\",\"0\")","v":"0"},{"$f":"IF(ISNUMBER(SEARCH(\"8\",#REF!)),\"1\",\"0\")","v":"0"},{"$f":"IF(ISNUMBER(SEARCH(\"9\",#REF!)),\"1\",\"0\")","v":"0"},{"$f":"IF(ISNUMBER(SEARCH(\"9\",#REF!)),\"1\",\"0\")","v":"0"},{"$f":"IF(ISNUMBER(SEARCH(\"10\",#REF!)),\"1\",\"0\")","v":"0"},{"$f":"IF(ISNUMBER(SEARCH(\"11\",#REF!)),\"1\",\"0\")","v":"0"},{"$f":"IF(ISNUMBER(SEARCH(\"12\",#REF!)),\"1\",\"0\")","v":"0"},{"$f":"IF(ISNUMBER(SEARCH(\"13\",#REF!)),\"1\",\"0\")","v":"0"},{"$f":"IF(ISNUMBER(SEARCH(\"14\",#REF!)),\"1\",\"0\")","v":"0"},{"$f":"IF(ISNUMBER(SEARCH(\"15\",#REF!)),\"1\",\"0\")","v":"0"},{"$f":"IF(ISNUMBER(SEARCH(\"16\",#REF!)),\"1\",\"0\")","v":"0"},{"$f":"IF(ISNUMBER(SEARCH(\"17\",#REF!)),\"1\",\"0\")","v":"0"},{"$nulls":4},24,18,14,56]
[2,22,2,"AE",2,35,null,null,3,null,null,1,null,"1, 2","1","1","0","0","0","0","0","0","0","0","0","0","0","0","0","0","0","0",null,null,4,5,2,{"$f":"IF(ISNUMBER(SEARCH(\"1\",#REF!)),\"1\",\"0\")","v":"0"},{"$f":"IF(ISNUMBER(SEARCH(\"2\",#REF!)),\"1\",\"0\")","v":"0"},{"$f":"IF(ISNUMBER(SEARCH(\"3\",#REF!)),\"1\",\"0\")","v":"0"},{"$f":"IF(ISNUMBER(SEARCH(\"4\",#REF!)),\"1\",\"0\")","v":"0"},{"$f":"IF(ISNUMBER(SEARCH(\"5\",#REF!)),\"1\",\"0\")","v":"0"},{"$f":"IF(ISNUMBER(SEARCH(\"6\",#REF!)),\"1\",\"0\")","v":"0"},{"$f":"IF(ISNUMBER(SEARCH(\"7\",#REF!)),\"1\",\"0\")","v":"0"},{"$f":"IF(ISNUMBER(SEARCH(\"8\",#REF!)),\"1\",\"0\")","v":"0"},{"$f":"IF(ISNUMBER(SEARCH(\"9\",#REF!)),\"1\",\"0\")","v":"0"},{"$f":"IF(ISNUMBER(SEARCH(\"9\",#REF!)),\"1\",\"0\")","v":"0"},{"$f":"IF(ISNUMBER(SEARCH(\"10\",#REF!)),\"1\",\"0\")","v":"0"},{"$f":"IF(ISNUMBER(SEARCH(\"11\",#REF!)),\"1\",\"0\")","v":"0"},{"$f":"IF(ISNUMBER(SEARCH(\"12\",#REF!)),\"1\",\"0\")","v":"0"},{"$f":"IF(ISNUMBER(SEARCH(\"13\",#REF!)),\"1\",\"0\")","v":"0"},{"$f":"IF(ISNUMBER(SEARCH(\"14\",#REF!)),\"1\",\"0\")","v":"0"},{"$f":"IF(ISNUMBER(SEARCH(\"15\",#REF!)),\"1\",\"0\")","v":"0"},{"$f":"IF(ISNUMBER(SEARCH(\"16\",#REF!)),\"1\",\"0\")","v":"0"},{"$f":"IF(ISNUMBER(SEARCH(\"17\",#REF!)),\"1\",\"0\")","v":"0"},{"$nulls":4},16,16,12,44]
[2,22,2,"AE",2,14,null,2,2,3,0,1,2,null,"0","0","0","0","0","0","0","0","0","0","0","0","0","0","0","0","0","0",null,null,4,null,null,{"$f":"IF(ISNUMBER(SEARCH(\"1\",#REF!)),\"1\",\"0\")","v":"0"},{"$f":"IF(ISNUMBER(SEARCH(\"2\",#REF!)),\"1\",\"0\")","v":"0"},{"$f":"IF(ISNUMBER(SEARCH(\"3\",#REF!)),\"1\",\"0\")","v":"0"},{"$f":"IF(ISNUMBER(SEARCH(\"4\",#REF!)),\"1\",\"0\")","v":"0"},{"$f":"IF(ISNUMBER(SEARCH(\"5\",#REF!)),\"1\",\"0\")","v":"0"},{"$f":"IF(ISNUMBER(SEARCH(\"6\",#REF!)),\"1\",\"0\")","v":"0"},{"$f":"IF(ISNUMBER(SEARCH(\"7\",#REF!)),\"1\",\"0\")","v":"0"},{"$f":"IF(ISNUMBER(SEARCH(\"8\",#REF!)),\"1\",\"0\")","v":"0"},{"$f":"IF(ISNUMBER(SEARCH(\"9\",#REF!)),\"1\",\"0\")","v":"0"},{"$f":"IF(ISNUMBER(SEARCH(\"9\",#REF!)),\"1\",\"0\")","v":"0"},{"$f":"IF(ISNUMBER(SEARCH(\"10\",#REF!)),\"1\",\"0\")","v":"0"},{"$f":"IF(ISNUMBER(SEARCH(\"11\",#REF!)),\"1\",\"0\")","v":"0"},{"$f":"IF(ISNUMBER(SEARCH(\"12\",#REF!)),\"1\",\"0\")","v":"0"},{"$f":"IF(ISNUMBER(SEARCH(\"13\",#REF!)),\"1\",\"0\")","v":"0"},{"$f":"IF(ISNUMBER(SEARCH(\"14\",#REF!)),\"1\",\"0\")","v":"0"},{"$f":"IF(ISNUMBER(SEARCH(\"15\",#REF!)),\"1\",\"0\")","v":"0"},{"$f":"IF(ISNUMBER(SEARCH(\"16\",#REF!)),\"1\",\"0\")","v":"0"},{"$f":"IF(ISNUMBER(SEARCH(\"17\",#REF!)),\"1\",\"0\")","v":"0"},{"$nulls":4},26,8,14,48,6]
[2,22,2,"KS",2,42,null,3,8,1,5,5,2,"3, 16. Autre (SVP dans la case suivante) ","1","0","1","0","0","1","0","0","0","0","0","0","0","0","0","1","0","0",null,null,3,5,2,{"$f":"IF(ISNUMBER(SEARCH(\"1\",#REF!)),\"1\",\"0\")","v":"0"},{"$f":"IF(ISNUMBER(SEARCH(\"2\",#REF!)),\"1\",\"0\")","v":"0"},{"$f":"IF(ISNUMBER(SEARCH(\"3\",#REF!)),\"1\",\"0\")","v":"0"},{"$f":"IF(ISNUMBER(SEARCH(\"4\",#REF!)),\"1\",\"0\")","v":"0"},{"$f":"IF(ISNUMBER(SEARCH(\"5\",#REF!)),\"1\",\"0\")","v":"0"},{"$f":"IF(ISNUMBER(SEARCH(\"6\",#REF!)),\"1\",\"0\")","v":"0"},{"$f":"IF(ISNUMBER(SEARCH(\"7\",#REF!)),\"1\",\"0\")","v":"0"},{"$f":"IF(ISNUMBER(SEARCH(\"8\",#REF!)),\"1\",\"0\")","v":"0"},{"$f":"IF(ISNUMBER(SEARCH(\"9\",#REF!)),\"1\",\"0\")","v":"0"},{"$f":"IF(ISNUMBER(SEARCH(\"9\",#REF!)),\"1\",\"0\")","v":"0"},{"$f":"IF(ISNUMBER(SEARCH(\"10\",#REF!)),\"1\",\"0\")","v":"0"},{"$f":"IF(ISNUMBER(SEARCH(\"11\",#REF!)),\"1\",\"0\")","v":"0"},{"$f":"IF(ISNUMBER(SEARCH(\"12\",#REF!)),\"1\",\"0\")","v":"0"},{"$f":"IF(ISNUMBER(SEARCH(\"13\",#REF!)),\"1\",\"0\")","v":"0"},{"$f":"IF(ISNUMBER(SEARCH(\"14\",#REF!)),\"1\",\"0\")","v":"0"},{"$f":"IF(ISNUMBER(SEARCH(\"15\",#REF!)),\"1\",\"0\")","v":"0"},{"$f":"IF(ISNUMBER(SEARCH(\"16\",#REF!)),\"1\",\"0\")","v":"0"},{"$f":"IF(ISNUMBER(SEARCH(\"17\",#REF!)),\"1\",\"0\")","v":"0"},1,3,null,null,30,24,22,76,8,{"$nulls":6},10,3]
[2,22,2,"KS",2,30,null,2,8,1,7,5,2,"3, 16. Autre (SVP dans la case suivante) ","1","0","1","0","0","1","0","0","0","0","0","0","0","0","0","1","0","0",null,null,3,5,2,{"$f":"IF(ISNUMBER(SEARCH(\"1\",#REF!)),\"1\",\"0\")","v":"0"},{"$f":"IF(ISNUMBER(SEARCH(\"2\",#REF!)),\"1\",\"0\")","v":"0"},{"$f":"IF(ISNUMBER(SEARCH(\"3\",#REF!)),\"1\",\"0\")","v":"0"},{"$f":"IF(ISNUMBER(SEARCH(\"4\",#REF!)),\"1\",\"0\")","v":"0"},{"$f":"IF(ISNUMBER(SEARCH(\"5\",#REF!)),\"1\",\"0\")","v":"0"},{"$f":"IF(ISNUMBER(SEARCH(\"6\",#REF!)),\"1\",\"0\")","v":"0"},{"$f":"IF(ISNUMBER(SEARCH(\"7\",#REF!)),\"1\",\"0\")","v":"0"},{"$f":"IF(ISNUMBER(SEARCH(\"8\",#REF!)),\"1\",\"0\")","v":"0"},{"$f":"IF(ISNUMBER(SEARCH(\"9\",#REF!)),\"1\",\"0\")","v":"0"},{"$f":"IF(ISNUMBER(SEARCH(\"9\",#REF!)),\"1\",\"0\")","v":"0"},{"$f":"IF(ISNUMBER(SEARCH(\"10\",#REF!)),\"1\",\"0\")","v":"0"},{"$f":"IF(ISNUMBER(SEARCH(\"11\",#REF!)),\"1\",\"0\")","v":"0"},{"$f":"IF(ISNUMBER(SEARCH(\"12\",#REF!)),\"1\",\"0\")","v":"0"},{"$f":"IF(ISNUMBER(SEARCH(\"13\",#REF!)),\"1\",\"0\")","v":"0"},{"$f":"IF(ISNUMBER(SEARCH(\"14\",#REF!)),\"1\",\"0\")","v":"0"},{"$f":"IF(ISNUMBER(SEARCH(\"15\",#REF!)),\"1\",\"0\")","v":"0"},{"$f":"IF(ISNUMBER(SEARCH(\"16\",#REF!)),\"1\",\"0\")","v":"0"},{"$f":"IF(ISNUMBER(SEARCH(\"17\",#REF!)),\"1\",\"0\")","v":"0"},1,3,null,null,28,16,20,64,9,{"$nulls":6},11,3]
[2,22,2,"KS",2,46,null,2,3,1,6,5,2,3,"0","0","1","0","0","0","0","0","0","0","0","0","0","0","0","0","0","0",null,null,3,5,1,{"$f":"IF(ISNUMBER(SEARCH(\"1\",#REF!)),\"1\",\"0\")","v":"0"},{"$f":"IF(ISNUMBER(SEARCH(\"2\",#REF!)),\"1\",\"0\")","v":"0"},{"$f":"IF(ISNUMBER(SEARCH(\"3\",#REF!)),\"1\",\"0\")","v":"0"},{"$f":"IF(ISNUMBER(SEARCH(\"4\",#REF!)),\"1\",\"0\")","v":"0"},{"$f":"IF(ISNUMBER(SEARCH(\"5\",#REF!)),\"1\",\"0\")","v":"0"},{"$f":"IF(ISNUMBER(SEARCH(\"6\",#REF!)),\"1\",\"0\")","v":"0"},{"$f":"IF(ISNUMBER(SEARCH(\"7\",#REF!)),\"1\",\"0\")","v":"0"},{"$f":"IF(ISNUMBER(SEARCH(\"8\",#REF!)),\"1\",\"0\")","v":"0"},{"$f":"IF(ISNUMBER(SEARCH(\"9\",#REF!)),\"1\",\"0\")","v":"0"},{"$f":"IF(ISNUMBER(SEARCH(\"9\",#REF!)),\"1\",\"0\")","v":"0"},{"$f":"IF(ISNUMBER(SEARCH(\"10\",#REF!)),\"1\",\"0\")","v":"0"},{"$f":"IF(ISNUMBER(SEARCH(\"11\",#REF!)),\"1\",\"0\")","v":"0"},{"$f":"IF(ISNUMBER(SEARCH(\"12\",#REF!)),\"1\",\"0\")","v":"0"},{"$f":"IF(ISNUMBER(SEARCH(\"13\",#REF!)),\"1\",\"0\")","v":"0"},{"$f":"IF(ISNUMBER(SEARCH(\"14\",#REF!)),\"1\",\"0\")","v":"0"},{"$f":"IF(ISNUMBER(SEARCH(\"15\",#REF!)),\"1\",\"0\")","v":"0"},{"$f":"IF(ISNUMBER(SEARCH(\"16\",#REF!)),\"1\",\"0\")","v":"0"},{"$f":"IF(ISNUMBER(SEARCH(\"17\",#REF!)),\"1\",\"0\")","v":"0"},1,3,null,null,12,24,18,54]
[2,22,5,"IK",2,25,null,2,3,1,null,1,2,3,"0","0","1","0","0","0","0","0","0","0","0","0","0","0","0","0","0","0",null,null,3,5,2,{"$f":"IF(ISNUMBER(SEARCH(\"1\",#REF!)),\"1\",\"0\")","v":"0"},{"$f":"IF(ISNUMBER(SEARCH(\"2\",#REF!)),\"1\",\"0\")","v":"0"},{"$f":"IF(ISNUMBER(SEARCH(\"3\",#REF!)),\"1\",\"0\")","v":"0"},{"$f":"IF(ISNUMBER(SEARCH(\"4\",#REF!)),\"1\",\"0\")","v":"0"},{"$f":"IF(ISNUMBER(SEARCH(\"5\",#REF!)),\"1\",\"0\")","v":"0"},{"$f":"IF(ISNUMBER(SEARCH(\"6\",#REF!)),\"1\",\"0\")","v":"0"},{"$f":"IF(ISNUMBER(SEARCH(\"7\",#REF!)),\"1\",\"0\")","v":"0"},{"$f":"IF(ISNUMBER(SEARCH(\"8\",#REF!)),\"1\",\"0\")","v":"0"},{"$f":"IF(ISNUMBER(SEARCH(\"9\",#REF!)),\"1\",\"0\")","v":"0"},{"$f":"IF(ISNUMBER(SEARCH(\"9\",#REF!)),\"1\",\"0\")","v":"0"},{"$f":"IF(ISNUMBER(SEARCH(\"10\",#REF!)),\"1\",\"0\")","v":"0"},{"$f":"IF(ISNUMBER(SEARCH(\"11\",#REF!)),\"1\",\"0\")","v":"0"},{"$f":"IF(ISNUMBER(SEARCH(\"12\",#REF!)),\"1\",\"0\")","v":"0"},{"$f":"IF(ISNUMBER(SEARCH(\"13\",#REF!)),\"1\",\"0\")","v":"0"},{"$f":"IF(ISNUMBER(SEARCH(\"14\",#REF!)),\"1\",\"0\")","v":"0"},{"$f":"IF(ISNUMBER(SEARCH(\"15\",#REF!)),\"1\",\"0\")","v":"0"},{"$f":"IF(ISNUMBER(SEARCH(\"16\",#REF!)),\"1\",\"0\")","v":"0"},{"$f":"IF(ISNUMBER(SEARCH(\"17\",#REF!)),\"1\",\"0\")","v":"0"},1,1,null,null,14,30,22,66,1]
[2,22,5,"RM",2,16,null,3,2,1,0,5,1,3,"0","0","1","0","0","0","0","0","0","0","0","0","0","0","0","0","0","0",null,null,2,5,2,{"$f":"IF(ISNUMBER(SEARCH(\"1\",#REF!)),\"1\",\"0\")","v":"0"},{"$f":"IF(ISNUMBER(SEARCH(\"2\",#REF!)),\"1\",\"0\")","v":"0"},{"$f":"IF(ISNUMBER(SEARCH(\"3\",#REF!)),\"1\",\"0\")","v":"0"},{"$f":"IF(ISNUMBER(SEARCH(\"4\",#REF!)),\"1\",\"0\")","v":"0"},{"$f":"IF(ISNUMBER(SEARCH(\"5\",#REF!)),\"1\",\"0\")","v":"0"},{"$f":"IF(ISNUMBER(SEARCH(\"6\",#REF!)),\"1\",\"0\")","v":"0"},{"$f":"IF(ISNUMBER(SEARCH(\"7\",#REF!)),\"1\",\"0\")","v":"0"},{"$f":"IF(ISNUMBER(SEARCH(\"8\",#REF!)),\"1\",\"0\")","v":"0"},{"$f":"IF(ISNUMBER(SEARCH(\"9\",#REF!)),\"1\",\"0\")","v":"0"},{"$f":"IF(ISNUMBER(SEARCH(\"9\",#REF!)),\"1\",\"0\")","v":"0"},{"$f":"IF(ISNUMBER(SEARCH(\"10\",#REF!)),\"1\",\"0\")","v":"0"},{"$f":"IF(ISNUMBER(SEARCH(\"11\",#REF!)),\"1\",\"0\")","v":"0"},{"$f":"IF(ISNUMBER(SEARCH(\"12\",#REF!)),\"1\",\"0\")","v":"0"},{"$f":"IF(ISNUMBER(SEARCH(\"13\",#REF!)),\"1\",\"0\")","v":"0"},{"$f":"IF(ISNUMBER(SEARCH(\"14\",#REF!)),\"1\",\"0\")","v":"0"},{"$f":"IF(ISNUMBER(SEARCH(\"15\",#REF!)),\"1\",\"0\")","v":"0"},{"$f":"IF(ISNUMBER(SEARCH(\"16\",#REF!)),\"1\",\"0\")","v":"0"},{"$f":"IF(ISNUMBER(SEARCH(\"17\",#REF!)),\"1\",\"0\")","v":"0"},1,{"$nulls":3},24,16,24,64,8,{"$nulls":6},4,3]
[2,22,5,"RM",2,22,null,2,3,1,0,5,2,3,"0","0","1","0","0","0","0","0","0","0","0","0","0","0","0","0","0","0",null,null,2,5,1,{"$f":"IF(ISNUMBER(SEARCH(\"1\",#REF!)),\"1\",\"0\")","v":"0"},{"$f":"IF(ISNUMBER(SEARCH(\"2\",#REF!)),\"1\",\"0\")","v":"0"},{"$f":"IF(ISNUMBER(SEARCH(\"3\",#REF!)),\"1\",\"0\")","v":"0"},{"$f":"IF(ISNUMBER(SEARCH(\"4\",#REF!)),\"1\",\"0\")","v":"0"},{"$f":"IF(ISNUMBER(SEARCH(\"5\",#REF!)),\"1\",\"0\")","v":"0"},{"$f":"IF(ISNUMBER(SEARCH(\"6\",#REF!)),\"1\",\"0\")","v":"0"},{"$f":"IF(ISNUMBER(SEARCH(\"7\",#REF!)),\"1\",\"0\")","v":"0"},{"$f":"IF(ISNUMBER(SEARCH(\"8\",#REF!)),\"1\",\"0\")","v":"0"},{"$f":"IF(ISNUMBER(SEARCH(\"9\",#REF!)),\"1\",\"0\")","v":"0"},{"$f":"IF(ISNUMBER(SEARCH(\"9\",#REF!)),\"1\",\"0\")","v":"0"},{"$f":"IF(ISNUMBER(SEARCH(\"10\",#REF!)),\"1\",\"0\")","v":"0"},{"$f":"IF(ISNUMBER(SEARCH(\"11\",#REF!)),\"1\",\"0\")","v":"0"},{"$f":"IF(ISNUMBER(SEARCH(\"12\",#REF!)),\"1\",\"0\")","v":"0"},{"$f":"IF(ISNUMBER(SEARCH(\"13\",#REF!)),\"1\",\"0\")","v":"0"},{"$f":"IF(ISNUMBER(SEARCH(\"14\",#REF!)),\"1\",\"0\")","v":"0"},{"$f":"IF(ISNUMBER(SEARCH(\"15\",#REF!)),\"1\",\"0\")","v":"0"},{"$f":"IF(ISNUMBER(SEARCH(\"16\",#REF!)),\"1\",\"0\")","v":"0"},{"$f":"IF(ISNUMBER(SEARCH(\"17\",#REF!)),\"1\",\"0\")","v":"0"},1,{"$nulls":3},20,22,16,58,8]
[2,22,5,"RS",2,37,null,2,3,3,6,5,6,3,"0","0","1","0","0","0","0","0","0","0","0","0","0","0","0","0","0","0",null,null,2,5,2,{"$f":"IF(ISNUMBER(SEARCH(\"1\",#REF!)),\"1\",\"0\")","v":"0"},{"$f":"IF(ISNUMBER(SEARCH(\"2\",#REF!)),\"1\",\"0\")","v":"0"},{"$f":"IF(ISNUMBER(SEARCH(\"3\",#REF!)),\"1\",\"0\")","v":"0"},{"$f":"IF(ISNUMBER(SEARCH(\"4\",#REF!)),\"1\",\"0\")","v":"0"},{"$f":"IF(ISNUMBER(SEARCH(\"5\",#REF!)),\"1\",\"0\")","v":"0"},{"$f":"IF(ISNUMBER(SEARCH(\"6\",#REF!)),\"1\",\"0\")","v":"0"},{"$f":"IF(ISNUMBER(SEARCH(\"7\",#REF!)),\"1\",\"0\")","v":"0"},{"$f":"IF(ISNUMBER(SEARCH(\"8\",#REF!)),\"1\",\"0\")","v":"0"},{"$f":"IF(ISNUMBER(SEARCH(\"9\",#REF!)),\"1\",\"0\")","v":"0"},{"$f":"IF(ISNUMBER(SEARCH(\"9\",#REF!)),\"1\",\"0\")","v":"0"},{"$f":"IF(ISNUMBER(SEARCH(\"10\",#REF!)),\"1\",\"0\")","v":"0"},{"$f":"IF(ISNUMBER(SEARCH(\"11\",#REF!)),\"1\",\"0\")","v":"0"},{"$f":"IF(ISNUMBER(SEARCH(\"12\",#REF!)),\"1\",\"0\")","v":"0"},{"$f":"IF(ISNUMBER(SEARCH(\"13\",#REF!)),\"1\",\"0\")","v":"0"},{"$f":"IF(ISNUMBER(SEARCH(\"14\",#REF!)),\"1\",\"0\")","v":"0"},{"$f":"IF(ISNUMBER(SEARCH(\"15\",#REF!)),\"1\",\"0\")","v":"0"},{"$f":"IF(ISNUMBER(SEARCH(\"16\",#REF!)),\"1\",\"0\")","v":"0"},{"$f":"IF(ISNUMBER(SEARCH(\"17\",#REF!)),\"1\",\"0\")","v":"0"},1,1,null,null,36,16,18,70,4,{"$nulls":9},{"$f":"#REF!-#REF!","v":{"$error":"#REF!"}}]
[2,22,5,"RS",1,33,null,2,3,1,5,5,2,3,"0","0","1","0","0","0","0","0","0","0","0","0","0","0","0","0","0","0",null,null,2,5,2,{"$f":"IF(ISNUMBER(SEARCH(\"1\",#REF!)),\"1\",\"0\")","v":"0"},{"$f":"IF(ISNUMBER(SEARCH(\"2\",#REF!)),\"1\",\"0\")","v":"0"},{"$f":"IF(ISNUMBER(SEARCH(\"3\",#REF!)),\"1\",\"0\")","v":"0"},{"$f":"IF(ISNUMBER(SEARCH(\"4\",#REF!)),\"1\",\"0\")","v":"0"},{"$f":"IF(ISNUMBER(SEARCH(\"5\",#REF!)),\"1\",\"0\")","v":"0"},{"$f":"IF(ISNUMBER(SEARCH(\"6\",#REF!)),\"1\",\"0\")","v":"0"},{"$f":"IF(ISNUMBER(SEARCH(\"7\",#REF!)),\"1\",\"0\")","v":"0"},{"$f":"IF(ISNUMBER(SEARCH(\"8\",#REF!)),\"1\",\"0\")","v":"0"},{"$f":"IF(ISNUMBER(SEARCH(\"9\",#REF!)),\"1\",\"0\")","v":"0"},{"$f":"IF(ISNUMBER(SEARCH(\"9\",#REF!)),\"1\",\"0\")","v":"0"},{"$f":"IF(ISNUMBER(SEARCH(\"10\",#REF!)),\"1\",\"0\")","v":"0"},{"$f":"IF(ISNUMBER(SEARCH(\"11\",#REF!)),\"1\",\"0\")","v":"0"},{"$f":"IF(ISNUMBER(SEARCH(\"12\",#REF!)),\"1\",\"0\")","v":"0"},{"$f":"IF(ISNUMBER(SEARCH(\"13\",#REF!)),\"1\",\"0\")","v":"0"},{"$f":"IF(ISNUMBER(SEARCH(\"14\",#REF!)),\"1\",\"0\")","v":"0"},{"$f":"IF(ISNUMBER(SEARCH(\"15\",#REF!)),\"1\",\"0\")","v":"0"},{"$f":"IF(ISNUMBER(SEARCH(\"16\",#REF!)),\"1\",\"0\")","v":"0"},{"$f":"IF(ISNUMBER(SEARCH(\"17\",#REF!)),\"1\",\"0\")","v":"0"},1,1,null,null,22,28,18,68,1,null,10,4,0,14,{"$nulls":4},{"$f":"#REF!-#REF!","v":{"$error":"#REF!"}},{"$f":"#REF!-#REF!","v":{"$error":"#REF!"}}]
[2,22,5,"RS",2,null,null,3,3,1,null,5,2,3,"0","0","1","0","0","0","0","0","0","0","0","0","0","0","0","0","0","0",null,null,3,5,2,{"$f":"IF(ISNUMBER(SEARCH(\"1\",#REF!)),\"1\",\"0\")","v":"0"},{"$f":"IF(ISNUMBER(SEARCH(\"2\",#REF!)),\"1\",\"0\")","v":"0"},{"$f":"IF(ISNUMBER(SEARCH(\"3\",#REF!)),\"1\",\"0\")","v":"0"},{"$f":"IF(ISNUMBER(SEARCH(\"4\",#REF!)),\"1\",\"0\")","v":"0"},{"$f":"IF(ISNUMBER(SEARCH(\"5\",#REF!)),\"1\",\"0\")","v":"0"},{"$f":"IF(ISNUMBER(SEARCH(\"6\",#REF!)),\"1\",\"0\")","v":"0"},{"$f":"IF(ISNUMBER(SEARCH(\"7\",#REF!)),\"1\",\"0\")","v":"0"},{"$f":"IF(ISNUMBER(SEARCH(\"8\",#REF!)),\"1\",\"0\")","v":"0"},{"$f":"IF(ISNUMBER(SEARCH(\"9\",#REF!)),\"1\",\"0\")","v":"0"},{"$f":"IF(ISNUMBER(SEARCH(\"9\",#REF!)),\"1\",\"0\")","v":"0"},{"$f":"IF(ISNUMBER(SEARCH(\"10\",#REF!)),\"1\",\"0\")","v":"0"},{"$f":"IF(ISNUMBER(SEARCH(\"11\",#REF!)),\"1\",\"0\")","v":"0"},{"$f":"IF(ISNUMBER(SEARCH(\"12\",#REF!)),\"1\",\"0\")","v":"0"},{"$f":"IF(ISNUMBER(SEARCH(\"13\",#REF!)),\"1\",\"0\")","v":"0"},{"$f":"IF(ISNUMBER(SEARCH(\"14\",#REF!)),\"1\",\"0\")","v":"0"},{"$f":"IF(ISNUMBER(SEARCH(\"15\",#REF!)),\"1\",\"0\")","v":"0"},{"$f":"IF(ISNUMBER(SEARCH(\"16\",#REF!)),\"1\",\"0\")","v":"0"},{"$f":"IF(ISNUMBER(SEARCH(\"17\",#REF!)),\"1\",\"0\")","v":"0"},1,1,null,null,20,28,14,62,8,{"$nulls":9},{"$f":"#REF!-#REF!","v":{"$error":"#REF!"}}]
[2,22,5,"RM",2,null,null,1,3,1,4,8,2,"16. Autre (SVP dans la case suivante) ","1","0","0","0","0","1","0","0","0","0","0","0","0","0","0","1","0","0",null,null,3,5,2,{"$f":"IF(ISNUMBER(SEARCH(\"1\",#REF!)),\"1\",\"0\")","v":"0"},{"$f":"IF(ISNUMBER(SEARCH(\"2\",#REF!)),\"1\",\"0\")","v":"0"},{"$f":"IF(ISNUMBER(SEARCH(\"3\",#REF!)),\"1\",\"0\")","v":"0"},{"$f":"IF(ISNUMBER(SEARCH(\"4\",#REF!)),\"1\",\"0\")","v":"0"},{"$f":"IF(ISNUMBER(SEARCH(\"5\",#REF!)),\"1\",\"0\")","v":"0"},{"$f":"IF(ISNUMBER(SEARCH(\"6\",#REF!)),\"1\",\"0\")","v":"0"},{"$f":"IF(ISNUMBER(SEARCH(\"7\",#REF!)),\"1\",\"0\")","v":"0"},{"$f":"IF(ISNUMBER(SEARCH(\"8\",#REF!)),\"1\",\"0\")","v":"0"},{"$f":"IF(ISNUMBER(SEARCH(\"9\",#REF!)),\"1\",\"0\")","v":"0"},{"$f":"IF(ISNUMBER(SEARCH(\"9\",#REF!)),\"1\",\"0\")","v":"0"},{"$f":"IF(ISNUMBER(SEARCH(\"10\",#REF!)),\"1\",\"0\")","v":"0"},{"$f":"IF(ISNUMBER(SEARCH(\"11\",#REF!)),\"1\",\"0\")","v":"0"},{"$f":"IF(ISNUMBER(SEARCH(\"12\",#REF!)),\"1\",\"0\")","v":"0"},{"$f":"IF(ISNUMBER(SEARCH(\"13\",#REF!)),\"1\",\"0\")","v":"0"},{"$f":"IF(ISNUMBER(SEARCH(\"14\",#REF!)),\"1\",\"0\")","v":"0"},{"$f":"IF(ISNUMBER(SEARCH(\"15\",#REF!)),\"1\",\"0\")","v":"0"},{"$f":"IF(ISNUMBER(SEARCH(\"16\",#REF!)),\"1\",\"0\")","v":"0"},{"$f":"IF(ISNUMBER(SEARCH(\"17\",#REF!)),\"1\",\"0\")","v":"0"},{"$nulls":4},20,20,16,56,7,{"$nulls":9},{"$f":"#REF!-#REF!","v":{"$error":"#REF!"}}]
[2,22,5,"RM",2,23,null,2,3,1,null,5,2,3,"0","0","1","0","0","0","0","0","0","0","0","0","0","0","0","0","0","0",null,null,3,5,2,{"$f":"IF(ISNUMBER(SEARCH(\"1\",#REF!)),\"1\",\"0\")","v":"0"},{"$f":"IF(ISNUMBER(SEARCH(\"2\",#REF!)),\"1\",\"0\")","v":"0"},{"$f":"IF(ISNUMBER(SEARCH(\"3\",#REF!)),\"1\",\"0\")","v":"0"},{"$f":"IF(ISNUMBER(SEARCH(\"4\",#REF!)),\"1\",\"0\")","v":"0"},{"$f":"IF(ISNUMBER(SEARCH(\"5\",#REF!)),\"1\",\"0\")","v":"0"},{"$f":"IF(ISNUMBER(SEARCH(\"6\",#REF!)),\"1\",\"0\")","v":"0"},{"$f":"IF(ISNUMBER(SEARCH(\"7\",#REF!)),\"1\",\"0\")","v":"0"},{"$f":"IF(ISNUMBER(SEARCH(\"8\",#REF!)),\"1\",\"0\")","v":"0"},{"$f":"IF(ISNUMBER(SEARCH(\"9\",#REF!)),\"1\",\"0\")","v":"0"},{"$f":"IF(ISNUMBER(SEARCH(\"9\",#REF!)),\"1\",\"0\")","v":"0"},{"$f":"IF(ISNUMBER(SEARCH(\"10\",#REF!)),\"1\",\"0\")","v":"0"},{"$f":"IF(ISNUMBER(SEARCH(\"11\",#REF!)),\"1\",\"0\")","v":"0"},{"$f":"IF(ISNUMBER(SEARCH(\"12\",#REF!)),\"1\",\"0\")","v":"0"},{"$f":"IF(ISNUMBER(SEARCH(\"13\",#REF!)),\"1\",\"0\")","v":"0"},{"$f":"IF(ISNUMBER(SEARCH(\"14\",#REF!)),\"1\",\"0\")","v":"0"},{"$f":"IF(ISNUMBER(SEARCH(\"15\",#REF!)),\"1\",\"0\")","v":"0"},{"$f":"IF(ISNUMBER(SEARCH(\"16\",#REF!)),\"1\",\"0\")","v":"0"},{"$f":"IF(ISNUMBER(SEARCH(\"17\",#REF!)),\"1\",\"0\")","v":"0"},2,{"$nulls":3},22,28,22,72,9]
[2,22,5,"IK",2,23,null,1,3,1,0,5,1,"4. Tentative de Viol","0","0","0","1","0","0","0","0","0","0","0","0","0","0","0","0","0","0",null,null,1,3,1,{"$f":"IF(ISNUMBER(SEARCH(\"1\",#REF!)),\"1\",\"0\")","v":"0"},{"$f":"IF(ISNUMBER(SEARCH(\"2\",#REF!)),\"1\",\"0\")","v":"0"},{"$f":"IF(ISNUMBER(SEARCH(\"3\",#REF!)),\"1\",\"0\")","v":"0"},{"$f":"IF(ISNUMBER(SEARCH(\"4\",#REF!)),\"1\",\"0\")","v":"0"},{"$f":"IF(ISNUMBER(SEARCH(\"5\",#REF!)),\"1\",\"0\")","v":"0"},{"$f":"IF(ISNUMBER(SEARCH(\"6\",#REF!)),\"1\",\"0\")","v":"0"},{"$f":"IF(ISNUMBER(SEARCH(\"7\",#REF!)),\"1\",\"0\")","v":"0"},{"$f":"IF(ISNUMBER(SEARCH(\"8\",#REF!)),\"1\",\"0\")","v":"0"},{"$f":"IF(ISNUMBER(SEARCH(\"9\",#REF!)),\"1\",\"0\")","v":"0"},{"$f":"IF(ISNUMBER(SEARCH(\"9\",#REF!)),\"1\",\"0\")","v":"0"},{"$f":"IF(ISNUMBER(SEARCH(\"10\",#REF!)),\"1\",\"0\")","v":"0"},{"$f":"IF(ISNUMBER(SEARCH(\"11\",#REF!)),\"1\",\"0\")","v":"0"},{"$f":"IF(ISNUMBER(SEARCH(\"12\",#REF!)),\"1\",\"0\")","v":"0"},{"$f":"IF(ISNUMBER(SEARCH(\"13\",#REF!)),\"1\",\"0\")","v":"0"},{"$f":"IF(ISNUMBER(SEARCH(\"14\",#REF!)),\"1\",\"0\")","v":"0"},{"$f":"IF(ISNUMBER(SEARCH(\"15\",#REF!)),\"1\",\"0\")","v":"0"},{"$f":"IF(ISNUMBER(SEARCH(\"16\",#REF!)),\"1\",\"0\")","v":"0"},{"$f":"IF(ISNUMBER(SEARCH(\"17\",#REF!)),\"1\",\"0\")","v":"0"},{"$nulls":4},22,22,16,60,6]
[2,22,5,"IK",2,null,null,1,3,1,null,1,2,3,"0","0","1","0","0","0","0","0","0","0","0","0","0","0","0","0","0","0",null,null,1,5,2,{"$f":"IF(ISNUMBER(SEARCH(\"1\",#REF!)),\"1\",\"0\")","v":"0"},{"$f":"IF(ISNUMBER(SEARCH(\"2\",#REF!)),\"1\",\"0\")","v":"0"},{"$f":"IF(ISNUMBER(SEARCH(\"3\",#REF!)),\"1\",\"0\")","v":"0"},{"$f":"IF(ISNUMBER(SEARCH(\"4\",#REF!)),\"1\",\"0\")","v":"0"},{"$f":"IF(ISNUMBER(SEARCH(\"5\",#REF!)),\"1\",\"0\")","v":"0"},{"$f":"IF(ISNUMBER(SEARCH(\"6\",#REF!)),\"1\",\"0\")","v":"0"},{"$f":"IF(ISNUMBER(SEARCH(\"7\",#REF!)),\"1\",\"0\")","v":"0"},{"$f":"IF(ISNUMBER(SEARCH(\"8\",#REF!)),\"1\",\"0\")","v":"0"},{"$f":"IF(ISNUMBER(SEARCH(\"9\",#REF!)),\"1\",\"0\")","v":"0"},{"$f":"IF(ISNUMBER(SEARCH(\"9\",#REF!)),\"1\",\"0\")","v":"0"},{"$f":"IF(ISNUMBER(SEARCH(\"10\",#REF!)),\"1\",\"0\")","v":"0"},{"$f":"IF(ISNUMBER(SEARCH(\"11\",#REF!)),\"1\",\"0\")","v":"0"},{"$f":"IF(ISNUMBER(SEARCH(\"12\",#REF!)),\"1\",\"0\")","v":"0"},{"$f":"IF(ISNUMBER(SEARCH(\"13\",#REF!)),\"1\",\"0\")","v":"0"},{"$f":"IF(ISNUMBER(SEARCH(\"14\",#REF!)),\"1\",\"0\")","v":"0"},{"$f":"IF(ISNUMBER(SEARCH(\"15\",#REF!)),\"1\",\"0\")","v":"0"},{"$f":"IF(ISNUMBER(SEARCH(\"16\",#REF!)),\"1\",\"0\")","v":"0"},{"$f":"IF(ISNUMBER(SEARCH(\"17\",#REF!)),\"1\",\"0\")","v":"0"},1,1,null,null,32,26,10,68,1]
[2,22,13,"RS",2,20,null,2,3,1,1,3,2,"4. Tentative de Viol","0","0","0","1","0","0","0","0","0","0","0","0","0","0","0","0","0","0",null,null,1,5,1,{"$f":"IF(ISNUMBER(SEARCH(\"1\",#REF!)),\"1\",\"0\")","v":"0"},{"$f":"IF(ISNUMBER(SEARCH(\"2\",#REF!)),\"1\",\"0\")","v":"0"},{"$f":"IF(ISNUMBER(SEARCH(\"3\",#REF!)),\"1\",\"0\")","v":"0"},{"$f":"IF(ISNUMBER(SEARCH(\"4\",#REF!)),\"1\",\"0\")","v":"0"},{"$f":"IF(ISNUMBER(SEARCH(\"5\",#REF!)),\"1\",\"0\")","v":"0"},{"$f":"IF(ISNUMBER(SEARCH(\"6\",#REF!)),\"1\",\"0\")","v":"0"},{"$f":"IF(ISNUMBER(SEARCH(\"7\",#REF!)),\"1\",\"0\")","v":"0"},{"$f":"IF(ISNUMBER(SEARCH(\"8\",#REF!)),\"1\",\"0\")","v":"0"},{"$f":"IF(ISNUMBER(SEARCH(\"9\",#REF!)),\"1\",\"0\")","v":"0"},{"$f":"IF(ISNUMBER(SEARCH(\"9\",#REF!)),\"1\",\"0\")","v":"0"},{"$f":"IF(ISNUMBER(SEARCH(\"10\",#REF!)),\"1\",\"0\")","v":"0"},{"$f":"IF(ISNUMBER(SEARCH(\"11\",#REF!)),\"1\",\"0\")","v":"0"},{"$f":"IF(ISNUMBER(SEARCH(\"12\",#REF!)),\"1\",\"0\")","v":"0"},{"$f":"IF(ISNUMBER(SEARCH(\"13\",#REF!)),\"1\",\"0\")","v":"0"},{"$f":"IF(ISNUMBER(SEARCH(\"14\",#REF!)),\"1\",\"0\")","v":"0"},{"$f":"IF(ISNUMBER(SEARCH(\"15\",#REF!)),\"1\",\"0\")","v":"0"},{"$f":"IF(ISNUMBER(SEARCH(\"16\",#REF!)),\"1\",\"0\")","v":"0"},{"$f":"IF(ISNUMBER(SEARCH(\"17\",#REF!)),\"1\",\"0\")","v":"0"},{"$nulls":4},30,22,12,64,4,{"$nulls":6},8,5,null,{"$f":"#REF!-#REF!","v":{"$error":"#REF!"}}]
[2,22,13,"RS",2,20,null,3,3,1,0,1,1,3,{"$f":"IF(ISNUMBER(SEARCH(\"1\",$N259)),\"1\",\"0\")","v":"0"},{"$f":"IF(ISNUMBER(SEARCH(\"2\",$N259)),\"1\",\"0\")","v":"0"},{"$f":"IF(ISNUMBER(SEARCH(\"3\",$N259)),\"1\",\"0\")","v":"1"},{"$f":"IF(ISNUMBER(SEARCH(\"4\",$N259)),\"1\",\"0\")","v":"0"},{"$f":"IF(ISNUMBER(SEARCH(\"5\",$N259)),\"1\",\"0\")","v":"0"},{"$f":"IF(ISNUMBER(SEARCH(\"6\",$N259)),\"1\",\"0\")","v":"0"},{"$f":"IF(ISNUMBER(SEARCH(\"7\",$N259)),\"1\",\"0\")","v":"0"},{"$f":"IF(ISNUMBER(SEARCH(\"8\",$N259)),\"1\",\"0\")","v":"0"},{"$f":"IF(ISNUMBER(SEARCH(\"9\",$N259)),\"1\",\"0\")","v":"0"},{"$f":"IF(ISNUMBER(SEARCH(\"10\",$N259)),\"1\",\"0\")","v":"0"},{"$f":"IF(ISNUMBER(SEARCH(\"11\",$N259)),\"1\",\"0\")","v":"0"},{"$f":"IF(ISNUMBER(SEARCH(\"12\",$N259)),\"1\",\"0\")","v":"0"},{"$f":"IF(ISNUMBER(SEARCH(\"13\",$N259)),\"1\",\"0\")","v":"0"},{"$f":"IF(ISNUMBER(SEARCH(\"14\",$N259)),\"1\",\"0\")","v":"0"},{"$f":"IF(ISNUMBER(SEARCH(\"15\",$N259)),\"1\",\"0\")","v":"0"},{"$f":"IF(ISNUMBER(SEARCH(\"16\",$N259)),\"1\",\"0\")","v":"0"},{"$f":"IF(ISNUMBER(SEARCH(\"17\",$N259)),\"1\",\"0\")","v":"0"},{"$f":"IF(ISNUMBER(SEARCH(\"18\",$N259)),\"1\",\"0\")","v":"0"},null,null,2,5,2,{"$f":"IF(ISNUMBER(SEARCH(\"1\",#REF!)),\"1\",\"0\")","v":"0"},{"$f":"IF(ISNUMBER(SEARCH(\"2\",#REF!)),\"1\",\"0\")","v":"0"},{"$f":"IF(ISNUMBER(SEARCH(\"3\",#REF!)),\"1\",\"0\")","v":"0"},{"$f":"IF(ISNUMBER(SEARCH(\"4\",#REF!)),\"1\",\"0\")","v":"0"},{"$f":"IF(ISNUMBER(SEARCH(\"5\",#REF!)),\"1\",\"0\")","v":"0"},{"$f":"IF(ISNUMBER(SEARCH(\"6\",#REF!)),\"1\",\"0\")","v":"0"},{"$f":"IF(ISNUMBER(SEARCH(\"7\",#REF!)),\"1\",\"0\")","v":"0"},{"$f":"IF(ISNUMBER(SEARCH(\"8\",#REF!)),\"1\",\"0\")","v":"0"},{"$f":"IF(ISNUMBER(SEARCH(\"9\",#REF!)),\"1\",\"0\")","v":"0"},{"$f":"IF(ISNUMBER(SEARCH(\"9\",#REF!)),\"1\",\"0\")","v":"0"},{"$f":"IF(ISNUMBER(SEARCH(\"10\",#REF!)),\"1\",\"0\")","v":"0"},{"$f":"IF(ISNUMBER(SEARCH(\"11\",#REF!)),\"1\",\"0\")","v":"0"},{"$f":"IF(ISNUMBER(SEARCH(\"12\",#REF!)),\"1\",\"0\")","v":"0"},{"$f":"IF(ISNUMBER(SEARCH(\"13\",#REF!)),\"1\",\"0\")","v":"0"},{"$f":"IF(ISNUMBER(SEARCH(\"14\",#REF!)),\"1\",\"0\")","v":"0"},{"$f":"IF(ISNUMBER(SEARCH(\"15\",#REF!)),\"1\",\"0\")","v":"0"},{"$f":"IF(ISNUMBER(SEARCH(\"16\",#REF!)),\"1\",\"0\")","v":"0"},{"$f":"IF(ISNUMBER(SEARCH(\"17\",#REF!)),\"1\",\"0\")","v":"0"},1,{"$nulls":3},24,14,16,{"$f":"BH259+BI259+BJ259","v":54},4,{"$nulls":6},7,4]
[2,22,13,"MN",2,27,null,1,3,null,2,5,2,3,"0","0","1","0","0","0","0","0","0","0","0","0","0","0","0","0","0","0",null,null,3,5,2,{"$f":"IF(ISNUMBER(SEARCH(\"1\",#REF!)),\"1\",\"0\")","v":"0"},{"$f":"IF(ISNUMBER(SEARCH(\"2\",#REF!)),\"1\",\"0\")","v":"0"},{"$f":"IF(ISNUMBER(SEARCH(\"3\",#REF!)),\"1\",\"0\")","v":"0"},{"$f":"IF(ISNUMBER(SEARCH(\"4\",#REF!)),\"1\",\"0\")","v":"0"},{"$f":"IF(ISNUMBER(SEARCH(\"5\",#REF!)),\"1\",\"0\")","v":"0"},{"$f":"IF(ISNUMBER(SEARCH(\"6\",#REF!)),\"1\",\"0\")","v":"0"},{"$f":"IF(ISNUMBER(SEARCH(\"7\",#REF!)),\"1\",\"0\")","v":"0"},{"$f":"IF(ISNUMBER(SEARCH(\"8\",#REF!)),\"1\",\"0\")","v":"0"},{"$f":"IF(ISNUMBER(SEARCH(\"9\",#REF!)),\"1\",\"0\")","v":"0"},{"$f":"IF(ISNUMBER(SEARCH(\"9\",#REF!)),\"1\",\"0\")","v":"0"},{"$f":"IF(ISNUMBER(SEARCH(\"10\",#REF!)),\"1\",\"0\")","v":"0"},{"$f":"IF(ISNUMBER(SEARCH(\"11\",#REF!)),\"1\",\"0\")","v":"0"},{"$f":"IF(ISNUMBER(SEARCH(\"12\",#REF!)),\"1\",\"0\")","v":"0"},{"$f":"IF(ISNUMBER(SEARCH(\"13\",#REF!)),\"1\",\"0\")","v":"0"},{"$f":"IF(ISNUMBER(SEARCH(\"14\",#REF!)),\"1\",\"0\")","v":"0"},{"$f":"IF(ISNUMBER(SEARCH(\"15\",#REF!)),\"1\",\"0\")","v":"0"},{"$f":"IF(ISNUMBER(SEARCH(\"16\",#REF!)),\"1\",\"0\")","v":"0"},{"$f":"IF(ISNUMBER(SEARCH(\"17\",#REF!)),\"1\",\"0\")","v":"0"},3,{"$nulls":3},34,26,32,92,{"$nulls":7},6,4,null,{"$f":"#REF!-#REF!","v":{"$error":"#REF!"}}]
[2,22,13,"MN",2,29,null,2,3,1,null,1,null,"4. Tentative de Viol","0","0","0","1","0","0","0","0","0","0","0","0","0","0","0","0","0","0",null,null,1,null,1,{"$f":"IF(ISNUMBER(SEARCH(\"1\",#REF!)),\"1\",\"0\")","v":"0"},{"$f":"IF(ISNUMBER(SEARCH(\"2\",#REF!)),\"1\",\"0\")","v":"0"},{"$f":"IF(ISNUMBER(SEARCH(\"3\",#REF!)),\"1\",\"0\")","v":"0"},{"$f":"IF(ISNUMBER(SEARCH(\"4\",#REF!)),\"1\",\"0\")","v":"0"},{"$f":"IF(ISNUMBER(SEARCH(\"5\",#REF!)),\"1\",\"0\")","v":"0"},{"$f":"IF(ISNUMBER(SEARCH(\"6\",#REF!)),\"1\",\"0\")","v":"0"},{"$f":"IF(ISNUMBER(SEARCH(\"7\",#REF!)),\"1\",\"0\")","v":"0"},{"$f":"IF(ISNUMBER(SEARCH(\"8\",#REF!)),\"1\",\"0\")","v":"0"},{"$f":"IF(ISNUMBER(SEARCH(\"9\",#REF!)),\"1\",\"0\")","v":"0"},{"$f":"IF(ISNUMBER(SEARCH(\"9\",#REF!)),\"1\",\"0\")","v":"0"},{"$f":"IF(ISNUMBER(SEARCH(\"10\",#REF!)),\"1\",\"0\")","v":"0"},{"$f":"IF(ISNUMBER(SEARCH(\"11\",#REF!)),\"1\",\"0\")","v":"0"},{"$f":"IF(ISNUMBER(SEARCH(\"12\",#REF!)),\"1\",\"0\")","v":"0"},{"$f":"IF(ISNUMBER(SEARCH(\"13\",#REF!)),\"1\",\"0\")","v":"0"},{"$f":"IF(ISNUMBER(SEARCH(\"14\",#REF!)),\"1\",\"0\")","v":"0"},{"$f":"IF(ISNUMBER(SEARCH(\"15\",#REF!)),\"1\",\"0\")","v":"0"},{"$f":"IF(ISNUMBER(SEARCH(\"16\",#REF!)),\"1\",\"0\")","v":"0"},{"$f":"IF(ISNUMBER(SEARCH(\"17\",#REF!)),\"1\",\"0\")","v":"0"},{"$nulls":4},34,22,22,78,5,null,20,16,14,{"$f":"BN261+BO261+BP261","v":50},{"$nulls":4},{"$f":"#REF!-#REF!","v":{"$error":"#REF!"}},{"$f":"#REF!-#REF!","v":{"$error":"#REF!"}}]
[2,22,13,"RS",2,22,null,null,3,null,3,5,null,3,"0","0","1","0","0","0","0","0","0","0","0","0","0","0","0","0","0","0",null,null,3,5,2,{"$f":"IF(ISNUMBER(SEARCH(\"1\",#REF!)),\"1\",\"0\")","v":"0"},{"$f":"IF(ISNUMBER(SEARCH(\"2\",#REF!)),\"1\",\"0\")","v":"0"},{"$f":"IF(ISNUMBER(SEARCH(\"3\",#REF!)),\"1\",\"0\")","v":"0"},{"$f":"IF(ISNUMBER(SEARCH(\"4\",#REF!)),\"1\",\"0\")","v":"0"},{"$f":"IF(ISNUMBER(SEARCH(\"5\",#REF!)),\"1\",\"0\")","v":"0"},{"$f":"IF(ISNUMBER(SEARCH(\"6\",#REF!)),\"1\",\"0\")","v":"0"},{"$f":"IF(ISNUMBER(SEARCH(\"7\",#REF!)),\"1\",\"0\")","v":"0"},{"$f":"IF(ISNUMBER(SEARCH(\"8\",#REF!)),\"1\",\"0\")","v":"0"},{"$f":"IF(ISNUMBER(SEARCH(\"9\",#REF!)),\"1\",\"0\")","v":"0"},{"$f":"IF(ISNUMBER(SEARCH(\"9\",#REF!)),\"1\",\"0\")","v":"0"},{"$f":"IF(ISNUMBER(SEARCH(\"10\",#REF!)),\"1\",\"0\")","v":"0"},{"$f":"IF(ISNUMBER(SEARCH(\"11\",#REF!)),\"1\",\"0\")","v":"0"},{"$f":"IF(ISNUMBER(SEARCH(\"12\",#REF!)),\"1\",\"0\")","v":"0"},{"$f":"IF(ISNUMBER(SEARCH(\"13\",#REF!)),\"1\",\"0\")","v":"0"},{"$f":"IF(ISNUMBER(SEARCH(\"14\",#REF!)),\"1\",\"0\")","v":"0"},{"$f":"IF(ISNUMBER(SEARCH(\"15\",#REF!)),\"1\",\"0\")","v":"0"},{"$f":"IF(ISNUMBER(SEARCH(\"16\",#REF!)),\"1\",\"0\")","v":"0"},{"$f":"IF(ISNUMBER(SEARCH(\"17\",#REF!)),\"1\",\"0\")","v":"0"},1,1,null,null,26,16,20,62,5,null,20,14,14,48,{"$nulls":5},{"$f":"#REF!-#REF!","v":{"$error":"#REF!"}}]
[2,22,13,"RS",2,13,null,2,2,1,0,5,1,3,"0","0","1","0","0","0","0","0","0","0","0","0","0","0","0","0","0","0",null,null,3,4,1,{"$f":"IF(ISNUMBER(SEARCH(\"1\",#REF!)),\"1\",\"0\")","v":"0"},{"$f":"IF(ISNUMBER(SEARCH(\"2\",#REF!)),\"1\",\"0\")","v":"0"},{"$f":"IF(ISNUMBER(SEARCH(\"3\",#REF!)),\"1\",\"0\")","v":"0"},{"$f":"IF(ISNUMBER(SEARCH(\"4\",#REF!)),\"1\",\"0\")","v":"0"},{"$f":"IF(ISNUMBER(SEARCH(\"5\",#REF!)),\"1\",\"0\")","v":"0"},{"$f":"IF(ISNUMBER(SEARCH(\"6\",#REF!)),\"1\",\"0\")","v":"0"},{"$f":"IF(ISNUMBER(SEARCH(\"7\",#REF!)),\"1\",\"0\")","v":"0"},{"$f":"IF(ISNUMBER(SEARCH(\"8\",#REF!)),\"1\",\"0\")","v":"0"},{"$f":"IF(ISNUMBER(SEARCH(\"9\",#REF!)),\"1\",\"0\")","v":"0"},{"$f":"IF(ISNUMBER(SEARCH(\"9\",#REF!)),\"1\",\"0\")","v":"0"},{"$f":"IF(ISNUMBER(SEARCH(\"10\",#REF!)),\"1\",\"0\")","v":"0"},{"$f":"IF(ISNUMBER(SEARCH(\"11\",#REF!)),\"1\",\"0\")","v":"0"},{"$f":"IF(ISNUMBER(SEARCH(\"12\",#REF!)),\"1\",\"0\")","v":"0"},{"$f":"IF(ISNUMBER(SEARCH(\"13\",#REF!)),\"1\",\"0\")","v":"0"},{"$f":"IF(ISNUMBER(SEARCH(\"14\",#REF!)),\"1\",\"0\")","v":"0"},{"$f":"IF(ISNUMBER(SEARCH(\"15\",#REF!)),\"1\",\"0\")","v":"0"},{"$f":"IF(ISNUMBER(SEARCH(\"16\",#REF!)),\"1\",\"0\")","v":"0"},{"$f":"IF(ISNUMBER(SEARCH(\"17\",#REF!)),\"1\",\"0\")","v":"0"},1,1,null,null,26,14,12,52,6,null,16,12,16,44,null,8,5,null,{"$f":"#REF!-#REF!","v":{"$error":"#REF!"}},{"$f":"#REF!-#REF!","v":{"$error":"#REF!"}}]
[2,22,13,"MN",2,16,null,2,3,1,null,5,2,3,"0","0","1","0","0","0","0","0","0","0","0","0","0","0","0","0","0","0",null,null,2,5,2,{"$f":"IF(ISNUMBER(SEARCH(\"1\",#REF!)),\"1\",\"0\")","v":"0"},{"$f":"IF(ISNUMBER(SEARCH(\"2\",#REF!)),\"1\",\"0\")","v":"0"},{"$f":"IF(ISNUMBER(SEARCH(\"3\",#REF!)),\"1\",\"0\")","v":"0"},{"$f":"IF(ISNUMBER(SEARCH(\"4\",#REF!)),\"1\",\"0\")","v":"0"},{"$f":"IF(ISNUMBER(SEARCH(\"5\",#REF!)),\"1\",\"0\")","v":"0"},{"$f":"IF(ISNUMBER(SEARCH(\"6\",#REF!)),\"1\",\"0\")","v":"0"},{"$f":"IF(ISNUMBER(SEARCH(\"7\",#REF!)),\"1\",\"0\")","v":"0"},{"$f":"IF(ISNUMBER(SEARCH(\"8\",#REF!)),\"1\",\"0\")","v":"0"},{"$f":"IF(ISNUMBER(SEARCH(\"9\",#REF!)),\"1\",\"0\")","v":"0"},{"$f":"IF(ISNUMBER(SEARCH(\"9\",#REF!)),\"1\",\"0\")","v":"0"},{"$f":"IF(ISNUMBER(SEARCH(\"10\",#REF!)),\"1\",\"0\")","v":"0"},{"$f":"IF(ISNUMBER(SEARCH(\"11\",#REF!)),\"1\",\"0\")","v":"0"},{"$f":"IF(ISNUMBER(SEARCH(\"12\",#REF!)),\"1\",\"0\")","v":"0"},{"$f":"IF(ISNUMBER(SEARCH(\"13\",#REF!)),\"1\",\"0\")","v":"0"},{"$f":"IF(ISNUMBER(SEARCH(\"14\",#REF!)),\"1\",\"0\")","v":"0"},{"$f":"IF(ISNUMBER(SEARCH(\"15\",#REF!)),\"1\",\"0\")","v":"0"},{"$f":"IF(ISNUMBER(SEARCH(\"16\",#REF!)),\"1\",\"0\")","v":"0"},{"$f":"IF(ISNUMBER(SEARCH(\"17\",#REF!)),\"1\",\"0\")","v":"0"},1,{"$nulls":3},24,22,18,64,4,{"$nulls":6},8,4,null,{"$f":"#REF!-#REF!","v":{"$error":"#REF!"}}]
[2,22,13,"MN",2,30,null,1,3,1,4,1,2,2,"0","1","0","0","0","0","0","0","0","0","0","0","0","0","0","0","0","0",null,null,1,3,1,{"$f":"IF(ISNUMBER(SEARCH(\"1\",#REF!)),\"1\",\"0\")","v":"0"},{"$f":"IF(ISNUMBER(SEARCH(\"2\",#REF!)),\"1\",\"0\")","v":"0"},{"$f":"IF(ISNUMBER(SEARCH(\"3\",#REF!)),\"1\",\"0\")","v":"0"},{"$f":"IF(ISNUMBER(SEARCH(\"4\",#REF!)),\"1\",\"0\")","v":"0"},{"$f":"IF(ISNUMBER(SEARCH(\"5\",#REF!)),\"1\",\"0\")","v":"0"},{"$f":"IF(ISNUMBER(SEARCH(\"6\",#REF!)),\"1\",\"0\")","v":"0"},{"$f":"IF(ISNUMBER(SEARCH(\"7\",#REF!)),\"1\",\"0\")","v":"0"},{"$f":"IF(ISNUMBER(SEARCH(\"8\",#REF!)),\"1\",\"0\")","v":"0"},{"$f":"IF(ISNUMBER(SEARCH(\"9\",#REF!)),\"1\",\"0\")","v":"0"},{"$f":"IF(ISNUMBER(SEARCH(\"9\",#REF!)),\"1\",\"0\")","v":"0"},{"$f":"IF(ISNUMBER(SEARCH(\"10\",#REF!)),\"1\",\"0\")","v":"0"},{"$f":"IF(ISNUMBER(SEARCH(\"11\",#REF!)),\"1\",\"0\")","v":"0"},{"$f":"IF(ISNUMBER(SEARCH(\"12\",#REF!)),\"1\",\"0\")","v":"0"},{"$f":"IF(ISNUMBER(SEARCH(\"13\",#REF!)),\"1\",\"0\")","v":"0"},{"$f":"IF(ISNUMBER(SEARCH(\"14\",#REF!)),\"1\",\"0\")","v":"0"},{"$f":"IF(ISNUMBER(SEARCH(\"15\",#REF!)),\"1\",\"0\")","v":"0"},{"$f":"IF(ISNUMBER(SEARCH(\"16\",#REF!)),\"1\",\"0\")","v":"0"},{"$f":"IF(ISNUMBER(SEARCH(\"17\",#REF!)),\"1\",\"0\")","v":"0"},{"$nulls":4},28,20,24,72,3,{"$nulls":6},6,4]
[2,22,13,"BAS",2,27,null,2,8,1,4,3,null,3,"0","0","1","0","0","0","0","0","0","0","0","0","0","0","0","0","0","0",null,null,1,5,2,{"$f":"IF(ISNUMBER(SEARCH(\"1\",#REF!)),\"1\",\"0\")","v":"0"},{"$f":"IF(ISNUMBER(SEARCH(\"2\",#REF!)),\"1\",\"0\")","v":"0"},{"$f":"IF(ISNUMBER(SEARCH(\"3\",#REF!)),\"1\",\"0\")","v":"0"},{"$f":"IF(ISNUMBER(SEARCH(\"4\",#REF!)),\"1\",\"0\")","v":"0"},{"$f":"IF(ISNUMBER(SEARCH(\"5\",#REF!)),\"1\",\"0\")","v":"0"},{"$f":"IF(ISNUMBER(SEARCH(\"6\",#REF!)),\"1\",\"0\")","v":"0"},{"$f":"IF(ISNUMBER(SEARCH(\"7\",#REF!)),\"1\",\"0\")","v":"0"},{"$f":"IF(ISNUMBER(SEARCH(\"8\",#REF!)),\"1\",\"0\")","v":"0"},{"$f":"IF(ISNUMBER(SEARCH(\"9\",#REF!)),\"1\",\"0\")","v":"0"},{"$f":"IF(ISNUMBER(SEARCH(\"9\",#REF!)),\"1\",\"0\")","v":"0"},{"$f":"IF(ISNUMBER(SEARCH(\"10\",#REF!)),\"1\",\"0\")","v":"0"},{"$f":"IF(ISNUMBER(SEARCH(\"11\",#REF!)),\"1\",\"0\")","v":"0"},{"$f":"IF(ISNUMBER(SEARCH(\"12\",#REF!)),\"1\",\"0\")","v":"0"},{"$f":"IF(ISNUMBER(SEARCH(\"13\",#REF!)),\"1\",\"0\")","v":"0"},{"$f":"IF(ISNUMBER(SEARCH(\"14\",#REF!)),\"1\",\"0\")","v":"0"},{"$f":"IF(ISNUMBER(SEARCH(\"15\",#REF!)),\"1\",\"0\")","v":"0"},{"$f":"IF(ISNUMBER(SEARCH(\"16\",#REF!)),\"1\",\"0\")","v":"0"},{"$f":"IF(ISNUMBER(SEARCH(\"17\",#REF!)),\"1\",\"0\")","v":"0"},1,2,null,null,30,24,24,78,5,{"$nulls":10},{"$f":"#REF!-#REF!","v":{"$error":"#REF!"}}]
[2,22,13,"S1",2,20,null,null,3,1,2,5,null,3,"0","0","1","0","0","0","0","0","0","0","0","0","0","0","0","0","0","0",{"$nulls":3},5,2,{"$f":"IF(ISNUMBER(SEARCH(\"1\",#REF!)),\"1\",\"0\")","v":"0"},{"$f":"IF(ISNUMBER(SEARCH(\"2\",#REF!)),\"1\",\"0\")","v":"0"},{"$f":"IF(ISNUMBER(SEARCH(\"3\",#REF!)),\"1\",\"0\")","v":"0"},{"$f":"IF(ISNUMBER(SEARCH(\"4\",#REF!)),\"1\",\"0\")","v":"0"},{"$f":"IF(ISNUMBER(SEARCH(\"5\",#REF!)),\"1\",\"0\")","v":"0"},{"$f":"IF(ISNUMBER(SEARCH(\"6\",#REF!)),\"1\",\"0\")","v":"0"},{"$f":"IF(ISNUMBER(SEARCH(\"7\",#REF!)),\"1\",\"0\")","v":"0"},{"$f":"IF(ISNUMBER(SEARCH(\"8\",#REF!)),\"1\",\"0\")","v":"0"},{"$f":"IF(ISNUMBER(SEARCH(\"9\",#REF!)),\"1\",\"0\")","v":"0"},{"$f":"IF(ISNUMBER(SEARCH(\"9\",#REF!)),\"1\",\"0\")","v":"0"},{"$f":"IF(ISNUMBER(SEARCH(\"10\",#REF!)),\"1\",\"0\")","v":"0"},{"$f":"IF(ISNUMBER(SEARCH(\"11\",#REF!)),\"1\",\"0\")","v":"0"},{"$f":"IF(ISNUMBER(SEARCH(\"12\",#REF!)),\"1\",\"0\")","v":"0"},{"$f":"IF(ISNUMBER(SEARCH(\"13\",#REF!)),\"1\",\"0\")","v":"0"},{"$f":"IF(ISNUMBER(SEARCH(\"14\",#REF!)),\"1\",\"0\")","v":"0"},{"$f":"IF(ISNUMBER(SEARCH(\"15\",#REF!)),\"1\",\"0\")","v":"0"},{"$f":"IF(ISNUMBER(SEARCH(\"16\",#REF!)),\"1\",\"0\")","v":"0"},{"$f":"IF(ISNUMBER(SEARCH(\"17\",#REF!)),\"1\",\"0\")","v":"0"},1,2,null,null,18,14,24,56,4,null,18,14,12,44,null,8,4,null,null,{"$f":"#REF!-#REF!","v":{"$error":"#REF!"}}]
[2,22,13,"S2",2,32,null,1,3,1,5,5,2,3,"0","0","1","0","0","0","0","0","0","0","0","0","0","0","0","0","0","0",null,null,2,5,2,{"$f":"IF(ISNUMBER(SEARCH(\"1\",#REF!)),\"1\",\"0\")","v":"0"},{"$f":"IF(ISNUMBER(SEARCH(\"2\",#REF!)),\"1\",\"0\")","v":"0"},{"$f":"IF(ISNUMBER(SEARCH(\"3\",#REF!)),\"1\",\"0\")","v":"0"},{"$f":"IF(ISNUMBER(SEARCH(\"4\",#REF!)),\"1\",\"0\")","v":"0"},{"$f":"IF(ISNUMBER(SEARCH(\"5\",#REF!)),\"1\",\"0\")","v":"0"},{"$f":"IF(ISNUMBER(SEARCH(\"6\",#REF!)),\"1\",\"0\")","v":"0"},{"$f":"IF(ISNUMBER(SEARCH(\"7\",#REF!)),\"1\",\"0\")","v":"0"},{"$f":"IF(ISNUMBER(SEARCH(\"8\",#REF!)),\"1\",\"0\")","v":"0"},{"$f":"IF(ISNUMBER(SEARCH(\"9\",#REF!)),\"1\",\"0\")","v":"0"},{"$f":"IF(ISNUMBER(SEARCH(\"9\",#REF!)),\"1\",\"0\")","v":"0"},{"$f":"IF(ISNUMBER(SEARCH(\"10\",#REF!)),\"1\",\"0\")","v":"0"},{"$f":"IF(ISNUMBER(SEARCH(\"11\",#REF!)),\"1\",\"0\")","v":"0"},{"$f":"IF(ISNUMBER(SEARCH(\"12\",#REF!)),\"1\",\"0\")","v":"0"},{"$f":"IF(ISNUMBER(SEARCH(\"13\",#REF!)),\"1\",\"0\")","v":"0"},{"$f":"IF(ISNUMBER(SEARCH(\"14\",#REF!)),\"1\",\"0\")","v":"0"},{"$f":"IF(ISNUMBER(SEARCH(\"15\",#REF!)),\"1\",\"0\")","v":"0"},{"$f":"IF(ISNUMBER(SEARCH(\"16\",#REF!)),\"1\",\"0\")","v":"0"},{"$f":"IF(ISNUMBER(SEARCH(\"17\",#REF!)),\"1\",\"0\")","v":"0"},2,2,null,null,22,20,14,56,4,{"$nulls":6},8,4,null,{"$f":"#REF!-#REF!","v":{"$error":"#REF!"}}]
[2,22,13,"S1",1,32,null,3,2,1,0,5,1,2,"0","1","0","0","0","0","0","0","0","0","0","0","0","0","0","0","0","0",null,null,1,null,1,{"$f":"IF(ISNUMBER(SEARCH(\"1\",#REF!)),\"1\",\"0\")","v":"0"},{"$f":"IF(ISNUMBER(SEARCH(\"2\",#REF!)),\"1\",\"0\")","v":"0"},{"$f":"IF(ISNUMBER(SEARCH(\"3\",#REF!)),\"1\",\"0\")","v":"0"},{"$f":"IF(ISNUMBER(SEARCH(\"4\",#REF!)),\"1\",\"0\")","v":"0"},{"$f":"IF(ISNUMBER(SEARCH(\"5\",#REF!)),\"1\",\"0\")","v":"0"},{"$f":"IF(ISNUMBER(SEARCH(\"6\",#REF!)),\"1\",\"0\")","v":"0"},{"$f":"IF(ISNUMBER(SEARCH(\"7\",#REF!)),\"1\",\"0\")","v":"0"},{"$f":"IF(ISNUMBER(SEARCH(\"8\",#REF!)),\"1\",\"0\")","v":"0"},{"$f":"IF(ISNUMBER(SEARCH(\"9\",#REF!)),\"1\",\"0\")","v":"0"},{"$f":"IF(ISNUMBER(SEARCH(\"9\",#REF!)),\"1\",\"0\")","v":"0"},{"$f":"IF(ISNUMBER(SEARCH(\"10\",#REF!)),\"1\",\"0\")","v":"0"},{"$f":"IF(ISNUMBER(SEARCH(\"11\",#REF!)),\"1\",\"0\")","v":"0"},{"$f":"IF(ISNUMBER(SEARCH(\"12\",#REF!)),\"1\",\"0\")","v":"0"},{"$f":"IF(ISNUMBER(SEARCH(\"13\",#REF!)),\"1\",\"0\")","v":"0"},{"$f":"IF(ISNUMBER(SEARCH(\"14\",#REF!)),\"1\",\"0\")","v":"0"},{"$f":"IF(ISNUMBER(SEARCH(\"15\",#REF!)),\"1\",\"0\")","v":"0"},{"$f":"IF(ISNUMBER(SEARCH(\"16\",#REF!)),\"1\",\"0\")","v":"0"},{"$f":"IF(ISNUMBER(SEARCH(\"17\",#REF!)),\"1\",\"0\")","v":"0"},{"$nulls":4},32,20,28,80,3,{"$nulls":9},{"$f":"#REF!-#REF!","v":{"$error":"#REF!"}}]
[2,22,13,"MN",2,30,null,1,3,1,4,5,2,3,"0","0","1","0","0","0","0","0","0","0","0","0","0","0","0","0","0","0",null,null,2,4,2,{"$f":"IF(ISNUMBER(SEARCH(\"1\",#REF!)),\"1\",\"0\")","v":"0"},{"$f":"IF(ISNUMBER(SEARCH(\"2\",#REF!)),\"1\",\"0\")","v":"0"},{"$f":"IF(ISNUMBER(SEARCH(\"3\",#REF!)),\"1\",\"0\")","v":"0"},{"$f":"IF(ISNUMBER(SEARCH(\"4\",#REF!)),\"1\",\"0\")","v":"0"},{"$f":"IF(ISNUMBER(SEARCH(\"5\",#REF!)),\"1\",\"0\")","v":"0"},{"$f":"IF(ISNUMBER(SEARCH(\"6\",#REF!)),\"1\",\"0\")","v":"0"},{"$f":"IF(ISNUMBER(SEARCH(\"7\",#REF!)),\"1\",\"0\")","v":"0"},{"$f":"IF(ISNUMBER(SEARCH(\"8\",#REF!)),\"1\",\"0\")","v":"0"},{"$f":"IF(ISNUMBER(SEARCH(\"9\",#REF!)),\"1\",\"0\")","v":"0"},{"$f":"IF(ISNUMBER(SEARCH(\"9\",#REF!)),\"1\",\"0\")","v":"0"},{"$f":"IF(ISNUMBER(SEARCH(\"10\",#REF!)),\"1\",\"0\")","v":"0"},{"$f":"IF(ISNUMBER(SEARCH(\"11\",#REF!)),\"1\",\"0\")","v":"0"},{"$f":"IF(ISNUMBER(SEARCH(\"12\",#REF!)),\"1\",\"0\")","v":"0"},{"$f":"IF(ISNUMBER(SEARCH(\"13\",#REF!)),\"1\",\"0\")","v":"0"},{"$f":"IF(ISNUMBER(SEARCH(\"14\",#REF!)),\"1\",\"0\")","v":"0"},{"$f":"IF(ISNUMBER(SEARCH(\"15\",#REF!)),\"1\",\"0\")","v":"0"},{"$f":"IF(ISNUMBER(SEARCH(\"16\",#REF!)),\"1\",\"0\")","v":"0"},{"$f":"IF(ISNUMBER(SEARCH(\"17\",#REF!)),\"1\",\"0\")","v":"0"},1,1,null,null,26,28,22,76,6,null,14,18,12,44,null,10,4,null,{"$f":"#REF!-#REF!","v":{"$error":"#REF!"}},{"$f":"#REF!-#REF!","v":{"$error":"#REF!"}}]
[2,22,13,"S3",2,28,null,1,3,1,2,4,2,"4. Tentative de Viol","0","0","0","1","0","0","0","0","0","0","0","0","0","0","0","0","0","0",null,null,2,5,2,{"$f":"IF(ISNUMBER(SEARCH(\"1\",#REF!)),\"1\",\"0\")","v":"0"},{"$f":"IF(ISNUMBER(SEARCH(\"2\",#REF!)),\"1\",\"0\")","v":"0"},{"$f":"IF(ISNUMBER(SEARCH(\"3\",#REF!)),\"1\",\"0\")","v":"0"},{"$f":"IF(ISNUMBER(SEARCH(\"4\",#REF!)),\"1\",\"0\")","v":"0"},{"$f":"IF(ISNUMBER(SEARCH(\"5\",#REF!)),\"1\",\"0\")","v":"0"},{"$f":"IF(ISNUMBER(SEARCH(\"6\",#REF!)),\"1\",\"0\")","v":"0"},{"$f":"IF(ISNUMBER(SEARCH(\"7\",#REF!)),\"1\",\"0\")","v":"0"},{"$f":"IF(ISNUMBER(SEARCH(\"8\",#REF!)),\"1\",\"0\")","v":"0"},{"$f":"IF(ISNUMBER(SEARCH(\"9\",#REF!)),\"1\",\"0\")","v":"0"},{"$f":"IF(ISNUMBER(SEARCH(\"9\",#REF!)),\"1\",\"0\")","v":"0"},{"$f":"IF(ISNUMBER(SEARCH(\"10\",#REF!)),\"1\",\"0\")","v":"0"},{"$f":"IF(ISNUMBER(SEARCH(\"11\",#REF!)),\"1\",\"0\")","v":"0"},{"$f":"IF(ISNUMBER(SEARCH(\"12\",#REF!)),\"1\",\"0\")","v":"0"},{"$f":"IF(ISNUMBER(SEARCH(\"13\",#REF!)),\"1\",\"0\")","v":"0"},{"$f":"IF(ISNUMBER(SEARCH(\"14\",#REF!)),\"1\",\"0\")","v":"0"},{"$f":"IF(ISNUMBER(SEARCH(\"15\",#REF!)),\"1\",\"0\")","v":"0"},{"$f":"IF(ISNUMBER(SEARCH(\"16\",#REF!)),\"1\",\"0\")","v":"0"},{"$f":"IF(ISNUMBER(SEARCH(\"17\",#REF!)),\"1\",\"0\")","v":"0"},1,1,null,null,26,20,14,60,5,{"$nulls":6},12,4,null,{"$f":"#REF!-#REF!","v":{"$error":"#REF!"}}]
[2,22,13,"S3",2,30,null,2,3,1,5,1,2,3,"0","0","1","0","0","0","0","0","0","0","0","0","0","0","0","0","0","0",null,null,2,null,null,{"$f":"IF(ISNUMBER(SEARCH(\"1\",#REF!)),\"1\",\"0\")","v":"0"},{"$f":"IF(ISNUMBER(SEARCH(\"2\",#REF!)),\"1\",\"0\")","v":"0"},{"$f":"IF(ISNUMBER(SEARCH(\"3\",#REF!)),\"1\",\"0\")","v":"0"},{"$f":"IF(ISNUMBER(SEARCH(\"4\",#REF!)),\"1\",\"0\")","v":"0"},{"$f":"IF(ISNUMBER(SEARCH(\"5\",#REF!)),\"1\",\"0\")","v":"0"},{"$f":"IF(ISNUMBER(SEARCH(\"6\",#REF!)),\"1\",\"0\")","v":"0"},{"$f":"IF(ISNUMBER(SEARCH(\"7\",#REF!)),\"1\",\"0\")","v":"0"},{"$f":"IF(ISNUMBER(SEARCH(\"8\",#REF!)),\"1\",\"0\")","v":"0"},{"$f":"IF(ISNUMBER(SEARCH(\"9\",#REF!)),\"1\",\"0\")","v":"0"},{"$f":"IF(ISNUMBER(SEARCH(\"9\",#REF!)),\"1\",\"0\")","v":"0"},{"$f":"IF(ISNUMBER(SEARCH(\"10\",#REF!)),\"1\",\"0\")","v":"0"},{"$f":"IF(ISNUMBER(SEARCH(\"11\",#REF!)),\"1\",\"0\")","v":"0"},{"$f":"IF(ISNUMBER(SEARCH(\"12\",#REF!)),\"1\",\"0\")","v":"0"},{"$f":"IF(ISNUMBER(SEARCH(\"13\",#REF!)),\"1\",\"0\")","v":"0"},{"$f":"IF(ISNUMBER(SEARCH(\"14\",#REF!)),\"1\",\"0\")","v":"0"},{"$f":"IF(ISNUMBER(SEARCH(\"15\",#REF!)),\"1\",\"0\")","v":"0"},{"$f":"IF(ISNUMBER(SEARCH(\"16\",#REF!)),\"1\",\"0\")","v":"0"},{"$f":"IF(ISNUMBER(SEARCH(\"17\",#REF!)),\"1\",\"0\")","v":"0"},1,1,null,null,38,26,22,86,4,{"$nulls":9},{"$f":"#REF!-#REF!","v":{"$error":"#REF!"}}]
[2,22,13,"S1",2,29,null,2,3,1,4,5,2,3,"0","0","1","0","0","0","0","0","0","0","0","0","0","0","0","0","0","0",null,null,2,5,2,{"$f":"IF(ISNUMBER(SEARCH(\"1\",#REF!)),\"1\",\"0\")","v":"0"},{"$f":"IF(ISNUMBER(SEARCH(\"2\",#REF!)),\"1\",\"0\")","v":"0"},{"$f":"IF(ISNUMBER(SEARCH(\"3\",#REF!)),\"1\",\"0\")","v":"0"},{"$f":"IF(ISNUMBER(SEARCH(\"4\",#REF!)),\"1\",\"0\")","v":"0"},{"$f":"IF(ISNUMBER(SEARCH(\"5\",#REF!)),\"1\",\"0\")","v":"0"},{"$f":"IF(ISNUMBER(SEARCH(\"6\",#REF!)),\"1\",\"0\")","v":"0"},{"$f":"IF(ISNUMBER(SEARCH(\"7\",#REF!)),\"1\",\"0\")","v":"0"},{"$f":"IF(ISNUMBER(SEARCH(\"8\",#REF!)),\"1\",\"0\")","v":"0"},{"$f":"IF(ISNUMBER(SEARCH(\"9\",#REF!)),\"1\",\"0\")","v":"0"},{"$f":"IF(ISNUMBER(SEARCH(\"9\",#REF!)),\"1\",\"0\")","v":"0"},{"$f":"IF(ISNUMBER(SEARCH(\"10\",#REF!)),\"1\",\"0\")","v":"0"},{"$f":"IF(ISNUMBER(SEARCH(\"11\",#REF!)),\"1\",\"0\")","v":"0"},{"$f":"IF(ISNUMBER(SEARCH(\"12\",#REF!)),\"1\",\"0\")","v":"0"},{"$f":"IF(ISNUMBER(SEARCH(\"13\",#REF!)),\"1\",\"0\")","v":"0"},{"$f":"IF(ISNUMBER(SEARCH(\"14\",#REF!)),\"1\",\"0\")","v":"0"},{"$f":"IF(ISNUMBER(SEARCH(\"15\",#REF!)),\"1\",\"0\")","v":"0"},{"$f":"IF(ISNUMBER(SEARCH(\"16\",#REF!)),\"1\",\"0\")","v":"0"},{"$f":"IF(ISNUMBER(SEARCH(\"17\",#REF!)),\"1\",\"0\")","v":"0"},1,1,null,null,20,24,14,58,5,null,18,14,12,44,{"$nulls":4},{"$f":"#REF!-#REF!","v":{"$error":"#REF!"}},{"$f":"#REF!-#REF!","v":{"$error":"#REF!"}}]
[2,22,13,"BAS",1,17,null,null,2,1,0,5,1,"15. Insultes / a reçu des menaces","1","0","0","0","1","0","0","0","0","0","0","0","0","0","1","0","0","0",null,null,3,null,2,{"$f":"IF(ISNUMBER(SEARCH(\"1\",#REF!)),\"1\",\"0\")","v":"0"},{"$f":"IF(ISNUMBER(SEARCH(\"2\",#REF!)),\"1\",\"0\")","v":"0"},{"$f":"IF(ISNUMBER(SEARCH(\"3\",#REF!)),\"1\",\"0\")","v":"0"},{"$f":"IF(ISNUMBER(SEARCH(\"4\",#REF!)),\"1\",\"0\")","v":"0"},{"$f":"IF(ISNUMBER(SEARCH(\"5\",#REF!)),\"1\",\"0\")","v":"0"},{"$f":"IF(ISNUMBER(SEARCH(\"6\",#REF!)),\"1\",\"0\")","v":"0"},{"$f":"IF(ISNUMBER(SEARCH(\"7\",#REF!)),\"1\",\"0\")","v":"0"},{"$f":"IF(ISNUMBER(SEARCH(\"8\",#REF!)),\"1\",\"0\")","v":"0"},{"$f":"IF(ISNUMBER(SEARCH(\"9\",#REF!)),\"1\",\"0\")","v":"0"},{"$f":"IF(ISNUMBER(SEARCH(\"9\",#REF!)),\"1\",\"0\")","v":"0"},{"$f":"IF(ISNUMBER(SEARCH(\"10\",#REF!)),\"1\",\"0\")","v":"0"},{"$f":"IF(ISNUMBER(SEARCH(\"11\",#REF!)),\"1\",\"0\")","v":"0"},{"$f":"IF(ISNUMBER(SEARCH(\"12\",#REF!)),\"1\",\"0\")","v":"0"},{"$f":"IF(ISNUMBER(SEARCH(\"13\",#REF!)),\"1\",\"0\")","v":"0"},{"$f":"IF(ISNUMBER(SEARCH(\"14\",#REF!)),\"1\",\"0\")","v":"0"},{"$f":"IF(ISNUMBER(SEARCH(\"15\",#REF!)),\"1\",\"0\")","v":"0"},{"$f":"IF(ISNUMBER(SEARCH(\"16\",#REF!)),\"1\",\"0\")","v":"0"},{"$f":"IF(ISNUMBER(SEARCH(\"17\",#REF!)),\"1\",\"0\")","v":"0"},{"$nulls":4},10,8,18,36,6,null,16,10,14,40,{"$nulls":4},{"$f":"#REF!-#REF!","v":{"$error":"#REF!"}},{"$f":"#REF!-#REF!","v":{"$error":"#REF!"}}]
[2,22,13,"S2",2,29,null,2,3,1,3,5,2,"4. Tentative de Viol","0","0","0","1","0","0","0","0","0","0","0","0","0","0","0","0","0","0",null,null,1,null,1,{"$f":"IF(ISNUMBER(SEARCH(\"1\",#REF!)),\"1\",\"0\")","v":"0"},{"$f":"IF(ISNUMBER(SEARCH(\"2\",#REF!)),\"1\",\"0\")","v":"0"},{"$f":"IF(ISNUMBER(SEARCH(\"3\",#REF!)),\"1\",\"0\")","v":"0"},{"$f":"IF(ISNUMBER(SEARCH(\"4\",#REF!)),\"1\",\"0\")","v":"0"},{"$f":"IF(ISNUMBER(SEARCH(\"5\",#REF!)),\"1\",\"0\")","v":"0"},{"$f":"IF(ISNUMBER(SEARCH(\"6\",#REF!)),\"1\",\"0\")","v":"0"},{"$f":"IF(ISNUMBER(SEARCH(\"7\",#REF!)),\"1\",\"0\")","v":"0"},{"$f":"IF(ISNUMBER(SEARCH(\"8\",#REF!)),\"1\",\"0\")","v":"0"},{"$f":"IF(ISNUMBER(SEARCH(\"9\",#REF!)),\"1\",\"0\")","v":"0"},{"$f":"IF(ISNUMBER(SEARCH(\"9\",#REF!)),\"1\",\"0\")","v":"0"},{"$f":"IF(ISNUMBER(SEARCH(\"10\",#REF!)),\"1\",\"0\")","v":"0"},{"$f":"IF(ISNUMBER(SEARCH(\"11\",#REF!)),\"1\",\"0\")","v":"0"},{"$f":"IF(ISNUMBER(SEARCH(\"12\",#REF!)),\"1\",\"0\")","v":"0"},{"$f":"IF(ISNUMBER(SEARCH(\"13\",#REF!)),\"1\",\"0\")","v":"0"},{"$f":"IF(ISNUMBER(SEARCH(\"14\",#REF!)),\"1\",\"0\")","v":"0"},{"$f":"IF(ISNUMBER(SEARCH(\"15\",#REF!)),\"1\",\"0\")","v":"0"},{"$f":"IF(ISNUMBER(SEARCH(\"16\",#REF!)),\"1\",\"0\")","v":"0"},{"$f":"IF(ISNUMBER(SEARCH(\"17\",#REF!)),\"1\",\"0\")","v":"0"},{"$nulls":4},20,8,26,54,5,{"$nulls":9},{"$f":"#REF!-#REF!","v":{"$error":"#REF!"}}]
[2,22,13,"RS",2,44,null,1,3,2,4,3,6,3,"0","0","1","0","0","0","0","0","0","0","0","0","0","0","0","0","0","0",null,null,2,5,1,{"$f":"IF(ISNUMBER(SEARCH(\"1\",#REF!)),\"1\",\"0\")","v":"0"},{"$f":"IF(ISNUMBER(SEARCH(\"2\",#REF!)),\"1\",\"0\")","v":"0"},{"$f":"IF(ISNUMBER(SEARCH(\"3\",#REF!)),\"1\",\"0\")","v":"0"},{"$f":"IF(ISNUMBER(SEARCH(\"4\",#REF!)),\"1\",\"0\")","v":"0"},{"$f":"IF(ISNUMBER(SEARCH(\"5\",#REF!)),\"1\",\"0\")","v":"0"},{"$f":"IF(ISNUMBER(SEARCH(\"6\",#REF!)),\"1\",\"0\")","v":"0"},{"$f":"IF(ISNUMBER(SEARCH(\"7\",#REF!)),\"1\",\"0\")","v":"0"},{"$f":"IF(ISNUMBER(SEARCH(\"8\",#REF!)),\"1\",\"0\")","v":"0"},{"$f":"IF(ISNUMBER(SEARCH(\"9\",#REF!)),\"1\",\"0\")","v":"0"},{"$f":"IF(ISNUMBER(SEARCH(\"9\",#REF!)),\"1\",\"0\")","v":"0"},{"$f":"IF(ISNUMBER(SEARCH(\"10\",#REF!)),\"1\",\"0\")","v":"0"},{"$f":"IF(ISNUMBER(SEARCH(\"11\",#REF!)),\"1\",\"0\")","v":"0"},{"$f":"IF(ISNUMBER(SEARCH(\"12\",#REF!)),\"1\",\"0\")","v":"0"},{"$f":"IF(ISNUMBER(SEARCH(\"13\",#REF!)),\"1\",\"0\")","v":"0"},{"$f":"IF(ISNUMBER(SEARCH(\"14\",#REF!)),\"1\",\"0\")","v":"0"},{"$f":"IF(ISNUMBER(SEARCH(\"15\",#REF!)),\"1\",\"0\")","v":"0"},{"$f":"IF(ISNUMBER(SEARCH(\"16\",#REF!)),\"1\",\"0\")","v":"0"},{"$f":"IF(ISNUMBER(SEARCH(\"17\",#REF!)),\"1\",\"0\")","v":"0"},1,{"$nulls":3},30,18,24,72]
[2,22,13,"S2",2,30,null,1,3,2,2,3,2,3,"0","0","1","0","0","0","0","0","0","0","0","0","0","0","0","0","0","0",null,null,2,5,1,{"$f":"IF(ISNUMBER(SEARCH(\"1\",#REF!)),\"1\",\"0\")","v":"0"},{"$f":"IF(ISNUMBER(SEARCH(\"2\",#REF!)),\"1\",\"0\")","v":"0"},{"$f":"IF(ISNUMBER(SEARCH(\"3\",#REF!)),\"1\",\"0\")","v":"0"},{"$f":"IF(ISNUMBER(SEARCH(\"4\",#REF!)),\"1\",\"0\")","v":"0"},{"$f":"IF(ISNUMBER(SEARCH(\"5\",#REF!)),\"1\",\"0\")","v":"0"},{"$f":"IF(ISNUMBER(SEARCH(\"6\",#REF!)),\"1\",\"0\")","v":"0"},{"$f":"IF(ISNUMBER(SEARCH(\"7\",#REF!)),\"1\",\"0\")","v":"0"},{"$f":"IF(ISNUMBER(SEARCH(\"8\",#REF!)),\"1\",\"0\")","v":"0"},{"$f":"IF(ISNUMBER(SEARCH(\"9\",#REF!)),\"1\",\"0\")","v":"0"},{"$f":"IF(ISNUMBER(SEARCH(\"9\",#REF!)),\"1\",\"0\")","v":"0"},{"$f":"IF(ISNUMBER(SEARCH(\"10\",#REF!)),\"1\",\"0\")","v":"0"},{"$f":"IF(ISNUMBER(SEARCH(\"11\",#REF!)),\"1\",\"0\")","v":"0"},{"$f":"IF(ISNUMBER(SEARCH(\"12\",#REF!)),\"1\",\"0\")","v":"0"},{"$f":"IF(ISNUMBER(SEARCH(\"13\",#REF!)),\"1\",\"0\")","v":"0"},{"$f":"IF(ISNUMBER(SEARCH(\"14\",#REF!)),\"1\",\"0\")","v":"0"},{"$f":"IF(ISNUMBER(SEARCH(\"15\",#REF!)),\"1\",\"0\")","v":"0"},{"$f":"IF(ISNUMBER(SEARCH(\"16\",#REF!)),\"1\",\"0\")","v":"0"},{"$f":"IF(ISNUMBER(SEARCH(\"17\",#REF!)),\"1\",\"0\")","v":"0"},2,{"$nulls":3},28,24,20,72]
[2,22,13,"BAS",2,33,null,3,3,1,1,3,1,3,"0","0","1","0","0","0","0","0","0","0","0","0","0","0","0","0","0","0",{"$nulls":3},5,2,{"$f":"IF(ISNUMBER(SEARCH(\"1\",#REF!)),\"1\",\"0\")","v":"0"},{"$f":"IF(ISNUMBER(SEARCH(\"2\",#REF!)),\"1\",\"0\")","v":"0"},{"$f":"IF(ISNUMBER(SEARCH(\"3\",#REF!)),\"1\",\"0\")","v":"0"},{"$f":"IF(ISNUMBER(SEARCH(\"4\",#REF!)),\"1\",\"0\")","v":"0"},{"$f":"IF(ISNUMBER(SEARCH(\"5\",#REF!)),\"1\",\"0\")","v":"0"},{"$f":"IF(ISNUMBER(SEARCH(\"6\",#REF!)),\"1\",\"0\")","v":"0"},{"$f":"IF(ISNUMBER(SEARCH(\"7\",#REF!)),\"1\",\"0\")","v":"0"},{"$f":"IF(ISNUMBER(SEARCH(\"8\",#REF!)),\"1\",\"0\")","v":"0"},{"$f":"IF(ISNUMBER(SEARCH(\"9\",#REF!)),\"1\",\"0\")","v":"0"},{"$f":"IF(ISNUMBER(SEARCH(\"9\",#REF!)),\"1\",\"0\")","v":"0"},{"$f":"IF(ISNUMBER(SEARCH(\"10\",#REF!)),\"1\",\"0\")","v":"0"},{"$f":"IF(ISNUMBER(SEARCH(\"11\",#REF!)),\"1\",\"0\")","v":"0"},{"$f":"IF(ISNUMBER(SEARCH(\"12\",#REF!)),\"1\",\"0\")","v":"0"},{"$f":"IF(ISNUMBER(SEARCH(\"13\",#REF!)),\"1\",\"0\")","v":"0"},{"$f":"IF(ISNUMBER(SEARCH(\"14\",#REF!)),\"1\",\"0\")","v":"0"},{"$f":"IF(ISNUMBER(SEARCH(\"15\",#REF!)),\"1\",\"0\")","v":"0"},{"$f":"IF(ISNUMBER(SEARCH(\"16\",#REF!)),\"1\",\"0\")","v":"0"},{"$f":"IF(ISNUMBER(SEARCH(\"17\",#REF!)),\"1\",\"0\")","v":"0"},1,1,null,null,22,12,14,48,5]
[2,22,12,"MN",2,22,null,2,3,2,3,3,2,3,"0","0","1","0","0","0","0","0","0","0","0","0","0","0","0","0","0","0",null,null,2,5,2,{"$f":"IF(ISNUMBER(SEARCH(\"1\",#REF!)),\"1\",\"0\")","v":"0"},{"$f":"IF(ISNUMBER(SEARCH(\"2\",#REF!)),\"1\",\"0\")","v":"0"},{"$f":"IF(ISNUMBER(SEARCH(\"3\",#REF!)),\"1\",\"0\")","v":"0"},{"$f":"IF(ISNUMBER(SEARCH(\"4\",#REF!)),\"1\",\"0\")","v":"0"},{"$f":"IF(ISNUMBER(SEARCH(\"5\",#REF!)),\"1\",\"0\")","v":"0"},{"$f":"IF(ISNUMBER(SEARCH(\"6\",#REF!)),\"1\",\"0\")","v":"0"},{"$f":"IF(ISNUMBER(SEARCH(\"7\",#REF!)),\"1\",\"0\")","v":"0"},{"$f":"IF(ISNUMBER(SEARCH(\"8\",#REF!)),\"1\",\"0\")","v":"0"},{"$f":"IF(ISNUMBER(SEARCH(\"9\",#REF!)),\"1\",\"0\")","v":"0"},{"$f":"IF(ISNUMBER(SEARCH(\"9\",#REF!)),\"1\",\"0\")","v":"0"},{"$f":"IF(ISNUMBER(SEARCH(\"10\",#REF!)),\"1\",\"0\")","v":"0"},{"$f":"IF(ISNUMBER(SEARCH(\"11\",#REF!)),\"1\",\"0\")","v":"0"},{"$f":"IF(ISNUMBER(SEARCH(\"12\",#REF!)),\"1\",\"0\")","v":"0"},{"$f":"IF(ISNUMBER(SEARCH(\"13\",#REF!)),\"1\",\"0\")","v":"0"},{"$f":"IF(ISNUMBER(SEARCH(\"14\",#REF!)),\"1\",\"0\")","v":"0"},{"$f":"IF(ISNUMBER(SEARCH(\"15\",#REF!)),\"1\",\"0\")","v":"0"},{"$f":"IF(ISNUMBER(SEARCH(\"16\",#REF!)),\"1\",\"0\")","v":"0"},{"$f":"IF(ISNUMBER(SEARCH(\"17\",#REF!)),\"1\",\"0\")","v":"0"},1,{"$nulls":3},30,20,24,74,13,{"$nulls":6},14,4,null,{"$f":"#REF!-#REF!","v":{"$error":"#REF!"}}]
[2,22,12,"MN",2,28,null,2,3,2,4,3,null,3,"0","0","1","0","0","0","0","0","0","0","0","0","0","0","0","0","0","0",null,null,2,5,2,{"$f":"IF(ISNUMBER(SEARCH(\"1\",#REF!)),\"1\",\"0\")","v":"0"},{"$f":"IF(ISNUMBER(SEARCH(\"2\",#REF!)),\"1\",\"0\")","v":"0"},{"$f":"IF(ISNUMBER(SEARCH(\"3\",#REF!)),\"1\",\"0\")","v":"0"},{"$f":"IF(ISNUMBER(SEARCH(\"4\",#REF!)),\"1\",\"0\")","v":"0"},{"$f":"IF(ISNUMBER(SEARCH(\"5\",#REF!)),\"1\",\"0\")","v":"0"},{"$f":"IF(ISNUMBER(SEARCH(\"6\",#REF!)),\"1\",\"0\")","v":"0"},{"$f":"IF(ISNUMBER(SEARCH(\"7\",#REF!)),\"1\",\"0\")","v":"0"},{"$f":"IF(ISNUMBER(SEARCH(\"8\",#REF!)),\"1\",\"0\")","v":"0"},{"$f":"IF(ISNUMBER(SEARCH(\"9\",#REF!)),\"1\",\"0\")","v":"0"},{"$f":"IF(ISNUMBER(SEARCH(\"9\",#REF!)),\"1\",\"0\")","v":"0"},{"$f":"IF(ISNUMBER(SEARCH(\"10\",#REF!)),\"1\",\"0\")","v":"0"},{"$f":"IF(ISNUMBER(SEARCH(\"11\",#REF!)),\"1\",\"0\")","v":"0"},{"$f":"IF(ISNUMBER(SEARCH(\"12\",#REF!)),\"1\",\"0\")","v":"0"},{"$f":"IF(ISNUMBER(SEARCH(\"13\",#REF!)),\"1\",\"0\")","v":"0"},{"$f":"IF(ISNUMBER(SEARCH(\"14\",#REF!)),\"1\",\"0\")","v":"0"},{"$f":"IF(ISNUMBER(SEARCH(\"15\",#REF!)),\"1\",\"0\")","v":"0"},{"$f":"IF(ISNUMBER(SEARCH(\"16\",#REF!)),\"1\",\"0\")","v":"0"},{"$f":"IF(ISNUMBER(SEARCH(\"17\",#REF!)),\"1\",\"0\")","v":"0"},5,{"$nulls":3},30,22,22,74,13,{"$nulls":6},14,4,null,{"$f":"#REF!-#REF!","v":{"$error":"#REF!"}}]
[2,22,12,"NTC",2,60,null,1,8,1,5,5,6,10,"1","0","0","0","0","0","0","0","0","1","0","0","0","0","0","0","0","0",null,null,1,5,2,{"$f":"IF(ISNUMBER(SEARCH(\"1\",#REF!)),\"1\",\"0\")","v":"0"},{"$f":"IF(ISNUMBER(SEARCH(\"2\",#REF!)),\"1\",\"0\")","v":"0"},{"$f":"IF(ISNUMBER(SEARCH(\"3\",#REF!)),\"1\",\"0\")","v":"0"},{"$f":"IF(ISNUMBER(SEARCH(\"4\",#REF!)),\"1\",\"0\")","v":"0"},{"$f":"IF(ISNUMBER(SEARCH(\"5\",#REF!)),\"1\",\"0\")","v":"0"},{"$f":"IF(ISNUMBER(SEARCH(\"6\",#REF!)),\"1\",\"0\")","v":"0"},{"$f":"IF(ISNUMBER(SEARCH(\"7\",#REF!)),\"1\",\"0\")","v":"0"},{"$f":"IF(ISNUMBER(SEARCH(\"8\",#REF!)),\"1\",\"0\")","v":"0"},{"$f":"IF(ISNUMBER(SEARCH(\"9\",#REF!)),\"1\",\"0\")","v":"0"},{"$f":"IF(ISNUMBER(SEARCH(\"9\",#REF!)),\"1\",\"0\")","v":"0"},{"$f":"IF(ISNUMBER(SEARCH(\"10\",#REF!)),\"1\",\"0\")","v":"0"},{"$f":"IF(ISNUMBER(SEARCH(\"11\",#REF!)),\"1\",\"0\")","v":"0"},{"$f":"IF(ISNUMBER(SEARCH(\"12\",#REF!)),\"1\",\"0\")","v":"0"},{"$f":"IF(ISNUMBER(SEARCH(\"13\",#REF!)),\"1\",\"0\")","v":"0"},{"$f":"IF(ISNUMBER(SEARCH(\"14\",#REF!)),\"1\",\"0\")","v":"0"},{"$f":"IF(ISNUMBER(SEARCH(\"15\",#REF!)),\"1\",\"0\")","v":"0"},{"$f":"IF(ISNUMBER(SEARCH(\"16\",#REF!)),\"1\",\"0\")","v":"0"},{"$f":"IF(ISNUMBER(SEARCH(\"17\",#REF!)),\"1\",\"0\")","v":"0"},4,1,null,null,20,24,18,62,2,{"$nulls":6},14,4,null,{"$f":"#REF!-#REF!","v":{"$error":"#REF!"}}]
[2,22,12,"NTC",2,30,null,1,8,1,6,5,5,10,"1","0","0","0","0","0","0","0","0","1","0","0","0","0","0","0","0","0",null,null,1,5,1,{"$f":"IF(ISNUMBER(SEARCH(\"1\",#REF!)),\"1\",\"0\")","v":"0"},{"$f":"IF(ISNUMBER(SEARCH(\"2\",#REF!)),\"1\",\"0\")","v":"0"},{"$f":"IF(ISNUMBER(SEARCH(\"3\",#REF!)),\"1\",\"0\")","v":"0"},{"$f":"IF(ISNUMBER(SEARCH(\"4\",#REF!)),\"1\",\"0\")","v":"0"},{"$f":"IF(ISNUMBER(SEARCH(\"5\",#REF!)),\"1\",\"0\")","v":"0"},{"$f":"IF(ISNUMBER(SEARCH(\"6\",#REF!)),\"1\",\"0\")","v":"0"},{"$f":"IF(ISNUMBER(SEARCH(\"7\",#REF!)),\"1\",\"0\")","v":"0"},{"$f":"IF(ISNUMBER(SEARCH(\"8\",#REF!)),\"1\",\"0\")","v":"0"},{"$f":"IF(ISNUMBER(SEARCH(\"9\",#REF!)),\"1\",\"0\")","v":"0"},{"$f":"IF(ISNUMBER(SEARCH(\"9\",#REF!)),\"1\",\"0\")","v":"0"},{"$f":"IF(ISNUMBER(SEARCH(\"10\",#REF!)),\"1\",\"0\")","v":"0"},{"$f":"IF(ISNUMBER(SEARCH(\"11\",#REF!)),\"1\",\"0\")","v":"0"},{"$f":"IF(ISNUMBER(SEARCH(\"12\",#REF!)),\"1\",\"0\")","v":"0"},{"$f":"IF(ISNUMBER(SEARCH(\"13\",#REF!)),\"1\",\"0\")","v":"0"},{"$f":"IF(ISNUMBER(SEARCH(\"14\",#REF!)),\"1\",\"0\")","v":"0"},{"$f":"IF(ISNUMBER(SEARCH(\"15\",#REF!)),\"1\",\"0\")","v":"0"},{"$f":"IF(ISNUMBER(SEARCH(\"16\",#REF!)),\"1\",\"0\")","v":"0"},{"$f":"IF(ISNUMBER(SEARCH(\"17\",#REF!)),\"1\",\"0\")","v":"0"},5,1,null,null,4,4,4,12,3,null,0,2,0,2,null,14,3,null,{"$f":"#REF!-#REF!","v":{"$error":"#REF!"}},{"$f":"#REF!-#REF!","v":{"$error":"#REF!"}}]
[2,22,12,"NTC",1,30,null,1,3,1,5,1,2,"9. Kidnapping/  Enlèvement/ Otage (SANS violence sexuelle)","0","0","0","0","0","0","0","0","1","0","0","0","0","0","0","0","0","0",null,null,2,5,2,{"$f":"IF(ISNUMBER(SEARCH(\"1\",#REF!)),\"1\",\"0\")","v":"0"},{"$f":"IF(ISNUMBER(SEARCH(\"2\",#REF!)),\"1\",\"0\")","v":"0"},{"$f":"IF(ISNUMBER(SEARCH(\"3\",#REF!)),\"1\",\"0\")","v":"0"},{"$f":"IF(ISNUMBER(SEARCH(\"4\",#REF!)),\"1\",\"0\")","v":"0"},{"$f":"IF(ISNUMBER(SEARCH(\"5\",#REF!)),\"1\",\"0\")","v":"0"},{"$f":"IF(ISNUMBER(SEARCH(\"6\",#REF!)),\"1\",\"0\")","v":"0"},{"$f":"IF(ISNUMBER(SEARCH(\"7\",#REF!)),\"1\",\"0\")","v":"0"},{"$f":"IF(ISNUMBER(SEARCH(\"8\",#REF!)),\"1\",\"0\")","v":"0"},{"$f":"IF(ISNUMBER(SEARCH(\"9\",#REF!)),\"1\",\"0\")","v":"0"},{"$f":"IF(ISNUMBER(SEARCH(\"9\",#REF!)),\"1\",\"0\")","v":"0"},{"$f":"IF(ISNUMBER(SEARCH(\"10\",#REF!)),\"1\",\"0\")","v":"0"},{"$f":"IF(ISNUMBER(SEARCH(\"11\",#REF!)),\"1\",\"0\")","v":"0"},{"$f":"IF(ISNUMBER(SEARCH(\"12\",#REF!)),\"1\",\"0\")","v":"0"},{"$f":"IF(ISNUMBER(SEARCH(\"13\",#REF!)),\"1\",\"0\")","v":"0"},{"$f":"IF(ISNUMBER(SEARCH(\"14\",#REF!)),\"1\",\"0\")","v":"0"},{"$f":"IF(ISNUMBER(SEARCH(\"15\",#REF!)),\"1\",\"0\")","v":"0"},{"$f":"IF(ISNUMBER(SEARCH(\"16\",#REF!)),\"1\",\"0\")","v":"0"},{"$f":"IF(ISNUMBER(SEARCH(\"17\",#REF!)),\"1\",\"0\")","v":"0"},{"$nulls":4},24,34,28,86,4,null,2,2,2,6,null,12,4,null,{"$f":"#REF!-#REF!","v":{"$error":"#REF!"}},{"$f":"#REF!-#REF!","v":{"$error":"#REF!"}}]
[2,22,12,"CBM",2,45,null,1,3,2,8,11,6,3,"0","0","1","0","0","0","0","0","0","0","0","0","0","0","0","0","0","0",null,null,2,5,2,{"$f":"IF(ISNUMBER(SEARCH(\"1\",#REF!)),\"1\",\"0\")","v":"0"},{"$f":"IF(ISNUMBER(SEARCH(\"2\",#REF!)),\"1\",\"0\")","v":"0"},{"$f":"IF(ISNUMBER(SEARCH(\"3\",#REF!)),\"1\",\"0\")","v":"0"},{"$f":"IF(ISNUMBER(SEARCH(\"4\",#REF!)),\"1\",\"0\")","v":"0"},{"$f":"IF(ISNUMBER(SEARCH(\"5\",#REF!)),\"1\",\"0\")","v":"0"},{"$f":"IF(ISNUMBER(SEARCH(\"6\",#REF!)),\"1\",\"0\")","v":"0"},{"$f":"IF(ISNUMBER(SEARCH(\"7\",#REF!)),\"1\",\"0\")","v":"0"},{"$f":"IF(ISNUMBER(SEARCH(\"8\",#REF!)),\"1\",\"0\")","v":"0"},{"$f":"IF(ISNUMBER(SEARCH(\"9\",#REF!)),\"1\",\"0\")","v":"0"},{"$f":"IF(ISNUMBER(SEARCH(\"9\",#REF!)),\"1\",\"0\")","v":"0"},{"$f":"IF(ISNUMBER(SEARCH(\"10\",#REF!)),\"1\",\"0\")","v":"0"},{"$f":"IF(ISNUMBER(SEARCH(\"11\",#REF!)),\"1\",\"0\")","v":"0"},{"$f":"IF(ISNUMBER(SEARCH(\"12\",#REF!)),\"1\",\"0\")","v":"0"},{"$f":"IF(ISNUMBER(SEARCH(\"13\",#REF!)),\"1\",\"0\")","v":"0"},{"$f":"IF(ISNUMBER(SEARCH(\"14\",#REF!)),\"1\",\"0\")","v":"0"},{"$f":"IF(ISNUMBER(SEARCH(\"15\",#REF!)),\"1\",\"0\")","v":"0"},{"$f":"IF(ISNUMBER(SEARCH(\"16\",#REF!)),\"1\",\"0\")","v":"0"},{"$f":"IF(ISNUMBER(SEARCH(\"17\",#REF!)),\"1\",\"0\")","v":"0"},4,2,null,null,38,32,26,96,7,{"$nulls":6},14,4,null,{"$f":"#REF!-#REF!","v":{"$error":"#REF!"}},{"$f":"#REF!-#REF!","v":{"$error":"#REF!"}}]
[2,22,12,"MN",2,30,null,1,3,1,5,11,6,3,"0","0","1","0","0","0","0","0","0","0","0","0","0","0","0","0","0","0",null,null,3,5,2,{"$f":"IF(ISNUMBER(SEARCH(\"1\",#REF!)),\"1\",\"0\")","v":"0"},{"$f":"IF(ISNUMBER(SEARCH(\"2\",#REF!)),\"1\",\"0\")","v":"0"},{"$f":"IF(ISNUMBER(SEARCH(\"3\",#REF!)),\"1\",\"0\")","v":"0"},{"$f":"IF(ISNUMBER(SEARCH(\"4\",#REF!)),\"1\",\"0\")","v":"0"},{"$f":"IF(ISNUMBER(SEARCH(\"5\",#REF!)),\"1\",\"0\")","v":"0"},{"$f":"IF(ISNUMBER(SEARCH(\"6\",#REF!)),\"1\",\"0\")","v":"0"},{"$f":"IF(ISNUMBER(SEARCH(\"7\",#REF!)),\"1\",\"0\")","v":"0"},{"$f":"IF(ISNUMBER(SEARCH(\"8\",#REF!)),\"1\",\"0\")","v":"0"},{"$f":"IF(ISNUMBER(SEARCH(\"9\",#REF!)),\"1\",\"0\")","v":"0"},{"$f":"IF(ISNUMBER(SEARCH(\"9\",#REF!)),\"1\",\"0\")","v":"0"},{"$f":"IF(ISNUMBER(SEARCH(\"10\",#REF!)),\"1\",\"0\")","v":"0"},{"$f":"IF(ISNUMBER(SEARCH(\"11\",#REF!)),\"1\",\"0\")","v":"0"},{"$f":"IF(ISNUMBER(SEARCH(\"12\",#REF!)),\"1\",\"0\")","v":"0"},{"$f":"IF(ISNUMBER(SEARCH(\"13\",#REF!)),\"1\",\"0\")","v":"0"},{"$f":"IF(ISNUMBER(SEARCH(\"14\",#REF!)),\"1\",\"0\")","v":"0"},{"$f":"IF(ISNUMBER(SEARCH(\"15\",#REF!)),\"1\",\"0\")","v":"0"},{"$f":"IF(ISNUMBER(SEARCH(\"16\",#REF!)),\"1\",\"0\")","v":"0"},{"$f":"IF(ISNUMBER(SEARCH(\"17\",#REF!)),\"1\",\"0\")","v":"0"},5,1,null,null,38,26,22,86,11,null,2,4,2,8,null,null,5,null,{"$f":"#REF!-#REF!","v":{"$error":"#REF!"}},{"$f":"#REF!-#REF!","v":{"$error":"#REF!"}}]
[2,22,12,"CBM",2,30,null,2,3,1,5,1,2,3,"0","0","1","0","0","0","0","0","0","0","0","0","0","0","0","0","0","0",null,null,3,5,2,{"$f":"IF(ISNUMBER(SEARCH(\"1\",#REF!)),\"1\",\"0\")","v":"0"},{"$f":"IF(ISNUMBER(SEARCH(\"2\",#REF!)),\"1\",\"0\")","v":"0"},{"$f":"IF(ISNUMBER(SEARCH(\"3\",#REF!)),\"1\",\"0\")","v":"0"},{"$f":"IF(ISNUMBER(SEARCH(\"4\",#REF!)),\"1\",\"0\")","v":"0"},{"$f":"IF(ISNUMBER(SEARCH(\"5\",#REF!)),\"1\",\"0\")","v":"0"},{"$f":"IF(ISNUMBER(SEARCH(\"6\",#REF!)),\"1\",\"0\")","v":"0"},{"$f":"IF(ISNUMBER(SEARCH(\"7\",#REF!)),\"1\",\"0\")","v":"0"},{"$f":"IF(ISNUMBER(SEARCH(\"8\",#REF!)),\"1\",\"0\")","v":"0"},{"$f":"IF(ISNUMBER(SEARCH(\"9\",#REF!)),\"1\",\"0\")","v":"0"},{"$f":"IF(ISNUMBER(SEARCH(\"9\",#REF!)),\"1\",\"0\")","v":"0"},{"$f":"IF(ISNUMBER(SEARCH(\"10\",#REF!)),\"1\",\"0\")","v":"0"},{"$f":"IF(ISNUMBER(SEARCH(\"11\",#REF!)),\"1\",\"0\")","v":"0"},{"$f":"IF(ISNUMBER(SEARCH(\"12\",#REF!)),\"1\",\"0\")","v":"0"},{"$f":"IF(ISNUMBER(SEARCH(\"13\",#REF!)),\"1\",\"0\")","v":"0"},{"$f":"IF(ISNUMBER(SEARCH(\"14\",#REF!)),\"1\",\"0\")","v":"0"},{"$f":"IF(ISNUMBER(SEARCH(\"15\",#REF!)),\"1\",\"0\")","v":"0"},{"$f":"IF(ISNUMBER(SEARCH(\"16\",#REF!)),\"1\",\"0\")","v":"0"},{"$f":"IF(ISNUMBER(SEARCH(\"17\",#REF!)),\"1\",\"0\")","v":"0"},4,1,null,null,34,28,16,78,11,null,0,0,2,2,null,14,4,null,{"$f":"#REF!-#REF!","v":{"$error":"#REF!"}},{"$f":"#REF!-#REF!","v":{"$error":"#REF!"}}]
[2,22,12,"MN",2,16,null,3,2,1,0,11,1,3,"0","0","1","0","0","0","0","0","0","0","0","0","0","0","0","0","0","0",null,null,2,5,2,{"$f":"IF(ISNUMBER(SEARCH(\"1\",#REF!)),\"1\",\"0\")","v":"0"},{"$f":"IF(ISNUMBER(SEARCH(\"2\",#REF!)),\"1\",\"0\")","v":"0"},{"$f":"IF(ISNUMBER(SEARCH(\"3\",#REF!)),\"1\",\"0\")","v":"0"},{"$f":"IF(ISNUMBER(SEARCH(\"4\",#REF!)),\"1\",\"0\")","v":"0"},{"$f":"IF(ISNUMBER(SEARCH(\"5\",#REF!)),\"1\",\"0\")","v":"0"},{"$f":"IF(ISNUMBER(SEARCH(\"6\",#REF!)),\"1\",\"0\")","v":"0"},{"$f":"IF(ISNUMBER(SEARCH(\"7\",#REF!)),\"1\",\"0\")","v":"0"},{"$f":"IF(ISNUMBER(SEARCH(\"8\",#REF!)),\"1\",\"0\")","v":"0"},{"$f":"IF(ISNUMBER(SEARCH(\"9\",#REF!)),\"1\",\"0\")","v":"0"},{"$f":"IF(ISNUMBER(SEARCH(\"9\",#REF!)),\"1\",\"0\")","v":"0"},{"$f":"IF(ISNUMBER(SEARCH(\"10\",#REF!)),\"1\",\"0\")","v":"0"},{"$f":"IF(ISNUMBER(SEARCH(\"11\",#REF!)),\"1\",\"0\")","v":"0"},{"$f":"IF(ISNUMBER(SEARCH(\"12\",#REF!)),\"1\",\"0\")","v":"0"},{"$f":"IF(ISNUMBER(SEARCH(\"13\",#REF!)),\"1\",\"0\")","v":"0"},{"$f":"IF(ISNUMBER(SEARCH(\"14\",#REF!)),\"1\",\"0\")","v":"0"},{"$f":"IF(ISNUMBER(SEARCH(\"15\",#REF!)),\"1\",\"0\")","v":"0"},{"$f":"IF(ISNUMBER(SEARCH(\"16\",#REF!)),\"1\",\"0\")","v":"0"},{"$f":"IF(ISNUMBER(SEARCH(\"17\",#REF!)),\"1\",\"0\")","v":"0"},5,1,null,null,34,36,20,90,13,{"$nulls":6},14,4,null,{"$f":"#REF!-#REF!","v":{"$error":"#REF!"}},{"$f":"#REF!-#REF!","v":{"$error":"#REF!"}}]
[2,22,12,"CBM",2,27,null,2,8,1,2,5,2,3,"0","0","1","0","0","0","0","0","0","0","0","0","0","0","0","0","0","0",null,null,2,5,2,{"$f":"IF(ISNUMBER(SEARCH(\"1\",#REF!)),\"1\",\"0\")","v":"0"},{"$f":"IF(ISNUMBER(SEARCH(\"2\",#REF!)),\"1\",\"0\")","v":"0"},{"$f":"IF(ISNUMBER(SEARCH(\"3\",#REF!)),\"1\",\"0\")","v":"0"},{"$f":"IF(ISNUMBER(SEARCH(\"4\",#REF!)),\"1\",\"0\")","v":"0"},{"$f":"IF(ISNUMBER(SEARCH(\"5\",#REF!)),\"1\",\"0\")","v":"0"},{"$f":"IF(ISNUMBER(SEARCH(\"6\",#REF!)),\"1\",\"0\")","v":"0"},{"$f":"IF(ISNUMBER(SEARCH(\"7\",#REF!)),\"1\",\"0\")","v":"0"},{"$f":"IF(ISNUMBER(SEARCH(\"8\",#REF!)),\"1\",\"0\")","v":"0"},{"$f":"IF(ISNUMBER(SEARCH(\"9\",#REF!)),\"1\",\"0\")","v":"0"},{"$f":"IF(ISNUMBER(SEARCH(\"9\",#REF!)),\"1\",\"0\")","v":"0"},{"$f":"IF(ISNUMBER(SEARCH(\"10\",#REF!)),\"1\",\"0\")","v":"0"},{"$f":"IF(ISNUMBER(SEARCH(\"11\",#REF!)),\"1\",\"0\")","v":"0"},{"$f":"IF(ISNUMBER(SEARCH(\"12\",#REF!)),\"1\",\"0\")","v":"0"},{"$f":"IF(ISNUMBER(SEARCH(\"13\",#REF!)),\"1\",\"0\")","v":"0"},{"$f":"IF(ISNUMBER(SEARCH(\"14\",#REF!)),\"1\",\"0\")","v":"0"},{"$f":"IF(ISNUMBER(SEARCH(\"15\",#REF!)),\"1\",\"0\")","v":"0"},{"$f":"IF(ISNUMBER(SEARCH(\"16\",#REF!)),\"1\",\"0\")","v":"0"},{"$f":"IF(ISNUMBER(SEARCH(\"17\",#REF!)),\"1\",\"0\")","v":"0"},3,2,null,null,16,4,8,28,11,null,2,0,2,4,null,14,4,null,{"$f":"#REF!-#REF!","v":{"$error":"#REF!"}},{"$f":"#REF!-#REF!","v":{"$error":"#REF!"}}]
[2,22,12,"MN",1,25,null,2,3,1,2,5,2,10,"1","0","0","0","0","0","0","0","0","1","0","0","0","0","0","0","0","0",null,null,3,5,2,{"$f":"IF(ISNUMBER(SEARCH(\"1\",#REF!)),\"1\",\"0\")","v":"0"},{"$f":"IF(ISNUMBER(SEARCH(\"2\",#REF!)),\"1\",\"0\")","v":"0"},{"$f":"IF(ISNUMBER(SEARCH(\"3\",#REF!)),\"1\",\"0\")","v":"0"},{"$f":"IF(ISNUMBER(SEARCH(\"4\",#REF!)),\"1\",\"0\")","v":"0"},{"$f":"IF(ISNUMBER(SEARCH(\"5\",#REF!)),\"1\",\"0\")","v":"0"},{"$f":"IF(ISNUMBER(SEARCH(\"6\",#REF!)),\"1\",\"0\")","v":"0"},{"$f":"IF(ISNUMBER(SEARCH(\"7\",#REF!)),\"1\",\"0\")","v":"0"},{"$f":"IF(ISNUMBER(SEARCH(\"8\",#REF!)),\"1\",\"0\")","v":"0"},{"$f":"IF(ISNUMBER(SEARCH(\"9\",#REF!)),\"1\",\"0\")","v":"0"},{"$f":"IF(ISNUMBER(SEARCH(\"9\",#REF!)),\"1\",\"0\")","v":"0"},{"$f":"IF(ISNUMBER(SEARCH(\"10\",#REF!)),\"1\",\"0\")","v":"0"},{"$f":"IF(ISNUMBER(SEARCH(\"11\",#REF!)),\"1\",\"0\")","v":"0"},{"$f":"IF(ISNUMBER(SEARCH(\"12\",#REF!)),\"1\",\"0\")","v":"0"},{"$f":"IF(ISNUMBER(SEARCH(\"13\",#REF!)),\"1\",\"0\")","v":"0"},{"$f":"IF(ISNUMBER(SEARCH(\"14\",#REF!)),\"1\",\"0\")","v":"0"},{"$f":"IF(ISNUMBER(SEARCH(\"15\",#REF!)),\"1\",\"0\")","v":"0"},{"$f":"IF(ISNUMBER(SEARCH(\"16\",#REF!)),\"1\",\"0\")","v":"0"},{"$f":"IF(ISNUMBER(SEARCH(\"17\",#REF!)),\"1\",\"0\")","v":"0"},3,{"$nulls":3},36,40,28,104,6,{"$nulls":6},8,4,null,{"$f":"#REF!-#REF!","v":{"$error":"#REF!"}},{"$f":"#REF!-#REF!","v":{"$error":"#REF!"}}]
[2,22,12,"CBM",2,30,null,1,8,1,6,11,5,3,"0","0","1","0","0","0","0","0","0","0","0","0","0","0","0","0","0","0",null,null,2,5,2,{"$f":"IF(ISNUMBER(SEARCH(\"1\",#REF!)),\"1\",\"0\")","v":"0"},{"$f":"IF(ISNUMBER(SEARCH(\"2\",#REF!)),\"1\",\"0\")","v":"0"},{"$f":"IF(ISNUMBER(SEARCH(\"3\",#REF!)),\"1\",\"0\")","v":"0"},{"$f":"IF(ISNUMBER(SEARCH(\"4\",#REF!)),\"1\",\"0\")","v":"0"},{"$f":"IF(ISNUMBER(SEARCH(\"5\",#REF!)),\"1\",\"0\")","v":"0"},{"$f":"IF(ISNUMBER(SEARCH(\"6\",#REF!)),\"1\",\"0\")","v":"0"},{"$f":"IF(ISNUMBER(SEARCH(\"7\",#REF!)),\"1\",\"0\")","v":"0"},{"$f":"IF(ISNUMBER(SEARCH(\"8\",#REF!)),\"1\",\"0\")","v":"0"},{"$f":"IF(ISNUMBER(SEARCH(\"9\",#REF!)),\"1\",\"0\")","v":"0"},{"$f":"IF(ISNUMBER(SEARCH(\"9\",#REF!)),\"1\",\"0\")","v":"0"},{"$f":"IF(ISNUMBER(SEARCH(\"10\",#REF!)),\"1\",\"0\")","v":"0"},{"$f":"IF(ISNUMBER(SEARCH(\"11\",#REF!)),\"1\",\"0\")","v":"0"},{"$f":"IF(ISNUMBER(SEARCH(\"12\",#REF!)),\"1\",\"0\")","v":"0"},{"$f":"IF(ISNUMBER(SEARCH(\"13\",#REF!)),\"1\",\"0\")","v":"0"},{"$f":"IF(ISNUMBER(SEARCH(\"14\",#REF!)),\"1\",\"0\")","v":"0"},{"$f":"IF(ISNUMBER(SEARCH(\"15\",#REF!)),\"1\",\"0\")","v":"0"},{"$f":"IF(ISNUMBER(SEARCH(\"16\",#REF!)),\"1\",\"0\")","v":"0"},{"$f":"IF(ISNUMBER(SEARCH(\"17\",#REF!)),\"1\",\"0\")","v":"0"},3,2,null,null,24,10,20,54,12,null,2,2,2,6,null,14,3,null,{"$f":"#REF!-#REF!","v":{"$error":"#REF!"}},{"$f":"#REF!-#REF!","v":{"$error":"#REF!"}}]
[2,22,12,"CBM",2,28,null,1,8,1,7,11,5,"4. Tentative de Viol","0","0","0","1","0","0","0","0","0","0","0","0","0","0","0","0","0","0",null,null,1,5,2,{"$f":"IF(ISNUMBER(SEARCH(\"1\",#REF!)),\"1\",\"0\")","v":"0"},{"$f":"IF(ISNUMBER(SEARCH(\"2\",#REF!)),\"1\",\"0\")","v":"0"},{"$f":"IF(ISNUMBER(SEARCH(\"3\",#REF!)),\"1\",\"0\")","v":"0"},{"$f":"IF(ISNUMBER(SEARCH(\"4\",#REF!)),\"1\",\"0\")","v":"0"},{"$f":"IF(ISNUMBER(SEARCH(\"5\",#REF!)),\"1\",\"0\")","v":"0"},{"$f":"IF(ISNUMBER(SEARCH(\"6\",#REF!)),\"1\",\"0\")","v":"0"},{"$f":"IF(ISNUMBER(SEARCH(\"7\",#REF!)),\"1\",\"0\")","v":"0"},{"$f":"IF(ISNUMBER(SEARCH(\"8\",#REF!)),\"1\",\"0\")","v":"0"},{"$f":"IF(ISNUMBER(SEARCH(\"9\",#REF!)),\"1\",\"0\")","v":"0"},{"$f":"IF(ISNUMBER(SEARCH(\"9\",#REF!)),\"1\",\"0\")","v":"0"},{"$f":"IF(ISNUMBER(SEARCH(\"10\",#REF!)),\"1\",\"0\")","v":"0"},{"$f":"IF(ISNUMBER(SEARCH(\"11\",#REF!)),\"1\",\"0\")","v":"0"},{"$f":"IF(ISNUMBER(SEARCH(\"12\",#REF!)),\"1\",\"0\")","v":"0"},{"$f":"IF(ISNUMBER(SEARCH(\"13\",#REF!)),\"1\",\"0\")","v":"0"},{"$f":"IF(ISNUMBER(SEARCH(\"14\",#REF!)),\"1\",\"0\")","v":"0"},{"$f":"IF(ISNUMBER(SEARCH(\"15\",#REF!)),\"1\",\"0\")","v":"0"},{"$f":"IF(ISNUMBER(SEARCH(\"16\",#REF!)),\"1\",\"0\")","v":"0"},{"$f":"IF(ISNUMBER(SEARCH(\"17\",#REF!)),\"1\",\"0\")","v":"0"},5,1,null,null,36,24,24,84,11,{"$nulls":6},12,4,null,{"$f":"#REF!-#REF!","v":{"$error":"#REF!"}},{"$f":"#REF!-#REF!","v":{"$error":"#REF!"}}]
[2,22,12,"NTC",2,48,null,1,8,2,1,5,5,10,"1","0","0","0","0","0","0","0","0","1","0","0","0","0","0","0","0","0",null,null,3,5,1,{"$f":"IF(ISNUMBER(SEARCH(\"1\",#REF!)),\"1\",\"0\")","v":"0"},{"$f":"IF(ISNUMBER(SEARCH(\"2\",#REF!)),\"1\",\"0\")","v":"0"},{"$f":"IF(ISNUMBER(SEARCH(\"3\",#REF!)),\"1\",\"0\")","v":"0"},{"$f":"IF(ISNUMBER(SEARCH(\"4\",#REF!)),\"1\",\"0\")","v":"0"},{"$f":"IF(ISNUMBER(SEARCH(\"5\",#REF!)),\"1\",\"0\")","v":"0"},{"$f":"IF(ISNUMBER(SEARCH(\"6\",#REF!)),\"1\",\"0\")","v":"0"},{"$f":"IF(ISNUMBER(SEARCH(\"7\",#REF!)),\"1\",\"0\")","v":"0"},{"$f":"IF(ISNUMBER(SEARCH(\"8\",#REF!)),\"1\",\"0\")","v":"0"},{"$f":"IF(ISNUMBER(SEARCH(\"9\",#REF!)),\"1\",\"0\")","v":"0"},{"$f":"IF(ISNUMBER(SEARCH(\"9\",#REF!)),\"1\",\"0\")","v":"0"},{"$f":"IF(ISNUMBER(SEARCH(\"10\",#REF!)),\"1\",\"0\")","v":"0"},{"$f":"IF(ISNUMBER(SEARCH(\"11\",#REF!)),\"1\",\"0\")","v":"0"},{"$f":"IF(ISNUMBER(SEARCH(\"12\",#REF!)),\"1\",\"0\")","v":"0"},{"$f":"IF(ISNUMBER(SEARCH(\"13\",#REF!)),\"1\",\"0\")","v":"0"},{"$f":"IF(ISNUMBER(SEARCH(\"14\",#REF!)),\"1\",\"0\")","v":"0"},{"$f":"IF(ISNUMBER(SEARCH(\"15\",#REF!)),\"1\",\"0\")","v":"0"},{"$f":"IF(ISNUMBER(SEARCH(\"16\",#REF!)),\"1\",\"0\")","v":"0"},{"$f":"IF(ISNUMBER(SEARCH(\"17\",#REF!)),\"1\",\"0\")","v":"0"},1,1,null,null,38,36,34,108,4,{"$nulls":7},4,null,{"$f":"#REF!-#REF!","v":{"$error":"#REF!"}},{"$f":"#REF!-#REF!","v":{"$error":"#REF!"}}]
[2,22,12,"MN",2,45,null,1,8,1,10,5,2,3,"0","0","1","0","0","0","0","0","0","0","0","0","0","0","0","0","0","0",null,null,3,5,2,{"$f":"IF(ISNUMBER(SEARCH(\"1\",#REF!)),\"1\",\"0\")","v":"0"},{"$f":"IF(ISNUMBER(SEARCH(\"2\",#REF!)),\"1\",\"0\")","v":"0"},{"$f":"IF(ISNUMBER(SEARCH(\"3\",#REF!)),\"1\",\"0\")","v":"0"},{"$f":"IF(ISNUMBER(SEARCH(\"4\",#REF!)),\"1\",\"0\")","v":"0"},{"$f":"IF(ISNUMBER(SEARCH(\"5\",#REF!)),\"1\",\"0\")","v":"0"},{"$f":"IF(ISNUMBER(SEARCH(\"6\",#REF!)),\"1\",\"0\")","v":"0"},{"$f":"IF(ISNUMBER(SEARCH(\"7\",#REF!)),\"1\",\"0\")","v":"0"},{"$f":"IF(ISNUMBER(SEARCH(\"8\",#REF!)),\"1\",\"0\")","v":"0"},{"$f":"IF(ISNUMBER(SEARCH(\"9\",#REF!)),\"1\",\"0\")","v":"0"},{"$f":"IF(ISNUMBER(SEARCH(\"9\",#REF!)),\"1\",\"0\")","v":"0"},{"$f":"IF(ISNUMBER(SEARCH(\"10\",#REF!)),\"1\",\"0\")","v":"0"},{"$f":"IF(ISNUMBER(SEARCH(\"11\",#REF!)),\"1\",\"0\")","v":"0"},{"$f":"IF(ISNUMBER(SEARCH(\"12\",#REF!)),\"1\",\"0\")","v":"0"},{"$f":"IF(ISNUMBER(SEARCH(\"13\",#REF!)),\"1\",\"0\")","v":"0"},{"$f":"IF(ISNUMBER(SEARCH(\"14\",#REF!)),\"1\",\"0\")","v":"0"},{"$f":"IF(ISNUMBER(SEARCH(\"15\",#REF!)),\"1\",\"0\")","v":"0"},{"$f":"IF(ISNUMBER(SEARCH(\"16\",#REF!)),\"1\",\"0\")","v":"0"},{"$f":"IF(ISNUMBER(SEARCH(\"17\",#REF!)),\"1\",\"0\")","v":"0"},5,1,null,null,38,40,24,102,10,null,0,2,2,4,null,12,5,null,{"$f":"#REF!-#REF!","v":{"$error":"#REF!"}},{"$f":"#REF!-#REF!","v":{"$error":"#REF!"}}]
[2,22,12,"MN",1,23,null,2,7,1,0,11,2,"11. Membre de famille / personne proche assassinée","1","0","0","0","0","0","0","0","0","0","1","0","0","0","0","0","0","0",null,null,4,5,2,{"$f":"IF(ISNUMBER(SEARCH(\"1\",#REF!)),\"1\",\"0\")","v":"0"},0,{"$f":"IF(ISNUMBER(SEARCH(\"3\",#REF!)),\"1\",\"0\")","v":"0"},{"$f":"IF(ISNUMBER(SEARCH(\"4\",#REF!)),\"1\",\"0\")","v":"0"},{"$f":"IF(ISNUMBER(SEARCH(\"5\",#REF!)),\"1\",\"0\")","v":"0"},{"$f":"IF(ISNUMBER(SEARCH(\"6\",#REF!)),\"1\",\"0\")","v":"0"},{"$f":"IF(ISNUMBER(SEARCH(\"7\",#REF!)),\"1\",\"0\")","v":"0"},{"$f":"IF(ISNUMBER(SEARCH(\"8\",#REF!)),\"1\",\"0\")","v":"0"},{"$f":"IF(ISNUMBER(SEARCH(\"9\",#REF!)),\"1\",\"0\")","v":"0"},{"$f":"IF(ISNUMBER(SEARCH(\"9\",#REF!)),\"1\",\"0\")","v":"0"},{"$f":"IF(ISNUMBER(SEARCH(\"10\",#REF!)),\"1\",\"0\")","v":"0"},{"$f":"IF(ISNUMBER(SEARCH(\"11\",#REF!)),\"1\",\"0\")","v":"0"},{"$f":"IF(ISNUMBER(SEARCH(\"12\",#REF!)),\"1\",\"0\")","v":"0"},{"$f":"IF(ISNUMBER(SEARCH(\"13\",#REF!)),\"1\",\"0\")","v":"0"},{"$f":"IF(ISNUMBER(SEARCH(\"14\",#REF!)),\"1\",\"0\")","v":"0"},{"$f":"IF(ISNUMBER(SEARCH(\"15\",#REF!)),\"1\",\"0\")","v":"0"},{"$f":"IF(ISNUMBER(SEARCH(\"16\",#REF!)),\"1\",\"0\")","v":"0"},{"$f":"IF(ISNUMBER(SEARCH(\"17\",#REF!)),\"1\",\"0\")","v":"0"},{"$nulls":4},36,40,30,106,3,{"$nulls":7},4,null,{"$f":"#REF!-#REF!","v":{"$error":"#REF!"}},{"$f":"#REF!-#REF!","v":{"$error":"#REF!"}}]
[2,22,12,"MN",1,20,null,3,3,1,0,11,2,"11. Membre de famille / personne proche assassinée","1","0","0","0","0","0","0","0","0","0","1","0","0","0","0","0","0","0",null,null,3,5,2,{"$f":"IF(ISNUMBER(SEARCH(\"1\",#REF!)),\"1\",\"0\")","v":"0"},0,{"$f":"IF(ISNUMBER(SEARCH(\"3\",#REF!)),\"1\",\"0\")","v":"0"},{"$f":"IF(ISNUMBER(SEARCH(\"4\",#REF!)),\"1\",\"0\")","v":"0"},{"$f":"IF(ISNUMBER(SEARCH(\"5\",#REF!)),\"1\",\"0\")","v":"0"},{"$f":"IF(ISNUMBER(SEARCH(\"6\",#REF!)),\"1\",\"0\")","v":"0"},{"$f":"IF(ISNUMBER(SEARCH(\"7\",#REF!)),\"1\",\"0\")","v":"0"},{"$f":"IF(ISNUMBER(SEARCH(\"8\",#REF!)),\"1\",\"0\")","v":"0"},{"$f":"IF(ISNUMBER(SEARCH(\"9\",#REF!)),\"1\",\"0\")","v":"0"},{"$f":"IF(ISNUMBER(SEARCH(\"9\",#REF!)),\"1\",\"0\")","v":"0"},{"$f":"IF(ISNUMBER(SEARCH(\"10\",#REF!)),\"1\",\"0\")","v":"0"},{"$f":"IF(ISNUMBER(SEARCH(\"11\",#REF!)),\"1\",\"0\")","v":"0"},{"$f":"IF(ISNUMBER(SEARCH(\"12\",#REF!)),\"1\",\"0\")","v":"0"},{"$f":"IF(ISNUMBER(SEARCH(\"13\",#REF!)),\"1\",\"0\")","v":"0"},{"$f":"IF(ISNUMBER(SEARCH(\"14\",#REF!)),\"1\",\"0\")","v":"0"},{"$f":"IF(ISNUMBER(SEARCH(\"15\",#REF!)),\"1\",\"0\")","v":"0"},{"$f":"IF(ISNUMBER(SEARCH(\"16\",#REF!)),\"1\",\"0\")","v":"0"},{"$f":"IF(ISNUMBER(SEARCH(\"17\",#REF!)),\"1\",\"0\")","v":"0"},{"$nulls":4},14,6,6,26,9,{"$nulls":6},10,4,null,{"$f":"#REF!-#REF!","v":{"$error":"#REF!"}}]
[2,22,12,"MN",2,18,null,3,2,1,0,5,1,3,"0","0","1","0","0","0","0","0","0","0","0","0","0","0","0","0","0","0",null,null,1,5,2,{"$f":"IF(ISNUMBER(SEARCH(\"1\",#REF!)),\"1\",\"0\")","v":"0"},{"$f":"IF(ISNUMBER(SEARCH(\"2\",#REF!)),\"1\",\"0\")","v":"0"},{"$f":"IF(ISNUMBER(SEARCH(\"3\",#REF!)),\"1\",\"0\")","v":"0"},{"$f":"IF(ISNUMBER(SEARCH(\"4\",#REF!)),\"1\",\"0\")","v":"0"},{"$f":"IF(ISNUMBER(SEARCH(\"5\",#REF!)),\"1\",\"0\")","v":"0"},{"$f":"IF(ISNUMBER(SEARCH(\"6\",#REF!)),\"1\",\"0\")","v":"0"},{"$f":"IF(ISNUMBER(SEARCH(\"7\",#REF!)),\"1\",\"0\")","v":"0"},{"$f":"IF(ISNUMBER(SEARCH(\"8\",#REF!)),\"1\",\"0\")","v":"0"},{"$f":"IF(ISNUMBER(SEARCH(\"9\",#REF!)),\"1\",\"0\")","v":"0"},{"$f":"IF(ISNUMBER(SEARCH(\"9\",#REF!)),\"1\",\"0\")","v":"0"},{"$f":"IF(ISNUMBER(SEARCH(\"10\",#REF!)),\"1\",\"0\")","v":"0"},{"$f":"IF(ISNUMBER(SEARCH(\"11\",#REF!)),\"1\",\"0\")","v":"0"},{"$f":"IF(ISNUMBER(SEARCH(\"12\",#REF!)),\"1\",\"0\")","v":"0"},{"$f":"IF(ISNUMBER(SEARCH(\"13\",#REF!)),\"1\",\"0\")","v":"0"},{"$f":"IF(ISNUMBER(SEARCH(\"14\",#REF!)),\"1\",\"0\")","v":"0"},{"$f":"IF(ISNUMBER(SEARCH(\"15\",#REF!)),\"1\",\"0\")","v":"0"},{"$f":"IF(ISNUMBER(SEARCH(\"16\",#REF!)),\"1\",\"0\")","v":"0"},{"$f":"IF(ISNUMBER(SEARCH(\"17\",#REF!)),\"1\",\"0\")","v":"0"},2,3,null,null,32,24,24,80,12,{"$nulls":7},4,null,{"$f":"#REF!-#REF!","v":{"$error":"#REF!"}},{"$f":"#REF!-#REF!","v":{"$error":"#REF!"}}]
[2,22,12,"NTC",2,35,null,1,3,1,null,5,5,3,"0","0","1","0","0","0","0","0","0","0","0","0","0","0","0","0","0","0",null,null,2,5,1,{"$f":"IF(ISNUMBER(SEARCH(\"1\",#REF!)),\"1\",\"0\")","v":"0"},{"$f":"IF(ISNUMBER(SEARCH(\"2\",#REF!)),\"1\",\"0\")","v":"0"},{"$f":"IF(ISNUMBER(SEARCH(\"3\",#REF!)),\"1\",\"0\")","v":"0"},{"$f":"IF(ISNUMBER(SEARCH(\"4\",#REF!)),\"1\",\"0\")","v":"0"},{"$f":"IF(ISNUMBER(SEARCH(\"5\",#REF!)),\"1\",\"0\")","v":"0"},{"$f":"IF(ISNUMBER(SEARCH(\"6\",#REF!)),\"1\",\"0\")","v":"0"},{"$f":"IF(ISNUMBER(SEARCH(\"7\",#REF!)),\"1\",\"0\")","v":"0"},{"$f":"IF(ISNUMBER(SEARCH(\"8\",#REF!)),\"1\",\"0\")","v":"0"},{"$f":"IF(ISNUMBER(SEARCH(\"9\",#REF!)),\"1\",\"0\")","v":"0"},{"$f":"IF(ISNUMBER(SEARCH(\"9\",#REF!)),\"1\",\"0\")","v":"0"},{"$f":"IF(ISNUMBER(SEARCH(\"10\",#REF!)),\"1\",\"0\")","v":"0"},{"$f":"IF(ISNUMBER(SEARCH(\"11\",#REF!)),\"1\",\"0\")","v":"0"},{"$f":"IF(ISNUMBER(SEARCH(\"12\",#REF!)),\"1\",\"0\")","v":"0"},{"$f":"IF(ISNUMBER(SEARCH(\"13\",#REF!)),\"1\",\"0\")","v":"0"},{"$f":"IF(ISNUMBER(SEARCH(\"14\",#REF!)),\"1\",\"0\")","v":"0"},{"$f":"IF(ISNUMBER(SEARCH(\"15\",#REF!)),\"1\",\"0\")","v":"0"},{"$f":"IF(ISNUMBER(SEARCH(\"16\",#REF!)),\"1\",\"0\")","v":"0"},{"$f":"IF(ISNUMBER(SEARCH(\"17\",#REF!)),\"1\",\"0\")","v":"0"},5,{"$nulls":3},24,28,30,82,12,{"$nulls":6},13,4,null,{"$f":"#REF!-#REF!","v":{"$error":"#REF!"}},{"$f":"#REF!-#REF!","v":{"$error":"#REF!"}}]
[2,22,12,"NTC",2,30,null,1,8,1,null,5,5,10,"1","0","0","0","0","0","0","0","0","1","0","0","0","0","0","0","0","0",null,null,1,5,2,{"$f":"IF(ISNUMBER(SEARCH(\"1\",#REF!)),\"1\",\"0\")","v":"0"},{"$f":"IF(ISNUMBER(SEARCH(\"2\",#REF!)),\"1\",\"0\")","v":"0"},{"$f":"IF(ISNUMBER(SEARCH(\"3\",#REF!)),\"1\",\"0\")","v":"0"},{"$f":"IF(ISNUMBER(SEARCH(\"4\",#REF!)),\"1\",\"0\")","v":"0"},{"$f":"IF(ISNUMBER(SEARCH(\"5\",#REF!)),\"1\",\"0\")","v":"0"},{"$f":"IF(ISNUMBER(SEARCH(\"6\",#REF!)),\"1\",\"0\")","v":"0"},{"$f":"IF(ISNUMBER(SEARCH(\"7\",#REF!)),\"1\",\"0\")","v":"0"},{"$f":"IF(ISNUMBER(SEARCH(\"8\",#REF!)),\"1\",\"0\")","v":"0"},{"$f":"IF(ISNUMBER(SEARCH(\"9\",#REF!)),\"1\",\"0\")","v":"0"},{"$f":"IF(ISNUMBER(SEARCH(\"9\",#REF!)),\"1\",\"0\")","v":"0"},{"$f":"IF(ISNUMBER(SEARCH(\"10\",#REF!)),\"1\",\"0\")","v":"0"},{"$f":"IF(ISNUMBER(SEARCH(\"11\",#REF!)),\"1\",\"0\")","v":"0"},{"$f":"IF(ISNUMBER(SEARCH(\"12\",#REF!)),\"1\",\"0\")","v":"0"},{"$f":"IF(ISNUMBER(SEARCH(\"13\",#REF!)),\"1\",\"0\")","v":"0"},{"$f":"IF(ISNUMBER(SEARCH(\"14\",#REF!)),\"1\",\"0\")","v":"0"},{"$f":"IF(ISNUMBER(SEARCH(\"15\",#REF!)),\"1\",\"0\")","v":"0"},{"$f":"IF(ISNUMBER(SEARCH(\"16\",#REF!)),\"1\",\"0\")","v":"0"},{"$f":"IF(ISNUMBER(SEARCH(\"17\",#REF!)),\"1\",\"0\")","v":"0"},5,1,null,null,30,30,20,80,12,{"$nulls":6},14,3,null,{"$f":"#REF!-#REF!","v":{"$error":"#REF!"}},{"$f":"#REF!-#REF!","v":{"$error":"#REF!"}}]
[2,22,12,"NTC",1,30,null,1,8,1,5,5,2,"9. Kidnapping/  Enlèvement/ Otage (SANS violence sexuelle)","0","0","0","0","0","0","0","0","1","0","0","0","0","0","0","0","0","0",null,null,3,5,2,{"$f":"IF(ISNUMBER(SEARCH(\"1\",#REF!)),\"1\",\"0\")","v":"0"},{"$f":"IF(ISNUMBER(SEARCH(\"2\",#REF!)),\"1\",\"0\")","v":"0"},{"$f":"IF(ISNUMBER(SEARCH(\"3\",#REF!)),\"1\",\"0\")","v":"0"},{"$f":"IF(ISNUMBER(SEARCH(\"4\",#REF!)),\"1\",\"0\")","v":"0"},{"$f":"IF(ISNUMBER(SEARCH(\"5\",#REF!)),\"1\",\"0\")","v":"0"},{"$f":"IF(ISNUMBER(SEARCH(\"6\",#REF!)),\"1\",\"0\")","v":"0"},{"$f":"IF(ISNUMBER(SEARCH(\"7\",#REF!)),\"1\",\"0\")","v":"0"},{"$f":"IF(ISNUMBER(SEARCH(\"8\",#REF!)),\"1\",\"0\")","v":"0"},{"$f":"IF(ISNUMBER(SEARCH(\"9\",#REF!)),\"1\",\"0\")","v":"0"},{"$f":"IF(ISNUMBER(SEARCH(\"9\",#REF!)),\"1\",\"0\")","v":"0"},{"$f":"IF(ISNUMBER(SEARCH(\"10\",#REF!)),\"1\",\"0\")","v":"0"},{"$f":"IF(ISNUMBER(SEARCH(\"11\",#REF!)),\"1\",\"0\")","v":"0"},{"$f":"IF(ISNUMBER(SEARCH(\"12\",#REF!)),\"1\",\"0\")","v":"0"},{"$f":"IF(ISNUMBER(SEARCH(\"13\",#REF!)),\"1\",\"0\")","v":"0"},{"$f":"IF(ISNUMBER(SEARCH(\"14\",#REF!)),\"1\",\"0\")","v":"0"},{"$f":"IF(ISNUMBER(SEARCH(\"15\",#REF!)),\"1\",\"0\")","v":"0"},{"$f":"IF(ISNUMBER(SEARCH(\"16\",#REF!)),\"1\",\"0\")","v":"0"},{"$f":"IF(ISNUMBER(SEARCH(\"17\",#REF!)),\"1\",\"0\")","v":"0"},{"$nulls":4},14,6,6,26,13,null,2,0,2,4,null,14,4,null,{"$f":"#REF!-#REF!","v":{"$error":"#REF!"}},{"$f":"#REF!-#REF!","v":{"$error":"#REF!"}}]
[2,22,12,"CBM",2,25,null,1,8,1,3,11,2,3,"0","0","1","0","0","0","0","0","0","0","0","0","0","0","0","0","0","0",null,null,2,5,2,{"$f":"IF(ISNUMBER(SEARCH(\"1\",#REF!)),\"1\",\"0\")","v":"0"},{"$f":"IF(ISNUMBER(SEARCH(\"2\",#REF!)),\"1\",\"0\")","v":"0"},{"$f":"IF(ISNUMBER(SEARCH(\"3\",#REF!)),\"1\",\"0\")","v":"0"},{"$f":"IF(ISNUMBER(SEARCH(\"4\",#REF!)),\"1\",\"0\")","v":"0"},{"$f":"IF(ISNUMBER(SEARCH(\"5\",#REF!)),\"1\",\"0\")","v":"0"},{"$f":"IF(ISNUMBER(SEARCH(\"6\",#REF!)),\"1\",\"0\")","v":"0"},{"$f":"IF(ISNUMBER(SEARCH(\"7\",#REF!)),\"1\",\"0\")","v":"0"},{"$f":"IF(ISNUMBER(SEARCH(\"8\",#REF!)),\"1\",\"0\")","v":"0"},{"$f":"IF(ISNUMBER(SEARCH(\"9\",#REF!)),\"1\",\"0\")","v":"0"},{"$f":"IF(ISNUMBER(SEARCH(\"9\",#REF!)),\"1\",\"0\")","v":"0"},{"$f":"IF(ISNUMBER(SEARCH(\"10\",#REF!)),\"1\",\"0\")","v":"0"},{"$f":"IF(ISNUMBER(SEARCH(\"11\",#REF!)),\"1\",\"0\")","v":"0"},{"$f":"IF(ISNUMBER(SEARCH(\"12\",#REF!)),\"1\",\"0\")","v":"0"},{"$f":"IF(ISNUMBER(SEARCH(\"13\",#REF!)),\"1\",\"0\")","v":"0"},{"$f":"IF(ISNUMBER(SEARCH(\"14\",#REF!)),\"1\",\"0\")","v":"0"},{"$f":"IF(ISNUMBER(SEARCH(\"15\",#REF!)),\"1\",\"0\")","v":"0"},{"$f":"IF(ISNUMBER(SEARCH(\"16\",#REF!)),\"1\",\"0\")","v":"0"},{"$f":"IF(ISNUMBER(SEARCH(\"17\",#REF!)),\"1\",\"0\")","v":"0"},3,2,null,null,38,30,22,90,10,{"$nulls":7},4,null,{"$f":"#REF!-#REF!","v":{"$error":"#REF!"}},{"$f":"#REF!-#REF!","v":{"$error":"#REF!"}}]
[2,22,12,"NTC",2,40,null,2,8,1,4,3,6,3,"0","0","1","0","0","0","0","0","0","0","0","0","0","0","0","0","0","0",null,null,3,5,2,{"$f":"IF(ISNUMBER(SEARCH(\"1\",#REF!)),\"1\",\"0\")","v":"0"},{"$f":"IF(ISNUMBER(SEARCH(\"2\",#REF!)),\"1\",\"0\")","v":"0"},{"$f":"IF(ISNUMBER(SEARCH(\"3\",#REF!)),\"1\",\"0\")","v":"0"},{"$f":"IF(ISNUMBER(SEARCH(\"4\",#REF!)),\"1\",\"0\")","v":"0"},{"$f":"IF(ISNUMBER(SEARCH(\"5\",#REF!)),\"1\",\"0\")","v":"0"},{"$f":"IF(ISNUMBER(SEARCH(\"6\",#REF!)),\"1\",\"0\")","v":"0"},{"$f":"IF(ISNUMBER(SEARCH(\"7\",#REF!)),\"1\",\"0\")","v":"0"},{"$f":"IF(ISNUMBER(SEARCH(\"8\",#REF!)),\"1\",\"0\")","v":"0"},{"$f":"IF(ISNUMBER(SEARCH(\"9\",#REF!)),\"1\",\"0\")","v":"0"},{"$f":"IF(ISNUMBER(SEARCH(\"9\",#REF!)),\"1\",\"0\")","v":"0"},{"$f":"IF(ISNUMBER(SEARCH(\"10\",#REF!)),\"1\",\"0\")","v":"0"},{"$f":"IF(ISNUMBER(SEARCH(\"11\",#REF!)),\"1\",\"0\")","v":"0"},{"$f":"IF(ISNUMBER(SEARCH(\"12\",#REF!)),\"1\",\"0\")","v":"0"},{"$f":"IF(ISNUMBER(SEARCH(\"13\",#REF!)),\"1\",\"0\")","v":"0"},{"$f":"IF(ISNUMBER(SEARCH(\"14\",#REF!)),\"1\",\"0\")","v":"0"},{"$f":"IF(ISNUMBER(SEARCH(\"15\",#REF!)),\"1\",\"0\")","v":"0"},{"$f":"IF(ISNUMBER(SEARCH(\"16\",#REF!)),\"1\",\"0\")","v":"0"},{"$f":"IF(ISNUMBER(SEARCH(\"17\",#REF!)),\"1\",\"0\")","v":"0"},5,1,null,null,38,34,22,94,8,{"$nulls":6},12,5,null,{"$f":"#REF!-#REF!","v":{"$error":"#REF!"}},{"$f":"#REF!-#REF!","v":{"$error":"#REF!"}}]
[2,22,12,"NTC",2,32,null,1,8,2,10,11,5,10,"1","0","0","0","0","0","0","0","0","1","0","0","0","0","0","0","0","0",null,null,1,5,1,{"$f":"IF(ISNUMBER(SEARCH(\"1\",#REF!)),\"1\",\"0\")","v":"0"},{"$f":"IF(ISNUMBER(SEARCH(\"2\",#REF!)),\"1\",\"0\")","v":"0"},{"$f":"IF(ISNUMBER(SEARCH(\"3\",#REF!)),\"1\",\"0\")","v":"0"},{"$f":"IF(ISNUMBER(SEARCH(\"4\",#REF!)),\"1\",\"0\")","v":"0"},{"$f":"IF(ISNUMBER(SEARCH(\"5\",#REF!)),\"1\",\"0\")","v":"0"},{"$f":"IF(ISNUMBER(SEARCH(\"6\",#REF!)),\"1\",\"0\")","v":"0"},{"$f":"IF(ISNUMBER(SEARCH(\"7\",#REF!)),\"1\",\"0\")","v":"0"},{"$f":"IF(ISNUMBER(SEARCH(\"8\",#REF!)),\"1\",\"0\")","v":"0"},{"$f":"IF(ISNUMBER(SEARCH(\"9\",#REF!)),\"1\",\"0\")","v":"0"},{"$f":"IF(ISNUMBER(SEARCH(\"9\",#REF!)),\"1\",\"0\")","v":"0"},{"$f":"IF(ISNUMBER(SEARCH(\"10\",#REF!)),\"1\",\"0\")","v":"0"},{"$f":"IF(ISNUMBER(SEARCH(\"11\",#REF!)),\"1\",\"0\")","v":"0"},{"$f":"IF(ISNUMBER(SEARCH(\"12\",#REF!)),\"1\",\"0\")","v":"0"},{"$f":"IF(ISNUMBER(SEARCH(\"13\",#REF!)),\"1\",\"0\")","v":"0"},{"$f":"IF(ISNUMBER(SEARCH(\"14\",#REF!)),\"1\",\"0\")","v":"0"},{"$f":"IF(ISNUMBER(SEARCH(\"15\",#REF!)),\"1\",\"0\")","v":"0"},{"$f":"IF(ISNUMBER(SEARCH(\"16\",#REF!)),\"1\",\"0\")","v":"0"},{"$f":"IF(ISNUMBER(SEARCH(\"17\",#REF!)),\"1\",\"0\")","v":"0"},5,1,null,null,38,26,22,86,7,null,4,2,0,6,null,12,4,null,{"$f":"#REF!-#REF!","v":{"$error":"#REF!"}},{"$f":"#REF!-#REF!","v":{"$error":"#REF!"}}]
[2,22,12,"CBM",2,19,null,1,8,2,2,11,2,3,"0","0","1","0","0","0","0","0","0","0","0","0","0","0","0","0","0","0",null,null,2,5,2,{"$f":"IF(ISNUMBER(SEARCH(\"1\",#REF!)),\"1\",\"0\")","v":"0"},{"$f":"IF(ISNUMBER(SEARCH(\"2\",#REF!)),\"1\",\"0\")","v":"0"},{"$f":"IF(ISNUMBER(SEARCH(\"3\",#REF!)),\"1\",\"0\")","v":"0"},{"$f":"IF(ISNUMBER(SEARCH(\"4\",#REF!)),\"1\",\"0\")","v":"0"},{"$f":"IF(ISNUMBER(SEARCH(\"5\",#REF!)),\"1\",\"0\")","v":"0"},{"$f":"IF(ISNUMBER(SEARCH(\"6\",#REF!)),\"1\",\"0\")","v":"0"},{"$f":"IF(ISNUMBER(SEARCH(\"7\",#REF!)),\"1\",\"0\")","v":"0"},{"$f":"IF(ISNUMBER(SEARCH(\"8\",#REF!)),\"1\",\"0\")","v":"0"},{"$f":"IF(ISNUMBER(SEARCH(\"9\",#REF!)),\"1\",\"0\")","v":"0"},{"$f":"IF(ISNUMBER(SEARCH(\"9\",#REF!)),\"1\",\"0\")","v":"0"},{"$f":"IF(ISNUMBER(SEARCH(\"10\",#REF!)),\"1\",\"0\")","v":"0"},{"$f":"IF(ISNUMBER(SEARCH(\"11\",#REF!)),\"1\",\"0\")","v":"0"},{"$f":"IF(ISNUMBER(SEARCH(\"12\",#REF!)),\"1\",\"0\")","v":"0"},{"$f":"IF(ISNUMBER(SEARCH(\"13\",#REF!)),\"1\",\"0\")","v":"0"},{"$f":"IF(ISNUMBER(SEARCH(\"14\",#REF!)),\"1\",\"0\")","v":"0"},{"$f":"IF(ISNUMBER(SEARCH(\"15\",#REF!)),\"1\",\"0\")","v":"0"},{"$f":"IF(ISNUMBER(SEARCH(\"16\",#REF!)),\"1\",\"0\")","v":"0"},{"$f":"IF(ISNUMBER(SEARCH(\"17\",#REF!)),\"1\",\"0\")","v":"0"},5,1,null,null,36,30,26,92,11,{"$nulls":7},4,null,{"$f":"#REF!-#REF!","v":{"$error":"#REF!"}},{"$f":"#REF!-#REF!","v":{"$error":"#REF!"}}]
[2,22,12,"CBM",2,32,null,1,3,null,null,11,2,3,"0","0","1","0","0","0","0","0","0","0","0","0","0","0","0","0","0","0",null,null,2,5,2,{"$f":"IF(ISNUMBER(SEARCH(\"1\",#REF!)),\"1\",\"0\")","v":"0"},{"$f":"IF(ISNUMBER(SEARCH(\"2\",#REF!)),\"1\",\"0\")","v":"0"},{"$f":"IF(ISNUMBER(SEARCH(\"3\",#REF!)),\"1\",\"0\")","v":"0"},{"$f":"IF(ISNUMBER(SEARCH(\"4\",#REF!)),\"1\",\"0\")","v":"0"},{"$f":"IF(ISNUMBER(SEARCH(\"5\",#REF!)),\"1\",\"0\")","v":"0"},{"$f":"IF(ISNUMBER(SEARCH(\"6\",#REF!)),\"1\",\"0\")","v":"0"},{"$f":"IF(ISNUMBER(SEARCH(\"7\",#REF!)),\"1\",\"0\")","v":"0"},{"$f":"IF(ISNUMBER(SEARCH(\"8\",#REF!)),\"1\",\"0\")","v":"0"},{"$f":"IF(ISNUMBER(SEARCH(\"9\",#REF!)),\"1\",\"0\")","v":"0"},{"$f":"IF(ISNUMBER(SEARCH(\"9\",#REF!)),\"1\",\"0\")","v":"0"},{"$f":"IF(ISNUMBER(SEARCH(\"10\",#REF!)),\"1\",\"0\")","v":"0"},{"$f":"IF(ISNUMBER(SEARCH(\"11\",#REF!)),\"1\",\"0\")","v":"0"},{"$f":"IF(ISNUMBER(SEARCH(\"12\",#REF!)),\"1\",\"0\")","v":"0"},{"$f":"IF(ISNUMBER(SEARCH(\"13\",#REF!)),\"1\",\"0\")","v":"0"},{"$f":"IF(ISNUMBER(SEARCH(\"14\",#REF!)),\"1\",\"0\")","v":"0"},{"$f":"IF(ISNUMBER(SEARCH(\"15\",#REF!)),\"1\",\"0\")","v":"0"},{"$f":"IF(ISNUMBER(SEARCH(\"16\",#REF!)),\"1\",\"0\")","v":"0"},{"$f":"IF(ISNUMBER(SEARCH(\"17\",#REF!)),\"1\",\"0\")","v":"0"},5,2,null,null,40,24,22,86,10,{"$nulls":6},14,4,null,{"$f":"#REF!-#REF!","v":{"$error":"#REF!"}},{"$f":"#REF!-#REF!","v":{"$error":"#REF!"}}]
[2,22,12,"NTC",2,18,null,1,8,1,2,3,2,10,"1","0","0","0","0","0","0","0","0","1","0","0","0","0","0","0","0","0",null,null,3,5,1,{"$f":"IF(ISNUMBER(SEARCH(\"1\",#REF!)),\"1\",\"0\")","v":"0"},{"$f":"IF(ISNUMBER(SEARCH(\"2\",#REF!)),\"1\",\"0\")","v":"0"},{"$f":"IF(ISNUMBER(SEARCH(\"3\",#REF!)),\"1\",\"0\")","v":"0"},{"$f":"IF(ISNUMBER(SEARCH(\"4\",#REF!)),\"1\",\"0\")","v":"0"},{"$f":"IF(ISNUMBER(SEARCH(\"5\",#REF!)),\"1\",\"0\")","v":"0"},{"$f":"IF(ISNUMBER(SEARCH(\"6\",#REF!)),\"1\",\"0\")","v":"0"},{"$f":"IF(ISNUMBER(SEARCH(\"7\",#REF!)),\"1\",\"0\")","v":"0"},{"$f":"IF(ISNUMBER(SEARCH(\"8\",#REF!)),\"1\",\"0\")","v":"0"},{"$f":"IF(ISNUMBER(SEARCH(\"9\",#REF!)),\"1\",\"0\")","v":"0"},{"$f":"IF(ISNUMBER(SEARCH(\"9\",#REF!)),\"1\",\"0\")","v":"0"},{"$f":"IF(ISNUMBER(SEARCH(\"10\",#REF!)),\"1\",\"0\")","v":"0"},{"$f":"IF(ISNUMBER(SEARCH(\"11\",#REF!)),\"1\",\"0\")","v":"0"},{"$f":"IF(ISNUMBER(SEARCH(\"12\",#REF!)),\"1\",\"0\")","v":"0"},{"$f":"IF(ISNUMBER(SEARCH(\"13\",#REF!)),\"1\",\"0\")","v":"0"},{"$f":"IF(ISNUMBER(SEARCH(\"14\",#REF!)),\"1\",\"0\")","v":"0"},{"$f":"IF(ISNUMBER(SEARCH(\"15\",#REF!)),\"1\",\"0\")","v":"0"},{"$f":"IF(ISNUMBER(SEARCH(\"16\",#REF!)),\"1\",\"0\")","v":"0"},{"$f":"IF(ISNUMBER(SEARCH(\"17\",#REF!)),\"1\",\"0\")","v":"0"},3,{"$nulls":3},28,28,24,80,10,null,0,0,2,2,null,14,4,null,{"$f":"#REF!-#REF!","v":{"$error":"#REF!"}},{"$f":"#REF!-#REF!","v":{"$error":"#REF!"}}]
[2,22,12,"CBM",2,30,null,1,8,1,7,5,5,1,"1","0","0","0","0","0","0","0","0","0","0","0","0","0","0","0","0","0",null,null,1,5,1,{"$f":"IF(ISNUMBER(SEARCH(\"1\",#REF!)),\"1\",\"0\")","v":"0"},{"$f":"IF(ISNUMBER(SEARCH(\"2\",#REF!)),\"1\",\"0\")","v":"0"},{"$f":"IF(ISNUMBER(SEARCH(\"3\",#REF!)),\"1\",\"0\")","v":"0"},{"$f":"IF(ISNUMBER(SEARCH(\"4\",#REF!)),\"1\",\"0\")","v":"0"},{"$f":"IF(ISNUMBER(SEARCH(\"5\",#REF!)),\"1\",\"0\")","v":"0"},{"$f":"IF(ISNUMBER(SEARCH(\"6\",#REF!)),\"1\",\"0\")","v":"0"},{"$f":"IF(ISNUMBER(SEARCH(\"7\",#REF!)),\"1\",\"0\")","v":"0"},{"$f":"IF(ISNUMBER(SEARCH(\"8\",#REF!)),\"1\",\"0\")","v":"0"},{"$f":"IF(ISNUMBER(SEARCH(\"9\",#REF!)),\"1\",\"0\")","v":"0"},{"$f":"IF(ISNUMBER(SEARCH(\"9\",#REF!)),\"1\",\"0\")","v":"0"},{"$f":"IF(ISNUMBER(SEARCH(\"10\",#REF!)),\"1\",\"0\")","v":"0"},{"$f":"IF(ISNUMBER(SEARCH(\"11\",#REF!)),\"1\",\"0\")","v":"0"},{"$f":"IF(ISNUMBER(SEARCH(\"12\",#REF!)),\"1\",\"0\")","v":"0"},{"$f":"IF(ISNUMBER(SEARCH(\"13\",#REF!)),\"1\",\"0\")","v":"0"},{"$f":"IF(ISNUMBER(SEARCH(\"14\",#REF!)),\"1\",\"0\")","v":"0"},{"$f":"IF(ISNUMBER(SEARCH(\"15\",#REF!)),\"1\",\"0\")","v":"0"},{"$f":"IF(ISNUMBER(SEARCH(\"16\",#REF!)),\"1\",\"0\")","v":"0"},{"$f":"IF(ISNUMBER(SEARCH(\"17\",#REF!)),\"1\",\"0\")","v":"0"},null,2,null,null,28,26,24,78,10,{"$nulls":7},3,null,{"$f":"#REF!-#REF!","v":{"$error":"#REF!"}},{"$f":"#REF!-#REF!","v":{"$error":"#REF!"}}]
[2,22,12,"CBM",1,67,null,1,3,1,8,11,2,14,"1","0","0","1","0","0","0","0","0","0","0","0","0","1","0","0","0","0",null,null,2,5,2,{"$f":"IF(ISNUMBER(SEARCH(\"1\",#REF!)),\"1\",\"0\")","v":"0"},{"$f":"IF(ISNUMBER(SEARCH(\"2\",#REF!)),\"1\",\"0\")","v":"0"},{"$f":"IF(ISNUMBER(SEARCH(\"3\",#REF!)),\"1\",\"0\")","v":"0"},{"$f":"IF(ISNUMBER(SEARCH(\"4\",#REF!)),\"1\",\"0\")","v":"0"},{"$f":"IF(ISNUMBER(SEARCH(\"5\",#REF!)),\"1\",\"0\")","v":"0"},{"$f":"IF(ISNUMBER(SEARCH(\"6\",#REF!)),\"1\",\"0\")","v":"0"},{"$f":"IF(ISNUMBER(SEARCH(\"7\",#REF!)),\"1\",\"0\")","v":"0"},{"$f":"IF(ISNUMBER(SEARCH(\"8\",#REF!)),\"1\",\"0\")","v":"0"},{"$f":"IF(ISNUMBER(SEARCH(\"9\",#REF!)),\"1\",\"0\")","v":"0"},{"$f":"IF(ISNUMBER(SEARCH(\"9\",#REF!)),\"1\",\"0\")","v":"0"},{"$f":"IF(ISNUMBER(SEARCH(\"10\",#REF!)),\"1\",\"0\")","v":"0"},{"$f":"IF(ISNUMBER(SEARCH(\"11\",#REF!)),\"1\",\"0\")","v":"0"},{"$f":"IF(ISNUMBER(SEARCH(\"12\",#REF!)),\"1\",\"0\")","v":"0"},{"$f":"IF(ISNUMBER(SEARCH(\"13\",#REF!)),\"1\",\"0\")","v":"0"},{"$f":"IF(ISNUMBER(SEARCH(\"14\",#REF!)),\"1\",\"0\")","v":"0"},{"$f":"IF(ISNUMBER(SEARCH(\"15\",#REF!)),\"1\",\"0\")","v":"0"},{"$f":"IF(ISNUMBER(SEARCH(\"16\",#REF!)),\"1\",\"0\")","v":"0"},{"$f":"IF(ISNUMBER(SEARCH(\"17\",#REF!)),\"1\",\"0\")","v":"0"},null,2,null,null,26,26,26,78,11,{"$nulls":7},4,null,{"$f":"#REF!-#REF!","v":{"$error":"#REF!"}},{"$f":"#REF!-#REF!","v":{"$error":"#REF!"}}]
[2,22,12,"MN",2,30,null,1,3,2,2,5,6,3,"0","0","1","0","0","0","0","0","0","0","0","0","0","0","0","0","0","0",null,null,1,5,2,{"$f":"IF(ISNUMBER(SEARCH(\"1\",#REF!)),\"1\",\"0\")","v":"0"},{"$f":"IF(ISNUMBER(SEARCH(\"2\",#REF!)),\"1\",\"0\")","v":"0"},{"$f":"IF(ISNUMBER(SEARCH(\"3\",#REF!)),\"1\",\"0\")","v":"0"},{"$f":"IF(ISNUMBER(SEARCH(\"4\",#REF!)),\"1\",\"0\")","v":"0"},{"$f":"IF(ISNUMBER(SEARCH(\"5\",#REF!)),\"1\",\"0\")","v":"0"},{"$f":"IF(ISNUMBER(SEARCH(\"6\",#REF!)),\"1\",\"0\")","v":"0"},{"$f":"IF(ISNUMBER(SEARCH(\"7\",#REF!)),\"1\",\"0\")","v":"0"},{"$f":"IF(ISNUMBER(SEARCH(\"8\",#REF!)),\"1\",\"0\")","v":"0"},{"$f":"IF(ISNUMBER(SEARCH(\"9\",#REF!)),\"1\",\"0\")","v":"0"},{"$f":"IF(ISNUMBER(SEARCH(\"9\",#REF!)),\"1\",\"0\")","v":"0"},{"$f":"IF(ISNUMBER(SEARCH(\"10\",#REF!)),\"1\",\"0\")","v":"0"},{"$f":"IF(ISNUMBER(SEARCH(\"11\",#REF!)),\"1\",\"0\")","v":"0"},{"$f":"IF(ISNUMBER(SEARCH(\"12\",#REF!)),\"1\",\"0\")","v":"0"},{"$f":"IF(ISNUMBER(SEARCH(\"13\",#REF!)),\"1\",\"0\")","v":"0"},{"$f":"IF(ISNUMBER(SEARCH(\"14\",#REF!)),\"1\",\"0\")","v":"0"},{"$f":"IF(ISNUMBER(SEARCH(\"15\",#REF!)),\"1\",\"0\")","v":"0"},{"$f":"IF(ISNUMBER(SEARCH(\"16\",#REF!)),\"1\",\"0\")","v":"0"},{"$f":"IF(ISNUMBER(SEARCH(\"17\",#REF!)),\"1\",\"0\")","v":"0"},5,2,null,null,14,6,6,26,6,{"$nulls":7},4,null,{"$f":"#REF!-#REF!","v":{"$error":"#REF!"}},{"$f":"#REF!-#REF!","v":{"$error":"#REF!"}}]
[2,22,12,"MN",2,40,null,2,8,2,6,5,6,3,"0","0","1","0","0","0","0","0","0","0","0","0","0","0","0","0","0","0",null,null,3,5,2,{"$f":"IF(ISNUMBER(SEARCH(\"1\",#REF!)),\"1\",\"0\")","v":"0"},{"$f":"IF(ISNUMBER(SEARCH(\"2\",#REF!)),\"1\",\"0\")","v":"0"},{"$f":"IF(ISNUMBER(SEARCH(\"3\",#REF!)),\"1\",\"0\")","v":"0"},{"$f":"IF(ISNUMBER(SEARCH(\"4\",#REF!)),\"1\",\"0\")","v":"0"},{"$f":"IF(ISNUMBER(SEARCH(\"5\",#REF!)),\"1\",\"0\")","v":"0"},{"$f":"IF(ISNUMBER(SEARCH(\"6\",#REF!)),\"1\",\"0\")","v":"0"},{"$f":"IF(ISNUMBER(SEARCH(\"7\",#REF!)),\"1\",\"0\")","v":"0"},{"$f":"IF(ISNUMBER(SEARCH(\"8\",#REF!)),\"1\",\"0\")","v":"0"},{"$f":"IF(ISNUMBER(SEARCH(\"9\",#REF!)),\"1\",\"0\")","v":"0"},{"$f":"IF(ISNUMBER(SEARCH(\"9\",#REF!)),\"1\",\"0\")","v":"0"},{"$f":"IF(ISNUMBER(SEARCH(\"10\",#REF!)),\"1\",\"0\")","v":"0"},{"$f":"IF(ISNUMBER(SEARCH(\"11\",#REF!)),\"1\",\"0\")","v":"0"},{"$f":"IF(ISNUMBER(SEARCH(\"12\",#REF!)),\"1\",\"0\")","v":"0"},{"$f":"IF(ISNUMBER(SEARCH(\"13\",#REF!)),\"1\",\"0\")","v":"0"},{"$f":"IF(ISNUMBER(SEARCH(\"14\",#REF!)),\"1\",\"0\")","v":"0"},{"$f":"IF(ISNUMBER(SEARCH(\"15\",#REF!)),\"1\",\"0\")","v":"0"},{"$f":"IF(ISNUMBER(SEARCH(\"16\",#REF!)),\"1\",\"0\")","v":"0"},{"$f":"IF(ISNUMBER(SEARCH(\"17\",#REF!)),\"1\",\"0\")","v":"0"},5,2,null,null,42,38,26,106,7,{"$nulls":6},14,5,null,{"$f":"#REF!-#REF!","v":{"$error":"#REF!"}},{"$f":"#REF!-#REF!","v":{"$error":"#REF!"}}]
[2,22,11,"ZR",2,44,null,1,8,1,7,1,5,3,"0","0","1","0","0","0","0","0","0","0","0","0","0","0","0","0","0","0",null,null,2,5,2,{"$f":"IF(ISNUMBER(SEARCH(\"1\",#REF!)),\"1\",\"0\")","v":"0"},{"$f":"IF(ISNUMBER(SEARCH(\"2\",#REF!)),\"1\",\"0\")","v":"0"},{"$f":"IF(ISNUMBER(SEARCH(\"3\",#REF!)),\"1\",\"0\")","v":"0"},{"$f":"IF(ISNUMBER(SEARCH(\"4\",#REF!)),\"1\",\"0\")","v":"0"},{"$f":"IF(ISNUMBER(SEARCH(\"5\",#REF!)),\"1\",\"0\")","v":"0"},{"$f":"IF(ISNUMBER(SEARCH(\"6\",#REF!)),\"1\",\"0\")","v":"0"},{"$f":"IF(ISNUMBER(SEARCH(\"7\",#REF!)),\"1\",\"0\")","v":"0"},{"$f":"IF(ISNUMBER(SEARCH(\"8\",#REF!)),\"1\",\"0\")","v":"0"},{"$f":"IF(ISNUMBER(SEARCH(\"9\",#REF!)),\"1\",\"0\")","v":"0"},{"$f":"IF(ISNUMBER(SEARCH(\"9\",#REF!)),\"1\",\"0\")","v":"0"},{"$f":"IF(ISNUMBER(SEARCH(\"10\",#REF!)),\"1\",\"0\")","v":"0"},{"$f":"IF(ISNUMBER(SEARCH(\"11\",#REF!)),\"1\",\"0\")","v":"0"},{"$f":"IF(ISNUMBER(SEARCH(\"12\",#REF!)),\"1\",\"0\")","v":"0"},{"$f":"IF(ISNUMBER(SEARCH(\"13\",#REF!)),\"1\",\"0\")","v":"0"},{"$f":"IF(ISNUMBER(SEARCH(\"14\",#REF!)),\"1\",\"0\")","v":"0"},{"$f":"IF(ISNUMBER(SEARCH(\"15\",#REF!)),\"1\",\"0\")","v":"0"},{"$f":"IF(ISNUMBER(SEARCH(\"16\",#REF!)),\"1\",\"0\")","v":"0"},{"$f":"IF(ISNUMBER(SEARCH(\"17\",#REF!)),\"1\",\"0\")","v":"0"},5,{"$nulls":3},34,26,26,86,4,{"$nulls":6},6,4,null,{"$f":"#REF!-#REF!","v":{"$error":"#REF!"}},{"$f":"#REF!-#REF!","v":{"$error":"#REF!"}}]
[2,22,11,"RB",2,20,null,3,2,null,0,5,null,null,"0","0","0","0","0","0","0","0","0","0","0","0","0","0","0","0","0","0",null,null,2,5,2,{"$f":"IF(ISNUMBER(SEARCH(\"1\",#REF!)),\"1\",\"0\")","v":"0"},{"$f":"IF(ISNUMBER(SEARCH(\"2\",#REF!)),\"1\",\"0\")","v":"0"},{"$f":"IF(ISNUMBER(SEARCH(\"3\",#REF!)),\"1\",\"0\")","v":"0"},{"$f":"IF(ISNUMBER(SEARCH(\"4\",#REF!)),\"1\",\"0\")","v":"0"},{"$f":"IF(ISNUMBER(SEARCH(\"5\",#REF!)),\"1\",\"0\")","v":"0"},{"$f":"IF(ISNUMBER(SEARCH(\"6\",#REF!)),\"1\",\"0\")","v":"0"},{"$f":"IF(ISNUMBER(SEARCH(\"7\",#REF!)),\"1\",\"0\")","v":"0"},{"$f":"IF(ISNUMBER(SEARCH(\"8\",#REF!)),\"1\",\"0\")","v":"0"},{"$f":"IF(ISNUMBER(SEARCH(\"9\",#REF!)),\"1\",\"0\")","v":"0"},{"$f":"IF(ISNUMBER(SEARCH(\"9\",#REF!)),\"1\",\"0\")","v":"0"},{"$f":"IF(ISNUMBER(SEARCH(\"10\",#REF!)),\"1\",\"0\")","v":"0"},{"$f":"IF(ISNUMBER(SEARCH(\"11\",#REF!)),\"1\",\"0\")","v":"0"},{"$f":"IF(ISNUMBER(SEARCH(\"12\",#REF!)),\"1\",\"0\")","v":"0"},{"$f":"IF(ISNUMBER(SEARCH(\"13\",#REF!)),\"1\",\"0\")","v":"0"},{"$f":"IF(ISNUMBER(SEARCH(\"14\",#REF!)),\"1\",\"0\")","v":"0"},{"$f":"IF(ISNUMBER(SEARCH(\"15\",#REF!)),\"1\",\"0\")","v":"0"},{"$f":"IF(ISNUMBER(SEARCH(\"16\",#REF!)),\"1\",\"0\")","v":"0"},{"$f":"IF(ISNUMBER(SEARCH(\"17\",#REF!)),\"1\",\"0\")","v":"0"},{"$nulls":4},30,32,32,94,4,{"$nulls":6},7,3,null,{"$f":"#REF!-#REF!","v":{"$error":"#REF!"}},{"$f":"#REF!-#REF!","v":{"$error":"#REF!"}}]
[2,22,11,"ZR",2,20,null,3,8,1,0,3,1,1,"1","0","0","0","0","0","0","0","0","0","0","0","0","0","0","0","0","0",null,null,1,5,null,{"$f":"IF(ISNUMBER(SEARCH(\"1\",#REF!)),\"1\",\"0\")","v":"0"},{"$f":"IF(ISNUMBER(SEARCH(\"2\",#REF!)),\"1\",\"0\")","v":"0"},{"$f":"IF(ISNUMBER(SEARCH(\"3\",#REF!)),\"1\",\"0\")","v":"0"},{"$f":"IF(ISNUMBER(SEARCH(\"4\",#REF!)),\"1\",\"0\")","v":"0"},{"$f":"IF(ISNUMBER(SEARCH(\"5\",#REF!)),\"1\",\"0\")","v":"0"},{"$f":"IF(ISNUMBER(SEARCH(\"6\",#REF!)),\"1\",\"0\")","v":"0"},{"$f":"IF(ISNUMBER(SEARCH(\"7\",#REF!)),\"1\",\"0\")","v":"0"},{"$f":"IF(ISNUMBER(SEARCH(\"8\",#REF!)),\"1\",\"0\")","v":"0"},{"$f":"IF(ISNUMBER(SEARCH(\"9\",#REF!)),\"1\",\"0\")","v":"0"},{"$f":"IF(ISNUMBER(SEARCH(\"9\",#REF!)),\"1\",\"0\")","v":"0"},{"$f":"IF(ISNUMBER(SEARCH(\"10\",#REF!)),\"1\",\"0\")","v":"0"},{"$f":"IF(ISNUMBER(SEARCH(\"11\",#REF!)),\"1\",\"0\")","v":"0"},{"$f":"IF(ISNUMBER(SEARCH(\"12\",#REF!)),\"1\",\"0\")","v":"0"},{"$f":"IF(ISNUMBER(SEARCH(\"13\",#REF!)),\"1\",\"0\")","v":"0"},{"$f":"IF(ISNUMBER(SEARCH(\"14\",#REF!)),\"1\",\"0\")","v":"0"},{"$f":"IF(ISNUMBER(SEARCH(\"15\",#REF!)),\"1\",\"0\")","v":"0"},{"$f":"IF(ISNUMBER(SEARCH(\"16\",#REF!)),\"1\",\"0\")","v":"0"},{"$f":"IF(ISNUMBER(SEARCH(\"17\",#REF!)),\"1\",\"0\")","v":"0"},{"$nulls":4},6,12,12,30,4,{"$nulls":6},8,4,null,{"$f":"#REF!-#REF!","v":{"$error":"#REF!"}},{"$f":"#REF!-#REF!","v":{"$error":"#REF!"}}]
[2,22,11,"RB",2,31,null,3,2,null,null,1,null,2,"0","1","0","0","0","0","0","0","0","0","0","0","0","0","0","0","0","0",null,null,2,5,1,{"$f":"IF(ISNUMBER(SEARCH(\"1\",#REF!)),\"1\",\"0\")","v":"0"},{"$f":"IF(ISNUMBER(SEARCH(\"2\",#REF!)),\"1\",\"0\")","v":"0"},{"$f":"IF(ISNUMBER(SEARCH(\"3\",#REF!)),\"1\",\"0\")","v":"0"},{"$f":"IF(ISNUMBER(SEARCH(\"4\",#REF!)),\"1\",\"0\")","v":"0"},{"$f":"IF(ISNUMBER(SEARCH(\"5\",#REF!)),\"1\",\"0\")","v":"0"},{"$f":"IF(ISNUMBER(SEARCH(\"6\",#REF!)),\"1\",\"0\")","v":"0"},{"$f":"IF(ISNUMBER(SEARCH(\"7\",#REF!)),\"1\",\"0\")","v":"0"},{"$f":"IF(ISNUMBER(SEARCH(\"8\",#REF!)),\"1\",\"0\")","v":"0"},{"$f":"IF(ISNUMBER(SEARCH(\"9\",#REF!)),\"1\",\"0\")","v":"0"},{"$f":"IF(ISNUMBER(SEARCH(\"9\",#REF!)),\"1\",\"0\")","v":"0"},{"$f":"IF(ISNUMBER(SEARCH(\"10\",#REF!)),\"1\",\"0\")","v":"0"},{"$f":"IF(ISNUMBER(SEARCH(\"11\",#REF!)),\"1\",\"0\")","v":"0"},{"$f":"IF(ISNUMBER(SEARCH(\"12\",#REF!)),\"1\",\"0\")","v":"0"},{"$f":"IF(ISNUMBER(SEARCH(\"13\",#REF!)),\"1\",\"0\")","v":"0"},{"$f":"IF(ISNUMBER(SEARCH(\"14\",#REF!)),\"1\",\"0\")","v":"0"},{"$f":"IF(ISNUMBER(SEARCH(\"15\",#REF!)),\"1\",\"0\")","v":"0"},{"$f":"IF(ISNUMBER(SEARCH(\"16\",#REF!)),\"1\",\"0\")","v":"0"},{"$f":"IF(ISNUMBER(SEARCH(\"17\",#REF!)),\"1\",\"0\")","v":"0"},1,{"$nulls":7},5,null,6,10,10,26,null,10,4,null,{"$f":"#REF!-#REF!","v":{"$error":"#REF!"}},{"$f":"#REF!-#REF!","v":{"$error":"#REF!"}}]
[2,22,11,"MLO",2,24,null,2,3,1,2,5,2,3,"0","0","1","0","0","0","0","0","0","0","0","0","0","0","0","0","0","0",null,null,3,5,2,{"$f":"IF(ISNUMBER(SEARCH(\"1\",#REF!)),\"1\",\"0\")","v":"0"},{"$f":"IF(ISNUMBER(SEARCH(\"2\",#REF!)),\"1\",\"0\")","v":"0"},{"$f":"IF(ISNUMBER(SEARCH(\"3\",#REF!)),\"1\",\"0\")","v":"0"},{"$f":"IF(ISNUMBER(SEARCH(\"4\",#REF!)),\"1\",\"0\")","v":"0"},{"$f":"IF(ISNUMBER(SEARCH(\"5\",#REF!)),\"1\",\"0\")","v":"0"},{"$f":"IF(ISNUMBER(SEARCH(\"6\",#REF!)),\"1\",\"0\")","v":"0"},{"$f":"IF(ISNUMBER(SEARCH(\"7\",#REF!)),\"1\",\"0\")","v":"0"},{"$f":"IF(ISNUMBER(SEARCH(\"8\",#REF!)),\"1\",\"0\")","v":"0"},{"$f":"IF(ISNUMBER(SEARCH(\"9\",#REF!)),\"1\",\"0\")","v":"0"},{"$f":"IF(ISNUMBER(SEARCH(\"9\",#REF!)),\"1\",\"0\")","v":"0"},{"$f":"IF(ISNUMBER(SEARCH(\"10\",#REF!)),\"1\",\"0\")","v":"0"},{"$f":"IF(ISNUMBER(SEARCH(\"11\",#REF!)),\"1\",\"0\")","v":"0"},{"$f":"IF(ISNUMBER(SEARCH(\"12\",#REF!)),\"1\",\"0\")","v":"0"},{"$f":"IF(ISNUMBER(SEARCH(\"13\",#REF!)),\"1\",\"0\")","v":"0"},{"$f":"IF(ISNUMBER(SEARCH(\"14\",#REF!)),\"1\",\"0\")","v":"0"},{"$f":"IF(ISNUMBER(SEARCH(\"15\",#REF!)),\"1\",\"0\")","v":"0"},{"$f":"IF(ISNUMBER(SEARCH(\"16\",#REF!)),\"1\",\"0\")","v":"0"},{"$f":"IF(ISNUMBER(SEARCH(\"17\",#REF!)),\"1\",\"0\")","v":"0"},1,{"$nulls":3},26,4,10,40,5,null,2,6,2,10,null,11,3,null,{"$f":"#REF!-#REF!","v":{"$error":"#REF!"}},{"$f":"#REF!-#REF!","v":{"$error":"#REF!"}}]
[2,22,11,"RB",2,41,null,null,3,null,null,11,6,3,"0","0","1","0","0","0","0","0","0","0","0","0","0","0","0","0","0","0",null,null,2,3,1,{"$f":"IF(ISNUMBER(SEARCH(\"1\",#REF!)),\"1\",\"0\")","v":"0"},{"$f":"IF(ISNUMBER(SEARCH(\"2\",#REF!)),\"1\",\"0\")","v":"0"},{"$f":"IF(ISNUMBER(SEARCH(\"3\",#REF!)),\"1\",\"0\")","v":"0"},{"$f":"IF(ISNUMBER(SEARCH(\"4\",#REF!)),\"1\",\"0\")","v":"0"},{"$f":"IF(ISNUMBER(SEARCH(\"5\",#REF!)),\"1\",\"0\")","v":"0"},{"$f":"IF(ISNUMBER(SEARCH(\"6\",#REF!)),\"1\",\"0\")","v":"0"},{"$f":"IF(ISNUMBER(SEARCH(\"7\",#REF!)),\"1\",\"0\")","v":"0"},{"$f":"IF(ISNUMBER(SEARCH(\"8\",#REF!)),\"1\",\"0\")","v":"0"},{"$f":"IF(ISNUMBER(SEARCH(\"9\",#REF!)),\"1\",\"0\")","v":"0"},{"$f":"IF(ISNUMBER(SEARCH(\"9\",#REF!)),\"1\",\"0\")","v":"0"},{"$f":"IF(ISNUMBER(SEARCH(\"10\",#REF!)),\"1\",\"0\")","v":"0"},{"$f":"IF(ISNUMBER(SEARCH(\"11\",#REF!)),\"1\",\"0\")","v":"0"},{"$f":"IF(ISNUMBER(SEARCH(\"12\",#REF!)),\"1\",\"0\")","v":"0"},{"$f":"IF(ISNUMBER(SEARCH(\"13\",#REF!)),\"1\",\"0\")","v":"0"},{"$f":"IF(ISNUMBER(SEARCH(\"14\",#REF!)),\"1\",\"0\")","v":"0"},{"$f":"IF(ISNUMBER(SEARCH(\"15\",#REF!)),\"1\",\"0\")","v":"0"},{"$f":"IF(ISNUMBER(SEARCH(\"16\",#REF!)),\"1\",\"0\")","v":"0"},{"$f":"IF(ISNUMBER(SEARCH(\"17\",#REF!)),\"1\",\"0\")","v":"0"},3,{"$nulls":3},14,6,12,32,5,null,24,12,22,58,null,12,4,null,{"$f":"#REF!-#REF!","v":{"$error":"#REF!"}},{"$f":"#REF!-#REF!","v":{"$error":"#REF!"}}]
[2,22,11,"ZR",1,54,null,2,3,1,8,11,5,1,"1","0","0","0","0","0","0","0","0","0","0","0","0","0","0","0","0","0",null,null,3,4,2,{"$f":"IF(ISNUMBER(SEARCH(\"1\",#REF!)),\"1\",\"0\")","v":"0"},{"$f":"IF(ISNUMBER(SEARCH(\"2\",#REF!)),\"1\",\"0\")","v":"0"},{"$f":"IF(ISNUMBER(SEARCH(\"3\",#REF!)),\"1\",\"0\")","v":"0"},{"$f":"IF(ISNUMBER(SEARCH(\"4\",#REF!)),\"1\",\"0\")","v":"0"},{"$f":"IF(ISNUMBER(SEARCH(\"5\",#REF!)),\"1\",\"0\")","v":"0"},{"$f":"IF(ISNUMBER(SEARCH(\"6\",#REF!)),\"1\",\"0\")","v":"0"},{"$f":"IF(ISNUMBER(SEARCH(\"7\",#REF!)),\"1\",\"0\")","v":"0"},{"$f":"IF(ISNUMBER(SEARCH(\"8\",#REF!)),\"1\",\"0\")","v":"0"},{"$f":"IF(ISNUMBER(SEARCH(\"9\",#REF!)),\"1\",\"0\")","v":"0"},{"$f":"IF(ISNUMBER(SEARCH(\"9\",#REF!)),\"1\",\"0\")","v":"0"},{"$f":"IF(ISNUMBER(SEARCH(\"10\",#REF!)),\"1\",\"0\")","v":"0"},{"$f":"IF(ISNUMBER(SEARCH(\"11\",#REF!)),\"1\",\"0\")","v":"0"},{"$f":"IF(ISNUMBER(SEARCH(\"12\",#REF!)),\"1\",\"0\")","v":"0"},{"$f":"IF(ISNUMBER(SEARCH(\"13\",#REF!)),\"1\",\"0\")","v":"0"},{"$f":"IF(ISNUMBER(SEARCH(\"14\",#REF!)),\"1\",\"0\")","v":"0"},{"$f":"IF(ISNUMBER(SEARCH(\"15\",#REF!)),\"1\",\"0\")","v":"0"},{"$f":"IF(ISNUMBER(SEARCH(\"16\",#REF!)),\"1\",\"0\")","v":"0"},{"$f":"IF(ISNUMBER(SEARCH(\"17\",#REF!)),\"1\",\"0\")","v":"0"},{"$nulls":8},4,{"$nulls":6},8,4,null,{"$f":"#REF!-#REF!","v":{"$error":"#REF!"}},{"$f":"#REF!-#REF!","v":{"$error":"#REF!"}}]
[2,22,11,"RB",2,27,null,2,2,null,null,5,null,"9. Kidnapping/  Enlèvement/ Otage (SANS violence sexuelle)","0","0","0","0","0","0","0","0","1","0","0","0","0","0","0","0","0","0",null,null,3,5,2,{"$f":"IF(ISNUMBER(SEARCH(\"1\",#REF!)),\"1\",\"0\")","v":"0"},{"$f":"IF(ISNUMBER(SEARCH(\"2\",#REF!)),\"1\",\"0\")","v":"0"},{"$f":"IF(ISNUMBER(SEARCH(\"3\",#REF!)),\"1\",\"0\")","v":"0"},{"$f":"IF(ISNUMBER(SEARCH(\"4\",#REF!)),\"1\",\"0\")","v":"0"},{"$f":"IF(ISNUMBER(SEARCH(\"5\",#REF!)),\"1\",\"0\")","v":"0"},{"$f":"IF(ISNUMBER(SEARCH(\"6\",#REF!)),\"1\",\"0\")","v":"0"},{"$f":"IF(ISNUMBER(SEARCH(\"7\",#REF!)),\"1\",\"0\")","v":"0"},{"$f":"IF(ISNUMBER(SEARCH(\"8\",#REF!)),\"1\",\"0\")","v":"0"},{"$f":"IF(ISNUMBER(SEARCH(\"9\",#REF!)),\"1\",\"0\")","v":"0"},{"$f":"IF(ISNUMBER(SEARCH(\"9\",#REF!)),\"1\",\"0\")","v":"0"},{"$f":"IF(ISNUMBER(SEARCH(\"10\",#REF!)),\"1\",\"0\")","v":"0"},{"$f":"IF(ISNUMBER(SEARCH(\"11\",#REF!)),\"1\",\"0\")","v":"0"},{"$f":"IF(ISNUMBER(SEARCH(\"12\",#REF!)),\"1\",\"0\")","v":"0"},{"$f":"IF(ISNUMBER(SEARCH(\"13\",#REF!)),\"1\",\"0\")","v":"0"},{"$f":"IF(ISNUMBER(SEARCH(\"14\",#REF!)),\"1\",\"0\")","v":"0"},{"$f":"IF(ISNUMBER(SEARCH(\"15\",#REF!)),\"1\",\"0\")","v":"0"},{"$f":"IF(ISNUMBER(SEARCH(\"16\",#REF!)),\"1\",\"0\")","v":"0"},{"$f":"IF(ISNUMBER(SEARCH(\"17\",#REF!)),\"1\",\"0\")","v":"0"},{"$nulls":4},4,8,8,20,8,null,2,2,2,6,null,7,3,null,{"$f":"#REF!-#REF!","v":{"$error":"#REF!"}},{"$f":"#REF!-#REF!","v":{"$error":"#REF!"}}]
[2,22,11,"MLO",2,33,null,3,8,1,4,3,6,"4. Tentative de Viol","0","0","0","1","0","0","0","0","0","0","0","0","0","0","0","0","0","0",null,null,2,5,2,{"$f":"IF(ISNUMBER(SEARCH(\"1\",#REF!)),\"1\",\"0\")","v":"0"},{"$f":"IF(ISNUMBER(SEARCH(\"2\",#REF!)),\"1\",\"0\")","v":"0"},{"$f":"IF(ISNUMBER(SEARCH(\"3\",#REF!)),\"1\",\"0\")","v":"0"},{"$f":"IF(ISNUMBER(SEARCH(\"4\",#REF!)),\"1\",\"0\")","v":"0"},{"$f":"IF(ISNUMBER(SEARCH(\"5\",#REF!)),\"1\",\"0\")","v":"0"},{"$f":"IF(ISNUMBER(SEARCH(\"6\",#REF!)),\"1\",\"0\")","v":"0"},{"$f":"IF(ISNUMBER(SEARCH(\"7\",#REF!)),\"1\",\"0\")","v":"0"},{"$f":"IF(ISNUMBER(SEARCH(\"8\",#REF!)),\"1\",\"0\")","v":"0"},{"$f":"IF(ISNUMBER(SEARCH(\"9\",#REF!)),\"1\",\"0\")","v":"0"},{"$f":"IF(ISNUMBER(SEARCH(\"9\",#REF!)),\"1\",\"0\")","v":"0"},{"$f":"IF(ISNUMBER(SEARCH(\"10\",#REF!)),\"1\",\"0\")","v":"0"},{"$f":"IF(ISNUMBER(SEARCH(\"11\",#REF!)),\"1\",\"0\")","v":"0"},{"$f":"IF(ISNUMBER(SEARCH(\"12\",#REF!)),\"1\",\"0\")","v":"0"},{"$f":"IF(ISNUMBER(SEARCH(\"13\",#REF!)),\"1\",\"0\")","v":"0"},{"$f":"IF(ISNUMBER(SEARCH(\"14\",#REF!)),\"1\",\"0\")","v":"0"},{"$f":"IF(ISNUMBER(SEARCH(\"15\",#REF!)),\"1\",\"0\")","v":"0"},{"$f":"IF(ISNUMBER(SEARCH(\"16\",#REF!)),\"1\",\"0\")","v":"0"},{"$f":"IF(ISNUMBER(SEARCH(\"17\",#REF!)),\"1\",\"0\")","v":"0"},3,{"$nulls":3},14,18,22,54,7,null,0,2,0,2,null,8,4,null,{"$f":"#REF!-#REF!","v":{"$error":"#REF!"}},{"$f":"#REF!-#REF!","v":{"$error":"#REF!"}}]
[2,22,11,"MLO",2,41,null,1,3,null,6,2,2,3,"0","0","1","0","0","0","0","0","0","0","0","0","0","0","0","0","0","0",null,null,1,5,2,{"$f":"IF(ISNUMBER(SEARCH(\"1\",#REF!)),\"1\",\"0\")","v":"0"},{"$f":"IF(ISNUMBER(SEARCH(\"2\",#REF!)),\"1\",\"0\")","v":"0"},{"$f":"IF(ISNUMBER(SEARCH(\"3\",#REF!)),\"1\",\"0\")","v":"0"},{"$f":"IF(ISNUMBER(SEARCH(\"4\",#REF!)),\"1\",\"0\")","v":"0"},{"$f":"IF(ISNUMBER(SEARCH(\"5\",#REF!)),\"1\",\"0\")","v":"0"},{"$f":"IF(ISNUMBER(SEARCH(\"6\",#REF!)),\"1\",\"0\")","v":"0"},{"$f":"IF(ISNUMBER(SEARCH(\"7\",#REF!)),\"1\",\"0\")","v":"0"},{"$f":"IF(ISNUMBER(SEARCH(\"8\",#REF!)),\"1\",\"0\")","v":"0"},{"$f":"IF(ISNUMBER(SEARCH(\"9\",#REF!)),\"1\",\"0\")","v":"0"},{"$f":"IF(ISNUMBER(SEARCH(\"9\",#REF!)),\"1\",\"0\")","v":"0"},{"$f":"IF(ISNUMBER(SEARCH(\"10\",#REF!)),\"1\",\"0\")","v":"0"},{"$f":"IF(ISNUMBER(SEARCH(\"11\",#REF!)),\"1\",\"0\")","v":"0"},{"$f":"IF(ISNUMBER(SEARCH(\"12\",#REF!)),\"1\",\"0\")","v":"0"},{"$f":"IF(ISNUMBER(SEARCH(\"13\",#REF!)),\"1\",\"0\")","v":"0"},{"$f":"IF(ISNUMBER(SEARCH(\"14\",#REF!)),\"1\",\"0\")","v":"0"},{"$f":"IF(ISNUMBER(SEARCH(\"15\",#REF!)),\"1\",\"0\")","v":"0"},{"$f":"IF(ISNUMBER(SEARCH(\"16\",#REF!)),\"1\",\"0\")","v":"0"},{"$f":"IF(ISNUMBER(SEARCH(\"17\",#REF!)),\"1\",\"0\")","v":"0"},1,{"$nulls":3},28,10,26,64,9,null,12,6,16,34,null,12,3,null,{"$f":"#REF!-#REF!","v":{"$error":"#REF!"}},{"$f":"#REF!-#REF!","v":{"$error":"#REF!"}}]
[2,22,1,"OW",2,23,null,1,3,2,5,3,null,1,"1","0","0","0","0","0","0","0","0","0","0","0","0","0","0","0","0","0",null,null,2,4,null,{"$f":"IF(ISNUMBER(SEARCH(\"1\",#REF!)),\"1\",\"0\")","v":"0"},{"$f":"IF(ISNUMBER(SEARCH(\"2\",#REF!)),\"1\",\"0\")","v":"0"},{"$f":"IF(ISNUMBER(SEARCH(\"3\",#REF!)),\"1\",\"0\")","v":"0"},{"$f":"IF(ISNUMBER(SEARCH(\"4\",#REF!)),\"1\",\"0\")","v":"0"},{"$f":"IF(ISNUMBER(SEARCH(\"5\",#REF!)),\"1\",\"0\")","v":"0"},{"$f":"IF(ISNUMBER(SEARCH(\"6\",#REF!)),\"1\",\"0\")","v":"0"},{"$f":"IF(ISNUMBER(SEARCH(\"7\",#REF!)),\"1\",\"0\")","v":"0"},{"$f":"IF(ISNUMBER(SEARCH(\"8\",#REF!)),\"1\",\"0\")","v":"0"},{"$f":"IF(ISNUMBER(SEARCH(\"9\",#REF!)),\"1\",\"0\")","v":"0"},{"$f":"IF(ISNUMBER(SEARCH(\"9\",#REF!)),\"1\",\"0\")","v":"0"},{"$f":"IF(ISNUMBER(SEARCH(\"10\",#REF!)),\"1\",\"0\")","v":"0"},{"$f":"IF(ISNUMBER(SEARCH(\"11\",#REF!)),\"1\",\"0\")","v":"0"},{"$f":"IF(ISNUMBER(SEARCH(\"12\",#REF!)),\"1\",\"0\")","v":"0"},{"$f":"IF(ISNUMBER(SEARCH(\"13\",#REF!)),\"1\",\"0\")","v":"0"},{"$f":"IF(ISNUMBER(SEARCH(\"14\",#REF!)),\"1\",\"0\")","v":"0"},{"$f":"IF(ISNUMBER(SEARCH(\"15\",#REF!)),\"1\",\"0\")","v":"0"},{"$f":"IF(ISNUMBER(SEARCH(\"16\",#REF!)),\"1\",\"0\")","v":"0"},{"$f":"IF(ISNUMBER(SEARCH(\"17\",#REF!)),\"1\",\"0\")","v":"0"},{"$nulls":4},12,2,4,18,6,null,4,2,0,6,null,12,3,null,{"$f":"#REF!-#REF!","v":{"$error":"#REF!"}},{"$f":"#REF!-#REF!","v":{"$error":"#REF!"}}]
[2,22,11,"MLO",2,18,null,2,2,1,0,5,1,3,"0","0","1","0","0","0","0","0","0","0","0","0","0","0","0","0","0","0",null,null,2,3,1,{"$f":"IF(ISNUMBER(SEARCH(\"1\",#REF!)),\"1\",\"0\")","v":"0"},{"$f":"IF(ISNUMBER(SEARCH(\"2\",#REF!)),\"1\",\"0\")","v":"0"},{"$f":"IF(ISNUMBER(SEARCH(\"3\",#REF!)),\"1\",\"0\")","v":"0"},{"$f":"IF(ISNUMBER(SEARCH(\"4\",#REF!)),\"1\",\"0\")","v":"0"},{"$f":"IF(ISNUMBER(SEARCH(\"5\",#REF!)),\"1\",\"0\")","v":"0"},{"$f":"IF(ISNUMBER(SEARCH(\"6\",#REF!)),\"1\",\"0\")","v":"0"},{"$f":"IF(ISNUMBER(SEARCH(\"7\",#REF!)),\"1\",\"0\")","v":"0"},{"$f":"IF(ISNUMBER(SEARCH(\"8\",#REF!)),\"1\",\"0\")","v":"0"},{"$f":"IF(ISNUMBER(SEARCH(\"9\",#REF!)),\"1\",\"0\")","v":"0"},{"$f":"IF(ISNUMBER(SEARCH(\"9\",#REF!)),\"1\",\"0\")","v":"0"},{"$f":"IF(ISNUMBER(SEARCH(\"10\",#REF!)),\"1\",\"0\")","v":"0"},{"$f":"IF(ISNUMBER(SEARCH(\"11\",#REF!)),\"1\",\"0\")","v":"0"},{"$f":"IF(ISNUMBER(SEARCH(\"12\",#REF!)),\"1\",\"0\")","v":"0"},{"$f":"IF(ISNUMBER(SEARCH(\"13\",#REF!)),\"1\",\"0\")","v":"0"},{"$f":"IF(ISNUMBER(SEARCH(\"14\",#REF!)),\"1\",\"0\")","v":"0"},{"$f":"IF(ISNUMBER(SEARCH(\"15\",#REF!)),\"1\",\"0\")","v":"0"},{"$f":"IF(ISNUMBER(SEARCH(\"16\",#REF!)),\"1\",\"0\")","v":"0"},{"$f":"IF(ISNUMBER(SEARCH(\"17\",#REF!)),\"1\",\"0\")","v":"0"},2,{"$nulls":3},16,12,14,42,9,null,14,14,10,38,null,10,4,null,{"$f":"#REF!-#REF!","v":{"$error":"#REF!"}},{"$f":"#REF!-#REF!","v":{"$error":"#REF!"}}]
[2,22,11,"ZR",2,56,null,1,3,1,6,5,6,3,"0","0","1","0","0","0","0","0","0","0","0","0","0","0","0","0","0","0",null,null,1,3,1,{"$f":"IF(ISNUMBER(SEARCH(\"1\",#REF!)),\"1\",\"0\")","v":"0"},{"$f":"IF(ISNUMBER(SEARCH(\"2\",#REF!)),\"1\",\"0\")","v":"0"},{"$f":"IF(ISNUMBER(SEARCH(\"3\",#REF!)),\"1\",\"0\")","v":"0"},{"$f":"IF(ISNUMBER(SEARCH(\"4\",#REF!)),\"1\",\"0\")","v":"0"},{"$f":"IF(ISNUMBER(SEARCH(\"5\",#REF!)),\"1\",\"0\")","v":"0"},{"$f":"IF(ISNUMBER(SEARCH(\"6\",#REF!)),\"1\",\"0\")","v":"0"},{"$f":"IF(ISNUMBER(SEARCH(\"7\",#REF!)),\"1\",\"0\")","v":"0"},{"$f":"IF(ISNUMBER(SEARCH(\"8\",#REF!)),\"1\",\"0\")","v":"0"},{"$f":"IF(ISNUMBER(SEARCH(\"9\",#REF!)),\"1\",\"0\")","v":"0"},{"$f":"IF(ISNUMBER(SEARCH(\"9\",#REF!)),\"1\",\"0\")","v":"0"},{"$f":"IF(ISNUMBER(SEARCH(\"10\",#REF!)),\"1\",\"0\")","v":"0"},{"$f":"IF(ISNUMBER(SEARCH(\"11\",#REF!)),\"1\",\"0\")","v":"0"},{"$f":"IF(ISNUMBER(SEARCH(\"12\",#REF!)),\"1\",\"0\")","v":"0"},{"$f":"IF(ISNUMBER(SEARCH(\"13\",#REF!)),\"1\",\"0\")","v":"0"},{"$f":"IF(ISNUMBER(SEARCH(\"14\",#REF!)),\"1\",\"0\")","v":"0"},{"$f":"IF(ISNUMBER(SEARCH(\"15\",#REF!)),\"1\",\"0\")","v":"0"},{"$f":"IF(ISNUMBER(SEARCH(\"16\",#REF!)),\"1\",\"0\")","v":"0"},{"$f":"IF(ISNUMBER(SEARCH(\"17\",#REF!)),\"1\",\"0\")","v":"0"},2,{"$nulls":3},12,8,12,32,8,null,4,0,0,4,null,9,4,null,{"$f":"#REF!-#REF!","v":{"$error":"#REF!"}},{"$f":"#REF!-#REF!","v":{"$error":"#REF!"}}]
[2,22,11,"ZR",2,32,null,3,1,null,1,5,5,3,{"$f":"IF(ISNUMBER(SEARCH(\"1\",$N323)),\"1\",\"0\")","v":"0"},{"$f":"IF(ISNUMBER(SEARCH(\"2\",$N323)),\"1\",\"0\")","v":"0"},{"$f":"IF(ISNUMBER(SEARCH(\"3\",$N323)),\"1\",\"0\")","v":"1"},{"$f":"IF(ISNUMBER(SEARCH(\"4\",$N323)),\"1\",\"0\")","v":"0"},{"$f":"IF(ISNUMBER(SEARCH(\"5\",$N323)),\"1\",\"0\")","v":"0"},{"$f":"IF(ISNUMBER(SEARCH(\"6\",$N323)),\"1\",\"0\")","v":"0"},{"$f":"IF(ISNUMBER(SEARCH(\"7\",$N323)),\"1\",\"0\")","v":"0"},{"$f":"IF(ISNUMBER(SEARCH(\"8\",$N323)),\"1\",\"0\")","v":"0"},{"$f":"IF(ISNUMBER(SEARCH(\"9\",$N323)),\"1\",\"0\")","v":"0"},{"$f":"IF(ISNUMBER(SEARCH(\"10\",$N323)),\"1\",\"0\")","v":"0"},{"$f":"IF(ISNUMBER(SEARCH(\"11\",$N323)),\"1\",\"0\")","v":"0"},{"$f":"IF(ISNUMBER(SEARCH(\"12\",$N323)),\"1\",\"0\")","v":"0"},{"$f":"IF(ISNUMBER(SEARCH(\"13\",$N323)),\"1\",\"0\")","v":"0"},{"$f":"IF(ISNUMBER(SEARCH(\"14\",$N323)),\"1\",\"0\")","v":"0"},{"$f":"IF(ISNUMBER(SEARCH(\"15\",$N323)),\"1\",\"0\")","v":"0"},{"$f":"IF(ISNUMBER(SEARCH(\"16\",$N323)),\"1\",\"0\")","v":"0"},{"$f":"IF(ISNUMBER(SEARCH(\"17\",$N323)),\"1\",\"0\")","v":"0"},{"$f":"IF(ISNUMBER(SEARCH(\"18\",$N323)),\"1\",\"0\")","v":"0"},null,null,3,5,2,{"$f":"IF(ISNUMBER(SEARCH(\"1\",#REF!)),\"1\",\"0\")","v":"0"},{"$f":"IF(ISNUMBER(SEARCH(\"2\",#REF!)),\"1\",\"0\")","v":"0"},{"$f":"IF(ISNUMBER(SEARCH(\"3\",#REF!)),\"1\",\"0\")","v":"0"},{"$f":"IF(ISNUMBER(SEARCH(\"4\",#REF!)),\"1\",\"0\")","v":"0"},{"$f":"IF(ISNUMBER(SEARCH(\"5\",#REF!)),\"1\",\"0\")","v":"0"},{"$f":"IF(ISNUMBER(SEARCH(\"6\",#REF!)),\"1\",\"0\")","v":"0"},{"$f":"IF(ISNUMBER(SEARCH(\"7\",#REF!)),\"1\",\"0\")","v":"0"},{"$f":"IF(ISNUMBER(SEARCH(\"8\",#REF!)),\"1\",\"0\")","v":"0"},{"$f":"IF(ISNUMBER(SEARCH(\"9\",#REF!)),\"1\",\"0\")","v":"0"},{"$f":"IF(ISNUMBER(SEARCH(\"9\",#REF!)),\"1\",\"0\")","v":"0"},{"$f":"IF(ISNUMBER(SEARCH(\"10\",#REF!)),\"1\",\"0\")","v":"0"},{"$f":"IF(ISNUMBER(SEARCH(\"11\",#REF!)),\"1\",\"0\")","v":"0"},{"$f":"IF(ISNUMBER(SEARCH(\"12\",#REF!)),\"1\",\"0\")","v":"0"},{"$f":"IF(ISNUMBER(SEARCH(\"13\",#REF!)),\"1\",\"0\")","v":"0"},{"$f":"IF(ISNUMBER(SEARCH(\"14\",#REF!)),\"1\",\"0\")","v":"0"},{"$f":"IF(ISNUMBER(SEARCH(\"15\",#REF!)),\"1\",\"0\")","v":"0"},{"$f":"IF(ISNUMBER(SEARCH(\"16\",#REF!)),\"1\",\"0\")","v":"0"},{"$f":"IF(ISNUMBER(SEARCH(\"17\",#REF!)),\"1\",\"0\")","v":"0"},1,{"$nulls":3},16,20,10,{"$f":"BH323+BI323+BJ323","v":46},2,null,4,0,4,{"$f":"BN323+BO323+BP323","v":8},null,3,3,null,{"$f":"#REF!-#REF!","v":{"$error":"#REF!"}},{"$f":"#REF!-#REF!","v":{"$error":"#REF!"}}]
[2,22,11,"ZR",2,18,null,1,3,2,0,3,1,3,"0","0","1","0","0","0","0","0","0","0","0","0","0","0","0","0","0","0",null,null,3,5,1,{"$f":"IF(ISNUMBER(SEARCH(\"1\",#REF!)),\"1\",\"0\")","v":"0"},{"$f":"IF(ISNUMBER(SEARCH(\"2\",#REF!)),\"1\",\"0\")","v":"0"},{"$f":"IF(ISNUMBER(SEARCH(\"3\",#REF!)),\"1\",\"0\")","v":"0"},{"$f":"IF(ISNUMBER(SEARCH(\"4\",#REF!)),\"1\",\"0\")","v":"0"},{"$f":"IF(ISNUMBER(SEARCH(\"5\",#REF!)),\"1\",\"0\")","v":"0"},{"$f":"IF(ISNUMBER(SEARCH(\"6\",#REF!)),\"1\",\"0\")","v":"0"},{"$f":"IF(ISNUMBER(SEARCH(\"7\",#REF!)),\"1\",\"0\")","v":"0"},{"$f":"IF(ISNUMBER(SEARCH(\"8\",#REF!)),\"1\",\"0\")","v":"0"},{"$f":"IF(ISNUMBER(SEARCH(\"9\",#REF!)),\"1\",\"0\")","v":"0"},{"$f":"IF(ISNUMBER(SEARCH(\"9\",#REF!)),\"1\",\"0\")","v":"0"},{"$f":"IF(ISNUMBER(SEARCH(\"10\",#REF!)),\"1\",\"0\")","v":"0"},{"$f":"IF(ISNUMBER(SEARCH(\"11\",#REF!)),\"1\",\"0\")","v":"0"},{"$f":"IF(ISNUMBER(SEARCH(\"12\",#REF!)),\"1\",\"0\")","v":"0"},{"$f":"IF(ISNUMBER(SEARCH(\"13\",#REF!)),\"1\",\"0\")","v":"0"},{"$f":"IF(ISNUMBER(SEARCH(\"14\",#REF!)),\"1\",\"0\")","v":"0"},{"$f":"IF(ISNUMBER(SEARCH(\"15\",#REF!)),\"1\",\"0\")","v":"0"},{"$f":"IF(ISNUMBER(SEARCH(\"16\",#REF!)),\"1\",\"0\")","v":"0"},{"$f":"IF(ISNUMBER(SEARCH(\"17\",#REF!)),\"1\",\"0\")","v":"0"},2,{"$nulls":3},6,4,10,20,6,null,2,2,4,8,null,8,4,null,{"$f":"#REF!-#REF!","v":{"$error":"#REF!"}},{"$f":"#REF!-#REF!","v":{"$error":"#REF!"}}]
[2,22,11,"MLO",2,26,null,3,8,1,2,4,2,3,"0","0","1","0","0","0","0","0","0","0","0","0","0","0","0","0","0","0",null,null,3,5,2,{"$f":"IF(ISNUMBER(SEARCH(\"1\",#REF!)),\"1\",\"0\")","v":"0"},{"$f":"IF(ISNUMBER(SEARCH(\"2\",#REF!)),\"1\",\"0\")","v":"0"},{"$f":"IF(ISNUMBER(SEARCH(\"3\",#REF!)),\"1\",\"0\")","v":"0"},{"$f":"IF(ISNUMBER(SEARCH(\"4\",#REF!)),\"1\",\"0\")","v":"0"},{"$f":"IF(ISNUMBER(SEARCH(\"5\",#REF!)),\"1\",\"0\")","v":"0"},{"$f":"IF(ISNUMBER(SEARCH(\"6\",#REF!)),\"1\",\"0\")","v":"0"},{"$f":"IF(ISNUMBER(SEARCH(\"7\",#REF!)),\"1\",\"0\")","v":"0"},{"$f":"IF(ISNUMBER(SEARCH(\"8\",#REF!)),\"1\",\"0\")","v":"0"},{"$f":"IF(ISNUMBER(SEARCH(\"9\",#REF!)),\"1\",\"0\")","v":"0"},{"$f":"IF(ISNUMBER(SEARCH(\"9\",#REF!)),\"1\",\"0\")","v":"0"},{"$f":"IF(ISNUMBER(SEARCH(\"10\",#REF!)),\"1\",\"0\")","v":"0"},{"$f":"IF(ISNUMBER(SEARCH(\"11\",#REF!)),\"1\",\"0\")","v":"0"},{"$f":"IF(ISNUMBER(SEARCH(\"12\",#REF!)),\"1\",\"0\")","v":"0"},{"$f":"IF(ISNUMBER(SEARCH(\"13\",#REF!)),\"1\",\"0\")","v":"0"},{"$f":"IF(ISNUMBER(SEARCH(\"14\",#REF!)),\"1\",\"0\")","v":"0"},{"$f":"IF(ISNUMBER(SEARCH(\"15\",#REF!)),\"1\",\"0\")","v":"0"},{"$f":"IF(ISNUMBER(SEARCH(\"16\",#REF!)),\"1\",\"0\")","v":"0"},{"$f":"IF(ISNUMBER(SEARCH(\"17\",#REF!)),\"1\",\"0\")","v":"0"},2,{"$nulls":3},18,12,22,52,11,null,12,14,12,38,null,14,3,null,{"$f":"#REF!-#REF!","v":{"$error":"#REF!"}},{"$f":"#REF!-#REF!","v":{"$error":"#REF!"}}]
[2,22,11,"ZR",1,13,null,3,2,2,0,1,1,1,"1","0","0","0","0","0","0","0","0","0","0","0","0","0","0","0","0","0",null,null,4,5,2,{"$f":"IF(ISNUMBER(SEARCH(\"1\",#REF!)),\"1\",\"0\")","v":"0"},{"$f":"IF(ISNUMBER(SEARCH(\"2\",#REF!)),\"1\",\"0\")","v":"0"},{"$f":"IF(ISNUMBER(SEARCH(\"3\",#REF!)),\"1\",\"0\")","v":"0"},{"$f":"IF(ISNUMBER(SEARCH(\"4\",#REF!)),\"1\",\"0\")","v":"0"},{"$f":"IF(ISNUMBER(SEARCH(\"5\",#REF!)),\"1\",\"0\")","v":"0"},{"$f":"IF(ISNUMBER(SEARCH(\"6\",#REF!)),\"1\",\"0\")","v":"0"},{"$f":"IF(ISNUMBER(SEARCH(\"7\",#REF!)),\"1\",\"0\")","v":"0"},{"$f":"IF(ISNUMBER(SEARCH(\"8\",#REF!)),\"1\",\"0\")","v":"0"},{"$f":"IF(ISNUMBER(SEARCH(\"9\",#REF!)),\"1\",\"0\")","v":"0"},{"$f":"IF(ISNUMBER(SEARCH(\"9\",#REF!)),\"1\",\"0\")","v":"0"},{"$f":"IF(ISNUMBER(SEARCH(\"10\",#REF!)),\"1\",\"0\")","v":"0"},{"$f":"IF(ISNUMBER(SEARCH(\"11\",#REF!)),\"1\",\"0\")","v":"0"},{"$f":"IF(ISNUMBER(SEARCH(\"12\",#REF!)),\"1\",\"0\")","v":"0"},{"$f":"IF(ISNUMBER(SEARCH(\"13\",#REF!)),\"1\",\"0\")","v":"0"},{"$f":"IF(ISNUMBER(SEARCH(\"14\",#REF!)),\"1\",\"0\")","v":"0"},{"$f":"IF(ISNUMBER(SEARCH(\"15\",#REF!)),\"1\",\"0\")","v":"0"},{"$f":"IF(ISNUMBER(SEARCH(\"16\",#REF!)),\"1\",\"0\")","v":"0"},{"$f":"IF(ISNUMBER(SEARCH(\"17\",#REF!)),\"1\",\"0\")","v":"0"},{"$nulls":4},14,6,10,30,4,null,4,2,6,12,null,5,4,null,{"$f":"#REF!-#REF!","v":{"$error":"#REF!"}},{"$f":"#REF!-#REF!","v":{"$error":"#REF!"}}]
[2,22,13,"BAS",2,33,null,1,8,1,3,5,6,3,"0","0","1","0","0","0","0","0","0","0","0","0","0","0","0","0","0","0",{"$nulls":3},5,2,{"$f":"IF(ISNUMBER(SEARCH(\"1\",#REF!)),\"1\",\"0\")","v":"0"},{"$f":"IF(ISNUMBER(SEARCH(\"2\",#REF!)),\"1\",\"0\")","v":"0"},{"$f":"IF(ISNUMBER(SEARCH(\"3\",#REF!)),\"1\",\"0\")","v":"0"},{"$f":"IF(ISNUMBER(SEARCH(\"4\",#REF!)),\"1\",\"0\")","v":"0"},{"$f":"IF(ISNUMBER(SEARCH(\"5\",#REF!)),\"1\",\"0\")","v":"0"},{"$f":"IF(ISNUMBER(SEARCH(\"6\",#REF!)),\"1\",\"0\")","v":"0"},{"$f":"IF(ISNUMBER(SEARCH(\"7\",#REF!)),\"1\",\"0\")","v":"0"},{"$f":"IF(ISNUMBER(SEARCH(\"8\",#REF!)),\"1\",\"0\")","v":"0"},{"$f":"IF(ISNUMBER(SEARCH(\"9\",#REF!)),\"1\",\"0\")","v":"0"},{"$f":"IF(ISNUMBER(SEARCH(\"9\",#REF!)),\"1\",\"0\")","v":"0"},{"$f":"IF(ISNUMBER(SEARCH(\"10\",#REF!)),\"1\",\"0\")","v":"0"},{"$f":"IF(ISNUMBER(SEARCH(\"11\",#REF!)),\"1\",\"0\")","v":"0"},{"$f":"IF(ISNUMBER(SEARCH(\"12\",#REF!)),\"1\",\"0\")","v":"0"},{"$f":"IF(ISNUMBER(SEARCH(\"13\",#REF!)),\"1\",\"0\")","v":"0"},{"$f":"IF(ISNUMBER(SEARCH(\"14\",#REF!)),\"1\",\"0\")","v":"0"},{"$f":"IF(ISNUMBER(SEARCH(\"15\",#REF!)),\"1\",\"0\")","v":"0"},{"$f":"IF(ISNUMBER(SEARCH(\"16\",#REF!)),\"1\",\"0\")","v":"0"},{"$f":"IF(ISNUMBER(SEARCH(\"17\",#REF!)),\"1\",\"0\")","v":"0"},2,{"$nulls":3},14,14,12,40,6,null,0,2,8,10,null,8,5,null,null,{"$f":"#REF!-#REF!","v":{"$error":"#REF!"}}]
[2,22,13,"B3",2,33,null,2,8,1,4,5,2,1,"1","0","0","0","0","0","0","0","0","0","0","0","0","0","0","0","0","0",null,null,1,3,1,{"$f":"IF(ISNUMBER(SEARCH(\"1\",#REF!)),\"1\",\"0\")","v":"0"},{"$f":"IF(ISNUMBER(SEARCH(\"2\",#REF!)),\"1\",\"0\")","v":"0"},{"$f":"IF(ISNUMBER(SEARCH(\"3\",#REF!)),\"1\",\"0\")","v":"0"},{"$f":"IF(ISNUMBER(SEARCH(\"4\",#REF!)),\"1\",\"0\")","v":"0"},{"$f":"IF(ISNUMBER(SEARCH(\"5\",#REF!)),\"1\",\"0\")","v":"0"},{"$f":"IF(ISNUMBER(SEARCH(\"6\",#REF!)),\"1\",\"0\")","v":"0"},{"$f":"IF(ISNUMBER(SEARCH(\"7\",#REF!)),\"1\",\"0\")","v":"0"},{"$f":"IF(ISNUMBER(SEARCH(\"8\",#REF!)),\"1\",\"0\")","v":"0"},{"$f":"IF(ISNUMBER(SEARCH(\"9\",#REF!)),\"1\",\"0\")","v":"0"},{"$f":"IF(ISNUMBER(SEARCH(\"9\",#REF!)),\"1\",\"0\")","v":"0"},{"$f":"IF(ISNUMBER(SEARCH(\"10\",#REF!)),\"1\",\"0\")","v":"0"},{"$f":"IF(ISNUMBER(SEARCH(\"11\",#REF!)),\"1\",\"0\")","v":"0"},{"$f":"IF(ISNUMBER(SEARCH(\"12\",#REF!)),\"1\",\"0\")","v":"0"},{"$f":"IF(ISNUMBER(SEARCH(\"13\",#REF!)),\"1\",\"0\")","v":"0"},{"$f":"IF(ISNUMBER(SEARCH(\"14\",#REF!)),\"1\",\"0\")","v":"0"},{"$f":"IF(ISNUMBER(SEARCH(\"15\",#REF!)),\"1\",\"0\")","v":"0"},{"$f":"IF(ISNUMBER(SEARCH(\"16\",#REF!)),\"1\",\"0\")","v":"0"},{"$f":"IF(ISNUMBER(SEARCH(\"17\",#REF!)),\"1\",\"0\")","v":"0"},null,1,null,null,10,14,8,32,6,null,2,0,0,2,{"$nulls":4},{"$f":"#REF!-#REF!","v":{"$error":"#REF!"}},{"$f":"#REF!-#REF!","v":{"$error":"#REF!"}}]
[2,22,10,"UM",2,38,null,1,8,2,6,5,2,10,"1","0","0","0","0","0","0","0","0","1","0","0","0","0","0","0","0","0",null,null,5,5,2,{"$f":"IF(ISNUMBER(SEARCH(\"1\",#REF!)),\"1\",\"0\")","v":"0"},0,{"$f":"IF(ISNUMBER(SEARCH(\"3\",#REF!)),\"1\",\"0\")","v":"0"},{"$f":"IF(ISNUMBER(SEARCH(\"4\",#REF!)),\"1\",\"0\")","v":"0"},{"$f":"IF(ISNUMBER(SEARCH(\"5\",#REF!)),\"1\",\"0\")","v":"0"},{"$f":"IF(ISNUMBER(SEARCH(\"6\",#REF!)),\"1\",\"0\")","v":"0"},{"$f":"IF(ISNUMBER(SEARCH(\"7\",#REF!)),\"1\",\"0\")","v":"0"},{"$f":"IF(ISNUMBER(SEARCH(\"8\",#REF!)),\"1\",\"0\")","v":"0"},{"$f":"IF(ISNUMBER(SEARCH(\"9\",#REF!)),\"1\",\"0\")","v":"0"},{"$f":"IF(ISNUMBER(SEARCH(\"9\",#REF!)),\"1\",\"0\")","v":"0"},{"$f":"IF(ISNUMBER(SEARCH(\"10\",#REF!)),\"1\",\"0\")","v":"0"},{"$f":"IF(ISNUMBER(SEARCH(\"11\",#REF!)),\"1\",\"0\")","v":"0"},{"$f":"IF(ISNUMBER(SEARCH(\"12\",#REF!)),\"1\",\"0\")","v":"0"},{"$f":"IF(ISNUMBER(SEARCH(\"13\",#REF!)),\"1\",\"0\")","v":"0"},{"$f":"IF(ISNUMBER(SEARCH(\"14\",#REF!)),\"1\",\"0\")","v":"0"},{"$f":"IF(ISNUMBER(SEARCH(\"15\",#REF!)),\"1\",\"0\")","v":"0"},{"$f":"IF(ISNUMBER(SEARCH(\"16\",#REF!)),\"1\",\"0\")","v":"0"},{"$f":"IF(ISNUMBER(SEARCH(\"17\",#REF!)),\"1\",\"0\")","v":"0"},{"$nulls":4},16,8,2,26,null,null,4,0,0,4,{"$nulls":5},{"$f":"#REF!-#REF!","v":{"$error":"#REF!"}}]
[2,22,10,"NA",2,24,null,3,8,2,null,4,2,1,"1","0","0","0","0","0","0","0","0","0","0","0","0","0","0","0","0","0",{"$nulls":3},5,2,{"$f":"IF(ISNUMBER(SEARCH(\"1\",#REF!)),\"1\",\"0\")","v":"0"},{"$f":"IF(ISNUMBER(SEARCH(\"2\",#REF!)),\"1\",\"0\")","v":"0"},{"$f":"IF(ISNUMBER(SEARCH(\"3\",#REF!)),\"1\",\"0\")","v":"0"},{"$f":"IF(ISNUMBER(SEARCH(\"4\",#REF!)),\"1\",\"0\")","v":"0"},{"$f":"IF(ISNUMBER(SEARCH(\"5\",#REF!)),\"1\",\"0\")","v":"0"},{"$f":"IF(ISNUMBER(SEARCH(\"6\",#REF!)),\"1\",\"0\")","v":"0"},{"$f":"IF(ISNUMBER(SEARCH(\"7\",#REF!)),\"1\",\"0\")","v":"0"},{"$f":"IF(ISNUMBER(SEARCH(\"8\",#REF!)),\"1\",\"0\")","v":"0"},{"$f":"IF(ISNUMBER(SEARCH(\"9\",#REF!)),\"1\",\"0\")","v":"0"},{"$f":"IF(ISNUMBER(SEARCH(\"9\",#REF!)),\"1\",\"0\")","v":"0"},{"$f":"IF(ISNUMBER(SEARCH(\"10\",#REF!)),\"1\",\"0\")","v":"0"},{"$f":"IF(ISNUMBER(SEARCH(\"11\",#REF!)),\"1\",\"0\")","v":"0"},{"$f":"IF(ISNUMBER(SEARCH(\"12\",#REF!)),\"1\",\"0\")","v":"0"},{"$f":"IF(ISNUMBER(SEARCH(\"13\",#REF!)),\"1\",\"0\")","v":"0"},{"$f":"IF(ISNUMBER(SEARCH(\"14\",#REF!)),\"1\",\"0\")","v":"0"},{"$f":"IF(ISNUMBER(SEARCH(\"15\",#REF!)),\"1\",\"0\")","v":"0"},{"$f":"IF(ISNUMBER(SEARCH(\"16\",#REF!)),\"1\",\"0\")","v":"0"},{"$f":"IF(ISNUMBER(SEARCH(\"17\",#REF!)),\"1\",\"0\")","v":"0"},{"$nulls":4},28,32,24,84,5,null,2,2,4,8,{"$nulls":4},{"$f":"#REF!-#REF!","v":{"$error":"#REF!"}},{"$f":"#REF!-#REF!","v":{"$error":"#REF!"}}]
[2,22,10,"UM",2,41,null,1,3,1,7,5,1,2,"0","1","0","0","0","0","0","0","0","0","0","0","0","0","0","0","0","0",null,null,3,5,2,{"$f":"IF(ISNUMBER(SEARCH(\"1\",#REF!)),\"1\",\"0\")","v":"0"},{"$f":"IF(ISNUMBER(SEARCH(\"2\",#REF!)),\"1\",\"0\")","v":"0"},{"$f":"IF(ISNUMBER(SEARCH(\"3\",#REF!)),\"1\",\"0\")","v":"0"},{"$f":"IF(ISNUMBER(SEARCH(\"4\",#REF!)),\"1\",\"0\")","v":"0"},{"$f":"IF(ISNUMBER(SEARCH(\"5\",#REF!)),\"1\",\"0\")","v":"0"},{"$f":"IF(ISNUMBER(SEARCH(\"6\",#REF!)),\"1\",\"0\")","v":"0"},{"$f":"IF(ISNUMBER(SEARCH(\"7\",#REF!)),\"1\",\"0\")","v":"0"},{"$f":"IF(ISNUMBER(SEARCH(\"8\",#REF!)),\"1\",\"0\")","v":"0"},{"$f":"IF(ISNUMBER(SEARCH(\"9\",#REF!)),\"1\",\"0\")","v":"0"},{"$f":"IF(ISNUMBER(SEARCH(\"9\",#REF!)),\"1\",\"0\")","v":"0"},{"$f":"IF(ISNUMBER(SEARCH(\"10\",#REF!)),\"1\",\"0\")","v":"0"},{"$f":"IF(ISNUMBER(SEARCH(\"11\",#REF!)),\"1\",\"0\")","v":"0"},{"$f":"IF(ISNUMBER(SEARCH(\"12\",#REF!)),\"1\",\"0\")","v":"0"},{"$f":"IF(ISNUMBER(SEARCH(\"13\",#REF!)),\"1\",\"0\")","v":"0"},{"$f":"IF(ISNUMBER(SEARCH(\"14\",#REF!)),\"1\",\"0\")","v":"0"},{"$f":"IF(ISNUMBER(SEARCH(\"15\",#REF!)),\"1\",\"0\")","v":"0"},{"$f":"IF(ISNUMBER(SEARCH(\"16\",#REF!)),\"1\",\"0\")","v":"0"},{"$f":"IF(ISNUMBER(SEARCH(\"17\",#REF!)),\"1\",\"0\")","v":"0"},{"$nulls":4},20,22,22,64]
[2,22,13,"B3",2,33,null,1,3,1,0,5,2,3,"0","0","1","0","0","0","0","0","0","0","0","0","0","0","0","0","0","0",null,null,7,5,2,{"$f":"IF(ISNUMBER(SEARCH(\"1\",#REF!)),\"1\",\"0\")","v":"0"},{"$f":"IF(ISNUMBER(SEARCH(\"2\",#REF!)),\"1\",\"0\")","v":"0"},{"$f":"IF(ISNUMBER(SEARCH(\"3\",#REF!)),\"1\",\"0\")","v":"0"},{"$f":"IF(ISNUMBER(SEARCH(\"4\",#REF!)),\"1\",\"0\")","v":"0"},{"$f":"IF(ISNUMBER(SEARCH(\"5\",#REF!)),\"1\",\"0\")","v":"0"},{"$f":"IF(ISNUMBER(SEARCH(\"6\",#REF!)),\"1\",\"0\")","v":"0"},{"$f":"IF(ISNUMBER(SEARCH(\"7\",#REF!)),\"1\",\"0\")","v":"0"},{"$f":"IF(ISNUMBER(SEARCH(\"8\",#REF!)),\"1\",\"0\")","v":"0"},{"$f":"IF(ISNUMBER(SEARCH(\"9\",#REF!)),\"1\",\"0\")","v":"0"},{"$f":"IF(ISNUMBER(SEARCH(\"9\",#REF!)),\"1\",\"0\")","v":"0"},{"$f":"IF(ISNUMBER(SEARCH(\"10\",#REF!)),\"1\",\"0\")","v":"0"},{"$f":"IF(ISNUMBER(SEARCH(\"11\",#REF!)),\"1\",\"0\")","v":"0"},{"$f":"IF(ISNUMBER(SEARCH(\"12\",#REF!)),\"1\",\"0\")","v":"0"},{"$f":"IF(ISNUMBER(SEARCH(\"13\",#REF!)),\"1\",\"0\")","v":"0"},{"$f":"IF(ISNUMBER(SEARCH(\"14\",#REF!)),\"1\",\"0\")","v":"0"},{"$f":"IF(ISNUMBER(SEARCH(\"15\",#REF!)),\"1\",\"0\")","v":"0"},{"$f":"IF(ISNUMBER(SEARCH(\"16\",#REF!)),\"1\",\"0\")","v":"0"},{"$f":"IF(ISNUMBER(SEARCH(\"17\",#REF!)),\"1\",\"0\")","v":"0"},1,{"$nulls":3},18,24,30,72,4]
[2,22,10,"UM",1,28,null,1,2,1,null,4,2,"13. Recrutement Forcé (par Groupe Armé)","1","0","1","0","0","0","0","0","0","0","0","0","1","0","0","0","0","0",null,null,2,5,2,{"$f":"IF(ISNUMBER(SEARCH(\"1\",#REF!)),\"1\",\"0\")","v":"0"},{"$f":"IF(ISNUMBER(SEARCH(\"2\",#REF!)),\"1\",\"0\")","v":"0"},{"$f":"IF(ISNUMBER(SEARCH(\"3\",#REF!)),\"1\",\"0\")","v":"0"},{"$f":"IF(ISNUMBER(SEARCH(\"4\",#REF!)),\"1\",\"0\")","v":"0"},{"$f":"IF(ISNUMBER(SEARCH(\"5\",#REF!)),\"1\",\"0\")","v":"0"},{"$f":"IF(ISNUMBER(SEARCH(\"6\",#REF!)),\"1\",\"0\")","v":"0"},{"$f":"IF(ISNUMBER(SEARCH(\"7\",#REF!)),\"1\",\"0\")","v":"0"},{"$f":"IF(ISNUMBER(SEARCH(\"8\",#REF!)),\"1\",\"0\")","v":"0"},{"$f":"IF(ISNUMBER(SEARCH(\"9\",#REF!)),\"1\",\"0\")","v":"0"},{"$f":"IF(ISNUMBER(SEARCH(\"9\",#REF!)),\"1\",\"0\")","v":"0"},{"$f":"IF(ISNUMBER(SEARCH(\"10\",#REF!)),\"1\",\"0\")","v":"0"},{"$f":"IF(ISNUMBER(SEARCH(\"11\",#REF!)),\"1\",\"0\")","v":"0"},{"$f":"IF(ISNUMBER(SEARCH(\"12\",#REF!)),\"1\",\"0\")","v":"0"},{"$f":"IF(ISNUMBER(SEARCH(\"13\",#REF!)),\"1\",\"0\")","v":"0"},{"$f":"IF(ISNUMBER(SEARCH(\"14\",#REF!)),\"1\",\"0\")","v":"0"},{"$f":"IF(ISNUMBER(SEARCH(\"15\",#REF!)),\"1\",\"0\")","v":"0"},{"$f":"IF(ISNUMBER(SEARCH(\"16\",#REF!)),\"1\",\"0\")","v":"0"},{"$f":"IF(ISNUMBER(SEARCH(\"17\",#REF!)),\"1\",\"0\")","v":"0"},{"$nulls":4},20,28,26,74,9]
[2,22,10,"UM",1,20,null,1,3,null,null,4,2,null,"0","0","0","0","0","0","0","0","0","0","0","0","0","0","0","0","0","0",null,null,3,5,2,{"$f":"IF(ISNUMBER(SEARCH(\"1\",#REF!)),\"1\",\"0\")","v":"0"},{"$f":"IF(ISNUMBER(SEARCH(\"2\",#REF!)),\"1\",\"0\")","v":"0"},{"$f":"IF(ISNUMBER(SEARCH(\"3\",#REF!)),\"1\",\"0\")","v":"0"},{"$f":"IF(ISNUMBER(SEARCH(\"4\",#REF!)),\"1\",\"0\")","v":"0"},{"$f":"IF(ISNUMBER(SEARCH(\"5\",#REF!)),\"1\",\"0\")","v":"0"},{"$f":"IF(ISNUMBER(SEARCH(\"6\",#REF!)),\"1\",\"0\")","v":"0"},{"$f":"IF(ISNUMBER(SEARCH(\"7\",#REF!)),\"1\",\"0\")","v":"0"},{"$f":"IF(ISNUMBER(SEARCH(\"8\",#REF!)),\"1\",\"0\")","v":"0"},{"$f":"IF(ISNUMBER(SEARCH(\"9\",#REF!)),\"1\",\"0\")","v":"0"},{"$f":"IF(ISNUMBER(SEARCH(\"9\",#REF!)),\"1\",\"0\")","v":"0"},{"$f":"IF(ISNUMBER(SEARCH(\"10\",#REF!)),\"1\",\"0\")","v":"0"},{"$f":"IF(ISNUMBER(SEARCH(\"11\",#REF!)),\"1\",\"0\")","v":"0"},{"$f":"IF(ISNUMBER(SEARCH(\"12\",#REF!)),\"1\",\"0\")","v":"0"},{"$f":"IF(ISNUMBER(SEARCH(\"13\",#REF!)),\"1\",\"0\")","v":"0"},{"$f":"IF(ISNUMBER(SEARCH(\"14\",#REF!)),\"1\",\"0\")","v":"0"},{"$f":"IF(ISNUMBER(SEARCH(\"15\",#REF!)),\"1\",\"0\")","v":"0"},{"$f":"IF(ISNUMBER(SEARCH(\"16\",#REF!)),\"1\",\"0\")","v":"0"},{"$f":"IF(ISNUMBER(SEARCH(\"17\",#REF!)),\"1\",\"0\")","v":"0"},{"$nulls":4},18,20,24,62,7]
[2,22,8,"AN",2,18,null,3,2,1,0,5,1,3,"0","0","1","0","0","0","0","0","0","0","0","0","0","0","0","0","0","0",null,null,3,null,null,{"$f":"IF(ISNUMBER(SEARCH(\"1\",#REF!)),\"1\",\"0\")","v":"0"},{"$f":"IF(ISNUMBER(SEARCH(\"2\",#REF!)),\"1\",\"0\")","v":"0"},{"$f":"IF(ISNUMBER(SEARCH(\"3\",#REF!)),\"1\",\"0\")","v":"0"},{"$f":"IF(ISNUMBER(SEARCH(\"4\",#REF!)),\"1\",\"0\")","v":"0"},{"$f":"IF(ISNUMBER(SEARCH(\"5\",#REF!)),\"1\",\"0\")","v":"0"},{"$f":"IF(ISNUMBER(SEARCH(\"6\",#REF!)),\"1\",\"0\")","v":"0"},{"$f":"IF(ISNUMBER(SEARCH(\"7\",#REF!)),\"1\",\"0\")","v":"0"},{"$f":"IF(ISNUMBER(SEARCH(\"8\",#REF!)),\"1\",\"0\")","v":"0"},{"$f":"IF(ISNUMBER(SEARCH(\"9\",#REF!)),\"1\",\"0\")","v":"0"},{"$f":"IF(ISNUMBER(SEARCH(\"9\",#REF!)),\"1\",\"0\")","v":"0"},{"$f":"IF(ISNUMBER(SEARCH(\"10\",#REF!)),\"1\",\"0\")","v":"0"},{"$f":"IF(ISNUMBER(SEARCH(\"11\",#REF!)),\"1\",\"0\")","v":"0"},{"$f":"IF(ISNUMBER(SEARCH(\"12\",#REF!)),\"1\",\"0\")","v":"0"},{"$f":"IF(ISNUMBER(SEARCH(\"13\",#REF!)),\"1\",\"0\")","v":"0"},{"$f":"IF(ISNUMBER(SEARCH(\"14\",#REF!)),\"1\",\"0\")","v":"0"},{"$f":"IF(ISNUMBER(SEARCH(\"15\",#REF!)),\"1\",\"0\")","v":"0"},{"$f":"IF(ISNUMBER(SEARCH(\"16\",#REF!)),\"1\",\"0\")","v":"0"},{"$f":"IF(ISNUMBER(SEARCH(\"17\",#REF!)),\"1\",\"0\")","v":"0"},1,{"$nulls":3},36,14,22,72,11,{"$nulls":6},14,5,null,{"$f":"#REF!-#REF!","v":{"$error":"#REF!"}}]
[2,22,8,"KM",2,24,null,1,3,1,2,1,null,3,"0","0","1","0","0","0","0","0","0","0","0","0","0","0","0","0","0","0",null,null,1,3,1,{"$f":"IF(ISNUMBER(SEARCH(\"1\",#REF!)),\"1\",\"0\")","v":"0"},{"$f":"IF(ISNUMBER(SEARCH(\"2\",#REF!)),\"1\",\"0\")","v":"0"},{"$f":"IF(ISNUMBER(SEARCH(\"3\",#REF!)),\"1\",\"0\")","v":"0"},{"$f":"IF(ISNUMBER(SEARCH(\"4\",#REF!)),\"1\",\"0\")","v":"0"},{"$f":"IF(ISNUMBER(SEARCH(\"5\",#REF!)),\"1\",\"0\")","v":"0"},{"$f":"IF(ISNUMBER(SEARCH(\"6\",#REF!)),\"1\",\"0\")","v":"0"},{"$f":"IF(ISNUMBER(SEARCH(\"7\",#REF!)),\"1\",\"0\")","v":"0"},{"$f":"IF(ISNUMBER(SEARCH(\"8\",#REF!)),\"1\",\"0\")","v":"0"},{"$f":"IF(ISNUMBER(SEARCH(\"9\",#REF!)),\"1\",\"0\")","v":"0"},{"$f":"IF(ISNUMBER(SEARCH(\"9\",#REF!)),\"1\",\"0\")","v":"0"},{"$f":"IF(ISNUMBER(SEARCH(\"10\",#REF!)),\"1\",\"0\")","v":"0"},{"$f":"IF(ISNUMBER(SEARCH(\"11\",#REF!)),\"1\",\"0\")","v":"0"},{"$f":"IF(ISNUMBER(SEARCH(\"12\",#REF!)),\"1\",\"0\")","v":"0"},{"$f":"IF(ISNUMBER(SEARCH(\"13\",#REF!)),\"1\",\"0\")","v":"0"},{"$f":"IF(ISNUMBER(SEARCH(\"14\",#REF!)),\"1\",\"0\")","v":"0"},{"$f":"IF(ISNUMBER(SEARCH(\"15\",#REF!)),\"1\",\"0\")","v":"0"},{"$f":"IF(ISNUMBER(SEARCH(\"16\",#REF!)),\"1\",\"0\")","v":"0"},{"$f":"IF(ISNUMBER(SEARCH(\"17\",#REF!)),\"1\",\"0\")","v":"0"},1,{"$nulls":3},26,14,28,68,12,{"$nulls":6},14,3,null,{"$f":"#REF!-#REF!","v":{"$error":"#REF!"}}]
[2,22,8,"KM",2,18,null,3,2,null,0,1,1,3,"0","0","1","0","0","0","0","0","0","0","0","0","0","0","0","0","0","0",null,null,1,3,1,{"$f":"IF(ISNUMBER(SEARCH(\"1\",#REF!)),\"1\",\"0\")","v":"0"},{"$f":"IF(ISNUMBER(SEARCH(\"2\",#REF!)),\"1\",\"0\")","v":"0"},{"$f":"IF(ISNUMBER(SEARCH(\"3\",#REF!)),\"1\",\"0\")","v":"0"},{"$f":"IF(ISNUMBER(SEARCH(\"4\",#REF!)),\"1\",\"0\")","v":"0"},{"$f":"IF(ISNUMBER(SEARCH(\"5\",#REF!)),\"1\",\"0\")","v":"0"},{"$f":"IF(ISNUMBER(SEARCH(\"6\",#REF!)),\"1\",\"0\")","v":"0"},{"$f":"IF(ISNUMBER(SEARCH(\"7\",#REF!)),\"1\",\"0\")","v":"0"},{"$f":"IF(ISNUMBER(SEARCH(\"8\",#REF!)),\"1\",\"0\")","v":"0"},{"$f":"IF(ISNUMBER(SEARCH(\"9\",#REF!)),\"1\",\"0\")","v":"0"},{"$f":"IF(ISNUMBER(SEARCH(\"9\",#REF!)),\"1\",\"0\")","v":"0"},{"$f":"IF(ISNUMBER(SEARCH(\"10\",#REF!)),\"1\",\"0\")","v":"0"},{"$f":"IF(ISNUMBER(SEARCH(\"11\",#REF!)),\"1\",\"0\")","v":"0"},{"$f":"IF(ISNUMBER(SEARCH(\"12\",#REF!)),\"1\",\"0\")","v":"0"},{"$f":"IF(ISNUMBER(SEARCH(\"13\",#REF!)),\"1\",\"0\")","v":"0"},{"$f":"IF(ISNUMBER(SEARCH(\"14\",#REF!)),\"1\",\"0\")","v":"0"},{"$f":"IF(ISNUMBER(SEARCH(\"15\",#REF!)),\"1\",\"0\")","v":"0"},{"$f":"IF(ISNUMBER(SEARCH(\"16\",#REF!)),\"1\",\"0\")","v":"0"},{"$f":"IF(ISNUMBER(SEARCH(\"17\",#REF!)),\"1\",\"0\")","v":"0"},1,{"$nulls":7},12,{"$nulls":6},14,3]
[2,22,8,"AN",2,null,null,1,7,1,null,1,1,3,"0","0","1","0","0","0","0","0","0","0","0","0","0","0","0","0","0","0",null,null,1,5,null,{"$f":"IF(ISNUMBER(SEARCH(\"1\",#REF!)),\"1\",\"0\")","v":"0"},{"$f":"IF(ISNUMBER(SEARCH(\"2\",#REF!)),\"1\",\"0\")","v":"0"},{"$f":"IF(ISNUMBER(SEARCH(\"3\",#REF!)),\"1\",\"0\")","v":"0"},{"$f":"IF(ISNUMBER(SEARCH(\"4\",#REF!)),\"1\",\"0\")","v":"0"},{"$f":"IF(ISNUMBER(SEARCH(\"5\",#REF!)),\"1\",\"0\")","v":"0"},{"$f":"IF(ISNUMBER(SEARCH(\"6\",#REF!)),\"1\",\"0\")","v":"0"},{"$f":"IF(ISNUMBER(SEARCH(\"7\",#REF!)),\"1\",\"0\")","v":"0"},{"$f":"IF(ISNUMBER(SEARCH(\"8\",#REF!)),\"1\",\"0\")","v":"0"},{"$f":"IF(ISNUMBER(SEARCH(\"9\",#REF!)),\"1\",\"0\")","v":"0"},{"$f":"IF(ISNUMBER(SEARCH(\"9\",#REF!)),\"1\",\"0\")","v":"0"},{"$f":"IF(ISNUMBER(SEARCH(\"10\",#REF!)),\"1\",\"0\")","v":"0"},{"$f":"IF(ISNUMBER(SEARCH(\"11\",#REF!)),\"1\",\"0\")","v":"0"},{"$f":"IF(ISNUMBER(SEARCH(\"12\",#REF!)),\"1\",\"0\")","v":"0"},{"$f":"IF(ISNUMBER(SEARCH(\"13\",#REF!)),\"1\",\"0\")","v":"0"},{"$f":"IF(ISNUMBER(SEARCH(\"14\",#REF!)),\"1\",\"0\")","v":"0"},{"$f":"IF(ISNUMBER(SEARCH(\"15\",#REF!)),\"1\",\"0\")","v":"0"},{"$f":"IF(ISNUMBER(SEARCH(\"16\",#REF!)),\"1\",\"0\")","v":"0"},{"$f":"IF(ISNUMBER(SEARCH(\"17\",#REF!)),\"1\",\"0\")","v":"0"},1,{"$nulls":7},13,null,0,2,2,4,null,14,5]
[2,22,8,"AN",1,33,null,null,8,1,0,1,1,1,"1","0","0","0","0","0","0","0","0","0","0","0","0","0","0","0","0","0",null,null,1,2,2,{"$f":"IF(ISNUMBER(SEARCH(\"1\",#REF!)),\"1\",\"0\")","v":"0"},{"$f":"IF(ISNUMBER(SEARCH(\"2\",#REF!)),\"1\",\"0\")","v":"0"},{"$f":"IF(ISNUMBER(SEARCH(\"3\",#REF!)),\"1\",\"0\")","v":"0"},{"$f":"IF(ISNUMBER(SEARCH(\"4\",#REF!)),\"1\",\"0\")","v":"0"},{"$f":"IF(ISNUMBER(SEARCH(\"5\",#REF!)),\"1\",\"0\")","v":"0"},{"$f":"IF(ISNUMBER(SEARCH(\"6\",#REF!)),\"1\",\"0\")","v":"0"},{"$f":"IF(ISNUMBER(SEARCH(\"7\",#REF!)),\"1\",\"0\")","v":"0"},{"$f":"IF(ISNUMBER(SEARCH(\"8\",#REF!)),\"1\",\"0\")","v":"0"},{"$f":"IF(ISNUMBER(SEARCH(\"9\",#REF!)),\"1\",\"0\")","v":"0"},{"$f":"IF(ISNUMBER(SEARCH(\"9\",#REF!)),\"1\",\"0\")","v":"0"},{"$f":"IF(ISNUMBER(SEARCH(\"10\",#REF!)),\"1\",\"0\")","v":"0"},{"$f":"IF(ISNUMBER(SEARCH(\"11\",#REF!)),\"1\",\"0\")","v":"0"},{"$f":"IF(ISNUMBER(SEARCH(\"12\",#REF!)),\"1\",\"0\")","v":"0"},{"$f":"IF(ISNUMBER(SEARCH(\"13\",#REF!)),\"1\",\"0\")","v":"0"},{"$f":"IF(ISNUMBER(SEARCH(\"14\",#REF!)),\"1\",\"0\")","v":"0"},{"$f":"IF(ISNUMBER(SEARCH(\"15\",#REF!)),\"1\",\"0\")","v":"0"},{"$f":"IF(ISNUMBER(SEARCH(\"16\",#REF!)),\"1\",\"0\")","v":"0"},{"$f":"IF(ISNUMBER(SEARCH(\"17\",#REF!)),\"1\",\"0\")","v":"0"},{"$nulls":8},6,null,2,2,2,6,null,14,6]
[2,22,8,"KM",2,15,null,3,2,1,0,3,1,3,"0","0","1","0","0","0","0","0","0","0","0","0","0","0","0","0","0","0",null,null,3,5,2,{"$f":"IF(ISNUMBER(SEARCH(\"1\",#REF!)),\"1\",\"0\")","v":"0"},{"$f":"IF(ISNUMBER(SEARCH(\"2\",#REF!)),\"1\",\"0\")","v":"0"},{"$f":"IF(ISNUMBER(SEARCH(\"3\",#REF!)),\"1\",\"0\")","v":"0"},{"$f":"IF(ISNUMBER(SEARCH(\"4\",#REF!)),\"1\",\"0\")","v":"0"},{"$f":"IF(ISNUMBER(SEARCH(\"5\",#REF!)),\"1\",\"0\")","v":"0"},{"$f":"IF(ISNUMBER(SEARCH(\"6\",#REF!)),\"1\",\"0\")","v":"0"},{"$f":"IF(ISNUMBER(SEARCH(\"7\",#REF!)),\"1\",\"0\")","v":"0"},{"$f":"IF(ISNUMBER(SEARCH(\"8\",#REF!)),\"1\",\"0\")","v":"0"},{"$f":"IF(ISNUMBER(SEARCH(\"9\",#REF!)),\"1\",\"0\")","v":"0"},{"$f":"IF(ISNUMBER(SEARCH(\"9\",#REF!)),\"1\",\"0\")","v":"0"},{"$f":"IF(ISNUMBER(SEARCH(\"10\",#REF!)),\"1\",\"0\")","v":"0"},{"$f":"IF(ISNUMBER(SEARCH(\"11\",#REF!)),\"1\",\"0\")","v":"0"},{"$f":"IF(ISNUMBER(SEARCH(\"12\",#REF!)),\"1\",\"0\")","v":"0"},{"$f":"IF(ISNUMBER(SEARCH(\"13\",#REF!)),\"1\",\"0\")","v":"0"},{"$f":"IF(ISNUMBER(SEARCH(\"14\",#REF!)),\"1\",\"0\")","v":"0"},{"$f":"IF(ISNUMBER(SEARCH(\"15\",#REF!)),\"1\",\"0\")","v":"0"},{"$f":"IF(ISNUMBER(SEARCH(\"16\",#REF!)),\"1\",\"0\")","v":"0"},{"$f":"IF(ISNUMBER(SEARCH(\"17\",#REF!)),\"1\",\"0\")","v":"0"},1,{"$nulls":7},12,null,2,0,8,10,null,13,4]
[2,22,8,"KM",2,23,null,1,1,1,2,null,2,3,"0","0","1","0","0","0","0","0","0","0","0","0","0","0","0","0","0","0",null,null,3,5,2,{"$f":"IF(ISNUMBER(SEARCH(\"1\",#REF!)),\"1\",\"0\")","v":"0"},{"$f":"IF(ISNUMBER(SEARCH(\"2\",#REF!)),\"1\",\"0\")","v":"0"},{"$f":"IF(ISNUMBER(SEARCH(\"3\",#REF!)),\"1\",\"0\")","v":"0"},{"$f":"IF(ISNUMBER(SEARCH(\"4\",#REF!)),\"1\",\"0\")","v":"0"},{"$f":"IF(ISNUMBER(SEARCH(\"5\",#REF!)),\"1\",\"0\")","v":"0"},{"$f":"IF(ISNUMBER(SEARCH(\"6\",#REF!)),\"1\",\"0\")","v":"0"},{"$f":"IF(ISNUMBER(SEARCH(\"7\",#REF!)),\"1\",\"0\")","v":"0"},{"$f":"IF(ISNUMBER(SEARCH(\"8\",#REF!)),\"1\",\"0\")","v":"0"},{"$f":"IF(ISNUMBER(SEARCH(\"9\",#REF!)),\"1\",\"0\")","v":"0"},{"$f":"IF(ISNUMBER(SEARCH(\"9\",#REF!)),\"1\",\"0\")","v":"0"},{"$f":"IF(ISNUMBER(SEARCH(\"10\",#REF!)),\"1\",\"0\")","v":"0"},{"$f":"IF(ISNUMBER(SEARCH(\"11\",#REF!)),\"1\",\"0\")","v":"0"},{"$f":"IF(ISNUMBER(SEARCH(\"12\",#REF!)),\"1\",\"0\")","v":"0"},{"$f":"IF(ISNUMBER(SEARCH(\"13\",#REF!)),\"1\",\"0\")","v":"0"},{"$f":"IF(ISNUMBER(SEARCH(\"14\",#REF!)),\"1\",\"0\")","v":"0"},{"$f":"IF(ISNUMBER(SEARCH(\"15\",#REF!)),\"1\",\"0\")","v":"0"},{"$f":"IF(ISNUMBER(SEARCH(\"16\",#REF!)),\"1\",\"0\")","v":"0"},{"$f":"IF(ISNUMBER(SEARCH(\"17\",#REF!)),\"1\",\"0\")","v":"0"},1,{"$nulls":7},12,null,2,4,2,8,null,14,5]
[2,22,1,"OW",2,17,null,3,2,2,0,5,2,1,"1","0","0","0","0","0","0","0","0","0","0","0","0","0","0","0","0","0",null,null,2,5,2,{"$f":"IF(ISNUMBER(SEARCH(\"1\",#REF!)),\"1\",\"0\")","v":"0"},0,{"$f":"IF(ISNUMBER(SEARCH(\"3\",#REF!)),\"1\",\"0\")","v":"0"},{"$f":"IF(ISNUMBER(SEARCH(\"4\",#REF!)),\"1\",\"0\")","v":"0"},{"$f":"IF(ISNUMBER(SEARCH(\"5\",#REF!)),\"1\",\"0\")","v":"0"},{"$f":"IF(ISNUMBER(SEARCH(\"6\",#REF!)),\"1\",\"0\")","v":"0"},{"$f":"IF(ISNUMBER(SEARCH(\"7\",#REF!)),\"1\",\"0\")","v":"0"},{"$f":"IF(ISNUMBER(SEARCH(\"8\",#REF!)),\"1\",\"0\")","v":"0"},{"$f":"IF(ISNUMBER(SEARCH(\"9\",#REF!)),\"1\",\"0\")","v":"0"},{"$f":"IF(ISNUMBER(SEARCH(\"9\",#REF!)),\"1\",\"0\")","v":"0"},{"$f":"IF(ISNUMBER(SEARCH(\"10\",#REF!)),\"1\",\"0\")","v":"0"},{"$f":"IF(ISNUMBER(SEARCH(\"11\",#REF!)),\"1\",\"0\")","v":"0"},{"$f":"IF(ISNUMBER(SEARCH(\"12\",#REF!)),\"1\",\"0\")","v":"0"},{"$f":"IF(ISNUMBER(SEARCH(\"13\",#REF!)),\"1\",\"0\")","v":"0"},{"$f":"IF(ISNUMBER(SEARCH(\"14\",#REF!)),\"1\",\"0\")","v":"0"},{"$f":"IF(ISNUMBER(SEARCH(\"15\",#REF!)),\"1\",\"0\")","v":"0"},{"$f":"IF(ISNUMBER(SEARCH(\"16\",#REF!)),\"1\",\"0\")","v":"0"},{"$f":"IF(ISNUMBER(SEARCH(\"17\",#REF!)),\"1\",\"0\")","v":"0"},{"$nulls":4},26,24,20,70,3,null,2,2,4,8,{"$nulls":4},{"$f":"#REF!-#REF!","v":{"$error":"#REF!"}},{"$f":"#REF!-#REF!","v":{"$error":"#REF!"}}]
[2,22,11,"MLO",2,22,null,2,3,null,0,11,1,3,"0","0","1","0","0","0","0","0","0","0","0","0","0","0","0","0","0","0",null,null,3,5,2,{"$f":"IF(ISNUMBER(SEARCH(\"1\",#REF!)),\"1\",\"0\")","v":"0"},{"$f":"IF(ISNUMBER(SEARCH(\"2\",#REF!)),\"1\",\"0\")","v":"0"},{"$f":"IF(ISNUMBER(SEARCH(\"3\",#REF!)),\"1\",\"0\")","v":"0"},{"$f":"IF(ISNUMBER(SEARCH(\"4\",#REF!)),\"1\",\"0\")","v":"0"},{"$f":"IF(ISNUMBER(SEARCH(\"5\",#REF!)),\"1\",\"0\")","v":"0"},{"$f":"IF(ISNUMBER(SEARCH(\"6\",#REF!)),\"1\",\"0\")","v":"0"},{"$f":"IF(ISNUMBER(SEARCH(\"7\",#REF!)),\"1\",\"0\")","v":"0"},{"$f":"IF(ISNUMBER(SEARCH(\"8\",#REF!)),\"1\",\"0\")","v":"0"},{"$f":"IF(ISNUMBER(SEARCH(\"9\",#REF!)),\"1\",\"0\")","v":"0"},{"$f":"IF(ISNUMBER(SEARCH(\"9\",#REF!)),\"1\",\"0\")","v":"0"},{"$f":"IF(ISNUMBER(SEARCH(\"10\",#REF!)),\"1\",\"0\")","v":"0"},{"$f":"IF(ISNUMBER(SEARCH(\"11\",#REF!)),\"1\",\"0\")","v":"0"},{"$f":"IF(ISNUMBER(SEARCH(\"12\",#REF!)),\"1\",\"0\")","v":"0"},{"$f":"IF(ISNUMBER(SEARCH(\"13\",#REF!)),\"1\",\"0\")","v":"0"},{"$f":"IF(ISNUMBER(SEARCH(\"14\",#REF!)),\"1\",\"0\")","v":"0"},{"$f":"IF(ISNUMBER(SEARCH(\"15\",#REF!)),\"1\",\"0\")","v":"0"},{"$f":"IF(ISNUMBER(SEARCH(\"16\",#REF!)),\"1\",\"0\")","v":"0"},{"$f":"IF(ISNUMBER(SEARCH(\"17\",#REF!)),\"1\",\"0\")","v":"0"},1,{"$nulls":3},8,10,14,32,7,null,2,0,0,2,null,8,4,null,{"$f":"#REF!-#REF!","v":{"$error":"#REF!"}},{"$f":"#REF!-#REF!","v":{"$error":"#REF!"}}]
[2,22,11,"RB",2,33,null,3,3,null,3,3,2,2,"0","1","0","0","0","0","0","0","0","0","0","0","0","0","0","0","0","0",null,null,2,5,2,{"$f":"IF(ISNUMBER(SEARCH(\"1\",#REF!)),\"1\",\"0\")","v":"0"},{"$f":"IF(ISNUMBER(SEARCH(\"2\",#REF!)),\"1\",\"0\")","v":"0"},{"$f":"IF(ISNUMBER(SEARCH(\"3\",#REF!)),\"1\",\"0\")","v":"0"},{"$f":"IF(ISNUMBER(SEARCH(\"4\",#REF!)),\"1\",\"0\")","v":"0"},{"$f":"IF(ISNUMBER(SEARCH(\"5\",#REF!)),\"1\",\"0\")","v":"0"},{"$f":"IF(ISNUMBER(SEARCH(\"6\",#REF!)),\"1\",\"0\")","v":"0"},{"$f":"IF(ISNUMBER(SEARCH(\"7\",#REF!)),\"1\",\"0\")","v":"0"},{"$f":"IF(ISNUMBER(SEARCH(\"8\",#REF!)),\"1\",\"0\")","v":"0"},{"$f":"IF(ISNUMBER(SEARCH(\"9\",#REF!)),\"1\",\"0\")","v":"0"},{"$f":"IF(ISNUMBER(SEARCH(\"9\",#REF!)),\"1\",\"0\")","v":"0"},{"$f":"IF(ISNUMBER(SEARCH(\"10\",#REF!)),\"1\",\"0\")","v":"0"},{"$f":"IF(ISNUMBER(SEARCH(\"11\",#REF!)),\"1\",\"0\")","v":"0"},{"$f":"IF(ISNUMBER(SEARCH(\"12\",#REF!)),\"1\",\"0\")","v":"0"},{"$f":"IF(ISNUMBER(SEARCH(\"13\",#REF!)),\"1\",\"0\")","v":"0"},{"$f":"IF(ISNUMBER(SEARCH(\"14\",#REF!)),\"1\",\"0\")","v":"0"},{"$f":"IF(ISNUMBER(SEARCH(\"15\",#REF!)),\"1\",\"0\")","v":"0"},{"$f":"IF(ISNUMBER(SEARCH(\"16\",#REF!)),\"1\",\"0\")","v":"0"},{"$f":"IF(ISNUMBER(SEARCH(\"17\",#REF!)),\"1\",\"0\")","v":"0"},{"$nulls":4},14,14,6,34,9,null,2,6,6,14,null,12,3,null,{"$f":"#REF!-#REF!","v":{"$error":"#REF!"}},{"$f":"#REF!-#REF!","v":{"$error":"#REF!"}}]
[2,22,11,"RB",2,42,null,2,8,null,6,11,6,1,"1","0","0","0","0","0","0","0","0","0","0","0","0","0","0","0","0","0",null,null,2,5,2,{"$f":"IF(ISNUMBER(SEARCH(\"1\",#REF!)),\"1\",\"0\")","v":"0"},{"$f":"IF(ISNUMBER(SEARCH(\"2\",#REF!)),\"1\",\"0\")","v":"0"},{"$f":"IF(ISNUMBER(SEARCH(\"3\",#REF!)),\"1\",\"0\")","v":"0"},{"$f":"IF(ISNUMBER(SEARCH(\"4\",#REF!)),\"1\",\"0\")","v":"0"},{"$f":"IF(ISNUMBER(SEARCH(\"5\",#REF!)),\"1\",\"0\")","v":"0"},{"$f":"IF(ISNUMBER(SEARCH(\"6\",#REF!)),\"1\",\"0\")","v":"0"},{"$f":"IF(ISNUMBER(SEARCH(\"7\",#REF!)),\"1\",\"0\")","v":"0"},{"$f":"IF(ISNUMBER(SEARCH(\"8\",#REF!)),\"1\",\"0\")","v":"0"},{"$f":"IF(ISNUMBER(SEARCH(\"9\",#REF!)),\"1\",\"0\")","v":"0"},{"$f":"IF(ISNUMBER(SEARCH(\"9\",#REF!)),\"1\",\"0\")","v":"0"},{"$f":"IF(ISNUMBER(SEARCH(\"10\",#REF!)),\"1\",\"0\")","v":"0"},{"$f":"IF(ISNUMBER(SEARCH(\"11\",#REF!)),\"1\",\"0\")","v":"0"},{"$f":"IF(ISNUMBER(SEARCH(\"12\",#REF!)),\"1\",\"0\")","v":"0"},{"$f":"IF(ISNUMBER(SEARCH(\"13\",#REF!)),\"1\",\"0\")","v":"0"},{"$f":"IF(ISNUMBER(SEARCH(\"14\",#REF!)),\"1\",\"0\")","v":"0"},{"$f":"IF(ISNUMBER(SEARCH(\"15\",#REF!)),\"1\",\"0\")","v":"0"},{"$f":"IF(ISNUMBER(SEARCH(\"16\",#REF!)),\"1\",\"0\")","v":"0"},{"$f":"IF(ISNUMBER(SEARCH(\"17\",#REF!)),\"1\",\"0\")","v":"0"},{"$nulls":4},12,12,12,36,6,{"$nulls":6},9,3,null,{"$f":"#REF!-#REF!","v":{"$error":"#REF!"}}]
[2,22,11,"MLO",2,27,null,1,3,1,1,11,2,3,"0","0","1","0","0","0","0","0","0","0","0","0","0","0","0","0","0","0",null,null,1,5,1,{"$f":"IF(ISNUMBER(SEARCH(\"1\",#REF!)),\"1\",\"0\")","v":"0"},{"$f":"IF(ISNUMBER(SEARCH(\"2\",#REF!)),\"1\",\"0\")","v":"0"},{"$f":"IF(ISNUMBER(SEARCH(\"3\",#REF!)),\"1\",\"0\")","v":"0"},{"$f":"IF(ISNUMBER(SEARCH(\"4\",#REF!)),\"1\",\"0\")","v":"0"},{"$f":"IF(ISNUMBER(SEARCH(\"5\",#REF!)),\"1\",\"0\")","v":"0"},{"$f":"IF(ISNUMBER(SEARCH(\"6\",#REF!)),\"1\",\"0\")","v":"0"},{"$f":"IF(ISNUMBER(SEARCH(\"7\",#REF!)),\"1\",\"0\")","v":"0"},{"$f":"IF(ISNUMBER(SEARCH(\"8\",#REF!)),\"1\",\"0\")","v":"0"},{"$f":"IF(ISNUMBER(SEARCH(\"9\",#REF!)),\"1\",\"0\")","v":"0"},{"$f":"IF(ISNUMBER(SEARCH(\"9\",#REF!)),\"1\",\"0\")","v":"0"},{"$f":"IF(ISNUMBER(SEARCH(\"10\",#REF!)),\"1\",\"0\")","v":"0"},{"$f":"IF(ISNUMBER(SEARCH(\"11\",#REF!)),\"1\",\"0\")","v":"0"},{"$f":"IF(ISNUMBER(SEARCH(\"12\",#REF!)),\"1\",\"0\")","v":"0"},{"$f":"IF(ISNUMBER(SEARCH(\"13\",#REF!)),\"1\",\"0\")","v":"0"},{"$f":"IF(ISNUMBER(SEARCH(\"14\",#REF!)),\"1\",\"0\")","v":"0"},{"$f":"IF(ISNUMBER(SEARCH(\"15\",#REF!)),\"1\",\"0\")","v":"0"},{"$f":"IF(ISNUMBER(SEARCH(\"16\",#REF!)),\"1\",\"0\")","v":"0"},{"$f":"IF(ISNUMBER(SEARCH(\"17\",#REF!)),\"1\",\"0\")","v":"0"},1,{"$nulls":3},8,12,14,34,10,null,2,0,0,2,null,12,4,null,{"$f":"#REF!-#REF!","v":{"$error":"#REF!"}},{"$f":"#REF!-#REF!","v":{"$error":"#REF!"}}]
[2,22,11,"ZR",2,34,null,1,8,null,null,11,null,"3, 7. Prostitution forcée","0","0","1","0","0","0","1","0","0","0","0","0","0","0","0","0","0","0",null,null,1,5,2,{"$f":"IF(ISNUMBER(SEARCH(\"1\",#REF!)),\"1\",\"0\")","v":"0"},{"$f":"IF(ISNUMBER(SEARCH(\"2\",#REF!)),\"1\",\"0\")","v":"0"},{"$f":"IF(ISNUMBER(SEARCH(\"3\",#REF!)),\"1\",\"0\")","v":"0"},{"$f":"IF(ISNUMBER(SEARCH(\"4\",#REF!)),\"1\",\"0\")","v":"0"},{"$f":"IF(ISNUMBER(SEARCH(\"5\",#REF!)),\"1\",\"0\")","v":"0"},{"$f":"IF(ISNUMBER(SEARCH(\"6\",#REF!)),\"1\",\"0\")","v":"0"},{"$f":"IF(ISNUMBER(SEARCH(\"7\",#REF!)),\"1\",\"0\")","v":"0"},{"$f":"IF(ISNUMBER(SEARCH(\"8\",#REF!)),\"1\",\"0\")","v":"0"},{"$f":"IF(ISNUMBER(SEARCH(\"9\",#REF!)),\"1\",\"0\")","v":"0"},{"$f":"IF(ISNUMBER(SEARCH(\"9\",#REF!)),\"1\",\"0\")","v":"0"},{"$f":"IF(ISNUMBER(SEARCH(\"10\",#REF!)),\"1\",\"0\")","v":"0"},{"$f":"IF(ISNUMBER(SEARCH(\"11\",#REF!)),\"1\",\"0\")","v":"0"},{"$f":"IF(ISNUMBER(SEARCH(\"12\",#REF!)),\"1\",\"0\")","v":"0"},{"$f":"IF(ISNUMBER(SEARCH(\"13\",#REF!)),\"1\",\"0\")","v":"0"},{"$f":"IF(ISNUMBER(SEARCH(\"14\",#REF!)),\"1\",\"0\")","v":"0"},{"$f":"IF(ISNUMBER(SEARCH(\"15\",#REF!)),\"1\",\"0\")","v":"0"},{"$f":"IF(ISNUMBER(SEARCH(\"16\",#REF!)),\"1\",\"0\")","v":"0"},{"$f":"IF(ISNUMBER(SEARCH(\"17\",#REF!)),\"1\",\"0\")","v":"0"},2,{"$nulls":3},16,16,12,44,null,null,0,2,0,2,{"$nulls":4},{"$f":"#REF!-#REF!","v":{"$error":"#REF!"}},{"$f":"#REF!-#REF!","v":{"$error":"#REF!"}}]
[2,22,11,"ZR",2,23,null,2,3,null,2,1,2,3,"0","0","1","0","0","0","0","0","0","0","0","0","0","0","0","0","0","0",null,null,3,null,null,{"$f":"IF(ISNUMBER(SEARCH(\"1\",#REF!)),\"1\",\"0\")","v":"0"},{"$f":"IF(ISNUMBER(SEARCH(\"2\",#REF!)),\"1\",\"0\")","v":"0"},{"$f":"IF(ISNUMBER(SEARCH(\"3\",#REF!)),\"1\",\"0\")","v":"0"},{"$f":"IF(ISNUMBER(SEARCH(\"4\",#REF!)),\"1\",\"0\")","v":"0"},{"$f":"IF(ISNUMBER(SEARCH(\"5\",#REF!)),\"1\",\"0\")","v":"0"},{"$f":"IF(ISNUMBER(SEARCH(\"6\",#REF!)),\"1\",\"0\")","v":"0"},{"$f":"IF(ISNUMBER(SEARCH(\"7\",#REF!)),\"1\",\"0\")","v":"0"},{"$f":"IF(ISNUMBER(SEARCH(\"8\",#REF!)),\"1\",\"0\")","v":"0"},{"$f":"IF(ISNUMBER(SEARCH(\"9\",#REF!)),\"1\",\"0\")","v":"0"},{"$f":"IF(ISNUMBER(SEARCH(\"9\",#REF!)),\"1\",\"0\")","v":"0"},{"$f":"IF(ISNUMBER(SEARCH(\"10\",#REF!)),\"1\",\"0\")","v":"0"},{"$f":"IF(ISNUMBER(SEARCH(\"11\",#REF!)),\"1\",\"0\")","v":"0"},{"$f":"IF(ISNUMBER(SEARCH(\"12\",#REF!)),\"1\",\"0\")","v":"0"},{"$f":"IF(ISNUMBER(SEARCH(\"13\",#REF!)),\"1\",\"0\")","v":"0"},{"$f":"IF(ISNUMBER(SEARCH(\"14\",#REF!)),\"1\",\"0\")","v":"0"},{"$f":"IF(ISNUMBER(SEARCH(\"15\",#REF!)),\"1\",\"0\")","v":"0"},{"$f":"IF(ISNUMBER(SEARCH(\"16\",#REF!)),\"1\",\"0\")","v":"0"},{"$f":"IF(ISNUMBER(SEARCH(\"17\",#REF!)),\"1\",\"0\")","v":"0"},1,{"$nulls":3},28,6,16,50,8,null,0,0,4,4,{"$nulls":4},{"$f":"#REF!-#REF!","v":{"$error":"#REF!"}},{"$f":"#REF!-#REF!","v":{"$error":"#REF!"}}]
[2,22,11,"RB",2,16,null,3,2,1,0,2,1,"15. Insultes / a reçu des menaces","1","0","0","0","1","0","0","0","0","0","0","0","0","0","1","0","0","0",null,null,1,2,null,{"$f":"IF(ISNUMBER(SEARCH(\"1\",#REF!)),\"1\",\"0\")","v":"0"},{"$f":"IF(ISNUMBER(SEARCH(\"2\",#REF!)),\"1\",\"0\")","v":"0"},{"$f":"IF(ISNUMBER(SEARCH(\"3\",#REF!)),\"1\",\"0\")","v":"0"},{"$f":"IF(ISNUMBER(SEARCH(\"4\",#REF!)),\"1\",\"0\")","v":"0"},{"$f":"IF(ISNUMBER(SEARCH(\"5\",#REF!)),\"1\",\"0\")","v":"0"},{"$f":"IF(ISNUMBER(SEARCH(\"6\",#REF!)),\"1\",\"0\")","v":"0"},{"$f":"IF(ISNUMBER(SEARCH(\"7\",#REF!)),\"1\",\"0\")","v":"0"},{"$f":"IF(ISNUMBER(SEARCH(\"8\",#REF!)),\"1\",\"0\")","v":"0"},{"$f":"IF(ISNUMBER(SEARCH(\"9\",#REF!)),\"1\",\"0\")","v":"0"},{"$f":"IF(ISNUMBER(SEARCH(\"9\",#REF!)),\"1\",\"0\")","v":"0"},{"$f":"IF(ISNUMBER(SEARCH(\"10\",#REF!)),\"1\",\"0\")","v":"0"},{"$f":"IF(ISNUMBER(SEARCH(\"11\",#REF!)),\"1\",\"0\")","v":"0"},{"$f":"IF(ISNUMBER(SEARCH(\"12\",#REF!)),\"1\",\"0\")","v":"0"},{"$f":"IF(ISNUMBER(SEARCH(\"13\",#REF!)),\"1\",\"0\")","v":"0"},{"$f":"IF(ISNUMBER(SEARCH(\"14\",#REF!)),\"1\",\"0\")","v":"0"},{"$f":"IF(ISNUMBER(SEARCH(\"15\",#REF!)),\"1\",\"0\")","v":"0"},{"$f":"IF(ISNUMBER(SEARCH(\"16\",#REF!)),\"1\",\"0\")","v":"0"},{"$f":"IF(ISNUMBER(SEARCH(\"17\",#REF!)),\"1\",\"0\")","v":"0"},{"$nulls":4},6,18,10,34,6,{"$nulls":9},{"$f":"#REF!-#REF!","v":{"$error":"#REF!"}},{"$f":"#REF!-#REF!","v":{"$error":"#REF!"}}]
[2,22,11,"RB",2,19,null,3,2,1,0,5,1,3,"0","0","1","0","0","0","0","0","0","0","0","0","0","0","0","0","0","0",null,null,3,5,2,{"$f":"IF(ISNUMBER(SEARCH(\"1\",#REF!)),\"1\",\"0\")","v":"0"},{"$f":"IF(ISNUMBER(SEARCH(\"2\",#REF!)),\"1\",\"0\")","v":"0"},{"$f":"IF(ISNUMBER(SEARCH(\"3\",#REF!)),\"1\",\"0\")","v":"0"},{"$f":"IF(ISNUMBER(SEARCH(\"4\",#REF!)),\"1\",\"0\")","v":"0"},{"$f":"IF(ISNUMBER(SEARCH(\"5\",#REF!)),\"1\",\"0\")","v":"0"},{"$f":"IF(ISNUMBER(SEARCH(\"6\",#REF!)),\"1\",\"0\")","v":"0"},{"$f":"IF(ISNUMBER(SEARCH(\"7\",#REF!)),\"1\",\"0\")","v":"0"},{"$f":"IF(ISNUMBER(SEARCH(\"8\",#REF!)),\"1\",\"0\")","v":"0"},{"$f":"IF(ISNUMBER(SEARCH(\"9\",#REF!)),\"1\",\"0\")","v":"0"},{"$f":"IF(ISNUMBER(SEARCH(\"9\",#REF!)),\"1\",\"0\")","v":"0"},{"$f":"IF(ISNUMBER(SEARCH(\"10\",#REF!)),\"1\",\"0\")","v":"0"},{"$f":"IF(ISNUMBER(SEARCH(\"11\",#REF!)),\"1\",\"0\")","v":"0"},{"$f":"IF(ISNUMBER(SEARCH(\"12\",#REF!)),\"1\",\"0\")","v":"0"},{"$f":"IF(ISNUMBER(SEARCH(\"13\",#REF!)),\"1\",\"0\")","v":"0"},{"$f":"IF(ISNUMBER(SEARCH(\"14\",#REF!)),\"1\",\"0\")","v":"0"},{"$f":"IF(ISNUMBER(SEARCH(\"15\",#REF!)),\"1\",\"0\")","v":"0"},{"$f":"IF(ISNUMBER(SEARCH(\"16\",#REF!)),\"1\",\"0\")","v":"0"},{"$f":"IF(ISNUMBER(SEARCH(\"17\",#REF!)),\"1\",\"0\")","v":"0"},1,{"$nulls":3},16,10,14,40,5,null,4,2,6,12,null,7,6,null,{"$f":"#REF!-#REF!","v":{"$error":"#REF!"}},{"$f":"#REF!-#REF!","v":{"$error":"#REF!"}}]
[2,22,11,"ZR",2,17,null,2,3,null,0,3,1,1,"1","0","0","0","0","0","0","0","0","0","0","0","0","0","0","0","0","0",null,null,3,4,1,{"$f":"IF(ISNUMBER(SEARCH(\"1\",#REF!)),\"1\",\"0\")","v":"0"},{"$f":"IF(ISNUMBER(SEARCH(\"2\",#REF!)),\"1\",\"0\")","v":"0"},{"$f":"IF(ISNUMBER(SEARCH(\"3\",#REF!)),\"1\",\"0\")","v":"0"},{"$f":"IF(ISNUMBER(SEARCH(\"4\",#REF!)),\"1\",\"0\")","v":"0"},{"$f":"IF(ISNUMBER(SEARCH(\"5\",#REF!)),\"1\",\"0\")","v":"0"},{"$f":"IF(ISNUMBER(SEARCH(\"6\",#REF!)),\"1\",\"0\")","v":"0"},{"$f":"IF(ISNUMBER(SEARCH(\"7\",#REF!)),\"1\",\"0\")","v":"0"},{"$f":"IF(ISNUMBER(SEARCH(\"8\",#REF!)),\"1\",\"0\")","v":"0"},{"$f":"IF(ISNUMBER(SEARCH(\"9\",#REF!)),\"1\",\"0\")","v":"0"},{"$f":"IF(ISNUMBER(SEARCH(\"9\",#REF!)),\"1\",\"0\")","v":"0"},{"$f":"IF(ISNUMBER(SEARCH(\"10\",#REF!)),\"1\",\"0\")","v":"0"},{"$f":"IF(ISNUMBER(SEARCH(\"11\",#REF!)),\"1\",\"0\")","v":"0"},{"$f":"IF(ISNUMBER(SEARCH(\"12\",#REF!)),\"1\",\"0\")","v":"0"},{"$f":"IF(ISNUMBER(SEARCH(\"13\",#REF!)),\"1\",\"0\")","v":"0"},{"$f":"IF(ISNUMBER(SEARCH(\"14\",#REF!)),\"1\",\"0\")","v":"0"},{"$f":"IF(ISNUMBER(SEARCH(\"15\",#REF!)),\"1\",\"0\")","v":"0"},{"$f":"IF(ISNUMBER(SEARCH(\"16\",#REF!)),\"1\",\"0\")","v":"0"},{"$f":"IF(ISNUMBER(SEARCH(\"17\",#REF!)),\"1\",\"0\")","v":"0"},{"$nulls":8},6,{"$nulls":6},5,5]
[2,22,11,"ZR",2,27,null,null,3,null,null,5,null,1,"1","0","0","0","0","0","0","0","0","0","0","0","0","0","0","0","0","0",{"$nulls":3},2,1,{"$f":"IF(ISNUMBER(SEARCH(\"1\",#REF!)),\"1\",\"0\")","v":"0"},{"$f":"IF(ISNUMBER(SEARCH(\"2\",#REF!)),\"1\",\"0\")","v":"0"},{"$f":"IF(ISNUMBER(SEARCH(\"3\",#REF!)),\"1\",\"0\")","v":"0"},{"$f":"IF(ISNUMBER(SEARCH(\"4\",#REF!)),\"1\",\"0\")","v":"0"},{"$f":"IF(ISNUMBER(SEARCH(\"5\",#REF!)),\"1\",\"0\")","v":"0"},{"$f":"IF(ISNUMBER(SEARCH(\"6\",#REF!)),\"1\",\"0\")","v":"0"},{"$f":"IF(ISNUMBER(SEARCH(\"7\",#REF!)),\"1\",\"0\")","v":"0"},{"$f":"IF(ISNUMBER(SEARCH(\"8\",#REF!)),\"1\",\"0\")","v":"0"},{"$f":"IF(ISNUMBER(SEARCH(\"9\",#REF!)),\"1\",\"0\")","v":"0"},{"$f":"IF(ISNUMBER(SEARCH(\"9\",#REF!)),\"1\",\"0\")","v":"0"},{"$f":"IF(ISNUMBER(SEARCH(\"10\",#REF!)),\"1\",\"0\")","v":"0"},{"$f":"IF(ISNUMBER(SEARCH(\"11\",#REF!)),\"1\",\"0\")","v":"0"},{"$f":"IF(ISNUMBER(SEARCH(\"12\",#REF!)),\"1\",\"0\")","v":"0"},{"$f":"IF(ISNUMBER(SEARCH(\"13\",#REF!)),\"1\",\"0\")","v":"0"},{"$f":"IF(ISNUMBER(SEARCH(\"14\",#REF!)),\"1\",\"0\")","v":"0"},{"$f":"IF(ISNUMBER(SEARCH(\"15\",#REF!)),\"1\",\"0\")","v":"0"},{"$f":"IF(ISNUMBER(SEARCH(\"16\",#REF!)),\"1\",\"0\")","v":"0"},{"$f":"IF(ISNUMBER(SEARCH(\"17\",#REF!)),\"1\",\"0\")","v":"0"},{"$nulls":4},30,0,18,48,6,null,2,2,0,4,{"$nulls":4},{"$f":"#REF!-#REF!","v":{"$error":"#REF!"}},{"$f":"#REF!-#REF!","v":{"$error":"#REF!"}}]
[2,22,11,"RB",2,21,null,null,3,null,1,5,2,null,"0","0","0","0","0","0","0","0","0","0","0","0","0","0","0","0","0","0",null,null,3,5,2,{"$f":"IF(ISNUMBER(SEARCH(\"1\",#REF!)),\"1\",\"0\")","v":"0"},{"$f":"IF(ISNUMBER(SEARCH(\"2\",#REF!)),\"1\",\"0\")","v":"0"},{"$f":"IF(ISNUMBER(SEARCH(\"3\",#REF!)),\"1\",\"0\")","v":"0"},{"$f":"IF(ISNUMBER(SEARCH(\"4\",#REF!)),\"1\",\"0\")","v":"0"},{"$f":"IF(ISNUMBER(SEARCH(\"5\",#REF!)),\"1\",\"0\")","v":"0"},{"$f":"IF(ISNUMBER(SEARCH(\"6\",#REF!)),\"1\",\"0\")","v":"0"},{"$f":"IF(ISNUMBER(SEARCH(\"7\",#REF!)),\"1\",\"0\")","v":"0"},{"$f":"IF(ISNUMBER(SEARCH(\"8\",#REF!)),\"1\",\"0\")","v":"0"},{"$f":"IF(ISNUMBER(SEARCH(\"9\",#REF!)),\"1\",\"0\")","v":"0"},{"$f":"IF(ISNUMBER(SEARCH(\"9\",#REF!)),\"1\",\"0\")","v":"0"},{"$f":"IF(ISNUMBER(SEARCH(\"10\",#REF!)),\"1\",\"0\")","v":"0"},{"$f":"IF(ISNUMBER(SEARCH(\"11\",#REF!)),\"1\",\"0\")","v":"0"},{"$f":"IF(ISNUMBER(SEARCH(\"12\",#REF!)),\"1\",\"0\")","v":"0"},{"$f":"IF(ISNUMBER(SEARCH(\"13\",#REF!)),\"1\",\"0\")","v":"0"},{"$f":"IF(ISNUMBER(SEARCH(\"14\",#REF!)),\"1\",\"0\")","v":"0"},{"$f":"IF(ISNUMBER(SEARCH(\"15\",#REF!)),\"1\",\"0\")","v":"0"},{"$f":"IF(ISNUMBER(SEARCH(\"16\",#REF!)),\"1\",\"0\")","v":"0"},{"$f":"IF(ISNUMBER(SEARCH(\"17\",#REF!)),\"1\",\"0\")","v":"0"},{"$nulls":4},18,14,16,48,null,null,2,2,2,6,{"$nulls":5},{"$f":"#REF!-#REF!","v":{"$error":"#REF!"}}]
[2,22,11,"RB",2,47,null,null,3,null,7,11,6,"16. Autre (SVP dans la case suivante) ","1","0","0","0","0","1","0","0","0","0","0","0","0","0","0","1","0","0",null,null,1,3,null,{"$f":"IF(ISNUMBER(SEARCH(\"1\",#REF!)),\"1\",\"0\")","v":"0"},{"$f":"IF(ISNUMBER(SEARCH(\"2\",#REF!)),\"1\",\"0\")","v":"0"},{"$f":"IF(ISNUMBER(SEARCH(\"3\",#REF!)),\"1\",\"0\")","v":"0"},{"$f":"IF(ISNUMBER(SEARCH(\"4\",#REF!)),\"1\",\"0\")","v":"0"},{"$f":"IF(ISNUMBER(SEARCH(\"5\",#REF!)),\"1\",\"0\")","v":"0"},{"$f":"IF(ISNUMBER(SEARCH(\"6\",#REF!)),\"1\",\"0\")","v":"0"},{"$f":"IF(ISNUMBER(SEARCH(\"7\",#REF!)),\"1\",\"0\")","v":"0"},{"$f":"IF(ISNUMBER(SEARCH(\"8\",#REF!)),\"1\",\"0\")","v":"0"},{"$f":"IF(ISNUMBER(SEARCH(\"9\",#REF!)),\"1\",\"0\")","v":"0"},{"$f":"IF(ISNUMBER(SEARCH(\"9\",#REF!)),\"1\",\"0\")","v":"0"},{"$f":"IF(ISNUMBER(SEARCH(\"10\",#REF!)),\"1\",\"0\")","v":"0"},{"$f":"IF(ISNUMBER(SEARCH(\"11\",#REF!)),\"1\",\"0\")","v":"0"},{"$f":"IF(ISNUMBER(SEARCH(\"12\",#REF!)),\"1\",\"0\")","v":"0"},{"$f":"IF(ISNUMBER(SEARCH(\"13\",#REF!)),\"1\",\"0\")","v":"0"},{"$f":"IF(ISNUMBER(SEARCH(\"14\",#REF!)),\"1\",\"0\")","v":"0"},{"$f":"IF(ISNUMBER(SEARCH(\"15\",#REF!)),\"1\",\"0\")","v":"0"},{"$f":"IF(ISNUMBER(SEARCH(\"16\",#REF!)),\"1\",\"0\")","v":"0"},{"$f":"IF(ISNUMBER(SEARCH(\"17\",#REF!)),\"1\",\"0\")","v":"0"},{"$nulls":4},12,10,12,34,8,null,4,2,6,12,{"$nulls":5},{"$f":"#REF!-#REF!","v":{"$error":"#REF!"}}]
[2,22,11,"MLO",2,19,null,3,2,1,0,5,1,3,"0","0","1","0","0","0","0","0","0","0","0","0","0","0","0","0","0","0",null,null,3,5,2,{"$f":"IF(ISNUMBER(SEARCH(\"1\",#REF!)),\"1\",\"0\")","v":"0"},{"$f":"IF(ISNUMBER(SEARCH(\"2\",#REF!)),\"1\",\"0\")","v":"0"},{"$f":"IF(ISNUMBER(SEARCH(\"3\",#REF!)),\"1\",\"0\")","v":"0"},{"$f":"IF(ISNUMBER(SEARCH(\"4\",#REF!)),\"1\",\"0\")","v":"0"},{"$f":"IF(ISNUMBER(SEARCH(\"5\",#REF!)),\"1\",\"0\")","v":"0"},{"$f":"IF(ISNUMBER(SEARCH(\"6\",#REF!)),\"1\",\"0\")","v":"0"},{"$f":"IF(ISNUMBER(SEARCH(\"7\",#REF!)),\"1\",\"0\")","v":"0"},{"$f":"IF(ISNUMBER(SEARCH(\"8\",#REF!)),\"1\",\"0\")","v":"0"},{"$f":"IF(ISNUMBER(SEARCH(\"9\",#REF!)),\"1\",\"0\")","v":"0"},{"$f":"IF(ISNUMBER(SEARCH(\"9\",#REF!)),\"1\",\"0\")","v":"0"},{"$f":"IF(ISNUMBER(SEARCH(\"10\",#REF!)),\"1\",\"0\")","v":"0"},{"$f":"IF(ISNUMBER(SEARCH(\"11\",#REF!)),\"1\",\"0\")","v":"0"},{"$f":"IF(ISNUMBER(SEARCH(\"12\",#REF!)),\"1\",\"0\")","v":"0"},{"$f":"IF(ISNUMBER(SEARCH(\"13\",#REF!)),\"1\",\"0\")","v":"0"},{"$f":"IF(ISNUMBER(SEARCH(\"14\",#REF!)),\"1\",\"0\")","v":"0"},{"$f":"IF(ISNUMBER(SEARCH(\"15\",#REF!)),\"1\",\"0\")","v":"0"},{"$f":"IF(ISNUMBER(SEARCH(\"16\",#REF!)),\"1\",\"0\")","v":"0"},{"$f":"IF(ISNUMBER(SEARCH(\"17\",#REF!)),\"1\",\"0\")","v":"0"},3,{"$nulls":7},3]
[2,22,11,"ZR",2,30,null,null,7,null,null,5,null,null,"0","0","0","0","0","0","0","0","0","0","0","0","0","0","0","0","0","0",null,null,1,3,2,{"$f":"IF(ISNUMBER(SEARCH(\"1\",#REF!)),\"1\",\"0\")","v":"0"},{"$f":"IF(ISNUMBER(SEARCH(\"2\",#REF!)),\"1\",\"0\")","v":"0"},{"$f":"IF(ISNUMBER(SEARCH(\"3\",#REF!)),\"1\",\"0\")","v":"0"},{"$f":"IF(ISNUMBER(SEARCH(\"4\",#REF!)),\"1\",\"0\")","v":"0"},{"$f":"IF(ISNUMBER(SEARCH(\"5\",#REF!)),\"1\",\"0\")","v":"0"},{"$f":"IF(ISNUMBER(SEARCH(\"6\",#REF!)),\"1\",\"0\")","v":"0"},{"$f":"IF(ISNUMBER(SEARCH(\"7\",#REF!)),\"1\",\"0\")","v":"0"},{"$f":"IF(ISNUMBER(SEARCH(\"8\",#REF!)),\"1\",\"0\")","v":"0"},{"$f":"IF(ISNUMBER(SEARCH(\"9\",#REF!)),\"1\",\"0\")","v":"0"},{"$f":"IF(ISNUMBER(SEARCH(\"9\",#REF!)),\"1\",\"0\")","v":"0"},{"$f":"IF(ISNUMBER(SEARCH(\"10\",#REF!)),\"1\",\"0\")","v":"0"},{"$f":"IF(ISNUMBER(SEARCH(\"11\",#REF!)),\"1\",\"0\")","v":"0"},{"$f":"IF(ISNUMBER(SEARCH(\"12\",#REF!)),\"1\",\"0\")","v":"0"},{"$f":"IF(ISNUMBER(SEARCH(\"13\",#REF!)),\"1\",\"0\")","v":"0"},{"$f":"IF(ISNUMBER(SEARCH(\"14\",#REF!)),\"1\",\"0\")","v":"0"},{"$f":"IF(ISNUMBER(SEARCH(\"15\",#REF!)),\"1\",\"0\")","v":"0"},{"$f":"IF(ISNUMBER(SEARCH(\"16\",#REF!)),\"1\",\"0\")","v":"0"},{"$f":"IF(ISNUMBER(SEARCH(\"17\",#REF!)),\"1\",\"0\")","v":"0"},{"$nulls":8},6,{"$nulls":6},5,3]
[2,22,11,"MLO",2,38,null,1,3,1,6,5,5,"1, 16. Autre (SVP dans la case suivante) ","1","0","0","0","0","1","0","0","0","0","0","0","0","0","0","1","0","0",{"$nulls":3},3,2,{"$f":"IF(ISNUMBER(SEARCH(\"1\",#REF!)),\"1\",\"0\")","v":"0"},{"$f":"IF(ISNUMBER(SEARCH(\"2\",#REF!)),\"1\",\"0\")","v":"0"},{"$f":"IF(ISNUMBER(SEARCH(\"3\",#REF!)),\"1\",\"0\")","v":"0"},{"$f":"IF(ISNUMBER(SEARCH(\"4\",#REF!)),\"1\",\"0\")","v":"0"},{"$f":"IF(ISNUMBER(SEARCH(\"5\",#REF!)),\"1\",\"0\")","v":"0"},{"$f":"IF(ISNUMBER(SEARCH(\"6\",#REF!)),\"1\",\"0\")","v":"0"},{"$f":"IF(ISNUMBER(SEARCH(\"7\",#REF!)),\"1\",\"0\")","v":"0"},{"$f":"IF(ISNUMBER(SEARCH(\"8\",#REF!)),\"1\",\"0\")","v":"0"},{"$f":"IF(ISNUMBER(SEARCH(\"9\",#REF!)),\"1\",\"0\")","v":"0"},{"$f":"IF(ISNUMBER(SEARCH(\"9\",#REF!)),\"1\",\"0\")","v":"0"},{"$f":"IF(ISNUMBER(SEARCH(\"10\",#REF!)),\"1\",\"0\")","v":"0"},{"$f":"IF(ISNUMBER(SEARCH(\"11\",#REF!)),\"1\",\"0\")","v":"0"},{"$f":"IF(ISNUMBER(SEARCH(\"12\",#REF!)),\"1\",\"0\")","v":"0"},{"$f":"IF(ISNUMBER(SEARCH(\"13\",#REF!)),\"1\",\"0\")","v":"0"},{"$f":"IF(ISNUMBER(SEARCH(\"14\",#REF!)),\"1\",\"0\")","v":"0"},{"$f":"IF(ISNUMBER(SEARCH(\"15\",#REF!)),\"1\",\"0\")","v":"0"},{"$f":"IF(ISNUMBER(SEARCH(\"16\",#REF!)),\"1\",\"0\")","v":"0"},{"$f":"IF(ISNUMBER(SEARCH(\"17\",#REF!)),\"1\",\"0\")","v":"0"},{"$nulls":4},26,0,14,40,5,{"$nulls":6},7,3]
[2,22,10,"NA",2,19,null,2,3,1,2,1,2,3,"0","0","1","0","0","0","0","0","0","0","0","0","0","0","0","0","0","0",null,null,3,5,2,{"$f":"IF(ISNUMBER(SEARCH(\"1\",#REF!)),\"1\",\"0\")","v":"0"},{"$f":"IF(ISNUMBER(SEARCH(\"2\",#REF!)),\"1\",\"0\")","v":"0"},{"$f":"IF(ISNUMBER(SEARCH(\"3\",#REF!)),\"1\",\"0\")","v":"0"},{"$f":"IF(ISNUMBER(SEARCH(\"4\",#REF!)),\"1\",\"0\")","v":"0"},{"$f":"IF(ISNUMBER(SEARCH(\"5\",#REF!)),\"1\",\"0\")","v":"0"},{"$f":"IF(ISNUMBER(SEARCH(\"6\",#REF!)),\"1\",\"0\")","v":"0"},{"$f":"IF(ISNUMBER(SEARCH(\"7\",#REF!)),\"1\",\"0\")","v":"0"},{"$f":"IF(ISNUMBER(SEARCH(\"8\",#REF!)),\"1\",\"0\")","v":"0"},{"$f":"IF(ISNUMBER(SEARCH(\"9\",#REF!)),\"1\",\"0\")","v":"0"},{"$f":"IF(ISNUMBER(SEARCH(\"9\",#REF!)),\"1\",\"0\")","v":"0"},{"$f":"IF(ISNUMBER(SEARCH(\"10\",#REF!)),\"1\",\"0\")","v":"0"},{"$f":"IF(ISNUMBER(SEARCH(\"11\",#REF!)),\"1\",\"0\")","v":"0"},{"$f":"IF(ISNUMBER(SEARCH(\"12\",#REF!)),\"1\",\"0\")","v":"0"},{"$f":"IF(ISNUMBER(SEARCH(\"13\",#REF!)),\"1\",\"0\")","v":"0"},{"$f":"IF(ISNUMBER(SEARCH(\"14\",#REF!)),\"1\",\"0\")","v":"0"},{"$f":"IF(ISNUMBER(SEARCH(\"15\",#REF!)),\"1\",\"0\")","v":"0"},{"$f":"IF(ISNUMBER(SEARCH(\"16\",#REF!)),\"1\",\"0\")","v":"0"},{"$f":"IF(ISNUMBER(SEARCH(\"17\",#REF!)),\"1\",\"0\")","v":"0"},1,{"$nulls":3},8,14,8,30,3,null,8,6,4,18,null,11,4,null,{"$f":"#REF!-#REF!","v":{"$error":"#REF!"}},{"$f":"#REF!-#REF!","v":{"$error":"#REF!"}}]
[2,22,10,"UM",2,21,null,null,3,1,4,1,2,1,"1","0","0","0","0","0","0","0","0","0","0","0","0","0","0","0","0","0",null,null,3,5,2,{"$f":"IF(ISNUMBER(SEARCH(\"1\",#REF!)),\"1\",\"0\")","v":"0"},{"$f":"IF(ISNUMBER(SEARCH(\"2\",#REF!)),\"1\",\"0\")","v":"0"},{"$f":"IF(ISNUMBER(SEARCH(\"3\",#REF!)),\"1\",\"0\")","v":"0"},{"$f":"IF(ISNUMBER(SEARCH(\"4\",#REF!)),\"1\",\"0\")","v":"0"},{"$f":"IF(ISNUMBER(SEARCH(\"5\",#REF!)),\"1\",\"0\")","v":"0"},{"$f":"IF(ISNUMBER(SEARCH(\"6\",#REF!)),\"1\",\"0\")","v":"0"},{"$f":"IF(ISNUMBER(SEARCH(\"7\",#REF!)),\"1\",\"0\")","v":"0"},{"$f":"IF(ISNUMBER(SEARCH(\"8\",#REF!)),\"1\",\"0\")","v":"0"},{"$f":"IF(ISNUMBER(SEARCH(\"9\",#REF!)),\"1\",\"0\")","v":"0"},{"$f":"IF(ISNUMBER(SEARCH(\"9\",#REF!)),\"1\",\"0\")","v":"0"},{"$f":"IF(ISNUMBER(SEARCH(\"10\",#REF!)),\"1\",\"0\")","v":"0"},{"$f":"IF(ISNUMBER(SEARCH(\"11\",#REF!)),\"1\",\"0\")","v":"0"},{"$f":"IF(ISNUMBER(SEARCH(\"12\",#REF!)),\"1\",\"0\")","v":"0"},{"$f":"IF(ISNUMBER(SEARCH(\"13\",#REF!)),\"1\",\"0\")","v":"0"},{"$f":"IF(ISNUMBER(SEARCH(\"14\",#REF!)),\"1\",\"0\")","v":"0"},{"$f":"IF(ISNUMBER(SEARCH(\"15\",#REF!)),\"1\",\"0\")","v":"0"},{"$f":"IF(ISNUMBER(SEARCH(\"16\",#REF!)),\"1\",\"0\")","v":"0"},{"$f":"IF(ISNUMBER(SEARCH(\"17\",#REF!)),\"1\",\"0\")","v":"0"},{"$nulls":4},14,12,14,40,3,null,0,2,4,6,null,5,null,null,{"$f":"#REF!-#REF!","v":{"$error":"#REF!"}},{"$f":"#REF!-#REF!","v":{"$error":"#REF!"}}]
[2,22,10,"IB",2,31,null,1,3,1,6,1,null,2,"0","1","0","0","0","0","0","0","0","0","0","0","0","0","0","0","0","0",null,null,1,4,2,{"$f":"IF(ISNUMBER(SEARCH(\"1\",#REF!)),\"1\",\"0\")","v":"0"},{"$f":"IF(ISNUMBER(SEARCH(\"2\",#REF!)),\"1\",\"0\")","v":"0"},{"$f":"IF(ISNUMBER(SEARCH(\"3\",#REF!)),\"1\",\"0\")","v":"0"},{"$f":"IF(ISNUMBER(SEARCH(\"4\",#REF!)),\"1\",\"0\")","v":"0"},{"$f":"IF(ISNUMBER(SEARCH(\"5\",#REF!)),\"1\",\"0\")","v":"0"},{"$f":"IF(ISNUMBER(SEARCH(\"6\",#REF!)),\"1\",\"0\")","v":"0"},{"$f":"IF(ISNUMBER(SEARCH(\"7\",#REF!)),\"1\",\"0\")","v":"0"},{"$f":"IF(ISNUMBER(SEARCH(\"8\",#REF!)),\"1\",\"0\")","v":"0"},{"$f":"IF(ISNUMBER(SEARCH(\"9\",#REF!)),\"1\",\"0\")","v":"0"},{"$f":"IF(ISNUMBER(SEARCH(\"9\",#REF!)),\"1\",\"0\")","v":"0"},{"$f":"IF(ISNUMBER(SEARCH(\"10\",#REF!)),\"1\",\"0\")","v":"0"},{"$f":"IF(ISNUMBER(SEARCH(\"11\",#REF!)),\"1\",\"0\")","v":"0"},{"$f":"IF(ISNUMBER(SEARCH(\"12\",#REF!)),\"1\",\"0\")","v":"0"},{"$f":"IF(ISNUMBER(SEARCH(\"13\",#REF!)),\"1\",\"0\")","v":"0"},{"$f":"IF(ISNUMBER(SEARCH(\"14\",#REF!)),\"1\",\"0\")","v":"0"},{"$f":"IF(ISNUMBER(SEARCH(\"15\",#REF!)),\"1\",\"0\")","v":"0"},{"$f":"IF(ISNUMBER(SEARCH(\"16\",#REF!)),\"1\",\"0\")","v":"0"},{"$f":"IF(ISNUMBER(SEARCH(\"17\",#REF!)),\"1\",\"0\")","v":"0"},{"$nulls":4},10,16,4,30,5,null,6,0,4,10,null,8,{"$nulls":3},{"$f":"#REF!-#REF!","v":{"$error":"#REF!"}}]
[2,22,10,"NA",2,24,null,2,8,1,5,1,null,1,"1","0","0","0","0","0","0","0","0","0","0","0","0","0","0","0","0","0",null,null,2,3,1,{"$f":"IF(ISNUMBER(SEARCH(\"1\",#REF!)),\"1\",\"0\")","v":"0"},{"$f":"IF(ISNUMBER(SEARCH(\"2\",#REF!)),\"1\",\"0\")","v":"0"},{"$f":"IF(ISNUMBER(SEARCH(\"3\",#REF!)),\"1\",\"0\")","v":"0"},{"$f":"IF(ISNUMBER(SEARCH(\"4\",#REF!)),\"1\",\"0\")","v":"0"},{"$f":"IF(ISNUMBER(SEARCH(\"5\",#REF!)),\"1\",\"0\")","v":"0"},{"$f":"IF(ISNUMBER(SEARCH(\"6\",#REF!)),\"1\",\"0\")","v":"0"},{"$f":"IF(ISNUMBER(SEARCH(\"7\",#REF!)),\"1\",\"0\")","v":"0"},{"$f":"IF(ISNUMBER(SEARCH(\"8\",#REF!)),\"1\",\"0\")","v":"0"},{"$f":"IF(ISNUMBER(SEARCH(\"9\",#REF!)),\"1\",\"0\")","v":"0"},{"$f":"IF(ISNUMBER(SEARCH(\"9\",#REF!)),\"1\",\"0\")","v":"0"},{"$f":"IF(ISNUMBER(SEARCH(\"10\",#REF!)),\"1\",\"0\")","v":"0"},{"$f":"IF(ISNUMBER(SEARCH(\"11\",#REF!)),\"1\",\"0\")","v":"0"},{"$f":"IF(ISNUMBER(SEARCH(\"12\",#REF!)),\"1\",\"0\")","v":"0"},{"$f":"IF(ISNUMBER(SEARCH(\"13\",#REF!)),\"1\",\"0\")","v":"0"},{"$f":"IF(ISNUMBER(SEARCH(\"14\",#REF!)),\"1\",\"0\")","v":"0"},{"$f":"IF(ISNUMBER(SEARCH(\"15\",#REF!)),\"1\",\"0\")","v":"0"},{"$f":"IF(ISNUMBER(SEARCH(\"16\",#REF!)),\"1\",\"0\")","v":"0"},{"$f":"IF(ISNUMBER(SEARCH(\"17\",#REF!)),\"1\",\"0\")","v":"0"},{"$nulls":4},28,10,18,56,6,null,18,4,2,24,null,13,5,null,{"$f":"#REF!-#REF!","v":{"$error":"#REF!"}},{"$f":"#REF!-#REF!","v":{"$error":"#REF!"}}]
[2,22,10,"UM",2,39,null,1,7,1,6,5,2,1,"1","0","0","0","0","0","0","0","0","0","0","0","0","0","0","0","0","0",null,null,1,1,1,{"$f":"IF(ISNUMBER(SEARCH(\"1\",#REF!)),\"1\",\"0\")","v":"0"},{"$f":"IF(ISNUMBER(SEARCH(\"2\",#REF!)),\"1\",\"0\")","v":"0"},{"$f":"IF(ISNUMBER(SEARCH(\"3\",#REF!)),\"1\",\"0\")","v":"0"},{"$f":"IF(ISNUMBER(SEARCH(\"4\",#REF!)),\"1\",\"0\")","v":"0"},{"$f":"IF(ISNUMBER(SEARCH(\"5\",#REF!)),\"1\",\"0\")","v":"0"},{"$f":"IF(ISNUMBER(SEARCH(\"6\",#REF!)),\"1\",\"0\")","v":"0"},{"$f":"IF(ISNUMBER(SEARCH(\"7\",#REF!)),\"1\",\"0\")","v":"0"},{"$f":"IF(ISNUMBER(SEARCH(\"8\",#REF!)),\"1\",\"0\")","v":"0"},{"$f":"IF(ISNUMBER(SEARCH(\"9\",#REF!)),\"1\",\"0\")","v":"0"},{"$f":"IF(ISNUMBER(SEARCH(\"9\",#REF!)),\"1\",\"0\")","v":"0"},{"$f":"IF(ISNUMBER(SEARCH(\"10\",#REF!)),\"1\",\"0\")","v":"0"},{"$f":"IF(ISNUMBER(SEARCH(\"11\",#REF!)),\"1\",\"0\")","v":"0"},{"$f":"IF(ISNUMBER(SEARCH(\"12\",#REF!)),\"1\",\"0\")","v":"0"},{"$f":"IF(ISNUMBER(SEARCH(\"13\",#REF!)),\"1\",\"0\")","v":"0"},{"$f":"IF(ISNUMBER(SEARCH(\"14\",#REF!)),\"1\",\"0\")","v":"0"},{"$f":"IF(ISNUMBER(SEARCH(\"15\",#REF!)),\"1\",\"0\")","v":"0"},{"$f":"IF(ISNUMBER(SEARCH(\"16\",#REF!)),\"1\",\"0\")","v":"0"},{"$f":"IF(ISNUMBER(SEARCH(\"17\",#REF!)),\"1\",\"0\")","v":"0"},{"$nulls":16},4]
[2,22,10,"IB",2,57,null,1,8,1,9,1,2,3,"0","0","1","0","0","0","0","0","0","0","0","0","0","0","0","0","0","0",null,null,3,5,2,{"$f":"IF(ISNUMBER(SEARCH(\"1\",#REF!)),\"1\",\"0\")","v":"0"},{"$f":"IF(ISNUMBER(SEARCH(\"2\",#REF!)),\"1\",\"0\")","v":"0"},{"$f":"IF(ISNUMBER(SEARCH(\"3\",#REF!)),\"1\",\"0\")","v":"0"},{"$f":"IF(ISNUMBER(SEARCH(\"4\",#REF!)),\"1\",\"0\")","v":"0"},{"$f":"IF(ISNUMBER(SEARCH(\"5\",#REF!)),\"1\",\"0\")","v":"0"},{"$f":"IF(ISNUMBER(SEARCH(\"6\",#REF!)),\"1\",\"0\")","v":"0"},{"$f":"IF(ISNUMBER(SEARCH(\"7\",#REF!)),\"1\",\"0\")","v":"0"},{"$f":"IF(ISNUMBER(SEARCH(\"8\",#REF!)),\"1\",\"0\")","v":"0"},{"$f":"IF(ISNUMBER(SEARCH(\"9\",#REF!)),\"1\",\"0\")","v":"0"},{"$f":"IF(ISNUMBER(SEARCH(\"9\",#REF!)),\"1\",\"0\")","v":"0"},{"$f":"IF(ISNUMBER(SEARCH(\"10\",#REF!)),\"1\",\"0\")","v":"0"},{"$f":"IF(ISNUMBER(SEARCH(\"11\",#REF!)),\"1\",\"0\")","v":"0"},{"$f":"IF(ISNUMBER(SEARCH(\"12\",#REF!)),\"1\",\"0\")","v":"0"},{"$f":"IF(ISNUMBER(SEARCH(\"13\",#REF!)),\"1\",\"0\")","v":"0"},{"$f":"IF(ISNUMBER(SEARCH(\"14\",#REF!)),\"1\",\"0\")","v":"0"},{"$f":"IF(ISNUMBER(SEARCH(\"15\",#REF!)),\"1\",\"0\")","v":"0"},{"$f":"IF(ISNUMBER(SEARCH(\"16\",#REF!)),\"1\",\"0\")","v":"0"},{"$f":"IF(ISNUMBER(SEARCH(\"17\",#REF!)),\"1\",\"0\")","v":"0"},1,{"$nulls":7},3,{"$nulls":7},1]
[2,22,10,"NA",2,35,null,1,3,1,6,3,null,"15. Insultes / a reçu des menaces","1","0","0","0","1","0","0","0","0","0","0","0","0","0","1","0","0","0",null,null,1,3,1,{"$f":"IF(ISNUMBER(SEARCH(\"1\",#REF!)),\"1\",\"0\")","v":"0"},{"$f":"IF(ISNUMBER(SEARCH(\"2\",#REF!)),\"1\",\"0\")","v":"0"},{"$f":"IF(ISNUMBER(SEARCH(\"3\",#REF!)),\"1\",\"0\")","v":"0"},{"$f":"IF(ISNUMBER(SEARCH(\"4\",#REF!)),\"1\",\"0\")","v":"0"},{"$f":"IF(ISNUMBER(SEARCH(\"5\",#REF!)),\"1\",\"0\")","v":"0"},{"$f":"IF(ISNUMBER(SEARCH(\"6\",#REF!)),\"1\",\"0\")","v":"0"},{"$f":"IF(ISNUMBER(SEARCH(\"7\",#REF!)),\"1\",\"0\")","v":"0"},{"$f":"IF(ISNUMBER(SEARCH(\"8\",#REF!)),\"1\",\"0\")","v":"0"},{"$f":"IF(ISNUMBER(SEARCH(\"9\",#REF!)),\"1\",\"0\")","v":"0"},{"$f":"IF(ISNUMBER(SEARCH(\"9\",#REF!)),\"1\",\"0\")","v":"0"},{"$f":"IF(ISNUMBER(SEARCH(\"10\",#REF!)),\"1\",\"0\")","v":"0"},{"$f":"IF(ISNUMBER(SEARCH(\"11\",#REF!)),\"1\",\"0\")","v":"0"},{"$f":"IF(ISNUMBER(SEARCH(\"12\",#REF!)),\"1\",\"0\")","v":"0"},{"$f":"IF(ISNUMBER(SEARCH(\"13\",#REF!)),\"1\",\"0\")","v":"0"},{"$f":"IF(ISNUMBER(SEARCH(\"14\",#REF!)),\"1\",\"0\")","v":"0"},{"$f":"IF(ISNUMBER(SEARCH(\"15\",#REF!)),\"1\",\"0\")","v":"0"},{"$f":"IF(ISNUMBER(SEARCH(\"16\",#REF!)),\"1\",\"0\")","v":"0"},{"$f":"IF(ISNUMBER(SEARCH(\"17\",#REF!)),\"1\",\"0\")","v":"0"},{"$nulls":4},24,16,20,60,8,null,6,16,10,32,null,13,5,null,{"$f":"#REF!-#REF!","v":{"$error":"#REF!"}},{"$f":"#REF!-#REF!","v":{"$error":"#REF!"}}]
[2,22,10,"NA",2,29,null,2,8,1,5,1,2,"1, 14","1","0","0","1","0","0","0","0","0","0","0","0","0","1","0","0","0","0",null,null,1,3,1,{"$f":"IF(ISNUMBER(SEARCH(\"1\",#REF!)),\"1\",\"0\")","v":"0"},{"$f":"IF(ISNUMBER(SEARCH(\"2\",#REF!)),\"1\",\"0\")","v":"0"},{"$f":"IF(ISNUMBER(SEARCH(\"3\",#REF!)),\"1\",\"0\")","v":"0"},{"$f":"IF(ISNUMBER(SEARCH(\"4\",#REF!)),\"1\",\"0\")","v":"0"},{"$f":"IF(ISNUMBER(SEARCH(\"5\",#REF!)),\"1\",\"0\")","v":"0"},{"$f":"IF(ISNUMBER(SEARCH(\"6\",#REF!)),\"1\",\"0\")","v":"0"},{"$f":"IF(ISNUMBER(SEARCH(\"7\",#REF!)),\"1\",\"0\")","v":"0"},{"$f":"IF(ISNUMBER(SEARCH(\"8\",#REF!)),\"1\",\"0\")","v":"0"},{"$f":"IF(ISNUMBER(SEARCH(\"9\",#REF!)),\"1\",\"0\")","v":"0"},{"$f":"IF(ISNUMBER(SEARCH(\"9\",#REF!)),\"1\",\"0\")","v":"0"},{"$f":"IF(ISNUMBER(SEARCH(\"10\",#REF!)),\"1\",\"0\")","v":"0"},{"$f":"IF(ISNUMBER(SEARCH(\"11\",#REF!)),\"1\",\"0\")","v":"0"},{"$f":"IF(ISNUMBER(SEARCH(\"12\",#REF!)),\"1\",\"0\")","v":"0"},{"$f":"IF(ISNUMBER(SEARCH(\"13\",#REF!)),\"1\",\"0\")","v":"0"},{"$f":"IF(ISNUMBER(SEARCH(\"14\",#REF!)),\"1\",\"0\")","v":"0"},{"$f":"IF(ISNUMBER(SEARCH(\"15\",#REF!)),\"1\",\"0\")","v":"0"},{"$f":"IF(ISNUMBER(SEARCH(\"16\",#REF!)),\"1\",\"0\")","v":"0"},{"$f":"IF(ISNUMBER(SEARCH(\"17\",#REF!)),\"1\",\"0\")","v":"0"},null,2,null,null,14,20,32,66,11,null,12,12,6,30,null,14,3,null,{"$f":"#REF!-#REF!","v":{"$error":"#REF!"}},{"$f":"#REF!-#REF!","v":{"$error":"#REF!"}}]
[2,22,10,"UM",2,null,null,1,3,1,3,5,2,3,"0","0","1","0","0","0","0","0","0","0","0","0","0","0","0","0","0","0",null,null,3,4,2,{"$f":"IF(ISNUMBER(SEARCH(\"1\",#REF!)),\"1\",\"0\")","v":"0"},{"$f":"IF(ISNUMBER(SEARCH(\"2\",#REF!)),\"1\",\"0\")","v":"0"},{"$f":"IF(ISNUMBER(SEARCH(\"3\",#REF!)),\"1\",\"0\")","v":"0"},{"$f":"IF(ISNUMBER(SEARCH(\"4\",#REF!)),\"1\",\"0\")","v":"0"},{"$f":"IF(ISNUMBER(SEARCH(\"5\",#REF!)),\"1\",\"0\")","v":"0"},{"$f":"IF(ISNUMBER(SEARCH(\"6\",#REF!)),\"1\",\"0\")","v":"0"},{"$f":"IF(ISNUMBER(SEARCH(\"7\",#REF!)),\"1\",\"0\")","v":"0"},{"$f":"IF(ISNUMBER(SEARCH(\"8\",#REF!)),\"1\",\"0\")","v":"0"},{"$f":"IF(ISNUMBER(SEARCH(\"9\",#REF!)),\"1\",\"0\")","v":"0"},{"$f":"IF(ISNUMBER(SEARCH(\"9\",#REF!)),\"1\",\"0\")","v":"0"},{"$f":"IF(ISNUMBER(SEARCH(\"10\",#REF!)),\"1\",\"0\")","v":"0"},{"$f":"IF(ISNUMBER(SEARCH(\"11\",#REF!)),\"1\",\"0\")","v":"0"},{"$f":"IF(ISNUMBER(SEARCH(\"12\",#REF!)),\"1\",\"0\")","v":"0"},{"$f":"IF(ISNUMBER(SEARCH(\"13\",#REF!)),\"1\",\"0\")","v":"0"},{"$f":"IF(ISNUMBER(SEARCH(\"14\",#REF!)),\"1\",\"0\")","v":"0"},{"$f":"IF(ISNUMBER(SEARCH(\"15\",#REF!)),\"1\",\"0\")","v":"0"},{"$f":"IF(ISNUMBER(SEARCH(\"16\",#REF!)),\"1\",\"0\")","v":"0"},{"$f":"IF(ISNUMBER(SEARCH(\"17\",#REF!)),\"1\",\"0\")","v":"0"},1,{"$nulls":3},8,26,16,50,3,{"$nulls":6},13,4,null,{"$f":"#REF!-#REF!","v":{"$error":"#REF!"}}]
[2,22,10,"IB",2,23,null,2,8,1,2,3,2,2,"0","1","0","0","0","0","0","0","0","0","0","0","0","0","0","0","0","0",null,null,3,4,2,{"$f":"IF(ISNUMBER(SEARCH(\"1\",#REF!)),\"1\",\"0\")","v":"0"},{"$f":"IF(ISNUMBER(SEARCH(\"2\",#REF!)),\"1\",\"0\")","v":"0"},{"$f":"IF(ISNUMBER(SEARCH(\"3\",#REF!)),\"1\",\"0\")","v":"0"},{"$f":"IF(ISNUMBER(SEARCH(\"4\",#REF!)),\"1\",\"0\")","v":"0"},{"$f":"IF(ISNUMBER(SEARCH(\"5\",#REF!)),\"1\",\"0\")","v":"0"},{"$f":"IF(ISNUMBER(SEARCH(\"6\",#REF!)),\"1\",\"0\")","v":"0"},{"$f":"IF(ISNUMBER(SEARCH(\"7\",#REF!)),\"1\",\"0\")","v":"0"},{"$f":"IF(ISNUMBER(SEARCH(\"8\",#REF!)),\"1\",\"0\")","v":"0"},{"$f":"IF(ISNUMBER(SEARCH(\"9\",#REF!)),\"1\",\"0\")","v":"0"},{"$f":"IF(ISNUMBER(SEARCH(\"9\",#REF!)),\"1\",\"0\")","v":"0"},{"$f":"IF(ISNUMBER(SEARCH(\"10\",#REF!)),\"1\",\"0\")","v":"0"},{"$f":"IF(ISNUMBER(SEARCH(\"11\",#REF!)),\"1\",\"0\")","v":"0"},{"$f":"IF(ISNUMBER(SEARCH(\"12\",#REF!)),\"1\",\"0\")","v":"0"},{"$f":"IF(ISNUMBER(SEARCH(\"13\",#REF!)),\"1\",\"0\")","v":"0"},{"$f":"IF(ISNUMBER(SEARCH(\"14\",#REF!)),\"1\",\"0\")","v":"0"},{"$f":"IF(ISNUMBER(SEARCH(\"15\",#REF!)),\"1\",\"0\")","v":"0"},{"$f":"IF(ISNUMBER(SEARCH(\"16\",#REF!)),\"1\",\"0\")","v":"0"},{"$f":"IF(ISNUMBER(SEARCH(\"17\",#REF!)),\"1\",\"0\")","v":"0"},{"$nulls":4},18,16,20,54,1,null,16,8,8,32,null,6,4,null,null,{"$f":"#REF!-#REF!","v":{"$error":"#REF!"}}]
[2,22,10,"NA",2,47,null,2,3,null,null,1,6,"3, 12. Pesonne de la famille disparue","1","1","1","0","0","0","0","0","0","0","0","1","0","0","0","0","0","0",null,null,3,5,2,{"$f":"IF(ISNUMBER(SEARCH(\"1\",#REF!)),\"1\",\"0\")","v":"0"},{"$f":"IF(ISNUMBER(SEARCH(\"2\",#REF!)),\"1\",\"0\")","v":"0"},{"$f":"IF(ISNUMBER(SEARCH(\"3\",#REF!)),\"1\",\"0\")","v":"0"},{"$f":"IF(ISNUMBER(SEARCH(\"4\",#REF!)),\"1\",\"0\")","v":"0"},{"$f":"IF(ISNUMBER(SEARCH(\"5\",#REF!)),\"1\",\"0\")","v":"0"},{"$f":"IF(ISNUMBER(SEARCH(\"6\",#REF!)),\"1\",\"0\")","v":"0"},{"$f":"IF(ISNUMBER(SEARCH(\"7\",#REF!)),\"1\",\"0\")","v":"0"},{"$f":"IF(ISNUMBER(SEARCH(\"8\",#REF!)),\"1\",\"0\")","v":"0"},{"$f":"IF(ISNUMBER(SEARCH(\"9\",#REF!)),\"1\",\"0\")","v":"0"},{"$f":"IF(ISNUMBER(SEARCH(\"9\",#REF!)),\"1\",\"0\")","v":"0"},{"$f":"IF(ISNUMBER(SEARCH(\"10\",#REF!)),\"1\",\"0\")","v":"0"},{"$f":"IF(ISNUMBER(SEARCH(\"11\",#REF!)),\"1\",\"0\")","v":"0"},{"$f":"IF(ISNUMBER(SEARCH(\"12\",#REF!)),\"1\",\"0\")","v":"0"},{"$f":"IF(ISNUMBER(SEARCH(\"13\",#REF!)),\"1\",\"0\")","v":"0"},{"$f":"IF(ISNUMBER(SEARCH(\"14\",#REF!)),\"1\",\"0\")","v":"0"},{"$f":"IF(ISNUMBER(SEARCH(\"15\",#REF!)),\"1\",\"0\")","v":"0"},{"$f":"IF(ISNUMBER(SEARCH(\"16\",#REF!)),\"1\",\"0\")","v":"0"},{"$f":"IF(ISNUMBER(SEARCH(\"17\",#REF!)),\"1\",\"0\")","v":"0"},2,{"$nulls":3},18,20,18,56,4,null,8,12,8,28,null,12,4,null,{"$f":"#REF!-#REF!","v":{"$error":"#REF!"}},{"$f":"#REF!-#REF!","v":{"$error":"#REF!"}}]
[2,22,10,"UM",2,{"$nulls":3},3,1,4,5,1,"2, 9. Kidnapping/  Enlèvement/ Otage (SANS violence sexuelle)","0","1","0","0","0","0","0","0","1","0","0","0","0","0","0","0","0","0",{"$nulls":3},5,1,{"$f":"IF(ISNUMBER(SEARCH(\"1\",#REF!)),\"1\",\"0\")","v":"0"},{"$f":"IF(ISNUMBER(SEARCH(\"2\",#REF!)),\"1\",\"0\")","v":"0"},{"$f":"IF(ISNUMBER(SEARCH(\"3\",#REF!)),\"1\",\"0\")","v":"0"},{"$f":"IF(ISNUMBER(SEARCH(\"4\",#REF!)),\"1\",\"0\")","v":"0"},{"$f":"IF(ISNUMBER(SEARCH(\"5\",#REF!)),\"1\",\"0\")","v":"0"},{"$f":"IF(ISNUMBER(SEARCH(\"6\",#REF!)),\"1\",\"0\")","v":"0"},{"$f":"IF(ISNUMBER(SEARCH(\"7\",#REF!)),\"1\",\"0\")","v":"0"},{"$f":"IF(ISNUMBER(SEARCH(\"8\",#REF!)),\"1\",\"0\")","v":"0"},{"$f":"IF(ISNUMBER(SEARCH(\"9\",#REF!)),\"1\",\"0\")","v":"0"},{"$f":"IF(ISNUMBER(SEARCH(\"9\",#REF!)),\"1\",\"0\")","v":"0"},{"$f":"IF(ISNUMBER(SEARCH(\"10\",#REF!)),\"1\",\"0\")","v":"0"},{"$f":"IF(ISNUMBER(SEARCH(\"11\",#REF!)),\"1\",\"0\")","v":"0"},{"$f":"IF(ISNUMBER(SEARCH(\"12\",#REF!)),\"1\",\"0\")","v":"0"},{"$f":"IF(ISNUMBER(SEARCH(\"13\",#REF!)),\"1\",\"0\")","v":"0"},{"$f":"IF(ISNUMBER(SEARCH(\"14\",#REF!)),\"1\",\"0\")","v":"0"},{"$f":"IF(ISNUMBER(SEARCH(\"15\",#REF!)),\"1\",\"0\")","v":"0"},{"$f":"IF(ISNUMBER(SEARCH(\"16\",#REF!)),\"1\",\"0\")","v":"0"},{"$f":"IF(ISNUMBER(SEARCH(\"17\",#REF!)),\"1\",\"0\")","v":"0"},{"$nulls":4},24,26,22,72,{"$nulls":11},{"$f":"#REF!-#REF!","v":{"$error":"#REF!"}}]
[2,22,10,"IB",2,19,null,1,3,1,0,3,1,3,"0","0","1","0","0","0","0","0","0","0","0","0","0","0","0","0","0","0",null,null,3,5,2,{"$f":"IF(ISNUMBER(SEARCH(\"1\",#REF!)),\"1\",\"0\")","v":"0"},{"$f":"IF(ISNUMBER(SEARCH(\"2\",#REF!)),\"1\",\"0\")","v":"0"},{"$f":"IF(ISNUMBER(SEARCH(\"3\",#REF!)),\"1\",\"0\")","v":"0"},{"$f":"IF(ISNUMBER(SEARCH(\"4\",#REF!)),\"1\",\"0\")","v":"0"},{"$f":"IF(ISNUMBER(SEARCH(\"5\",#REF!)),\"1\",\"0\")","v":"0"},{"$f":"IF(ISNUMBER(SEARCH(\"6\",#REF!)),\"1\",\"0\")","v":"0"},{"$f":"IF(ISNUMBER(SEARCH(\"7\",#REF!)),\"1\",\"0\")","v":"0"},{"$f":"IF(ISNUMBER(SEARCH(\"8\",#REF!)),\"1\",\"0\")","v":"0"},{"$f":"IF(ISNUMBER(SEARCH(\"9\",#REF!)),\"1\",\"0\")","v":"0"},{"$f":"IF(ISNUMBER(SEARCH(\"9\",#REF!)),\"1\",\"0\")","v":"0"},{"$f":"IF(ISNUMBER(SEARCH(\"10\",#REF!)),\"1\",\"0\")","v":"0"},{"$f":"IF(ISNUMBER(SEARCH(\"11\",#REF!)),\"1\",\"0\")","v":"0"},{"$f":"IF(ISNUMBER(SEARCH(\"12\",#REF!)),\"1\",\"0\")","v":"0"},{"$f":"IF(ISNUMBER(SEARCH(\"13\",#REF!)),\"1\",\"0\")","v":"0"},{"$f":"IF(ISNUMBER(SEARCH(\"14\",#REF!)),\"1\",\"0\")","v":"0"},{"$f":"IF(ISNUMBER(SEARCH(\"15\",#REF!)),\"1\",\"0\")","v":"0"},{"$f":"IF(ISNUMBER(SEARCH(\"16\",#REF!)),\"1\",\"0\")","v":"0"},{"$f":"IF(ISNUMBER(SEARCH(\"17\",#REF!)),\"1\",\"0\")","v":"0"},3,{"$nulls":7},3,{"$nulls":6},8,3]
[2,22,10,"NA",2,28,null,3,3,1,0,1,2,"2, 11. Membre de famille / personne proche assassinée","1","1","0","0","0","0","0","0","0","0","1","0","0","0","0","0","0","0",null,null,1,3,1,{"$f":"IF(ISNUMBER(SEARCH(\"1\",#REF!)),\"1\",\"0\")","v":"0"},{"$f":"IF(ISNUMBER(SEARCH(\"2\",#REF!)),\"1\",\"0\")","v":"0"},{"$f":"IF(ISNUMBER(SEARCH(\"3\",#REF!)),\"1\",\"0\")","v":"0"},{"$f":"IF(ISNUMBER(SEARCH(\"4\",#REF!)),\"1\",\"0\")","v":"0"},{"$f":"IF(ISNUMBER(SEARCH(\"5\",#REF!)),\"1\",\"0\")","v":"0"},{"$f":"IF(ISNUMBER(SEARCH(\"6\",#REF!)),\"1\",\"0\")","v":"0"},{"$f":"IF(ISNUMBER(SEARCH(\"7\",#REF!)),\"1\",\"0\")","v":"0"},{"$f":"IF(ISNUMBER(SEARCH(\"8\",#REF!)),\"1\",\"0\")","v":"0"},{"$f":"IF(ISNUMBER(SEARCH(\"9\",#REF!)),\"1\",\"0\")","v":"0"},{"$f":"IF(ISNUMBER(SEARCH(\"9\",#REF!)),\"1\",\"0\")","v":"0"},{"$f":"IF(ISNUMBER(SEARCH(\"10\",#REF!)),\"1\",\"0\")","v":"0"},{"$f":"IF(ISNUMBER(SEARCH(\"11\",#REF!)),\"1\",\"0\")","v":"0"},{"$f":"IF(ISNUMBER(SEARCH(\"12\",#REF!)),\"1\",\"0\")","v":"0"},{"$f":"IF(ISNUMBER(SEARCH(\"13\",#REF!)),\"1\",\"0\")","v":"0"},{"$f":"IF(ISNUMBER(SEARCH(\"14\",#REF!)),\"1\",\"0\")","v":"0"},{"$f":"IF(ISNUMBER(SEARCH(\"15\",#REF!)),\"1\",\"0\")","v":"0"},{"$f":"IF(ISNUMBER(SEARCH(\"16\",#REF!)),\"1\",\"0\")","v":"0"},{"$f":"IF(ISNUMBER(SEARCH(\"17\",#REF!)),\"1\",\"0\")","v":"0"},{"$nulls":4},24,20,12,56,10,{"$nulls":9},{"$f":"#REF!-#REF!","v":{"$error":"#REF!"}}]
[2,22,10,"NA",2,20,null,2,8,1,0,1,1,"4. Tentative de Viol, 15. Insultes / a reçu des menaces","1","0","0","1","1","0","0","0","0","0","0","0","0","0","1","0","0","0",null,null,3,4,2,{"$f":"IF(ISNUMBER(SEARCH(\"1\",#REF!)),\"1\",\"0\")","v":"0"},{"$f":"IF(ISNUMBER(SEARCH(\"2\",#REF!)),\"1\",\"0\")","v":"0"},{"$f":"IF(ISNUMBER(SEARCH(\"3\",#REF!)),\"1\",\"0\")","v":"0"},{"$f":"IF(ISNUMBER(SEARCH(\"4\",#REF!)),\"1\",\"0\")","v":"0"},{"$f":"IF(ISNUMBER(SEARCH(\"5\",#REF!)),\"1\",\"0\")","v":"0"},{"$f":"IF(ISNUMBER(SEARCH(\"6\",#REF!)),\"1\",\"0\")","v":"0"},{"$f":"IF(ISNUMBER(SEARCH(\"7\",#REF!)),\"1\",\"0\")","v":"0"},{"$f":"IF(ISNUMBER(SEARCH(\"8\",#REF!)),\"1\",\"0\")","v":"0"},{"$f":"IF(ISNUMBER(SEARCH(\"9\",#REF!)),\"1\",\"0\")","v":"0"},{"$f":"IF(ISNUMBER(SEARCH(\"9\",#REF!)),\"1\",\"0\")","v":"0"},{"$f":"IF(ISNUMBER(SEARCH(\"10\",#REF!)),\"1\",\"0\")","v":"0"},{"$f":"IF(ISNUMBER(SEARCH(\"11\",#REF!)),\"1\",\"0\")","v":"0"},{"$f":"IF(ISNUMBER(SEARCH(\"12\",#REF!)),\"1\",\"0\")","v":"0"},{"$f":"IF(ISNUMBER(SEARCH(\"13\",#REF!)),\"1\",\"0\")","v":"0"},{"$f":"IF(ISNUMBER(SEARCH(\"14\",#REF!)),\"1\",\"0\")","v":"0"},{"$f":"IF(ISNUMBER(SEARCH(\"15\",#REF!)),\"1\",\"0\")","v":"0"},{"$f":"IF(ISNUMBER(SEARCH(\"16\",#REF!)),\"1\",\"0\")","v":"0"},{"$f":"IF(ISNUMBER(SEARCH(\"17\",#REF!)),\"1\",\"0\")","v":"0"},{"$nulls":4},20,26,22,68,5,{"$nulls":6},14,4,null,{"$f":"#REF!-#REF!","v":{"$error":"#REF!"}}]
[2,22,10,"NA",1,34,null,2,8,1,6,1,2,"1, 14","1","0","0","1","0","0","0","0","0","0","0","0","0","1","0","0","0","0",null,null,1,5,2,{"$f":"IF(ISNUMBER(SEARCH(\"1\",#REF!)),\"1\",\"0\")","v":"0"},{"$f":"IF(ISNUMBER(SEARCH(\"2\",#REF!)),\"1\",\"0\")","v":"0"},{"$f":"IF(ISNUMBER(SEARCH(\"3\",#REF!)),\"1\",\"0\")","v":"0"},{"$f":"IF(ISNUMBER(SEARCH(\"4\",#REF!)),\"1\",\"0\")","v":"0"},{"$f":"IF(ISNUMBER(SEARCH(\"5\",#REF!)),\"1\",\"0\")","v":"0"},{"$f":"IF(ISNUMBER(SEARCH(\"6\",#REF!)),\"1\",\"0\")","v":"0"},{"$f":"IF(ISNUMBER(SEARCH(\"7\",#REF!)),\"1\",\"0\")","v":"0"},{"$f":"IF(ISNUMBER(SEARCH(\"8\",#REF!)),\"1\",\"0\")","v":"0"},{"$f":"IF(ISNUMBER(SEARCH(\"9\",#REF!)),\"1\",\"0\")","v":"0"},{"$f":"IF(ISNUMBER(SEARCH(\"9\",#REF!)),\"1\",\"0\")","v":"0"},{"$f":"IF(ISNUMBER(SEARCH(\"10\",#REF!)),\"1\",\"0\")","v":"0"},{"$f":"IF(ISNUMBER(SEARCH(\"11\",#REF!)),\"1\",\"0\")","v":"0"},{"$f":"IF(ISNUMBER(SEARCH(\"12\",#REF!)),\"1\",\"0\")","v":"0"},{"$f":"IF(ISNUMBER(SEARCH(\"13\",#REF!)),\"1\",\"0\")","v":"0"},{"$f":"IF(ISNUMBER(SEARCH(\"14\",#REF!)),\"1\",\"0\")","v":"0"},{"$f":"IF(ISNUMBER(SEARCH(\"15\",#REF!)),\"1\",\"0\")","v":"0"},{"$f":"IF(ISNUMBER(SEARCH(\"16\",#REF!)),\"1\",\"0\")","v":"0"},{"$f":"IF(ISNUMBER(SEARCH(\"17\",#REF!)),\"1\",\"0\")","v":"0"},{"$nulls":4},22,26,26,74,9,null,6,8,2,16,null,13,4,null,{"$f":"#REF!-#REF!","v":{"$error":"#REF!"}},{"$f":"#REF!-#REF!","v":{"$error":"#REF!"}}]
[2,22,10,"NA",2,15,null,1,3,1,0,3,1,3,"0","0","1","0","0","0","0","0","0","0","0","0","0","0","0","0","0","0",null,null,3,5,2,{"$f":"IF(ISNUMBER(SEARCH(\"1\",#REF!)),\"1\",\"0\")","v":"0"},{"$f":"IF(ISNUMBER(SEARCH(\"2\",#REF!)),\"1\",\"0\")","v":"0"},{"$f":"IF(ISNUMBER(SEARCH(\"3\",#REF!)),\"1\",\"0\")","v":"0"},{"$f":"IF(ISNUMBER(SEARCH(\"4\",#REF!)),\"1\",\"0\")","v":"0"},{"$f":"IF(ISNUMBER(SEARCH(\"5\",#REF!)),\"1\",\"0\")","v":"0"},{"$f":"IF(ISNUMBER(SEARCH(\"6\",#REF!)),\"1\",\"0\")","v":"0"},{"$f":"IF(ISNUMBER(SEARCH(\"7\",#REF!)),\"1\",\"0\")","v":"0"},{"$f":"IF(ISNUMBER(SEARCH(\"8\",#REF!)),\"1\",\"0\")","v":"0"},{"$f":"IF(ISNUMBER(SEARCH(\"9\",#REF!)),\"1\",\"0\")","v":"0"},{"$f":"IF(ISNUMBER(SEARCH(\"9\",#REF!)),\"1\",\"0\")","v":"0"},{"$f":"IF(ISNUMBER(SEARCH(\"10\",#REF!)),\"1\",\"0\")","v":"0"},{"$f":"IF(ISNUMBER(SEARCH(\"11\",#REF!)),\"1\",\"0\")","v":"0"},{"$f":"IF(ISNUMBER(SEARCH(\"12\",#REF!)),\"1\",\"0\")","v":"0"},{"$f":"IF(ISNUMBER(SEARCH(\"13\",#REF!)),\"1\",\"0\")","v":"0"},{"$f":"IF(ISNUMBER(SEARCH(\"14\",#REF!)),\"1\",\"0\")","v":"0"},{"$f":"IF(ISNUMBER(SEARCH(\"15\",#REF!)),\"1\",\"0\")","v":"0"},{"$f":"IF(ISNUMBER(SEARCH(\"16\",#REF!)),\"1\",\"0\")","v":"0"},{"$f":"IF(ISNUMBER(SEARCH(\"17\",#REF!)),\"1\",\"0\")","v":"0"},1,{"$nulls":3},20,12,20,52,1,{"$nulls":6},13,4,null,{"$f":"#REF!-#REF!","v":{"$error":"#REF!"}}]
[2,22,10,"UM",2,null,null,2,3,1,5,5,6,2,"0","1","0","0","0","0","0","0","0","0","0","0","0","0","0","0","0","0",null,null,2,5,2,{"$f":"IF(ISNUMBER(SEARCH(\"1\",#REF!)),\"1\",\"0\")","v":"0"},{"$f":"IF(ISNUMBER(SEARCH(\"2\",#REF!)),\"1\",\"0\")","v":"0"},{"$f":"IF(ISNUMBER(SEARCH(\"3\",#REF!)),\"1\",\"0\")","v":"0"},{"$f":"IF(ISNUMBER(SEARCH(\"4\",#REF!)),\"1\",\"0\")","v":"0"},{"$f":"IF(ISNUMBER(SEARCH(\"5\",#REF!)),\"1\",\"0\")","v":"0"},{"$f":"IF(ISNUMBER(SEARCH(\"6\",#REF!)),\"1\",\"0\")","v":"0"},{"$f":"IF(ISNUMBER(SEARCH(\"7\",#REF!)),\"1\",\"0\")","v":"0"},{"$f":"IF(ISNUMBER(SEARCH(\"8\",#REF!)),\"1\",\"0\")","v":"0"},{"$f":"IF(ISNUMBER(SEARCH(\"9\",#REF!)),\"1\",\"0\")","v":"0"},{"$f":"IF(ISNUMBER(SEARCH(\"9\",#REF!)),\"1\",\"0\")","v":"0"},{"$f":"IF(ISNUMBER(SEARCH(\"10\",#REF!)),\"1\",\"0\")","v":"0"},{"$f":"IF(ISNUMBER(SEARCH(\"11\",#REF!)),\"1\",\"0\")","v":"0"},{"$f":"IF(ISNUMBER(SEARCH(\"12\",#REF!)),\"1\",\"0\")","v":"0"},{"$f":"IF(ISNUMBER(SEARCH(\"13\",#REF!)),\"1\",\"0\")","v":"0"},{"$f":"IF(ISNUMBER(SEARCH(\"14\",#REF!)),\"1\",\"0\")","v":"0"},{"$f":"IF(ISNUMBER(SEARCH(\"15\",#REF!)),\"1\",\"0\")","v":"0"},{"$f":"IF(ISNUMBER(SEARCH(\"16\",#REF!)),\"1\",\"0\")","v":"0"},{"$f":"IF(ISNUMBER(SEARCH(\"17\",#REF!)),\"1\",\"0\")","v":"0"},{"$nulls":4},22,16,18,56,null,null,12,10,12,34,null,null,3,null,{"$f":"#REF!-#REF!","v":{"$error":"#REF!"}},{"$f":"#REF!-#REF!","v":{"$error":"#REF!"}}]
[2,22,10,"UM",1,null,null,3,3,1,0,4,1,"13. Recrutement Forcé (par Groupe Armé)","1","0","1","0","0","0","0","0","0","0","0","0","1","0","0","0","0","0",null,null,3,5,2,{"$f":"IF(ISNUMBER(SEARCH(\"1\",#REF!)),\"1\",\"0\")","v":"0"},{"$f":"IF(ISNUMBER(SEARCH(\"2\",#REF!)),\"1\",\"0\")","v":"0"},{"$f":"IF(ISNUMBER(SEARCH(\"3\",#REF!)),\"1\",\"0\")","v":"0"},{"$f":"IF(ISNUMBER(SEARCH(\"4\",#REF!)),\"1\",\"0\")","v":"0"},{"$f":"IF(ISNUMBER(SEARCH(\"5\",#REF!)),\"1\",\"0\")","v":"0"},{"$f":"IF(ISNUMBER(SEARCH(\"6\",#REF!)),\"1\",\"0\")","v":"0"},{"$f":"IF(ISNUMBER(SEARCH(\"7\",#REF!)),\"1\",\"0\")","v":"0"},{"$f":"IF(ISNUMBER(SEARCH(\"8\",#REF!)),\"1\",\"0\")","v":"0"},{"$f":"IF(ISNUMBER(SEARCH(\"9\",#REF!)),\"1\",\"0\")","v":"0"},{"$f":"IF(ISNUMBER(SEARCH(\"9\",#REF!)),\"1\",\"0\")","v":"0"},{"$f":"IF(ISNUMBER(SEARCH(\"10\",#REF!)),\"1\",\"0\")","v":"0"},{"$f":"IF(ISNUMBER(SEARCH(\"11\",#REF!)),\"1\",\"0\")","v":"0"},{"$f":"IF(ISNUMBER(SEARCH(\"12\",#REF!)),\"1\",\"0\")","v":"0"},{"$f":"IF(ISNUMBER(SEARCH(\"13\",#REF!)),\"1\",\"0\")","v":"0"},{"$f":"IF(ISNUMBER(SEARCH(\"14\",#REF!)),\"1\",\"0\")","v":"0"},{"$f":"IF(ISNUMBER(SEARCH(\"15\",#REF!)),\"1\",\"0\")","v":"0"},{"$f":"IF(ISNUMBER(SEARCH(\"16\",#REF!)),\"1\",\"0\")","v":"0"},{"$f":"IF(ISNUMBER(SEARCH(\"17\",#REF!)),\"1\",\"0\")","v":"0"},{"$nulls":4},18,20,30,68,7,null,22,6,12,40,{"$nulls":4},{"$f":"#REF!-#REF!","v":{"$error":"#REF!"}},{"$f":"#REF!-#REF!","v":{"$error":"#REF!"}}]
[2,22,10,"IB",2,27,null,1,3,1,3,3,2,3,"0","0","1","0","0","0","0","0","0","0","0","0","0","0","0","0","0","0",null,null,3,5,2,{"$f":"IF(ISNUMBER(SEARCH(\"1\",#REF!)),\"1\",\"0\")","v":"0"},{"$f":"IF(ISNUMBER(SEARCH(\"2\",#REF!)),\"1\",\"0\")","v":"0"},{"$f":"IF(ISNUMBER(SEARCH(\"3\",#REF!)),\"1\",\"0\")","v":"0"},{"$f":"IF(ISNUMBER(SEARCH(\"4\",#REF!)),\"1\",\"0\")","v":"0"},{"$f":"IF(ISNUMBER(SEARCH(\"5\",#REF!)),\"1\",\"0\")","v":"0"},{"$f":"IF(ISNUMBER(SEARCH(\"6\",#REF!)),\"1\",\"0\")","v":"0"},{"$f":"IF(ISNUMBER(SEARCH(\"7\",#REF!)),\"1\",\"0\")","v":"0"},{"$f":"IF(ISNUMBER(SEARCH(\"8\",#REF!)),\"1\",\"0\")","v":"0"},{"$f":"IF(ISNUMBER(SEARCH(\"9\",#REF!)),\"1\",\"0\")","v":"0"},{"$f":"IF(ISNUMBER(SEARCH(\"9\",#REF!)),\"1\",\"0\")","v":"0"},{"$f":"IF(ISNUMBER(SEARCH(\"10\",#REF!)),\"1\",\"0\")","v":"0"},{"$f":"IF(ISNUMBER(SEARCH(\"11\",#REF!)),\"1\",\"0\")","v":"0"},{"$f":"IF(ISNUMBER(SEARCH(\"12\",#REF!)),\"1\",\"0\")","v":"0"},{"$f":"IF(ISNUMBER(SEARCH(\"13\",#REF!)),\"1\",\"0\")","v":"0"},{"$f":"IF(ISNUMBER(SEARCH(\"14\",#REF!)),\"1\",\"0\")","v":"0"},{"$f":"IF(ISNUMBER(SEARCH(\"15\",#REF!)),\"1\",\"0\")","v":"0"},{"$f":"IF(ISNUMBER(SEARCH(\"16\",#REF!)),\"1\",\"0\")","v":"0"},{"$f":"IF(ISNUMBER(SEARCH(\"17\",#REF!)),\"1\",\"0\")","v":"0"},1,{"$nulls":7},10,null,4,8,2,14,{"$nulls":5},{"$f":"#REF!-#REF!","v":{"$error":"#REF!"}}]
[2,22,10,"IB",2,54,null,1,3,1,9,1,6,1,"1","0","0","0","0","0","0","0","0","0","0","0","0","0","0","0","0","0",null,null,1,3,1,{"$f":"IF(ISNUMBER(SEARCH(\"1\",#REF!)),\"1\",\"0\")","v":"0"},{"$f":"IF(ISNUMBER(SEARCH(\"2\",#REF!)),\"1\",\"0\")","v":"0"},{"$f":"IF(ISNUMBER(SEARCH(\"3\",#REF!)),\"1\",\"0\")","v":"0"},{"$f":"IF(ISNUMBER(SEARCH(\"4\",#REF!)),\"1\",\"0\")","v":"0"},{"$f":"IF(ISNUMBER(SEARCH(\"5\",#REF!)),\"1\",\"0\")","v":"0"},{"$f":"IF(ISNUMBER(SEARCH(\"6\",#REF!)),\"1\",\"0\")","v":"0"},{"$f":"IF(ISNUMBER(SEARCH(\"7\",#REF!)),\"1\",\"0\")","v":"0"},{"$f":"IF(ISNUMBER(SEARCH(\"8\",#REF!)),\"1\",\"0\")","v":"0"},{"$f":"IF(ISNUMBER(SEARCH(\"9\",#REF!)),\"1\",\"0\")","v":"0"},{"$f":"IF(ISNUMBER(SEARCH(\"9\",#REF!)),\"1\",\"0\")","v":"0"},{"$f":"IF(ISNUMBER(SEARCH(\"10\",#REF!)),\"1\",\"0\")","v":"0"},{"$f":"IF(ISNUMBER(SEARCH(\"11\",#REF!)),\"1\",\"0\")","v":"0"},{"$f":"IF(ISNUMBER(SEARCH(\"12\",#REF!)),\"1\",\"0\")","v":"0"},{"$f":"IF(ISNUMBER(SEARCH(\"13\",#REF!)),\"1\",\"0\")","v":"0"},{"$f":"IF(ISNUMBER(SEARCH(\"14\",#REF!)),\"1\",\"0\")","v":"0"},{"$f":"IF(ISNUMBER(SEARCH(\"15\",#REF!)),\"1\",\"0\")","v":"0"},{"$f":"IF(ISNUMBER(SEARCH(\"16\",#REF!)),\"1\",\"0\")","v":"0"},{"$f":"IF(ISNUMBER(SEARCH(\"17\",#REF!)),\"1\",\"0\")","v":"0"},{"$nulls":4},14,24,24,62,9,null,8,4,10,22,{"$nulls":5},{"$f":"#REF!-#REF!","v":{"$error":"#REF!"}}]
[2,22,10,"UM",2,null,null,2,3,1,0,1,1,14,"1","0","0","1","0","0","0","0","0","0","0","0","0","1","0","0","0","0",null,null,3,5,2,{"$f":"IF(ISNUMBER(SEARCH(\"1\",#REF!)),\"1\",\"0\")","v":"0"},{"$f":"IF(ISNUMBER(SEARCH(\"2\",#REF!)),\"1\",\"0\")","v":"0"},{"$f":"IF(ISNUMBER(SEARCH(\"3\",#REF!)),\"1\",\"0\")","v":"0"},{"$f":"IF(ISNUMBER(SEARCH(\"4\",#REF!)),\"1\",\"0\")","v":"0"},{"$f":"IF(ISNUMBER(SEARCH(\"5\",#REF!)),\"1\",\"0\")","v":"0"},{"$f":"IF(ISNUMBER(SEARCH(\"6\",#REF!)),\"1\",\"0\")","v":"0"},{"$f":"IF(ISNUMBER(SEARCH(\"7\",#REF!)),\"1\",\"0\")","v":"0"},{"$f":"IF(ISNUMBER(SEARCH(\"8\",#REF!)),\"1\",\"0\")","v":"0"},{"$f":"IF(ISNUMBER(SEARCH(\"9\",#REF!)),\"1\",\"0\")","v":"0"},{"$f":"IF(ISNUMBER(SEARCH(\"9\",#REF!)),\"1\",\"0\")","v":"0"},{"$f":"IF(ISNUMBER(SEARCH(\"10\",#REF!)),\"1\",\"0\")","v":"0"},{"$f":"IF(ISNUMBER(SEARCH(\"11\",#REF!)),\"1\",\"0\")","v":"0"},{"$f":"IF(ISNUMBER(SEARCH(\"12\",#REF!)),\"1\",\"0\")","v":"0"},{"$f":"IF(ISNUMBER(SEARCH(\"13\",#REF!)),\"1\",\"0\")","v":"0"},{"$f":"IF(ISNUMBER(SEARCH(\"14\",#REF!)),\"1\",\"0\")","v":"0"},{"$f":"IF(ISNUMBER(SEARCH(\"15\",#REF!)),\"1\",\"0\")","v":"0"},{"$f":"IF(ISNUMBER(SEARCH(\"16\",#REF!)),\"1\",\"0\")","v":"0"},{"$f":"IF(ISNUMBER(SEARCH(\"17\",#REF!)),\"1\",\"0\")","v":"0"},{"$nulls":4},18,20,24,62,6,{"$nulls":6},12,4,null,null,{"$f":"#REF!-#REF!","v":{"$error":"#REF!"}}]
[2,22,10,"IB",2,19,null,null,8,1,0,11,1,3,"0","0","1","0","0","0","0","0","0","0","0","0","0","0","0","0","0","0",null,null,3,5,2,{"$f":"IF(ISNUMBER(SEARCH(\"1\",#REF!)),\"1\",\"0\")","v":"0"},{"$f":"IF(ISNUMBER(SEARCH(\"2\",#REF!)),\"1\",\"0\")","v":"0"},{"$f":"IF(ISNUMBER(SEARCH(\"3\",#REF!)),\"1\",\"0\")","v":"0"},{"$f":"IF(ISNUMBER(SEARCH(\"4\",#REF!)),\"1\",\"0\")","v":"0"},{"$f":"IF(ISNUMBER(SEARCH(\"5\",#REF!)),\"1\",\"0\")","v":"0"},{"$f":"IF(ISNUMBER(SEARCH(\"6\",#REF!)),\"1\",\"0\")","v":"0"},{"$f":"IF(ISNUMBER(SEARCH(\"7\",#REF!)),\"1\",\"0\")","v":"0"},{"$f":"IF(ISNUMBER(SEARCH(\"8\",#REF!)),\"1\",\"0\")","v":"0"},{"$f":"IF(ISNUMBER(SEARCH(\"9\",#REF!)),\"1\",\"0\")","v":"0"},{"$f":"IF(ISNUMBER(SEARCH(\"9\",#REF!)),\"1\",\"0\")","v":"0"},{"$f":"IF(ISNUMBER(SEARCH(\"10\",#REF!)),\"1\",\"0\")","v":"0"},{"$f":"IF(ISNUMBER(SEARCH(\"11\",#REF!)),\"1\",\"0\")","v":"0"},{"$f":"IF(ISNUMBER(SEARCH(\"12\",#REF!)),\"1\",\"0\")","v":"0"},{"$f":"IF(ISNUMBER(SEARCH(\"13\",#REF!)),\"1\",\"0\")","v":"0"},{"$f":"IF(ISNUMBER(SEARCH(\"14\",#REF!)),\"1\",\"0\")","v":"0"},{"$f":"IF(ISNUMBER(SEARCH(\"15\",#REF!)),\"1\",\"0\")","v":"0"},{"$f":"IF(ISNUMBER(SEARCH(\"16\",#REF!)),\"1\",\"0\")","v":"0"},{"$f":"IF(ISNUMBER(SEARCH(\"17\",#REF!)),\"1\",\"0\")","v":"0"},4,{"$nulls":3},22,18,28,68,12,{"$nulls":6},14,4]
[2,22,1,"OW",1,16,null,3,2,1,0,5,1,1,"1","0","0","0","0","0","0","0","0","0","0","0","0","0","0","0","0","0",null,null,2,4,2,{"$f":"IF(ISNUMBER(SEARCH(\"1\",#REF!)),\"1\",\"0\")","v":"0"},{"$f":"IF(ISNUMBER(SEARCH(\"2\",#REF!)),\"1\",\"0\")","v":"0"},{"$f":"IF(ISNUMBER(SEARCH(\"3\",#REF!)),\"1\",\"0\")","v":"0"},{"$f":"IF(ISNUMBER(SEARCH(\"4\",#REF!)),\"1\",\"0\")","v":"0"},{"$f":"IF(ISNUMBER(SEARCH(\"5\",#REF!)),\"1\",\"0\")","v":"0"},{"$f":"IF(ISNUMBER(SEARCH(\"6\",#REF!)),\"1\",\"0\")","v":"0"},{"$f":"IF(ISNUMBER(SEARCH(\"7\",#REF!)),\"1\",\"0\")","v":"0"},{"$f":"IF(ISNUMBER(SEARCH(\"8\",#REF!)),\"1\",\"0\")","v":"0"},{"$f":"IF(ISNUMBER(SEARCH(\"9\",#REF!)),\"1\",\"0\")","v":"0"},{"$f":"IF(ISNUMBER(SEARCH(\"9\",#REF!)),\"1\",\"0\")","v":"0"},{"$f":"IF(ISNUMBER(SEARCH(\"10\",#REF!)),\"1\",\"0\")","v":"0"},{"$f":"IF(ISNUMBER(SEARCH(\"11\",#REF!)),\"1\",\"0\")","v":"0"},{"$f":"IF(ISNUMBER(SEARCH(\"12\",#REF!)),\"1\",\"0\")","v":"0"},{"$f":"IF(ISNUMBER(SEARCH(\"13\",#REF!)),\"1\",\"0\")","v":"0"},{"$f":"IF(ISNUMBER(SEARCH(\"14\",#REF!)),\"1\",\"0\")","v":"0"},{"$f":"IF(ISNUMBER(SEARCH(\"15\",#REF!)),\"1\",\"0\")","v":"0"},{"$f":"IF(ISNUMBER(SEARCH(\"16\",#REF!)),\"1\",\"0\")","v":"0"},{"$f":"IF(ISNUMBER(SEARCH(\"17\",#REF!)),\"1\",\"0\")","v":"0"},{"$nulls":4},22,24,32,78,4,{"$nulls":6},8,5,null,{"$f":"#REF!-#REF!","v":{"$error":"#REF!"}}]
[2,22,1,"OW",2,60,null,1,3,1,17,5,2,3,"0","0","1","0","0","0","0","0","0","0","0","0","0","0","0","0","0","0",null,null,3,5,2,{"$f":"IF(ISNUMBER(SEARCH(\"1\",#REF!)),\"1\",\"0\")","v":"0"},{"$f":"IF(ISNUMBER(SEARCH(\"2\",#REF!)),\"1\",\"0\")","v":"0"},{"$f":"IF(ISNUMBER(SEARCH(\"3\",#REF!)),\"1\",\"0\")","v":"0"},{"$f":"IF(ISNUMBER(SEARCH(\"4\",#REF!)),\"1\",\"0\")","v":"0"},{"$f":"IF(ISNUMBER(SEARCH(\"5\",#REF!)),\"1\",\"0\")","v":"0"},{"$f":"IF(ISNUMBER(SEARCH(\"6\",#REF!)),\"1\",\"0\")","v":"0"},{"$f":"IF(ISNUMBER(SEARCH(\"7\",#REF!)),\"1\",\"0\")","v":"0"},{"$f":"IF(ISNUMBER(SEARCH(\"8\",#REF!)),\"1\",\"0\")","v":"0"},{"$f":"IF(ISNUMBER(SEARCH(\"9\",#REF!)),\"1\",\"0\")","v":"0"},{"$f":"IF(ISNUMBER(SEARCH(\"9\",#REF!)),\"1\",\"0\")","v":"0"},{"$f":"IF(ISNUMBER(SEARCH(\"10\",#REF!)),\"1\",\"0\")","v":"0"},{"$f":"IF(ISNUMBER(SEARCH(\"11\",#REF!)),\"1\",\"0\")","v":"0"},{"$f":"IF(ISNUMBER(SEARCH(\"12\",#REF!)),\"1\",\"0\")","v":"0"},{"$f":"IF(ISNUMBER(SEARCH(\"13\",#REF!)),\"1\",\"0\")","v":"0"},{"$f":"IF(ISNUMBER(SEARCH(\"14\",#REF!)),\"1\",\"0\")","v":"0"},{"$f":"IF(ISNUMBER(SEARCH(\"15\",#REF!)),\"1\",\"0\")","v":"0"},{"$f":"IF(ISNUMBER(SEARCH(\"16\",#REF!)),\"1\",\"0\")","v":"0"},{"$f":"IF(ISNUMBER(SEARCH(\"17\",#REF!)),\"1\",\"0\")","v":"0"},1,{"$nulls":3},16,22,24,62,3,null,10,12,18,40,{"$nulls":4},{"$f":"#REF!-#REF!","v":{"$error":"#REF!"}},{"$f":"#REF!-#REF!","v":{"$error":"#REF!"}}]
[2,22,1,"MN",2,52,null,1,3,1,4,1,5,1,"1","0","0","0","0","0","0","0","0","0","0","0","0","0","0","0","0","0",{"$nulls":3},5,2,{"$f":"IF(ISNUMBER(SEARCH(\"1\",#REF!)),\"1\",\"0\")","v":"0"},{"$f":"IF(ISNUMBER(SEARCH(\"2\",#REF!)),\"1\",\"0\")","v":"0"},{"$f":"IF(ISNUMBER(SEARCH(\"3\",#REF!)),\"1\",\"0\")","v":"0"},{"$f":"IF(ISNUMBER(SEARCH(\"4\",#REF!)),\"1\",\"0\")","v":"0"},{"$f":"IF(ISNUMBER(SEARCH(\"5\",#REF!)),\"1\",\"0\")","v":"0"},{"$f":"IF(ISNUMBER(SEARCH(\"6\",#REF!)),\"1\",\"0\")","v":"0"},{"$f":"IF(ISNUMBER(SEARCH(\"7\",#REF!)),\"1\",\"0\")","v":"0"},{"$f":"IF(ISNUMBER(SEARCH(\"8\",#REF!)),\"1\",\"0\")","v":"0"},{"$f":"IF(ISNUMBER(SEARCH(\"9\",#REF!)),\"1\",\"0\")","v":"0"},{"$f":"IF(ISNUMBER(SEARCH(\"9\",#REF!)),\"1\",\"0\")","v":"0"},{"$f":"IF(ISNUMBER(SEARCH(\"10\",#REF!)),\"1\",\"0\")","v":"0"},{"$f":"IF(ISNUMBER(SEARCH(\"11\",#REF!)),\"1\",\"0\")","v":"0"},{"$f":"IF(ISNUMBER(SEARCH(\"12\",#REF!)),\"1\",\"0\")","v":"0"},{"$f":"IF(ISNUMBER(SEARCH(\"13\",#REF!)),\"1\",\"0\")","v":"0"},{"$f":"IF(ISNUMBER(SEARCH(\"14\",#REF!)),\"1\",\"0\")","v":"0"},{"$f":"IF(ISNUMBER(SEARCH(\"15\",#REF!)),\"1\",\"0\")","v":"0"},{"$f":"IF(ISNUMBER(SEARCH(\"16\",#REF!)),\"1\",\"0\")","v":"0"},{"$f":"IF(ISNUMBER(SEARCH(\"17\",#REF!)),\"1\",\"0\")","v":"0"},{"$nulls":8},8,{"$nulls":6},14,5]
[2,22,1,"MN",1,19,null,1,3,1,0,5,1,3,"0","0","1","0","0","0","0","0","0","0","0","0","0","0","0","0","0","0",null,null,3,5,2,{"$f":"IF(ISNUMBER(SEARCH(\"1\",#REF!)),\"1\",\"0\")","v":"0"},{"$f":"IF(ISNUMBER(SEARCH(\"2\",#REF!)),\"1\",\"0\")","v":"0"},{"$f":"IF(ISNUMBER(SEARCH(\"3\",#REF!)),\"1\",\"0\")","v":"0"},{"$f":"IF(ISNUMBER(SEARCH(\"4\",#REF!)),\"1\",\"0\")","v":"0"},{"$f":"IF(ISNUMBER(SEARCH(\"5\",#REF!)),\"1\",\"0\")","v":"0"},{"$f":"IF(ISNUMBER(SEARCH(\"6\",#REF!)),\"1\",\"0\")","v":"0"},{"$f":"IF(ISNUMBER(SEARCH(\"7\",#REF!)),\"1\",\"0\")","v":"0"},{"$f":"IF(ISNUMBER(SEARCH(\"8\",#REF!)),\"1\",\"0\")","v":"0"},{"$f":"IF(ISNUMBER(SEARCH(\"9\",#REF!)),\"1\",\"0\")","v":"0"},{"$f":"IF(ISNUMBER(SEARCH(\"9\",#REF!)),\"1\",\"0\")","v":"0"},{"$f":"IF(ISNUMBER(SEARCH(\"10\",#REF!)),\"1\",\"0\")","v":"0"},{"$f":"IF(ISNUMBER(SEARCH(\"11\",#REF!)),\"1\",\"0\")","v":"0"},{"$f":"IF(ISNUMBER(SEARCH(\"12\",#REF!)),\"1\",\"0\")","v":"0"},{"$f":"IF(ISNUMBER(SEARCH(\"13\",#REF!)),\"1\",\"0\")","v":"0"},{"$f":"IF(ISNUMBER(SEARCH(\"14\",#REF!)),\"1\",\"0\")","v":"0"},{"$f":"IF(ISNUMBER(SEARCH(\"15\",#REF!)),\"1\",\"0\")","v":"0"},{"$f":"IF(ISNUMBER(SEARCH(\"16\",#REF!)),\"1\",\"0\")","v":"0"},{"$f":"IF(ISNUMBER(SEARCH(\"17\",#REF!)),\"1\",\"0\")","v":"0"},3,{"$nulls":3},6,8,8,22,2,null,4,4,12,20,null,14,4,null,{"$f":"#REF!-#REF!","v":{"$error":"#REF!"}},{"$f":"#REF!-#REF!","v":{"$error":"#REF!"}}]
[2,22,1,"WK",2,30,null,1,3,1,6,5,2,3,"0","0","1","0","0","0","0","0","0","0","0","0","0","0","0","0","0","0",null,null,2,5,1,{"$f":"IF(ISNUMBER(SEARCH(\"1\",#REF!)),\"1\",\"0\")","v":"0"},{"$f":"IF(ISNUMBER(SEARCH(\"2\",#REF!)),\"1\",\"0\")","v":"0"},{"$f":"IF(ISNUMBER(SEARCH(\"3\",#REF!)),\"1\",\"0\")","v":"0"},{"$f":"IF(ISNUMBER(SEARCH(\"4\",#REF!)),\"1\",\"0\")","v":"0"},{"$f":"IF(ISNUMBER(SEARCH(\"5\",#REF!)),\"1\",\"0\")","v":"0"},{"$f":"IF(ISNUMBER(SEARCH(\"6\",#REF!)),\"1\",\"0\")","v":"0"},{"$f":"IF(ISNUMBER(SEARCH(\"7\",#REF!)),\"1\",\"0\")","v":"0"},{"$f":"IF(ISNUMBER(SEARCH(\"8\",#REF!)),\"1\",\"0\")","v":"0"},{"$f":"IF(ISNUMBER(SEARCH(\"9\",#REF!)),\"1\",\"0\")","v":"0"},{"$f":"IF(ISNUMBER(SEARCH(\"9\",#REF!)),\"1\",\"0\")","v":"0"},{"$f":"IF(ISNUMBER(SEARCH(\"10\",#REF!)),\"1\",\"0\")","v":"0"},{"$f":"IF(ISNUMBER(SEARCH(\"11\",#REF!)),\"1\",\"0\")","v":"0"},{"$f":"IF(ISNUMBER(SEARCH(\"12\",#REF!)),\"1\",\"0\")","v":"0"},{"$f":"IF(ISNUMBER(SEARCH(\"13\",#REF!)),\"1\",\"0\")","v":"0"},{"$f":"IF(ISNUMBER(SEARCH(\"14\",#REF!)),\"1\",\"0\")","v":"0"},{"$f":"IF(ISNUMBER(SEARCH(\"15\",#REF!)),\"1\",\"0\")","v":"0"},{"$f":"IF(ISNUMBER(SEARCH(\"16\",#REF!)),\"1\",\"0\")","v":"0"},{"$f":"IF(ISNUMBER(SEARCH(\"17\",#REF!)),\"1\",\"0\")","v":"0"},4,2,null,null,16,6,0,22,11,{"$nulls":6},14,5,null,{"$f":"#REF!-#REF!","v":{"$error":"#REF!"}}]
[2,22,1,"OW",2,27,null,1,3,2,0,5,2,"4. Tentative de Viol","0","0","0","1","0","0","0","0","0","0","0","0","0","0","0","0","0","0",null,null,2,5,2,{"$f":"IF(ISNUMBER(SEARCH(\"1\",#REF!)),\"1\",\"0\")","v":"0"},0,{"$f":"IF(ISNUMBER(SEARCH(\"3\",#REF!)),\"1\",\"0\")","v":"0"},{"$f":"IF(ISNUMBER(SEARCH(\"4\",#REF!)),\"1\",\"0\")","v":"0"},{"$f":"IF(ISNUMBER(SEARCH(\"5\",#REF!)),\"1\",\"0\")","v":"0"},{"$f":"IF(ISNUMBER(SEARCH(\"6\",#REF!)),\"1\",\"0\")","v":"0"},{"$f":"IF(ISNUMBER(SEARCH(\"7\",#REF!)),\"1\",\"0\")","v":"0"},{"$f":"IF(ISNUMBER(SEARCH(\"8\",#REF!)),\"1\",\"0\")","v":"0"},{"$f":"IF(ISNUMBER(SEARCH(\"9\",#REF!)),\"1\",\"0\")","v":"0"},{"$f":"IF(ISNUMBER(SEARCH(\"9\",#REF!)),\"1\",\"0\")","v":"0"},{"$f":"IF(ISNUMBER(SEARCH(\"10\",#REF!)),\"1\",\"0\")","v":"0"},{"$f":"IF(ISNUMBER(SEARCH(\"11\",#REF!)),\"1\",\"0\")","v":"0"},{"$f":"IF(ISNUMBER(SEARCH(\"12\",#REF!)),\"1\",\"0\")","v":"0"},{"$f":"IF(ISNUMBER(SEARCH(\"13\",#REF!)),\"1\",\"0\")","v":"0"},{"$f":"IF(ISNUMBER(SEARCH(\"14\",#REF!)),\"1\",\"0\")","v":"0"},{"$f":"IF(ISNUMBER(SEARCH(\"15\",#REF!)),\"1\",\"0\")","v":"0"},{"$f":"IF(ISNUMBER(SEARCH(\"16\",#REF!)),\"1\",\"0\")","v":"0"},{"$f":"IF(ISNUMBER(SEARCH(\"17\",#REF!)),\"1\",\"0\")","v":"0"},1,{"$nulls":3},26,22,26,74,4,null,8,16,18,42,null,14,4,null,{"$f":"#REF!-#REF!","v":{"$error":"#REF!"}},{"$f":"#REF!-#REF!","v":{"$error":"#REF!"}}]
[2,22,1,"MN",2,25,null,1,3,1,2,1,2,3,{"$f":"IF(ISNUMBER(SEARCH(\"1\",$N387)),\"1\",\"0\")","v":"0"},{"$f":"IF(ISNUMBER(SEARCH(\"2\",$N387)),\"1\",\"0\")","v":"0"},{"$f":"IF(ISNUMBER(SEARCH(\"3\",$N387)),\"1\",\"0\")","v":"1"},{"$f":"IF(ISNUMBER(SEARCH(\"4\",$N387)),\"1\",\"0\")","v":"0"},{"$f":"IF(ISNUMBER(SEARCH(\"5\",$N387)),\"1\",\"0\")","v":"0"},{"$f":"IF(ISNUMBER(SEARCH(\"6\",$N387)),\"1\",\"0\")","v":"0"},{"$f":"IF(ISNUMBER(SEARCH(\"7\",$N387)),\"1\",\"0\")","v":"0"},{"$f":"IF(ISNUMBER(SEARCH(\"8\",$N387)),\"1\",\"0\")","v":"0"},{"$f":"IF(ISNUMBER(SEARCH(\"9\",$N387)),\"1\",\"0\")","v":"0"},{"$f":"IF(ISNUMBER(SEARCH(\"10\",$N387)),\"1\",\"0\")","v":"0"},{"$f":"IF(ISNUMBER(SEARCH(\"11\",$N387)),\"1\",\"0\")","v":"0"},{"$f":"IF(ISNUMBER(SEARCH(\"12\",$N387)),\"1\",\"0\")","v":"0"},{"$f":"IF(ISNUMBER(SEARCH(\"13\",$N387)),\"1\",\"0\")","v":"0"},{"$f":"IF(ISNUMBER(SEARCH(\"14\",$N387)),\"1\",\"0\")","v":"0"},{"$f":"IF(ISNUMBER(SEARCH(\"15\",$N387)),\"1\",\"0\")","v":"0"},{"$f":"IF(ISNUMBER(SEARCH(\"16\",$N387)),\"1\",\"0\")","v":"0"},{"$f":"IF(ISNUMBER(SEARCH(\"17\",$N387)),\"1\",\"0\")","v":"0"},{"$f":"IF(ISNUMBER(SEARCH(\"18\",$N387)),\"1\",\"0\")","v":"0"},null,null,3,5,2,{"$f":"IF(ISNUMBER(SEARCH(\"1\",#REF!)),\"1\",\"0\")","v":"0"},{"$f":"IF(ISNUMBER(SEARCH(\"2\",#REF!)),\"1\",\"0\")","v":"0"},{"$f":"IF(ISNUMBER(SEARCH(\"3\",#REF!)),\"1\",\"0\")","v":"0"},{"$f":"IF(ISNUMBER(SEARCH(\"4\",#REF!)),\"1\",\"0\")","v":"0"},{"$f":"IF(ISNUMBER(SEARCH(\"5\",#REF!)),\"1\",\"0\")","v":"0"},{"$f":"IF(ISNUMBER(SEARCH(\"6\",#REF!)),\"1\",\"0\")","v":"0"},{"$f":"IF(ISNUMBER(SEARCH(\"7\",#REF!)),\"1\",\"0\")","v":"0"},{"$f":"IF(ISNUMBER(SEARCH(\"8\",#REF!)),\"1\",\"0\")","v":"0"},{"$f":"IF(ISNUMBER(SEARCH(\"9\",#REF!)),\"1\",\"0\")","v":"0"},{"$f":"IF(ISNUMBER(SEARCH(\"9\",#REF!)),\"1\",\"0\")","v":"0"},{"$f":"IF(ISNUMBER(SEARCH(\"10\",#REF!)),\"1\",\"0\")","v":"0"},{"$f":"IF(ISNUMBER(SEARCH(\"11\",#REF!)),\"1\",\"0\")","v":"0"},{"$f":"IF(ISNUMBER(SEARCH(\"12\",#REF!)),\"1\",\"0\")","v":"0"},{"$f":"IF(ISNUMBER(SEARCH(\"13\",#REF!)),\"1\",\"0\")","v":"0"},{"$f":"IF(ISNUMBER(SEARCH(\"14\",#REF!)),\"1\",\"0\")","v":"0"},{"$f":"IF(ISNUMBER(SEARCH(\"15\",#REF!)),\"1\",\"0\")","v":"0"},{"$f":"IF(ISNUMBER(SEARCH(\"16\",#REF!)),\"1\",\"0\")","v":"0"},{"$f":"IF(ISNUMBER(SEARCH(\"17\",#REF!)),\"1\",\"0\")","v":"0"},3,{"$nulls":3},12,10,10,{"$f":"BH387+BI387+BJ387","v":32},8,null,6,4,6,{"$f":"BN387+BO387+BP387","v":16},null,14,5,null,{"$f":"#REF!-#REF!","v":{"$error":"#REF!"}},{"$f":"#REF!-#REF!","v":{"$error":"#REF!"}}]
[2,22,1,"WK",2,26,null,1,3,1,3,5,2,3,"0","0","1","0","0","0","0","0","0","0","0","0","0","0","0","0","0","0",null,null,1,5,2,{"$f":"IF(ISNUMBER(SEARCH(\"1\",#REF!)),\"1\",\"0\")","v":"0"},{"$f":"IF(ISNUMBER(SEARCH(\"2\",#REF!)),\"1\",\"0\")","v":"0"},{"$f":"IF(ISNUMBER(SEARCH(\"3\",#REF!)),\"1\",\"0\")","v":"0"},{"$f":"IF(ISNUMBER(SEARCH(\"4\",#REF!)),\"1\",\"0\")","v":"0"},{"$f":"IF(ISNUMBER(SEARCH(\"5\",#REF!)),\"1\",\"0\")","v":"0"},{"$f":"IF(ISNUMBER(SEARCH(\"6\",#REF!)),\"1\",\"0\")","v":"0"},{"$f":"IF(ISNUMBER(SEARCH(\"7\",#REF!)),\"1\",\"0\")","v":"0"},{"$f":"IF(ISNUMBER(SEARCH(\"8\",#REF!)),\"1\",\"0\")","v":"0"},{"$f":"IF(ISNUMBER(SEARCH(\"9\",#REF!)),\"1\",\"0\")","v":"0"},{"$f":"IF(ISNUMBER(SEARCH(\"9\",#REF!)),\"1\",\"0\")","v":"0"},{"$f":"IF(ISNUMBER(SEARCH(\"10\",#REF!)),\"1\",\"0\")","v":"0"},{"$f":"IF(ISNUMBER(SEARCH(\"11\",#REF!)),\"1\",\"0\")","v":"0"},{"$f":"IF(ISNUMBER(SEARCH(\"12\",#REF!)),\"1\",\"0\")","v":"0"},{"$f":"IF(ISNUMBER(SEARCH(\"13\",#REF!)),\"1\",\"0\")","v":"0"},{"$f":"IF(ISNUMBER(SEARCH(\"14\",#REF!)),\"1\",\"0\")","v":"0"},{"$f":"IF(ISNUMBER(SEARCH(\"15\",#REF!)),\"1\",\"0\")","v":"0"},{"$f":"IF(ISNUMBER(SEARCH(\"16\",#REF!)),\"1\",\"0\")","v":"0"},{"$f":"IF(ISNUMBER(SEARCH(\"17\",#REF!)),\"1\",\"0\")","v":"0"},4,{"$nulls":3},24,20,18,62,12,null,2,2,4,8,null,14,5,null,{"$f":"#REF!-#REF!","v":{"$error":"#REF!"}},{"$f":"#REF!-#REF!","v":{"$error":"#REF!"}}]
[2,22,1,"WK",2,20,null,1,3,1,2,5,2,3,"0","0","1","0","0","0","0","0","0","0","0","0","0","0","0","0","0","0",null,null,2,5,1,{"$f":"IF(ISNUMBER(SEARCH(\"1\",#REF!)),\"1\",\"0\")","v":"0"},{"$f":"IF(ISNUMBER(SEARCH(\"2\",#REF!)),\"1\",\"0\")","v":"0"},{"$f":"IF(ISNUMBER(SEARCH(\"3\",#REF!)),\"1\",\"0\")","v":"0"},{"$f":"IF(ISNUMBER(SEARCH(\"4\",#REF!)),\"1\",\"0\")","v":"0"},{"$f":"IF(ISNUMBER(SEARCH(\"5\",#REF!)),\"1\",\"0\")","v":"0"},{"$f":"IF(ISNUMBER(SEARCH(\"6\",#REF!)),\"1\",\"0\")","v":"0"},{"$f":"IF(ISNUMBER(SEARCH(\"7\",#REF!)),\"1\",\"0\")","v":"0"},{"$f":"IF(ISNUMBER(SEARCH(\"8\",#REF!)),\"1\",\"0\")","v":"0"},{"$f":"IF(ISNUMBER(SEARCH(\"9\",#REF!)),\"1\",\"0\")","v":"0"},{"$f":"IF(ISNUMBER(SEARCH(\"9\",#REF!)),\"1\",\"0\")","v":"0"},{"$f":"IF(ISNUMBER(SEARCH(\"10\",#REF!)),\"1\",\"0\")","v":"0"},{"$f":"IF(ISNUMBER(SEARCH(\"11\",#REF!)),\"1\",\"0\")","v":"0"},{"$f":"IF(ISNUMBER(SEARCH(\"12\",#REF!)),\"1\",\"0\")","v":"0"},{"$f":"IF(ISNUMBER(SEARCH(\"13\",#REF!)),\"1\",\"0\")","v":"0"},{"$f":"IF(ISNUMBER(SEARCH(\"14\",#REF!)),\"1\",\"0\")","v":"0"},{"$f":"IF(ISNUMBER(SEARCH(\"15\",#REF!)),\"1\",\"0\")","v":"0"},{"$f":"IF(ISNUMBER(SEARCH(\"16\",#REF!)),\"1\",\"0\")","v":"0"},{"$f":"IF(ISNUMBER(SEARCH(\"17\",#REF!)),\"1\",\"0\")","v":"0"},4,{"$nulls":3},30,0,0,30,9,null,30,0,0,30,null,14,5,null,{"$f":"#REF!-#REF!","v":{"$error":"#REF!"}},{"$f":"#REF!-#REF!","v":{"$error":"#REF!"}}]
[2,22,1,"WK",1,30,null,2,8,1,3,1,2,"9. Kidnapping/  Enlèvement/ Otage (SANS violence sexuelle), 16. Autre (SVP dans la case suivante) ","1","0","0","0","0","1","0","0","1","0","0","0","0","0","0","1","0","0",null,null,3,5,2,{"$f":"IF(ISNUMBER(SEARCH(\"1\",#REF!)),\"1\",\"0\")","v":"0"},{"$f":"IF(ISNUMBER(SEARCH(\"2\",#REF!)),\"1\",\"0\")","v":"0"},{"$f":"IF(ISNUMBER(SEARCH(\"3\",#REF!)),\"1\",\"0\")","v":"0"},{"$f":"IF(ISNUMBER(SEARCH(\"4\",#REF!)),\"1\",\"0\")","v":"0"},{"$f":"IF(ISNUMBER(SEARCH(\"5\",#REF!)),\"1\",\"0\")","v":"0"},{"$f":"IF(ISNUMBER(SEARCH(\"6\",#REF!)),\"1\",\"0\")","v":"0"},{"$f":"IF(ISNUMBER(SEARCH(\"7\",#REF!)),\"1\",\"0\")","v":"0"},{"$f":"IF(ISNUMBER(SEARCH(\"8\",#REF!)),\"1\",\"0\")","v":"0"},{"$f":"IF(ISNUMBER(SEARCH(\"9\",#REF!)),\"1\",\"0\")","v":"0"},{"$f":"IF(ISNUMBER(SEARCH(\"9\",#REF!)),\"1\",\"0\")","v":"0"},{"$f":"IF(ISNUMBER(SEARCH(\"10\",#REF!)),\"1\",\"0\")","v":"0"},{"$f":"IF(ISNUMBER(SEARCH(\"11\",#REF!)),\"1\",\"0\")","v":"0"},{"$f":"IF(ISNUMBER(SEARCH(\"12\",#REF!)),\"1\",\"0\")","v":"0"},{"$f":"IF(ISNUMBER(SEARCH(\"13\",#REF!)),\"1\",\"0\")","v":"0"},{"$f":"IF(ISNUMBER(SEARCH(\"14\",#REF!)),\"1\",\"0\")","v":"0"},{"$f":"IF(ISNUMBER(SEARCH(\"15\",#REF!)),\"1\",\"0\")","v":"0"},{"$f":"IF(ISNUMBER(SEARCH(\"16\",#REF!)),\"1\",\"0\")","v":"0"},{"$f":"IF(ISNUMBER(SEARCH(\"17\",#REF!)),\"1\",\"0\")","v":"0"},{"$nulls":4},24,14,22,60,4,{"$nulls":6},14,7,null,{"$f":"#REF!-#REF!","v":{"$error":"#REF!"}},{"$f":"#REF!-#REF!","v":{"$error":"#REF!"}}]
[2,22,1,"WK",1,25,null,3,8,1,2,5,2,"9. Kidnapping/  Enlèvement/ Otage (SANS violence sexuelle), 16. Autre (SVP dans la case suivante) , 1","1","0","0","0","0","1","0","0","1","0","0","0","0","0","0","1","0","0",null,null,3,5,2,{"$f":"IF(ISNUMBER(SEARCH(\"1\",#REF!)),\"1\",\"0\")","v":"0"},{"$f":"IF(ISNUMBER(SEARCH(\"2\",#REF!)),\"1\",\"0\")","v":"0"},{"$f":"IF(ISNUMBER(SEARCH(\"3\",#REF!)),\"1\",\"0\")","v":"0"},{"$f":"IF(ISNUMBER(SEARCH(\"4\",#REF!)),\"1\",\"0\")","v":"0"},{"$f":"IF(ISNUMBER(SEARCH(\"5\",#REF!)),\"1\",\"0\")","v":"0"},{"$f":"IF(ISNUMBER(SEARCH(\"6\",#REF!)),\"1\",\"0\")","v":"0"},{"$f":"IF(ISNUMBER(SEARCH(\"7\",#REF!)),\"1\",\"0\")","v":"0"},{"$f":"IF(ISNUMBER(SEARCH(\"8\",#REF!)),\"1\",\"0\")","v":"0"},{"$f":"IF(ISNUMBER(SEARCH(\"9\",#REF!)),\"1\",\"0\")","v":"0"},{"$f":"IF(ISNUMBER(SEARCH(\"9\",#REF!)),\"1\",\"0\")","v":"0"},{"$f":"IF(ISNUMBER(SEARCH(\"10\",#REF!)),\"1\",\"0\")","v":"0"},{"$f":"IF(ISNUMBER(SEARCH(\"11\",#REF!)),\"1\",\"0\")","v":"0"},{"$f":"IF(ISNUMBER(SEARCH(\"12\",#REF!)),\"1\",\"0\")","v":"0"},{"$f":"IF(ISNUMBER(SEARCH(\"13\",#REF!)),\"1\",\"0\")","v":"0"},{"$f":"IF(ISNUMBER(SEARCH(\"14\",#REF!)),\"1\",\"0\")","v":"0"},{"$f":"IF(ISNUMBER(SEARCH(\"15\",#REF!)),\"1\",\"0\")","v":"0"},{"$f":"IF(ISNUMBER(SEARCH(\"16\",#REF!)),\"1\",\"0\")","v":"0"},{"$f":"IF(ISNUMBER(SEARCH(\"17\",#REF!)),\"1\",\"0\")","v":"0"},{"$nulls":4},20,22,16,58,7,null,2,2,2,6,null,13,5,null,{"$f":"#REF!-#REF!","v":{"$error":"#REF!"}},{"$f":"#REF!-#REF!","v":{"$error":"#REF!"}}]
[2,22,1,"MN",1,60,null,1,3,1,0,1,2,3,"0","0","1","0","0","0","0","0","0","0","0","0","0","0","0","0","0","0",null,null,1,5,2,{"$f":"IF(ISNUMBER(SEARCH(\"1\",#REF!)),\"1\",\"0\")","v":"0"},{"$f":"IF(ISNUMBER(SEARCH(\"2\",#REF!)),\"1\",\"0\")","v":"0"},{"$f":"IF(ISNUMBER(SEARCH(\"3\",#REF!)),\"1\",\"0\")","v":"0"},{"$f":"IF(ISNUMBER(SEARCH(\"4\",#REF!)),\"1\",\"0\")","v":"0"},{"$f":"IF(ISNUMBER(SEARCH(\"5\",#REF!)),\"1\",\"0\")","v":"0"},{"$f":"IF(ISNUMBER(SEARCH(\"6\",#REF!)),\"1\",\"0\")","v":"0"},{"$f":"IF(ISNUMBER(SEARCH(\"7\",#REF!)),\"1\",\"0\")","v":"0"},{"$f":"IF(ISNUMBER(SEARCH(\"8\",#REF!)),\"1\",\"0\")","v":"0"},{"$f":"IF(ISNUMBER(SEARCH(\"9\",#REF!)),\"1\",\"0\")","v":"0"},{"$f":"IF(ISNUMBER(SEARCH(\"9\",#REF!)),\"1\",\"0\")","v":"0"},{"$f":"IF(ISNUMBER(SEARCH(\"10\",#REF!)),\"1\",\"0\")","v":"0"},{"$f":"IF(ISNUMBER(SEARCH(\"11\",#REF!)),\"1\",\"0\")","v":"0"},{"$f":"IF(ISNUMBER(SEARCH(\"12\",#REF!)),\"1\",\"0\")","v":"0"},{"$f":"IF(ISNUMBER(SEARCH(\"13\",#REF!)),\"1\",\"0\")","v":"0"},{"$f":"IF(ISNUMBER(SEARCH(\"14\",#REF!)),\"1\",\"0\")","v":"0"},{"$f":"IF(ISNUMBER(SEARCH(\"15\",#REF!)),\"1\",\"0\")","v":"0"},{"$f":"IF(ISNUMBER(SEARCH(\"16\",#REF!)),\"1\",\"0\")","v":"0"},{"$f":"IF(ISNUMBER(SEARCH(\"17\",#REF!)),\"1\",\"0\")","v":"0"},2,{"$nulls":3},20,14,10,44,3,null,2,2,2,6,null,14,5,null,{"$f":"#REF!-#REF!","v":{"$error":"#REF!"}},{"$f":"#REF!-#REF!","v":{"$error":"#REF!"}}]
[2,22,1,"WK",2,26,null,2,3,1,2,5,2,3,"0","0","1","0","0","0","0","0","0","0","0","0","0","0","0","0","0","0",null,null,1,5,1,{"$f":"IF(ISNUMBER(SEARCH(\"1\",#REF!)),\"1\",\"0\")","v":"0"},{"$f":"IF(ISNUMBER(SEARCH(\"2\",#REF!)),\"1\",\"0\")","v":"0"},{"$f":"IF(ISNUMBER(SEARCH(\"3\",#REF!)),\"1\",\"0\")","v":"0"},{"$f":"IF(ISNUMBER(SEARCH(\"4\",#REF!)),\"1\",\"0\")","v":"0"},{"$f":"IF(ISNUMBER(SEARCH(\"5\",#REF!)),\"1\",\"0\")","v":"0"},{"$f":"IF(ISNUMBER(SEARCH(\"6\",#REF!)),\"1\",\"0\")","v":"0"},{"$f":"IF(ISNUMBER(SEARCH(\"7\",#REF!)),\"1\",\"0\")","v":"0"},{"$f":"IF(ISNUMBER(SEARCH(\"8\",#REF!)),\"1\",\"0\")","v":"0"},{"$f":"IF(ISNUMBER(SEARCH(\"9\",#REF!)),\"1\",\"0\")","v":"0"},{"$f":"IF(ISNUMBER(SEARCH(\"9\",#REF!)),\"1\",\"0\")","v":"0"},{"$f":"IF(ISNUMBER(SEARCH(\"10\",#REF!)),\"1\",\"0\")","v":"0"},{"$f":"IF(ISNUMBER(SEARCH(\"11\",#REF!)),\"1\",\"0\")","v":"0"},{"$f":"IF(ISNUMBER(SEARCH(\"12\",#REF!)),\"1\",\"0\")","v":"0"},{"$f":"IF(ISNUMBER(SEARCH(\"13\",#REF!)),\"1\",\"0\")","v":"0"},{"$f":"IF(ISNUMBER(SEARCH(\"14\",#REF!)),\"1\",\"0\")","v":"0"},{"$f":"IF(ISNUMBER(SEARCH(\"15\",#REF!)),\"1\",\"0\")","v":"0"},{"$f":"IF(ISNUMBER(SEARCH(\"16\",#REF!)),\"1\",\"0\")","v":"0"},{"$f":"IF(ISNUMBER(SEARCH(\"17\",#REF!)),\"1\",\"0\")","v":"0"},1,{"$nulls":3},14,18,28,60,4,{"$nulls":6},14,5,null,{"$f":"#REF!-#REF!","v":{"$error":"#REF!"}},{"$f":"#REF!-#REF!","v":{"$error":"#REF!"}}]
[2,22,1,"WK",2,16,null,1,1,1,0,5,1,"6. Mariage Forcé","0","0","0","0","0","1","0","0","0","0","0","0","0","0","0","0","0","0",null,null,1,2,1,{"$f":"IF(ISNUMBER(SEARCH(\"1\",#REF!)),\"1\",\"0\")","v":"0"},0,{"$f":"IF(ISNUMBER(SEARCH(\"3\",#REF!)),\"1\",\"0\")","v":"0"},{"$f":"IF(ISNUMBER(SEARCH(\"4\",#REF!)),\"1\",\"0\")","v":"0"},{"$f":"IF(ISNUMBER(SEARCH(\"5\",#REF!)),\"1\",\"0\")","v":"0"},{"$f":"IF(ISNUMBER(SEARCH(\"6\",#REF!)),\"1\",\"0\")","v":"0"},{"$f":"IF(ISNUMBER(SEARCH(\"7\",#REF!)),\"1\",\"0\")","v":"0"},{"$f":"IF(ISNUMBER(SEARCH(\"8\",#REF!)),\"1\",\"0\")","v":"0"},{"$f":"IF(ISNUMBER(SEARCH(\"9\",#REF!)),\"1\",\"0\")","v":"0"},{"$f":"IF(ISNUMBER(SEARCH(\"9\",#REF!)),\"1\",\"0\")","v":"0"},{"$f":"IF(ISNUMBER(SEARCH(\"10\",#REF!)),\"1\",\"0\")","v":"0"},{"$f":"IF(ISNUMBER(SEARCH(\"11\",#REF!)),\"1\",\"0\")","v":"0"},{"$f":"IF(ISNUMBER(SEARCH(\"12\",#REF!)),\"1\",\"0\")","v":"0"},{"$f":"IF(ISNUMBER(SEARCH(\"13\",#REF!)),\"1\",\"0\")","v":"0"},{"$f":"IF(ISNUMBER(SEARCH(\"14\",#REF!)),\"1\",\"0\")","v":"0"},{"$f":"IF(ISNUMBER(SEARCH(\"15\",#REF!)),\"1\",\"0\")","v":"0"},{"$f":"IF(ISNUMBER(SEARCH(\"16\",#REF!)),\"1\",\"0\")","v":"0"},{"$f":"IF(ISNUMBER(SEARCH(\"17\",#REF!)),\"1\",\"0\")","v":"0"},{"$nulls":4},10,12,14,36,5,{"$nulls":6},13,5,null,{"$f":"#REF!-#REF!","v":{"$error":"#REF!"}},{"$f":"#REF!-#REF!","v":{"$error":"#REF!"}}]
[2,22,1,"OW",2,23,null,1,3,1,4,5,2,3,"0","0","1","0","0","0","0","0","0","0","0","0","0","0","0","0","0","0",null,null,4,5,2,{"$f":"IF(ISNUMBER(SEARCH(\"1\",#REF!)),\"1\",\"0\")","v":"0"},{"$f":"IF(ISNUMBER(SEARCH(\"2\",#REF!)),\"1\",\"0\")","v":"0"},{"$f":"IF(ISNUMBER(SEARCH(\"3\",#REF!)),\"1\",\"0\")","v":"0"},{"$f":"IF(ISNUMBER(SEARCH(\"4\",#REF!)),\"1\",\"0\")","v":"0"},{"$f":"IF(ISNUMBER(SEARCH(\"5\",#REF!)),\"1\",\"0\")","v":"0"},{"$f":"IF(ISNUMBER(SEARCH(\"6\",#REF!)),\"1\",\"0\")","v":"0"},{"$f":"IF(ISNUMBER(SEARCH(\"7\",#REF!)),\"1\",\"0\")","v":"0"},{"$f":"IF(ISNUMBER(SEARCH(\"8\",#REF!)),\"1\",\"0\")","v":"0"},{"$f":"IF(ISNUMBER(SEARCH(\"9\",#REF!)),\"1\",\"0\")","v":"0"},{"$f":"IF(ISNUMBER(SEARCH(\"9\",#REF!)),\"1\",\"0\")","v":"0"},{"$f":"IF(ISNUMBER(SEARCH(\"10\",#REF!)),\"1\",\"0\")","v":"0"},{"$f":"IF(ISNUMBER(SEARCH(\"11\",#REF!)),\"1\",\"0\")","v":"0"},{"$f":"IF(ISNUMBER(SEARCH(\"12\",#REF!)),\"1\",\"0\")","v":"0"},{"$f":"IF(ISNUMBER(SEARCH(\"13\",#REF!)),\"1\",\"0\")","v":"0"},{"$f":"IF(ISNUMBER(SEARCH(\"14\",#REF!)),\"1\",\"0\")","v":"0"},{"$f":"IF(ISNUMBER(SEARCH(\"15\",#REF!)),\"1\",\"0\")","v":"0"},{"$f":"IF(ISNUMBER(SEARCH(\"16\",#REF!)),\"1\",\"0\")","v":"0"},{"$f":"IF(ISNUMBER(SEARCH(\"17\",#REF!)),\"1\",\"0\")","v":"0"},3,{"$nulls":3},18,20,20,58,7,null,12,14,18,44,null,14,5,null,{"$f":"#REF!-#REF!","v":{"$error":"#REF!"}},{"$f":"#REF!-#REF!","v":{"$error":"#REF!"}}]
[2,22,1,"MN",2,30,null,1,3,1,6,5,2,3,"0","0","1","0","0","0","0","0","0","0","0","0","0","0","0","0","0","0",null,null,1,5,2,{"$f":"IF(ISNUMBER(SEARCH(\"1\",#REF!)),\"1\",\"0\")","v":"0"},{"$f":"IF(ISNUMBER(SEARCH(\"2\",#REF!)),\"1\",\"0\")","v":"0"},{"$f":"IF(ISNUMBER(SEARCH(\"3\",#REF!)),\"1\",\"0\")","v":"0"},{"$f":"IF(ISNUMBER(SEARCH(\"4\",#REF!)),\"1\",\"0\")","v":"0"},{"$f":"IF(ISNUMBER(SEARCH(\"5\",#REF!)),\"1\",\"0\")","v":"0"},{"$f":"IF(ISNUMBER(SEARCH(\"6\",#REF!)),\"1\",\"0\")","v":"0"},{"$f":"IF(ISNUMBER(SEARCH(\"7\",#REF!)),\"1\",\"0\")","v":"0"},{"$f":"IF(ISNUMBER(SEARCH(\"8\",#REF!)),\"1\",\"0\")","v":"0"},{"$f":"IF(ISNUMBER(SEARCH(\"9\",#REF!)),\"1\",\"0\")","v":"0"},{"$f":"IF(ISNUMBER(SEARCH(\"9\",#REF!)),\"1\",\"0\")","v":"0"},{"$f":"IF(ISNUMBER(SEARCH(\"10\",#REF!)),\"1\",\"0\")","v":"0"},{"$f":"IF(ISNUMBER(SEARCH(\"11\",#REF!)),\"1\",\"0\")","v":"0"},{"$f":"IF(ISNUMBER(SEARCH(\"12\",#REF!)),\"1\",\"0\")","v":"0"},{"$f":"IF(ISNUMBER(SEARCH(\"13\",#REF!)),\"1\",\"0\")","v":"0"},{"$f":"IF(ISNUMBER(SEARCH(\"14\",#REF!)),\"1\",\"0\")","v":"0"},{"$f":"IF(ISNUMBER(SEARCH(\"15\",#REF!)),\"1\",\"0\")","v":"0"},{"$f":"IF(ISNUMBER(SEARCH(\"16\",#REF!)),\"1\",\"0\")","v":"0"},{"$f":"IF(ISNUMBER(SEARCH(\"17\",#REF!)),\"1\",\"0\")","v":"0"},2,{"$nulls":3},10,14,8,32,10,{"$nulls":6},14,5,null,{"$f":"#REF!-#REF!","v":{"$error":"#REF!"}},{"$f":"#REF!-#REF!","v":{"$error":"#REF!"}}]
[2,22,1,"WK",1,34,null,2,3,1,4,5,2,1,"1","0","0","0","0","0","0","0","0","0","0","0","0","0","0","0","0","0",null,null,2,5,2,{"$f":"IF(ISNUMBER(SEARCH(\"1\",#REF!)),\"1\",\"0\")","v":"0"},{"$f":"IF(ISNUMBER(SEARCH(\"2\",#REF!)),\"1\",\"0\")","v":"0"},{"$f":"IF(ISNUMBER(SEARCH(\"3\",#REF!)),\"1\",\"0\")","v":"0"},{"$f":"IF(ISNUMBER(SEARCH(\"4\",#REF!)),\"1\",\"0\")","v":"0"},{"$f":"IF(ISNUMBER(SEARCH(\"5\",#REF!)),\"1\",\"0\")","v":"0"},{"$f":"IF(ISNUMBER(SEARCH(\"6\",#REF!)),\"1\",\"0\")","v":"0"},{"$f":"IF(ISNUMBER(SEARCH(\"7\",#REF!)),\"1\",\"0\")","v":"0"},{"$f":"IF(ISNUMBER(SEARCH(\"8\",#REF!)),\"1\",\"0\")","v":"0"},{"$f":"IF(ISNUMBER(SEARCH(\"9\",#REF!)),\"1\",\"0\")","v":"0"},{"$f":"IF(ISNUMBER(SEARCH(\"9\",#REF!)),\"1\",\"0\")","v":"0"},{"$f":"IF(ISNUMBER(SEARCH(\"10\",#REF!)),\"1\",\"0\")","v":"0"},{"$f":"IF(ISNUMBER(SEARCH(\"11\",#REF!)),\"1\",\"0\")","v":"0"},{"$f":"IF(ISNUMBER(SEARCH(\"12\",#REF!)),\"1\",\"0\")","v":"0"},{"$f":"IF(ISNUMBER(SEARCH(\"13\",#REF!)),\"1\",\"0\")","v":"0"},{"$f":"IF(ISNUMBER(SEARCH(\"14\",#REF!)),\"1\",\"0\")","v":"0"},{"$f":"IF(ISNUMBER(SEARCH(\"15\",#REF!)),\"1\",\"0\")","v":"0"},{"$f":"IF(ISNUMBER(SEARCH(\"16\",#REF!)),\"1\",\"0\")","v":"0"},{"$f":"IF(ISNUMBER(SEARCH(\"17\",#REF!)),\"1\",\"0\")","v":"0"},{"$nulls":4},14,12,10,36,5,null,2,2,2,6,null,14,5,null,{"$f":"#REF!-#REF!","v":{"$error":"#REF!"}},{"$f":"#REF!-#REF!","v":{"$error":"#REF!"}}]
[2,22,1,"OW",2,20,null,1,3,1,3,5,2,3,"0","0","1","0","0","0","0","0","0","0","0","0","0","0","0","0","0","0",null,null,2,5,2,{"$f":"IF(ISNUMBER(SEARCH(\"1\",#REF!)),\"1\",\"0\")","v":"0"},{"$f":"IF(ISNUMBER(SEARCH(\"2\",#REF!)),\"1\",\"0\")","v":"0"},{"$f":"IF(ISNUMBER(SEARCH(\"3\",#REF!)),\"1\",\"0\")","v":"0"},{"$f":"IF(ISNUMBER(SEARCH(\"4\",#REF!)),\"1\",\"0\")","v":"0"},{"$f":"IF(ISNUMBER(SEARCH(\"5\",#REF!)),\"1\",\"0\")","v":"0"},{"$f":"IF(ISNUMBER(SEARCH(\"6\",#REF!)),\"1\",\"0\")","v":"0"},{"$f":"IF(ISNUMBER(SEARCH(\"7\",#REF!)),\"1\",\"0\")","v":"0"},{"$f":"IF(ISNUMBER(SEARCH(\"8\",#REF!)),\"1\",\"0\")","v":"0"},{"$f":"IF(ISNUMBER(SEARCH(\"9\",#REF!)),\"1\",\"0\")","v":"0"},{"$f":"IF(ISNUMBER(SEARCH(\"9\",#REF!)),\"1\",\"0\")","v":"0"},{"$f":"IF(ISNUMBER(SEARCH(\"10\",#REF!)),\"1\",\"0\")","v":"0"},{"$f":"IF(ISNUMBER(SEARCH(\"11\",#REF!)),\"1\",\"0\")","v":"0"},{"$f":"IF(ISNUMBER(SEARCH(\"12\",#REF!)),\"1\",\"0\")","v":"0"},{"$f":"IF(ISNUMBER(SEARCH(\"13\",#REF!)),\"1\",\"0\")","v":"0"},{"$f":"IF(ISNUMBER(SEARCH(\"14\",#REF!)),\"1\",\"0\")","v":"0"},{"$f":"IF(ISNUMBER(SEARCH(\"15\",#REF!)),\"1\",\"0\")","v":"0"},{"$f":"IF(ISNUMBER(SEARCH(\"16\",#REF!)),\"1\",\"0\")","v":"0"},{"$f":"IF(ISNUMBER(SEARCH(\"17\",#REF!)),\"1\",\"0\")","v":"0"},1,{"$nulls":3},8,6,6,20,6,null,4,2,2,8,null,12,3,null,{"$f":"#REF!-#REF!","v":{"$error":"#REF!"}},{"$f":"#REF!-#REF!","v":{"$error":"#REF!"}}]
[2,22,1,"MN",2,50,null,1,3,1,9,6,6,1,"1","0","0","0","0","0","0","0","0","0","0","0","0","0","0","0","0","0",null,null,1,5,2,{"$f":"IF(ISNUMBER(SEARCH(\"1\",#REF!)),\"1\",\"0\")","v":"0"},{"$f":"IF(ISNUMBER(SEARCH(\"2\",#REF!)),\"1\",\"0\")","v":"0"},{"$f":"IF(ISNUMBER(SEARCH(\"3\",#REF!)),\"1\",\"0\")","v":"0"},{"$f":"IF(ISNUMBER(SEARCH(\"4\",#REF!)),\"1\",\"0\")","v":"0"},{"$f":"IF(ISNUMBER(SEARCH(\"5\",#REF!)),\"1\",\"0\")","v":"0"},{"$f":"IF(ISNUMBER(SEARCH(\"6\",#REF!)),\"1\",\"0\")","v":"0"},{"$f":"IF(ISNUMBER(SEARCH(\"7\",#REF!)),\"1\",\"0\")","v":"0"},{"$f":"IF(ISNUMBER(SEARCH(\"8\",#REF!)),\"1\",\"0\")","v":"0"},{"$f":"IF(ISNUMBER(SEARCH(\"9\",#REF!)),\"1\",\"0\")","v":"0"},{"$f":"IF(ISNUMBER(SEARCH(\"9\",#REF!)),\"1\",\"0\")","v":"0"},{"$f":"IF(ISNUMBER(SEARCH(\"10\",#REF!)),\"1\",\"0\")","v":"0"},{"$f":"IF(ISNUMBER(SEARCH(\"11\",#REF!)),\"1\",\"0\")","v":"0"},{"$f":"IF(ISNUMBER(SEARCH(\"12\",#REF!)),\"1\",\"0\")","v":"0"},{"$f":"IF(ISNUMBER(SEARCH(\"13\",#REF!)),\"1\",\"0\")","v":"0"},{"$f":"IF(ISNUMBER(SEARCH(\"14\",#REF!)),\"1\",\"0\")","v":"0"},{"$f":"IF(ISNUMBER(SEARCH(\"15\",#REF!)),\"1\",\"0\")","v":"0"},{"$f":"IF(ISNUMBER(SEARCH(\"16\",#REF!)),\"1\",\"0\")","v":"0"},{"$f":"IF(ISNUMBER(SEARCH(\"17\",#REF!)),\"1\",\"0\")","v":"0"},{"$nulls":4},18,28,22,68,7,null,12,18,12,42,null,14,4,null,{"$f":"#REF!-#REF!","v":{"$error":"#REF!"}},{"$f":"#REF!-#REF!","v":{"$error":"#REF!"}}]
[2,22,1,"OW",1,17,null,1,3,1,0,5,1,"5. Inceste (enfant abusé par un membre de la famille)","0","0","0","0","1","0","0","0","0","0","0","0","0","0","0","0","0","0",null,null,2,4,2,{"$f":"IF(ISNUMBER(SEARCH(\"1\",#REF!)),\"1\",\"0\")","v":"0"},{"$f":"IF(ISNUMBER(SEARCH(\"2\",#REF!)),\"1\",\"0\")","v":"0"},{"$f":"IF(ISNUMBER(SEARCH(\"3\",#REF!)),\"1\",\"0\")","v":"0"},{"$f":"IF(ISNUMBER(SEARCH(\"4\",#REF!)),\"1\",\"0\")","v":"0"},{"$f":"IF(ISNUMBER(SEARCH(\"5\",#REF!)),\"1\",\"0\")","v":"0"},{"$f":"IF(ISNUMBER(SEARCH(\"6\",#REF!)),\"1\",\"0\")","v":"0"},{"$f":"IF(ISNUMBER(SEARCH(\"7\",#REF!)),\"1\",\"0\")","v":"0"},{"$f":"IF(ISNUMBER(SEARCH(\"8\",#REF!)),\"1\",\"0\")","v":"0"},{"$f":"IF(ISNUMBER(SEARCH(\"9\",#REF!)),\"1\",\"0\")","v":"0"},{"$f":"IF(ISNUMBER(SEARCH(\"9\",#REF!)),\"1\",\"0\")","v":"0"},{"$f":"IF(ISNUMBER(SEARCH(\"10\",#REF!)),\"1\",\"0\")","v":"0"},{"$f":"IF(ISNUMBER(SEARCH(\"11\",#REF!)),\"1\",\"0\")","v":"0"},{"$f":"IF(ISNUMBER(SEARCH(\"12\",#REF!)),\"1\",\"0\")","v":"0"},{"$f":"IF(ISNUMBER(SEARCH(\"13\",#REF!)),\"1\",\"0\")","v":"0"},{"$f":"IF(ISNUMBER(SEARCH(\"14\",#REF!)),\"1\",\"0\")","v":"0"},{"$f":"IF(ISNUMBER(SEARCH(\"15\",#REF!)),\"1\",\"0\")","v":"0"},{"$f":"IF(ISNUMBER(SEARCH(\"16\",#REF!)),\"1\",\"0\")","v":"0"},{"$f":"IF(ISNUMBER(SEARCH(\"17\",#REF!)),\"1\",\"0\")","v":"0"},{"$nulls":4},28,26,16,70,8,null,2,2,2,6,null,14,5,null,{"$f":"#REF!-#REF!","v":{"$error":"#REF!"}},{"$f":"#REF!-#REF!","v":{"$error":"#REF!"}}]
[2,22,1,"MN",1,58,null,1,3,1,2,5,null,1,"1","0","0","0","0","0","0","0","0","0","0","0","0","0","0","0","0","0",{"$nulls":3},5,2,{"$f":"IF(ISNUMBER(SEARCH(\"1\",#REF!)),\"1\",\"0\")","v":"0"},{"$f":"IF(ISNUMBER(SEARCH(\"2\",#REF!)),\"1\",\"0\")","v":"0"},{"$f":"IF(ISNUMBER(SEARCH(\"3\",#REF!)),\"1\",\"0\")","v":"0"},{"$f":"IF(ISNUMBER(SEARCH(\"4\",#REF!)),\"1\",\"0\")","v":"0"},{"$f":"IF(ISNUMBER(SEARCH(\"5\",#REF!)),\"1\",\"0\")","v":"0"},{"$f":"IF(ISNUMBER(SEARCH(\"6\",#REF!)),\"1\",\"0\")","v":"0"},{"$f":"IF(ISNUMBER(SEARCH(\"7\",#REF!)),\"1\",\"0\")","v":"0"},{"$f":"IF(ISNUMBER(SEARCH(\"8\",#REF!)),\"1\",\"0\")","v":"0"},{"$f":"IF(ISNUMBER(SEARCH(\"9\",#REF!)),\"1\",\"0\")","v":"0"},{"$f":"IF(ISNUMBER(SEARCH(\"9\",#REF!)),\"1\",\"0\")","v":"0"},{"$f":"IF(ISNUMBER(SEARCH(\"10\",#REF!)),\"1\",\"0\")","v":"0"},{"$f":"IF(ISNUMBER(SEARCH(\"11\",#REF!)),\"1\",\"0\")","v":"0"},{"$f":"IF(ISNUMBER(SEARCH(\"12\",#REF!)),\"1\",\"0\")","v":"0"},{"$f":"IF(ISNUMBER(SEARCH(\"13\",#REF!)),\"1\",\"0\")","v":"0"},{"$f":"IF(ISNUMBER(SEARCH(\"14\",#REF!)),\"1\",\"0\")","v":"0"},{"$f":"IF(ISNUMBER(SEARCH(\"15\",#REF!)),\"1\",\"0\")","v":"0"},{"$f":"IF(ISNUMBER(SEARCH(\"16\",#REF!)),\"1\",\"0\")","v":"0"},{"$f":"IF(ISNUMBER(SEARCH(\"17\",#REF!)),\"1\",\"0\")","v":"0"},{"$nulls":4},14,8,6,28,6,null,4,2,4,10,null,14,5,null,{"$f":"#REF!-#REF!","v":{"$error":"#REF!"}},{"$f":"#REF!-#REF!","v":{"$error":"#REF!"}}]
[2,22,1,"WK",1,30,null,3,3,1,3,1,2,3,"0","0","1","0","0","0","0","0","0","0","0","0","0","0","0","0","0","0",null,null,3,5,2,{"$f":"IF(ISNUMBER(SEARCH(\"1\",#REF!)),\"1\",\"0\")","v":"0"},{"$f":"IF(ISNUMBER(SEARCH(\"2\",#REF!)),\"1\",\"0\")","v":"0"},{"$f":"IF(ISNUMBER(SEARCH(\"3\",#REF!)),\"1\",\"0\")","v":"0"},{"$f":"IF(ISNUMBER(SEARCH(\"4\",#REF!)),\"1\",\"0\")","v":"0"},{"$f":"IF(ISNUMBER(SEARCH(\"5\",#REF!)),\"1\",\"0\")","v":"0"},{"$f":"IF(ISNUMBER(SEARCH(\"6\",#REF!)),\"1\",\"0\")","v":"0"},{"$f":"IF(ISNUMBER(SEARCH(\"7\",#REF!)),\"1\",\"0\")","v":"0"},{"$f":"IF(ISNUMBER(SEARCH(\"8\",#REF!)),\"1\",\"0\")","v":"0"},{"$f":"IF(ISNUMBER(SEARCH(\"9\",#REF!)),\"1\",\"0\")","v":"0"},{"$f":"IF(ISNUMBER(SEARCH(\"9\",#REF!)),\"1\",\"0\")","v":"0"},{"$f":"IF(ISNUMBER(SEARCH(\"10\",#REF!)),\"1\",\"0\")","v":"0"},{"$f":"IF(ISNUMBER(SEARCH(\"11\",#REF!)),\"1\",\"0\")","v":"0"},{"$f":"IF(ISNUMBER(SEARCH(\"12\",#REF!)),\"1\",\"0\")","v":"0"},{"$f":"IF(ISNUMBER(SEARCH(\"13\",#REF!)),\"1\",\"0\")","v":"0"},{"$f":"IF(ISNUMBER(SEARCH(\"14\",#REF!)),\"1\",\"0\")","v":"0"},{"$f":"IF(ISNUMBER(SEARCH(\"15\",#REF!)),\"1\",\"0\")","v":"0"},{"$f":"IF(ISNUMBER(SEARCH(\"16\",#REF!)),\"1\",\"0\")","v":"0"},{"$f":"IF(ISNUMBER(SEARCH(\"17\",#REF!)),\"1\",\"0\")","v":"0"},1,{"$nulls":3},26,20,38,84,null,null,2,6,18,26,{"$nulls":4},{"$f":"#REF!-#REF!","v":{"$error":"#REF!"}},{"$f":"#REF!-#REF!","v":{"$error":"#REF!"}}]
[2,22,1,"WK",2,25,null,1,3,1,2,1,2,1,"1","0","0","0","0","0","0","0","0","0","0","0","0","0","0","0","0","0",null,null,2,5,2,{"$f":"IF(ISNUMBER(SEARCH(\"1\",#REF!)),\"1\",\"0\")","v":"0"},{"$f":"IF(ISNUMBER(SEARCH(\"2\",#REF!)),\"1\",\"0\")","v":"0"},{"$f":"IF(ISNUMBER(SEARCH(\"3\",#REF!)),\"1\",\"0\")","v":"0"},{"$f":"IF(ISNUMBER(SEARCH(\"4\",#REF!)),\"1\",\"0\")","v":"0"},{"$f":"IF(ISNUMBER(SEARCH(\"5\",#REF!)),\"1\",\"0\")","v":"0"},{"$f":"IF(ISNUMBER(SEARCH(\"6\",#REF!)),\"1\",\"0\")","v":"0"},{"$f":"IF(ISNUMBER(SEARCH(\"7\",#REF!)),\"1\",\"0\")","v":"0"},{"$f":"IF(ISNUMBER(SEARCH(\"8\",#REF!)),\"1\",\"0\")","v":"0"},{"$f":"IF(ISNUMBER(SEARCH(\"9\",#REF!)),\"1\",\"0\")","v":"0"},{"$f":"IF(ISNUMBER(SEARCH(\"9\",#REF!)),\"1\",\"0\")","v":"0"},{"$f":"IF(ISNUMBER(SEARCH(\"10\",#REF!)),\"1\",\"0\")","v":"0"},{"$f":"IF(ISNUMBER(SEARCH(\"11\",#REF!)),\"1\",\"0\")","v":"0"},{"$f":"IF(ISNUMBER(SEARCH(\"12\",#REF!)),\"1\",\"0\")","v":"0"},{"$f":"IF(ISNUMBER(SEARCH(\"13\",#REF!)),\"1\",\"0\")","v":"0"},{"$f":"IF(ISNUMBER(SEARCH(\"14\",#REF!)),\"1\",\"0\")","v":"0"},{"$f":"IF(ISNUMBER(SEARCH(\"15\",#REF!)),\"1\",\"0\")","v":"0"},{"$f":"IF(ISNUMBER(SEARCH(\"16\",#REF!)),\"1\",\"0\")","v":"0"},{"$f":"IF(ISNUMBER(SEARCH(\"17\",#REF!)),\"1\",\"0\")","v":"0"},{"$nulls":4},20,8,6,34,7,null,26,16,0,42,null,14,5,null,{"$f":"#REF!-#REF!","v":{"$error":"#REF!"}},{"$f":"#REF!-#REF!","v":{"$error":"#REF!"}}]
[2,22,1,"OW",2,18,null,3,2,2,0,5,1,3,"0","0","1","0","0","0","0","0","0","0","0","0","0","0","0","0","0","0",null,null,2,5,2,{"$f":"IF(ISNUMBER(SEARCH(\"1\",#REF!)),\"1\",\"0\")","v":"0"},{"$f":"IF(ISNUMBER(SEARCH(\"2\",#REF!)),\"1\",\"0\")","v":"0"},{"$f":"IF(ISNUMBER(SEARCH(\"3\",#REF!)),\"1\",\"0\")","v":"0"},{"$f":"IF(ISNUMBER(SEARCH(\"4\",#REF!)),\"1\",\"0\")","v":"0"},{"$f":"IF(ISNUMBER(SEARCH(\"5\",#REF!)),\"1\",\"0\")","v":"0"},{"$f":"IF(ISNUMBER(SEARCH(\"6\",#REF!)),\"1\",\"0\")","v":"0"},{"$f":"IF(ISNUMBER(SEARCH(\"7\",#REF!)),\"1\",\"0\")","v":"0"},{"$f":"IF(ISNUMBER(SEARCH(\"8\",#REF!)),\"1\",\"0\")","v":"0"},{"$f":"IF(ISNUMBER(SEARCH(\"9\",#REF!)),\"1\",\"0\")","v":"0"},{"$f":"IF(ISNUMBER(SEARCH(\"9\",#REF!)),\"1\",\"0\")","v":"0"},{"$f":"IF(ISNUMBER(SEARCH(\"10\",#REF!)),\"1\",\"0\")","v":"0"},{"$f":"IF(ISNUMBER(SEARCH(\"11\",#REF!)),\"1\",\"0\")","v":"0"},{"$f":"IF(ISNUMBER(SEARCH(\"12\",#REF!)),\"1\",\"0\")","v":"0"},{"$f":"IF(ISNUMBER(SEARCH(\"13\",#REF!)),\"1\",\"0\")","v":"0"},{"$f":"IF(ISNUMBER(SEARCH(\"14\",#REF!)),\"1\",\"0\")","v":"0"},{"$f":"IF(ISNUMBER(SEARCH(\"15\",#REF!)),\"1\",\"0\")","v":"0"},{"$f":"IF(ISNUMBER(SEARCH(\"16\",#REF!)),\"1\",\"0\")","v":"0"},{"$f":"IF(ISNUMBER(SEARCH(\"17\",#REF!)),\"1\",\"0\")","v":"0"},1,{"$nulls":3},24,22,20,66,2,null,14,22,14,50,null,10,4,null,{"$f":"#REF!-#REF!","v":{"$error":"#REF!"}},{"$f":"#REF!-#REF!","v":{"$error":"#REF!"}}]
[2,22,1,"WK",1,36,null,2,3,1,4,5,2,"1, 9. Kidnapping/  Enlèvement/ Otage (SANS violence sexuelle)","1","0","0","0","0","0","0","0","1","0","0","0","0","0","0","0","0","0",null,null,1,5,2,{"$f":"IF(ISNUMBER(SEARCH(\"1\",#REF!)),\"1\",\"0\")","v":"0"},{"$f":"IF(ISNUMBER(SEARCH(\"2\",#REF!)),\"1\",\"0\")","v":"0"},{"$f":"IF(ISNUMBER(SEARCH(\"3\",#REF!)),\"1\",\"0\")","v":"0"},{"$f":"IF(ISNUMBER(SEARCH(\"4\",#REF!)),\"1\",\"0\")","v":"0"},{"$f":"IF(ISNUMBER(SEARCH(\"5\",#REF!)),\"1\",\"0\")","v":"0"},{"$f":"IF(ISNUMBER(SEARCH(\"6\",#REF!)),\"1\",\"0\")","v":"0"},{"$f":"IF(ISNUMBER(SEARCH(\"7\",#REF!)),\"1\",\"0\")","v":"0"},{"$f":"IF(ISNUMBER(SEARCH(\"8\",#REF!)),\"1\",\"0\")","v":"0"},{"$f":"IF(ISNUMBER(SEARCH(\"9\",#REF!)),\"1\",\"0\")","v":"0"},{"$f":"IF(ISNUMBER(SEARCH(\"9\",#REF!)),\"1\",\"0\")","v":"0"},{"$f":"IF(ISNUMBER(SEARCH(\"10\",#REF!)),\"1\",\"0\")","v":"0"},{"$f":"IF(ISNUMBER(SEARCH(\"11\",#REF!)),\"1\",\"0\")","v":"0"},{"$f":"IF(ISNUMBER(SEARCH(\"12\",#REF!)),\"1\",\"0\")","v":"0"},{"$f":"IF(ISNUMBER(SEARCH(\"13\",#REF!)),\"1\",\"0\")","v":"0"},{"$f":"IF(ISNUMBER(SEARCH(\"14\",#REF!)),\"1\",\"0\")","v":"0"},{"$f":"IF(ISNUMBER(SEARCH(\"15\",#REF!)),\"1\",\"0\")","v":"0"},{"$f":"IF(ISNUMBER(SEARCH(\"16\",#REF!)),\"1\",\"0\")","v":"0"},{"$f":"IF(ISNUMBER(SEARCH(\"17\",#REF!)),\"1\",\"0\")","v":"0"},{"$nulls":4},18,28,22,68,6,{"$nulls":9},{"$f":"#REF!-#REF!","v":{"$error":"#REF!"}}]
[2,22,1,"OW",2,19,null,3,2,2,0,4,1,3,"0","0","1","0","0","0","0","0","0","0","0","0","0","0","0","0","0","0",null,null,2,5,2,{"$f":"IF(ISNUMBER(SEARCH(\"1\",#REF!)),\"1\",\"0\")","v":"0"},{"$f":"IF(ISNUMBER(SEARCH(\"2\",#REF!)),\"1\",\"0\")","v":"0"},{"$f":"IF(ISNUMBER(SEARCH(\"3\",#REF!)),\"1\",\"0\")","v":"0"},{"$f":"IF(ISNUMBER(SEARCH(\"4\",#REF!)),\"1\",\"0\")","v":"0"},{"$f":"IF(ISNUMBER(SEARCH(\"5\",#REF!)),\"1\",\"0\")","v":"0"},{"$f":"IF(ISNUMBER(SEARCH(\"6\",#REF!)),\"1\",\"0\")","v":"0"},{"$f":"IF(ISNUMBER(SEARCH(\"7\",#REF!)),\"1\",\"0\")","v":"0"},{"$f":"IF(ISNUMBER(SEARCH(\"8\",#REF!)),\"1\",\"0\")","v":"0"},{"$f":"IF(ISNUMBER(SEARCH(\"9\",#REF!)),\"1\",\"0\")","v":"0"},{"$f":"IF(ISNUMBER(SEARCH(\"9\",#REF!)),\"1\",\"0\")","v":"0"},{"$f":"IF(ISNUMBER(SEARCH(\"10\",#REF!)),\"1\",\"0\")","v":"0"},{"$f":"IF(ISNUMBER(SEARCH(\"11\",#REF!)),\"1\",\"0\")","v":"0"},{"$f":"IF(ISNUMBER(SEARCH(\"12\",#REF!)),\"1\",\"0\")","v":"0"},{"$f":"IF(ISNUMBER(SEARCH(\"13\",#REF!)),\"1\",\"0\")","v":"0"},{"$f":"IF(ISNUMBER(SEARCH(\"14\",#REF!)),\"1\",\"0\")","v":"0"},{"$f":"IF(ISNUMBER(SEARCH(\"15\",#REF!)),\"1\",\"0\")","v":"0"},{"$f":"IF(ISNUMBER(SEARCH(\"16\",#REF!)),\"1\",\"0\")","v":"0"},{"$f":"IF(ISNUMBER(SEARCH(\"17\",#REF!)),\"1\",\"0\")","v":"0"},1,{"$nulls":3},12,10,14,36,12,null,2,0,2,4,null,14,7,null,{"$f":"#REF!-#REF!","v":{"$error":"#REF!"}},{"$f":"#REF!-#REF!","v":{"$error":"#REF!"}}]
[2,22,1,"OW",1,35,null,2,3,1,8,5,2,1,"1","0","0","0","0","0","0","0","0","0","0","0","0","0","0","0","0","0",null,null,1,5,2,{"$f":"IF(ISNUMBER(SEARCH(\"1\",#REF!)),\"1\",\"0\")","v":"0"},{"$f":"IF(ISNUMBER(SEARCH(\"2\",#REF!)),\"1\",\"0\")","v":"0"},{"$f":"IF(ISNUMBER(SEARCH(\"3\",#REF!)),\"1\",\"0\")","v":"0"},{"$f":"IF(ISNUMBER(SEARCH(\"4\",#REF!)),\"1\",\"0\")","v":"0"},{"$f":"IF(ISNUMBER(SEARCH(\"5\",#REF!)),\"1\",\"0\")","v":"0"},{"$f":"IF(ISNUMBER(SEARCH(\"6\",#REF!)),\"1\",\"0\")","v":"0"},{"$f":"IF(ISNUMBER(SEARCH(\"7\",#REF!)),\"1\",\"0\")","v":"0"},{"$f":"IF(ISNUMBER(SEARCH(\"8\",#REF!)),\"1\",\"0\")","v":"0"},{"$f":"IF(ISNUMBER(SEARCH(\"9\",#REF!)),\"1\",\"0\")","v":"0"},{"$f":"IF(ISNUMBER(SEARCH(\"9\",#REF!)),\"1\",\"0\")","v":"0"},{"$f":"IF(ISNUMBER(SEARCH(\"10\",#REF!)),\"1\",\"0\")","v":"0"},{"$f":"IF(ISNUMBER(SEARCH(\"11\",#REF!)),\"1\",\"0\")","v":"0"},{"$f":"IF(ISNUMBER(SEARCH(\"12\",#REF!)),\"1\",\"0\")","v":"0"},{"$f":"IF(ISNUMBER(SEARCH(\"13\",#REF!)),\"1\",\"0\")","v":"0"},{"$f":"IF(ISNUMBER(SEARCH(\"14\",#REF!)),\"1\",\"0\")","v":"0"},{"$f":"IF(ISNUMBER(SEARCH(\"15\",#REF!)),\"1\",\"0\")","v":"0"},{"$f":"IF(ISNUMBER(SEARCH(\"16\",#REF!)),\"1\",\"0\")","v":"0"},{"$f":"IF(ISNUMBER(SEARCH(\"17\",#REF!)),\"1\",\"0\")","v":"0"},{"$nulls":4},2,12,8,22,6,null,2,10,8,20,null,14,5,null,{"$f":"#REF!-#REF!","v":{"$error":"#REF!"}},{"$f":"#REF!-#REF!","v":{"$error":"#REF!"}}]
[2,22,1,"WK",2,31,null,1,3,1,6,5,2,3,"0","0","1","0","0","0","0","0","0","0","0","0","0","0","0","0","0","0",null,null,2,4,1,{"$f":"IF(ISNUMBER(SEARCH(\"1\",#REF!)),\"1\",\"0\")","v":"0"},{"$f":"IF(ISNUMBER(SEARCH(\"2\",#REF!)),\"1\",\"0\")","v":"0"},{"$f":"IF(ISNUMBER(SEARCH(\"3\",#REF!)),\"1\",\"0\")","v":"0"},{"$f":"IF(ISNUMBER(SEARCH(\"4\",#REF!)),\"1\",\"0\")","v":"0"},{"$f":"IF(ISNUMBER(SEARCH(\"5\",#REF!)),\"1\",\"0\")","v":"0"},{"$f":"IF(ISNUMBER(SEARCH(\"6\",#REF!)),\"1\",\"0\")","v":"0"},{"$f":"IF(ISNUMBER(SEARCH(\"7\",#REF!)),\"1\",\"0\")","v":"0"},{"$f":"IF(ISNUMBER(SEARCH(\"8\",#REF!)),\"1\",\"0\")","v":"0"},{"$f":"IF(ISNUMBER(SEARCH(\"9\",#REF!)),\"1\",\"0\")","v":"0"},{"$f":"IF(ISNUMBER(SEARCH(\"9\",#REF!)),\"1\",\"0\")","v":"0"},{"$f":"IF(ISNUMBER(SEARCH(\"10\",#REF!)),\"1\",\"0\")","v":"0"},{"$f":"IF(ISNUMBER(SEARCH(\"11\",#REF!)),\"1\",\"0\")","v":"0"},{"$f":"IF(ISNUMBER(SEARCH(\"12\",#REF!)),\"1\",\"0\")","v":"0"},{"$f":"IF(ISNUMBER(SEARCH(\"13\",#REF!)),\"1\",\"0\")","v":"0"},{"$f":"IF(ISNUMBER(SEARCH(\"14\",#REF!)),\"1\",\"0\")","v":"0"},{"$f":"IF(ISNUMBER(SEARCH(\"15\",#REF!)),\"1\",\"0\")","v":"0"},{"$f":"IF(ISNUMBER(SEARCH(\"16\",#REF!)),\"1\",\"0\")","v":"0"},{"$f":"IF(ISNUMBER(SEARCH(\"17\",#REF!)),\"1\",\"0\")","v":"0"},5,{"$nulls":3},20,18,10,48,8,{"$nulls":6},14,6,null,{"$f":"#REF!-#REF!","v":{"$error":"#REF!"}}]
[2,22,1,"OW",2,20,null,1,3,2,3,3,2,3,"0","0","1","0","0","0","0","0","0","0","0","0","0","0","0","0","0","0",null,null,1,5,1,{"$f":"IF(ISNUMBER(SEARCH(\"1\",#REF!)),\"1\",\"0\")","v":"0"},{"$f":"IF(ISNUMBER(SEARCH(\"2\",#REF!)),\"1\",\"0\")","v":"0"},{"$f":"IF(ISNUMBER(SEARCH(\"3\",#REF!)),\"1\",\"0\")","v":"0"},{"$f":"IF(ISNUMBER(SEARCH(\"4\",#REF!)),\"1\",\"0\")","v":"0"},{"$f":"IF(ISNUMBER(SEARCH(\"5\",#REF!)),\"1\",\"0\")","v":"0"},{"$f":"IF(ISNUMBER(SEARCH(\"6\",#REF!)),\"1\",\"0\")","v":"0"},{"$f":"IF(ISNUMBER(SEARCH(\"7\",#REF!)),\"1\",\"0\")","v":"0"},{"$f":"IF(ISNUMBER(SEARCH(\"8\",#REF!)),\"1\",\"0\")","v":"0"},{"$f":"IF(ISNUMBER(SEARCH(\"9\",#REF!)),\"1\",\"0\")","v":"0"},{"$f":"IF(ISNUMBER(SEARCH(\"9\",#REF!)),\"1\",\"0\")","v":"0"},{"$f":"IF(ISNUMBER(SEARCH(\"10\",#REF!)),\"1\",\"0\")","v":"0"},{"$f":"IF(ISNUMBER(SEARCH(\"11\",#REF!)),\"1\",\"0\")","v":"0"},{"$f":"IF(ISNUMBER(SEARCH(\"12\",#REF!)),\"1\",\"0\")","v":"0"},{"$f":"IF(ISNUMBER(SEARCH(\"13\",#REF!)),\"1\",\"0\")","v":"0"},{"$f":"IF(ISNUMBER(SEARCH(\"14\",#REF!)),\"1\",\"0\")","v":"0"},{"$f":"IF(ISNUMBER(SEARCH(\"15\",#REF!)),\"1\",\"0\")","v":"0"},{"$f":"IF(ISNUMBER(SEARCH(\"16\",#REF!)),\"1\",\"0\")","v":"0"},{"$f":"IF(ISNUMBER(SEARCH(\"17\",#REF!)),\"1\",\"0\")","v":"0"},5,{"$nulls":3},26,24,12,62,10,null,8,10,8,26,null,14,7,null,{"$f":"#REF!-#REF!","v":{"$error":"#REF!"}},{"$f":"#REF!-#REF!","v":{"$error":"#REF!"}}]
[2,22,1,"OW",1,36,null,3,2,2,7,4,2,1,"1","0","0","0","0","0","0","0","0","0","0","0","0","0","0","0","0","0",null,null,1,5,2,{"$f":"IF(ISNUMBER(SEARCH(\"1\",#REF!)),\"1\",\"0\")","v":"0"},0,{"$f":"IF(ISNUMBER(SEARCH(\"3\",#REF!)),\"1\",\"0\")","v":"0"},{"$f":"IF(ISNUMBER(SEARCH(\"4\",#REF!)),\"1\",\"0\")","v":"0"},{"$f":"IF(ISNUMBER(SEARCH(\"5\",#REF!)),\"1\",\"0\")","v":"0"},{"$f":"IF(ISNUMBER(SEARCH(\"6\",#REF!)),\"1\",\"0\")","v":"0"},{"$f":"IF(ISNUMBER(SEARCH(\"7\",#REF!)),\"1\",\"0\")","v":"0"},{"$f":"IF(ISNUMBER(SEARCH(\"8\",#REF!)),\"1\",\"0\")","v":"0"},{"$f":"IF(ISNUMBER(SEARCH(\"9\",#REF!)),\"1\",\"0\")","v":"0"},{"$f":"IF(ISNUMBER(SEARCH(\"9\",#REF!)),\"1\",\"0\")","v":"0"},{"$f":"IF(ISNUMBER(SEARCH(\"10\",#REF!)),\"1\",\"0\")","v":"0"},{"$f":"IF(ISNUMBER(SEARCH(\"11\",#REF!)),\"1\",\"0\")","v":"0"},{"$f":"IF(ISNUMBER(SEARCH(\"12\",#REF!)),\"1\",\"0\")","v":"0"},{"$f":"IF(ISNUMBER(SEARCH(\"13\",#REF!)),\"1\",\"0\")","v":"0"},{"$f":"IF(ISNUMBER(SEARCH(\"14\",#REF!)),\"1\",\"0\")","v":"0"},{"$f":"IF(ISNUMBER(SEARCH(\"15\",#REF!)),\"1\",\"0\")","v":"0"},{"$f":"IF(ISNUMBER(SEARCH(\"16\",#REF!)),\"1\",\"0\")","v":"0"},{"$f":"IF(ISNUMBER(SEARCH(\"17\",#REF!)),\"1\",\"0\")","v":"0"},{"$nulls":4},8,6,0,14,5,null,2,0,2,4,null,14,5,null,{"$f":"#REF!-#REF!","v":{"$error":"#REF!"}},{"$f":"#REF!-#REF!","v":{"$error":"#REF!"}}]
[2,22,1,"MN",2,60,null,1,3,2,5,1,6,3,"0","0","1","0","0","0","0","0","0","0","0","0","0","0","0","0","0","0",null,null,5,5,2,{"$f":"IF(ISNUMBER(SEARCH(\"1\",#REF!)),\"1\",\"0\")","v":"0"},{"$f":"IF(ISNUMBER(SEARCH(\"2\",#REF!)),\"1\",\"0\")","v":"0"},{"$f":"IF(ISNUMBER(SEARCH(\"3\",#REF!)),\"1\",\"0\")","v":"0"},{"$f":"IF(ISNUMBER(SEARCH(\"4\",#REF!)),\"1\",\"0\")","v":"0"},{"$f":"IF(ISNUMBER(SEARCH(\"5\",#REF!)),\"1\",\"0\")","v":"0"},{"$f":"IF(ISNUMBER(SEARCH(\"6\",#REF!)),\"1\",\"0\")","v":"0"},{"$f":"IF(ISNUMBER(SEARCH(\"7\",#REF!)),\"1\",\"0\")","v":"0"},{"$f":"IF(ISNUMBER(SEARCH(\"8\",#REF!)),\"1\",\"0\")","v":"0"},{"$f":"IF(ISNUMBER(SEARCH(\"9\",#REF!)),\"1\",\"0\")","v":"0"},{"$f":"IF(ISNUMBER(SEARCH(\"9\",#REF!)),\"1\",\"0\")","v":"0"},{"$f":"IF(ISNUMBER(SEARCH(\"10\",#REF!)),\"1\",\"0\")","v":"0"},{"$f":"IF(ISNUMBER(SEARCH(\"11\",#REF!)),\"1\",\"0\")","v":"0"},{"$f":"IF(ISNUMBER(SEARCH(\"12\",#REF!)),\"1\",\"0\")","v":"0"},{"$f":"IF(ISNUMBER(SEARCH(\"13\",#REF!)),\"1\",\"0\")","v":"0"},{"$f":"IF(ISNUMBER(SEARCH(\"14\",#REF!)),\"1\",\"0\")","v":"0"},{"$f":"IF(ISNUMBER(SEARCH(\"15\",#REF!)),\"1\",\"0\")","v":"0"},{"$f":"IF(ISNUMBER(SEARCH(\"16\",#REF!)),\"1\",\"0\")","v":"0"},{"$f":"IF(ISNUMBER(SEARCH(\"17\",#REF!)),\"1\",\"0\")","v":"0"},2,{"$nulls":3},22,12,10,44,8,null,2,0,2,4,null,14,5,null,{"$f":"#REF!-#REF!","v":{"$error":"#REF!"}},{"$f":"#REF!-#REF!","v":{"$error":"#REF!"}}]
[2,22,1,"MN",2,65,null,1,3,2,7,3,2,3,"0","0","1","0","0","0","0","0","0","0","0","0","0","0","0","0","0","0",null,null,1,5,2,{"$f":"IF(ISNUMBER(SEARCH(\"1\",#REF!)),\"1\",\"0\")","v":"0"},{"$f":"IF(ISNUMBER(SEARCH(\"2\",#REF!)),\"1\",\"0\")","v":"0"},{"$f":"IF(ISNUMBER(SEARCH(\"3\",#REF!)),\"1\",\"0\")","v":"0"},{"$f":"IF(ISNUMBER(SEARCH(\"4\",#REF!)),\"1\",\"0\")","v":"0"},{"$f":"IF(ISNUMBER(SEARCH(\"5\",#REF!)),\"1\",\"0\")","v":"0"},{"$f":"IF(ISNUMBER(SEARCH(\"6\",#REF!)),\"1\",\"0\")","v":"0"},{"$f":"IF(ISNUMBER(SEARCH(\"7\",#REF!)),\"1\",\"0\")","v":"0"},{"$f":"IF(ISNUMBER(SEARCH(\"8\",#REF!)),\"1\",\"0\")","v":"0"},{"$f":"IF(ISNUMBER(SEARCH(\"9\",#REF!)),\"1\",\"0\")","v":"0"},{"$f":"IF(ISNUMBER(SEARCH(\"9\",#REF!)),\"1\",\"0\")","v":"0"},{"$f":"IF(ISNUMBER(SEARCH(\"10\",#REF!)),\"1\",\"0\")","v":"0"},{"$f":"IF(ISNUMBER(SEARCH(\"11\",#REF!)),\"1\",\"0\")","v":"0"},{"$f":"IF(ISNUMBER(SEARCH(\"12\",#REF!)),\"1\",\"0\")","v":"0"},{"$f":"IF(ISNUMBER(SEARCH(\"13\",#REF!)),\"1\",\"0\")","v":"0"},{"$f":"IF(ISNUMBER(SEARCH(\"14\",#REF!)),\"1\",\"0\")","v":"0"},{"$f":"IF(ISNUMBER(SEARCH(\"15\",#REF!)),\"1\",\"0\")","v":"0"},{"$f":"IF(ISNUMBER(SEARCH(\"16\",#REF!)),\"1\",\"0\")","v":"0"},{"$f":"IF(ISNUMBER(SEARCH(\"17\",#REF!)),\"1\",\"0\")","v":"0"},3,{"$nulls":3},6,4,0,10,7,null,12,6,4,22,null,12,null,null,{"$f":"#REF!-#REF!","v":{"$error":"#REF!"}},{"$f":"#REF!-#REF!","v":{"$error":"#REF!"}}]
[2,22,1,"WK",2,27,null,2,3,1,4,5,2,"4. Tentative de Viol","0","0","0","1","0","0","0","0","0","0","0","0","0","0","0","0","0","0",null,null,2,5,1,{"$f":"IF(ISNUMBER(SEARCH(\"1\",#REF!)),\"1\",\"0\")","v":"0"},0,{"$f":"IF(ISNUMBER(SEARCH(\"3\",#REF!)),\"1\",\"0\")","v":"0"},{"$f":"IF(ISNUMBER(SEARCH(\"4\",#REF!)),\"1\",\"0\")","v":"0"},{"$f":"IF(ISNUMBER(SEARCH(\"5\",#REF!)),\"1\",\"0\")","v":"0"},{"$f":"IF(ISNUMBER(SEARCH(\"6\",#REF!)),\"1\",\"0\")","v":"0"},{"$f":"IF(ISNUMBER(SEARCH(\"7\",#REF!)),\"1\",\"0\")","v":"0"},{"$f":"IF(ISNUMBER(SEARCH(\"8\",#REF!)),\"1\",\"0\")","v":"0"},{"$f":"IF(ISNUMBER(SEARCH(\"9\",#REF!)),\"1\",\"0\")","v":"0"},{"$f":"IF(ISNUMBER(SEARCH(\"9\",#REF!)),\"1\",\"0\")","v":"0"},{"$f":"IF(ISNUMBER(SEARCH(\"10\",#REF!)),\"1\",\"0\")","v":"0"},{"$f":"IF(ISNUMBER(SEARCH(\"11\",#REF!)),\"1\",\"0\")","v":"0"},{"$f":"IF(ISNUMBER(SEARCH(\"12\",#REF!)),\"1\",\"0\")","v":"0"},{"$f":"IF(ISNUMBER(SEARCH(\"13\",#REF!)),\"1\",\"0\")","v":"0"},{"$f":"IF(ISNUMBER(SEARCH(\"14\",#REF!)),\"1\",\"0\")","v":"0"},{"$f":"IF(ISNUMBER(SEARCH(\"15\",#REF!)),\"1\",\"0\")","v":"0"},{"$f":"IF(ISNUMBER(SEARCH(\"16\",#REF!)),\"1\",\"0\")","v":"0"},{"$f":"IF(ISNUMBER(SEARCH(\"17\",#REF!)),\"1\",\"0\")","v":"0"},3,{"$nulls":3},10,14,8,32,9,null,4,0,4,8,null,14,5,null,{"$f":"#REF!-#REF!","v":{"$error":"#REF!"}},{"$f":"#REF!-#REF!","v":{"$error":"#REF!"}}]
[2,22,1,"OW",1,36,null,1,3,1,5,3,2,1,"1","0","0","0","0","0","0","0","0","0","0","0","0","0","0","0","0","0",null,null,1,5,2,{"$f":"IF(ISNUMBER(SEARCH(\"1\",#REF!)),\"1\",\"0\")","v":"0"},{"$f":"IF(ISNUMBER(SEARCH(\"2\",#REF!)),\"1\",\"0\")","v":"0"},{"$f":"IF(ISNUMBER(SEARCH(\"3\",#REF!)),\"1\",\"0\")","v":"0"},{"$f":"IF(ISNUMBER(SEARCH(\"4\",#REF!)),\"1\",\"0\")","v":"0"},{"$f":"IF(ISNUMBER(SEARCH(\"5\",#REF!)),\"1\",\"0\")","v":"0"},{"$f":"IF(ISNUMBER(SEARCH(\"6\",#REF!)),\"1\",\"0\")","v":"0"},{"$f":"IF(ISNUMBER(SEARCH(\"7\",#REF!)),\"1\",\"0\")","v":"0"},{"$f":"IF(ISNUMBER(SEARCH(\"8\",#REF!)),\"1\",\"0\")","v":"0"},{"$f":"IF(ISNUMBER(SEARCH(\"9\",#REF!)),\"1\",\"0\")","v":"0"},{"$f":"IF(ISNUMBER(SEARCH(\"9\",#REF!)),\"1\",\"0\")","v":"0"},{"$f":"IF(ISNUMBER(SEARCH(\"10\",#REF!)),\"1\",\"0\")","v":"0"},{"$f":"IF(ISNUMBER(SEARCH(\"11\",#REF!)),\"1\",\"0\")","v":"0"},{"$f":"IF(ISNUMBER(SEARCH(\"12\",#REF!)),\"1\",\"0\")","v":"0"},{"$f":"IF(ISNUMBER(SEARCH(\"13\",#REF!)),\"1\",\"0\")","v":"0"},{"$f":"IF(ISNUMBER(SEARCH(\"14\",#REF!)),\"1\",\"0\")","v":"0"},{"$f":"IF(ISNUMBER(SEARCH(\"15\",#REF!)),\"1\",\"0\")","v":"0"},{"$f":"IF(ISNUMBER(SEARCH(\"16\",#REF!)),\"1\",\"0\")","v":"0"},{"$f":"IF(ISNUMBER(SEARCH(\"17\",#REF!)),\"1\",\"0\")","v":"0"},{"$nulls":4},26,22,26,74,3,null,22,8,10,40,null,14,7,null,{"$f":"#REF!-#REF!","v":{"$error":"#REF!"}},{"$f":"#REF!-#REF!","v":{"$error":"#REF!"}}]
[2,22,1,"OW",2,20,null,1,3,1,2,4,2,3,"0","0","1","0","0","0","0","0","0","0","0","0","0","0","0","0","0","0",null,null,2,5,2,{"$f":"IF(ISNUMBER(SEARCH(\"1\",#REF!)),\"1\",\"0\")","v":"0"},{"$f":"IF(ISNUMBER(SEARCH(\"2\",#REF!)),\"1\",\"0\")","v":"0"},{"$f":"IF(ISNUMBER(SEARCH(\"3\",#REF!)),\"1\",\"0\")","v":"0"},{"$f":"IF(ISNUMBER(SEARCH(\"4\",#REF!)),\"1\",\"0\")","v":"0"},{"$f":"IF(ISNUMBER(SEARCH(\"5\",#REF!)),\"1\",\"0\")","v":"0"},{"$f":"IF(ISNUMBER(SEARCH(\"6\",#REF!)),\"1\",\"0\")","v":"0"},{"$f":"IF(ISNUMBER(SEARCH(\"7\",#REF!)),\"1\",\"0\")","v":"0"},{"$f":"IF(ISNUMBER(SEARCH(\"8\",#REF!)),\"1\",\"0\")","v":"0"},{"$f":"IF(ISNUMBER(SEARCH(\"9\",#REF!)),\"1\",\"0\")","v":"0"},{"$f":"IF(ISNUMBER(SEARCH(\"9\",#REF!)),\"1\",\"0\")","v":"0"},{"$f":"IF(ISNUMBER(SEARCH(\"10\",#REF!)),\"1\",\"0\")","v":"0"},{"$f":"IF(ISNUMBER(SEARCH(\"11\",#REF!)),\"1\",\"0\")","v":"0"},{"$f":"IF(ISNUMBER(SEARCH(\"12\",#REF!)),\"1\",\"0\")","v":"0"},{"$f":"IF(ISNUMBER(SEARCH(\"13\",#REF!)),\"1\",\"0\")","v":"0"},{"$f":"IF(ISNUMBER(SEARCH(\"14\",#REF!)),\"1\",\"0\")","v":"0"},{"$f":"IF(ISNUMBER(SEARCH(\"15\",#REF!)),\"1\",\"0\")","v":"0"},{"$f":"IF(ISNUMBER(SEARCH(\"16\",#REF!)),\"1\",\"0\")","v":"0"},{"$f":"IF(ISNUMBER(SEARCH(\"17\",#REF!)),\"1\",\"0\")","v":"0"},1,{"$nulls":3},34,24,22,80,6,{"$nulls":6},14,5,null,{"$f":"#REF!-#REF!","v":{"$error":"#REF!"}}]
[2,22,1,"OW",2,20,null,1,3,2,2,5,2,3,"0","0","1","0","0","0","0","0","0","0","0","0","0","0","0","0","0","0",null,null,1,5,2,{"$f":"IF(ISNUMBER(SEARCH(\"1\",#REF!)),\"1\",\"0\")","v":"0"},{"$f":"IF(ISNUMBER(SEARCH(\"2\",#REF!)),\"1\",\"0\")","v":"0"},{"$f":"IF(ISNUMBER(SEARCH(\"3\",#REF!)),\"1\",\"0\")","v":"0"},{"$f":"IF(ISNUMBER(SEARCH(\"4\",#REF!)),\"1\",\"0\")","v":"0"},{"$f":"IF(ISNUMBER(SEARCH(\"5\",#REF!)),\"1\",\"0\")","v":"0"},{"$f":"IF(ISNUMBER(SEARCH(\"6\",#REF!)),\"1\",\"0\")","v":"0"},{"$f":"IF(ISNUMBER(SEARCH(\"7\",#REF!)),\"1\",\"0\")","v":"0"},{"$f":"IF(ISNUMBER(SEARCH(\"8\",#REF!)),\"1\",\"0\")","v":"0"},{"$f":"IF(ISNUMBER(SEARCH(\"9\",#REF!)),\"1\",\"0\")","v":"0"},{"$f":"IF(ISNUMBER(SEARCH(\"9\",#REF!)),\"1\",\"0\")","v":"0"},{"$f":"IF(ISNUMBER(SEARCH(\"10\",#REF!)),\"1\",\"0\")","v":"0"},{"$f":"IF(ISNUMBER(SEARCH(\"11\",#REF!)),\"1\",\"0\")","v":"0"},{"$f":"IF(ISNUMBER(SEARCH(\"12\",#REF!)),\"1\",\"0\")","v":"0"},{"$f":"IF(ISNUMBER(SEARCH(\"13\",#REF!)),\"1\",\"0\")","v":"0"},{"$f":"IF(ISNUMBER(SEARCH(\"14\",#REF!)),\"1\",\"0\")","v":"0"},{"$f":"IF(ISNUMBER(SEARCH(\"15\",#REF!)),\"1\",\"0\")","v":"0"},{"$f":"IF(ISNUMBER(SEARCH(\"16\",#REF!)),\"1\",\"0\")","v":"0"},{"$f":"IF(ISNUMBER(SEARCH(\"17\",#REF!)),\"1\",\"0\")","v":"0"},1,{"$nulls":3},8,12,22,42,7,null,2,2,2,6,null,14,5,null,{"$f":"#REF!-#REF!","v":{"$error":"#REF!"}},{"$f":"#REF!-#REF!","v":{"$error":"#REF!"}}]
[2,22,1,"MN",2,26,null,1,3,1,2,1,null,3,"0","0","1","0","0","0","0","0","0","0","0","0","0","0","0","0","0","0",{"$nulls":3},5,2,{"$f":"IF(ISNUMBER(SEARCH(\"1\",#REF!)),\"1\",\"0\")","v":"0"},{"$f":"IF(ISNUMBER(SEARCH(\"2\",#REF!)),\"1\",\"0\")","v":"0"},{"$f":"IF(ISNUMBER(SEARCH(\"3\",#REF!)),\"1\",\"0\")","v":"0"},{"$f":"IF(ISNUMBER(SEARCH(\"4\",#REF!)),\"1\",\"0\")","v":"0"},{"$f":"IF(ISNUMBER(SEARCH(\"5\",#REF!)),\"1\",\"0\")","v":"0"},{"$f":"IF(ISNUMBER(SEARCH(\"6\",#REF!)),\"1\",\"0\")","v":"0"},{"$f":"IF(ISNUMBER(SEARCH(\"7\",#REF!)),\"1\",\"0\")","v":"0"},{"$f":"IF(ISNUMBER(SEARCH(\"8\",#REF!)),\"1\",\"0\")","v":"0"},{"$f":"IF(ISNUMBER(SEARCH(\"9\",#REF!)),\"1\",\"0\")","v":"0"},{"$f":"IF(ISNUMBER(SEARCH(\"9\",#REF!)),\"1\",\"0\")","v":"0"},{"$f":"IF(ISNUMBER(SEARCH(\"10\",#REF!)),\"1\",\"0\")","v":"0"},{"$f":"IF(ISNUMBER(SEARCH(\"11\",#REF!)),\"1\",\"0\")","v":"0"},{"$f":"IF(ISNUMBER(SEARCH(\"12\",#REF!)),\"1\",\"0\")","v":"0"},{"$f":"IF(ISNUMBER(SEARCH(\"13\",#REF!)),\"1\",\"0\")","v":"0"},{"$f":"IF(ISNUMBER(SEARCH(\"14\",#REF!)),\"1\",\"0\")","v":"0"},{"$f":"IF(ISNUMBER(SEARCH(\"15\",#REF!)),\"1\",\"0\")","v":"0"},{"$f":"IF(ISNUMBER(SEARCH(\"16\",#REF!)),\"1\",\"0\")","v":"0"},{"$f":"IF(ISNUMBER(SEARCH(\"17\",#REF!)),\"1\",\"0\")","v":"0"},4,{"$nulls":3},4,10,12,26,4,null,4,8,12,24,null,8,3,null,{"$f":"#REF!-#REF!","v":{"$error":"#REF!"}},{"$f":"#REF!-#REF!","v":{"$error":"#REF!"}}]
[2,22,1,"WK",2,26,null,2,3,1,4,5,2,3,"0","0","1","0","0","0","0","0","0","0","0","0","0","0","0","0","0","0",null,null,2,5,1,{"$f":"IF(ISNUMBER(SEARCH(\"1\",#REF!)),\"1\",\"0\")","v":"0"},{"$f":"IF(ISNUMBER(SEARCH(\"2\",#REF!)),\"1\",\"0\")","v":"0"},{"$f":"IF(ISNUMBER(SEARCH(\"3\",#REF!)),\"1\",\"0\")","v":"0"},{"$f":"IF(ISNUMBER(SEARCH(\"4\",#REF!)),\"1\",\"0\")","v":"0"},{"$f":"IF(ISNUMBER(SEARCH(\"5\",#REF!)),\"1\",\"0\")","v":"0"},{"$f":"IF(ISNUMBER(SEARCH(\"6\",#REF!)),\"1\",\"0\")","v":"0"},{"$f":"IF(ISNUMBER(SEARCH(\"7\",#REF!)),\"1\",\"0\")","v":"0"},{"$f":"IF(ISNUMBER(SEARCH(\"8\",#REF!)),\"1\",\"0\")","v":"0"},{"$f":"IF(ISNUMBER(SEARCH(\"9\",#REF!)),\"1\",\"0\")","v":"0"},{"$f":"IF(ISNUMBER(SEARCH(\"9\",#REF!)),\"1\",\"0\")","v":"0"},{"$f":"IF(ISNUMBER(SEARCH(\"10\",#REF!)),\"1\",\"0\")","v":"0"},{"$f":"IF(ISNUMBER(SEARCH(\"11\",#REF!)),\"1\",\"0\")","v":"0"},{"$f":"IF(ISNUMBER(SEARCH(\"12\",#REF!)),\"1\",\"0\")","v":"0"},{"$f":"IF(ISNUMBER(SEARCH(\"13\",#REF!)),\"1\",\"0\")","v":"0"},{"$f":"IF(ISNUMBER(SEARCH(\"14\",#REF!)),\"1\",\"0\")","v":"0"},{"$f":"IF(ISNUMBER(SEARCH(\"15\",#REF!)),\"1\",\"0\")","v":"0"},{"$f":"IF(ISNUMBER(SEARCH(\"16\",#REF!)),\"1\",\"0\")","v":"0"},{"$f":"IF(ISNUMBER(SEARCH(\"17\",#REF!)),\"1\",\"0\")","v":"0"},4,{"$nulls":3},14,12,16,42,9,null,18,14,10,42,null,13,4,null,{"$f":"#REF!-#REF!","v":{"$error":"#REF!"}},{"$f":"#REF!-#REF!","v":{"$error":"#REF!"}}]
[2,22,1,"OW",2,37,null,1,3,2,4,3,2,3,"0","0","1","0","0","0","0","0","0","0","0","0","0","0","0","0","0","0",null,null,2,4,2,{"$f":"IF(ISNUMBER(SEARCH(\"1\",#REF!)),\"1\",\"0\")","v":"0"},{"$f":"IF(ISNUMBER(SEARCH(\"2\",#REF!)),\"1\",\"0\")","v":"0"},{"$f":"IF(ISNUMBER(SEARCH(\"3\",#REF!)),\"1\",\"0\")","v":"0"},{"$f":"IF(ISNUMBER(SEARCH(\"4\",#REF!)),\"1\",\"0\")","v":"0"},{"$f":"IF(ISNUMBER(SEARCH(\"5\",#REF!)),\"1\",\"0\")","v":"0"},{"$f":"IF(ISNUMBER(SEARCH(\"6\",#REF!)),\"1\",\"0\")","v":"0"},{"$f":"IF(ISNUMBER(SEARCH(\"7\",#REF!)),\"1\",\"0\")","v":"0"},{"$f":"IF(ISNUMBER(SEARCH(\"8\",#REF!)),\"1\",\"0\")","v":"0"},{"$f":"IF(ISNUMBER(SEARCH(\"9\",#REF!)),\"1\",\"0\")","v":"0"},{"$f":"IF(ISNUMBER(SEARCH(\"9\",#REF!)),\"1\",\"0\")","v":"0"},{"$f":"IF(ISNUMBER(SEARCH(\"10\",#REF!)),\"1\",\"0\")","v":"0"},{"$f":"IF(ISNUMBER(SEARCH(\"11\",#REF!)),\"1\",\"0\")","v":"0"},{"$f":"IF(ISNUMBER(SEARCH(\"12\",#REF!)),\"1\",\"0\")","v":"0"},{"$f":"IF(ISNUMBER(SEARCH(\"13\",#REF!)),\"1\",\"0\")","v":"0"},{"$f":"IF(ISNUMBER(SEARCH(\"14\",#REF!)),\"1\",\"0\")","v":"0"},{"$f":"IF(ISNUMBER(SEARCH(\"15\",#REF!)),\"1\",\"0\")","v":"0"},{"$f":"IF(ISNUMBER(SEARCH(\"16\",#REF!)),\"1\",\"0\")","v":"0"},{"$f":"IF(ISNUMBER(SEARCH(\"17\",#REF!)),\"1\",\"0\")","v":"0"},1,{"$nulls":3},6,10,12,28,3,null,2,6,12,20,null,14,5,null,{"$f":"#REF!-#REF!","v":{"$error":"#REF!"}},{"$f":"#REF!-#REF!","v":{"$error":"#REF!"}}]
[2,22,1,"OW",2,34,null,1,3,1,7,5,2,1,"1","0","0","0","0","0","0","0","0","0","0","0","0","0","0","0","0","0",null,null,2,5,1,{"$f":"IF(ISNUMBER(SEARCH(\"1\",#REF!)),\"1\",\"0\")","v":"0"},{"$f":"IF(ISNUMBER(SEARCH(\"2\",#REF!)),\"1\",\"0\")","v":"0"},{"$f":"IF(ISNUMBER(SEARCH(\"3\",#REF!)),\"1\",\"0\")","v":"0"},{"$f":"IF(ISNUMBER(SEARCH(\"4\",#REF!)),\"1\",\"0\")","v":"0"},{"$f":"IF(ISNUMBER(SEARCH(\"5\",#REF!)),\"1\",\"0\")","v":"0"},{"$f":"IF(ISNUMBER(SEARCH(\"6\",#REF!)),\"1\",\"0\")","v":"0"},{"$f":"IF(ISNUMBER(SEARCH(\"7\",#REF!)),\"1\",\"0\")","v":"0"},{"$f":"IF(ISNUMBER(SEARCH(\"8\",#REF!)),\"1\",\"0\")","v":"0"},{"$f":"IF(ISNUMBER(SEARCH(\"9\",#REF!)),\"1\",\"0\")","v":"0"},{"$f":"IF(ISNUMBER(SEARCH(\"9\",#REF!)),\"1\",\"0\")","v":"0"},{"$f":"IF(ISNUMBER(SEARCH(\"10\",#REF!)),\"1\",\"0\")","v":"0"},{"$f":"IF(ISNUMBER(SEARCH(\"11\",#REF!)),\"1\",\"0\")","v":"0"},{"$f":"IF(ISNUMBER(SEARCH(\"12\",#REF!)),\"1\",\"0\")","v":"0"},{"$f":"IF(ISNUMBER(SEARCH(\"13\",#REF!)),\"1\",\"0\")","v":"0"},{"$f":"IF(ISNUMBER(SEARCH(\"14\",#REF!)),\"1\",\"0\")","v":"0"},{"$f":"IF(ISNUMBER(SEARCH(\"15\",#REF!)),\"1\",\"0\")","v":"0"},{"$f":"IF(ISNUMBER(SEARCH(\"16\",#REF!)),\"1\",\"0\")","v":"0"},{"$f":"IF(ISNUMBER(SEARCH(\"17\",#REF!)),\"1\",\"0\")","v":"0"},{"$nulls":4},22,16,28,66,7,null,8,0,4,12,null,14,3,null,{"$f":"#REF!-#REF!","v":{"$error":"#REF!"}},{"$f":"#REF!-#REF!","v":{"$error":"#REF!"}}]
[2,22,1,"MN",2,30,null,1,3,1,4,4,null,1,"1","0","0","0","0","0","0","0","0","0","0","0","0","0","0","0","0","0",{"$nulls":3},5,2,{"$f":"IF(ISNUMBER(SEARCH(\"1\",#REF!)),\"1\",\"0\")","v":"0"},{"$f":"IF(ISNUMBER(SEARCH(\"2\",#REF!)),\"1\",\"0\")","v":"0"},{"$f":"IF(ISNUMBER(SEARCH(\"3\",#REF!)),\"1\",\"0\")","v":"0"},{"$f":"IF(ISNUMBER(SEARCH(\"4\",#REF!)),\"1\",\"0\")","v":"0"},{"$f":"IF(ISNUMBER(SEARCH(\"5\",#REF!)),\"1\",\"0\")","v":"0"},{"$f":"IF(ISNUMBER(SEARCH(\"6\",#REF!)),\"1\",\"0\")","v":"0"},{"$f":"IF(ISNUMBER(SEARCH(\"7\",#REF!)),\"1\",\"0\")","v":"0"},{"$f":"IF(ISNUMBER(SEARCH(\"8\",#REF!)),\"1\",\"0\")","v":"0"},{"$f":"IF(ISNUMBER(SEARCH(\"9\",#REF!)),\"1\",\"0\")","v":"0"},{"$f":"IF(ISNUMBER(SEARCH(\"9\",#REF!)),\"1\",\"0\")","v":"0"},{"$f":"IF(ISNUMBER(SEARCH(\"10\",#REF!)),\"1\",\"0\")","v":"0"},{"$f":"IF(ISNUMBER(SEARCH(\"11\",#REF!)),\"1\",\"0\")","v":"0"},{"$f":"IF(ISNUMBER(SEARCH(\"12\",#REF!)),\"1\",\"0\")","v":"0"},{"$f":"IF(ISNUMBER(SEARCH(\"13\",#REF!)),\"1\",\"0\")","v":"0"},{"$f":"IF(ISNUMBER(SEARCH(\"14\",#REF!)),\"1\",\"0\")","v":"0"},{"$f":"IF(ISNUMBER(SEARCH(\"15\",#REF!)),\"1\",\"0\")","v":"0"},{"$f":"IF(ISNUMBER(SEARCH(\"16\",#REF!)),\"1\",\"0\")","v":"0"},{"$f":"IF(ISNUMBER(SEARCH(\"17\",#REF!)),\"1\",\"0\")","v":"0"},{"$nulls":4},30,12,20,62,4,{"$nulls":9},{"$f":"#REF!-#REF!","v":{"$error":"#REF!"}}]
[2,22,1,"WK",2,30,null,1,3,1,5,1,2,3,"0","0","1","0","0","0","0","0","0","0","0","0","0","0","0","0","0","0",null,null,1,5,2,{"$f":"IF(ISNUMBER(SEARCH(\"1\",#REF!)),\"1\",\"0\")","v":"0"},{"$f":"IF(ISNUMBER(SEARCH(\"2\",#REF!)),\"1\",\"0\")","v":"0"},{"$f":"IF(ISNUMBER(SEARCH(\"3\",#REF!)),\"1\",\"0\")","v":"0"},{"$f":"IF(ISNUMBER(SEARCH(\"4\",#REF!)),\"1\",\"0\")","v":"0"},{"$f":"IF(ISNUMBER(SEARCH(\"5\",#REF!)),\"1\",\"0\")","v":"0"},{"$f":"IF(ISNUMBER(SEARCH(\"6\",#REF!)),\"1\",\"0\")","v":"0"},{"$f":"IF(ISNUMBER(SEARCH(\"7\",#REF!)),\"1\",\"0\")","v":"0"},{"$f":"IF(ISNUMBER(SEARCH(\"8\",#REF!)),\"1\",\"0\")","v":"0"},{"$f":"IF(ISNUMBER(SEARCH(\"9\",#REF!)),\"1\",\"0\")","v":"0"},{"$f":"IF(ISNUMBER(SEARCH(\"9\",#REF!)),\"1\",\"0\")","v":"0"},{"$f":"IF(ISNUMBER(SEARCH(\"10\",#REF!)),\"1\",\"0\")","v":"0"},{"$f":"IF(ISNUMBER(SEARCH(\"11\",#REF!)),\"1\",\"0\")","v":"0"},{"$f":"IF(ISNUMBER(SEARCH(\"12\",#REF!)),\"1\",\"0\")","v":"0"},{"$f":"IF(ISNUMBER(SEARCH(\"13\",#REF!)),\"1\",\"0\")","v":"0"},{"$f":"IF(ISNUMBER(SEARCH(\"14\",#REF!)),\"1\",\"0\")","v":"0"},{"$f":"IF(ISNUMBER(SEARCH(\"15\",#REF!)),\"1\",\"0\")","v":"0"},{"$f":"IF(ISNUMBER(SEARCH(\"16\",#REF!)),\"1\",\"0\")","v":"0"},{"$f":"IF(ISNUMBER(SEARCH(\"17\",#REF!)),\"1\",\"0\")","v":"0"},5,{"$nulls":3},12,6,10,28,6,{"$nulls":6},13,3,null,{"$f":"#REF!-#REF!","v":{"$error":"#REF!"}},{"$f":"#REF!-#REF!","v":{"$error":"#REF!"}}]
[2,22,1,"WK",2,30,null,2,3,1,6,5,6,3,"0","0","1","0","0","0","0","0","0","0","0","0","0","0","0","0","0","0",null,null,2,5,1,{"$f":"IF(ISNUMBER(SEARCH(\"1\",#REF!)),\"1\",\"0\")","v":"0"},{"$f":"IF(ISNUMBER(SEARCH(\"2\",#REF!)),\"1\",\"0\")","v":"0"},{"$f":"IF(ISNUMBER(SEARCH(\"3\",#REF!)),\"1\",\"0\")","v":"0"},{"$f":"IF(ISNUMBER(SEARCH(\"4\",#REF!)),\"1\",\"0\")","v":"0"},{"$f":"IF(ISNUMBER(SEARCH(\"5\",#REF!)),\"1\",\"0\")","v":"0"},{"$f":"IF(ISNUMBER(SEARCH(\"6\",#REF!)),\"1\",\"0\")","v":"0"},{"$f":"IF(ISNUMBER(SEARCH(\"7\",#REF!)),\"1\",\"0\")","v":"0"},{"$f":"IF(ISNUMBER(SEARCH(\"8\",#REF!)),\"1\",\"0\")","v":"0"},{"$f":"IF(ISNUMBER(SEARCH(\"9\",#REF!)),\"1\",\"0\")","v":"0"},{"$f":"IF(ISNUMBER(SEARCH(\"9\",#REF!)),\"1\",\"0\")","v":"0"},{"$f":"IF(ISNUMBER(SEARCH(\"10\",#REF!)),\"1\",\"0\")","v":"0"},{"$f":"IF(ISNUMBER(SEARCH(\"11\",#REF!)),\"1\",\"0\")","v":"0"},{"$f":"IF(ISNUMBER(SEARCH(\"12\",#REF!)),\"1\",\"0\")","v":"0"},{"$f":"IF(ISNUMBER(SEARCH(\"13\",#REF!)),\"1\",\"0\")","v":"0"},{"$f":"IF(ISNUMBER(SEARCH(\"14\",#REF!)),\"1\",\"0\")","v":"0"},{"$f":"IF(ISNUMBER(SEARCH(\"15\",#REF!)),\"1\",\"0\")","v":"0"},{"$f":"IF(ISNUMBER(SEARCH(\"16\",#REF!)),\"1\",\"0\")","v":"0"},{"$f":"IF(ISNUMBER(SEARCH(\"17\",#REF!)),\"1\",\"0\")","v":"0"},1,{"$nulls":3},14,12,10,36,null,null,10,6,12,28,null,null,3,null,{"$f":"#REF!-#REF!","v":{"$error":"#REF!"}},{"$f":"#REF!-#REF!","v":{"$error":"#REF!"}}]
[2,22,1,"WK",2,25,null,2,3,1,3,5,2,3,"0","0","1","0","0","0","0","0","0","0","0","0","0","0","0","0","0","0",null,null,2,5,2,{"$f":"IF(ISNUMBER(SEARCH(\"1\",#REF!)),\"1\",\"0\")","v":"0"},{"$f":"IF(ISNUMBER(SEARCH(\"2\",#REF!)),\"1\",\"0\")","v":"0"},{"$f":"IF(ISNUMBER(SEARCH(\"3\",#REF!)),\"1\",\"0\")","v":"0"},{"$f":"IF(ISNUMBER(SEARCH(\"4\",#REF!)),\"1\",\"0\")","v":"0"},{"$f":"IF(ISNUMBER(SEARCH(\"5\",#REF!)),\"1\",\"0\")","v":"0"},{"$f":"IF(ISNUMBER(SEARCH(\"6\",#REF!)),\"1\",\"0\")","v":"0"},{"$f":"IF(ISNUMBER(SEARCH(\"7\",#REF!)),\"1\",\"0\")","v":"0"},{"$f":"IF(ISNUMBER(SEARCH(\"8\",#REF!)),\"1\",\"0\")","v":"0"},{"$f":"IF(ISNUMBER(SEARCH(\"9\",#REF!)),\"1\",\"0\")","v":"0"},{"$f":"IF(ISNUMBER(SEARCH(\"9\",#REF!)),\"1\",\"0\")","v":"0"},{"$f":"IF(ISNUMBER(SEARCH(\"10\",#REF!)),\"1\",\"0\")","v":"0"},{"$f":"IF(ISNUMBER(SEARCH(\"11\",#REF!)),\"1\",\"0\")","v":"0"},{"$f":"IF(ISNUMBER(SEARCH(\"12\",#REF!)),\"1\",\"0\")","v":"0"},{"$f":"IF(ISNUMBER(SEARCH(\"13\",#REF!)),\"1\",\"0\")","v":"0"},{"$f":"IF(ISNUMBER(SEARCH(\"14\",#REF!)),\"1\",\"0\")","v":"0"},{"$f":"IF(ISNUMBER(SEARCH(\"15\",#REF!)),\"1\",\"0\")","v":"0"},{"$f":"IF(ISNUMBER(SEARCH(\"16\",#REF!)),\"1\",\"0\")","v":"0"},{"$f":"IF(ISNUMBER(SEARCH(\"17\",#REF!)),\"1\",\"0\")","v":"0"},3,{"$nulls":3},20,18,20,58,12,{"$nulls":6},12,5,null,{"$f":"#REF!-#REF!","v":{"$error":"#REF!"}}]
[2,22,1,"OW",1,15,null,3,2,1,0,4,1,1,"1","0","0","0","0","0","0","0","0","0","0","0","0","0","0","0","0","0",null,null,4,5,2,{"$f":"IF(ISNUMBER(SEARCH(\"1\",#REF!)),\"1\",\"0\")","v":"0"},{"$f":"IF(ISNUMBER(SEARCH(\"2\",#REF!)),\"1\",\"0\")","v":"0"},{"$f":"IF(ISNUMBER(SEARCH(\"3\",#REF!)),\"1\",\"0\")","v":"0"},{"$f":"IF(ISNUMBER(SEARCH(\"4\",#REF!)),\"1\",\"0\")","v":"0"},{"$f":"IF(ISNUMBER(SEARCH(\"5\",#REF!)),\"1\",\"0\")","v":"0"},{"$f":"IF(ISNUMBER(SEARCH(\"6\",#REF!)),\"1\",\"0\")","v":"0"},{"$f":"IF(ISNUMBER(SEARCH(\"7\",#REF!)),\"1\",\"0\")","v":"0"},{"$f":"IF(ISNUMBER(SEARCH(\"8\",#REF!)),\"1\",\"0\")","v":"0"},{"$f":"IF(ISNUMBER(SEARCH(\"9\",#REF!)),\"1\",\"0\")","v":"0"},{"$f":"IF(ISNUMBER(SEARCH(\"9\",#REF!)),\"1\",\"0\")","v":"0"},{"$f":"IF(ISNUMBER(SEARCH(\"10\",#REF!)),\"1\",\"0\")","v":"0"},{"$f":"IF(ISNUMBER(SEARCH(\"11\",#REF!)),\"1\",\"0\")","v":"0"},{"$f":"IF(ISNUMBER(SEARCH(\"12\",#REF!)),\"1\",\"0\")","v":"0"},{"$f":"IF(ISNUMBER(SEARCH(\"13\",#REF!)),\"1\",\"0\")","v":"0"},{"$f":"IF(ISNUMBER(SEARCH(\"14\",#REF!)),\"1\",\"0\")","v":"0"},{"$f":"IF(ISNUMBER(SEARCH(\"15\",#REF!)),\"1\",\"0\")","v":"0"},{"$f":"IF(ISNUMBER(SEARCH(\"16\",#REF!)),\"1\",\"0\")","v":"0"},{"$f":"IF(ISNUMBER(SEARCH(\"17\",#REF!)),\"1\",\"0\")","v":"0"},{"$nulls":4},18,26,18,62,2,{"$nulls":9},{"$f":"#REF!-#REF!","v":{"$error":"#REF!"}}]
[2,22,1,"OW",1,13,null,3,2,1,0,4,1,1,"1","0","0","0","0","0","0","0","0","0","0","0","0","0","0","0","0","0",null,null,3,5,2,{"$f":"IF(ISNUMBER(SEARCH(\"1\",#REF!)),\"1\",\"0\")","v":"0"},{"$f":"IF(ISNUMBER(SEARCH(\"2\",#REF!)),\"1\",\"0\")","v":"0"},{"$f":"IF(ISNUMBER(SEARCH(\"3\",#REF!)),\"1\",\"0\")","v":"0"},{"$f":"IF(ISNUMBER(SEARCH(\"4\",#REF!)),\"1\",\"0\")","v":"0"},{"$f":"IF(ISNUMBER(SEARCH(\"5\",#REF!)),\"1\",\"0\")","v":"0"},{"$f":"IF(ISNUMBER(SEARCH(\"6\",#REF!)),\"1\",\"0\")","v":"0"},{"$f":"IF(ISNUMBER(SEARCH(\"7\",#REF!)),\"1\",\"0\")","v":"0"},{"$f":"IF(ISNUMBER(SEARCH(\"8\",#REF!)),\"1\",\"0\")","v":"0"},{"$f":"IF(ISNUMBER(SEARCH(\"9\",#REF!)),\"1\",\"0\")","v":"0"},{"$f":"IF(ISNUMBER(SEARCH(\"9\",#REF!)),\"1\",\"0\")","v":"0"},{"$f":"IF(ISNUMBER(SEARCH(\"10\",#REF!)),\"1\",\"0\")","v":"0"},{"$f":"IF(ISNUMBER(SEARCH(\"11\",#REF!)),\"1\",\"0\")","v":"0"},{"$f":"IF(ISNUMBER(SEARCH(\"12\",#REF!)),\"1\",\"0\")","v":"0"},{"$f":"IF(ISNUMBER(SEARCH(\"13\",#REF!)),\"1\",\"0\")","v":"0"},{"$f":"IF(ISNUMBER(SEARCH(\"14\",#REF!)),\"1\",\"0\")","v":"0"},{"$f":"IF(ISNUMBER(SEARCH(\"15\",#REF!)),\"1\",\"0\")","v":"0"},{"$f":"IF(ISNUMBER(SEARCH(\"16\",#REF!)),\"1\",\"0\")","v":"0"},{"$f":"IF(ISNUMBER(SEARCH(\"17\",#REF!)),\"1\",\"0\")","v":"0"},{"$nulls":4},24,20,26,70,9,null,4,2,2,8,{"$nulls":4},{"$f":"#REF!-#REF!","v":{"$error":"#REF!"}},{"$f":"#REF!-#REF!","v":{"$error":"#REF!"}}]
[2,22,1,"MN",2,18,null,3,2,1,0,3,1,1,"1","0","0","0","0","0","0","0","0","0","0","0","0","0","0","0","0","0",null,null,2,2,2,{"$f":"IF(ISNUMBER(SEARCH(\"1\",#REF!)),\"1\",\"0\")","v":"0"},{"$f":"IF(ISNUMBER(SEARCH(\"2\",#REF!)),\"1\",\"0\")","v":"0"},{"$f":"IF(ISNUMBER(SEARCH(\"3\",#REF!)),\"1\",\"0\")","v":"0"},{"$f":"IF(ISNUMBER(SEARCH(\"4\",#REF!)),\"1\",\"0\")","v":"0"},{"$f":"IF(ISNUMBER(SEARCH(\"5\",#REF!)),\"1\",\"0\")","v":"0"},{"$f":"IF(ISNUMBER(SEARCH(\"6\",#REF!)),\"1\",\"0\")","v":"0"},{"$f":"IF(ISNUMBER(SEARCH(\"7\",#REF!)),\"1\",\"0\")","v":"0"},{"$f":"IF(ISNUMBER(SEARCH(\"8\",#REF!)),\"1\",\"0\")","v":"0"},{"$f":"IF(ISNUMBER(SEARCH(\"9\",#REF!)),\"1\",\"0\")","v":"0"},{"$f":"IF(ISNUMBER(SEARCH(\"9\",#REF!)),\"1\",\"0\")","v":"0"},{"$f":"IF(ISNUMBER(SEARCH(\"10\",#REF!)),\"1\",\"0\")","v":"0"},{"$f":"IF(ISNUMBER(SEARCH(\"11\",#REF!)),\"1\",\"0\")","v":"0"},{"$f":"IF(ISNUMBER(SEARCH(\"12\",#REF!)),\"1\",\"0\")","v":"0"},{"$f":"IF(ISNUMBER(SEARCH(\"13\",#REF!)),\"1\",\"0\")","v":"0"},{"$f":"IF(ISNUMBER(SEARCH(\"14\",#REF!)),\"1\",\"0\")","v":"0"},{"$f":"IF(ISNUMBER(SEARCH(\"15\",#REF!)),\"1\",\"0\")","v":"0"},{"$f":"IF(ISNUMBER(SEARCH(\"16\",#REF!)),\"1\",\"0\")","v":"0"},{"$f":"IF(ISNUMBER(SEARCH(\"17\",#REF!)),\"1\",\"0\")","v":"0"},{"$nulls":4},22,28,0,50,6,null,2,2,2,6,{"$nulls":4},{"$f":"#REF!-#REF!","v":{"$error":"#REF!"}},{"$f":"#REF!-#REF!","v":{"$error":"#REF!"}}]
[2,22,1,"MN",2,19,null,1,3,1,1,1,5,"6. Mariage Forcé","0","0","0","0","0","1","0","0","0","0","0","0","0","0","0","0","0","0",null,null,5,5,1,{"$f":"IF(ISNUMBER(SEARCH(\"1\",#REF!)),\"1\",\"0\")","v":"0"},{"$f":"IF(ISNUMBER(SEARCH(\"2\",#REF!)),\"1\",\"0\")","v":"0"},{"$f":"IF(ISNUMBER(SEARCH(\"3\",#REF!)),\"1\",\"0\")","v":"0"},{"$f":"IF(ISNUMBER(SEARCH(\"4\",#REF!)),\"1\",\"0\")","v":"0"},{"$f":"IF(ISNUMBER(SEARCH(\"5\",#REF!)),\"1\",\"0\")","v":"0"},{"$f":"IF(ISNUMBER(SEARCH(\"6\",#REF!)),\"1\",\"0\")","v":"0"},{"$f":"IF(ISNUMBER(SEARCH(\"7\",#REF!)),\"1\",\"0\")","v":"0"},{"$f":"IF(ISNUMBER(SEARCH(\"8\",#REF!)),\"1\",\"0\")","v":"0"},{"$f":"IF(ISNUMBER(SEARCH(\"9\",#REF!)),\"1\",\"0\")","v":"0"},{"$f":"IF(ISNUMBER(SEARCH(\"9\",#REF!)),\"1\",\"0\")","v":"0"},{"$f":"IF(ISNUMBER(SEARCH(\"10\",#REF!)),\"1\",\"0\")","v":"0"},{"$f":"IF(ISNUMBER(SEARCH(\"11\",#REF!)),\"1\",\"0\")","v":"0"},{"$f":"IF(ISNUMBER(SEARCH(\"12\",#REF!)),\"1\",\"0\")","v":"0"},{"$f":"IF(ISNUMBER(SEARCH(\"13\",#REF!)),\"1\",\"0\")","v":"0"},{"$f":"IF(ISNUMBER(SEARCH(\"14\",#REF!)),\"1\",\"0\")","v":"0"},{"$f":"IF(ISNUMBER(SEARCH(\"15\",#REF!)),\"1\",\"0\")","v":"0"},{"$f":"IF(ISNUMBER(SEARCH(\"16\",#REF!)),\"1\",\"0\")","v":"0"},{"$f":"IF(ISNUMBER(SEARCH(\"17\",#REF!)),\"1\",\"0\")","v":"0"},{"$nulls":4},30,20,32,82,4,{"$nulls":9},{"$f":"#REF!-#REF!","v":{"$error":"#REF!"}}]
[2,22,8,"KM",2,16,null,1,7,1,0,1,1,3,"0","0","1","0","0","0","0","0","0","0","0","0","0","0","0","0","0","0",null,null,1,3,1,{"$f":"IF(ISNUMBER(SEARCH(\"1\",#REF!)),\"1\",\"0\")","v":"0"},{"$f":"IF(ISNUMBER(SEARCH(\"2\",#REF!)),\"1\",\"0\")","v":"0"},{"$f":"IF(ISNUMBER(SEARCH(\"3\",#REF!)),\"1\",\"0\")","v":"0"},{"$f":"IF(ISNUMBER(SEARCH(\"4\",#REF!)),\"1\",\"0\")","v":"0"},{"$f":"IF(ISNUMBER(SEARCH(\"5\",#REF!)),\"1\",\"0\")","v":"0"},{"$f":"IF(ISNUMBER(SEARCH(\"6\",#REF!)),\"1\",\"0\")","v":"0"},{"$f":"IF(ISNUMBER(SEARCH(\"7\",#REF!)),\"1\",\"0\")","v":"0"},{"$f":"IF(ISNUMBER(SEARCH(\"8\",#REF!)),\"1\",\"0\")","v":"0"},{"$f":"IF(ISNUMBER(SEARCH(\"9\",#REF!)),\"1\",\"0\")","v":"0"},{"$f":"IF(ISNUMBER(SEARCH(\"9\",#REF!)),\"1\",\"0\")","v":"0"},{"$f":"IF(ISNUMBER(SEARCH(\"10\",#REF!)),\"1\",\"0\")","v":"0"},{"$f":"IF(ISNUMBER(SEARCH(\"11\",#REF!)),\"1\",\"0\")","v":"0"},{"$f":"IF(ISNUMBER(SEARCH(\"12\",#REF!)),\"1\",\"0\")","v":"0"},{"$f":"IF(ISNUMBER(SEARCH(\"13\",#REF!)),\"1\",\"0\")","v":"0"},{"$f":"IF(ISNUMBER(SEARCH(\"14\",#REF!)),\"1\",\"0\")","v":"0"},{"$f":"IF(ISNUMBER(SEARCH(\"15\",#REF!)),\"1\",\"0\")","v":"0"},{"$f":"IF(ISNUMBER(SEARCH(\"16\",#REF!)),\"1\",\"0\")","v":"0"},{"$f":"IF(ISNUMBER(SEARCH(\"17\",#REF!)),\"1\",\"0\")","v":"0"},1,1,null,null,10,6,16,32,12,{"$nulls":6},13,3,null,{"$f":"#REF!-#REF!","v":{"$error":"#REF!"}}]
[2,22,8,"AN",2,21,null,3,2,2,0,1,1,3,"0","0","1","0","0","0","0","0","0","0","0","0","0","0","0","0","0","0",null,null,3,5,1,{"$f":"IF(ISNUMBER(SEARCH(\"1\",#REF!)),\"1\",\"0\")","v":"0"},{"$f":"IF(ISNUMBER(SEARCH(\"2\",#REF!)),\"1\",\"0\")","v":"0"},{"$f":"IF(ISNUMBER(SEARCH(\"3\",#REF!)),\"1\",\"0\")","v":"0"},{"$f":"IF(ISNUMBER(SEARCH(\"4\",#REF!)),\"1\",\"0\")","v":"0"},{"$f":"IF(ISNUMBER(SEARCH(\"5\",#REF!)),\"1\",\"0\")","v":"0"},{"$f":"IF(ISNUMBER(SEARCH(\"6\",#REF!)),\"1\",\"0\")","v":"0"},{"$f":"IF(ISNUMBER(SEARCH(\"7\",#REF!)),\"1\",\"0\")","v":"0"},{"$f":"IF(ISNUMBER(SEARCH(\"8\",#REF!)),\"1\",\"0\")","v":"0"},{"$f":"IF(ISNUMBER(SEARCH(\"9\",#REF!)),\"1\",\"0\")","v":"0"},{"$f":"IF(ISNUMBER(SEARCH(\"9\",#REF!)),\"1\",\"0\")","v":"0"},{"$f":"IF(ISNUMBER(SEARCH(\"10\",#REF!)),\"1\",\"0\")","v":"0"},{"$f":"IF(ISNUMBER(SEARCH(\"11\",#REF!)),\"1\",\"0\")","v":"0"},{"$f":"IF(ISNUMBER(SEARCH(\"12\",#REF!)),\"1\",\"0\")","v":"0"},{"$f":"IF(ISNUMBER(SEARCH(\"13\",#REF!)),\"1\",\"0\")","v":"0"},{"$f":"IF(ISNUMBER(SEARCH(\"14\",#REF!)),\"1\",\"0\")","v":"0"},{"$f":"IF(ISNUMBER(SEARCH(\"15\",#REF!)),\"1\",\"0\")","v":"0"},{"$f":"IF(ISNUMBER(SEARCH(\"16\",#REF!)),\"1\",\"0\")","v":"0"},{"$f":"IF(ISNUMBER(SEARCH(\"17\",#REF!)),\"1\",\"0\")","v":"0"},1,3,null,null,22,14,28,64,6,{"$nulls":6},14,4,null,{"$f":"#REF!-#REF!","v":{"$error":"#REF!"}}]
[2,22,8,"KM",2,28,null,null,3,1,3,5,2,3,"0","0","1","0","0","0","0","0","0","0","0","0","0","0","0","0","0","0",null,null,3,5,2,{"$f":"IF(ISNUMBER(SEARCH(\"1\",#REF!)),\"1\",\"0\")","v":"0"},{"$f":"IF(ISNUMBER(SEARCH(\"2\",#REF!)),\"1\",\"0\")","v":"0"},{"$f":"IF(ISNUMBER(SEARCH(\"3\",#REF!)),\"1\",\"0\")","v":"0"},{"$f":"IF(ISNUMBER(SEARCH(\"4\",#REF!)),\"1\",\"0\")","v":"0"},{"$f":"IF(ISNUMBER(SEARCH(\"5\",#REF!)),\"1\",\"0\")","v":"0"},{"$f":"IF(ISNUMBER(SEARCH(\"6\",#REF!)),\"1\",\"0\")","v":"0"},{"$f":"IF(ISNUMBER(SEARCH(\"7\",#REF!)),\"1\",\"0\")","v":"0"},{"$f":"IF(ISNUMBER(SEARCH(\"8\",#REF!)),\"1\",\"0\")","v":"0"},{"$f":"IF(ISNUMBER(SEARCH(\"9\",#REF!)),\"1\",\"0\")","v":"0"},{"$f":"IF(ISNUMBER(SEARCH(\"9\",#REF!)),\"1\",\"0\")","v":"0"},{"$f":"IF(ISNUMBER(SEARCH(\"10\",#REF!)),\"1\",\"0\")","v":"0"},{"$f":"IF(ISNUMBER(SEARCH(\"11\",#REF!)),\"1\",\"0\")","v":"0"},{"$f":"IF(ISNUMBER(SEARCH(\"12\",#REF!)),\"1\",\"0\")","v":"0"},{"$f":"IF(ISNUMBER(SEARCH(\"13\",#REF!)),\"1\",\"0\")","v":"0"},{"$f":"IF(ISNUMBER(SEARCH(\"14\",#REF!)),\"1\",\"0\")","v":"0"},{"$f":"IF(ISNUMBER(SEARCH(\"15\",#REF!)),\"1\",\"0\")","v":"0"},{"$f":"IF(ISNUMBER(SEARCH(\"16\",#REF!)),\"1\",\"0\")","v":"0"},{"$f":"IF(ISNUMBER(SEARCH(\"17\",#REF!)),\"1\",\"0\")","v":"0"},1,3,null,null,32,20,26,78,9,{"$nulls":6},13,3,null,{"$f":"#REF!-#REF!","v":{"$error":"#REF!"}}]
[2,22,1,"OW",2,19,null,1,3,2,0,5,1,"4. Tentative de Viol","0","0","0","1","0","0","0","0","0","0","0","0","0","0","0","0","0","0",null,null,1,5,2,{"$f":"IF(ISNUMBER(SEARCH(\"1\",#REF!)),\"1\",\"0\")","v":"0"},{"$f":"IF(ISNUMBER(SEARCH(\"2\",#REF!)),\"1\",\"0\")","v":"0"},{"$f":"IF(ISNUMBER(SEARCH(\"3\",#REF!)),\"1\",\"0\")","v":"0"},{"$f":"IF(ISNUMBER(SEARCH(\"4\",#REF!)),\"1\",\"0\")","v":"0"},{"$f":"IF(ISNUMBER(SEARCH(\"5\",#REF!)),\"1\",\"0\")","v":"0"},{"$f":"IF(ISNUMBER(SEARCH(\"6\",#REF!)),\"1\",\"0\")","v":"0"},{"$f":"IF(ISNUMBER(SEARCH(\"7\",#REF!)),\"1\",\"0\")","v":"0"},{"$f":"IF(ISNUMBER(SEARCH(\"8\",#REF!)),\"1\",\"0\")","v":"0"},{"$f":"IF(ISNUMBER(SEARCH(\"9\",#REF!)),\"1\",\"0\")","v":"0"},{"$f":"IF(ISNUMBER(SEARCH(\"9\",#REF!)),\"1\",\"0\")","v":"0"},{"$f":"IF(ISNUMBER(SEARCH(\"10\",#REF!)),\"1\",\"0\")","v":"0"},{"$f":"IF(ISNUMBER(SEARCH(\"11\",#REF!)),\"1\",\"0\")","v":"0"},{"$f":"IF(ISNUMBER(SEARCH(\"12\",#REF!)),\"1\",\"0\")","v":"0"},{"$f":"IF(ISNUMBER(SEARCH(\"13\",#REF!)),\"1\",\"0\")","v":"0"},{"$f":"IF(ISNUMBER(SEARCH(\"14\",#REF!)),\"1\",\"0\")","v":"0"},{"$f":"IF(ISNUMBER(SEARCH(\"15\",#REF!)),\"1\",\"0\")","v":"0"},{"$f":"IF(ISNUMBER(SEARCH(\"16\",#REF!)),\"1\",\"0\")","v":"0"},{"$f":"IF(ISNUMBER(SEARCH(\"17\",#REF!)),\"1\",\"0\")","v":"0"},null,1,null,null,10,12,14,36,7,null,4,2,2,8,null,12,5,null,{"$f":"#REF!-#REF!","v":{"$error":"#REF!"}},{"$f":"#REF!-#REF!","v":{"$error":"#REF!"}}]
[2,22,1,"MN",2,22,null,2,3,1,3,5,2,1,"1","0","0","0","0","0","0","0","0","0","0","0","0","0","0","0","0","0",null,null,1,5,2,{"$f":"IF(ISNUMBER(SEARCH(\"1\",#REF!)),\"1\",\"0\")","v":"0"},{"$f":"IF(ISNUMBER(SEARCH(\"2\",#REF!)),\"1\",\"0\")","v":"0"},{"$f":"IF(ISNUMBER(SEARCH(\"3\",#REF!)),\"1\",\"0\")","v":"0"},{"$f":"IF(ISNUMBER(SEARCH(\"4\",#REF!)),\"1\",\"0\")","v":"0"},{"$f":"IF(ISNUMBER(SEARCH(\"5\",#REF!)),\"1\",\"0\")","v":"0"},{"$f":"IF(ISNUMBER(SEARCH(\"6\",#REF!)),\"1\",\"0\")","v":"0"},{"$f":"IF(ISNUMBER(SEARCH(\"7\",#REF!)),\"1\",\"0\")","v":"0"},{"$f":"IF(ISNUMBER(SEARCH(\"8\",#REF!)),\"1\",\"0\")","v":"0"},{"$f":"IF(ISNUMBER(SEARCH(\"9\",#REF!)),\"1\",\"0\")","v":"0"},{"$f":"IF(ISNUMBER(SEARCH(\"9\",#REF!)),\"1\",\"0\")","v":"0"},{"$f":"IF(ISNUMBER(SEARCH(\"10\",#REF!)),\"1\",\"0\")","v":"0"},{"$f":"IF(ISNUMBER(SEARCH(\"11\",#REF!)),\"1\",\"0\")","v":"0"},{"$f":"IF(ISNUMBER(SEARCH(\"12\",#REF!)),\"1\",\"0\")","v":"0"},{"$f":"IF(ISNUMBER(SEARCH(\"13\",#REF!)),\"1\",\"0\")","v":"0"},{"$f":"IF(ISNUMBER(SEARCH(\"14\",#REF!)),\"1\",\"0\")","v":"0"},{"$f":"IF(ISNUMBER(SEARCH(\"15\",#REF!)),\"1\",\"0\")","v":"0"},{"$f":"IF(ISNUMBER(SEARCH(\"16\",#REF!)),\"1\",\"0\")","v":"0"},{"$f":"IF(ISNUMBER(SEARCH(\"17\",#REF!)),\"1\",\"0\")","v":"0"},null,2,null,null,20,14,20,54,4,null,2,4,2,8,null,6,5,null,{"$f":"#REF!-#REF!","v":{"$error":"#REF!"}},{"$f":"#REF!-#REF!","v":{"$error":"#REF!"}}]
[2,22,1,"MN",2,20,null,1,3,2,3,3,2,3,"0","0","1","0","0","0","0","0","0","0","0","0","0","0","0","0","0","0",null,null,3,5,1,{"$f":"IF(ISNUMBER(SEARCH(\"1\",#REF!)),\"1\",\"0\")","v":"0"},{"$f":"IF(ISNUMBER(SEARCH(\"2\",#REF!)),\"1\",\"0\")","v":"0"},{"$f":"IF(ISNUMBER(SEARCH(\"3\",#REF!)),\"1\",\"0\")","v":"0"},{"$f":"IF(ISNUMBER(SEARCH(\"4\",#REF!)),\"1\",\"0\")","v":"0"},{"$f":"IF(ISNUMBER(SEARCH(\"5\",#REF!)),\"1\",\"0\")","v":"0"},{"$f":"IF(ISNUMBER(SEARCH(\"6\",#REF!)),\"1\",\"0\")","v":"0"},{"$f":"IF(ISNUMBER(SEARCH(\"7\",#REF!)),\"1\",\"0\")","v":"0"},{"$f":"IF(ISNUMBER(SEARCH(\"8\",#REF!)),\"1\",\"0\")","v":"0"},{"$f":"IF(ISNUMBER(SEARCH(\"9\",#REF!)),\"1\",\"0\")","v":"0"},{"$f":"IF(ISNUMBER(SEARCH(\"9\",#REF!)),\"1\",\"0\")","v":"0"},{"$f":"IF(ISNUMBER(SEARCH(\"10\",#REF!)),\"1\",\"0\")","v":"0"},{"$f":"IF(ISNUMBER(SEARCH(\"11\",#REF!)),\"1\",\"0\")","v":"0"},{"$f":"IF(ISNUMBER(SEARCH(\"12\",#REF!)),\"1\",\"0\")","v":"0"},{"$f":"IF(ISNUMBER(SEARCH(\"13\",#REF!)),\"1\",\"0\")","v":"0"},{"$f":"IF(ISNUMBER(SEARCH(\"14\",#REF!)),\"1\",\"0\")","v":"0"},{"$f":"IF(ISNUMBER(SEARCH(\"15\",#REF!)),\"1\",\"0\")","v":"0"},{"$f":"IF(ISNUMBER(SEARCH(\"16\",#REF!)),\"1\",\"0\")","v":"0"},{"$f":"IF(ISNUMBER(SEARCH(\"17\",#REF!)),\"1\",\"0\")","v":"0"},3,2,null,null,10,16,14,40,6,null,2,4,0,6,{"$nulls":4},{"$f":"#REF!-#REF!","v":{"$error":"#REF!"}},{"$f":"#REF!-#REF!","v":{"$error":"#REF!"}}]
[2,22,1,"WK",2,30,null,1,3,1,6,4,2,3,"0","0","1","0","0","0","0","0","0","0","0","0","0","0","0","0","0","0",null,null,2,5,1,{"$f":"IF(ISNUMBER(SEARCH(\"1\",#REF!)),\"1\",\"0\")","v":"0"},{"$f":"IF(ISNUMBER(SEARCH(\"2\",#REF!)),\"1\",\"0\")","v":"0"},{"$f":"IF(ISNUMBER(SEARCH(\"3\",#REF!)),\"1\",\"0\")","v":"0"},{"$f":"IF(ISNUMBER(SEARCH(\"4\",#REF!)),\"1\",\"0\")","v":"0"},{"$f":"IF(ISNUMBER(SEARCH(\"5\",#REF!)),\"1\",\"0\")","v":"0"},{"$f":"IF(ISNUMBER(SEARCH(\"6\",#REF!)),\"1\",\"0\")","v":"0"},{"$f":"IF(ISNUMBER(SEARCH(\"7\",#REF!)),\"1\",\"0\")","v":"0"},{"$f":"IF(ISNUMBER(SEARCH(\"8\",#REF!)),\"1\",\"0\")","v":"0"},{"$f":"IF(ISNUMBER(SEARCH(\"9\",#REF!)),\"1\",\"0\")","v":"0"},{"$f":"IF(ISNUMBER(SEARCH(\"9\",#REF!)),\"1\",\"0\")","v":"0"},{"$f":"IF(ISNUMBER(SEARCH(\"10\",#REF!)),\"1\",\"0\")","v":"0"},{"$f":"IF(ISNUMBER(SEARCH(\"11\",#REF!)),\"1\",\"0\")","v":"0"},{"$f":"IF(ISNUMBER(SEARCH(\"12\",#REF!)),\"1\",\"0\")","v":"0"},{"$f":"IF(ISNUMBER(SEARCH(\"13\",#REF!)),\"1\",\"0\")","v":"0"},{"$f":"IF(ISNUMBER(SEARCH(\"14\",#REF!)),\"1\",\"0\")","v":"0"},{"$f":"IF(ISNUMBER(SEARCH(\"15\",#REF!)),\"1\",\"0\")","v":"0"},{"$f":"IF(ISNUMBER(SEARCH(\"16\",#REF!)),\"1\",\"0\")","v":"0"},{"$f":"IF(ISNUMBER(SEARCH(\"17\",#REF!)),\"1\",\"0\")","v":"0"},1,2,null,null,16,16,16,48,8,{"$nulls":7},5,null,{"$f":"#REF!-#REF!","v":{"$error":"#REF!"}}]
[2,22,11,"MLO",2,25,null,2,3,1,2,3,2,3,"0","0","1","0","0","0","0","0","0","0","0","0","0","0","0","0","0","0",null,null,1,4,1,{"$f":"IF(ISNUMBER(SEARCH(\"1\",#REF!)),\"1\",\"0\")","v":"0"},{"$f":"IF(ISNUMBER(SEARCH(\"2\",#REF!)),\"1\",\"0\")","v":"0"},{"$f":"IF(ISNUMBER(SEARCH(\"3\",#REF!)),\"1\",\"0\")","v":"0"},{"$f":"IF(ISNUMBER(SEARCH(\"4\",#REF!)),\"1\",\"0\")","v":"0"},{"$f":"IF(ISNUMBER(SEARCH(\"5\",#REF!)),\"1\",\"0\")","v":"0"},{"$f":"IF(ISNUMBER(SEARCH(\"6\",#REF!)),\"1\",\"0\")","v":"0"},{"$f":"IF(ISNUMBER(SEARCH(\"7\",#REF!)),\"1\",\"0\")","v":"0"},{"$f":"IF(ISNUMBER(SEARCH(\"8\",#REF!)),\"1\",\"0\")","v":"0"},{"$f":"IF(ISNUMBER(SEARCH(\"9\",#REF!)),\"1\",\"0\")","v":"0"},{"$f":"IF(ISNUMBER(SEARCH(\"9\",#REF!)),\"1\",\"0\")","v":"0"},{"$f":"IF(ISNUMBER(SEARCH(\"10\",#REF!)),\"1\",\"0\")","v":"0"},{"$f":"IF(ISNUMBER(SEARCH(\"11\",#REF!)),\"1\",\"0\")","v":"0"},{"$f":"IF(ISNUMBER(SEARCH(\"12\",#REF!)),\"1\",\"0\")","v":"0"},{"$f":"IF(ISNUMBER(SEARCH(\"13\",#REF!)),\"1\",\"0\")","v":"0"},{"$f":"IF(ISNUMBER(SEARCH(\"14\",#REF!)),\"1\",\"0\")","v":"0"},{"$f":"IF(ISNUMBER(SEARCH(\"15\",#REF!)),\"1\",\"0\")","v":"0"},{"$f":"IF(ISNUMBER(SEARCH(\"16\",#REF!)),\"1\",\"0\")","v":"0"},{"$f":"IF(ISNUMBER(SEARCH(\"17\",#REF!)),\"1\",\"0\")","v":"0"},3,{"$nulls":3},16,20,10,46,3,null,2,2,2,6,null,5,null,null,{"$f":"#REF!-#REF!","v":{"$error":"#REF!"}},{"$f":"#REF!-#REF!","v":{"$error":"#REF!"}}]
[2,22,11,"MLO",2,37,null,2,3,1,5,5,6,3,"0","0","1","0","0","0","0","0","0","0","0","0","0","0","0","0","0","0",null,null,3,5,2,{"$f":"IF(ISNUMBER(SEARCH(\"1\",#REF!)),\"1\",\"0\")","v":"0"},{"$f":"IF(ISNUMBER(SEARCH(\"2\",#REF!)),\"1\",\"0\")","v":"0"},{"$f":"IF(ISNUMBER(SEARCH(\"3\",#REF!)),\"1\",\"0\")","v":"0"},{"$f":"IF(ISNUMBER(SEARCH(\"4\",#REF!)),\"1\",\"0\")","v":"0"},{"$f":"IF(ISNUMBER(SEARCH(\"5\",#REF!)),\"1\",\"0\")","v":"0"},{"$f":"IF(ISNUMBER(SEARCH(\"6\",#REF!)),\"1\",\"0\")","v":"0"},{"$f":"IF(ISNUMBER(SEARCH(\"7\",#REF!)),\"1\",\"0\")","v":"0"},{"$f":"IF(ISNUMBER(SEARCH(\"8\",#REF!)),\"1\",\"0\")","v":"0"},{"$f":"IF(ISNUMBER(SEARCH(\"9\",#REF!)),\"1\",\"0\")","v":"0"},{"$f":"IF(ISNUMBER(SEARCH(\"9\",#REF!)),\"1\",\"0\")","v":"0"},{"$f":"IF(ISNUMBER(SEARCH(\"10\",#REF!)),\"1\",\"0\")","v":"0"},{"$f":"IF(ISNUMBER(SEARCH(\"11\",#REF!)),\"1\",\"0\")","v":"0"},{"$f":"IF(ISNUMBER(SEARCH(\"12\",#REF!)),\"1\",\"0\")","v":"0"},{"$f":"IF(ISNUMBER(SEARCH(\"13\",#REF!)),\"1\",\"0\")","v":"0"},{"$f":"IF(ISNUMBER(SEARCH(\"14\",#REF!)),\"1\",\"0\")","v":"0"},{"$f":"IF(ISNUMBER(SEARCH(\"15\",#REF!)),\"1\",\"0\")","v":"0"},{"$f":"IF(ISNUMBER(SEARCH(\"16\",#REF!)),\"1\",\"0\")","v":"0"},{"$f":"IF(ISNUMBER(SEARCH(\"17\",#REF!)),\"1\",\"0\")","v":"0"},1,{"$nulls":3},16,18,18,52,3,{"$nulls":6},6,4,null,{"$f":"#REF!-#REF!","v":{"$error":"#REF!"}}]
[2,22,11,"MLO",1,36,null,3,3,1,6,3,6,"16. Autre (SVP dans la case suivante) ","1","0","0","0","0","1","0","0","0","0","0","0","0","0","0","1","0","0",{"$nulls":5},{"$f":"IF(ISNUMBER(SEARCH(\"1\",#REF!)),\"1\",\"0\")","v":"0"},{"$f":"IF(ISNUMBER(SEARCH(\"2\",#REF!)),\"1\",\"0\")","v":"0"},{"$f":"IF(ISNUMBER(SEARCH(\"3\",#REF!)),\"1\",\"0\")","v":"0"},{"$f":"IF(ISNUMBER(SEARCH(\"4\",#REF!)),\"1\",\"0\")","v":"0"},{"$f":"IF(ISNUMBER(SEARCH(\"5\",#REF!)),\"1\",\"0\")","v":"0"},{"$f":"IF(ISNUMBER(SEARCH(\"6\",#REF!)),\"1\",\"0\")","v":"0"},{"$f":"IF(ISNUMBER(SEARCH(\"7\",#REF!)),\"1\",\"0\")","v":"0"},{"$f":"IF(ISNUMBER(SEARCH(\"8\",#REF!)),\"1\",\"0\")","v":"0"},{"$f":"IF(ISNUMBER(SEARCH(\"9\",#REF!)),\"1\",\"0\")","v":"0"},{"$f":"IF(ISNUMBER(SEARCH(\"9\",#REF!)),\"1\",\"0\")","v":"0"},{"$f":"IF(ISNUMBER(SEARCH(\"10\",#REF!)),\"1\",\"0\")","v":"0"},{"$f":"IF(ISNUMBER(SEARCH(\"11\",#REF!)),\"1\",\"0\")","v":"0"},{"$f":"IF(ISNUMBER(SEARCH(\"12\",#REF!)),\"1\",\"0\")","v":"0"},{"$f":"IF(ISNUMBER(SEARCH(\"13\",#REF!)),\"1\",\"0\")","v":"0"},{"$f":"IF(ISNUMBER(SEARCH(\"14\",#REF!)),\"1\",\"0\")","v":"0"},{"$f":"IF(ISNUMBER(SEARCH(\"15\",#REF!)),\"1\",\"0\")","v":"0"},{"$f":"IF(ISNUMBER(SEARCH(\"16\",#REF!)),\"1\",\"0\")","v":"0"},{"$f":"IF(ISNUMBER(SEARCH(\"17\",#REF!)),\"1\",\"0\")","v":"0"},{"$nulls":4},24,22,10,56,4,null,0,2,2,4,null,5,3,null,{"$f":"#REF!-#REF!","v":{"$error":"#REF!"}},{"$f":"#REF!-#REF!","v":{"$error":"#REF!"}}]
[2,22,11,"RB",2,17,null,3,2,1,0,1,1,3,"0","0","1","0","0","0","0","0","0","0","0","0","0","0","0","0","0","0",{"$nulls":3},3,2,{"$f":"IF(ISNUMBER(SEARCH(\"1\",#REF!)),\"1\",\"0\")","v":"0"},{"$f":"IF(ISNUMBER(SEARCH(\"2\",#REF!)),\"1\",\"0\")","v":"0"},{"$f":"IF(ISNUMBER(SEARCH(\"3\",#REF!)),\"1\",\"0\")","v":"0"},{"$f":"IF(ISNUMBER(SEARCH(\"4\",#REF!)),\"1\",\"0\")","v":"0"},{"$f":"IF(ISNUMBER(SEARCH(\"5\",#REF!)),\"1\",\"0\")","v":"0"},{"$f":"IF(ISNUMBER(SEARCH(\"6\",#REF!)),\"1\",\"0\")","v":"0"},{"$f":"IF(ISNUMBER(SEARCH(\"7\",#REF!)),\"1\",\"0\")","v":"0"},{"$f":"IF(ISNUMBER(SEARCH(\"8\",#REF!)),\"1\",\"0\")","v":"0"},{"$f":"IF(ISNUMBER(SEARCH(\"9\",#REF!)),\"1\",\"0\")","v":"0"},{"$f":"IF(ISNUMBER(SEARCH(\"9\",#REF!)),\"1\",\"0\")","v":"0"},{"$f":"IF(ISNUMBER(SEARCH(\"10\",#REF!)),\"1\",\"0\")","v":"0"},{"$f":"IF(ISNUMBER(SEARCH(\"11\",#REF!)),\"1\",\"0\")","v":"0"},{"$f":"IF(ISNUMBER(SEARCH(\"12\",#REF!)),\"1\",\"0\")","v":"0"},{"$f":"IF(ISNUMBER(SEARCH(\"13\",#REF!)),\"1\",\"0\")","v":"0"},{"$f":"IF(ISNUMBER(SEARCH(\"14\",#REF!)),\"1\",\"0\")","v":"0"},{"$f":"IF(ISNUMBER(SEARCH(\"15\",#REF!)),\"1\",\"0\")","v":"0"},{"$f":"IF(ISNUMBER(SEARCH(\"16\",#REF!)),\"1\",\"0\")","v":"0"},{"$f":"IF(ISNUMBER(SEARCH(\"17\",#REF!)),\"1\",\"0\")","v":"0"},1,{"$nulls":3},14,18,16,48,6,null,2,4,6,12,null,8,4]
[2,22,11,"RB",2,32,null,3,8,1,4,8,2,3,"0","0","1","0","0","0","0","0","0","0","0","0","0","0","0","0","0","0",null,null,3,5,2,{"$f":"IF(ISNUMBER(SEARCH(\"1\",#REF!)),\"1\",\"0\")","v":"0"},{"$f":"IF(ISNUMBER(SEARCH(\"2\",#REF!)),\"1\",\"0\")","v":"0"},{"$f":"IF(ISNUMBER(SEARCH(\"3\",#REF!)),\"1\",\"0\")","v":"0"},{"$f":"IF(ISNUMBER(SEARCH(\"4\",#REF!)),\"1\",\"0\")","v":"0"},{"$f":"IF(ISNUMBER(SEARCH(\"5\",#REF!)),\"1\",\"0\")","v":"0"},{"$f":"IF(ISNUMBER(SEARCH(\"6\",#REF!)),\"1\",\"0\")","v":"0"},{"$f":"IF(ISNUMBER(SEARCH(\"7\",#REF!)),\"1\",\"0\")","v":"0"},{"$f":"IF(ISNUMBER(SEARCH(\"8\",#REF!)),\"1\",\"0\")","v":"0"},{"$f":"IF(ISNUMBER(SEARCH(\"9\",#REF!)),\"1\",\"0\")","v":"0"},{"$f":"IF(ISNUMBER(SEARCH(\"9\",#REF!)),\"1\",\"0\")","v":"0"},{"$f":"IF(ISNUMBER(SEARCH(\"10\",#REF!)),\"1\",\"0\")","v":"0"},{"$f":"IF(ISNUMBER(SEARCH(\"11\",#REF!)),\"1\",\"0\")","v":"0"},{"$f":"IF(ISNUMBER(SEARCH(\"12\",#REF!)),\"1\",\"0\")","v":"0"},{"$f":"IF(ISNUMBER(SEARCH(\"13\",#REF!)),\"1\",\"0\")","v":"0"},{"$f":"IF(ISNUMBER(SEARCH(\"14\",#REF!)),\"1\",\"0\")","v":"0"},{"$f":"IF(ISNUMBER(SEARCH(\"15\",#REF!)),\"1\",\"0\")","v":"0"},{"$f":"IF(ISNUMBER(SEARCH(\"16\",#REF!)),\"1\",\"0\")","v":"0"},{"$f":"IF(ISNUMBER(SEARCH(\"17\",#REF!)),\"1\",\"0\")","v":"0"},1,{"$nulls":3},16,6,10,32,4,null,4,2,6,12,null,5,4,null,{"$f":"#REF!-#REF!","v":{"$error":"#REF!"}},{"$f":"#REF!-#REF!","v":{"$error":"#REF!"}}]
[2,22,11,"RB",2,34,null,null,8,1,6,11,2,3,"0","0","1","0","0","0","0","0","0","0","0","0","0","0","0","0","0","0",null,null,3,5,2,{"$f":"IF(ISNUMBER(SEARCH(\"1\",#REF!)),\"1\",\"0\")","v":"0"},{"$f":"IF(ISNUMBER(SEARCH(\"2\",#REF!)),\"1\",\"0\")","v":"0"},{"$f":"IF(ISNUMBER(SEARCH(\"3\",#REF!)),\"1\",\"0\")","v":"0"},{"$f":"IF(ISNUMBER(SEARCH(\"4\",#REF!)),\"1\",\"0\")","v":"0"},{"$f":"IF(ISNUMBER(SEARCH(\"5\",#REF!)),\"1\",\"0\")","v":"0"},{"$f":"IF(ISNUMBER(SEARCH(\"6\",#REF!)),\"1\",\"0\")","v":"0"},{"$f":"IF(ISNUMBER(SEARCH(\"7\",#REF!)),\"1\",\"0\")","v":"0"},{"$f":"IF(ISNUMBER(SEARCH(\"8\",#REF!)),\"1\",\"0\")","v":"0"},{"$f":"IF(ISNUMBER(SEARCH(\"9\",#REF!)),\"1\",\"0\")","v":"0"},{"$f":"IF(ISNUMBER(SEARCH(\"9\",#REF!)),\"1\",\"0\")","v":"0"},{"$f":"IF(ISNUMBER(SEARCH(\"10\",#REF!)),\"1\",\"0\")","v":"0"},{"$f":"IF(ISNUMBER(SEARCH(\"11\",#REF!)),\"1\",\"0\")","v":"0"},{"$f":"IF(ISNUMBER(SEARCH(\"12\",#REF!)),\"1\",\"0\")","v":"0"},{"$f":"IF(ISNUMBER(SEARCH(\"13\",#REF!)),\"1\",\"0\")","v":"0"},{"$f":"IF(ISNUMBER(SEARCH(\"14\",#REF!)),\"1\",\"0\")","v":"0"},{"$f":"IF(ISNUMBER(SEARCH(\"15\",#REF!)),\"1\",\"0\")","v":"0"},{"$f":"IF(ISNUMBER(SEARCH(\"16\",#REF!)),\"1\",\"0\")","v":"0"},{"$f":"IF(ISNUMBER(SEARCH(\"17\",#REF!)),\"1\",\"0\")","v":"0"},{"$nulls":4},16,16,16,48,null,null,2,0,2,4,{"$nulls":4},{"$f":"#REF!-#REF!","v":{"$error":"#REF!"}},{"$f":"#REF!-#REF!","v":{"$error":"#REF!"}}]
[2,22,11,"RB",2,32,null,3,3,1,3,3,1,3,"0","0","1","0","0","0","0","0","0","0","0","0","0","0","0","0","0","0",null,null,1,5,1,{"$f":"IF(ISNUMBER(SEARCH(\"1\",#REF!)),\"1\",\"0\")","v":"0"},{"$f":"IF(ISNUMBER(SEARCH(\"2\",#REF!)),\"1\",\"0\")","v":"0"},{"$f":"IF(ISNUMBER(SEARCH(\"3\",#REF!)),\"1\",\"0\")","v":"0"},{"$f":"IF(ISNUMBER(SEARCH(\"4\",#REF!)),\"1\",\"0\")","v":"0"},{"$f":"IF(ISNUMBER(SEARCH(\"5\",#REF!)),\"1\",\"0\")","v":"0"},{"$f":"IF(ISNUMBER(SEARCH(\"6\",#REF!)),\"1\",\"0\")","v":"0"},{"$f":"IF(ISNUMBER(SEARCH(\"7\",#REF!)),\"1\",\"0\")","v":"0"},{"$f":"IF(ISNUMBER(SEARCH(\"8\",#REF!)),\"1\",\"0\")","v":"0"},{"$f":"IF(ISNUMBER(SEARCH(\"9\",#REF!)),\"1\",\"0\")","v":"0"},{"$f":"IF(ISNUMBER(SEARCH(\"9\",#REF!)),\"1\",\"0\")","v":"0"},{"$f":"IF(ISNUMBER(SEARCH(\"10\",#REF!)),\"1\",\"0\")","v":"0"},{"$f":"IF(ISNUMBER(SEARCH(\"11\",#REF!)),\"1\",\"0\")","v":"0"},{"$f":"IF(ISNUMBER(SEARCH(\"12\",#REF!)),\"1\",\"0\")","v":"0"},{"$f":"IF(ISNUMBER(SEARCH(\"13\",#REF!)),\"1\",\"0\")","v":"0"},{"$f":"IF(ISNUMBER(SEARCH(\"14\",#REF!)),\"1\",\"0\")","v":"0"},{"$f":"IF(ISNUMBER(SEARCH(\"15\",#REF!)),\"1\",\"0\")","v":"0"},{"$f":"IF(ISNUMBER(SEARCH(\"16\",#REF!)),\"1\",\"0\")","v":"0"},{"$f":"IF(ISNUMBER(SEARCH(\"17\",#REF!)),\"1\",\"0\")","v":"0"},3,{"$nulls":3},16,16,2,34,5,null,2,6,4,12,null,8,4,null,{"$f":"#REF!-#REF!","v":{"$error":"#REF!"}}]
[2,22,11,"RB",2,21,null,3,3,1,2,1,2,null,"0","0","0","0","0","0","0","0","0","0","0","0","0","0","0","0","0","0",null,null,1,null,null,{"$f":"IF(ISNUMBER(SEARCH(\"1\",#REF!)),\"1\",\"0\")","v":"0"},{"$f":"IF(ISNUMBER(SEARCH(\"2\",#REF!)),\"1\",\"0\")","v":"0"},{"$f":"IF(ISNUMBER(SEARCH(\"3\",#REF!)),\"1\",\"0\")","v":"0"},{"$f":"IF(ISNUMBER(SEARCH(\"4\",#REF!)),\"1\",\"0\")","v":"0"},{"$f":"IF(ISNUMBER(SEARCH(\"5\",#REF!)),\"1\",\"0\")","v":"0"},{"$f":"IF(ISNUMBER(SEARCH(\"6\",#REF!)),\"1\",\"0\")","v":"0"},{"$f":"IF(ISNUMBER(SEARCH(\"7\",#REF!)),\"1\",\"0\")","v":"0"},{"$f":"IF(ISNUMBER(SEARCH(\"8\",#REF!)),\"1\",\"0\")","v":"0"},{"$f":"IF(ISNUMBER(SEARCH(\"9\",#REF!)),\"1\",\"0\")","v":"0"},{"$f":"IF(ISNUMBER(SEARCH(\"9\",#REF!)),\"1\",\"0\")","v":"0"},{"$f":"IF(ISNUMBER(SEARCH(\"10\",#REF!)),\"1\",\"0\")","v":"0"},{"$f":"IF(ISNUMBER(SEARCH(\"11\",#REF!)),\"1\",\"0\")","v":"0"},{"$f":"IF(ISNUMBER(SEARCH(\"12\",#REF!)),\"1\",\"0\")","v":"0"},{"$f":"IF(ISNUMBER(SEARCH(\"13\",#REF!)),\"1\",\"0\")","v":"0"},{"$f":"IF(ISNUMBER(SEARCH(\"14\",#REF!)),\"1\",\"0\")","v":"0"},{"$f":"IF(ISNUMBER(SEARCH(\"15\",#REF!)),\"1\",\"0\")","v":"0"},{"$f":"IF(ISNUMBER(SEARCH(\"16\",#REF!)),\"1\",\"0\")","v":"0"},{"$f":"IF(ISNUMBER(SEARCH(\"17\",#REF!)),\"1\",\"0\")","v":"0"},{"$nulls":4},18,8,20,46,9,{"$nulls":6},14,null,null,{"$f":"#REF!-#REF!","v":{"$error":"#REF!"}},{"$f":"#REF!-#REF!","v":{"$error":"#REF!"}}]
[2,22,11,"RB",1,19,null,3,3,1,0,3,1,2,"0","1","0","0","0","0","0","0","0","0","0","0","0","0","0","0","0","0",null,null,2,null,null,{"$f":"IF(ISNUMBER(SEARCH(\"1\",#REF!)),\"1\",\"0\")","v":"0"},{"$f":"IF(ISNUMBER(SEARCH(\"2\",#REF!)),\"1\",\"0\")","v":"0"},{"$f":"IF(ISNUMBER(SEARCH(\"3\",#REF!)),\"1\",\"0\")","v":"0"},{"$f":"IF(ISNUMBER(SEARCH(\"4\",#REF!)),\"1\",\"0\")","v":"0"},{"$f":"IF(ISNUMBER(SEARCH(\"5\",#REF!)),\"1\",\"0\")","v":"0"},{"$f":"IF(ISNUMBER(SEARCH(\"6\",#REF!)),\"1\",\"0\")","v":"0"},{"$f":"IF(ISNUMBER(SEARCH(\"7\",#REF!)),\"1\",\"0\")","v":"0"},{"$f":"IF(ISNUMBER(SEARCH(\"8\",#REF!)),\"1\",\"0\")","v":"0"},{"$f":"IF(ISNUMBER(SEARCH(\"9\",#REF!)),\"1\",\"0\")","v":"0"},{"$f":"IF(ISNUMBER(SEARCH(\"9\",#REF!)),\"1\",\"0\")","v":"0"},{"$f":"IF(ISNUMBER(SEARCH(\"10\",#REF!)),\"1\",\"0\")","v":"0"},{"$f":"IF(ISNUMBER(SEARCH(\"11\",#REF!)),\"1\",\"0\")","v":"0"},{"$f":"IF(ISNUMBER(SEARCH(\"12\",#REF!)),\"1\",\"0\")","v":"0"},{"$f":"IF(ISNUMBER(SEARCH(\"13\",#REF!)),\"1\",\"0\")","v":"0"},{"$f":"IF(ISNUMBER(SEARCH(\"14\",#REF!)),\"1\",\"0\")","v":"0"},{"$f":"IF(ISNUMBER(SEARCH(\"15\",#REF!)),\"1\",\"0\")","v":"0"},{"$f":"IF(ISNUMBER(SEARCH(\"16\",#REF!)),\"1\",\"0\")","v":"0"},{"$f":"IF(ISNUMBER(SEARCH(\"17\",#REF!)),\"1\",\"0\")","v":"0"}]
[2,22,1,"MN",2,30,null,2,3,1,0,1,2,1,"1","0","0","0","0","0","0","0","0","0","0","0","0","0","0","0","0","0",null,null,1,5,2,{"$f":"IF(ISNUMBER(SEARCH(\"1\",#REF!)),\"1\",\"0\")","v":"0"},{"$f":"IF(ISNUMBER(SEARCH(\"2\",#REF!)),\"1\",\"0\")","v":"0"},{"$f":"IF(ISNUMBER(SEARCH(\"3\",#REF!)),\"1\",\"0\")","v":"0"},{"$f":"IF(ISNUMBER(SEARCH(\"4\",#REF!)),\"1\",\"0\")","v":"0"},{"$f":"IF(ISNUMBER(SEARCH(\"5\",#REF!)),\"1\",\"0\")","v":"0"},{"$f":"IF(ISNUMBER(SEARCH(\"6\",#REF!)),\"1\",\"0\")","v":"0"},{"$f":"IF(ISNUMBER(SEARCH(\"7\",#REF!)),\"1\",\"0\")","v":"0"},{"$f":"IF(ISNUMBER(SEARCH(\"8\",#REF!)),\"1\",\"0\")","v":"0"},{"$f":"IF(ISNUMBER(SEARCH(\"9\",#REF!)),\"1\",\"0\")","v":"0"},{"$f":"IF(ISNUMBER(SEARCH(\"9\",#REF!)),\"1\",\"0\")","v":"0"},{"$f":"IF(ISNUMBER(SEARCH(\"10\",#REF!)),\"1\",\"0\")","v":"0"},{"$f":"IF(ISNUMBER(SEARCH(\"11\",#REF!)),\"1\",\"0\")","v":"0"},{"$f":"IF(ISNUMBER(SEARCH(\"12\",#REF!)),\"1\",\"0\")","v":"0"},{"$f":"IF(ISNUMBER(SEARCH(\"13\",#REF!)),\"1\",\"0\")","v":"0"},{"$f":"IF(ISNUMBER(SEARCH(\"14\",#REF!)),\"1\",\"0\")","v":"0"},{"$f":"IF(ISNUMBER(SEARCH(\"15\",#REF!)),\"1\",\"0\")","v":"0"},{"$f":"IF(ISNUMBER(SEARCH(\"16\",#REF!)),\"1\",\"0\")","v":"0"},{"$f":"IF(ISNUMBER(SEARCH(\"17\",#REF!)),\"1\",\"0\")","v":"0"},{"$nulls":8},2,{"$nulls":6},4,4]
[2,22,11,"RB",2,19,null,3,3,1,0,3,6,2,"0","1","0","0","0","0","0","0","0","0","0","0","0","0","0","0","0","0",null,null,2,null,null,{"$f":"IF(ISNUMBER(SEARCH(\"1\",#REF!)),\"1\",\"0\")","v":"0"},0,{"$f":"IF(ISNUMBER(SEARCH(\"3\",#REF!)),\"1\",\"0\")","v":"0"},{"$f":"IF(ISNUMBER(SEARCH(\"4\",#REF!)),\"1\",\"0\")","v":"0"},{"$f":"IF(ISNUMBER(SEARCH(\"5\",#REF!)),\"1\",\"0\")","v":"0"},{"$f":"IF(ISNUMBER(SEARCH(\"6\",#REF!)),\"1\",\"0\")","v":"0"},{"$f":"IF(ISNUMBER(SEARCH(\"7\",#REF!)),\"1\",\"0\")","v":"0"},{"$f":"IF(ISNUMBER(SEARCH(\"8\",#REF!)),\"1\",\"0\")","v":"0"},{"$f":"IF(ISNUMBER(SEARCH(\"9\",#REF!)),\"1\",\"0\")","v":"0"},{"$f":"IF(ISNUMBER(SEARCH(\"9\",#REF!)),\"1\",\"0\")","v":"0"},{"$f":"IF(ISNUMBER(SEARCH(\"10\",#REF!)),\"1\",\"0\")","v":"0"},{"$f":"IF(ISNUMBER(SEARCH(\"11\",#REF!)),\"1\",\"0\")","v":"0"},{"$f":"IF(ISNUMBER(SEARCH(\"12\",#REF!)),\"1\",\"0\")","v":"0"},{"$f":"IF(ISNUMBER(SEARCH(\"13\",#REF!)),\"1\",\"0\")","v":"0"},{"$f":"IF(ISNUMBER(SEARCH(\"14\",#REF!)),\"1\",\"0\")","v":"0"},{"$f":"IF(ISNUMBER(SEARCH(\"15\",#REF!)),\"1\",\"0\")","v":"0"},{"$f":"IF(ISNUMBER(SEARCH(\"16\",#REF!)),\"1\",\"0\")","v":"0"},{"$f":"IF(ISNUMBER(SEARCH(\"17\",#REF!)),\"1\",\"0\")","v":"0"},{"$nulls":4},22,14,16,52,3,{"$nulls":6},6,{"$nulls":3},{"$f":"#REF!-#REF!","v":{"$error":"#REF!"}}]
[2,22,11,"MLO",2,37,null,2,3,1,5,3,2,"16. Autre (SVP dans la case suivante) ","1","0","0","0","0","1","0","0","0","0","0","0","0","0","0","1","0","0",{"$nulls":5},{"$f":"IF(ISNUMBER(SEARCH(\"1\",#REF!)),\"1\",\"0\")","v":"0"},{"$f":"IF(ISNUMBER(SEARCH(\"2\",#REF!)),\"1\",\"0\")","v":"0"},{"$f":"IF(ISNUMBER(SEARCH(\"3\",#REF!)),\"1\",\"0\")","v":"0"},{"$f":"IF(ISNUMBER(SEARCH(\"4\",#REF!)),\"1\",\"0\")","v":"0"},{"$f":"IF(ISNUMBER(SEARCH(\"5\",#REF!)),\"1\",\"0\")","v":"0"},{"$f":"IF(ISNUMBER(SEARCH(\"6\",#REF!)),\"1\",\"0\")","v":"0"},{"$f":"IF(ISNUMBER(SEARCH(\"7\",#REF!)),\"1\",\"0\")","v":"0"},{"$f":"IF(ISNUMBER(SEARCH(\"8\",#REF!)),\"1\",\"0\")","v":"0"},{"$f":"IF(ISNUMBER(SEARCH(\"9\",#REF!)),\"1\",\"0\")","v":"0"},{"$f":"IF(ISNUMBER(SEARCH(\"9\",#REF!)),\"1\",\"0\")","v":"0"},{"$f":"IF(ISNUMBER(SEARCH(\"10\",#REF!)),\"1\",\"0\")","v":"0"},{"$f":"IF(ISNUMBER(SEARCH(\"11\",#REF!)),\"1\",\"0\")","v":"0"},{"$f":"IF(ISNUMBER(SEARCH(\"12\",#REF!)),\"1\",\"0\")","v":"0"},{"$f":"IF(ISNUMBER(SEARCH(\"13\",#REF!)),\"1\",\"0\")","v":"0"},{"$f":"IF(ISNUMBER(SEARCH(\"14\",#REF!)),\"1\",\"0\")","v":"0"},{"$f":"IF(ISNUMBER(SEARCH(\"15\",#REF!)),\"1\",\"0\")","v":"0"},{"$f":"IF(ISNUMBER(SEARCH(\"16\",#REF!)),\"1\",\"0\")","v":"0"},{"$f":"IF(ISNUMBER(SEARCH(\"17\",#REF!)),\"1\",\"0\")","v":"0"},{"$nulls":8},6,{"$nulls":6},9,3]
[2,22,11,"MLO",1,32,null,null,3,1,3,1,null,14,"1","0","0","1","0","0","0","0","0","0","0","0","0","1","0","0","0","0",null,null,4,4,null,{"$f":"IF(ISNUMBER(SEARCH(\"1\",#REF!)),\"1\",\"0\")","v":"0"},{"$f":"IF(ISNUMBER(SEARCH(\"2\",#REF!)),\"1\",\"0\")","v":"0"},{"$f":"IF(ISNUMBER(SEARCH(\"3\",#REF!)),\"1\",\"0\")","v":"0"},{"$f":"IF(ISNUMBER(SEARCH(\"4\",#REF!)),\"1\",\"0\")","v":"0"},{"$f":"IF(ISNUMBER(SEARCH(\"5\",#REF!)),\"1\",\"0\")","v":"0"},{"$f":"IF(ISNUMBER(SEARCH(\"6\",#REF!)),\"1\",\"0\")","v":"0"},{"$f":"IF(ISNUMBER(SEARCH(\"7\",#REF!)),\"1\",\"0\")","v":"0"},{"$f":"IF(ISNUMBER(SEARCH(\"8\",#REF!)),\"1\",\"0\")","v":"0"},{"$f":"IF(ISNUMBER(SEARCH(\"9\",#REF!)),\"1\",\"0\")","v":"0"},{"$f":"IF(ISNUMBER(SEARCH(\"9\",#REF!)),\"1\",\"0\")","v":"0"},{"$f":"IF(ISNUMBER(SEARCH(\"10\",#REF!)),\"1\",\"0\")","v":"0"},{"$f":"IF(ISNUMBER(SEARCH(\"11\",#REF!)),\"1\",\"0\")","v":"0"},{"$f":"IF(ISNUMBER(SEARCH(\"12\",#REF!)),\"1\",\"0\")","v":"0"},{"$f":"IF(ISNUMBER(SEARCH(\"13\",#REF!)),\"1\",\"0\")","v":"0"},{"$f":"IF(ISNUMBER(SEARCH(\"14\",#REF!)),\"1\",\"0\")","v":"0"},{"$f":"IF(ISNUMBER(SEARCH(\"15\",#REF!)),\"1\",\"0\")","v":"0"},{"$f":"IF(ISNUMBER(SEARCH(\"16\",#REF!)),\"1\",\"0\")","v":"0"},{"$f":"IF(ISNUMBER(SEARCH(\"17\",#REF!)),\"1\",\"0\")","v":"0"},{"$nulls":4},16,20,10,46,9,null,4,8,2,14,null,12,3,null,null,{"$f":"#REF!-#REF!","v":{"$error":"#REF!"}}]
[2,22,11,"ZR",2,16,null,2,7,1,0,11,1,1,"1","0","0","0","0","0","0","0","0","0","0","0","0","0","0","0","0","0",null,null,3,5,2,{"$f":"IF(ISNUMBER(SEARCH(\"1\",#REF!)),\"1\",\"0\")","v":"0"},{"$f":"IF(ISNUMBER(SEARCH(\"2\",#REF!)),\"1\",\"0\")","v":"0"},{"$f":"IF(ISNUMBER(SEARCH(\"3\",#REF!)),\"1\",\"0\")","v":"0"},{"$f":"IF(ISNUMBER(SEARCH(\"4\",#REF!)),\"1\",\"0\")","v":"0"},{"$f":"IF(ISNUMBER(SEARCH(\"5\",#REF!)),\"1\",\"0\")","v":"0"},{"$f":"IF(ISNUMBER(SEARCH(\"6\",#REF!)),\"1\",\"0\")","v":"0"},{"$f":"IF(ISNUMBER(SEARCH(\"7\",#REF!)),\"1\",\"0\")","v":"0"},{"$f":"IF(ISNUMBER(SEARCH(\"8\",#REF!)),\"1\",\"0\")","v":"0"},{"$f":"IF(ISNUMBER(SEARCH(\"9\",#REF!)),\"1\",\"0\")","v":"0"},{"$f":"IF(ISNUMBER(SEARCH(\"9\",#REF!)),\"1\",\"0\")","v":"0"},{"$f":"IF(ISNUMBER(SEARCH(\"10\",#REF!)),\"1\",\"0\")","v":"0"},{"$f":"IF(ISNUMBER(SEARCH(\"11\",#REF!)),\"1\",\"0\")","v":"0"},{"$f":"IF(ISNUMBER(SEARCH(\"12\",#REF!)),\"1\",\"0\")","v":"0"},{"$f":"IF(ISNUMBER(SEARCH(\"13\",#REF!)),\"1\",\"0\")","v":"0"},{"$f":"IF(ISNUMBER(SEARCH(\"14\",#REF!)),\"1\",\"0\")","v":"0"},{"$f":"IF(ISNUMBER(SEARCH(\"15\",#REF!)),\"1\",\"0\")","v":"0"},{"$f":"IF(ISNUMBER(SEARCH(\"16\",#REF!)),\"1\",\"0\")","v":"0"},{"$f":"IF(ISNUMBER(SEARCH(\"17\",#REF!)),\"1\",\"0\")","v":"0"},{"$nulls":8},13,{"$nulls":6},14,4]
[2,22,11,"MLO",2,13,null,2,2,1,0,1,1,3,"0","0","1","0","0","0","0","0","0","0","0","0","0","0","0","0","0","0",null,null,7,null,1,{"$f":"IF(ISNUMBER(SEARCH(\"1\",#REF!)),\"1\",\"0\")","v":"0"},{"$f":"IF(ISNUMBER(SEARCH(\"2\",#REF!)),\"1\",\"0\")","v":"0"},{"$f":"IF(ISNUMBER(SEARCH(\"3\",#REF!)),\"1\",\"0\")","v":"0"},{"$f":"IF(ISNUMBER(SEARCH(\"4\",#REF!)),\"1\",\"0\")","v":"0"},{"$f":"IF(ISNUMBER(SEARCH(\"5\",#REF!)),\"1\",\"0\")","v":"0"},{"$f":"IF(ISNUMBER(SEARCH(\"6\",#REF!)),\"1\",\"0\")","v":"0"},{"$f":"IF(ISNUMBER(SEARCH(\"7\",#REF!)),\"1\",\"0\")","v":"0"},{"$f":"IF(ISNUMBER(SEARCH(\"8\",#REF!)),\"1\",\"0\")","v":"0"},{"$f":"IF(ISNUMBER(SEARCH(\"9\",#REF!)),\"1\",\"0\")","v":"0"},{"$f":"IF(ISNUMBER(SEARCH(\"9\",#REF!)),\"1\",\"0\")","v":"0"},{"$f":"IF(ISNUMBER(SEARCH(\"10\",#REF!)),\"1\",\"0\")","v":"0"},{"$f":"IF(ISNUMBER(SEARCH(\"11\",#REF!)),\"1\",\"0\")","v":"0"},{"$f":"IF(ISNUMBER(SEARCH(\"12\",#REF!)),\"1\",\"0\")","v":"0"},{"$f":"IF(ISNUMBER(SEARCH(\"13\",#REF!)),\"1\",\"0\")","v":"0"},{"$f":"IF(ISNUMBER(SEARCH(\"14\",#REF!)),\"1\",\"0\")","v":"0"},{"$f":"IF(ISNUMBER(SEARCH(\"15\",#REF!)),\"1\",\"0\")","v":"0"},{"$f":"IF(ISNUMBER(SEARCH(\"16\",#REF!)),\"1\",\"0\")","v":"0"},{"$f":"IF(ISNUMBER(SEARCH(\"17\",#REF!)),\"1\",\"0\")","v":"0"},3,{"$nulls":3},8,8,14,30,11,null,2,0,2,4,null,13,4,null,null,{"$f":"#REF!-#REF!","v":{"$error":"#REF!"}}]
[2,22,11,"MLO",2,22,null,1,3,1,1,11,2,3,{"$f":"IF(ISNUMBER(SEARCH(\"1\",$N451)),\"1\",\"0\")","v":"0"},{"$f":"IF(ISNUMBER(SEARCH(\"2\",$N451)),\"1\",\"0\")","v":"0"},{"$f":"IF(ISNUMBER(SEARCH(\"3\",$N451)),\"1\",\"0\")","v":"1"},{"$f":"IF(ISNUMBER(SEARCH(\"4\",$N451)),\"1\",\"0\")","v":"0"},{"$f":"IF(ISNUMBER(SEARCH(\"5\",$N451)),\"1\",\"0\")","v":"0"},{"$f":"IF(ISNUMBER(SEARCH(\"6\",$N451)),\"1\",\"0\")","v":"0"},{"$f":"IF(ISNUMBER(SEARCH(\"7\",$N451)),\"1\",\"0\")","v":"0"},{"$f":"IF(ISNUMBER(SEARCH(\"8\",$N451)),\"1\",\"0\")","v":"0"},{"$f":"IF(ISNUMBER(SEARCH(\"9\",$N451)),\"1\",\"0\")","v":"0"},{"$f":"IF(ISNUMBER(SEARCH(\"10\",$N451)),\"1\",\"0\")","v":"0"},{"$f":"IF(ISNUMBER(SEARCH(\"11\",$N451)),\"1\",\"0\")","v":"0"},{"$f":"IF(ISNUMBER(SEARCH(\"12\",$N451)),\"1\",\"0\")","v":"0"},{"$f":"IF(ISNUMBER(SEARCH(\"13\",$N451)),\"1\",\"0\")","v":"0"},{"$f":"IF(ISNUMBER(SEARCH(\"14\",$N451)),\"1\",\"0\")","v":"0"},{"$f":"IF(ISNUMBER(SEARCH(\"15\",$N451)),\"1\",\"0\")","v":"0"},{"$f":"IF(ISNUMBER(SEARCH(\"16\",$N451)),\"1\",\"0\")","v":"0"},{"$f":"IF(ISNUMBER(SEARCH(\"17\",$N451)),\"1\",\"0\")","v":"0"},{"$f":"IF(ISNUMBER(SEARCH(\"18\",$N451)),\"1\",\"0\")","v":"0"},null,null,3,4,1,{"$f":"IF(ISNUMBER(SEARCH(\"1\",#REF!)),\"1\",\"0\")","v":"0"},{"$f":"IF(ISNUMBER(SEARCH(\"2\",#REF!)),\"1\",\"0\")","v":"0"},{"$f":"IF(ISNUMBER(SEARCH(\"3\",#REF!)),\"1\",\"0\")","v":"0"},{"$f":"IF(ISNUMBER(SEARCH(\"4\",#REF!)),\"1\",\"0\")","v":"0"},{"$f":"IF(ISNUMBER(SEARCH(\"5\",#REF!)),\"1\",\"0\")","v":"0"},{"$f":"IF(ISNUMBER(SEARCH(\"6\",#REF!)),\"1\",\"0\")","v":"0"},{"$f":"IF(ISNUMBER(SEARCH(\"7\",#REF!)),\"1\",\"0\")","v":"0"},{"$f":"IF(ISNUMBER(SEARCH(\"8\",#REF!)),\"1\",\"0\")","v":"0"},{"$f":"IF(ISNUMBER(SEARCH(\"9\",#REF!)),\"1\",\"0\")","v":"0"},{"$f":"IF(ISNUMBER(SEARCH(\"9\",#REF!)),\"1\",\"0\")","v":"0"},{"$f":"IF(ISNUMBER(SEARCH(\"10\",#REF!)),\"1\",\"0\")","v":"0"},{"$f":"IF(ISNUMBER(SEARCH(\"11\",#REF!)),\"1\",\"0\")","v":"0"},{"$f":"IF(ISNUMBER(SEARCH(\"12\",#REF!)),\"1\",\"0\")","v":"0"},{"$f":"IF(ISNUMBER(SEARCH(\"13\",#REF!)),\"1\",\"0\")","v":"0"},{"$f":"IF(ISNUMBER(SEARCH(\"14\",#REF!)),\"1\",\"0\")","v":"0"},{"$f":"IF(ISNUMBER(SEARCH(\"15\",#REF!)),\"1\",\"0\")","v":"0"},{"$f":"IF(ISNUMBER(SEARCH(\"16\",#REF!)),\"1\",\"0\")","v":"0"},{"$f":"IF(ISNUMBER(SEARCH(\"17\",#REF!)),\"1\",\"0\")","v":"0"},1,{"$nulls":3},12,20,18,{"$f":"BH451+BI451+BJ451","v":50},9,null,0,0,2,{"$f":"BN451+BO451+BP451","v":2},null,12,3,null,null,{"$f":"#REF!-#REF!","v":{"$error":"#REF!"}}]
[2,22,11,"RB",2,39,null,1,3,1,9,11,2,2,"0","1","0","0","0","0","0","0","0","0","0","0","0","0","0","0","0","0",null,null,3,5,2,{"$f":"IF(ISNUMBER(SEARCH(\"1\",#REF!)),\"1\",\"0\")","v":"0"},{"$f":"IF(ISNUMBER(SEARCH(\"2\",#REF!)),\"1\",\"0\")","v":"0"},{"$f":"IF(ISNUMBER(SEARCH(\"3\",#REF!)),\"1\",\"0\")","v":"0"},{"$f":"IF(ISNUMBER(SEARCH(\"4\",#REF!)),\"1\",\"0\")","v":"0"},{"$f":"IF(ISNUMBER(SEARCH(\"5\",#REF!)),\"1\",\"0\")","v":"0"},{"$f":"IF(ISNUMBER(SEARCH(\"6\",#REF!)),\"1\",\"0\")","v":"0"},{"$f":"IF(ISNUMBER(SEARCH(\"7\",#REF!)),\"1\",\"0\")","v":"0"},{"$f":"IF(ISNUMBER(SEARCH(\"8\",#REF!)),\"1\",\"0\")","v":"0"},{"$f":"IF(ISNUMBER(SEARCH(\"9\",#REF!)),\"1\",\"0\")","v":"0"},{"$f":"IF(ISNUMBER(SEARCH(\"9\",#REF!)),\"1\",\"0\")","v":"0"},{"$f":"IF(ISNUMBER(SEARCH(\"10\",#REF!)),\"1\",\"0\")","v":"0"},{"$f":"IF(ISNUMBER(SEARCH(\"11\",#REF!)),\"1\",\"0\")","v":"0"},{"$f":"IF(ISNUMBER(SEARCH(\"12\",#REF!)),\"1\",\"0\")","v":"0"},{"$f":"IF(ISNUMBER(SEARCH(\"13\",#REF!)),\"1\",\"0\")","v":"0"},{"$f":"IF(ISNUMBER(SEARCH(\"14\",#REF!)),\"1\",\"0\")","v":"0"},{"$f":"IF(ISNUMBER(SEARCH(\"15\",#REF!)),\"1\",\"0\")","v":"0"},{"$f":"IF(ISNUMBER(SEARCH(\"16\",#REF!)),\"1\",\"0\")","v":"0"},{"$f":"IF(ISNUMBER(SEARCH(\"17\",#REF!)),\"1\",\"0\")","v":"0"},{"$nulls":4},10,16,4,30,6,null,0,2,0,2,null,8,5,null,null,{"$f":"#REF!-#REF!","v":{"$error":"#REF!"}}]
[2,22,11,"RB",2,44,null,1,3,2,6,3,null,1,"1","0","0","0","0","0","0","0","0","0","0","0","0","0","0","0","0","0",null,null,4,5,2,{"$f":"IF(ISNUMBER(SEARCH(\"1\",#REF!)),\"1\",\"0\")","v":"0"},{"$f":"IF(ISNUMBER(SEARCH(\"2\",#REF!)),\"1\",\"0\")","v":"0"},{"$f":"IF(ISNUMBER(SEARCH(\"3\",#REF!)),\"1\",\"0\")","v":"0"},{"$f":"IF(ISNUMBER(SEARCH(\"4\",#REF!)),\"1\",\"0\")","v":"0"},{"$f":"IF(ISNUMBER(SEARCH(\"5\",#REF!)),\"1\",\"0\")","v":"0"},{"$f":"IF(ISNUMBER(SEARCH(\"6\",#REF!)),\"1\",\"0\")","v":"0"},{"$f":"IF(ISNUMBER(SEARCH(\"7\",#REF!)),\"1\",\"0\")","v":"0"},{"$f":"IF(ISNUMBER(SEARCH(\"8\",#REF!)),\"1\",\"0\")","v":"0"},{"$f":"IF(ISNUMBER(SEARCH(\"9\",#REF!)),\"1\",\"0\")","v":"0"},{"$f":"IF(ISNUMBER(SEARCH(\"9\",#REF!)),\"1\",\"0\")","v":"0"},{"$f":"IF(ISNUMBER(SEARCH(\"10\",#REF!)),\"1\",\"0\")","v":"0"},{"$f":"IF(ISNUMBER(SEARCH(\"11\",#REF!)),\"1\",\"0\")","v":"0"},{"$f":"IF(ISNUMBER(SEARCH(\"12\",#REF!)),\"1\",\"0\")","v":"0"},{"$f":"IF(ISNUMBER(SEARCH(\"13\",#REF!)),\"1\",\"0\")","v":"0"},{"$f":"IF(ISNUMBER(SEARCH(\"14\",#REF!)),\"1\",\"0\")","v":"0"},{"$f":"IF(ISNUMBER(SEARCH(\"15\",#REF!)),\"1\",\"0\")","v":"0"},{"$f":"IF(ISNUMBER(SEARCH(\"16\",#REF!)),\"1\",\"0\")","v":"0"},{"$f":"IF(ISNUMBER(SEARCH(\"17\",#REF!)),\"1\",\"0\")","v":"0"},{"$nulls":4},10,10,12,32,10,null,0,0,2,2,null,14,3,null,null,{"$f":"#REF!-#REF!","v":{"$error":"#REF!"}}]
[2,22,11,"MLO",2,22,null,2,3,1,1,5,2,3,"0","0","1","0","0","0","0","0","0","0","0","0","0","0","0","0","0","0",null,null,3,5,2,{"$f":"IF(ISNUMBER(SEARCH(\"1\",#REF!)),\"1\",\"0\")","v":"0"},{"$f":"IF(ISNUMBER(SEARCH(\"2\",#REF!)),\"1\",\"0\")","v":"0"},{"$f":"IF(ISNUMBER(SEARCH(\"3\",#REF!)),\"1\",\"0\")","v":"0"},{"$f":"IF(ISNUMBER(SEARCH(\"4\",#REF!)),\"1\",\"0\")","v":"0"},{"$f":"IF(ISNUMBER(SEARCH(\"5\",#REF!)),\"1\",\"0\")","v":"0"},{"$f":"IF(ISNUMBER(SEARCH(\"6\",#REF!)),\"1\",\"0\")","v":"0"},{"$f":"IF(ISNUMBER(SEARCH(\"7\",#REF!)),\"1\",\"0\")","v":"0"},{"$f":"IF(ISNUMBER(SEARCH(\"8\",#REF!)),\"1\",\"0\")","v":"0"},{"$f":"IF(ISNUMBER(SEARCH(\"9\",#REF!)),\"1\",\"0\")","v":"0"},{"$f":"IF(ISNUMBER(SEARCH(\"9\",#REF!)),\"1\",\"0\")","v":"0"},{"$f":"IF(ISNUMBER(SEARCH(\"10\",#REF!)),\"1\",\"0\")","v":"0"},{"$f":"IF(ISNUMBER(SEARCH(\"11\",#REF!)),\"1\",\"0\")","v":"0"},{"$f":"IF(ISNUMBER(SEARCH(\"12\",#REF!)),\"1\",\"0\")","v":"0"},{"$f":"IF(ISNUMBER(SEARCH(\"13\",#REF!)),\"1\",\"0\")","v":"0"},{"$f":"IF(ISNUMBER(SEARCH(\"14\",#REF!)),\"1\",\"0\")","v":"0"},{"$f":"IF(ISNUMBER(SEARCH(\"15\",#REF!)),\"1\",\"0\")","v":"0"},{"$f":"IF(ISNUMBER(SEARCH(\"16\",#REF!)),\"1\",\"0\")","v":"0"},{"$f":"IF(ISNUMBER(SEARCH(\"17\",#REF!)),\"1\",\"0\")","v":"0"},1,2,null,null,16,16,16,48,12,null,2,0,2,4,null,14,4,null,null,{"$f":"#REF!-#REF!","v":{"$error":"#REF!"}}]
[2,22,11,"MLO",2,37,null,2,3,2,0,8,7,3,"0","0","1","0","0","0","0","0","0","0","0","0","0","0","0","0","0","0",null,null,1,5,2,{"$f":"IF(ISNUMBER(SEARCH(\"1\",#REF!)),\"1\",\"0\")","v":"0"},{"$f":"IF(ISNUMBER(SEARCH(\"2\",#REF!)),\"1\",\"0\")","v":"0"},{"$f":"IF(ISNUMBER(SEARCH(\"3\",#REF!)),\"1\",\"0\")","v":"0"},{"$f":"IF(ISNUMBER(SEARCH(\"4\",#REF!)),\"1\",\"0\")","v":"0"},{"$f":"IF(ISNUMBER(SEARCH(\"5\",#REF!)),\"1\",\"0\")","v":"0"},{"$f":"IF(ISNUMBER(SEARCH(\"6\",#REF!)),\"1\",\"0\")","v":"0"},{"$f":"IF(ISNUMBER(SEARCH(\"7\",#REF!)),\"1\",\"0\")","v":"0"},{"$f":"IF(ISNUMBER(SEARCH(\"8\",#REF!)),\"1\",\"0\")","v":"0"},{"$f":"IF(ISNUMBER(SEARCH(\"9\",#REF!)),\"1\",\"0\")","v":"0"},{"$f":"IF(ISNUMBER(SEARCH(\"9\",#REF!)),\"1\",\"0\")","v":"0"},{"$f":"IF(ISNUMBER(SEARCH(\"10\",#REF!)),\"1\",\"0\")","v":"0"},{"$f":"IF(ISNUMBER(SEARCH(\"11\",#REF!)),\"1\",\"0\")","v":"0"},{"$f":"IF(ISNUMBER(SEARCH(\"12\",#REF!)),\"1\",\"0\")","v":"0"},{"$f":"IF(ISNUMBER(SEARCH(\"13\",#REF!)),\"1\",\"0\")","v":"0"},{"$f":"IF(ISNUMBER(SEARCH(\"14\",#REF!)),\"1\",\"0\")","v":"0"},{"$f":"IF(ISNUMBER(SEARCH(\"15\",#REF!)),\"1\",\"0\")","v":"0"},{"$f":"IF(ISNUMBER(SEARCH(\"16\",#REF!)),\"1\",\"0\")","v":"0"},{"$f":"IF(ISNUMBER(SEARCH(\"17\",#REF!)),\"1\",\"0\")","v":"0"},3,2,null,null,8,18,4,30,9,null,0,0,6,6,null,13,4,null,null,{"$f":"#REF!-#REF!","v":{"$error":"#REF!"}}]
[2,22,11,"ZR",1,33,null,3,7,1,3,11,2,1,"1","0","0","0","0","0","0","0","0","0","0","0","0","0","0","0","0","0",null,null,3,3,1,{"$f":"IF(ISNUMBER(SEARCH(\"1\",#REF!)),\"1\",\"0\")","v":"0"},{"$f":"IF(ISNUMBER(SEARCH(\"2\",#REF!)),\"1\",\"0\")","v":"0"},{"$f":"IF(ISNUMBER(SEARCH(\"3\",#REF!)),\"1\",\"0\")","v":"0"},{"$f":"IF(ISNUMBER(SEARCH(\"4\",#REF!)),\"1\",\"0\")","v":"0"},{"$f":"IF(ISNUMBER(SEARCH(\"5\",#REF!)),\"1\",\"0\")","v":"0"},{"$f":"IF(ISNUMBER(SEARCH(\"6\",#REF!)),\"1\",\"0\")","v":"0"},{"$f":"IF(ISNUMBER(SEARCH(\"7\",#REF!)),\"1\",\"0\")","v":"0"},{"$f":"IF(ISNUMBER(SEARCH(\"8\",#REF!)),\"1\",\"0\")","v":"0"},{"$f":"IF(ISNUMBER(SEARCH(\"9\",#REF!)),\"1\",\"0\")","v":"0"},{"$f":"IF(ISNUMBER(SEARCH(\"9\",#REF!)),\"1\",\"0\")","v":"0"},{"$f":"IF(ISNUMBER(SEARCH(\"10\",#REF!)),\"1\",\"0\")","v":"0"},{"$f":"IF(ISNUMBER(SEARCH(\"11\",#REF!)),\"1\",\"0\")","v":"0"},{"$f":"IF(ISNUMBER(SEARCH(\"12\",#REF!)),\"1\",\"0\")","v":"0"},{"$f":"IF(ISNUMBER(SEARCH(\"13\",#REF!)),\"1\",\"0\")","v":"0"},{"$f":"IF(ISNUMBER(SEARCH(\"14\",#REF!)),\"1\",\"0\")","v":"0"},{"$f":"IF(ISNUMBER(SEARCH(\"15\",#REF!)),\"1\",\"0\")","v":"0"},{"$f":"IF(ISNUMBER(SEARCH(\"16\",#REF!)),\"1\",\"0\")","v":"0"},{"$f":"IF(ISNUMBER(SEARCH(\"17\",#REF!)),\"1\",\"0\")","v":"0"},null,2,null,null,12,0,2,14,7,null,0,6,0,6,null,10,3,null,{"$f":"#REF!-#REF!","v":{"$error":"#REF!"}},{"$f":"#REF!-#REF!","v":{"$error":"#REF!"}}]
[2,22,11,"ZR",1,19,null,2,2,1,0,4,1,1,"1","0","0","0","0","0","0","0","0","0","0","0","0","0","0","0","0","0",null,null,3,5,2,{"$f":"IF(ISNUMBER(SEARCH(\"1\",#REF!)),\"1\",\"0\")","v":"0"},{"$f":"IF(ISNUMBER(SEARCH(\"2\",#REF!)),\"1\",\"0\")","v":"0"},{"$f":"IF(ISNUMBER(SEARCH(\"3\",#REF!)),\"1\",\"0\")","v":"0"},{"$f":"IF(ISNUMBER(SEARCH(\"4\",#REF!)),\"1\",\"0\")","v":"0"},{"$f":"IF(ISNUMBER(SEARCH(\"5\",#REF!)),\"1\",\"0\")","v":"0"},{"$f":"IF(ISNUMBER(SEARCH(\"6\",#REF!)),\"1\",\"0\")","v":"0"},{"$f":"IF(ISNUMBER(SEARCH(\"7\",#REF!)),\"1\",\"0\")","v":"0"},{"$f":"IF(ISNUMBER(SEARCH(\"8\",#REF!)),\"1\",\"0\")","v":"0"},{"$f":"IF(ISNUMBER(SEARCH(\"9\",#REF!)),\"1\",\"0\")","v":"0"},{"$f":"IF(ISNUMBER(SEARCH(\"9\",#REF!)),\"1\",\"0\")","v":"0"},{"$f":"IF(ISNUMBER(SEARCH(\"10\",#REF!)),\"1\",\"0\")","v":"0"},{"$f":"IF(ISNUMBER(SEARCH(\"11\",#REF!)),\"1\",\"0\")","v":"0"},{"$f":"IF(ISNUMBER(SEARCH(\"12\",#REF!)),\"1\",\"0\")","v":"0"},{"$f":"IF(ISNUMBER(SEARCH(\"13\",#REF!)),\"1\",\"0\")","v":"0"},{"$f":"IF(ISNUMBER(SEARCH(\"14\",#REF!)),\"1\",\"0\")","v":"0"},{"$f":"IF(ISNUMBER(SEARCH(\"15\",#REF!)),\"1\",\"0\")","v":"0"},{"$f":"IF(ISNUMBER(SEARCH(\"16\",#REF!)),\"1\",\"0\")","v":"0"},{"$f":"IF(ISNUMBER(SEARCH(\"17\",#REF!)),\"1\",\"0\")","v":"0"},null,2,null,null,12,12,20,44,12,{"$nulls":6},14,3,null,{"$f":"#REF!-#REF!","v":{"$error":"#REF!"}},{"$f":"#REF!-#REF!","v":{"$error":"#REF!"}}]
[2,22,11,"MLO",2,17,null,3,2,1,0,11,1,3,"0","0","1","0","0","0","0","0","0","0","0","0","0","0","0","0","0","0",null,null,3,5,1,{"$f":"IF(ISNUMBER(SEARCH(\"1\",#REF!)),\"1\",\"0\")","v":"0"},{"$f":"IF(ISNUMBER(SEARCH(\"2\",#REF!)),\"1\",\"0\")","v":"0"},{"$f":"IF(ISNUMBER(SEARCH(\"3\",#REF!)),\"1\",\"0\")","v":"0"},{"$f":"IF(ISNUMBER(SEARCH(\"4\",#REF!)),\"1\",\"0\")","v":"0"},{"$f":"IF(ISNUMBER(SEARCH(\"5\",#REF!)),\"1\",\"0\")","v":"0"},{"$f":"IF(ISNUMBER(SEARCH(\"6\",#REF!)),\"1\",\"0\")","v":"0"},{"$f":"IF(ISNUMBER(SEARCH(\"7\",#REF!)),\"1\",\"0\")","v":"0"},{"$f":"IF(ISNUMBER(SEARCH(\"8\",#REF!)),\"1\",\"0\")","v":"0"},{"$f":"IF(ISNUMBER(SEARCH(\"9\",#REF!)),\"1\",\"0\")","v":"0"},{"$f":"IF(ISNUMBER(SEARCH(\"9\",#REF!)),\"1\",\"0\")","v":"0"},{"$f":"IF(ISNUMBER(SEARCH(\"10\",#REF!)),\"1\",\"0\")","v":"0"},{"$f":"IF(ISNUMBER(SEARCH(\"11\",#REF!)),\"1\",\"0\")","v":"0"},{"$f":"IF(ISNUMBER(SEARCH(\"12\",#REF!)),\"1\",\"0\")","v":"0"},{"$f":"IF(ISNUMBER(SEARCH(\"13\",#REF!)),\"1\",\"0\")","v":"0"},{"$f":"IF(ISNUMBER(SEARCH(\"14\",#REF!)),\"1\",\"0\")","v":"0"},{"$f":"IF(ISNUMBER(SEARCH(\"15\",#REF!)),\"1\",\"0\")","v":"0"},{"$f":"IF(ISNUMBER(SEARCH(\"16\",#REF!)),\"1\",\"0\")","v":"0"},{"$f":"IF(ISNUMBER(SEARCH(\"17\",#REF!)),\"1\",\"0\")","v":"0"},1,3,null,null,18,18,6,42,8,null,0,2,2,4,null,9,4,null,{"$f":"#REF!-#REF!","v":{"$error":"#REF!"}},{"$f":"#REF!-#REF!","v":{"$error":"#REF!"}}]
[2,22,11,"ZR",2,47,null,1,3,1,8,3,2,3,"0","0","1","0","0","0","0","0","0","0","0","0","0","0","0","0","0","0",null,null,3,5,2,{"$f":"IF(ISNUMBER(SEARCH(\"1\",#REF!)),\"1\",\"0\")","v":"0"},{"$f":"IF(ISNUMBER(SEARCH(\"2\",#REF!)),\"1\",\"0\")","v":"0"},{"$f":"IF(ISNUMBER(SEARCH(\"3\",#REF!)),\"1\",\"0\")","v":"0"},{"$f":"IF(ISNUMBER(SEARCH(\"4\",#REF!)),\"1\",\"0\")","v":"0"},{"$f":"IF(ISNUMBER(SEARCH(\"5\",#REF!)),\"1\",\"0\")","v":"0"},{"$f":"IF(ISNUMBER(SEARCH(\"6\",#REF!)),\"1\",\"0\")","v":"0"},{"$f":"IF(ISNUMBER(SEARCH(\"7\",#REF!)),\"1\",\"0\")","v":"0"},{"$f":"IF(ISNUMBER(SEARCH(\"8\",#REF!)),\"1\",\"0\")","v":"0"},{"$f":"IF(ISNUMBER(SEARCH(\"9\",#REF!)),\"1\",\"0\")","v":"0"},{"$f":"IF(ISNUMBER(SEARCH(\"9\",#REF!)),\"1\",\"0\")","v":"0"},{"$f":"IF(ISNUMBER(SEARCH(\"10\",#REF!)),\"1\",\"0\")","v":"0"},{"$f":"IF(ISNUMBER(SEARCH(\"11\",#REF!)),\"1\",\"0\")","v":"0"},{"$f":"IF(ISNUMBER(SEARCH(\"12\",#REF!)),\"1\",\"0\")","v":"0"},{"$f":"IF(ISNUMBER(SEARCH(\"13\",#REF!)),\"1\",\"0\")","v":"0"},{"$f":"IF(ISNUMBER(SEARCH(\"14\",#REF!)),\"1\",\"0\")","v":"0"},{"$f":"IF(ISNUMBER(SEARCH(\"15\",#REF!)),\"1\",\"0\")","v":"0"},{"$f":"IF(ISNUMBER(SEARCH(\"16\",#REF!)),\"1\",\"0\")","v":"0"},{"$f":"IF(ISNUMBER(SEARCH(\"17\",#REF!)),\"1\",\"0\")","v":"0"},5,2,null,null,22,10,18,50,6,null,4,0,0,4,null,9,3,null,{"$f":"#REF!-#REF!","v":{"$error":"#REF!"}},{"$f":"#REF!-#REF!","v":{"$error":"#REF!"}}]
[2,22,11,"ZR",2,51,null,1,3,1,6,3,5,3,"0","0","1","0","0","0","0","0","0","0","0","0","0","0","0","0","0","0",null,null,1,4,2,{"$f":"IF(ISNUMBER(SEARCH(\"1\",#REF!)),\"1\",\"0\")","v":"0"},{"$f":"IF(ISNUMBER(SEARCH(\"2\",#REF!)),\"1\",\"0\")","v":"0"},{"$f":"IF(ISNUMBER(SEARCH(\"3\",#REF!)),\"1\",\"0\")","v":"0"},{"$f":"IF(ISNUMBER(SEARCH(\"4\",#REF!)),\"1\",\"0\")","v":"0"},{"$f":"IF(ISNUMBER(SEARCH(\"5\",#REF!)),\"1\",\"0\")","v":"0"},{"$f":"IF(ISNUMBER(SEARCH(\"6\",#REF!)),\"1\",\"0\")","v":"0"},{"$f":"IF(ISNUMBER(SEARCH(\"7\",#REF!)),\"1\",\"0\")","v":"0"},{"$f":"IF(ISNUMBER(SEARCH(\"8\",#REF!)),\"1\",\"0\")","v":"0"},{"$f":"IF(ISNUMBER(SEARCH(\"9\",#REF!)),\"1\",\"0\")","v":"0"},{"$f":"IF(ISNUMBER(SEARCH(\"9\",#REF!)),\"1\",\"0\")","v":"0"},{"$f":"IF(ISNUMBER(SEARCH(\"10\",#REF!)),\"1\",\"0\")","v":"0"},{"$f":"IF(ISNUMBER(SEARCH(\"11\",#REF!)),\"1\",\"0\")","v":"0"},{"$f":"IF(ISNUMBER(SEARCH(\"12\",#REF!)),\"1\",\"0\")","v":"0"},{"$f":"IF(ISNUMBER(SEARCH(\"13\",#REF!)),\"1\",\"0\")","v":"0"},{"$f":"IF(ISNUMBER(SEARCH(\"14\",#REF!)),\"1\",\"0\")","v":"0"},{"$f":"IF(ISNUMBER(SEARCH(\"15\",#REF!)),\"1\",\"0\")","v":"0"},{"$f":"IF(ISNUMBER(SEARCH(\"16\",#REF!)),\"1\",\"0\")","v":"0"},{"$f":"IF(ISNUMBER(SEARCH(\"17\",#REF!)),\"1\",\"0\")","v":"0"},2,2,null,null,8,12,4,24,13,null,4,0,0,4,null,14,3,null,{"$f":"#REF!-#REF!","v":{"$error":"#REF!"}},{"$f":"#REF!-#REF!","v":{"$error":"#REF!"}}]
[2,22,11,"RB",2,15,null,2,2,2,0,5,1,3,"0","0","1","0","0","0","0","0","0","0","0","0","0","0","0","0","0","0",null,null,1,4,1,{"$f":"IF(ISNUMBER(SEARCH(\"1\",#REF!)),\"1\",\"0\")","v":"0"},{"$f":"IF(ISNUMBER(SEARCH(\"2\",#REF!)),\"1\",\"0\")","v":"0"},{"$f":"IF(ISNUMBER(SEARCH(\"3\",#REF!)),\"1\",\"0\")","v":"0"},{"$f":"IF(ISNUMBER(SEARCH(\"4\",#REF!)),\"1\",\"0\")","v":"0"},{"$f":"IF(ISNUMBER(SEARCH(\"5\",#REF!)),\"1\",\"0\")","v":"0"},{"$f":"IF(ISNUMBER(SEARCH(\"6\",#REF!)),\"1\",\"0\")","v":"0"},{"$f":"IF(ISNUMBER(SEARCH(\"7\",#REF!)),\"1\",\"0\")","v":"0"},{"$f":"IF(ISNUMBER(SEARCH(\"8\",#REF!)),\"1\",\"0\")","v":"0"},{"$f":"IF(ISNUMBER(SEARCH(\"9\",#REF!)),\"1\",\"0\")","v":"0"},{"$f":"IF(ISNUMBER(SEARCH(\"9\",#REF!)),\"1\",\"0\")","v":"0"},{"$f":"IF(ISNUMBER(SEARCH(\"10\",#REF!)),\"1\",\"0\")","v":"0"},{"$f":"IF(ISNUMBER(SEARCH(\"11\",#REF!)),\"1\",\"0\")","v":"0"},{"$f":"IF(ISNUMBER(SEARCH(\"12\",#REF!)),\"1\",\"0\")","v":"0"},{"$f":"IF(ISNUMBER(SEARCH(\"13\",#REF!)),\"1\",\"0\")","v":"0"},{"$f":"IF(ISNUMBER(SEARCH(\"14\",#REF!)),\"1\",\"0\")","v":"0"},{"$f":"IF(ISNUMBER(SEARCH(\"15\",#REF!)),\"1\",\"0\")","v":"0"},{"$f":"IF(ISNUMBER(SEARCH(\"16\",#REF!)),\"1\",\"0\")","v":"0"},{"$f":"IF(ISNUMBER(SEARCH(\"17\",#REF!)),\"1\",\"0\")","v":"0"},1,2,null,null,0,10,6,16,12,{"$nulls":6},14,4]
[2,22,11,"RB",2,33,null,2,7,1,5,5,6,"16. Autre (SVP dans la case suivante) ","1","0","0","0","0","1","0","0","0","0","0","0","0","0","0","1","0","0",null,null,1,3,null,{"$f":"IF(ISNUMBER(SEARCH(\"1\",#REF!)),\"1\",\"0\")","v":"0"},{"$f":"IF(ISNUMBER(SEARCH(\"2\",#REF!)),\"1\",\"0\")","v":"0"},{"$f":"IF(ISNUMBER(SEARCH(\"3\",#REF!)),\"1\",\"0\")","v":"0"},{"$f":"IF(ISNUMBER(SEARCH(\"4\",#REF!)),\"1\",\"0\")","v":"0"},{"$f":"IF(ISNUMBER(SEARCH(\"5\",#REF!)),\"1\",\"0\")","v":"0"},{"$f":"IF(ISNUMBER(SEARCH(\"6\",#REF!)),\"1\",\"0\")","v":"0"},{"$f":"IF(ISNUMBER(SEARCH(\"7\",#REF!)),\"1\",\"0\")","v":"0"},{"$f":"IF(ISNUMBER(SEARCH(\"8\",#REF!)),\"1\",\"0\")","v":"0"},{"$f":"IF(ISNUMBER(SEARCH(\"9\",#REF!)),\"1\",\"0\")","v":"0"},{"$f":"IF(ISNUMBER(SEARCH(\"9\",#REF!)),\"1\",\"0\")","v":"0"},{"$f":"IF(ISNUMBER(SEARCH(\"10\",#REF!)),\"1\",\"0\")","v":"0"},{"$f":"IF(ISNUMBER(SEARCH(\"11\",#REF!)),\"1\",\"0\")","v":"0"},{"$f":"IF(ISNUMBER(SEARCH(\"12\",#REF!)),\"1\",\"0\")","v":"0"},{"$f":"IF(ISNUMBER(SEARCH(\"13\",#REF!)),\"1\",\"0\")","v":"0"},{"$f":"IF(ISNUMBER(SEARCH(\"14\",#REF!)),\"1\",\"0\")","v":"0"},{"$f":"IF(ISNUMBER(SEARCH(\"15\",#REF!)),\"1\",\"0\")","v":"0"},{"$f":"IF(ISNUMBER(SEARCH(\"16\",#REF!)),\"1\",\"0\")","v":"0"},{"$f":"IF(ISNUMBER(SEARCH(\"17\",#REF!)),\"1\",\"0\")","v":"0"},null,2,null,null,16,12,20,48,11,{"$nulls":6},13,4,null,{"$f":"#REF!-#REF!","v":{"$error":"#REF!"}},{"$f":"#REF!-#REF!","v":{"$error":"#REF!"}}]
[2,22,11,"RB",2,18,null,3,8,1,0,11,1,2,"0","1","0","0","0","0","0","0","0","0","0","0","0","0","0","0","0","0",{"$nulls":3},5,1,{"$f":"IF(ISNUMBER(SEARCH(\"1\",#REF!)),\"1\",\"0\")","v":"0"},{"$f":"IF(ISNUMBER(SEARCH(\"2\",#REF!)),\"1\",\"0\")","v":"0"},{"$f":"IF(ISNUMBER(SEARCH(\"3\",#REF!)),\"1\",\"0\")","v":"0"},{"$f":"IF(ISNUMBER(SEARCH(\"4\",#REF!)),\"1\",\"0\")","v":"0"},{"$f":"IF(ISNUMBER(SEARCH(\"5\",#REF!)),\"1\",\"0\")","v":"0"},{"$f":"IF(ISNUMBER(SEARCH(\"6\",#REF!)),\"1\",\"0\")","v":"0"},{"$f":"IF(ISNUMBER(SEARCH(\"7\",#REF!)),\"1\",\"0\")","v":"0"},{"$f":"IF(ISNUMBER(SEARCH(\"8\",#REF!)),\"1\",\"0\")","v":"0"},{"$f":"IF(ISNUMBER(SEARCH(\"9\",#REF!)),\"1\",\"0\")","v":"0"},{"$f":"IF(ISNUMBER(SEARCH(\"9\",#REF!)),\"1\",\"0\")","v":"0"},{"$f":"IF(ISNUMBER(SEARCH(\"10\",#REF!)),\"1\",\"0\")","v":"0"},{"$f":"IF(ISNUMBER(SEARCH(\"11\",#REF!)),\"1\",\"0\")","v":"0"},{"$f":"IF(ISNUMBER(SEARCH(\"12\",#REF!)),\"1\",\"0\")","v":"0"},{"$f":"IF(ISNUMBER(SEARCH(\"13\",#REF!)),\"1\",\"0\")","v":"0"},{"$f":"IF(ISNUMBER(SEARCH(\"14\",#REF!)),\"1\",\"0\")","v":"0"},{"$f":"IF(ISNUMBER(SEARCH(\"15\",#REF!)),\"1\",\"0\")","v":"0"},{"$f":"IF(ISNUMBER(SEARCH(\"16\",#REF!)),\"1\",\"0\")","v":"0"},{"$f":"IF(ISNUMBER(SEARCH(\"17\",#REF!)),\"1\",\"0\")","v":"0"},{"$nulls":8},10,{"$nulls":6},14,3]
[2,22,11,"RB",2,17,null,3,2,1,0,3,1,"15. Insultes / a reçu des menaces","1","0","0","0","1","0","0","0","0","0","0","0","0","0","1","0","0","0",null,null,2,4,null,{"$f":"IF(ISNUMBER(SEARCH(\"1\",#REF!)),\"1\",\"0\")","v":"0"},{"$f":"IF(ISNUMBER(SEARCH(\"2\",#REF!)),\"1\",\"0\")","v":"0"},{"$f":"IF(ISNUMBER(SEARCH(\"3\",#REF!)),\"1\",\"0\")","v":"0"},{"$f":"IF(ISNUMBER(SEARCH(\"4\",#REF!)),\"1\",\"0\")","v":"0"},{"$f":"IF(ISNUMBER(SEARCH(\"5\",#REF!)),\"1\",\"0\")","v":"0"},{"$f":"IF(ISNUMBER(SEARCH(\"6\",#REF!)),\"1\",\"0\")","v":"0"},{"$f":"IF(ISNUMBER(SEARCH(\"7\",#REF!)),\"1\",\"0\")","v":"0"},{"$f":"IF(ISNUMBER(SEARCH(\"8\",#REF!)),\"1\",\"0\")","v":"0"},{"$f":"IF(ISNUMBER(SEARCH(\"9\",#REF!)),\"1\",\"0\")","v":"0"},{"$f":"IF(ISNUMBER(SEARCH(\"9\",#REF!)),\"1\",\"0\")","v":"0"},{"$f":"IF(ISNUMBER(SEARCH(\"10\",#REF!)),\"1\",\"0\")","v":"0"},{"$f":"IF(ISNUMBER(SEARCH(\"11\",#REF!)),\"1\",\"0\")","v":"0"},{"$f":"IF(ISNUMBER(SEARCH(\"12\",#REF!)),\"1\",\"0\")","v":"0"},{"$f":"IF(ISNUMBER(SEARCH(\"13\",#REF!)),\"1\",\"0\")","v":"0"},{"$f":"IF(ISNUMBER(SEARCH(\"14\",#REF!)),\"1\",\"0\")","v":"0"},{"$f":"IF(ISNUMBER(SEARCH(\"15\",#REF!)),\"1\",\"0\")","v":"0"},{"$f":"IF(ISNUMBER(SEARCH(\"16\",#REF!)),\"1\",\"0\")","v":"0"},{"$f":"IF(ISNUMBER(SEARCH(\"17\",#REF!)),\"1\",\"0\")","v":"0"},{"$nulls":8},11,{"$nulls":6},14,3]
[2,22,11,"ZR",1,20,null,3,2,1,0,11,1,2,"0","1","0","0","0","0","0","0","0","0","0","0","0","0","0","0","0","0",null,null,2,2,2,{"$f":"IF(ISNUMBER(SEARCH(\"1\",#REF!)),\"1\",\"0\")","v":"0"},{"$f":"IF(ISNUMBER(SEARCH(\"2\",#REF!)),\"1\",\"0\")","v":"0"},{"$f":"IF(ISNUMBER(SEARCH(\"3\",#REF!)),\"1\",\"0\")","v":"0"},{"$f":"IF(ISNUMBER(SEARCH(\"4\",#REF!)),\"1\",\"0\")","v":"0"},{"$f":"IF(ISNUMBER(SEARCH(\"5\",#REF!)),\"1\",\"0\")","v":"0"},{"$f":"IF(ISNUMBER(SEARCH(\"6\",#REF!)),\"1\",\"0\")","v":"0"},{"$f":"IF(ISNUMBER(SEARCH(\"7\",#REF!)),\"1\",\"0\")","v":"0"},{"$f":"IF(ISNUMBER(SEARCH(\"8\",#REF!)),\"1\",\"0\")","v":"0"},{"$f":"IF(ISNUMBER(SEARCH(\"9\",#REF!)),\"1\",\"0\")","v":"0"},{"$f":"IF(ISNUMBER(SEARCH(\"9\",#REF!)),\"1\",\"0\")","v":"0"},{"$f":"IF(ISNUMBER(SEARCH(\"10\",#REF!)),\"1\",\"0\")","v":"0"},{"$f":"IF(ISNUMBER(SEARCH(\"11\",#REF!)),\"1\",\"0\")","v":"0"},{"$f":"IF(ISNUMBER(SEARCH(\"12\",#REF!)),\"1\",\"0\")","v":"0"},{"$f":"IF(ISNUMBER(SEARCH(\"13\",#REF!)),\"1\",\"0\")","v":"0"},{"$f":"IF(ISNUMBER(SEARCH(\"14\",#REF!)),\"1\",\"0\")","v":"0"},{"$f":"IF(ISNUMBER(SEARCH(\"15\",#REF!)),\"1\",\"0\")","v":"0"},{"$f":"IF(ISNUMBER(SEARCH(\"16\",#REF!)),\"1\",\"0\")","v":"0"},{"$f":"IF(ISNUMBER(SEARCH(\"17\",#REF!)),\"1\",\"0\")","v":"0"},{"$nulls":8},9,null,4,0,0,4,null,13,4]
[2,22,11,"MLO",2,33,null,1,3,1,4,3,6,3,"0","0","1","0","0","0","0","0","0","0","0","0","0","0","0","0","0","0",null,null,3,5,2,{"$f":"IF(ISNUMBER(SEARCH(\"1\",#REF!)),\"1\",\"0\")","v":"0"},{"$f":"IF(ISNUMBER(SEARCH(\"2\",#REF!)),\"1\",\"0\")","v":"0"},{"$f":"IF(ISNUMBER(SEARCH(\"3\",#REF!)),\"1\",\"0\")","v":"0"},{"$f":"IF(ISNUMBER(SEARCH(\"4\",#REF!)),\"1\",\"0\")","v":"0"},{"$f":"IF(ISNUMBER(SEARCH(\"5\",#REF!)),\"1\",\"0\")","v":"0"},{"$f":"IF(ISNUMBER(SEARCH(\"6\",#REF!)),\"1\",\"0\")","v":"0"},{"$f":"IF(ISNUMBER(SEARCH(\"7\",#REF!)),\"1\",\"0\")","v":"0"},{"$f":"IF(ISNUMBER(SEARCH(\"8\",#REF!)),\"1\",\"0\")","v":"0"},{"$f":"IF(ISNUMBER(SEARCH(\"9\",#REF!)),\"1\",\"0\")","v":"0"},{"$f":"IF(ISNUMBER(SEARCH(\"9\",#REF!)),\"1\",\"0\")","v":"0"},{"$f":"IF(ISNUMBER(SEARCH(\"10\",#REF!)),\"1\",\"0\")","v":"0"},{"$f":"IF(ISNUMBER(SEARCH(\"11\",#REF!)),\"1\",\"0\")","v":"0"},{"$f":"IF(ISNUMBER(SEARCH(\"12\",#REF!)),\"1\",\"0\")","v":"0"},{"$f":"IF(ISNUMBER(SEARCH(\"13\",#REF!)),\"1\",\"0\")","v":"0"},{"$f":"IF(ISNUMBER(SEARCH(\"14\",#REF!)),\"1\",\"0\")","v":"0"},{"$f":"IF(ISNUMBER(SEARCH(\"15\",#REF!)),\"1\",\"0\")","v":"0"},{"$f":"IF(ISNUMBER(SEARCH(\"16\",#REF!)),\"1\",\"0\")","v":"0"},{"$f":"IF(ISNUMBER(SEARCH(\"17\",#REF!)),\"1\",\"0\")","v":"0"},1,2,null,null,18,4,6,28,8,{"$nulls":6},9,4,null,{"$f":"#REF!-#REF!","v":{"$error":"#REF!"}},{"$f":"#REF!-#REF!","v":{"$error":"#REF!"}}]
[2,22,11,"ZR",2,29,null,3,3,2,1,11,5,1,"1","0","0","0","0","0","0","0","0","0","0","0","0","0","0","0","0","0",null,null,1,5,2,{"$f":"IF(ISNUMBER(SEARCH(\"1\",#REF!)),\"1\",\"0\")","v":"0"},{"$f":"IF(ISNUMBER(SEARCH(\"2\",#REF!)),\"1\",\"0\")","v":"0"},{"$f":"IF(ISNUMBER(SEARCH(\"3\",#REF!)),\"1\",\"0\")","v":"0"},{"$f":"IF(ISNUMBER(SEARCH(\"4\",#REF!)),\"1\",\"0\")","v":"0"},{"$f":"IF(ISNUMBER(SEARCH(\"5\",#REF!)),\"1\",\"0\")","v":"0"},{"$f":"IF(ISNUMBER(SEARCH(\"6\",#REF!)),\"1\",\"0\")","v":"0"},{"$f":"IF(ISNUMBER(SEARCH(\"7\",#REF!)),\"1\",\"0\")","v":"0"},{"$f":"IF(ISNUMBER(SEARCH(\"8\",#REF!)),\"1\",\"0\")","v":"0"},{"$f":"IF(ISNUMBER(SEARCH(\"9\",#REF!)),\"1\",\"0\")","v":"0"},{"$f":"IF(ISNUMBER(SEARCH(\"9\",#REF!)),\"1\",\"0\")","v":"0"},{"$f":"IF(ISNUMBER(SEARCH(\"10\",#REF!)),\"1\",\"0\")","v":"0"},{"$f":"IF(ISNUMBER(SEARCH(\"11\",#REF!)),\"1\",\"0\")","v":"0"},{"$f":"IF(ISNUMBER(SEARCH(\"12\",#REF!)),\"1\",\"0\")","v":"0"},{"$f":"IF(ISNUMBER(SEARCH(\"13\",#REF!)),\"1\",\"0\")","v":"0"},{"$f":"IF(ISNUMBER(SEARCH(\"14\",#REF!)),\"1\",\"0\")","v":"0"},{"$f":"IF(ISNUMBER(SEARCH(\"15\",#REF!)),\"1\",\"0\")","v":"0"},{"$f":"IF(ISNUMBER(SEARCH(\"16\",#REF!)),\"1\",\"0\")","v":"0"},{"$f":"IF(ISNUMBER(SEARCH(\"17\",#REF!)),\"1\",\"0\")","v":"0"},{"$nulls":8},12,{"$nulls":6},14,4]
[2,22,11,"ZR",1,25,null,3,8,1,1,5,2,1,"1","0","0","0","0","0","0","0","0","0","0","0","0","0","0","0","0","0",null,null,1,5,2,{"$f":"IF(ISNUMBER(SEARCH(\"1\",#REF!)),\"1\",\"0\")","v":"0"},{"$f":"IF(ISNUMBER(SEARCH(\"2\",#REF!)),\"1\",\"0\")","v":"0"},{"$f":"IF(ISNUMBER(SEARCH(\"3\",#REF!)),\"1\",\"0\")","v":"0"},{"$f":"IF(ISNUMBER(SEARCH(\"4\",#REF!)),\"1\",\"0\")","v":"0"},{"$f":"IF(ISNUMBER(SEARCH(\"5\",#REF!)),\"1\",\"0\")","v":"0"},{"$f":"IF(ISNUMBER(SEARCH(\"6\",#REF!)),\"1\",\"0\")","v":"0"},{"$f":"IF(ISNUMBER(SEARCH(\"7\",#REF!)),\"1\",\"0\")","v":"0"},{"$f":"IF(ISNUMBER(SEARCH(\"8\",#REF!)),\"1\",\"0\")","v":"0"},{"$f":"IF(ISNUMBER(SEARCH(\"9\",#REF!)),\"1\",\"0\")","v":"0"},{"$f":"IF(ISNUMBER(SEARCH(\"9\",#REF!)),\"1\",\"0\")","v":"0"},{"$f":"IF(ISNUMBER(SEARCH(\"10\",#REF!)),\"1\",\"0\")","v":"0"},{"$f":"IF(ISNUMBER(SEARCH(\"11\",#REF!)),\"1\",\"0\")","v":"0"},{"$f":"IF(ISNUMBER(SEARCH(\"12\",#REF!)),\"1\",\"0\")","v":"0"},{"$f":"IF(ISNUMBER(SEARCH(\"13\",#REF!)),\"1\",\"0\")","v":"0"},{"$f":"IF(ISNUMBER(SEARCH(\"14\",#REF!)),\"1\",\"0\")","v":"0"},{"$f":"IF(ISNUMBER(SEARCH(\"15\",#REF!)),\"1\",\"0\")","v":"0"},{"$f":"IF(ISNUMBER(SEARCH(\"16\",#REF!)),\"1\",\"0\")","v":"0"},{"$f":"IF(ISNUMBER(SEARCH(\"17\",#REF!)),\"1\",\"0\")","v":"0"},null,2,{"$nulls":6},9,{"$nulls":6},12,3]
[2,22,11,"ZR",2,34,null,2,3,1,6,1,2,1,"1","0","0","0","0","0","0","0","0","0","0","0","0","0","0","0","0","0",null,null,1,3,2,{"$f":"IF(ISNUMBER(SEARCH(\"1\",#REF!)),\"1\",\"0\")","v":"0"},{"$f":"IF(ISNUMBER(SEARCH(\"2\",#REF!)),\"1\",\"0\")","v":"0"},{"$f":"IF(ISNUMBER(SEARCH(\"3\",#REF!)),\"1\",\"0\")","v":"0"},{"$f":"IF(ISNUMBER(SEARCH(\"4\",#REF!)),\"1\",\"0\")","v":"0"},{"$f":"IF(ISNUMBER(SEARCH(\"5\",#REF!)),\"1\",\"0\")","v":"0"},{"$f":"IF(ISNUMBER(SEARCH(\"6\",#REF!)),\"1\",\"0\")","v":"0"},{"$f":"IF(ISNUMBER(SEARCH(\"7\",#REF!)),\"1\",\"0\")","v":"0"},{"$f":"IF(ISNUMBER(SEARCH(\"8\",#REF!)),\"1\",\"0\")","v":"0"},{"$f":"IF(ISNUMBER(SEARCH(\"9\",#REF!)),\"1\",\"0\")","v":"0"},{"$f":"IF(ISNUMBER(SEARCH(\"9\",#REF!)),\"1\",\"0\")","v":"0"},{"$f":"IF(ISNUMBER(SEARCH(\"10\",#REF!)),\"1\",\"0\")","v":"0"},{"$f":"IF(ISNUMBER(SEARCH(\"11\",#REF!)),\"1\",\"0\")","v":"0"},{"$f":"IF(ISNUMBER(SEARCH(\"12\",#REF!)),\"1\",\"0\")","v":"0"},{"$f":"IF(ISNUMBER(SEARCH(\"13\",#REF!)),\"1\",\"0\")","v":"0"},{"$f":"IF(ISNUMBER(SEARCH(\"14\",#REF!)),\"1\",\"0\")","v":"0"},{"$f":"IF(ISNUMBER(SEARCH(\"15\",#REF!)),\"1\",\"0\")","v":"0"},{"$f":"IF(ISNUMBER(SEARCH(\"16\",#REF!)),\"1\",\"0\")","v":"0"},{"$f":"IF(ISNUMBER(SEARCH(\"17\",#REF!)),\"1\",\"0\")","v":"0"},null,2,null,null,0,10,18,28,5,{"$nulls":6},7,4]
[2,22,11,"ZR",2,29,null,1,3,1,3,1,2,3,"0","0","1","0","0","0","0","0","0","0","0","0","0","0","0","0","0","0",null,null,3,5,2,{"$f":"IF(ISNUMBER(SEARCH(\"1\",#REF!)),\"1\",\"0\")","v":"0"},{"$f":"IF(ISNUMBER(SEARCH(\"2\",#REF!)),\"1\",\"0\")","v":"0"},{"$f":"IF(ISNUMBER(SEARCH(\"3\",#REF!)),\"1\",\"0\")","v":"0"},{"$f":"IF(ISNUMBER(SEARCH(\"4\",#REF!)),\"1\",\"0\")","v":"0"},{"$f":"IF(ISNUMBER(SEARCH(\"5\",#REF!)),\"1\",\"0\")","v":"0"},{"$f":"IF(ISNUMBER(SEARCH(\"6\",#REF!)),\"1\",\"0\")","v":"0"},{"$f":"IF(ISNUMBER(SEARCH(\"7\",#REF!)),\"1\",\"0\")","v":"0"},{"$f":"IF(ISNUMBER(SEARCH(\"8\",#REF!)),\"1\",\"0\")","v":"0"},{"$f":"IF(ISNUMBER(SEARCH(\"9\",#REF!)),\"1\",\"0\")","v":"0"},{"$f":"IF(ISNUMBER(SEARCH(\"9\",#REF!)),\"1\",\"0\")","v":"0"},{"$f":"IF(ISNUMBER(SEARCH(\"10\",#REF!)),\"1\",\"0\")","v":"0"},{"$f":"IF(ISNUMBER(SEARCH(\"11\",#REF!)),\"1\",\"0\")","v":"0"},{"$f":"IF(ISNUMBER(SEARCH(\"12\",#REF!)),\"1\",\"0\")","v":"0"},{"$f":"IF(ISNUMBER(SEARCH(\"13\",#REF!)),\"1\",\"0\")","v":"0"},{"$f":"IF(ISNUMBER(SEARCH(\"14\",#REF!)),\"1\",\"0\")","v":"0"},{"$f":"IF(ISNUMBER(SEARCH(\"15\",#REF!)),\"1\",\"0\")","v":"0"},{"$f":"IF(ISNUMBER(SEARCH(\"16\",#REF!)),\"1\",\"0\")","v":"0"},{"$f":"IF(ISNUMBER(SEARCH(\"17\",#REF!)),\"1\",\"0\")","v":"0"},1,2,{"$nulls":6},3,{"$nulls":6},4,4]
[2,22,11,"ZR",2,37,null,2,8,1,0,8,2,3,"0","0","1","0","0","0","0","0","0","0","0","0","0","0","0","0","0","0",null,null,3,5,2,{"$f":"IF(ISNUMBER(SEARCH(\"1\",#REF!)),\"1\",\"0\")","v":"0"},{"$f":"IF(ISNUMBER(SEARCH(\"2\",#REF!)),\"1\",\"0\")","v":"0"},{"$f":"IF(ISNUMBER(SEARCH(\"3\",#REF!)),\"1\",\"0\")","v":"0"},{"$f":"IF(ISNUMBER(SEARCH(\"4\",#REF!)),\"1\",\"0\")","v":"0"},{"$f":"IF(ISNUMBER(SEARCH(\"5\",#REF!)),\"1\",\"0\")","v":"0"},{"$f":"IF(ISNUMBER(SEARCH(\"6\",#REF!)),\"1\",\"0\")","v":"0"},{"$f":"IF(ISNUMBER(SEARCH(\"7\",#REF!)),\"1\",\"0\")","v":"0"},{"$f":"IF(ISNUMBER(SEARCH(\"8\",#REF!)),\"1\",\"0\")","v":"0"},{"$f":"IF(ISNUMBER(SEARCH(\"9\",#REF!)),\"1\",\"0\")","v":"0"},{"$f":"IF(ISNUMBER(SEARCH(\"9\",#REF!)),\"1\",\"0\")","v":"0"},{"$f":"IF(ISNUMBER(SEARCH(\"10\",#REF!)),\"1\",\"0\")","v":"0"},{"$f":"IF(ISNUMBER(SEARCH(\"11\",#REF!)),\"1\",\"0\")","v":"0"},{"$f":"IF(ISNUMBER(SEARCH(\"12\",#REF!)),\"1\",\"0\")","v":"0"},{"$f":"IF(ISNUMBER(SEARCH(\"13\",#REF!)),\"1\",\"0\")","v":"0"},{"$f":"IF(ISNUMBER(SEARCH(\"14\",#REF!)),\"1\",\"0\")","v":"0"},{"$f":"IF(ISNUMBER(SEARCH(\"15\",#REF!)),\"1\",\"0\")","v":"0"},{"$f":"IF(ISNUMBER(SEARCH(\"16\",#REF!)),\"1\",\"0\")","v":"0"},{"$f":"IF(ISNUMBER(SEARCH(\"17\",#REF!)),\"1\",\"0\")","v":"0"},null,2,null,null,12,12,6,30,{"$nulls":11},{"$f":"#REF!-#REF!","v":{"$error":"#REF!"}}]
[2,22,11,"ZR",2,24,null,null,3,1,4,11,2,3,"0","0","1","0","0","0","0","0","0","0","0","0","0","0","0","0","0","0",null,null,2,5,1,{"$f":"IF(ISNUMBER(SEARCH(\"1\",#REF!)),\"1\",\"0\")","v":"0"},{"$f":"IF(ISNUMBER(SEARCH(\"2\",#REF!)),\"1\",\"0\")","v":"0"},{"$f":"IF(ISNUMBER(SEARCH(\"3\",#REF!)),\"1\",\"0\")","v":"0"},{"$f":"IF(ISNUMBER(SEARCH(\"4\",#REF!)),\"1\",\"0\")","v":"0"},{"$f":"IF(ISNUMBER(SEARCH(\"5\",#REF!)),\"1\",\"0\")","v":"0"},{"$f":"IF(ISNUMBER(SEARCH(\"6\",#REF!)),\"1\",\"0\")","v":"0"},{"$f":"IF(ISNUMBER(SEARCH(\"7\",#REF!)),\"1\",\"0\")","v":"0"},{"$f":"IF(ISNUMBER(SEARCH(\"8\",#REF!)),\"1\",\"0\")","v":"0"},{"$f":"IF(ISNUMBER(SEARCH(\"9\",#REF!)),\"1\",\"0\")","v":"0"},{"$f":"IF(ISNUMBER(SEARCH(\"9\",#REF!)),\"1\",\"0\")","v":"0"},{"$f":"IF(ISNUMBER(SEARCH(\"10\",#REF!)),\"1\",\"0\")","v":"0"},{"$f":"IF(ISNUMBER(SEARCH(\"11\",#REF!)),\"1\",\"0\")","v":"0"},{"$f":"IF(ISNUMBER(SEARCH(\"12\",#REF!)),\"1\",\"0\")","v":"0"},{"$f":"IF(ISNUMBER(SEARCH(\"13\",#REF!)),\"1\",\"0\")","v":"0"},{"$f":"IF(ISNUMBER(SEARCH(\"14\",#REF!)),\"1\",\"0\")","v":"0"},{"$f":"IF(ISNUMBER(SEARCH(\"15\",#REF!)),\"1\",\"0\")","v":"0"},{"$f":"IF(ISNUMBER(SEARCH(\"16\",#REF!)),\"1\",\"0\")","v":"0"},{"$f":"IF(ISNUMBER(SEARCH(\"17\",#REF!)),\"1\",\"0\")","v":"0"},null,2,null,null,16,12,24,52,5,null,12,12,12,36,null,7,null,null,{"$f":"#REF!-#REF!","v":{"$error":"#REF!"}},{"$f":"#REF!-#REF!","v":{"$error":"#REF!"}}]
[2,22,11,"ZR",2,33,null,3,8,1,0,5,null,2,"0","1","0","0","0","0","0","0","0","0","0","0","0","0","0","0","0","0",null,null,3,4,2,{"$f":"IF(ISNUMBER(SEARCH(\"1\",#REF!)),\"1\",\"0\")","v":"0"},0,{"$f":"IF(ISNUMBER(SEARCH(\"3\",#REF!)),\"1\",\"0\")","v":"0"},{"$f":"IF(ISNUMBER(SEARCH(\"4\",#REF!)),\"1\",\"0\")","v":"0"},{"$f":"IF(ISNUMBER(SEARCH(\"5\",#REF!)),\"1\",\"0\")","v":"0"},{"$f":"IF(ISNUMBER(SEARCH(\"6\",#REF!)),\"1\",\"0\")","v":"0"},{"$f":"IF(ISNUMBER(SEARCH(\"7\",#REF!)),\"1\",\"0\")","v":"0"},{"$f":"IF(ISNUMBER(SEARCH(\"8\",#REF!)),\"1\",\"0\")","v":"0"},{"$f":"IF(ISNUMBER(SEARCH(\"9\",#REF!)),\"1\",\"0\")","v":"0"},{"$f":"IF(ISNUMBER(SEARCH(\"9\",#REF!)),\"1\",\"0\")","v":"0"},{"$f":"IF(ISNUMBER(SEARCH(\"10\",#REF!)),\"1\",\"0\")","v":"0"},{"$f":"IF(ISNUMBER(SEARCH(\"11\",#REF!)),\"1\",\"0\")","v":"0"},{"$f":"IF(ISNUMBER(SEARCH(\"12\",#REF!)),\"1\",\"0\")","v":"0"},{"$f":"IF(ISNUMBER(SEARCH(\"13\",#REF!)),\"1\",\"0\")","v":"0"},{"$f":"IF(ISNUMBER(SEARCH(\"14\",#REF!)),\"1\",\"0\")","v":"0"},{"$f":"IF(ISNUMBER(SEARCH(\"15\",#REF!)),\"1\",\"0\")","v":"0"},{"$f":"IF(ISNUMBER(SEARCH(\"16\",#REF!)),\"1\",\"0\")","v":"0"},{"$f":"IF(ISNUMBER(SEARCH(\"17\",#REF!)),\"1\",\"0\")","v":"0"},null,2,null,null,26,16,24,66,6,null,12,12,16,40,null,8,4,null,{"$f":"#REF!-#REF!","v":{"$error":"#REF!"}},{"$f":"#REF!-#REF!","v":{"$error":"#REF!"}}]
[2,22,11,"ZR",1,14,null,2,2,1,0,3,1,1,"1","0","0","0","0","0","0","0","0","0","0","0","0","0","0","0","0","0",null,null,1,3,1,{"$f":"IF(ISNUMBER(SEARCH(\"1\",#REF!)),\"1\",\"0\")","v":"0"},{"$f":"IF(ISNUMBER(SEARCH(\"2\",#REF!)),\"1\",\"0\")","v":"0"},{"$f":"IF(ISNUMBER(SEARCH(\"3\",#REF!)),\"1\",\"0\")","v":"0"},{"$f":"IF(ISNUMBER(SEARCH(\"4\",#REF!)),\"1\",\"0\")","v":"0"},{"$f":"IF(ISNUMBER(SEARCH(\"5\",#REF!)),\"1\",\"0\")","v":"0"},{"$f":"IF(ISNUMBER(SEARCH(\"6\",#REF!)),\"1\",\"0\")","v":"0"},{"$f":"IF(ISNUMBER(SEARCH(\"7\",#REF!)),\"1\",\"0\")","v":"0"},{"$f":"IF(ISNUMBER(SEARCH(\"8\",#REF!)),\"1\",\"0\")","v":"0"},{"$f":"IF(ISNUMBER(SEARCH(\"9\",#REF!)),\"1\",\"0\")","v":"0"},{"$f":"IF(ISNUMBER(SEARCH(\"9\",#REF!)),\"1\",\"0\")","v":"0"},{"$f":"IF(ISNUMBER(SEARCH(\"10\",#REF!)),\"1\",\"0\")","v":"0"},{"$f":"IF(ISNUMBER(SEARCH(\"11\",#REF!)),\"1\",\"0\")","v":"0"},{"$f":"IF(ISNUMBER(SEARCH(\"12\",#REF!)),\"1\",\"0\")","v":"0"},{"$f":"IF(ISNUMBER(SEARCH(\"13\",#REF!)),\"1\",\"0\")","v":"0"},{"$f":"IF(ISNUMBER(SEARCH(\"14\",#REF!)),\"1\",\"0\")","v":"0"},{"$f":"IF(ISNUMBER(SEARCH(\"15\",#REF!)),\"1\",\"0\")","v":"0"},{"$f":"IF(ISNUMBER(SEARCH(\"16\",#REF!)),\"1\",\"0\")","v":"0"},{"$f":"IF(ISNUMBER(SEARCH(\"17\",#REF!)),\"1\",\"0\")","v":"0"},null,2,null,null,14,6,24,44,3,null,12,2,8,22,null,4,5,null,{"$f":"#REF!-#REF!","v":{"$error":"#REF!"}},{"$f":"#REF!-#REF!","v":{"$error":"#REF!"}}]
[2,22,11,"MLO",2,16,null,3,2,1,0,3,1,3,"0","0","1","0","0","0","0","0","0","0","0","0","0","0","0","0","0","0",null,null,3,5,2,{"$f":"IF(ISNUMBER(SEARCH(\"1\",#REF!)),\"1\",\"0\")","v":"0"},{"$f":"IF(ISNUMBER(SEARCH(\"2\",#REF!)),\"1\",\"0\")","v":"0"},{"$f":"IF(ISNUMBER(SEARCH(\"3\",#REF!)),\"1\",\"0\")","v":"0"},{"$f":"IF(ISNUMBER(SEARCH(\"4\",#REF!)),\"1\",\"0\")","v":"0"},{"$f":"IF(ISNUMBER(SEARCH(\"5\",#REF!)),\"1\",\"0\")","v":"0"},{"$f":"IF(ISNUMBER(SEARCH(\"6\",#REF!)),\"1\",\"0\")","v":"0"},{"$f":"IF(ISNUMBER(SEARCH(\"7\",#REF!)),\"1\",\"0\")","v":"0"},{"$f":"IF(ISNUMBER(SEARCH(\"8\",#REF!)),\"1\",\"0\")","v":"0"},{"$f":"IF(ISNUMBER(SEARCH(\"9\",#REF!)),\"1\",\"0\")","v":"0"},{"$f":"IF(ISNUMBER(SEARCH(\"9\",#REF!)),\"1\",\"0\")","v":"0"},{"$f":"IF(ISNUMBER(SEARCH(\"10\",#REF!)),\"1\",\"0\")","v":"0"},{"$f":"IF(ISNUMBER(SEARCH(\"11\",#REF!)),\"1\",\"0\")","v":"0"},{"$f":"IF(ISNUMBER(SEARCH(\"12\",#REF!)),\"1\",\"0\")","v":"0"},{"$f":"IF(ISNUMBER(SEARCH(\"13\",#REF!)),\"1\",\"0\")","v":"0"},{"$f":"IF(ISNUMBER(SEARCH(\"14\",#REF!)),\"1\",\"0\")","v":"0"},{"$f":"IF(ISNUMBER(SEARCH(\"15\",#REF!)),\"1\",\"0\")","v":"0"},{"$f":"IF(ISNUMBER(SEARCH(\"16\",#REF!)),\"1\",\"0\")","v":"0"},{"$f":"IF(ISNUMBER(SEARCH(\"17\",#REF!)),\"1\",\"0\")","v":"0"},1,2,null,null,24,28,16,68,null,null,0,2,0,2,{"$nulls":5},{"$f":"#REF!-#REF!","v":{"$error":"#REF!"}}]
[2,22,11,"MLO",2,22,null,2,8,1,1,3,2,3,"0","0","1","0","0","0","0","0","0","0","0","0","0","0","0","0","0","0",null,null,3,5,2,{"$f":"IF(ISNUMBER(SEARCH(\"1\",#REF!)),\"1\",\"0\")","v":"0"},{"$f":"IF(ISNUMBER(SEARCH(\"2\",#REF!)),\"1\",\"0\")","v":"0"},{"$f":"IF(ISNUMBER(SEARCH(\"3\",#REF!)),\"1\",\"0\")","v":"0"},{"$f":"IF(ISNUMBER(SEARCH(\"4\",#REF!)),\"1\",\"0\")","v":"0"},{"$f":"IF(ISNUMBER(SEARCH(\"5\",#REF!)),\"1\",\"0\")","v":"0"},{"$f":"IF(ISNUMBER(SEARCH(\"6\",#REF!)),\"1\",\"0\")","v":"0"},{"$f":"IF(ISNUMBER(SEARCH(\"7\",#REF!)),\"1\",\"0\")","v":"0"},{"$f":"IF(ISNUMBER(SEARCH(\"8\",#REF!)),\"1\",\"0\")","v":"0"},{"$f":"IF(ISNUMBER(SEARCH(\"9\",#REF!)),\"1\",\"0\")","v":"0"},{"$f":"IF(ISNUMBER(SEARCH(\"9\",#REF!)),\"1\",\"0\")","v":"0"},{"$f":"IF(ISNUMBER(SEARCH(\"10\",#REF!)),\"1\",\"0\")","v":"0"},{"$f":"IF(ISNUMBER(SEARCH(\"11\",#REF!)),\"1\",\"0\")","v":"0"},{"$f":"IF(ISNUMBER(SEARCH(\"12\",#REF!)),\"1\",\"0\")","v":"0"},{"$f":"IF(ISNUMBER(SEARCH(\"13\",#REF!)),\"1\",\"0\")","v":"0"},{"$f":"IF(ISNUMBER(SEARCH(\"14\",#REF!)),\"1\",\"0\")","v":"0"},{"$f":"IF(ISNUMBER(SEARCH(\"15\",#REF!)),\"1\",\"0\")","v":"0"},{"$f":"IF(ISNUMBER(SEARCH(\"16\",#REF!)),\"1\",\"0\")","v":"0"},{"$f":"IF(ISNUMBER(SEARCH(\"17\",#REF!)),\"1\",\"0\")","v":"0"},1,2,null,null,22,24,24,70,null,null,2,0,2,4,{"$nulls":4},{"$f":"#REF!-#REF!","v":{"$error":"#REF!"}},{"$f":"#REF!-#REF!","v":{"$error":"#REF!"}}]
[2,22,11,"MLO",2,26,null,2,8,1,2,11,2,3,"0","0","1","0","0","0","0","0","0","0","0","0","0","0","0","0","0","0",null,null,3,5,2,{"$f":"IF(ISNUMBER(SEARCH(\"1\",#REF!)),\"1\",\"0\")","v":"0"},{"$f":"IF(ISNUMBER(SEARCH(\"2\",#REF!)),\"1\",\"0\")","v":"0"},{"$f":"IF(ISNUMBER(SEARCH(\"3\",#REF!)),\"1\",\"0\")","v":"0"},{"$f":"IF(ISNUMBER(SEARCH(\"4\",#REF!)),\"1\",\"0\")","v":"0"},{"$f":"IF(ISNUMBER(SEARCH(\"5\",#REF!)),\"1\",\"0\")","v":"0"},{"$f":"IF(ISNUMBER(SEARCH(\"6\",#REF!)),\"1\",\"0\")","v":"0"},{"$f":"IF(ISNUMBER(SEARCH(\"7\",#REF!)),\"1\",\"0\")","v":"0"},{"$f":"IF(ISNUMBER(SEARCH(\"8\",#REF!)),\"1\",\"0\")","v":"0"},{"$f":"IF(ISNUMBER(SEARCH(\"9\",#REF!)),\"1\",\"0\")","v":"0"},{"$f":"IF(ISNUMBER(SEARCH(\"9\",#REF!)),\"1\",\"0\")","v":"0"},{"$f":"IF(ISNUMBER(SEARCH(\"10\",#REF!)),\"1\",\"0\")","v":"0"},{"$f":"IF(ISNUMBER(SEARCH(\"11\",#REF!)),\"1\",\"0\")","v":"0"},{"$f":"IF(ISNUMBER(SEARCH(\"12\",#REF!)),\"1\",\"0\")","v":"0"},{"$f":"IF(ISNUMBER(SEARCH(\"13\",#REF!)),\"1\",\"0\")","v":"0"},{"$f":"IF(ISNUMBER(SEARCH(\"14\",#REF!)),\"1\",\"0\")","v":"0"},{"$f":"IF(ISNUMBER(SEARCH(\"15\",#REF!)),\"1\",\"0\")","v":"0"},{"$f":"IF(ISNUMBER(SEARCH(\"16\",#REF!)),\"1\",\"0\")","v":"0"},{"$f":"IF(ISNUMBER(SEARCH(\"17\",#REF!)),\"1\",\"0\")","v":"0"},3,2,null,null,18,16,16,50,null,null,12,14,18,44,{"$nulls":4},{"$f":"#REF!-#REF!","v":{"$error":"#REF!"}},{"$f":"#REF!-#REF!","v":{"$error":"#REF!"}}]
[2,22,11,"MLO",2,32,null,2,3,1,4,5,2,3,"0","0","1","0","0","0","0","0","0","0","0","0","0","0","0","0","0","0",null,null,3,5,2,{"$f":"IF(ISNUMBER(SEARCH(\"1\",#REF!)),\"1\",\"0\")","v":"0"},{"$f":"IF(ISNUMBER(SEARCH(\"2\",#REF!)),\"1\",\"0\")","v":"0"},{"$f":"IF(ISNUMBER(SEARCH(\"3\",#REF!)),\"1\",\"0\")","v":"0"},{"$f":"IF(ISNUMBER(SEARCH(\"4\",#REF!)),\"1\",\"0\")","v":"0"},{"$f":"IF(ISNUMBER(SEARCH(\"5\",#REF!)),\"1\",\"0\")","v":"0"},{"$f":"IF(ISNUMBER(SEARCH(\"6\",#REF!)),\"1\",\"0\")","v":"0"},{"$f":"IF(ISNUMBER(SEARCH(\"7\",#REF!)),\"1\",\"0\")","v":"0"},{"$f":"IF(ISNUMBER(SEARCH(\"8\",#REF!)),\"1\",\"0\")","v":"0"},{"$f":"IF(ISNUMBER(SEARCH(\"9\",#REF!)),\"1\",\"0\")","v":"0"},{"$f":"IF(ISNUMBER(SEARCH(\"9\",#REF!)),\"1\",\"0\")","v":"0"},{"$f":"IF(ISNUMBER(SEARCH(\"10\",#REF!)),\"1\",\"0\")","v":"0"},{"$f":"IF(ISNUMBER(SEARCH(\"11\",#REF!)),\"1\",\"0\")","v":"0"},{"$f":"IF(ISNUMBER(SEARCH(\"12\",#REF!)),\"1\",\"0\")","v":"0"},{"$f":"IF(ISNUMBER(SEARCH(\"13\",#REF!)),\"1\",\"0\")","v":"0"},{"$f":"IF(ISNUMBER(SEARCH(\"14\",#REF!)),\"1\",\"0\")","v":"0"},{"$f":"IF(ISNUMBER(SEARCH(\"15\",#REF!)),\"1\",\"0\")","v":"0"},{"$f":"IF(ISNUMBER(SEARCH(\"16\",#REF!)),\"1\",\"0\")","v":"0"},{"$f":"IF(ISNUMBER(SEARCH(\"17\",#REF!)),\"1\",\"0\")","v":"0"},1,2,null,null,12,12,14,38,null,null,2,0,6,8,{"$nulls":4},{"$f":"#REF!-#REF!","v":{"$error":"#REF!"}},{"$f":"#REF!-#REF!","v":{"$error":"#REF!"}}]
[2,22,11,"MLO",2,19,null,3,3,1,1,1,1,3,"0","0","1","0","0","0","0","0","0","0","0","0","0","0","0","0","0","0",null,null,2,3,2,{"$f":"IF(ISNUMBER(SEARCH(\"1\",#REF!)),\"1\",\"0\")","v":"0"},{"$f":"IF(ISNUMBER(SEARCH(\"2\",#REF!)),\"1\",\"0\")","v":"0"},{"$f":"IF(ISNUMBER(SEARCH(\"3\",#REF!)),\"1\",\"0\")","v":"0"},{"$f":"IF(ISNUMBER(SEARCH(\"4\",#REF!)),\"1\",\"0\")","v":"0"},{"$f":"IF(ISNUMBER(SEARCH(\"5\",#REF!)),\"1\",\"0\")","v":"0"},{"$f":"IF(ISNUMBER(SEARCH(\"6\",#REF!)),\"1\",\"0\")","v":"0"},{"$f":"IF(ISNUMBER(SEARCH(\"7\",#REF!)),\"1\",\"0\")","v":"0"},{"$f":"IF(ISNUMBER(SEARCH(\"8\",#REF!)),\"1\",\"0\")","v":"0"},{"$f":"IF(ISNUMBER(SEARCH(\"9\",#REF!)),\"1\",\"0\")","v":"0"},{"$f":"IF(ISNUMBER(SEARCH(\"9\",#REF!)),\"1\",\"0\")","v":"0"},{"$f":"IF(ISNUMBER(SEARCH(\"10\",#REF!)),\"1\",\"0\")","v":"0"},{"$f":"IF(ISNUMBER(SEARCH(\"11\",#REF!)),\"1\",\"0\")","v":"0"},{"$f":"IF(ISNUMBER(SEARCH(\"12\",#REF!)),\"1\",\"0\")","v":"0"},{"$f":"IF(ISNUMBER(SEARCH(\"13\",#REF!)),\"1\",\"0\")","v":"0"},{"$f":"IF(ISNUMBER(SEARCH(\"14\",#REF!)),\"1\",\"0\")","v":"0"},{"$f":"IF(ISNUMBER(SEARCH(\"15\",#REF!)),\"1\",\"0\")","v":"0"},{"$f":"IF(ISNUMBER(SEARCH(\"16\",#REF!)),\"1\",\"0\")","v":"0"},{"$f":"IF(ISNUMBER(SEARCH(\"17\",#REF!)),\"1\",\"0\")","v":"0"},2,2,null,null,14,14,14,42,8,{"$nulls":6},10,null,null,{"$f":"#REF!-#REF!","v":{"$error":"#REF!"}},{"$f":"#REF!-#REF!","v":{"$error":"#REF!"}}]
[2,22,11,"RB",2,21,null,3,7,1,1,1,null,3,"0","0","1","0","0","0","0","0","0","0","0","0","0","0","0","0","0","0",{"$nulls":3},5,1,{"$f":"IF(ISNUMBER(SEARCH(\"1\",#REF!)),\"1\",\"0\")","v":"0"},{"$f":"IF(ISNUMBER(SEARCH(\"2\",#REF!)),\"1\",\"0\")","v":"0"},{"$f":"IF(ISNUMBER(SEARCH(\"3\",#REF!)),\"1\",\"0\")","v":"0"},{"$f":"IF(ISNUMBER(SEARCH(\"4\",#REF!)),\"1\",\"0\")","v":"0"},{"$f":"IF(ISNUMBER(SEARCH(\"5\",#REF!)),\"1\",\"0\")","v":"0"},{"$f":"IF(ISNUMBER(SEARCH(\"6\",#REF!)),\"1\",\"0\")","v":"0"},{"$f":"IF(ISNUMBER(SEARCH(\"7\",#REF!)),\"1\",\"0\")","v":"0"},{"$f":"IF(ISNUMBER(SEARCH(\"8\",#REF!)),\"1\",\"0\")","v":"0"},{"$f":"IF(ISNUMBER(SEARCH(\"9\",#REF!)),\"1\",\"0\")","v":"0"},{"$f":"IF(ISNUMBER(SEARCH(\"9\",#REF!)),\"1\",\"0\")","v":"0"},{"$f":"IF(ISNUMBER(SEARCH(\"10\",#REF!)),\"1\",\"0\")","v":"0"},{"$f":"IF(ISNUMBER(SEARCH(\"11\",#REF!)),\"1\",\"0\")","v":"0"},{"$f":"IF(ISNUMBER(SEARCH(\"12\",#REF!)),\"1\",\"0\")","v":"0"},{"$f":"IF(ISNUMBER(SEARCH(\"13\",#REF!)),\"1\",\"0\")","v":"0"},{"$f":"IF(ISNUMBER(SEARCH(\"14\",#REF!)),\"1\",\"0\")","v":"0"},{"$f":"IF(ISNUMBER(SEARCH(\"15\",#REF!)),\"1\",\"0\")","v":"0"},{"$f":"IF(ISNUMBER(SEARCH(\"16\",#REF!)),\"1\",\"0\")","v":"0"},{"$f":"IF(ISNUMBER(SEARCH(\"17\",#REF!)),\"1\",\"0\")","v":"0"},1,2,null,null,0,14,14,28,5,{"$nulls":6},6,4,null,{"$f":"#REF!-#REF!","v":{"$error":"#REF!"}}]
[2,22,11,"RB",2,19,null,2,2,1,0,8,1,3,"0","0","1","0","0","0","0","0","0","0","0","0","0","0","0","0","0","0",null,null,2,3,2,{"$f":"IF(ISNUMBER(SEARCH(\"1\",#REF!)),\"1\",\"0\")","v":"0"},{"$f":"IF(ISNUMBER(SEARCH(\"2\",#REF!)),\"1\",\"0\")","v":"0"},{"$f":"IF(ISNUMBER(SEARCH(\"3\",#REF!)),\"1\",\"0\")","v":"0"},{"$f":"IF(ISNUMBER(SEARCH(\"4\",#REF!)),\"1\",\"0\")","v":"0"},{"$f":"IF(ISNUMBER(SEARCH(\"5\",#REF!)),\"1\",\"0\")","v":"0"},{"$f":"IF(ISNUMBER(SEARCH(\"6\",#REF!)),\"1\",\"0\")","v":"0"},{"$f":"IF(ISNUMBER(SEARCH(\"7\",#REF!)),\"1\",\"0\")","v":"0"},{"$f":"IF(ISNUMBER(SEARCH(\"8\",#REF!)),\"1\",\"0\")","v":"0"},{"$f":"IF(ISNUMBER(SEARCH(\"9\",#REF!)),\"1\",\"0\")","v":"0"},{"$f":"IF(ISNUMBER(SEARCH(\"9\",#REF!)),\"1\",\"0\")","v":"0"},{"$f":"IF(ISNUMBER(SEARCH(\"10\",#REF!)),\"1\",\"0\")","v":"0"},{"$f":"IF(ISNUMBER(SEARCH(\"11\",#REF!)),\"1\",\"0\")","v":"0"},{"$f":"IF(ISNUMBER(SEARCH(\"12\",#REF!)),\"1\",\"0\")","v":"0"},{"$f":"IF(ISNUMBER(SEARCH(\"13\",#REF!)),\"1\",\"0\")","v":"0"},{"$f":"IF(ISNUMBER(SEARCH(\"14\",#REF!)),\"1\",\"0\")","v":"0"},{"$f":"IF(ISNUMBER(SEARCH(\"15\",#REF!)),\"1\",\"0\")","v":"0"},{"$f":"IF(ISNUMBER(SEARCH(\"16\",#REF!)),\"1\",\"0\")","v":"0"},{"$f":"IF(ISNUMBER(SEARCH(\"17\",#REF!)),\"1\",\"0\")","v":"0"},1,2,null,null,20,20,14,54,6,{"$nulls":6},8,null,null,{"$f":"#REF!-#REF!","v":{"$error":"#REF!"}},{"$f":"#REF!-#REF!","v":{"$error":"#REF!"}}]
[2,22,11,"RB",2,33,null,1,3,1,0,1,null,null,"0","0","0","0","0","0","0","0","0","0","0","0","0","0","0","0","0","0",null,null,1,3,0,{"$f":"IF(ISNUMBER(SEARCH(\"1\",#REF!)),\"1\",\"0\")","v":"0"},{"$f":"IF(ISNUMBER(SEARCH(\"2\",#REF!)),\"1\",\"0\")","v":"0"},{"$f":"IF(ISNUMBER(SEARCH(\"3\",#REF!)),\"1\",\"0\")","v":"0"},{"$f":"IF(ISNUMBER(SEARCH(\"4\",#REF!)),\"1\",\"0\")","v":"0"},{"$f":"IF(ISNUMBER(SEARCH(\"5\",#REF!)),\"1\",\"0\")","v":"0"},{"$f":"IF(ISNUMBER(SEARCH(\"6\",#REF!)),\"1\",\"0\")","v":"0"},{"$f":"IF(ISNUMBER(SEARCH(\"7\",#REF!)),\"1\",\"0\")","v":"0"},{"$f":"IF(ISNUMBER(SEARCH(\"8\",#REF!)),\"1\",\"0\")","v":"0"},{"$f":"IF(ISNUMBER(SEARCH(\"9\",#REF!)),\"1\",\"0\")","v":"0"},{"$f":"IF(ISNUMBER(SEARCH(\"9\",#REF!)),\"1\",\"0\")","v":"0"},{"$f":"IF(ISNUMBER(SEARCH(\"10\",#REF!)),\"1\",\"0\")","v":"0"},{"$f":"IF(ISNUMBER(SEARCH(\"11\",#REF!)),\"1\",\"0\")","v":"0"},{"$f":"IF(ISNUMBER(SEARCH(\"12\",#REF!)),\"1\",\"0\")","v":"0"},{"$f":"IF(ISNUMBER(SEARCH(\"13\",#REF!)),\"1\",\"0\")","v":"0"},{"$f":"IF(ISNUMBER(SEARCH(\"14\",#REF!)),\"1\",\"0\")","v":"0"},{"$f":"IF(ISNUMBER(SEARCH(\"15\",#REF!)),\"1\",\"0\")","v":"0"},{"$f":"IF(ISNUMBER(SEARCH(\"16\",#REF!)),\"1\",\"0\")","v":"0"},{"$f":"IF(ISNUMBER(SEARCH(\"17\",#REF!)),\"1\",\"0\")","v":"0"},null,2,null,null,16,14,12,42,7,null,0,6,4,10,null,9,{"$nulls":3},{"$f":"#REF!-#REF!","v":{"$error":"#REF!"}}]
[2,22,11,"RB",1,30,null,3,3,1,1,5,2,"9. Kidnapping/  Enlèvement/ Otage (SANS violence sexuelle)","0","0","0","0","0","0","0","0","1","0","0","0","0","0","0","0","0","0",null,null,2,5,0,{"$f":"IF(ISNUMBER(SEARCH(\"1\",#REF!)),\"1\",\"0\")","v":"0"},{"$f":"IF(ISNUMBER(SEARCH(\"2\",#REF!)),\"1\",\"0\")","v":"0"},{"$f":"IF(ISNUMBER(SEARCH(\"3\",#REF!)),\"1\",\"0\")","v":"0"},{"$f":"IF(ISNUMBER(SEARCH(\"4\",#REF!)),\"1\",\"0\")","v":"0"},{"$f":"IF(ISNUMBER(SEARCH(\"5\",#REF!)),\"1\",\"0\")","v":"0"},{"$f":"IF(ISNUMBER(SEARCH(\"6\",#REF!)),\"1\",\"0\")","v":"0"},{"$f":"IF(ISNUMBER(SEARCH(\"7\",#REF!)),\"1\",\"0\")","v":"0"},{"$f":"IF(ISNUMBER(SEARCH(\"8\",#REF!)),\"1\",\"0\")","v":"0"},{"$f":"IF(ISNUMBER(SEARCH(\"9\",#REF!)),\"1\",\"0\")","v":"0"},{"$f":"IF(ISNUMBER(SEARCH(\"9\",#REF!)),\"1\",\"0\")","v":"0"},{"$f":"IF(ISNUMBER(SEARCH(\"10\",#REF!)),\"1\",\"0\")","v":"0"},{"$f":"IF(ISNUMBER(SEARCH(\"11\",#REF!)),\"1\",\"0\")","v":"0"},{"$f":"IF(ISNUMBER(SEARCH(\"12\",#REF!)),\"1\",\"0\")","v":"0"},{"$f":"IF(ISNUMBER(SEARCH(\"13\",#REF!)),\"1\",\"0\")","v":"0"},{"$f":"IF(ISNUMBER(SEARCH(\"14\",#REF!)),\"1\",\"0\")","v":"0"},{"$f":"IF(ISNUMBER(SEARCH(\"15\",#REF!)),\"1\",\"0\")","v":"0"},{"$f":"IF(ISNUMBER(SEARCH(\"16\",#REF!)),\"1\",\"0\")","v":"0"},{"$f":"IF(ISNUMBER(SEARCH(\"17\",#REF!)),\"1\",\"0\")","v":"0"},null,2,null,null,22,22,18,62,4,null,4,0,0,4,null,7,null,null,{"$f":"#REF!-#REF!","v":{"$error":"#REF!"}},{"$f":"#REF!-#REF!","v":{"$error":"#REF!"}}]
[2,22,11,"RB",2,26,null,2,3,1,3,5,2,null,"0","0","0","0","0","0","0","0","0","0","0","0","0","0","0","0","0","0",null,null,3,5,2,{"$f":"IF(ISNUMBER(SEARCH(\"1\",#REF!)),\"1\",\"0\")","v":"0"},{"$f":"IF(ISNUMBER(SEARCH(\"2\",#REF!)),\"1\",\"0\")","v":"0"},{"$f":"IF(ISNUMBER(SEARCH(\"3\",#REF!)),\"1\",\"0\")","v":"0"},{"$f":"IF(ISNUMBER(SEARCH(\"4\",#REF!)),\"1\",\"0\")","v":"0"},{"$f":"IF(ISNUMBER(SEARCH(\"5\",#REF!)),\"1\",\"0\")","v":"0"},{"$f":"IF(ISNUMBER(SEARCH(\"6\",#REF!)),\"1\",\"0\")","v":"0"},{"$f":"IF(ISNUMBER(SEARCH(\"7\",#REF!)),\"1\",\"0\")","v":"0"},{"$f":"IF(ISNUMBER(SEARCH(\"8\",#REF!)),\"1\",\"0\")","v":"0"},{"$f":"IF(ISNUMBER(SEARCH(\"9\",#REF!)),\"1\",\"0\")","v":"0"},{"$f":"IF(ISNUMBER(SEARCH(\"9\",#REF!)),\"1\",\"0\")","v":"0"},{"$f":"IF(ISNUMBER(SEARCH(\"10\",#REF!)),\"1\",\"0\")","v":"0"},{"$f":"IF(ISNUMBER(SEARCH(\"11\",#REF!)),\"1\",\"0\")","v":"0"},{"$f":"IF(ISNUMBER(SEARCH(\"12\",#REF!)),\"1\",\"0\")","v":"0"},{"$f":"IF(ISNUMBER(SEARCH(\"13\",#REF!)),\"1\",\"0\")","v":"0"},{"$f":"IF(ISNUMBER(SEARCH(\"14\",#REF!)),\"1\",\"0\")","v":"0"},{"$f":"IF(ISNUMBER(SEARCH(\"15\",#REF!)),\"1\",\"0\")","v":"0"},{"$f":"IF(ISNUMBER(SEARCH(\"16\",#REF!)),\"1\",\"0\")","v":"0"},{"$f":"IF(ISNUMBER(SEARCH(\"17\",#REF!)),\"1\",\"0\")","v":"0"},null,2,null,null,26,10,18,54,8,null,4,4,6,14,null,5,{"$nulls":3},{"$f":"#REF!-#REF!","v":{"$error":"#REF!"}}]
[2,22,11,"RB",2,35,null,1,3,1,0,5,2,3,"0","0","1","0","0","0","0","0","0","0","0","0","0","0","0","0","0","0",{"$nulls":3},5,2,{"$f":"IF(ISNUMBER(SEARCH(\"1\",#REF!)),\"1\",\"0\")","v":"0"},{"$f":"IF(ISNUMBER(SEARCH(\"2\",#REF!)),\"1\",\"0\")","v":"0"},{"$f":"IF(ISNUMBER(SEARCH(\"3\",#REF!)),\"1\",\"0\")","v":"0"},{"$f":"IF(ISNUMBER(SEARCH(\"4\",#REF!)),\"1\",\"0\")","v":"0"},{"$f":"IF(ISNUMBER(SEARCH(\"5\",#REF!)),\"1\",\"0\")","v":"0"},{"$f":"IF(ISNUMBER(SEARCH(\"6\",#REF!)),\"1\",\"0\")","v":"0"},{"$f":"IF(ISNUMBER(SEARCH(\"7\",#REF!)),\"1\",\"0\")","v":"0"},{"$f":"IF(ISNUMBER(SEARCH(\"8\",#REF!)),\"1\",\"0\")","v":"0"},{"$f":"IF(ISNUMBER(SEARCH(\"9\",#REF!)),\"1\",\"0\")","v":"0"},{"$f":"IF(ISNUMBER(SEARCH(\"9\",#REF!)),\"1\",\"0\")","v":"0"},{"$f":"IF(ISNUMBER(SEARCH(\"10\",#REF!)),\"1\",\"0\")","v":"0"},{"$f":"IF(ISNUMBER(SEARCH(\"11\",#REF!)),\"1\",\"0\")","v":"0"},{"$f":"IF(ISNUMBER(SEARCH(\"12\",#REF!)),\"1\",\"0\")","v":"0"},{"$f":"IF(ISNUMBER(SEARCH(\"13\",#REF!)),\"1\",\"0\")","v":"0"},{"$f":"IF(ISNUMBER(SEARCH(\"14\",#REF!)),\"1\",\"0\")","v":"0"},{"$f":"IF(ISNUMBER(SEARCH(\"15\",#REF!)),\"1\",\"0\")","v":"0"},{"$f":"IF(ISNUMBER(SEARCH(\"16\",#REF!)),\"1\",\"0\")","v":"0"},{"$f":"IF(ISNUMBER(SEARCH(\"17\",#REF!)),\"1\",\"0\")","v":"0"},2,2,null,null,12,14,22,48,6,null,4,6,2,12,null,8,4,null,{"$f":"#REF!-#REF!","v":{"$error":"#REF!"}},{"$f":"#REF!-#REF!","v":{"$error":"#REF!"}}]
[2,22,11,"RB",2,32,null,2,8,1,4,1,6,"4. Tentative de Viol","0","0","0","1","0","0","0","0","0","0","0","0","0","0","0","0","0","0",null,null,3,5,2,{"$f":"IF(ISNUMBER(SEARCH(\"1\",#REF!)),\"1\",\"0\")","v":"0"},{"$f":"IF(ISNUMBER(SEARCH(\"2\",#REF!)),\"1\",\"0\")","v":"0"},{"$f":"IF(ISNUMBER(SEARCH(\"3\",#REF!)),\"1\",\"0\")","v":"0"},{"$f":"IF(ISNUMBER(SEARCH(\"4\",#REF!)),\"1\",\"0\")","v":"0"},{"$f":"IF(ISNUMBER(SEARCH(\"5\",#REF!)),\"1\",\"0\")","v":"0"},{"$f":"IF(ISNUMBER(SEARCH(\"6\",#REF!)),\"1\",\"0\")","v":"0"},{"$f":"IF(ISNUMBER(SEARCH(\"7\",#REF!)),\"1\",\"0\")","v":"0"},{"$f":"IF(ISNUMBER(SEARCH(\"8\",#REF!)),\"1\",\"0\")","v":"0"},{"$f":"IF(ISNUMBER(SEARCH(\"9\",#REF!)),\"1\",\"0\")","v":"0"},{"$f":"IF(ISNUMBER(SEARCH(\"9\",#REF!)),\"1\",\"0\")","v":"0"},{"$f":"IF(ISNUMBER(SEARCH(\"10\",#REF!)),\"1\",\"0\")","v":"0"},{"$f":"IF(ISNUMBER(SEARCH(\"11\",#REF!)),\"1\",\"0\")","v":"0"},{"$f":"IF(ISNUMBER(SEARCH(\"12\",#REF!)),\"1\",\"0\")","v":"0"},{"$f":"IF(ISNUMBER(SEARCH(\"13\",#REF!)),\"1\",\"0\")","v":"0"},{"$f":"IF(ISNUMBER(SEARCH(\"14\",#REF!)),\"1\",\"0\")","v":"0"},{"$f":"IF(ISNUMBER(SEARCH(\"15\",#REF!)),\"1\",\"0\")","v":"0"},{"$f":"IF(ISNUMBER(SEARCH(\"16\",#REF!)),\"1\",\"0\")","v":"0"},{"$f":"IF(ISNUMBER(SEARCH(\"17\",#REF!)),\"1\",\"0\")","v":"0"},1,2,null,null,20,16,16,52,9,null,4,6,6,16,null,8,4,null,{"$f":"#REF!-#REF!","v":{"$error":"#REF!"}},{"$f":"#REF!-#REF!","v":{"$error":"#REF!"}}]
[2,22,11,"RB",2,19,null,2,2,1,0,2,1,3,"0","0","1","0","0","0","0","0","0","0","0","0","0","0","0","0","0","0",null,null,2,5,2,{"$f":"IF(ISNUMBER(SEARCH(\"1\",#REF!)),\"1\",\"0\")","v":"0"},{"$f":"IF(ISNUMBER(SEARCH(\"2\",#REF!)),\"1\",\"0\")","v":"0"},{"$f":"IF(ISNUMBER(SEARCH(\"3\",#REF!)),\"1\",\"0\")","v":"0"},{"$f":"IF(ISNUMBER(SEARCH(\"4\",#REF!)),\"1\",\"0\")","v":"0"},{"$f":"IF(ISNUMBER(SEARCH(\"5\",#REF!)),\"1\",\"0\")","v":"0"},{"$f":"IF(ISNUMBER(SEARCH(\"6\",#REF!)),\"1\",\"0\")","v":"0"},{"$f":"IF(ISNUMBER(SEARCH(\"7\",#REF!)),\"1\",\"0\")","v":"0"},{"$f":"IF(ISNUMBER(SEARCH(\"8\",#REF!)),\"1\",\"0\")","v":"0"},{"$f":"IF(ISNUMBER(SEARCH(\"9\",#REF!)),\"1\",\"0\")","v":"0"},{"$f":"IF(ISNUMBER(SEARCH(\"9\",#REF!)),\"1\",\"0\")","v":"0"},{"$f":"IF(ISNUMBER(SEARCH(\"10\",#REF!)),\"1\",\"0\")","v":"0"},{"$f":"IF(ISNUMBER(SEARCH(\"11\",#REF!)),\"1\",\"0\")","v":"0"},{"$f":"IF(ISNUMBER(SEARCH(\"12\",#REF!)),\"1\",\"0\")","v":"0"},{"$f":"IF(ISNUMBER(SEARCH(\"13\",#REF!)),\"1\",\"0\")","v":"0"},{"$f":"IF(ISNUMBER(SEARCH(\"14\",#REF!)),\"1\",\"0\")","v":"0"},{"$f":"IF(ISNUMBER(SEARCH(\"15\",#REF!)),\"1\",\"0\")","v":"0"},{"$f":"IF(ISNUMBER(SEARCH(\"16\",#REF!)),\"1\",\"0\")","v":"0"},{"$f":"IF(ISNUMBER(SEARCH(\"17\",#REF!)),\"1\",\"0\")","v":"0"},1,2,null,null,22,20,20,62,null,null,2,0,0,2,{"$nulls":4},{"$f":"#REF!-#REF!","v":{"$error":"#REF!"}},{"$f":"#REF!-#REF!","v":{"$error":"#REF!"}}]
[2,22,11,"RB",2,22,null,null,7,null,null,3,2,null,"0","0","0","0","0","0","0","0","0","0","0","0","0","0","0","0","0","0",{"$nulls":5},{"$f":"IF(ISNUMBER(SEARCH(\"1\",#REF!)),\"1\",\"0\")","v":"0"},{"$f":"IF(ISNUMBER(SEARCH(\"2\",#REF!)),\"1\",\"0\")","v":"0"},{"$f":"IF(ISNUMBER(SEARCH(\"3\",#REF!)),\"1\",\"0\")","v":"0"},{"$f":"IF(ISNUMBER(SEARCH(\"4\",#REF!)),\"1\",\"0\")","v":"0"},{"$f":"IF(ISNUMBER(SEARCH(\"5\",#REF!)),\"1\",\"0\")","v":"0"},{"$f":"IF(ISNUMBER(SEARCH(\"6\",#REF!)),\"1\",\"0\")","v":"0"},{"$f":"IF(ISNUMBER(SEARCH(\"7\",#REF!)),\"1\",\"0\")","v":"0"},{"$f":"IF(ISNUMBER(SEARCH(\"8\",#REF!)),\"1\",\"0\")","v":"0"},{"$f":"IF(ISNUMBER(SEARCH(\"9\",#REF!)),\"1\",\"0\")","v":"0"},{"$f":"IF(ISNUMBER(SEARCH(\"9\",#REF!)),\"1\",\"0\")","v":"0"},{"$f":"IF(ISNUMBER(SEARCH(\"10\",#REF!)),\"1\",\"0\")","v":"0"},{"$f":"IF(ISNUMBER(SEARCH(\"11\",#REF!)),\"1\",\"0\")","v":"0"},{"$f":"IF(ISNUMBER(SEARCH(\"12\",#REF!)),\"1\",\"0\")","v":"0"},{"$f":"IF(ISNUMBER(SEARCH(\"13\",#REF!)),\"1\",\"0\")","v":"0"},{"$f":"IF(ISNUMBER(SEARCH(\"14\",#REF!)),\"1\",\"0\")","v":"0"},{"$f":"IF(ISNUMBER(SEARCH(\"15\",#REF!)),\"1\",\"0\")","v":"0"},{"$f":"IF(ISNUMBER(SEARCH(\"16\",#REF!)),\"1\",\"0\")","v":"0"},{"$f":"IF(ISNUMBER(SEARCH(\"17\",#REF!)),\"1\",\"0\")","v":"0"},{"$nulls":4},10,10,20,40,3,null,2,2,0,4,null,5,3,null,null,{"$f":"#REF!-#REF!","v":{"$error":"#REF!"}}]
[2,22,11,"ZR",2,21,null,null,7,null,null,1,2,null,"0","0","0","0","0","0","0","0","0","0","0","0","0","0","0","0","0","0",{"$nulls":5},{"$f":"IF(ISNUMBER(SEARCH(\"1\",#REF!)),\"1\",\"0\")","v":"0"},{"$f":"IF(ISNUMBER(SEARCH(\"2\",#REF!)),\"1\",\"0\")","v":"0"},{"$f":"IF(ISNUMBER(SEARCH(\"3\",#REF!)),\"1\",\"0\")","v":"0"},{"$f":"IF(ISNUMBER(SEARCH(\"4\",#REF!)),\"1\",\"0\")","v":"0"},{"$f":"IF(ISNUMBER(SEARCH(\"5\",#REF!)),\"1\",\"0\")","v":"0"},{"$f":"IF(ISNUMBER(SEARCH(\"6\",#REF!)),\"1\",\"0\")","v":"0"},{"$f":"IF(ISNUMBER(SEARCH(\"7\",#REF!)),\"1\",\"0\")","v":"0"},{"$f":"IF(ISNUMBER(SEARCH(\"8\",#REF!)),\"1\",\"0\")","v":"0"},{"$f":"IF(ISNUMBER(SEARCH(\"9\",#REF!)),\"1\",\"0\")","v":"0"},{"$f":"IF(ISNUMBER(SEARCH(\"9\",#REF!)),\"1\",\"0\")","v":"0"},{"$f":"IF(ISNUMBER(SEARCH(\"10\",#REF!)),\"1\",\"0\")","v":"0"},{"$f":"IF(ISNUMBER(SEARCH(\"11\",#REF!)),\"1\",\"0\")","v":"0"},{"$f":"IF(ISNUMBER(SEARCH(\"12\",#REF!)),\"1\",\"0\")","v":"0"},{"$f":"IF(ISNUMBER(SEARCH(\"13\",#REF!)),\"1\",\"0\")","v":"0"},{"$f":"IF(ISNUMBER(SEARCH(\"14\",#REF!)),\"1\",\"0\")","v":"0"},{"$f":"IF(ISNUMBER(SEARCH(\"15\",#REF!)),\"1\",\"0\")","v":"0"},{"$f":"IF(ISNUMBER(SEARCH(\"16\",#REF!)),\"1\",\"0\")","v":"0"},{"$f":"IF(ISNUMBER(SEARCH(\"17\",#REF!)),\"1\",\"0\")","v":"0"},{"$nulls":4},24,26,18,68,{"$nulls":11},{"$f":"#REF!-#REF!","v":{"$error":"#REF!"}}]
[2,22,11,"RB",2,20,null,null,7,null,null,4,2,null,"0","0","0","0","0","0","0","0","0","0","0","0","0","0","0","0","0","0",{"$nulls":5},{"$f":"IF(ISNUMBER(SEARCH(\"1\",#REF!)),\"1\",\"0\")","v":"0"},{"$f":"IF(ISNUMBER(SEARCH(\"2\",#REF!)),\"1\",\"0\")","v":"0"},{"$f":"IF(ISNUMBER(SEARCH(\"3\",#REF!)),\"1\",\"0\")","v":"0"},{"$f":"IF(ISNUMBER(SEARCH(\"4\",#REF!)),\"1\",\"0\")","v":"0"},{"$f":"IF(ISNUMBER(SEARCH(\"5\",#REF!)),\"1\",\"0\")","v":"0"},{"$f":"IF(ISNUMBER(SEARCH(\"6\",#REF!)),\"1\",\"0\")","v":"0"},{"$f":"IF(ISNUMBER(SEARCH(\"7\",#REF!)),\"1\",\"0\")","v":"0"},{"$f":"IF(ISNUMBER(SEARCH(\"8\",#REF!)),\"1\",\"0\")","v":"0"},{"$f":"IF(ISNUMBER(SEARCH(\"9\",#REF!)),\"1\",\"0\")","v":"0"},{"$f":"IF(ISNUMBER(SEARCH(\"9\",#REF!)),\"1\",\"0\")","v":"0"},{"$f":"IF(ISNUMBER(SEARCH(\"10\",#REF!)),\"1\",\"0\")","v":"0"},{"$f":"IF(ISNUMBER(SEARCH(\"11\",#REF!)),\"1\",\"0\")","v":"0"},{"$f":"IF(ISNUMBER(SEARCH(\"12\",#REF!)),\"1\",\"0\")","v":"0"},{"$f":"IF(ISNUMBER(SEARCH(\"13\",#REF!)),\"1\",\"0\")","v":"0"},{"$f":"IF(ISNUMBER(SEARCH(\"14\",#REF!)),\"1\",\"0\")","v":"0"},{"$f":"IF(ISNUMBER(SEARCH(\"15\",#REF!)),\"1\",\"0\")","v":"0"},{"$f":"IF(ISNUMBER(SEARCH(\"16\",#REF!)),\"1\",\"0\")","v":"0"},{"$f":"IF(ISNUMBER(SEARCH(\"17\",#REF!)),\"1\",\"0\")","v":"0"},{"$nulls":4},24,14,12,50,{"$nulls":11},{"$f":"#REF!-#REF!","v":{"$error":"#REF!"}}]
[2,22,11,"ZR",2,19,null,null,7,null,null,5,2,null,"0","0","0","0","0","0","0","0","0","0","0","0","0","0","0","0","0","0",{"$nulls":5},{"$f":"IF(ISNUMBER(SEARCH(\"1\",#REF!)),\"1\",\"0\")","v":"0"},{"$f":"IF(ISNUMBER(SEARCH(\"2\",#REF!)),\"1\",\"0\")","v":"0"},{"$f":"IF(ISNUMBER(SEARCH(\"3\",#REF!)),\"1\",\"0\")","v":"0"},{"$f":"IF(ISNUMBER(SEARCH(\"4\",#REF!)),\"1\",\"0\")","v":"0"},{"$f":"IF(ISNUMBER(SEARCH(\"5\",#REF!)),\"1\",\"0\")","v":"0"},{"$f":"IF(ISNUMBER(SEARCH(\"6\",#REF!)),\"1\",\"0\")","v":"0"},{"$f":"IF(ISNUMBER(SEARCH(\"7\",#REF!)),\"1\",\"0\")","v":"0"},{"$f":"IF(ISNUMBER(SEARCH(\"8\",#REF!)),\"1\",\"0\")","v":"0"},{"$f":"IF(ISNUMBER(SEARCH(\"9\",#REF!)),\"1\",\"0\")","v":"0"},{"$f":"IF(ISNUMBER(SEARCH(\"9\",#REF!)),\"1\",\"0\")","v":"0"},{"$f":"IF(ISNUMBER(SEARCH(\"10\",#REF!)),\"1\",\"0\")","v":"0"},{"$f":"IF(ISNUMBER(SEARCH(\"11\",#REF!)),\"1\",\"0\")","v":"0"},{"$f":"IF(ISNUMBER(SEARCH(\"12\",#REF!)),\"1\",\"0\")","v":"0"},{"$f":"IF(ISNUMBER(SEARCH(\"13\",#REF!)),\"1\",\"0\")","v":"0"},{"$f":"IF(ISNUMBER(SEARCH(\"14\",#REF!)),\"1\",\"0\")","v":"0"},{"$f":"IF(ISNUMBER(SEARCH(\"15\",#REF!)),\"1\",\"0\")","v":"0"},{"$f":"IF(ISNUMBER(SEARCH(\"16\",#REF!)),\"1\",\"0\")","v":"0"},{"$f":"IF(ISNUMBER(SEARCH(\"17\",#REF!)),\"1\",\"0\")","v":"0"},{"$nulls":4},10,4,18,32,6,null,4,0,8,12,null,8,4,null,null,{"$f":"#REF!-#REF!","v":{"$error":"#REF!"}}]
[2,22,11,"MLO",2,18,null,null,7,null,null,5,2,null,"0","0","0","0","0","0","0","0","0","0","0","0","0","0","0","0","0","0",{"$nulls":5},{"$f":"IF(ISNUMBER(SEARCH(\"1\",#REF!)),\"1\",\"0\")","v":"0"},{"$f":"IF(ISNUMBER(SEARCH(\"2\",#REF!)),\"1\",\"0\")","v":"0"},{"$f":"IF(ISNUMBER(SEARCH(\"3\",#REF!)),\"1\",\"0\")","v":"0"},{"$f":"IF(ISNUMBER(SEARCH(\"4\",#REF!)),\"1\",\"0\")","v":"0"},{"$f":"IF(ISNUMBER(SEARCH(\"5\",#REF!)),\"1\",\"0\")","v":"0"},{"$f":"IF(ISNUMBER(SEARCH(\"6\",#REF!)),\"1\",\"0\")","v":"0"},{"$f":"IF(ISNUMBER(SEARCH(\"7\",#REF!)),\"1\",\"0\")","v":"0"},{"$f":"IF(ISNUMBER(SEARCH(\"8\",#REF!)),\"1\",\"0\")","v":"0"},{"$f":"IF(ISNUMBER(SEARCH(\"9\",#REF!)),\"1\",\"0\")","v":"0"},{"$f":"IF(ISNUMBER(SEARCH(\"9\",#REF!)),\"1\",\"0\")","v":"0"},{"$f":"IF(ISNUMBER(SEARCH(\"10\",#REF!)),\"1\",\"0\")","v":"0"},{"$f":"IF(ISNUMBER(SEARCH(\"11\",#REF!)),\"1\",\"0\")","v":"0"},{"$f":"IF(ISNUMBER(SEARCH(\"12\",#REF!)),\"1\",\"0\")","v":"0"},{"$f":"IF(ISNUMBER(SEARCH(\"13\",#REF!)),\"1\",\"0\")","v":"0"},{"$f":"IF(ISNUMBER(SEARCH(\"14\",#REF!)),\"1\",\"0\")","v":"0"},{"$f":"IF(ISNUMBER(SEARCH(\"15\",#REF!)),\"1\",\"0\")","v":"0"},{"$f":"IF(ISNUMBER(SEARCH(\"16\",#REF!)),\"1\",\"0\")","v":"0"},{"$f":"IF(ISNUMBER(SEARCH(\"17\",#REF!)),\"1\",\"0\")","v":"0"},{"$nulls":4},18,6,18,42,5,null,10,8,8,26,null,7,4,null,null,{"$f":"#REF!-#REF!","v":{"$error":"#REF!"}}]
[2,22,11,"MLO",2,17,null,null,7,null,null,1,2,null,"0","0","0","0","0","0","0","0","0","0","0","0","0","0","0","0","0","0",{"$nulls":5},{"$f":"IF(ISNUMBER(SEARCH(\"1\",#REF!)),\"1\",\"0\")","v":"0"},{"$f":"IF(ISNUMBER(SEARCH(\"2\",#REF!)),\"1\",\"0\")","v":"0"},{"$f":"IF(ISNUMBER(SEARCH(\"3\",#REF!)),\"1\",\"0\")","v":"0"},{"$f":"IF(ISNUMBER(SEARCH(\"4\",#REF!)),\"1\",\"0\")","v":"0"},{"$f":"IF(ISNUMBER(SEARCH(\"5\",#REF!)),\"1\",\"0\")","v":"0"},{"$f":"IF(ISNUMBER(SEARCH(\"6\",#REF!)),\"1\",\"0\")","v":"0"},{"$f":"IF(ISNUMBER(SEARCH(\"7\",#REF!)),\"1\",\"0\")","v":"0"},{"$f":"IF(ISNUMBER(SEARCH(\"8\",#REF!)),\"1\",\"0\")","v":"0"},{"$f":"IF(ISNUMBER(SEARCH(\"9\",#REF!)),\"1\",\"0\")","v":"0"},{"$f":"IF(ISNUMBER(SEARCH(\"9\",#REF!)),\"1\",\"0\")","v":"0"},{"$f":"IF(ISNUMBER(SEARCH(\"10\",#REF!)),\"1\",\"0\")","v":"0"},{"$f":"IF(ISNUMBER(SEARCH(\"11\",#REF!)),\"1\",\"0\")","v":"0"},{"$f":"IF(ISNUMBER(SEARCH(\"12\",#REF!)),\"1\",\"0\")","v":"0"},{"$f":"IF(ISNUMBER(SEARCH(\"13\",#REF!)),\"1\",\"0\")","v":"0"},{"$f":"IF(ISNUMBER(SEARCH(\"14\",#REF!)),\"1\",\"0\")","v":"0"},{"$f":"IF(ISNUMBER(SEARCH(\"15\",#REF!)),\"1\",\"0\")","v":"0"},{"$f":"IF(ISNUMBER(SEARCH(\"16\",#REF!)),\"1\",\"0\")","v":"0"},{"$f":"IF(ISNUMBER(SEARCH(\"17\",#REF!)),\"1\",\"0\")","v":"0"},{"$nulls":4},12,4,12,28,7,null,4,2,0,6,null,12,4,null,null,{"$f":"#REF!-#REF!","v":{"$error":"#REF!"}}]
[2,22,11,"RB",2,33,null,2,3,1,4,5,2,3,"0","0","1","0","0","0","0","0","0","0","0","0","0","0","0","0","0","0",null,null,2,3,2,{"$f":"IF(ISNUMBER(SEARCH(\"1\",#REF!)),\"1\",\"0\")","v":"0"},{"$f":"IF(ISNUMBER(SEARCH(\"2\",#REF!)),\"1\",\"0\")","v":"0"},{"$f":"IF(ISNUMBER(SEARCH(\"3\",#REF!)),\"1\",\"0\")","v":"0"},{"$f":"IF(ISNUMBER(SEARCH(\"4\",#REF!)),\"1\",\"0\")","v":"0"},{"$f":"IF(ISNUMBER(SEARCH(\"5\",#REF!)),\"1\",\"0\")","v":"0"},{"$f":"IF(ISNUMBER(SEARCH(\"6\",#REF!)),\"1\",\"0\")","v":"0"},{"$f":"IF(ISNUMBER(SEARCH(\"7\",#REF!)),\"1\",\"0\")","v":"0"},{"$f":"IF(ISNUMBER(SEARCH(\"8\",#REF!)),\"1\",\"0\")","v":"0"},{"$f":"IF(ISNUMBER(SEARCH(\"9\",#REF!)),\"1\",\"0\")","v":"0"},{"$f":"IF(ISNUMBER(SEARCH(\"9\",#REF!)),\"1\",\"0\")","v":"0"},{"$f":"IF(ISNUMBER(SEARCH(\"10\",#REF!)),\"1\",\"0\")","v":"0"},{"$f":"IF(ISNUMBER(SEARCH(\"11\",#REF!)),\"1\",\"0\")","v":"0"},{"$f":"IF(ISNUMBER(SEARCH(\"12\",#REF!)),\"1\",\"0\")","v":"0"},{"$f":"IF(ISNUMBER(SEARCH(\"13\",#REF!)),\"1\",\"0\")","v":"0"},{"$f":"IF(ISNUMBER(SEARCH(\"14\",#REF!)),\"1\",\"0\")","v":"0"},{"$f":"IF(ISNUMBER(SEARCH(\"15\",#REF!)),\"1\",\"0\")","v":"0"},{"$f":"IF(ISNUMBER(SEARCH(\"16\",#REF!)),\"1\",\"0\")","v":"0"},{"$f":"IF(ISNUMBER(SEARCH(\"17\",#REF!)),\"1\",\"0\")","v":"0"},null,2,null,null,10,14,6,30,2,null,2,2,2,6,null,7,6,null,{"$f":"#REF!-#REF!","v":{"$error":"#REF!"}},{"$f":"#REF!-#REF!","v":{"$error":"#REF!"}}]
[2,22,11,"ZR",2,31,null,2,3,1,0,4,5,3,"0","0","1","0","0","0","0","0","0","0","0","0","0","0","0","0","0","0",null,null,3,5,2,{"$f":"IF(ISNUMBER(SEARCH(\"1\",#REF!)),\"1\",\"0\")","v":"0"},{"$f":"IF(ISNUMBER(SEARCH(\"2\",#REF!)),\"1\",\"0\")","v":"0"},{"$f":"IF(ISNUMBER(SEARCH(\"3\",#REF!)),\"1\",\"0\")","v":"0"},{"$f":"IF(ISNUMBER(SEARCH(\"4\",#REF!)),\"1\",\"0\")","v":"0"},{"$f":"IF(ISNUMBER(SEARCH(\"5\",#REF!)),\"1\",\"0\")","v":"0"},{"$f":"IF(ISNUMBER(SEARCH(\"6\",#REF!)),\"1\",\"0\")","v":"0"},{"$f":"IF(ISNUMBER(SEARCH(\"7\",#REF!)),\"1\",\"0\")","v":"0"},{"$f":"IF(ISNUMBER(SEARCH(\"8\",#REF!)),\"1\",\"0\")","v":"0"},{"$f":"IF(ISNUMBER(SEARCH(\"9\",#REF!)),\"1\",\"0\")","v":"0"},{"$f":"IF(ISNUMBER(SEARCH(\"9\",#REF!)),\"1\",\"0\")","v":"0"},{"$f":"IF(ISNUMBER(SEARCH(\"10\",#REF!)),\"1\",\"0\")","v":"0"},{"$f":"IF(ISNUMBER(SEARCH(\"11\",#REF!)),\"1\",\"0\")","v":"0"},{"$f":"IF(ISNUMBER(SEARCH(\"12\",#REF!)),\"1\",\"0\")","v":"0"},{"$f":"IF(ISNUMBER(SEARCH(\"13\",#REF!)),\"1\",\"0\")","v":"0"},{"$f":"IF(ISNUMBER(SEARCH(\"14\",#REF!)),\"1\",\"0\")","v":"0"},{"$f":"IF(ISNUMBER(SEARCH(\"15\",#REF!)),\"1\",\"0\")","v":"0"},{"$f":"IF(ISNUMBER(SEARCH(\"16\",#REF!)),\"1\",\"0\")","v":"0"},{"$f":"IF(ISNUMBER(SEARCH(\"17\",#REF!)),\"1\",\"0\")","v":"0"},null,2,null,null,16,20,18,54,6,null,4,8,2,14,null,8,4,null,{"$f":"#REF!-#REF!","v":{"$error":"#REF!"}},{"$f":"#REF!-#REF!","v":{"$error":"#REF!"}}]
[2,22,11,"ZR",2,14,null,2,2,1,0,8,2,1,"1","0","0","0","0","0","0","0","0","0","0","0","0","0","0","0","0","0",null,null,3,3,1,{"$f":"IF(ISNUMBER(SEARCH(\"1\",#REF!)),\"1\",\"0\")","v":"0"},{"$f":"IF(ISNUMBER(SEARCH(\"2\",#REF!)),\"1\",\"0\")","v":"0"},{"$f":"IF(ISNUMBER(SEARCH(\"3\",#REF!)),\"1\",\"0\")","v":"0"},{"$f":"IF(ISNUMBER(SEARCH(\"4\",#REF!)),\"1\",\"0\")","v":"0"},{"$f":"IF(ISNUMBER(SEARCH(\"5\",#REF!)),\"1\",\"0\")","v":"0"},{"$f":"IF(ISNUMBER(SEARCH(\"6\",#REF!)),\"1\",\"0\")","v":"0"},{"$f":"IF(ISNUMBER(SEARCH(\"7\",#REF!)),\"1\",\"0\")","v":"0"},{"$f":"IF(ISNUMBER(SEARCH(\"8\",#REF!)),\"1\",\"0\")","v":"0"},{"$f":"IF(ISNUMBER(SEARCH(\"9\",#REF!)),\"1\",\"0\")","v":"0"},{"$f":"IF(ISNUMBER(SEARCH(\"9\",#REF!)),\"1\",\"0\")","v":"0"},{"$f":"IF(ISNUMBER(SEARCH(\"10\",#REF!)),\"1\",\"0\")","v":"0"},{"$f":"IF(ISNUMBER(SEARCH(\"11\",#REF!)),\"1\",\"0\")","v":"0"},{"$f":"IF(ISNUMBER(SEARCH(\"12\",#REF!)),\"1\",\"0\")","v":"0"},{"$f":"IF(ISNUMBER(SEARCH(\"13\",#REF!)),\"1\",\"0\")","v":"0"},{"$f":"IF(ISNUMBER(SEARCH(\"14\",#REF!)),\"1\",\"0\")","v":"0"},{"$f":"IF(ISNUMBER(SEARCH(\"15\",#REF!)),\"1\",\"0\")","v":"0"},{"$f":"IF(ISNUMBER(SEARCH(\"16\",#REF!)),\"1\",\"0\")","v":"0"},{"$f":"IF(ISNUMBER(SEARCH(\"17\",#REF!)),\"1\",\"0\")","v":"0"},1,2,null,null,16,14,22,52,8,null,6,0,0,6,null,9,4,null,{"$f":"#REF!-#REF!","v":{"$error":"#REF!"}},{"$f":"#REF!-#REF!","v":{"$error":"#REF!"}}]
[2,22,11,"ZR",1,33,null,2,3,1,9,1,2,2,"0","1","0","0","0","0","0","0","0","0","0","0","0","0","0","0","0","0",null,null,1,5,2,{"$f":"IF(ISNUMBER(SEARCH(\"1\",#REF!)),\"1\",\"0\")","v":"0"},{"$f":"IF(ISNUMBER(SEARCH(\"2\",#REF!)),\"1\",\"0\")","v":"0"},{"$f":"IF(ISNUMBER(SEARCH(\"3\",#REF!)),\"1\",\"0\")","v":"0"},{"$f":"IF(ISNUMBER(SEARCH(\"4\",#REF!)),\"1\",\"0\")","v":"0"},{"$f":"IF(ISNUMBER(SEARCH(\"5\",#REF!)),\"1\",\"0\")","v":"0"},{"$f":"IF(ISNUMBER(SEARCH(\"6\",#REF!)),\"1\",\"0\")","v":"0"},{"$f":"IF(ISNUMBER(SEARCH(\"7\",#REF!)),\"1\",\"0\")","v":"0"},{"$f":"IF(ISNUMBER(SEARCH(\"8\",#REF!)),\"1\",\"0\")","v":"0"},{"$f":"IF(ISNUMBER(SEARCH(\"9\",#REF!)),\"1\",\"0\")","v":"0"},{"$f":"IF(ISNUMBER(SEARCH(\"9\",#REF!)),\"1\",\"0\")","v":"0"},{"$f":"IF(ISNUMBER(SEARCH(\"10\",#REF!)),\"1\",\"0\")","v":"0"},{"$f":"IF(ISNUMBER(SEARCH(\"11\",#REF!)),\"1\",\"0\")","v":"0"},{"$f":"IF(ISNUMBER(SEARCH(\"12\",#REF!)),\"1\",\"0\")","v":"0"},{"$f":"IF(ISNUMBER(SEARCH(\"13\",#REF!)),\"1\",\"0\")","v":"0"},{"$f":"IF(ISNUMBER(SEARCH(\"14\",#REF!)),\"1\",\"0\")","v":"0"},{"$f":"IF(ISNUMBER(SEARCH(\"15\",#REF!)),\"1\",\"0\")","v":"0"},{"$f":"IF(ISNUMBER(SEARCH(\"16\",#REF!)),\"1\",\"0\")","v":"0"},{"$f":"IF(ISNUMBER(SEARCH(\"17\",#REF!)),\"1\",\"0\")","v":"0"},1,2,null,null,24,20,14,58,5,{"$nulls":6},8,4,null,{"$f":"#REF!-#REF!","v":{"$error":"#REF!"}},{"$f":"#REF!-#REF!","v":{"$error":"#REF!"}}]
[2,22,11,"ZR",2,26,null,3,3,1,0,3,1,3,"0","0","1","0","0","0","0","0","0","0","0","0","0","0","0","0","0","0",null,null,3,5,1,{"$f":"IF(ISNUMBER(SEARCH(\"1\",#REF!)),\"1\",\"0\")","v":"0"},{"$f":"IF(ISNUMBER(SEARCH(\"2\",#REF!)),\"1\",\"0\")","v":"0"},{"$f":"IF(ISNUMBER(SEARCH(\"3\",#REF!)),\"1\",\"0\")","v":"0"},{"$f":"IF(ISNUMBER(SEARCH(\"4\",#REF!)),\"1\",\"0\")","v":"0"},{"$f":"IF(ISNUMBER(SEARCH(\"5\",#REF!)),\"1\",\"0\")","v":"0"},{"$f":"IF(ISNUMBER(SEARCH(\"6\",#REF!)),\"1\",\"0\")","v":"0"},{"$f":"IF(ISNUMBER(SEARCH(\"7\",#REF!)),\"1\",\"0\")","v":"0"},{"$f":"IF(ISNUMBER(SEARCH(\"8\",#REF!)),\"1\",\"0\")","v":"0"},{"$f":"IF(ISNUMBER(SEARCH(\"9\",#REF!)),\"1\",\"0\")","v":"0"},{"$f":"IF(ISNUMBER(SEARCH(\"9\",#REF!)),\"1\",\"0\")","v":"0"},{"$f":"IF(ISNUMBER(SEARCH(\"10\",#REF!)),\"1\",\"0\")","v":"0"},{"$f":"IF(ISNUMBER(SEARCH(\"11\",#REF!)),\"1\",\"0\")","v":"0"},{"$f":"IF(ISNUMBER(SEARCH(\"12\",#REF!)),\"1\",\"0\")","v":"0"},{"$f":"IF(ISNUMBER(SEARCH(\"13\",#REF!)),\"1\",\"0\")","v":"0"},{"$f":"IF(ISNUMBER(SEARCH(\"14\",#REF!)),\"1\",\"0\")","v":"0"},{"$f":"IF(ISNUMBER(SEARCH(\"15\",#REF!)),\"1\",\"0\")","v":"0"},{"$f":"IF(ISNUMBER(SEARCH(\"16\",#REF!)),\"1\",\"0\")","v":"0"},{"$f":"IF(ISNUMBER(SEARCH(\"17\",#REF!)),\"1\",\"0\")","v":"0"},5,2,null,null,22,20,20,62,9,null,4,2,6,12,null,10,4,null,{"$f":"#REF!-#REF!","v":{"$error":"#REF!"}},{"$f":"#REF!-#REF!","v":{"$error":"#REF!"}}]
[2,22,11,"ZR",2,21,null,3,8,1,0,5,5,3,"0","0","1","0","0","0","0","0","0","0","0","0","0","0","0","0","0","0",null,null,1,4,1,{"$f":"IF(ISNUMBER(SEARCH(\"1\",#REF!)),\"1\",\"0\")","v":"0"},{"$f":"IF(ISNUMBER(SEARCH(\"2\",#REF!)),\"1\",\"0\")","v":"0"},{"$f":"IF(ISNUMBER(SEARCH(\"3\",#REF!)),\"1\",\"0\")","v":"0"},{"$f":"IF(ISNUMBER(SEARCH(\"4\",#REF!)),\"1\",\"0\")","v":"0"},{"$f":"IF(ISNUMBER(SEARCH(\"5\",#REF!)),\"1\",\"0\")","v":"0"},{"$f":"IF(ISNUMBER(SEARCH(\"6\",#REF!)),\"1\",\"0\")","v":"0"},{"$f":"IF(ISNUMBER(SEARCH(\"7\",#REF!)),\"1\",\"0\")","v":"0"},{"$f":"IF(ISNUMBER(SEARCH(\"8\",#REF!)),\"1\",\"0\")","v":"0"},{"$f":"IF(ISNUMBER(SEARCH(\"9\",#REF!)),\"1\",\"0\")","v":"0"},{"$f":"IF(ISNUMBER(SEARCH(\"9\",#REF!)),\"1\",\"0\")","v":"0"},{"$f":"IF(ISNUMBER(SEARCH(\"10\",#REF!)),\"1\",\"0\")","v":"0"},{"$f":"IF(ISNUMBER(SEARCH(\"11\",#REF!)),\"1\",\"0\")","v":"0"},{"$f":"IF(ISNUMBER(SEARCH(\"12\",#REF!)),\"1\",\"0\")","v":"0"},{"$f":"IF(ISNUMBER(SEARCH(\"13\",#REF!)),\"1\",\"0\")","v":"0"},{"$f":"IF(ISNUMBER(SEARCH(\"14\",#REF!)),\"1\",\"0\")","v":"0"},{"$f":"IF(ISNUMBER(SEARCH(\"15\",#REF!)),\"1\",\"0\")","v":"0"},{"$f":"IF(ISNUMBER(SEARCH(\"16\",#REF!)),\"1\",\"0\")","v":"0"},{"$f":"IF(ISNUMBER(SEARCH(\"17\",#REF!)),\"1\",\"0\")","v":"0"},1,2,null,null,18,16,16,50,{"$nulls":10},{"$f":"#REF!-#REF!","v":{"$error":"#REF!"}}]
[2,22,11,"ZR",2,28,null,3,3,1,1,5,5,3,"0","0","1","0","0","0","0","0","0","0","0","0","0","0","0","0","0","0",null,null,1,5,2,{"$f":"IF(ISNUMBER(SEARCH(\"1\",#REF!)),\"1\",\"0\")","v":"0"},{"$f":"IF(ISNUMBER(SEARCH(\"2\",#REF!)),\"1\",\"0\")","v":"0"},{"$f":"IF(ISNUMBER(SEARCH(\"3\",#REF!)),\"1\",\"0\")","v":"0"},{"$f":"IF(ISNUMBER(SEARCH(\"4\",#REF!)),\"1\",\"0\")","v":"0"},{"$f":"IF(ISNUMBER(SEARCH(\"5\",#REF!)),\"1\",\"0\")","v":"0"},{"$f":"IF(ISNUMBER(SEARCH(\"6\",#REF!)),\"1\",\"0\")","v":"0"},{"$f":"IF(ISNUMBER(SEARCH(\"7\",#REF!)),\"1\",\"0\")","v":"0"},{"$f":"IF(ISNUMBER(SEARCH(\"8\",#REF!)),\"1\",\"0\")","v":"0"},{"$f":"IF(ISNUMBER(SEARCH(\"9\",#REF!)),\"1\",\"0\")","v":"0"},{"$f":"IF(ISNUMBER(SEARCH(\"9\",#REF!)),\"1\",\"0\")","v":"0"},{"$f":"IF(ISNUMBER(SEARCH(\"10\",#REF!)),\"1\",\"0\")","v":"0"},{"$f":"IF(ISNUMBER(SEARCH(\"11\",#REF!)),\"1\",\"0\")","v":"0"},{"$f":"IF(ISNUMBER(SEARCH(\"12\",#REF!)),\"1\",\"0\")","v":"0"},{"$f":"IF(ISNUMBER(SEARCH(\"13\",#REF!)),\"1\",\"0\")","v":"0"},{"$f":"IF(ISNUMBER(SEARCH(\"14\",#REF!)),\"1\",\"0\")","v":"0"},{"$f":"IF(ISNUMBER(SEARCH(\"15\",#REF!)),\"1\",\"0\")","v":"0"},{"$f":"IF(ISNUMBER(SEARCH(\"16\",#REF!)),\"1\",\"0\")","v":"0"},{"$f":"IF(ISNUMBER(SEARCH(\"17\",#REF!)),\"1\",\"0\")","v":"0"},5,2,null,null,22,22,18,62,null,null,2,2,2,6,{"$nulls":4},{"$f":"#REF!-#REF!","v":{"$error":"#REF!"}},{"$f":"#REF!-#REF!","v":{"$error":"#REF!"}}]
[2,22,11,"ZR",2,33,null,3,8,1,0,3,1,14,"1","0","0","1","0","0","0","0","0","0","0","0","0","1","0","0","0","0",null,null,3,5,1,{"$f":"IF(ISNUMBER(SEARCH(\"1\",#REF!)),\"1\",\"0\")","v":"0"},{"$f":"IF(ISNUMBER(SEARCH(\"2\",#REF!)),\"1\",\"0\")","v":"0"},{"$f":"IF(ISNUMBER(SEARCH(\"3\",#REF!)),\"1\",\"0\")","v":"0"},{"$f":"IF(ISNUMBER(SEARCH(\"4\",#REF!)),\"1\",\"0\")","v":"0"},{"$f":"IF(ISNUMBER(SEARCH(\"5\",#REF!)),\"1\",\"0\")","v":"0"},{"$f":"IF(ISNUMBER(SEARCH(\"6\",#REF!)),\"1\",\"0\")","v":"0"},{"$f":"IF(ISNUMBER(SEARCH(\"7\",#REF!)),\"1\",\"0\")","v":"0"},{"$f":"IF(ISNUMBER(SEARCH(\"8\",#REF!)),\"1\",\"0\")","v":"0"},{"$f":"IF(ISNUMBER(SEARCH(\"9\",#REF!)),\"1\",\"0\")","v":"0"},{"$f":"IF(ISNUMBER(SEARCH(\"9\",#REF!)),\"1\",\"0\")","v":"0"},{"$f":"IF(ISNUMBER(SEARCH(\"10\",#REF!)),\"1\",\"0\")","v":"0"},{"$f":"IF(ISNUMBER(SEARCH(\"11\",#REF!)),\"1\",\"0\")","v":"0"},{"$f":"IF(ISNUMBER(SEARCH(\"12\",#REF!)),\"1\",\"0\")","v":"0"},{"$f":"IF(ISNUMBER(SEARCH(\"13\",#REF!)),\"1\",\"0\")","v":"0"},{"$f":"IF(ISNUMBER(SEARCH(\"14\",#REF!)),\"1\",\"0\")","v":"0"},{"$f":"IF(ISNUMBER(SEARCH(\"15\",#REF!)),\"1\",\"0\")","v":"0"},{"$f":"IF(ISNUMBER(SEARCH(\"16\",#REF!)),\"1\",\"0\")","v":"0"},{"$f":"IF(ISNUMBER(SEARCH(\"17\",#REF!)),\"1\",\"0\")","v":"0"},{"$nulls":4},24,4,8,36,4,null,2,0,0,2,null,6,4,null,null,{"$f":"#REF!-#REF!","v":{"$error":"#REF!"}}]
[2,22,12,"MN",2,41,null,1,8,1,7,3,2,3,"0","0","1","0","0","0","0","0","0","0","0","0","0","0","0","0","0","0",null,null,3,5,2,{"$f":"IF(ISNUMBER(SEARCH(\"1\",#REF!)),\"1\",\"0\")","v":"0"},0,{"$f":"IF(ISNUMBER(SEARCH(\"3\",#REF!)),\"1\",\"0\")","v":"0"},{"$f":"IF(ISNUMBER(SEARCH(\"4\",#REF!)),\"1\",\"0\")","v":"0"},{"$f":"IF(ISNUMBER(SEARCH(\"5\",#REF!)),\"1\",\"0\")","v":"0"},{"$f":"IF(ISNUMBER(SEARCH(\"6\",#REF!)),\"1\",\"0\")","v":"0"},{"$f":"IF(ISNUMBER(SEARCH(\"7\",#REF!)),\"1\",\"0\")","v":"0"},{"$f":"IF(ISNUMBER(SEARCH(\"8\",#REF!)),\"1\",\"0\")","v":"0"},{"$f":"IF(ISNUMBER(SEARCH(\"9\",#REF!)),\"1\",\"0\")","v":"0"},{"$f":"IF(ISNUMBER(SEARCH(\"9\",#REF!)),\"1\",\"0\")","v":"0"},{"$f":"IF(ISNUMBER(SEARCH(\"10\",#REF!)),\"1\",\"0\")","v":"0"},{"$f":"IF(ISNUMBER(SEARCH(\"11\",#REF!)),\"1\",\"0\")","v":"0"},{"$f":"IF(ISNUMBER(SEARCH(\"12\",#REF!)),\"1\",\"0\")","v":"0"},{"$f":"IF(ISNUMBER(SEARCH(\"13\",#REF!)),\"1\",\"0\")","v":"0"},{"$f":"IF(ISNUMBER(SEARCH(\"14\",#REF!)),\"1\",\"0\")","v":"0"},{"$f":"IF(ISNUMBER(SEARCH(\"15\",#REF!)),\"1\",\"0\")","v":"0"},{"$f":"IF(ISNUMBER(SEARCH(\"16\",#REF!)),\"1\",\"0\")","v":"0"},{"$f":"IF(ISNUMBER(SEARCH(\"17\",#REF!)),\"1\",\"0\")","v":"0"},1,2,{"$nulls":6},13,{"$nulls":6},13,null,null,{"$f":"#REF!-#REF!","v":{"$error":"#REF!"}}]
[2,22,9,"NT",2,26,null,1,7,1,4,5,2,3,"0","0","1","0","0","0","0","0","0","0","0","0","0","0","0","0","0","0",null,null,3,4,2,{"$f":"IF(ISNUMBER(SEARCH(\"1\",#REF!)),\"1\",\"0\")","v":"0"},{"$f":"IF(ISNUMBER(SEARCH(\"2\",#REF!)),\"1\",\"0\")","v":"0"},{"$f":"IF(ISNUMBER(SEARCH(\"3\",#REF!)),\"1\",\"0\")","v":"0"},{"$f":"IF(ISNUMBER(SEARCH(\"4\",#REF!)),\"1\",\"0\")","v":"0"},{"$f":"IF(ISNUMBER(SEARCH(\"5\",#REF!)),\"1\",\"0\")","v":"0"},{"$f":"IF(ISNUMBER(SEARCH(\"6\",#REF!)),\"1\",\"0\")","v":"0"},{"$f":"IF(ISNUMBER(SEARCH(\"7\",#REF!)),\"1\",\"0\")","v":"0"},{"$f":"IF(ISNUMBER(SEARCH(\"8\",#REF!)),\"1\",\"0\")","v":"0"},{"$f":"IF(ISNUMBER(SEARCH(\"9\",#REF!)),\"1\",\"0\")","v":"0"},{"$f":"IF(ISNUMBER(SEARCH(\"9\",#REF!)),\"1\",\"0\")","v":"0"},{"$f":"IF(ISNUMBER(SEARCH(\"10\",#REF!)),\"1\",\"0\")","v":"0"},{"$f":"IF(ISNUMBER(SEARCH(\"11\",#REF!)),\"1\",\"0\")","v":"0"},{"$f":"IF(ISNUMBER(SEARCH(\"12\",#REF!)),\"1\",\"0\")","v":"0"},{"$f":"IF(ISNUMBER(SEARCH(\"13\",#REF!)),\"1\",\"0\")","v":"0"},{"$f":"IF(ISNUMBER(SEARCH(\"14\",#REF!)),\"1\",\"0\")","v":"0"},{"$f":"IF(ISNUMBER(SEARCH(\"15\",#REF!)),\"1\",\"0\")","v":"0"},{"$f":"IF(ISNUMBER(SEARCH(\"16\",#REF!)),\"1\",\"0\")","v":"0"},{"$f":"IF(ISNUMBER(SEARCH(\"17\",#REF!)),\"1\",\"0\")","v":"0"},3,2,null,null,22,12,20,54,5,null,0,0,2,2,null,12,5,null,{"$f":"#REF!-#REF!","v":{"$error":"#REF!"}},{"$f":"#REF!-#REF!","v":{"$error":"#REF!"}}]
[2,22,9,"LL",2,30,null,1,7,1,7,5,6,3,"0","0","1","0","0","0","0","0","0","0","0","0","0","0","0","0","0","0",null,null,3,4,1,{"$f":"IF(ISNUMBER(SEARCH(\"1\",#REF!)),\"1\",\"0\")","v":"0"},{"$f":"IF(ISNUMBER(SEARCH(\"2\",#REF!)),\"1\",\"0\")","v":"0"},{"$f":"IF(ISNUMBER(SEARCH(\"3\",#REF!)),\"1\",\"0\")","v":"0"},{"$f":"IF(ISNUMBER(SEARCH(\"4\",#REF!)),\"1\",\"0\")","v":"0"},{"$f":"IF(ISNUMBER(SEARCH(\"5\",#REF!)),\"1\",\"0\")","v":"0"},{"$f":"IF(ISNUMBER(SEARCH(\"6\",#REF!)),\"1\",\"0\")","v":"0"},{"$f":"IF(ISNUMBER(SEARCH(\"7\",#REF!)),\"1\",\"0\")","v":"0"},{"$f":"IF(ISNUMBER(SEARCH(\"8\",#REF!)),\"1\",\"0\")","v":"0"},{"$f":"IF(ISNUMBER(SEARCH(\"9\",#REF!)),\"1\",\"0\")","v":"0"},{"$f":"IF(ISNUMBER(SEARCH(\"9\",#REF!)),\"1\",\"0\")","v":"0"},{"$f":"IF(ISNUMBER(SEARCH(\"10\",#REF!)),\"1\",\"0\")","v":"0"},{"$f":"IF(ISNUMBER(SEARCH(\"11\",#REF!)),\"1\",\"0\")","v":"0"},{"$f":"IF(ISNUMBER(SEARCH(\"12\",#REF!)),\"1\",\"0\")","v":"0"},{"$f":"IF(ISNUMBER(SEARCH(\"13\",#REF!)),\"1\",\"0\")","v":"0"},{"$f":"IF(ISNUMBER(SEARCH(\"14\",#REF!)),\"1\",\"0\")","v":"0"},{"$f":"IF(ISNUMBER(SEARCH(\"15\",#REF!)),\"1\",\"0\")","v":"0"},{"$f":"IF(ISNUMBER(SEARCH(\"16\",#REF!)),\"1\",\"0\")","v":"0"},{"$f":"IF(ISNUMBER(SEARCH(\"17\",#REF!)),\"1\",\"0\")","v":"0"},4,2,{"$nulls":6},4,{"$nulls":6},0,null,null,{"$f":"#REF!-#REF!","v":{"$error":"#REF!"}}]
[2,22,9,"LL",2,30,null,1,7,1,7,5,2,1,"1","0","0","0","0","0","0","0","0","0","0","0","0","0","0","0","0","0",null,null,1,3,1,{"$f":"IF(ISNUMBER(SEARCH(\"1\",#REF!)),\"1\",\"0\")","v":"0"},{"$f":"IF(ISNUMBER(SEARCH(\"2\",#REF!)),\"1\",\"0\")","v":"0"},{"$f":"IF(ISNUMBER(SEARCH(\"3\",#REF!)),\"1\",\"0\")","v":"0"},{"$f":"IF(ISNUMBER(SEARCH(\"4\",#REF!)),\"1\",\"0\")","v":"0"},{"$f":"IF(ISNUMBER(SEARCH(\"5\",#REF!)),\"1\",\"0\")","v":"0"},{"$f":"IF(ISNUMBER(SEARCH(\"6\",#REF!)),\"1\",\"0\")","v":"0"},{"$f":"IF(ISNUMBER(SEARCH(\"7\",#REF!)),\"1\",\"0\")","v":"0"},{"$f":"IF(ISNUMBER(SEARCH(\"8\",#REF!)),\"1\",\"0\")","v":"0"},{"$f":"IF(ISNUMBER(SEARCH(\"9\",#REF!)),\"1\",\"0\")","v":"0"},{"$f":"IF(ISNUMBER(SEARCH(\"9\",#REF!)),\"1\",\"0\")","v":"0"},{"$f":"IF(ISNUMBER(SEARCH(\"10\",#REF!)),\"1\",\"0\")","v":"0"},{"$f":"IF(ISNUMBER(SEARCH(\"11\",#REF!)),\"1\",\"0\")","v":"0"},{"$f":"IF(ISNUMBER(SEARCH(\"12\",#REF!)),\"1\",\"0\")","v":"0"},{"$f":"IF(ISNUMBER(SEARCH(\"13\",#REF!)),\"1\",\"0\")","v":"0"},{"$f":"IF(ISNUMBER(SEARCH(\"14\",#REF!)),\"1\",\"0\")","v":"0"},{"$f":"IF(ISNUMBER(SEARCH(\"15\",#REF!)),\"1\",\"0\")","v":"0"},{"$f":"IF(ISNUMBER(SEARCH(\"16\",#REF!)),\"1\",\"0\")","v":"0"},{"$f":"IF(ISNUMBER(SEARCH(\"17\",#REF!)),\"1\",\"0\")","v":"0"},null,2,{"$nulls":6},6,{"$nulls":6},10,5,null,{"$f":"#REF!-#REF!","v":{"$error":"#REF!"}}]
[2,22,12,"MN",1,15,null,1,2,1,0,5,1,3,"0","0","1","0","0","0","0","0","0","0","0","0","0","0","0","0","0","0",null,null,2,5,1,{"$f":"IF(ISNUMBER(SEARCH(\"1\",#REF!)),\"1\",\"0\")","v":"0"},{"$f":"IF(ISNUMBER(SEARCH(\"2\",#REF!)),\"1\",\"0\")","v":"0"},{"$f":"IF(ISNUMBER(SEARCH(\"3\",#REF!)),\"1\",\"0\")","v":"0"},{"$f":"IF(ISNUMBER(SEARCH(\"4\",#REF!)),\"1\",\"0\")","v":"0"},{"$f":"IF(ISNUMBER(SEARCH(\"5\",#REF!)),\"1\",\"0\")","v":"0"},{"$f":"IF(ISNUMBER(SEARCH(\"6\",#REF!)),\"1\",\"0\")","v":"0"},{"$f":"IF(ISNUMBER(SEARCH(\"7\",#REF!)),\"1\",\"0\")","v":"0"},{"$f":"IF(ISNUMBER(SEARCH(\"8\",#REF!)),\"1\",\"0\")","v":"0"},{"$f":"IF(ISNUMBER(SEARCH(\"9\",#REF!)),\"1\",\"0\")","v":"0"},{"$f":"IF(ISNUMBER(SEARCH(\"9\",#REF!)),\"1\",\"0\")","v":"0"},{"$f":"IF(ISNUMBER(SEARCH(\"10\",#REF!)),\"1\",\"0\")","v":"0"},{"$f":"IF(ISNUMBER(SEARCH(\"11\",#REF!)),\"1\",\"0\")","v":"0"},{"$f":"IF(ISNUMBER(SEARCH(\"12\",#REF!)),\"1\",\"0\")","v":"0"},{"$f":"IF(ISNUMBER(SEARCH(\"13\",#REF!)),\"1\",\"0\")","v":"0"},{"$f":"IF(ISNUMBER(SEARCH(\"14\",#REF!)),\"1\",\"0\")","v":"0"},{"$f":"IF(ISNUMBER(SEARCH(\"15\",#REF!)),\"1\",\"0\")","v":"0"},{"$f":"IF(ISNUMBER(SEARCH(\"16\",#REF!)),\"1\",\"0\")","v":"0"},{"$f":"IF(ISNUMBER(SEARCH(\"17\",#REF!)),\"1\",\"0\")","v":"0"},4,2,null,null,22,30,20,72,8,{"$nulls":6},0,"",null,{"$f":"#REF!-#REF!","v":{"$error":"#REF!"}},{"$f":"#REF!-#REF!","v":{"$error":"#REF!"}}]
[2,22,12,"MN",2,16,null,3,2,1,0,5,null,3,"0","0","1","0","0","0","0","0","0","0","0","0","0","0","0","0","0","0",null,null,1,5,1,{"$f":"IF(ISNUMBER(SEARCH(\"1\",#REF!)),\"1\",\"0\")","v":"0"},0,{"$f":"IF(ISNUMBER(SEARCH(\"3\",#REF!)),\"1\",\"0\")","v":"0"},{"$f":"IF(ISNUMBER(SEARCH(\"4\",#REF!)),\"1\",\"0\")","v":"0"},{"$f":"IF(ISNUMBER(SEARCH(\"5\",#REF!)),\"1\",\"0\")","v":"0"},{"$f":"IF(ISNUMBER(SEARCH(\"6\",#REF!)),\"1\",\"0\")","v":"0"},{"$f":"IF(ISNUMBER(SEARCH(\"7\",#REF!)),\"1\",\"0\")","v":"0"},{"$f":"IF(ISNUMBER(SEARCH(\"8\",#REF!)),\"1\",\"0\")","v":"0"},{"$f":"IF(ISNUMBER(SEARCH(\"9\",#REF!)),\"1\",\"0\")","v":"0"},{"$f":"IF(ISNUMBER(SEARCH(\"9\",#REF!)),\"1\",\"0\")","v":"0"},{"$f":"IF(ISNUMBER(SEARCH(\"10\",#REF!)),\"1\",\"0\")","v":"0"},{"$f":"IF(ISNUMBER(SEARCH(\"11\",#REF!)),\"1\",\"0\")","v":"0"},{"$f":"IF(ISNUMBER(SEARCH(\"12\",#REF!)),\"1\",\"0\")","v":"0"},{"$f":"IF(ISNUMBER(SEARCH(\"13\",#REF!)),\"1\",\"0\")","v":"0"},{"$f":"IF(ISNUMBER(SEARCH(\"14\",#REF!)),\"1\",\"0\")","v":"0"},{"$f":"IF(ISNUMBER(SEARCH(\"15\",#REF!)),\"1\",\"0\")","v":"0"},{"$f":"IF(ISNUMBER(SEARCH(\"16\",#REF!)),\"1\",\"0\")","v":"0"},{"$f":"IF(ISNUMBER(SEARCH(\"17\",#REF!)),\"1\",\"0\")","v":"0"},5,2,{"$nulls":6},8,null,4,2,2,8,null,11,""]
[2,22,9,"FB",2,21,1998,2,8,1,0,5,1,"4. Tentative de Viol","0","0","0","1","0","0","0","0","0","0","0","0","0","0","0","0","0","0",null,null,3,4,2,{"$f":"IF(ISNUMBER(SEARCH(\"1\",#REF!)),\"1\",\"0\")","v":"0"},{"$f":"IF(ISNUMBER(SEARCH(\"2\",#REF!)),\"1\",\"0\")","v":"0"},{"$f":"IF(ISNUMBER(SEARCH(\"3\",#REF!)),\"1\",\"0\")","v":"0"},{"$f":"IF(ISNUMBER(SEARCH(\"4\",#REF!)),\"1\",\"0\")","v":"0"},{"$f":"IF(ISNUMBER(SEARCH(\"5\",#REF!)),\"1\",\"0\")","v":"0"},{"$f":"IF(ISNUMBER(SEARCH(\"6\",#REF!)),\"1\",\"0\")","v":"0"},{"$f":"IF(ISNUMBER(SEARCH(\"7\",#REF!)),\"1\",\"0\")","v":"0"},{"$f":"IF(ISNUMBER(SEARCH(\"8\",#REF!)),\"1\",\"0\")","v":"0"},{"$f":"IF(ISNUMBER(SEARCH(\"9\",#REF!)),\"1\",\"0\")","v":"0"},{"$f":"IF(ISNUMBER(SEARCH(\"9\",#REF!)),\"1\",\"0\")","v":"0"},{"$f":"IF(ISNUMBER(SEARCH(\"10\",#REF!)),\"1\",\"0\")","v":"0"},{"$f":"IF(ISNUMBER(SEARCH(\"11\",#REF!)),\"1\",\"0\")","v":"0"},{"$f":"IF(ISNUMBER(SEARCH(\"12\",#REF!)),\"1\",\"0\")","v":"0"},{"$f":"IF(ISNUMBER(SEARCH(\"13\",#REF!)),\"1\",\"0\")","v":"0"},{"$f":"IF(ISNUMBER(SEARCH(\"14\",#REF!)),\"1\",\"0\")","v":"0"},{"$f":"IF(ISNUMBER(SEARCH(\"15\",#REF!)),\"1\",\"0\")","v":"0"},{"$f":"IF(ISNUMBER(SEARCH(\"16\",#REF!)),\"1\",\"0\")","v":"0"},{"$f":"IF(ISNUMBER(SEARCH(\"17\",#REF!)),\"1\",\"0\")","v":"0"},2,2,null,null,22,18,28,68,9,{"$nulls":6},10,4,null,{"$f":"#REF!-#REF!","v":{"$error":"#REF!"}}]
[2,22,9,"NT",2,48,1971,2,8,1,8,1,2,3,"0","0","1","0","0","0","0","0","0","0","0","0","0","0","0","0","0","0",null,null,3,4,2,{"$f":"IF(ISNUMBER(SEARCH(\"1\",#REF!)),\"1\",\"0\")","v":"0"},{"$f":"IF(ISNUMBER(SEARCH(\"2\",#REF!)),\"1\",\"0\")","v":"0"},{"$f":"IF(ISNUMBER(SEARCH(\"3\",#REF!)),\"1\",\"0\")","v":"0"},{"$f":"IF(ISNUMBER(SEARCH(\"4\",#REF!)),\"1\",\"0\")","v":"0"},{"$f":"IF(ISNUMBER(SEARCH(\"5\",#REF!)),\"1\",\"0\")","v":"0"},{"$f":"IF(ISNUMBER(SEARCH(\"6\",#REF!)),\"1\",\"0\")","v":"0"},{"$f":"IF(ISNUMBER(SEARCH(\"7\",#REF!)),\"1\",\"0\")","v":"0"},{"$f":"IF(ISNUMBER(SEARCH(\"8\",#REF!)),\"1\",\"0\")","v":"0"},{"$f":"IF(ISNUMBER(SEARCH(\"9\",#REF!)),\"1\",\"0\")","v":"0"},{"$f":"IF(ISNUMBER(SEARCH(\"9\",#REF!)),\"1\",\"0\")","v":"0"},{"$f":"IF(ISNUMBER(SEARCH(\"10\",#REF!)),\"1\",\"0\")","v":"0"},{"$f":"IF(ISNUMBER(SEARCH(\"11\",#REF!)),\"1\",\"0\")","v":"0"},{"$f":"IF(ISNUMBER(SEARCH(\"12\",#REF!)),\"1\",\"0\")","v":"0"},{"$f":"IF(ISNUMBER(SEARCH(\"13\",#REF!)),\"1\",\"0\")","v":"0"},{"$f":"IF(ISNUMBER(SEARCH(\"14\",#REF!)),\"1\",\"0\")","v":"0"},{"$f":"IF(ISNUMBER(SEARCH(\"15\",#REF!)),\"1\",\"0\")","v":"0"},{"$f":"IF(ISNUMBER(SEARCH(\"16\",#REF!)),\"1\",\"0\")","v":"0"},{"$f":"IF(ISNUMBER(SEARCH(\"17\",#REF!)),\"1\",\"0\")","v":"0"},2,3,{"$nulls":6},8,{"$nulls":6},12,5]
[2,22,9,"FM",2,32,1987,1,3,1,5,5,2,1,"1","0","0","0","0","0","0","0","0","0","0","0","0","0","0","0","0","0",null,null,1,1,2,{"$f":"IF(ISNUMBER(SEARCH(\"1\",#REF!)),\"1\",\"0\")","v":"0"},{"$f":"IF(ISNUMBER(SEARCH(\"2\",#REF!)),\"1\",\"0\")","v":"0"},{"$f":"IF(ISNUMBER(SEARCH(\"3\",#REF!)),\"1\",\"0\")","v":"0"},{"$f":"IF(ISNUMBER(SEARCH(\"4\",#REF!)),\"1\",\"0\")","v":"0"},{"$f":"IF(ISNUMBER(SEARCH(\"5\",#REF!)),\"1\",\"0\")","v":"0"},{"$f":"IF(ISNUMBER(SEARCH(\"6\",#REF!)),\"1\",\"0\")","v":"0"},{"$f":"IF(ISNUMBER(SEARCH(\"7\",#REF!)),\"1\",\"0\")","v":"0"},{"$f":"IF(ISNUMBER(SEARCH(\"8\",#REF!)),\"1\",\"0\")","v":"0"},{"$f":"IF(ISNUMBER(SEARCH(\"9\",#REF!)),\"1\",\"0\")","v":"0"},{"$f":"IF(ISNUMBER(SEARCH(\"9\",#REF!)),\"1\",\"0\")","v":"0"},{"$f":"IF(ISNUMBER(SEARCH(\"10\",#REF!)),\"1\",\"0\")","v":"0"},{"$f":"IF(ISNUMBER(SEARCH(\"11\",#REF!)),\"1\",\"0\")","v":"0"},{"$f":"IF(ISNUMBER(SEARCH(\"12\",#REF!)),\"1\",\"0\")","v":"0"},{"$f":"IF(ISNUMBER(SEARCH(\"13\",#REF!)),\"1\",\"0\")","v":"0"},{"$f":"IF(ISNUMBER(SEARCH(\"14\",#REF!)),\"1\",\"0\")","v":"0"},{"$f":"IF(ISNUMBER(SEARCH(\"15\",#REF!)),\"1\",\"0\")","v":"0"},{"$f":"IF(ISNUMBER(SEARCH(\"16\",#REF!)),\"1\",\"0\")","v":"0"},{"$f":"IF(ISNUMBER(SEARCH(\"17\",#REF!)),\"1\",\"0\")","v":"0"},null,2,null,null,18,28,16,62,7,null,2,0,2,4,null,12,6,null,{"$f":"#REF!-#REF!","v":{"$error":"#REF!"}},{"$f":"#REF!-#REF!","v":{"$error":"#REF!"}}]
[2,22,9,"FM",2,48,1971,2,7,1,7,3,6,3,"0","0","1","0","0","0","0","0","0","0","0","0","0","0","0","0","0","0",null,null,3,5,2,{"$f":"IF(ISNUMBER(SEARCH(\"1\",#REF!)),\"1\",\"0\")","v":"0"},{"$f":"IF(ISNUMBER(SEARCH(\"2\",#REF!)),\"1\",\"0\")","v":"0"},{"$f":"IF(ISNUMBER(SEARCH(\"3\",#REF!)),\"1\",\"0\")","v":"0"},{"$f":"IF(ISNUMBER(SEARCH(\"4\",#REF!)),\"1\",\"0\")","v":"0"},{"$f":"IF(ISNUMBER(SEARCH(\"5\",#REF!)),\"1\",\"0\")","v":"0"},{"$f":"IF(ISNUMBER(SEARCH(\"6\",#REF!)),\"1\",\"0\")","v":"0"},{"$f":"IF(ISNUMBER(SEARCH(\"7\",#REF!)),\"1\",\"0\")","v":"0"},{"$f":"IF(ISNUMBER(SEARCH(\"8\",#REF!)),\"1\",\"0\")","v":"0"},{"$f":"IF(ISNUMBER(SEARCH(\"9\",#REF!)),\"1\",\"0\")","v":"0"},{"$f":"IF(ISNUMBER(SEARCH(\"9\",#REF!)),\"1\",\"0\")","v":"0"},{"$f":"IF(ISNUMBER(SEARCH(\"10\",#REF!)),\"1\",\"0\")","v":"0"},{"$f":"IF(ISNUMBER(SEARCH(\"11\",#REF!)),\"1\",\"0\")","v":"0"},{"$f":"IF(ISNUMBER(SEARCH(\"12\",#REF!)),\"1\",\"0\")","v":"0"},{"$f":"IF(ISNUMBER(SEARCH(\"13\",#REF!)),\"1\",\"0\")","v":"0"},{"$f":"IF(ISNUMBER(SEARCH(\"14\",#REF!)),\"1\",\"0\")","v":"0"},{"$f":"IF(ISNUMBER(SEARCH(\"15\",#REF!)),\"1\",\"0\")","v":"0"},{"$f":"IF(ISNUMBER(SEARCH(\"16\",#REF!)),\"1\",\"0\")","v":"0"},{"$f":"IF(ISNUMBER(SEARCH(\"17\",#REF!)),\"1\",\"0\")","v":"0"},5,1,null,null,24,22,22,68,7,{"$nulls":6},13,null,null,{"$f":"#REF!-#REF!","v":{"$error":"#REF!"}}]
[2,22,9,"FB",2,23,1996,2,3,1,0,5,null,3,"0","0","1","0","0","0","0","0","0","0","0","0","0","0","0","0","0","0",null,null,3,5,2,{"$f":"IF(ISNUMBER(SEARCH(\"1\",#REF!)),\"1\",\"0\")","v":"0"},{"$f":"IF(ISNUMBER(SEARCH(\"2\",#REF!)),\"1\",\"0\")","v":"0"},{"$f":"IF(ISNUMBER(SEARCH(\"3\",#REF!)),\"1\",\"0\")","v":"0"},{"$f":"IF(ISNUMBER(SEARCH(\"4\",#REF!)),\"1\",\"0\")","v":"0"},{"$f":"IF(ISNUMBER(SEARCH(\"5\",#REF!)),\"1\",\"0\")","v":"0"},{"$f":"IF(ISNUMBER(SEARCH(\"6\",#REF!)),\"1\",\"0\")","v":"0"},{"$f":"IF(ISNUMBER(SEARCH(\"7\",#REF!)),\"1\",\"0\")","v":"0"},{"$f":"IF(ISNUMBER(SEARCH(\"8\",#REF!)),\"1\",\"0\")","v":"0"},{"$f":"IF(ISNUMBER(SEARCH(\"9\",#REF!)),\"1\",\"0\")","v":"0"},{"$f":"IF(ISNUMBER(SEARCH(\"9\",#REF!)),\"1\",\"0\")","v":"0"},{"$f":"IF(ISNUMBER(SEARCH(\"10\",#REF!)),\"1\",\"0\")","v":"0"},{"$f":"IF(ISNUMBER(SEARCH(\"11\",#REF!)),\"1\",\"0\")","v":"0"},{"$f":"IF(ISNUMBER(SEARCH(\"12\",#REF!)),\"1\",\"0\")","v":"0"},{"$f":"IF(ISNUMBER(SEARCH(\"13\",#REF!)),\"1\",\"0\")","v":"0"},{"$f":"IF(ISNUMBER(SEARCH(\"14\",#REF!)),\"1\",\"0\")","v":"0"},{"$f":"IF(ISNUMBER(SEARCH(\"15\",#REF!)),\"1\",\"0\")","v":"0"},{"$f":"IF(ISNUMBER(SEARCH(\"16\",#REF!)),\"1\",\"0\")","v":"0"},{"$f":"IF(ISNUMBER(SEARCH(\"17\",#REF!)),\"1\",\"0\")","v":"0"},3,2,null,null,10,6,16,32,9,{"$nulls":6},13,5,null,{"$f":"#REF!-#REF!","v":{"$error":"#REF!"}}]
[2,22,9,"FB",2,35,1984,1,7,1,7,5,2,3,"0","0","1","0","0","0","0","0","0","0","0","0","0","0","0","0","0","0",null,null,3,5,2,{"$f":"IF(ISNUMBER(SEARCH(\"1\",#REF!)),\"1\",\"0\")","v":"0"},{"$f":"IF(ISNUMBER(SEARCH(\"2\",#REF!)),\"1\",\"0\")","v":"0"},{"$f":"IF(ISNUMBER(SEARCH(\"3\",#REF!)),\"1\",\"0\")","v":"0"},{"$f":"IF(ISNUMBER(SEARCH(\"4\",#REF!)),\"1\",\"0\")","v":"0"},{"$f":"IF(ISNUMBER(SEARCH(\"5\",#REF!)),\"1\",\"0\")","v":"0"},{"$f":"IF(ISNUMBER(SEARCH(\"6\",#REF!)),\"1\",\"0\")","v":"0"},{"$f":"IF(ISNUMBER(SEARCH(\"7\",#REF!)),\"1\",\"0\")","v":"0"},{"$f":"IF(ISNUMBER(SEARCH(\"8\",#REF!)),\"1\",\"0\")","v":"0"},{"$f":"IF(ISNUMBER(SEARCH(\"9\",#REF!)),\"1\",\"0\")","v":"0"},{"$f":"IF(ISNUMBER(SEARCH(\"9\",#REF!)),\"1\",\"0\")","v":"0"},{"$f":"IF(ISNUMBER(SEARCH(\"10\",#REF!)),\"1\",\"0\")","v":"0"},{"$f":"IF(ISNUMBER(SEARCH(\"11\",#REF!)),\"1\",\"0\")","v":"0"},{"$f":"IF(ISNUMBER(SEARCH(\"12\",#REF!)),\"1\",\"0\")","v":"0"},{"$f":"IF(ISNUMBER(SEARCH(\"13\",#REF!)),\"1\",\"0\")","v":"0"},{"$f":"IF(ISNUMBER(SEARCH(\"14\",#REF!)),\"1\",\"0\")","v":"0"},{"$f":"IF(ISNUMBER(SEARCH(\"15\",#REF!)),\"1\",\"0\")","v":"0"},{"$f":"IF(ISNUMBER(SEARCH(\"16\",#REF!)),\"1\",\"0\")","v":"0"},{"$f":"IF(ISNUMBER(SEARCH(\"17\",#REF!)),\"1\",\"0\")","v":"0"},3,2,null,null,16,16,10,42,8,null,2,4,0,{"$f":"BN644+BO644+BP644","v":6},null,13,5,null,{"$f":"#REF!-#REF!","v":{"$error":"#REF!"}},{"$f":"#REF!-#REF!","v":{"$error":"#REF!"}}]
[2,22,12,"CBM",1,36,1983,2,7,1,2,3,2,null,"0","0","0","0","0","0","0","0","0","0","0","0","0","0","0","0","0","0",null,null,1,null,2,{"$f":"IF(ISNUMBER(SEARCH(\"1\",#REF!)),\"1\",\"0\")","v":"0"},{"$f":"IF(ISNUMBER(SEARCH(\"2\",#REF!)),\"1\",\"0\")","v":"0"},{"$f":"IF(ISNUMBER(SEARCH(\"3\",#REF!)),\"1\",\"0\")","v":"0"},{"$f":"IF(ISNUMBER(SEARCH(\"4\",#REF!)),\"1\",\"0\")","v":"0"},{"$f":"IF(ISNUMBER(SEARCH(\"5\",#REF!)),\"1\",\"0\")","v":"0"},{"$f":"IF(ISNUMBER(SEARCH(\"6\",#REF!)),\"1\",\"0\")","v":"0"},{"$f":"IF(ISNUMBER(SEARCH(\"7\",#REF!)),\"1\",\"0\")","v":"0"},{"$f":"IF(ISNUMBER(SEARCH(\"8\",#REF!)),\"1\",\"0\")","v":"0"},{"$f":"IF(ISNUMBER(SEARCH(\"9\",#REF!)),\"1\",\"0\")","v":"0"},{"$f":"IF(ISNUMBER(SEARCH(\"9\",#REF!)),\"1\",\"0\")","v":"0"},{"$f":"IF(ISNUMBER(SEARCH(\"10\",#REF!)),\"1\",\"0\")","v":"0"},{"$f":"IF(ISNUMBER(SEARCH(\"11\",#REF!)),\"1\",\"0\")","v":"0"},{"$f":"IF(ISNUMBER(SEARCH(\"12\",#REF!)),\"1\",\"0\")","v":"0"},{"$f":"IF(ISNUMBER(SEARCH(\"13\",#REF!)),\"1\",\"0\")","v":"0"},{"$f":"IF(ISNUMBER(SEARCH(\"14\",#REF!)),\"1\",\"0\")","v":"0"},{"$f":"IF(ISNUMBER(SEARCH(\"15\",#REF!)),\"1\",\"0\")","v":"0"},{"$f":"IF(ISNUMBER(SEARCH(\"16\",#REF!)),\"1\",\"0\")","v":"0"},{"$f":"IF(ISNUMBER(SEARCH(\"17\",#REF!)),\"1\",\"0\")","v":"0"},null,2,null,null,0,8,2,10,14,{"$nulls":7},3,null,null,{"$f":"#REF!-#REF!","v":{"$error":"#REF!"}}]
[2,22,1,"OW",2,23,1996,1,3,1,3,5,2,3,"0","0","1","0","0","0","0","0","0","0","0","0","0","0","0","0","0","0",null,null,2,5,2,{"$f":"IF(ISNUMBER(SEARCH(\"1\",#REF!)),\"1\",\"0\")","v":"0"},0,{"$f":"IF(ISNUMBER(SEARCH(\"3\",#REF!)),\"1\",\"0\")","v":"0"},{"$f":"IF(ISNUMBER(SEARCH(\"4\",#REF!)),\"1\",\"0\")","v":"0"},{"$f":"IF(ISNUMBER(SEARCH(\"5\",#REF!)),\"1\",\"0\")","v":"0"},{"$f":"IF(ISNUMBER(SEARCH(\"6\",#REF!)),\"1\",\"0\")","v":"0"},{"$f":"IF(ISNUMBER(SEARCH(\"7\",#REF!)),\"1\",\"0\")","v":"0"},{"$f":"IF(ISNUMBER(SEARCH(\"8\",#REF!)),\"1\",\"0\")","v":"0"},{"$f":"IF(ISNUMBER(SEARCH(\"9\",#REF!)),\"1\",\"0\")","v":"0"},{"$f":"IF(ISNUMBER(SEARCH(\"9\",#REF!)),\"1\",\"0\")","v":"0"},{"$f":"IF(ISNUMBER(SEARCH(\"10\",#REF!)),\"1\",\"0\")","v":"0"},{"$f":"IF(ISNUMBER(SEARCH(\"11\",#REF!)),\"1\",\"0\")","v":"0"},{"$f":"IF(ISNUMBER(SEARCH(\"12\",#REF!)),\"1\",\"0\")","v":"0"},{"$f":"IF(ISNUMBER(SEARCH(\"13\",#REF!)),\"1\",\"0\")","v":"0"},{"$f":"IF(ISNUMBER(SEARCH(\"14\",#REF!)),\"1\",\"0\")","v":"0"},{"$f":"IF(ISNUMBER(SEARCH(\"15\",#REF!)),\"1\",\"0\")","v":"0"},{"$f":"IF(ISNUMBER(SEARCH(\"16\",#REF!)),\"1\",\"0\")","v":"0"},{"$f":"IF(ISNUMBER(SEARCH(\"17\",#REF!)),\"1\",\"0\")","v":"0"},2,2,null,null,40,28,22,90,6,{"$nulls":6},10,3,null,{"$f":"#REF!-#REF!","v":{"$error":"#REF!"}}]
[2,22,1,"WK",2,27,1992,null,7,null,0,5,2,null,"0","0","0","0","0","0","0","0","0","0","0","0","0","0","0","0","0","0",{"$nulls":5},{"$f":"IF(ISNUMBER(SEARCH(\"1\",#REF!)),\"1\",\"0\")","v":"0"},{"$f":"IF(ISNUMBER(SEARCH(\"2\",#REF!)),\"1\",\"0\")","v":"0"},{"$f":"IF(ISNUMBER(SEARCH(\"3\",#REF!)),\"1\",\"0\")","v":"0"},{"$f":"IF(ISNUMBER(SEARCH(\"4\",#REF!)),\"1\",\"0\")","v":"0"},{"$f":"IF(ISNUMBER(SEARCH(\"5\",#REF!)),\"1\",\"0\")","v":"0"},{"$f":"IF(ISNUMBER(SEARCH(\"6\",#REF!)),\"1\",\"0\")","v":"0"},{"$f":"IF(ISNUMBER(SEARCH(\"7\",#REF!)),\"1\",\"0\")","v":"0"},{"$f":"IF(ISNUMBER(SEARCH(\"8\",#REF!)),\"1\",\"0\")","v":"0"},{"$f":"IF(ISNUMBER(SEARCH(\"9\",#REF!)),\"1\",\"0\")","v":"0"},{"$f":"IF(ISNUMBER(SEARCH(\"9\",#REF!)),\"1\",\"0\")","v":"0"},{"$f":"IF(ISNUMBER(SEARCH(\"10\",#REF!)),\"1\",\"0\")","v":"0"},{"$f":"IF(ISNUMBER(SEARCH(\"11\",#REF!)),\"1\",\"0\")","v":"0"},{"$f":"IF(ISNUMBER(SEARCH(\"12\",#REF!)),\"1\",\"0\")","v":"0"},{"$f":"IF(ISNUMBER(SEARCH(\"13\",#REF!)),\"1\",\"0\")","v":"0"},{"$f":"IF(ISNUMBER(SEARCH(\"14\",#REF!)),\"1\",\"0\")","v":"0"},{"$f":"IF(ISNUMBER(SEARCH(\"15\",#REF!)),\"1\",\"0\")","v":"0"},{"$f":"IF(ISNUMBER(SEARCH(\"16\",#REF!)),\"1\",\"0\")","v":"0"},{"$f":"IF(ISNUMBER(SEARCH(\"17\",#REF!)),\"1\",\"0\")","v":"0"},{"$nulls":4},22,22,28,72,13,null,14,10,24,48,null,14,5,null,null,{"$f":"#REF!-#REF!","v":{"$error":"#REF!"}}]
[2,22,11,"ZR",2,65,1954,2,8,1,0,1,2,1,"1","0","0","0","0","0","0","0","0","0","0","0","0","0","0","0","0","0",null,null,1,5,2,{"$f":"IF(ISNUMBER(SEARCH(\"1\",#REF!)),\"1\",\"0\")","v":"0"},{"$f":"IF(ISNUMBER(SEARCH(\"2\",#REF!)),\"1\",\"0\")","v":"0"},{"$f":"IF(ISNUMBER(SEARCH(\"3\",#REF!)),\"1\",\"0\")","v":"0"},{"$f":"IF(ISNUMBER(SEARCH(\"4\",#REF!)),\"1\",\"0\")","v":"0"},{"$f":"IF(ISNUMBER(SEARCH(\"5\",#REF!)),\"1\",\"0\")","v":"0"},{"$f":"IF(ISNUMBER(SEARCH(\"6\",#REF!)),\"1\",\"0\")","v":"0"},{"$f":"IF(ISNUMBER(SEARCH(\"7\",#REF!)),\"1\",\"0\")","v":"0"},{"$f":"IF(ISNUMBER(SEARCH(\"8\",#REF!)),\"1\",\"0\")","v":"0"},{"$f":"IF(ISNUMBER(SEARCH(\"9\",#REF!)),\"1\",\"0\")","v":"0"},{"$f":"IF(ISNUMBER(SEARCH(\"9\",#REF!)),\"1\",\"0\")","v":"0"},{"$f":"IF(ISNUMBER(SEARCH(\"10\",#REF!)),\"1\",\"0\")","v":"0"},{"$f":"IF(ISNUMBER(SEARCH(\"11\",#REF!)),\"1\",\"0\")","v":"0"},{"$f":"IF(ISNUMBER(SEARCH(\"12\",#REF!)),\"1\",\"0\")","v":"0"},{"$f":"IF(ISNUMBER(SEARCH(\"13\",#REF!)),\"1\",\"0\")","v":"0"},{"$f":"IF(ISNUMBER(SEARCH(\"14\",#REF!)),\"1\",\"0\")","v":"0"},{"$f":"IF(ISNUMBER(SEARCH(\"15\",#REF!)),\"1\",\"0\")","v":"0"},{"$f":"IF(ISNUMBER(SEARCH(\"16\",#REF!)),\"1\",\"0\")","v":"0"},{"$f":"IF(ISNUMBER(SEARCH(\"17\",#REF!)),\"1\",\"0\")","v":"0"},null,2,null,null,10,16,14,40,7,null,0,2,0,2,null,9,null,null,{"$f":"#REF!-#REF!","v":{"$error":"#REF!"}},{"$f":"#REF!-#REF!","v":{"$error":"#REF!"}}]
[2,22,9,"NT",2,27,1991,1,3,1,5,1,2,1,{"$f":"IF(ISNUMBER(SEARCH(\"1\",$N707)),\"1\",\"0\")","v":"1"},{"$f":"IF(ISNUMBER(SEARCH(\"2\",$N707)),\"1\",\"0\")","v":"0"},{"$f":"IF(ISNUMBER(SEARCH(\"3\",$N707)),\"1\",\"0\")","v":"0"},{"$f":"IF(ISNUMBER(SEARCH(\"4\",$N707)),\"1\",\"0\")","v":"0"},{"$f":"IF(ISNUMBER(SEARCH(\"5\",$N707)),\"1\",\"0\")","v":"0"},{"$f":"IF(ISNUMBER(SEARCH(\"6\",$N707)),\"1\",\"0\")","v":"0"},{"$f":"IF(ISNUMBER(SEARCH(\"7\",$N707)),\"1\",\"0\")","v":"0"},{"$f":"IF(ISNUMBER(SEARCH(\"8\",$N707)),\"1\",\"0\")","v":"0"},{"$f":"IF(ISNUMBER(SEARCH(\"9\",$N707)),\"1\",\"0\")","v":"0"},{"$f":"IF(ISNUMBER(SEARCH(\"10\",$N707)),\"1\",\"0\")","v":"0"},{"$f":"IF(ISNUMBER(SEARCH(\"11\",$N707)),\"1\",\"0\")","v":"0"},{"$f":"IF(ISNUMBER(SEARCH(\"12\",$N707)),\"1\",\"0\")","v":"0"},{"$f":"IF(ISNUMBER(SEARCH(\"13\",$N707)),\"1\",\"0\")","v":"0"},{"$f":"IF(ISNUMBER(SEARCH(\"14\",$N707)),\"1\",\"0\")","v":"0"},{"$f":"IF(ISNUMBER(SEARCH(\"15\",$N707)),\"1\",\"0\")","v":"0"},{"$f":"IF(ISNUMBER(SEARCH(\"16\",$N707)),\"1\",\"0\")","v":"0"},{"$f":"IF(ISNUMBER(SEARCH(\"17\",$N707)),\"1\",\"0\")","v":"0"},{"$f":"IF(ISNUMBER(SEARCH(\"18\",$N707)),\"1\",\"0\")","v":"0"},null,null,3,5,2,{"$f":"IF(ISNUMBER(SEARCH(\"1\",#REF!)),\"1\",\"0\")","v":"0"},{"$f":"IF(ISNUMBER(SEARCH(\"2\",#REF!)),\"1\",\"0\")","v":"0"},{"$f":"IF(ISNUMBER(SEARCH(\"3\",#REF!)),\"1\",\"0\")","v":"0"},{"$f":"IF(ISNUMBER(SEARCH(\"4\",#REF!)),\"1\",\"0\")","v":"0"},{"$f":"IF(ISNUMBER(SEARCH(\"5\",#REF!)),\"1\",\"0\")","v":"0"},{"$f":"IF(ISNUMBER(SEARCH(\"6\",#REF!)),\"1\",\"0\")","v":"0"},{"$f":"IF(ISNUMBER(SEARCH(\"7\",#REF!)),\"1\",\"0\")","v":"0"},{"$f":"IF(ISNUMBER(SEARCH(\"8\",#REF!)),\"1\",\"0\")","v":"0"},{"$f":"IF(ISNUMBER(SEARCH(\"9\",#REF!)),\"1\",\"0\")","v":"0"},{"$f":"IF(ISNUMBER(SEARCH(\"9\",#REF!)),\"1\",\"0\")","v":"0"},{"$f":"IF(ISNUMBER(SEARCH(\"10\",#REF!)),\"1\",\"0\")","v":"0"},{"$f":"IF(ISNUMBER(SEARCH(\"11\",#REF!)),\"1\",\"0\")","v":"0"},{"$f":"IF(ISNUMBER(SEARCH(\"12\",#REF!)),\"1\",\"0\")","v":"0"},{"$f":"IF(ISNUMBER(SEARCH(\"13\",#REF!)),\"1\",\"0\")","v":"0"},{"$f":"IF(ISNUMBER(SEARCH(\"14\",#REF!)),\"1\",\"0\")","v":"0"},{"$f":"IF(ISNUMBER(SEARCH(\"15\",#REF!)),\"1\",\"0\")","v":"0"},{"$f":"IF(ISNUMBER(SEARCH(\"16\",#REF!)),\"1\",\"0\")","v":"0"},{"$f":"IF(ISNUMBER(SEARCH(\"17\",#REF!)),\"1\",\"0\")","v":"0"},null,2,{"$nulls":16},{"$f":"#REF!-#REF!","v":{"$error":"#REF!"}}]
[2,22,1,"MN",2,25,1993,3,7,1,3,6,2,3,"0","0","1","0","0","0","0","0","0","0","0","0","0","0","0","0","0","0",null,null,3,5,2,{"$f":"IF(ISNUMBER(SEARCH(\"1\",#REF!)),\"1\",\"0\")","v":"0"},{"$f":"IF(ISNUMBER(SEARCH(\"2\",#REF!)),\"1\",\"0\")","v":"0"},{"$f":"IF(ISNUMBER(SEARCH(\"3\",#REF!)),\"1\",\"0\")","v":"0"},{"$f":"IF(ISNUMBER(SEARCH(\"4\",#REF!)),\"1\",\"0\")","v":"0"},{"$f":"IF(ISNUMBER(SEARCH(\"5\",#REF!)),\"1\",\"0\")","v":"0"},{"$f":"IF(ISNUMBER(SEARCH(\"6\",#REF!)),\"1\",\"0\")","v":"0"},{"$f":"IF(ISNUMBER(SEARCH(\"7\",#REF!)),\"1\",\"0\")","v":"0"},{"$f":"IF(ISNUMBER(SEARCH(\"8\",#REF!)),\"1\",\"0\")","v":"0"},{"$f":"IF(ISNUMBER(SEARCH(\"9\",#REF!)),\"1\",\"0\")","v":"0"},{"$f":"IF(ISNUMBER(SEARCH(\"9\",#REF!)),\"1\",\"0\")","v":"0"},{"$f":"IF(ISNUMBER(SEARCH(\"10\",#REF!)),\"1\",\"0\")","v":"0"},{"$f":"IF(ISNUMBER(SEARCH(\"11\",#REF!)),\"1\",\"0\")","v":"0"},{"$f":"IF(ISNUMBER(SEARCH(\"12\",#REF!)),\"1\",\"0\")","v":"0"},{"$f":"IF(ISNUMBER(SEARCH(\"13\",#REF!)),\"1\",\"0\")","v":"0"},{"$f":"IF(ISNUMBER(SEARCH(\"14\",#REF!)),\"1\",\"0\")","v":"0"},{"$f":"IF(ISNUMBER(SEARCH(\"15\",#REF!)),\"1\",\"0\")","v":"0"},{"$f":"IF(ISNUMBER(SEARCH(\"16\",#REF!)),\"1\",\"0\")","v":"0"},{"$f":"IF(ISNUMBER(SEARCH(\"17\",#REF!)),\"1\",\"0\")","v":"0"},{"$nulls":8},9,null,0,4,0,{"$f":"BN716+BO716+BP716","v":4},null,13,null,null,{"$f":"#REF!-#REF!","v":{"$error":"#REF!"}},{"$f":"#REF!-#REF!","v":{"$error":"#REF!"}}]
[2,22,11,"ZR",2,24,1994,3,7,1,1,1,2,1,"1","0","0","0","0","0","0","0","0","0","0","0","0","0","0","0","0","0",null,null,1,5,2,{"$f":"IF(ISNUMBER(SEARCH(\"1\",#REF!)),\"1\",\"0\")","v":"0"},{"$f":"IF(ISNUMBER(SEARCH(\"2\",#REF!)),\"1\",\"0\")","v":"0"},{"$f":"IF(ISNUMBER(SEARCH(\"3\",#REF!)),\"1\",\"0\")","v":"0"},{"$f":"IF(ISNUMBER(SEARCH(\"4\",#REF!)),\"1\",\"0\")","v":"0"},{"$f":"IF(ISNUMBER(SEARCH(\"5\",#REF!)),\"1\",\"0\")","v":"0"},{"$f":"IF(ISNUMBER(SEARCH(\"6\",#REF!)),\"1\",\"0\")","v":"0"},{"$f":"IF(ISNUMBER(SEARCH(\"7\",#REF!)),\"1\",\"0\")","v":"0"},{"$f":"IF(ISNUMBER(SEARCH(\"8\",#REF!)),\"1\",\"0\")","v":"0"},{"$f":"IF(ISNUMBER(SEARCH(\"9\",#REF!)),\"1\",\"0\")","v":"0"},{"$f":"IF(ISNUMBER(SEARCH(\"9\",#REF!)),\"1\",\"0\")","v":"0"},{"$f":"IF(ISNUMBER(SEARCH(\"10\",#REF!)),\"1\",\"0\")","v":"0"},{"$f":"IF(ISNUMBER(SEARCH(\"11\",#REF!)),\"1\",\"0\")","v":"0"},{"$f":"IF(ISNUMBER(SEARCH(\"12\",#REF!)),\"1\",\"0\")","v":"0"},{"$f":"IF(ISNUMBER(SEARCH(\"13\",#REF!)),\"1\",\"0\")","v":"0"},{"$f":"IF(ISNUMBER(SEARCH(\"14\",#REF!)),\"1\",\"0\")","v":"0"},{"$f":"IF(ISNUMBER(SEARCH(\"15\",#REF!)),\"1\",\"0\")","v":"0"},{"$f":"IF(ISNUMBER(SEARCH(\"16\",#REF!)),\"1\",\"0\")","v":"0"},{"$f":"IF(ISNUMBER(SEARCH(\"17\",#REF!)),\"1\",\"0\")","v":"0"},null,2,null,null,22,18,6,{"$f":"BH727+BI727+BJ727","v":46},12,null,4,2,8,14,null,13,4,null,null,{"$f":"#REF!-#REF!","v":{"$error":"#REF!"}}]
[2,22,8,"KM",2,24,1995,2,3,1,2,1,2,1,"1","0","0","0","0","0","0","0","0","0","0","0","0","0","0","0","0","0",null,null,3,3,2,{"$f":"IF(ISNUMBER(SEARCH(\"1\",#REF!)),\"1\",\"0\")","v":"0"},{"$f":"IF(ISNUMBER(SEARCH(\"2\",#REF!)),\"1\",\"0\")","v":"0"},{"$f":"IF(ISNUMBER(SEARCH(\"3\",#REF!)),\"1\",\"0\")","v":"0"},{"$f":"IF(ISNUMBER(SEARCH(\"4\",#REF!)),\"1\",\"0\")","v":"0"},{"$f":"IF(ISNUMBER(SEARCH(\"5\",#REF!)),\"1\",\"0\")","v":"0"},{"$f":"IF(ISNUMBER(SEARCH(\"6\",#REF!)),\"1\",\"0\")","v":"0"},{"$f":"IF(ISNUMBER(SEARCH(\"7\",#REF!)),\"1\",\"0\")","v":"0"},{"$f":"IF(ISNUMBER(SEARCH(\"8\",#REF!)),\"1\",\"0\")","v":"0"},{"$f":"IF(ISNUMBER(SEARCH(\"9\",#REF!)),\"1\",\"0\")","v":"0"},{"$f":"IF(ISNUMBER(SEARCH(\"9\",#REF!)),\"1\",\"0\")","v":"0"},{"$f":"IF(ISNUMBER(SEARCH(\"10\",#REF!)),\"1\",\"0\")","v":"0"},{"$f":"IF(ISNUMBER(SEARCH(\"11\",#REF!)),\"1\",\"0\")","v":"0"},{"$f":"IF(ISNUMBER(SEARCH(\"12\",#REF!)),\"1\",\"0\")","v":"0"},{"$f":"IF(ISNUMBER(SEARCH(\"13\",#REF!)),\"1\",\"0\")","v":"0"},{"$f":"IF(ISNUMBER(SEARCH(\"14\",#REF!)),\"1\",\"0\")","v":"0"},{"$f":"IF(ISNUMBER(SEARCH(\"15\",#REF!)),\"1\",\"0\")","v":"0"},{"$f":"IF(ISNUMBER(SEARCH(\"16\",#REF!)),\"1\",\"0\")","v":"0"},{"$f":"IF(ISNUMBER(SEARCH(\"17\",#REF!)),\"1\",\"0\")","v":"0"},{"$nulls":8},9,null,4,0,2,6,null,14,3]
[2,22,8,"KM",2,19,2000,null,2,1,0,5,1,3,"0","0","1","0","0","0","0","0","0","0","0","0","0","0","0","0","0","0",null,null,3,5,2,{"$f":"IF(ISNUMBER(SEARCH(\"1\",#REF!)),\"1\",\"0\")","v":"0"},{"$f":"IF(ISNUMBER(SEARCH(\"2\",#REF!)),\"1\",\"0\")","v":"0"},{"$f":"IF(ISNUMBER(SEARCH(\"3\",#REF!)),\"1\",\"0\")","v":"0"},{"$f":"IF(ISNUMBER(SEARCH(\"4\",#REF!)),\"1\",\"0\")","v":"0"},{"$f":"IF(ISNUMBER(SEARCH(\"5\",#REF!)),\"1\",\"0\")","v":"0"},{"$f":"IF(ISNUMBER(SEARCH(\"6\",#REF!)),\"1\",\"0\")","v":"0"},{"$f":"IF(ISNUMBER(SEARCH(\"7\",#REF!)),\"1\",\"0\")","v":"0"},{"$f":"IF(ISNUMBER(SEARCH(\"8\",#REF!)),\"1\",\"0\")","v":"0"},{"$f":"IF(ISNUMBER(SEARCH(\"9\",#REF!)),\"1\",\"0\")","v":"0"},{"$f":"IF(ISNUMBER(SEARCH(\"9\",#REF!)),\"1\",\"0\")","v":"0"},{"$f":"IF(ISNUMBER(SEARCH(\"10\",#REF!)),\"1\",\"0\")","v":"0"},{"$f":"IF(ISNUMBER(SEARCH(\"11\",#REF!)),\"1\",\"0\")","v":"0"},{"$f":"IF(ISNUMBER(SEARCH(\"12\",#REF!)),\"1\",\"0\")","v":"0"},{"$f":"IF(ISNUMBER(SEARCH(\"13\",#REF!)),\"1\",\"0\")","v":"0"},{"$f":"IF(ISNUMBER(SEARCH(\"14\",#REF!)),\"1\",\"0\")","v":"0"},{"$f":"IF(ISNUMBER(SEARCH(\"15\",#REF!)),\"1\",\"0\")","v":"0"},{"$f":"IF(ISNUMBER(SEARCH(\"16\",#REF!)),\"1\",\"0\")","v":"0"},{"$f":"IF(ISNUMBER(SEARCH(\"17\",#REF!)),\"1\",\"0\")","v":"0"},1,{"$nulls":3},10,4,22,36,9,null,2,2,2,6,null,12,3,null,{"$f":"#REF!-#REF!","v":{"$error":"#REF!"}},{"$f":"#REF!-#REF!","v":{"$error":"#REF!"}}]
[2,22,8,"KM",2,33,1986,2,7,1,4,1,2,3,"0","0","1","0","0","0","0","0","0","0","0","0","0","0","0","0","0","0",null,null,3,5,null,{"$f":"IF(ISNUMBER(SEARCH(\"1\",#REF!)),\"1\",\"0\")","v":"0"},{"$f":"IF(ISNUMBER(SEARCH(\"2\",#REF!)),\"1\",\"0\")","v":"0"},{"$f":"IF(ISNUMBER(SEARCH(\"3\",#REF!)),\"1\",\"0\")","v":"0"},{"$f":"IF(ISNUMBER(SEARCH(\"4\",#REF!)),\"1\",\"0\")","v":"0"},{"$f":"IF(ISNUMBER(SEARCH(\"5\",#REF!)),\"1\",\"0\")","v":"0"},{"$f":"IF(ISNUMBER(SEARCH(\"6\",#REF!)),\"1\",\"0\")","v":"0"},{"$f":"IF(ISNUMBER(SEARCH(\"7\",#REF!)),\"1\",\"0\")","v":"0"},{"$f":"IF(ISNUMBER(SEARCH(\"8\",#REF!)),\"1\",\"0\")","v":"0"},{"$f":"IF(ISNUMBER(SEARCH(\"9\",#REF!)),\"1\",\"0\")","v":"0"},{"$f":"IF(ISNUMBER(SEARCH(\"9\",#REF!)),\"1\",\"0\")","v":"0"},{"$f":"IF(ISNUMBER(SEARCH(\"10\",#REF!)),\"1\",\"0\")","v":"0"},{"$f":"IF(ISNUMBER(SEARCH(\"11\",#REF!)),\"1\",\"0\")","v":"0"},{"$f":"IF(ISNUMBER(SEARCH(\"12\",#REF!)),\"1\",\"0\")","v":"0"},{"$f":"IF(ISNUMBER(SEARCH(\"13\",#REF!)),\"1\",\"0\")","v":"0"},{"$f":"IF(ISNUMBER(SEARCH(\"14\",#REF!)),\"1\",\"0\")","v":"0"},{"$f":"IF(ISNUMBER(SEARCH(\"15\",#REF!)),\"1\",\"0\")","v":"0"},{"$f":"IF(ISNUMBER(SEARCH(\"16\",#REF!)),\"1\",\"0\")","v":"0"},{"$f":"IF(ISNUMBER(SEARCH(\"17\",#REF!)),\"1\",\"0\")","v":"0"},1,{"$nulls":3},16,10,16,42,9,{"$nulls":9},{"$f":"#REF!-#REF!","v":{"$error":"#REF!"}}]
[2,22,12,"CBM",2,20,1999,null,8,1,1,5,2,3,"0","0","1","0","0","0","0","0","0","0","0","0","0","0","0","0","0","0",null,null,2,5,2,{"$f":"IF(ISNUMBER(SEARCH(\"1\",#REF!)),\"1\",\"0\")","v":"0"},{"$f":"IF(ISNUMBER(SEARCH(\"2\",#REF!)),\"1\",\"0\")","v":"0"},{"$f":"IF(ISNUMBER(SEARCH(\"3\",#REF!)),\"1\",\"0\")","v":"0"},{"$f":"IF(ISNUMBER(SEARCH(\"4\",#REF!)),\"1\",\"0\")","v":"0"},{"$f":"IF(ISNUMBER(SEARCH(\"5\",#REF!)),\"1\",\"0\")","v":"0"},{"$f":"IF(ISNUMBER(SEARCH(\"6\",#REF!)),\"1\",\"0\")","v":"0"},{"$f":"IF(ISNUMBER(SEARCH(\"7\",#REF!)),\"1\",\"0\")","v":"0"},{"$f":"IF(ISNUMBER(SEARCH(\"8\",#REF!)),\"1\",\"0\")","v":"0"},{"$f":"IF(ISNUMBER(SEARCH(\"9\",#REF!)),\"1\",\"0\")","v":"0"},{"$f":"IF(ISNUMBER(SEARCH(\"9\",#REF!)),\"1\",\"0\")","v":"0"},{"$f":"IF(ISNUMBER(SEARCH(\"10\",#REF!)),\"1\",\"0\")","v":"0"},{"$f":"IF(ISNUMBER(SEARCH(\"11\",#REF!)),\"1\",\"0\")","v":"0"},{"$f":"IF(ISNUMBER(SEARCH(\"12\",#REF!)),\"1\",\"0\")","v":"0"},{"$f":"IF(ISNUMBER(SEARCH(\"13\",#REF!)),\"1\",\"0\")","v":"0"},{"$f":"IF(ISNUMBER(SEARCH(\"14\",#REF!)),\"1\",\"0\")","v":"0"},{"$f":"IF(ISNUMBER(SEARCH(\"15\",#REF!)),\"1\",\"0\")","v":"0"},{"$f":"IF(ISNUMBER(SEARCH(\"16\",#REF!)),\"1\",\"0\")","v":"0"},{"$f":"IF(ISNUMBER(SEARCH(\"17\",#REF!)),\"1\",\"0\")","v":"0"},4,2,{"$nulls":6},3,{"$nulls":9},{"$f":"#REF!-#REF!","v":{"$error":"#REF!"}}]
[2,22,1,"OW",2,22,1997,1,3,1,3,5,2,1,"1","0","0","0","0","0","0","0","0","0","0","0","0","0","0","0","0","0",null,null,3,5,1,{"$f":"IF(ISNUMBER(SEARCH(\"1\",#REF!)),\"1\",\"0\")","v":"0"},{"$f":"IF(ISNUMBER(SEARCH(\"2\",#REF!)),\"1\",\"0\")","v":"0"},{"$f":"IF(ISNUMBER(SEARCH(\"3\",#REF!)),\"1\",\"0\")","v":"0"},{"$f":"IF(ISNUMBER(SEARCH(\"4\",#REF!)),\"1\",\"0\")","v":"0"},{"$f":"IF(ISNUMBER(SEARCH(\"5\",#REF!)),\"1\",\"0\")","v":"0"},{"$f":"IF(ISNUMBER(SEARCH(\"6\",#REF!)),\"1\",\"0\")","v":"0"},{"$f":"IF(ISNUMBER(SEARCH(\"7\",#REF!)),\"1\",\"0\")","v":"0"},{"$f":"IF(ISNUMBER(SEARCH(\"8\",#REF!)),\"1\",\"0\")","v":"0"},{"$f":"IF(ISNUMBER(SEARCH(\"9\",#REF!)),\"1\",\"0\")","v":"0"},{"$f":"IF(ISNUMBER(SEARCH(\"9\",#REF!)),\"1\",\"0\")","v":"0"},{"$f":"IF(ISNUMBER(SEARCH(\"10\",#REF!)),\"1\",\"0\")","v":"0"},{"$f":"IF(ISNUMBER(SEARCH(\"11\",#REF!)),\"1\",\"0\")","v":"0"},{"$f":"IF(ISNUMBER(SEARCH(\"12\",#REF!)),\"1\",\"0\")","v":"0"},{"$f":"IF(ISNUMBER(SEARCH(\"13\",#REF!)),\"1\",\"0\")","v":"0"},{"$f":"IF(ISNUMBER(SEARCH(\"14\",#REF!)),\"1\",\"0\")","v":"0"},{"$f":"IF(ISNUMBER(SEARCH(\"15\",#REF!)),\"1\",\"0\")","v":"0"},{"$f":"IF(ISNUMBER(SEARCH(\"16\",#REF!)),\"1\",\"0\")","v":"0"},{"$f":"IF(ISNUMBER(SEARCH(\"17\",#REF!)),\"1\",\"0\")","v":"0"},null,2,null,null,14,14,14,42,8,{"$nulls":6},12,null,null,{"$f":"#REF!-#REF!","v":{"$error":"#REF!"}}]
[2,22,8,"AU",2,22,1997,3,8,1,1,5,2,3,"0","0","1","0","0","0","0","0","0","0","0","0","0","0","0","0","0","0",{"$nulls":3},5,1,{"$f":"IF(ISNUMBER(SEARCH(\"1\",#REF!)),\"1\",\"0\")","v":"0"},{"$f":"IF(ISNUMBER(SEARCH(\"2\",#REF!)),\"1\",\"0\")","v":"0"},{"$f":"IF(ISNUMBER(SEARCH(\"3\",#REF!)),\"1\",\"0\")","v":"0"},{"$f":"IF(ISNUMBER(SEARCH(\"4\",#REF!)),\"1\",\"0\")","v":"0"},{"$f":"IF(ISNUMBER(SEARCH(\"5\",#REF!)),\"1\",\"0\")","v":"0"},{"$f":"IF(ISNUMBER(SEARCH(\"6\",#REF!)),\"1\",\"0\")","v":"0"},{"$f":"IF(ISNUMBER(SEARCH(\"7\",#REF!)),\"1\",\"0\")","v":"0"},{"$f":"IF(ISNUMBER(SEARCH(\"8\",#REF!)),\"1\",\"0\")","v":"0"},{"$f":"IF(ISNUMBER(SEARCH(\"9\",#REF!)),\"1\",\"0\")","v":"0"},{"$f":"IF(ISNUMBER(SEARCH(\"9\",#REF!)),\"1\",\"0\")","v":"0"},{"$f":"IF(ISNUMBER(SEARCH(\"10\",#REF!)),\"1\",\"0\")","v":"0"},{"$f":"IF(ISNUMBER(SEARCH(\"11\",#REF!)),\"1\",\"0\")","v":"0"},{"$f":"IF(ISNUMBER(SEARCH(\"12\",#REF!)),\"1\",\"0\")","v":"0"},{"$f":"IF(ISNUMBER(SEARCH(\"13\",#REF!)),\"1\",\"0\")","v":"0"},{"$f":"IF(ISNUMBER(SEARCH(\"14\",#REF!)),\"1\",\"0\")","v":"0"},{"$f":"IF(ISNUMBER(SEARCH(\"15\",#REF!)),\"1\",\"0\")","v":"0"},{"$f":"IF(ISNUMBER(SEARCH(\"16\",#REF!)),\"1\",\"0\")","v":"0"},{"$f":"IF(ISNUMBER(SEARCH(\"17\",#REF!)),\"1\",\"0\")","v":"0"},1,1,null,null,26,26,24,76,8,{"$nulls":6},9,5,null,{"$f":"#REF!-#REF!","v":{"$error":"#REF!"}}]
[2,22,8,"KM",2,28,1991,1,3,1,3,1,2,3,"0","0","1","0","0","0","0","0","0","0","0","0","0","0","0","0","0","0",null,null,7,5,2,{"$f":"IF(ISNUMBER(SEARCH(\"1\",#REF!)),\"1\",\"0\")","v":"0"},{"$f":"IF(ISNUMBER(SEARCH(\"2\",#REF!)),\"1\",\"0\")","v":"0"},{"$f":"IF(ISNUMBER(SEARCH(\"3\",#REF!)),\"1\",\"0\")","v":"0"},{"$f":"IF(ISNUMBER(SEARCH(\"4\",#REF!)),\"1\",\"0\")","v":"0"},{"$f":"IF(ISNUMBER(SEARCH(\"5\",#REF!)),\"1\",\"0\")","v":"0"},{"$f":"IF(ISNUMBER(SEARCH(\"6\",#REF!)),\"1\",\"0\")","v":"0"},{"$f":"IF(ISNUMBER(SEARCH(\"7\",#REF!)),\"1\",\"0\")","v":"0"},{"$f":"IF(ISNUMBER(SEARCH(\"8\",#REF!)),\"1\",\"0\")","v":"0"},{"$f":"IF(ISNUMBER(SEARCH(\"9\",#REF!)),\"1\",\"0\")","v":"0"},{"$f":"IF(ISNUMBER(SEARCH(\"9\",#REF!)),\"1\",\"0\")","v":"0"},{"$f":"IF(ISNUMBER(SEARCH(\"10\",#REF!)),\"1\",\"0\")","v":"0"},{"$f":"IF(ISNUMBER(SEARCH(\"11\",#REF!)),\"1\",\"0\")","v":"0"},{"$f":"IF(ISNUMBER(SEARCH(\"12\",#REF!)),\"1\",\"0\")","v":"0"},{"$f":"IF(ISNUMBER(SEARCH(\"13\",#REF!)),\"1\",\"0\")","v":"0"},{"$f":"IF(ISNUMBER(SEARCH(\"14\",#REF!)),\"1\",\"0\")","v":"0"},{"$f":"IF(ISNUMBER(SEARCH(\"15\",#REF!)),\"1\",\"0\")","v":"0"},{"$f":"IF(ISNUMBER(SEARCH(\"16\",#REF!)),\"1\",\"0\")","v":"0"},{"$f":"IF(ISNUMBER(SEARCH(\"17\",#REF!)),\"1\",\"0\")","v":"0"},1,3,null,null,12,6,4,22,10,null,2,4,2,8,null,13,null,null,{"$f":"#REF!-#REF!","v":{"$error":"#REF!"}},{"$f":"#REF!-#REF!","v":{"$error":"#REF!"}}]
[2,22,10,"UM",2,23,1996,1,3,1,7,3,6,3,"0","0","1","0","0","0","0","0","0","0","0","0","0","0","0","0","0","0",null,null,3,5,1,{"$f":"IF(ISNUMBER(SEARCH(\"1\",#REF!)),\"1\",\"0\")","v":"0"},{"$f":"IF(ISNUMBER(SEARCH(\"2\",#REF!)),\"1\",\"0\")","v":"0"},{"$f":"IF(ISNUMBER(SEARCH(\"3\",#REF!)),\"1\",\"0\")","v":"0"},{"$f":"IF(ISNUMBER(SEARCH(\"4\",#REF!)),\"1\",\"0\")","v":"0"},{"$f":"IF(ISNUMBER(SEARCH(\"5\",#REF!)),\"1\",\"0\")","v":"0"},{"$f":"IF(ISNUMBER(SEARCH(\"6\",#REF!)),\"1\",\"0\")","v":"0"},{"$f":"IF(ISNUMBER(SEARCH(\"7\",#REF!)),\"1\",\"0\")","v":"0"},{"$f":"IF(ISNUMBER(SEARCH(\"8\",#REF!)),\"1\",\"0\")","v":"0"},{"$f":"IF(ISNUMBER(SEARCH(\"9\",#REF!)),\"1\",\"0\")","v":"0"},{"$f":"IF(ISNUMBER(SEARCH(\"9\",#REF!)),\"1\",\"0\")","v":"0"},{"$f":"IF(ISNUMBER(SEARCH(\"10\",#REF!)),\"1\",\"0\")","v":"0"},{"$f":"IF(ISNUMBER(SEARCH(\"11\",#REF!)),\"1\",\"0\")","v":"0"},{"$f":"IF(ISNUMBER(SEARCH(\"12\",#REF!)),\"1\",\"0\")","v":"0"},{"$f":"IF(ISNUMBER(SEARCH(\"13\",#REF!)),\"1\",\"0\")","v":"0"},{"$f":"IF(ISNUMBER(SEARCH(\"14\",#REF!)),\"1\",\"0\")","v":"0"},{"$f":"IF(ISNUMBER(SEARCH(\"15\",#REF!)),\"1\",\"0\")","v":"0"},{"$f":"IF(ISNUMBER(SEARCH(\"16\",#REF!)),\"1\",\"0\")","v":"0"},{"$f":"IF(ISNUMBER(SEARCH(\"17\",#REF!)),\"1\",\"0\")","v":"0"},2,2,null,null,20,16,16,52,11,null,2,2,2,6,null,14,4,null,null,{"$f":"#REF!-#REF!","v":{"$error":"#REF!"}}]
[2,22,10,"NA",2,23,1996,3,8,1,1,1,5,3,"0","0","1","0","0","0","0","0","0","0","0","0","0","0","0","0","0","0",null,null,1,5,1,{"$f":"IF(ISNUMBER(SEARCH(\"1\",#REF!)),\"1\",\"0\")","v":"0"},{"$f":"IF(ISNUMBER(SEARCH(\"2\",#REF!)),\"1\",\"0\")","v":"0"},{"$f":"IF(ISNUMBER(SEARCH(\"3\",#REF!)),\"1\",\"0\")","v":"0"},{"$f":"IF(ISNUMBER(SEARCH(\"4\",#REF!)),\"1\",\"0\")","v":"0"},{"$f":"IF(ISNUMBER(SEARCH(\"5\",#REF!)),\"1\",\"0\")","v":"0"},{"$f":"IF(ISNUMBER(SEARCH(\"6\",#REF!)),\"1\",\"0\")","v":"0"},{"$f":"IF(ISNUMBER(SEARCH(\"7\",#REF!)),\"1\",\"0\")","v":"0"},{"$f":"IF(ISNUMBER(SEARCH(\"8\",#REF!)),\"1\",\"0\")","v":"0"},{"$f":"IF(ISNUMBER(SEARCH(\"9\",#REF!)),\"1\",\"0\")","v":"0"},{"$f":"IF(ISNUMBER(SEARCH(\"9\",#REF!)),\"1\",\"0\")","v":"0"},{"$f":"IF(ISNUMBER(SEARCH(\"10\",#REF!)),\"1\",\"0\")","v":"0"},{"$f":"IF(ISNUMBER(SEARCH(\"11\",#REF!)),\"1\",\"0\")","v":"0"},{"$f":"IF(ISNUMBER(SEARCH(\"12\",#REF!)),\"1\",\"0\")","v":"0"},{"$f":"IF(ISNUMBER(SEARCH(\"13\",#REF!)),\"1\",\"0\")","v":"0"},{"$f":"IF(ISNUMBER(SEARCH(\"14\",#REF!)),\"1\",\"0\")","v":"0"},{"$f":"IF(ISNUMBER(SEARCH(\"15\",#REF!)),\"1\",\"0\")","v":"0"},{"$f":"IF(ISNUMBER(SEARCH(\"16\",#REF!)),\"1\",\"0\")","v":"0"},{"$f":"IF(ISNUMBER(SEARCH(\"17\",#REF!)),\"1\",\"0\")","v":"0"},3,2,null,null,6,14,20,40,7,null,6,0,2,8,null,8,3,null,{"$f":"#REF!-#REF!","v":{"$error":"#REF!"}},{"$f":"#REF!-#REF!","v":{"$error":"#REF!"}}]
[2,22,1,"WK",2,28,1991,1,3,1,null,4,2,3,"0","0","1","0","0","0","0","0","0","0","0","0","0","0","0","0","0","0",null,null,2,5,2,{"$f":"IF(ISNUMBER(SEARCH(\"1\",#REF!)),\"1\",\"0\")","v":"0"},{"$f":"IF(ISNUMBER(SEARCH(\"2\",#REF!)),\"1\",\"0\")","v":"0"},{"$f":"IF(ISNUMBER(SEARCH(\"3\",#REF!)),\"1\",\"0\")","v":"0"},{"$f":"IF(ISNUMBER(SEARCH(\"4\",#REF!)),\"1\",\"0\")","v":"0"},{"$f":"IF(ISNUMBER(SEARCH(\"5\",#REF!)),\"1\",\"0\")","v":"0"},{"$f":"IF(ISNUMBER(SEARCH(\"6\",#REF!)),\"1\",\"0\")","v":"0"},{"$f":"IF(ISNUMBER(SEARCH(\"7\",#REF!)),\"1\",\"0\")","v":"0"},{"$f":"IF(ISNUMBER(SEARCH(\"8\",#REF!)),\"1\",\"0\")","v":"0"},{"$f":"IF(ISNUMBER(SEARCH(\"9\",#REF!)),\"1\",\"0\")","v":"0"},{"$f":"IF(ISNUMBER(SEARCH(\"9\",#REF!)),\"1\",\"0\")","v":"0"},{"$f":"IF(ISNUMBER(SEARCH(\"10\",#REF!)),\"1\",\"0\")","v":"0"},{"$f":"IF(ISNUMBER(SEARCH(\"11\",#REF!)),\"1\",\"0\")","v":"0"},{"$f":"IF(ISNUMBER(SEARCH(\"12\",#REF!)),\"1\",\"0\")","v":"0"},{"$f":"IF(ISNUMBER(SEARCH(\"13\",#REF!)),\"1\",\"0\")","v":"0"},{"$f":"IF(ISNUMBER(SEARCH(\"14\",#REF!)),\"1\",\"0\")","v":"0"},{"$f":"IF(ISNUMBER(SEARCH(\"15\",#REF!)),\"1\",\"0\")","v":"0"},{"$f":"IF(ISNUMBER(SEARCH(\"16\",#REF!)),\"1\",\"0\")","v":"0"},{"$f":"IF(ISNUMBER(SEARCH(\"17\",#REF!)),\"1\",\"0\")","v":"0"},1,2,null,null,18,20,10,48,7,{"$nulls":6},13,5,null,{"$f":"#REF!-#REF!","v":{"$error":"#REF!"}}]
[2,22,8,"AN",1,20,1999,3,2,1,1,5,2,"6. Mariage Forcé","0","0","0","0","0","1","0","0","0","0","0","0","0","0","0","0","0","0",null,null,5,3,0,{"$f":"IF(ISNUMBER(SEARCH(\"1\",#REF!)),\"1\",\"0\")","v":"0"},{"$f":"IF(ISNUMBER(SEARCH(\"2\",#REF!)),\"1\",\"0\")","v":"0"},{"$f":"IF(ISNUMBER(SEARCH(\"3\",#REF!)),\"1\",\"0\")","v":"0"},{"$f":"IF(ISNUMBER(SEARCH(\"4\",#REF!)),\"1\",\"0\")","v":"0"},{"$f":"IF(ISNUMBER(SEARCH(\"5\",#REF!)),\"1\",\"0\")","v":"0"},{"$f":"IF(ISNUMBER(SEARCH(\"6\",#REF!)),\"1\",\"0\")","v":"0"},{"$f":"IF(ISNUMBER(SEARCH(\"7\",#REF!)),\"1\",\"0\")","v":"0"},{"$f":"IF(ISNUMBER(SEARCH(\"8\",#REF!)),\"1\",\"0\")","v":"0"},{"$f":"IF(ISNUMBER(SEARCH(\"9\",#REF!)),\"1\",\"0\")","v":"0"},{"$f":"IF(ISNUMBER(SEARCH(\"9\",#REF!)),\"1\",\"0\")","v":"0"},{"$f":"IF(ISNUMBER(SEARCH(\"10\",#REF!)),\"1\",\"0\")","v":"0"},{"$f":"IF(ISNUMBER(SEARCH(\"11\",#REF!)),\"1\",\"0\")","v":"0"},{"$f":"IF(ISNUMBER(SEARCH(\"12\",#REF!)),\"1\",\"0\")","v":"0"},{"$f":"IF(ISNUMBER(SEARCH(\"13\",#REF!)),\"1\",\"0\")","v":"0"},{"$f":"IF(ISNUMBER(SEARCH(\"14\",#REF!)),\"1\",\"0\")","v":"0"},{"$f":"IF(ISNUMBER(SEARCH(\"15\",#REF!)),\"1\",\"0\")","v":"0"},{"$f":"IF(ISNUMBER(SEARCH(\"16\",#REF!)),\"1\",\"0\")","v":"0"},{"$f":"IF(ISNUMBER(SEARCH(\"17\",#REF!)),\"1\",\"0\")","v":"0"},{"$nulls":4},16,2,6,24,10,{"$nulls":6},14,3,null,{"$f":"#REF!-#REF!","v":{"$error":"#REF!"}}]
[2,22,4,4,2,16,{"$f":"2019-F859","v":2003},1,3,1,0,3,1,3,"0","0","1","0","0","0","0","0","0","0","0","0","0","0","0","0","0","0",null,null,3,4,1,{"$f":"IF(ISNUMBER(SEARCH(\"1\",#REF!)),\"1\",\"0\")","v":"0"},{"$f":"IF(ISNUMBER(SEARCH(\"2\",#REF!)),\"1\",\"0\")","v":"0"},{"$f":"IF(ISNUMBER(SEARCH(\"3\",#REF!)),\"1\",\"0\")","v":"0"},{"$f":"IF(ISNUMBER(SEARCH(\"4\",#REF!)),\"1\",\"0\")","v":"0"},{"$f":"IF(ISNUMBER(SEARCH(\"5\",#REF!)),\"1\",\"0\")","v":"0"},{"$f":"IF(ISNUMBER(SEARCH(\"6\",#REF!)),\"1\",\"0\")","v":"0"},{"$f":"IF(ISNUMBER(SEARCH(\"7\",#REF!)),\"1\",\"0\")","v":"0"},{"$f":"IF(ISNUMBER(SEARCH(\"8\",#REF!)),\"1\",\"0\")","v":"0"},{"$f":"IF(ISNUMBER(SEARCH(\"9\",#REF!)),\"1\",\"0\")","v":"0"},{"$f":"IF(ISNUMBER(SEARCH(\"9\",#REF!)),\"1\",\"0\")","v":"0"},{"$f":"IF(ISNUMBER(SEARCH(\"10\",#REF!)),\"1\",\"0\")","v":"0"},{"$f":"IF(ISNUMBER(SEARCH(\"11\",#REF!)),\"1\",\"0\")","v":"0"},{"$f":"IF(ISNUMBER(SEARCH(\"12\",#REF!)),\"1\",\"0\")","v":"0"},{"$f":"IF(ISNUMBER(SEARCH(\"13\",#REF!)),\"1\",\"0\")","v":"0"},{"$f":"IF(ISNUMBER(SEARCH(\"14\",#REF!)),\"1\",\"0\")","v":"0"},{"$f":"IF(ISNUMBER(SEARCH(\"15\",#REF!)),\"1\",\"0\")","v":"0"},{"$f":"IF(ISNUMBER(SEARCH(\"16\",#REF!)),\"1\",\"0\")","v":"0"},{"$f":"IF(ISNUMBER(SEARCH(\"17\",#REF!)),\"1\",\"0\")","v":"0"},1,3,null,null,22,20,30,72,4,{"$nulls":6},6,6,null,{"$f":"#REF!-#REF!","v":{"$error":"#REF!"}}]
[2,22,4,3,2,22,1997,2,3,1,3,1,2,"6. Mariage Forcé","0","0","0","0","0","1","0","0","0","0","0","0","0","0","0","0","0","0",null,null,1,1,1,{"$f":"IF(ISNUMBER(SEARCH(\"1\",#REF!)),\"1\",\"0\")","v":"0"},{"$f":"IF(ISNUMBER(SEARCH(\"2\",#REF!)),\"1\",\"0\")","v":"0"},{"$f":"IF(ISNUMBER(SEARCH(\"3\",#REF!)),\"1\",\"0\")","v":"0"},{"$f":"IF(ISNUMBER(SEARCH(\"4\",#REF!)),\"1\",\"0\")","v":"0"},{"$f":"IF(ISNUMBER(SEARCH(\"5\",#REF!)),\"1\",\"0\")","v":"0"},{"$f":"IF(ISNUMBER(SEARCH(\"6\",#REF!)),\"1\",\"0\")","v":"0"},{"$f":"IF(ISNUMBER(SEARCH(\"7\",#REF!)),\"1\",\"0\")","v":"0"},{"$f":"IF(ISNUMBER(SEARCH(\"8\",#REF!)),\"1\",\"0\")","v":"0"},{"$f":"IF(ISNUMBER(SEARCH(\"9\",#REF!)),\"1\",\"0\")","v":"0"},{"$f":"IF(ISNUMBER(SEARCH(\"9\",#REF!)),\"1\",\"0\")","v":"0"},{"$f":"IF(ISNUMBER(SEARCH(\"10\",#REF!)),\"1\",\"0\")","v":"0"},{"$f":"IF(ISNUMBER(SEARCH(\"11\",#REF!)),\"1\",\"0\")","v":"0"},{"$f":"IF(ISNUMBER(SEARCH(\"12\",#REF!)),\"1\",\"0\")","v":"0"},{"$f":"IF(ISNUMBER(SEARCH(\"13\",#REF!)),\"1\",\"0\")","v":"0"},{"$f":"IF(ISNUMBER(SEARCH(\"14\",#REF!)),\"1\",\"0\")","v":"0"},{"$f":"IF(ISNUMBER(SEARCH(\"15\",#REF!)),\"1\",\"0\")","v":"0"},{"$f":"IF(ISNUMBER(SEARCH(\"16\",#REF!)),\"1\",\"0\")","v":"0"},{"$f":"IF(ISNUMBER(SEARCH(\"17\",#REF!)),\"1\",\"0\")","v":"0"},{"$nulls":8},9]
[2,22,8,"AN",2,17,2002,1,3,1,0,3,1,3,"0","0","1","0","0","0","0","0","0","0","0","0","0","0","0","0","0","0",null,null,7,5,2,{"$f":"IF(ISNUMBER(SEARCH(\"1\",#REF!)),\"1\",\"0\")","v":"0"},{"$f":"IF(ISNUMBER(SEARCH(\"2\",#REF!)),\"1\",\"0\")","v":"0"},{"$f":"IF(ISNUMBER(SEARCH(\"3\",#REF!)),\"1\",\"0\")","v":"0"},{"$f":"IF(ISNUMBER(SEARCH(\"4\",#REF!)),\"1\",\"0\")","v":"0"},{"$f":"IF(ISNUMBER(SEARCH(\"5\",#REF!)),\"1\",\"0\")","v":"0"},{"$f":"IF(ISNUMBER(SEARCH(\"6\",#REF!)),\"1\",\"0\")","v":"0"},{"$f":"IF(ISNUMBER(SEARCH(\"7\",#REF!)),\"1\",\"0\")","v":"0"},{"$f":"IF(ISNUMBER(SEARCH(\"8\",#REF!)),\"1\",\"0\")","v":"0"},{"$f":"IF(ISNUMBER(SEARCH(\"9\",#REF!)),\"1\",\"0\")","v":"0"},{"$f":"IF(ISNUMBER(SEARCH(\"9\",#REF!)),\"1\",\"0\")","v":"0"},{"$f":"IF(ISNUMBER(SEARCH(\"10\",#REF!)),\"1\",\"0\")","v":"0"},{"$f":"IF(ISNUMBER(SEARCH(\"11\",#REF!)),\"1\",\"0\")","v":"0"},{"$f":"IF(ISNUMBER(SEARCH(\"12\",#REF!)),\"1\",\"0\")","v":"0"},{"$f":"IF(ISNUMBER(SEARCH(\"13\",#REF!)),\"1\",\"0\")","v":"0"},{"$f":"IF(ISNUMBER(SEARCH(\"14\",#REF!)),\"1\",\"0\")","v":"0"},{"$f":"IF(ISNUMBER(SEARCH(\"15\",#REF!)),\"1\",\"0\")","v":"0"},{"$f":"IF(ISNUMBER(SEARCH(\"16\",#REF!)),\"1\",\"0\")","v":"0"},{"$f":"IF(ISNUMBER(SEARCH(\"17\",#REF!)),\"1\",\"0\")","v":"0"},1,{"$nulls":3},14,12,18,44,9,null,6,6,10,22,null,null,3,null,{"$f":"#REF!-#REF!","v":{"$error":"#REF!"}},{"$f":"#REF!-#REF!","v":{"$error":"#REF!"}}]
[2,22,3,"KF",2,25,1994,1,8,1,2,5,1,3,"0","0","1","0","0","0","0","0","0","0","0","0","0","0","0","0","0","0",null,null,3,4,2,{"$f":"IF(ISNUMBER(SEARCH(\"1\",#REF!)),\"1\",\"0\")","v":"0"},{"$f":"IF(ISNUMBER(SEARCH(\"2\",#REF!)),\"1\",\"0\")","v":"0"},{"$f":"IF(ISNUMBER(SEARCH(\"3\",#REF!)),\"1\",\"0\")","v":"0"},{"$f":"IF(ISNUMBER(SEARCH(\"4\",#REF!)),\"1\",\"0\")","v":"0"},{"$f":"IF(ISNUMBER(SEARCH(\"5\",#REF!)),\"1\",\"0\")","v":"0"},{"$f":"IF(ISNUMBER(SEARCH(\"6\",#REF!)),\"1\",\"0\")","v":"0"},{"$f":"IF(ISNUMBER(SEARCH(\"7\",#REF!)),\"1\",\"0\")","v":"0"},{"$f":"IF(ISNUMBER(SEARCH(\"8\",#REF!)),\"1\",\"0\")","v":"0"},{"$f":"IF(ISNUMBER(SEARCH(\"9\",#REF!)),\"1\",\"0\")","v":"0"},{"$f":"IF(ISNUMBER(SEARCH(\"9\",#REF!)),\"1\",\"0\")","v":"0"},{"$f":"IF(ISNUMBER(SEARCH(\"10\",#REF!)),\"1\",\"0\")","v":"0"},{"$f":"IF(ISNUMBER(SEARCH(\"11\",#REF!)),\"1\",\"0\")","v":"0"},{"$f":"IF(ISNUMBER(SEARCH(\"12\",#REF!)),\"1\",\"0\")","v":"0"},{"$f":"IF(ISNUMBER(SEARCH(\"13\",#REF!)),\"1\",\"0\")","v":"0"},{"$f":"IF(ISNUMBER(SEARCH(\"14\",#REF!)),\"1\",\"0\")","v":"0"},{"$f":"IF(ISNUMBER(SEARCH(\"15\",#REF!)),\"1\",\"0\")","v":"0"},{"$f":"IF(ISNUMBER(SEARCH(\"16\",#REF!)),\"1\",\"0\")","v":"0"},{"$f":"IF(ISNUMBER(SEARCH(\"17\",#REF!)),\"1\",\"0\")","v":"0"},1,{"$nulls":3},18,14,22,54,8,null,6,4,6,16,null,12,4,null,{"$f":"#REF!-#REF!","v":{"$error":"#REF!"}},{"$f":"#REF!-#REF!","v":{"$error":"#REF!"}}]
[2,22,3,"KF",2,27,1992,2,3,1,null,3,3,3,"0","0","1","0","0","0","0","0","0","0","0","0","0","0","0","0","0","0",null,null,3,5,2,{"$f":"IF(ISNUMBER(SEARCH(\"1\",#REF!)),\"1\",\"0\")","v":"0"},{"$f":"IF(ISNUMBER(SEARCH(\"2\",#REF!)),\"1\",\"0\")","v":"0"},{"$f":"IF(ISNUMBER(SEARCH(\"3\",#REF!)),\"1\",\"0\")","v":"0"},{"$f":"IF(ISNUMBER(SEARCH(\"4\",#REF!)),\"1\",\"0\")","v":"0"},{"$f":"IF(ISNUMBER(SEARCH(\"5\",#REF!)),\"1\",\"0\")","v":"0"},{"$f":"IF(ISNUMBER(SEARCH(\"6\",#REF!)),\"1\",\"0\")","v":"0"},{"$f":"IF(ISNUMBER(SEARCH(\"7\",#REF!)),\"1\",\"0\")","v":"0"},{"$f":"IF(ISNUMBER(SEARCH(\"8\",#REF!)),\"1\",\"0\")","v":"0"},{"$f":"IF(ISNUMBER(SEARCH(\"9\",#REF!)),\"1\",\"0\")","v":"0"},{"$f":"IF(ISNUMBER(SEARCH(\"9\",#REF!)),\"1\",\"0\")","v":"0"},{"$f":"IF(ISNUMBER(SEARCH(\"10\",#REF!)),\"1\",\"0\")","v":"0"},{"$f":"IF(ISNUMBER(SEARCH(\"11\",#REF!)),\"1\",\"0\")","v":"0"},{"$f":"IF(ISNUMBER(SEARCH(\"12\",#REF!)),\"1\",\"0\")","v":"0"},{"$f":"IF(ISNUMBER(SEARCH(\"13\",#REF!)),\"1\",\"0\")","v":"0"},{"$f":"IF(ISNUMBER(SEARCH(\"14\",#REF!)),\"1\",\"0\")","v":"0"},{"$f":"IF(ISNUMBER(SEARCH(\"15\",#REF!)),\"1\",\"0\")","v":"0"},{"$f":"IF(ISNUMBER(SEARCH(\"16\",#REF!)),\"1\",\"0\")","v":"0"},{"$f":"IF(ISNUMBER(SEARCH(\"17\",#REF!)),\"1\",\"0\")","v":"0"},1,{"$nulls":3},18,14,20,52,4,null,6,4,6,16,{"$nulls":4},{"$f":"#REF!-#REF!","v":{"$error":"#REF!"}},{"$f":"#REF!-#REF!","v":{"$error":"#REF!"}}]
[2,22,3,"UI",2,17,2002,2,2,1,null,3,1,3,"0","0","1","0","0","0","0","0","0","0","0","0","0","0","0","0","0","0",null,null,3,3,1,{"$f":"IF(ISNUMBER(SEARCH(\"1\",#REF!)),\"1\",\"0\")","v":"0"},{"$f":"IF(ISNUMBER(SEARCH(\"2\",#REF!)),\"1\",\"0\")","v":"0"},{"$f":"IF(ISNUMBER(SEARCH(\"3\",#REF!)),\"1\",\"0\")","v":"0"},{"$f":"IF(ISNUMBER(SEARCH(\"4\",#REF!)),\"1\",\"0\")","v":"0"},{"$f":"IF(ISNUMBER(SEARCH(\"5\",#REF!)),\"1\",\"0\")","v":"0"},{"$f":"IF(ISNUMBER(SEARCH(\"6\",#REF!)),\"1\",\"0\")","v":"0"},{"$f":"IF(ISNUMBER(SEARCH(\"7\",#REF!)),\"1\",\"0\")","v":"0"},{"$f":"IF(ISNUMBER(SEARCH(\"8\",#REF!)),\"1\",\"0\")","v":"0"},{"$f":"IF(ISNUMBER(SEARCH(\"9\",#REF!)),\"1\",\"0\")","v":"0"},{"$f":"IF(ISNUMBER(SEARCH(\"9\",#REF!)),\"1\",\"0\")","v":"0"},{"$f":"IF(ISNUMBER(SEARCH(\"10\",#REF!)),\"1\",\"0\")","v":"0"},{"$f":"IF(ISNUMBER(SEARCH(\"11\",#REF!)),\"1\",\"0\")","v":"0"},{"$f":"IF(ISNUMBER(SEARCH(\"12\",#REF!)),\"1\",\"0\")","v":"0"},{"$f":"IF(ISNUMBER(SEARCH(\"13\",#REF!)),\"1\",\"0\")","v":"0"},{"$f":"IF(ISNUMBER(SEARCH(\"14\",#REF!)),\"1\",\"0\")","v":"0"},{"$f":"IF(ISNUMBER(SEARCH(\"15\",#REF!)),\"1\",\"0\")","v":"0"},{"$f":"IF(ISNUMBER(SEARCH(\"16\",#REF!)),\"1\",\"0\")","v":"0"},{"$f":"IF(ISNUMBER(SEARCH(\"17\",#REF!)),\"1\",\"0\")","v":"0"},{"$nulls":4},14,12,16,42,null,null,4,4,8,16,{"$nulls":4},{"$f":"#REF!-#REF!","v":{"$error":"#REF!"}},{"$f":"#REF!-#REF!","v":{"$error":"#REF!"}}]
[2,22,4,4,2,25,1994,1,3,1,3,3,6,1,"1","0","0","0","0","0","0","0","0","0","0","0","0","0","0","0","0","0",null,null,7,5,null,{"$f":"IF(ISNUMBER(SEARCH(\"1\",#REF!)),\"1\",\"0\")","v":"0"},{"$f":"IF(ISNUMBER(SEARCH(\"2\",#REF!)),\"1\",\"0\")","v":"0"},{"$f":"IF(ISNUMBER(SEARCH(\"3\",#REF!)),\"1\",\"0\")","v":"0"},{"$f":"IF(ISNUMBER(SEARCH(\"4\",#REF!)),\"1\",\"0\")","v":"0"},{"$f":"IF(ISNUMBER(SEARCH(\"5\",#REF!)),\"1\",\"0\")","v":"0"},{"$f":"IF(ISNUMBER(SEARCH(\"6\",#REF!)),\"1\",\"0\")","v":"0"},{"$f":"IF(ISNUMBER(SEARCH(\"7\",#REF!)),\"1\",\"0\")","v":"0"},{"$f":"IF(ISNUMBER(SEARCH(\"8\",#REF!)),\"1\",\"0\")","v":"0"},{"$f":"IF(ISNUMBER(SEARCH(\"9\",#REF!)),\"1\",\"0\")","v":"0"},{"$f":"IF(ISNUMBER(SEARCH(\"9\",#REF!)),\"1\",\"0\")","v":"0"},{"$f":"IF(ISNUMBER(SEARCH(\"10\",#REF!)),\"1\",\"0\")","v":"0"},{"$f":"IF(ISNUMBER(SEARCH(\"11\",#REF!)),\"1\",\"0\")","v":"0"},{"$f":"IF(ISNUMBER(SEARCH(\"12\",#REF!)),\"1\",\"0\")","v":"0"},{"$f":"IF(ISNUMBER(SEARCH(\"13\",#REF!)),\"1\",\"0\")","v":"0"},{"$f":"IF(ISNUMBER(SEARCH(\"14\",#REF!)),\"1\",\"0\")","v":"0"},{"$f":"IF(ISNUMBER(SEARCH(\"15\",#REF!)),\"1\",\"0\")","v":"0"},{"$f":"IF(ISNUMBER(SEARCH(\"16\",#REF!)),\"1\",\"0\")","v":"0"},{"$f":"IF(ISNUMBER(SEARCH(\"17\",#REF!)),\"1\",\"0\")","v":"0"},{"$nulls":4},16,6,10,32,7,null,8,6,10,24,{"$nulls":4},{"$f":"#REF!-#REF!","v":{"$error":"#REF!"}},{"$f":"#REF!-#REF!","v":{"$error":"#REF!"}}]
[2,22,4,3,1,34,1985,4,1,1,3,1,6,null,"0","0","0","0","0","0","0","0","0","0","0","0","0","0","0","0","0","0",null,null,3,4,null,{"$f":"IF(ISNUMBER(SEARCH(\"1\",#REF!)),\"1\",\"0\")","v":"0"},{"$f":"IF(ISNUMBER(SEARCH(\"2\",#REF!)),\"1\",\"0\")","v":"0"},{"$f":"IF(ISNUMBER(SEARCH(\"3\",#REF!)),\"1\",\"0\")","v":"0"},{"$f":"IF(ISNUMBER(SEARCH(\"4\",#REF!)),\"1\",\"0\")","v":"0"},{"$f":"IF(ISNUMBER(SEARCH(\"5\",#REF!)),\"1\",\"0\")","v":"0"},{"$f":"IF(ISNUMBER(SEARCH(\"6\",#REF!)),\"1\",\"0\")","v":"0"},{"$f":"IF(ISNUMBER(SEARCH(\"7\",#REF!)),\"1\",\"0\")","v":"0"},{"$f":"IF(ISNUMBER(SEARCH(\"8\",#REF!)),\"1\",\"0\")","v":"0"},{"$f":"IF(ISNUMBER(SEARCH(\"9\",#REF!)),\"1\",\"0\")","v":"0"},{"$f":"IF(ISNUMBER(SEARCH(\"9\",#REF!)),\"1\",\"0\")","v":"0"},{"$f":"IF(ISNUMBER(SEARCH(\"10\",#REF!)),\"1\",\"0\")","v":"0"},{"$f":"IF(ISNUMBER(SEARCH(\"11\",#REF!)),\"1\",\"0\")","v":"0"},{"$f":"IF(ISNUMBER(SEARCH(\"12\",#REF!)),\"1\",\"0\")","v":"0"},{"$f":"IF(ISNUMBER(SEARCH(\"13\",#REF!)),\"1\",\"0\")","v":"0"},{"$f":"IF(ISNUMBER(SEARCH(\"14\",#REF!)),\"1\",\"0\")","v":"0"},{"$f":"IF(ISNUMBER(SEARCH(\"15\",#REF!)),\"1\",\"0\")","v":"0"},{"$f":"IF(ISNUMBER(SEARCH(\"16\",#REF!)),\"1\",\"0\")","v":"0"},{"$f":"IF(ISNUMBER(SEARCH(\"17\",#REF!)),\"1\",\"0\")","v":"0"},{"$nulls":8},7,null,6,6,6,18]
[2,22,4,2,2,38,1981,1,3,null,9,3,null,1,"1","0","0","0","0","0","0","0","0","0","0","0","0","0","0","0","0","0",null,null,1,2,null,{"$f":"IF(ISNUMBER(SEARCH(\"1\",#REF!)),\"1\",\"0\")","v":"0"},{"$f":"IF(ISNUMBER(SEARCH(\"2\",#REF!)),\"1\",\"0\")","v":"0"},{"$f":"IF(ISNUMBER(SEARCH(\"3\",#REF!)),\"1\",\"0\")","v":"0"},{"$f":"IF(ISNUMBER(SEARCH(\"4\",#REF!)),\"1\",\"0\")","v":"0"},{"$f":"IF(ISNUMBER(SEARCH(\"5\",#REF!)),\"1\",\"0\")","v":"0"},{"$f":"IF(ISNUMBER(SEARCH(\"6\",#REF!)),\"1\",\"0\")","v":"0"},{"$f":"IF(ISNUMBER(SEARCH(\"7\",#REF!)),\"1\",\"0\")","v":"0"},{"$f":"IF(ISNUMBER(SEARCH(\"8\",#REF!)),\"1\",\"0\")","v":"0"},{"$f":"IF(ISNUMBER(SEARCH(\"9\",#REF!)),\"1\",\"0\")","v":"0"},{"$f":"IF(ISNUMBER(SEARCH(\"9\",#REF!)),\"1\",\"0\")","v":"0"},{"$f":"IF(ISNUMBER(SEARCH(\"10\",#REF!)),\"1\",\"0\")","v":"0"},{"$f":"IF(ISNUMBER(SEARCH(\"11\",#REF!)),\"1\",\"0\")","v":"0"},{"$f":"IF(ISNUMBER(SEARCH(\"12\",#REF!)),\"1\",\"0\")","v":"0"},{"$f":"IF(ISNUMBER(SEARCH(\"13\",#REF!)),\"1\",\"0\")","v":"0"},{"$f":"IF(ISNUMBER(SEARCH(\"14\",#REF!)),\"1\",\"0\")","v":"0"},{"$f":"IF(ISNUMBER(SEARCH(\"15\",#REF!)),\"1\",\"0\")","v":"0"},{"$f":"IF(ISNUMBER(SEARCH(\"16\",#REF!)),\"1\",\"0\")","v":"0"},{"$f":"IF(ISNUMBER(SEARCH(\"17\",#REF!)),\"1\",\"0\")","v":"0"},{"$nulls":4},16,10,22,48,10,null,2,2,2,6,null,13,6]
[2,22,4,1,2,28,1991,2,7,null,3,2,2,3,"0","0","1","0","0","0","0","0","0","0","0","0","0","0","0","0","0","0",null,null,2,5,2,{"$f":"IF(ISNUMBER(SEARCH(\"1\",#REF!)),\"1\",\"0\")","v":"0"},{"$f":"IF(ISNUMBER(SEARCH(\"2\",#REF!)),\"1\",\"0\")","v":"0"},{"$f":"IF(ISNUMBER(SEARCH(\"3\",#REF!)),\"1\",\"0\")","v":"0"},{"$f":"IF(ISNUMBER(SEARCH(\"4\",#REF!)),\"1\",\"0\")","v":"0"},{"$f":"IF(ISNUMBER(SEARCH(\"5\",#REF!)),\"1\",\"0\")","v":"0"},{"$f":"IF(ISNUMBER(SEARCH(\"6\",#REF!)),\"1\",\"0\")","v":"0"},{"$f":"IF(ISNUMBER(SEARCH(\"7\",#REF!)),\"1\",\"0\")","v":"0"},{"$f":"IF(ISNUMBER(SEARCH(\"8\",#REF!)),\"1\",\"0\")","v":"0"},{"$f":"IF(ISNUMBER(SEARCH(\"9\",#REF!)),\"1\",\"0\")","v":"0"},{"$f":"IF(ISNUMBER(SEARCH(\"9\",#REF!)),\"1\",\"0\")","v":"0"},{"$f":"IF(ISNUMBER(SEARCH(\"10\",#REF!)),\"1\",\"0\")","v":"0"},{"$f":"IF(ISNUMBER(SEARCH(\"11\",#REF!)),\"1\",\"0\")","v":"0"},{"$f":"IF(ISNUMBER(SEARCH(\"12\",#REF!)),\"1\",\"0\")","v":"0"},{"$f":"IF(ISNUMBER(SEARCH(\"13\",#REF!)),\"1\",\"0\")","v":"0"},{"$f":"IF(ISNUMBER(SEARCH(\"14\",#REF!)),\"1\",\"0\")","v":"0"},{"$f":"IF(ISNUMBER(SEARCH(\"15\",#REF!)),\"1\",\"0\")","v":"0"},{"$f":"IF(ISNUMBER(SEARCH(\"16\",#REF!)),\"1\",\"0\")","v":"0"},{"$f":"IF(ISNUMBER(SEARCH(\"17\",#REF!)),\"1\",\"0\")","v":"0"},1]
[2,22,5,"IK",2,16,2003,2,2,1,0,1,1,3,"0","0","1","0","0","0","0","0","0","0","0","0","0","0","0","0","0","0",null,null,7,3,1,{"$f":"IF(ISNUMBER(SEARCH(\"1\",#REF!)),\"1\",\"0\")","v":"0"},{"$f":"IF(ISNUMBER(SEARCH(\"2\",#REF!)),\"1\",\"0\")","v":"0"},{"$f":"IF(ISNUMBER(SEARCH(\"3\",#REF!)),\"1\",\"0\")","v":"0"},{"$f":"IF(ISNUMBER(SEARCH(\"4\",#REF!)),\"1\",\"0\")","v":"0"},{"$f":"IF(ISNUMBER(SEARCH(\"5\",#REF!)),\"1\",\"0\")","v":"0"},{"$f":"IF(ISNUMBER(SEARCH(\"6\",#REF!)),\"1\",\"0\")","v":"0"},{"$f":"IF(ISNUMBER(SEARCH(\"7\",#REF!)),\"1\",\"0\")","v":"0"},{"$f":"IF(ISNUMBER(SEARCH(\"8\",#REF!)),\"1\",\"0\")","v":"0"},{"$f":"IF(ISNUMBER(SEARCH(\"9\",#REF!)),\"1\",\"0\")","v":"0"},{"$f":"IF(ISNUMBER(SEARCH(\"9\",#REF!)),\"1\",\"0\")","v":"0"},{"$f":"IF(ISNUMBER(SEARCH(\"10\",#REF!)),\"1\",\"0\")","v":"0"},{"$f":"IF(ISNUMBER(SEARCH(\"11\",#REF!)),\"1\",\"0\")","v":"0"},{"$f":"IF(ISNUMBER(SEARCH(\"12\",#REF!)),\"1\",\"0\")","v":"0"},{"$f":"IF(ISNUMBER(SEARCH(\"13\",#REF!)),\"1\",\"0\")","v":"0"},{"$f":"IF(ISNUMBER(SEARCH(\"14\",#REF!)),\"1\",\"0\")","v":"0"},{"$f":"IF(ISNUMBER(SEARCH(\"15\",#REF!)),\"1\",\"0\")","v":"0"},{"$f":"IF(ISNUMBER(SEARCH(\"16\",#REF!)),\"1\",\"0\")","v":"0"},{"$f":"IF(ISNUMBER(SEARCH(\"17\",#REF!)),\"1\",\"0\")","v":"0"},1,1,null,null,32,28,30,90,1,{"$nulls":6},4,5,null,{"$f":"#REF!-#REF!","v":{"$error":"#REF!"}}]
[2,22,5,"RM",2,29,1990,1,3,1,0,5,2,"15. Insultes / a reçu des menaces","1","0","0","0","1","0","0","0","0","0","0","0","0","0","1","0","0","0",null,null,1,2,1,{"$f":"IF(ISNUMBER(SEARCH(\"1\",#REF!)),\"1\",\"0\")","v":"0"},{"$f":"IF(ISNUMBER(SEARCH(\"2\",#REF!)),\"1\",\"0\")","v":"0"},{"$f":"IF(ISNUMBER(SEARCH(\"3\",#REF!)),\"1\",\"0\")","v":"0"},{"$f":"IF(ISNUMBER(SEARCH(\"4\",#REF!)),\"1\",\"0\")","v":"0"},{"$f":"IF(ISNUMBER(SEARCH(\"5\",#REF!)),\"1\",\"0\")","v":"0"},{"$f":"IF(ISNUMBER(SEARCH(\"6\",#REF!)),\"1\",\"0\")","v":"0"},{"$f":"IF(ISNUMBER(SEARCH(\"7\",#REF!)),\"1\",\"0\")","v":"0"},{"$f":"IF(ISNUMBER(SEARCH(\"8\",#REF!)),\"1\",\"0\")","v":"0"},{"$f":"IF(ISNUMBER(SEARCH(\"9\",#REF!)),\"1\",\"0\")","v":"0"},{"$f":"IF(ISNUMBER(SEARCH(\"9\",#REF!)),\"1\",\"0\")","v":"0"},{"$f":"IF(ISNUMBER(SEARCH(\"10\",#REF!)),\"1\",\"0\")","v":"0"},{"$f":"IF(ISNUMBER(SEARCH(\"11\",#REF!)),\"1\",\"0\")","v":"0"},{"$f":"IF(ISNUMBER(SEARCH(\"12\",#REF!)),\"1\",\"0\")","v":"0"},{"$f":"IF(ISNUMBER(SEARCH(\"13\",#REF!)),\"1\",\"0\")","v":"0"},{"$f":"IF(ISNUMBER(SEARCH(\"14\",#REF!)),\"1\",\"0\")","v":"0"},{"$f":"IF(ISNUMBER(SEARCH(\"15\",#REF!)),\"1\",\"0\")","v":"0"},{"$f":"IF(ISNUMBER(SEARCH(\"16\",#REF!)),\"1\",\"0\")","v":"0"},{"$f":"IF(ISNUMBER(SEARCH(\"17\",#REF!)),\"1\",\"0\")","v":"0"},null,2,null,null,26,20,14,60,{"$f":"IF(COUNT(#REF!)>0,#REF!, \"\")","v":""},null,6,4,8,18,{"$nulls":5},{"$f":"#REF!-#REF!","v":{"$error":"#REF!"}}]
[2,22,5,"IK",2,27,1992,1,8,1,0,1,2,3,"0","0","1","0","0","0","0","0","0","0","0","0","0","0","0","0","0","0",null,null,2,5,2,{"$f":"IF(ISNUMBER(SEARCH(\"1\",#REF!)),\"1\",\"0\")","v":"0"},{"$f":"IF(ISNUMBER(SEARCH(\"2\",#REF!)),\"1\",\"0\")","v":"0"},{"$f":"IF(ISNUMBER(SEARCH(\"3\",#REF!)),\"1\",\"0\")","v":"0"},{"$f":"IF(ISNUMBER(SEARCH(\"4\",#REF!)),\"1\",\"0\")","v":"0"},{"$f":"IF(ISNUMBER(SEARCH(\"5\",#REF!)),\"1\",\"0\")","v":"0"},{"$f":"IF(ISNUMBER(SEARCH(\"6\",#REF!)),\"1\",\"0\")","v":"0"},{"$f":"IF(ISNUMBER(SEARCH(\"7\",#REF!)),\"1\",\"0\")","v":"0"},{"$f":"IF(ISNUMBER(SEARCH(\"8\",#REF!)),\"1\",\"0\")","v":"0"},{"$f":"IF(ISNUMBER(SEARCH(\"9\",#REF!)),\"1\",\"0\")","v":"0"},{"$f":"IF(ISNUMBER(SEARCH(\"9\",#REF!)),\"1\",\"0\")","v":"0"},{"$f":"IF(ISNUMBER(SEARCH(\"10\",#REF!)),\"1\",\"0\")","v":"0"},{"$f":"IF(ISNUMBER(SEARCH(\"11\",#REF!)),\"1\",\"0\")","v":"0"},{"$f":"IF(ISNUMBER(SEARCH(\"12\",#REF!)),\"1\",\"0\")","v":"0"},{"$f":"IF(ISNUMBER(SEARCH(\"13\",#REF!)),\"1\",\"0\")","v":"0"},{"$f":"IF(ISNUMBER(SEARCH(\"14\",#REF!)),\"1\",\"0\")","v":"0"},{"$f":"IF(ISNUMBER(SEARCH(\"15\",#REF!)),\"1\",\"0\")","v":"0"},{"$f":"IF(ISNUMBER(SEARCH(\"16\",#REF!)),\"1\",\"0\")","v":"0"},{"$f":"IF(ISNUMBER(SEARCH(\"17\",#REF!)),\"1\",\"0\")","v":"0"},1,3,{"$nulls":6},4,{"$nulls":6},14,3]
[2,22,2,"F3",2,16,2003,3,2,1,0,5,1,3,"0","0","1","0","0","0","0","0","0","0","0","0","0","0","0","0","0","0",null,null,2,4,1,{"$f":"IF(ISNUMBER(SEARCH(\"1\",#REF!)),\"1\",\"0\")","v":"0"},{"$f":"IF(ISNUMBER(SEARCH(\"2\",#REF!)),\"1\",\"0\")","v":"0"},{"$f":"IF(ISNUMBER(SEARCH(\"3\",#REF!)),\"1\",\"0\")","v":"0"},{"$f":"IF(ISNUMBER(SEARCH(\"4\",#REF!)),\"1\",\"0\")","v":"0"},{"$f":"IF(ISNUMBER(SEARCH(\"5\",#REF!)),\"1\",\"0\")","v":"0"},{"$f":"IF(ISNUMBER(SEARCH(\"6\",#REF!)),\"1\",\"0\")","v":"0"},{"$f":"IF(ISNUMBER(SEARCH(\"7\",#REF!)),\"1\",\"0\")","v":"0"},{"$f":"IF(ISNUMBER(SEARCH(\"8\",#REF!)),\"1\",\"0\")","v":"0"},{"$f":"IF(ISNUMBER(SEARCH(\"9\",#REF!)),\"1\",\"0\")","v":"0"},{"$f":"IF(ISNUMBER(SEARCH(\"9\",#REF!)),\"1\",\"0\")","v":"0"},{"$f":"IF(ISNUMBER(SEARCH(\"10\",#REF!)),\"1\",\"0\")","v":"0"},{"$f":"IF(ISNUMBER(SEARCH(\"11\",#REF!)),\"1\",\"0\")","v":"0"},{"$f":"IF(ISNUMBER(SEARCH(\"12\",#REF!)),\"1\",\"0\")","v":"0"},{"$f":"IF(ISNUMBER(SEARCH(\"13\",#REF!)),\"1\",\"0\")","v":"0"},{"$f":"IF(ISNUMBER(SEARCH(\"14\",#REF!)),\"1\",\"0\")","v":"0"},{"$f":"IF(ISNUMBER(SEARCH(\"15\",#REF!)),\"1\",\"0\")","v":"0"},{"$f":"IF(ISNUMBER(SEARCH(\"16\",#REF!)),\"1\",\"0\")","v":"0"},{"$f":"IF(ISNUMBER(SEARCH(\"17\",#REF!)),\"1\",\"0\")","v":"0"},1,1,null,null,16,24,20,60,6]
[2,22,2,"F1",2,30,1989,3,3,1,7,5,2,3,"0","0","1","0","0","0","0","0","0","0","0","0","0","0","0","0","0","0",{"$nulls":3},5,2,{"$f":"IF(ISNUMBER(SEARCH(\"1\",#REF!)),\"1\",\"0\")","v":"0"},{"$f":"IF(ISNUMBER(SEARCH(\"2\",#REF!)),\"1\",\"0\")","v":"0"},{"$f":"IF(ISNUMBER(SEARCH(\"3\",#REF!)),\"1\",\"0\")","v":"0"},{"$f":"IF(ISNUMBER(SEARCH(\"4\",#REF!)),\"1\",\"0\")","v":"0"},{"$f":"IF(ISNUMBER(SEARCH(\"5\",#REF!)),\"1\",\"0\")","v":"0"},{"$f":"IF(ISNUMBER(SEARCH(\"6\",#REF!)),\"1\",\"0\")","v":"0"},{"$f":"IF(ISNUMBER(SEARCH(\"7\",#REF!)),\"1\",\"0\")","v":"0"},{"$f":"IF(ISNUMBER(SEARCH(\"8\",#REF!)),\"1\",\"0\")","v":"0"},{"$f":"IF(ISNUMBER(SEARCH(\"9\",#REF!)),\"1\",\"0\")","v":"0"},{"$f":"IF(ISNUMBER(SEARCH(\"9\",#REF!)),\"1\",\"0\")","v":"0"},{"$f":"IF(ISNUMBER(SEARCH(\"10\",#REF!)),\"1\",\"0\")","v":"0"},{"$f":"IF(ISNUMBER(SEARCH(\"11\",#REF!)),\"1\",\"0\")","v":"0"},{"$f":"IF(ISNUMBER(SEARCH(\"12\",#REF!)),\"1\",\"0\")","v":"0"},{"$f":"IF(ISNUMBER(SEARCH(\"13\",#REF!)),\"1\",\"0\")","v":"0"},{"$f":"IF(ISNUMBER(SEARCH(\"14\",#REF!)),\"1\",\"0\")","v":"0"},{"$f":"IF(ISNUMBER(SEARCH(\"15\",#REF!)),\"1\",\"0\")","v":"0"},{"$f":"IF(ISNUMBER(SEARCH(\"16\",#REF!)),\"1\",\"0\")","v":"0"},{"$f":"IF(ISNUMBER(SEARCH(\"17\",#REF!)),\"1\",\"0\")","v":"0"},1,{"$nulls":3},32,30,26,88,4,null,6,2,6,14,null,12,3,null,null,{"$f":"#REF!-#REF!","v":{"$error":"#REF!"}}]
[2,22,2,"F1",2,7,2012,2,2,1,0,3,1,"4. Tentative de Viol","0","0","0","1","0","0","0","0","0","0","0","0","0","0","0","0","0","0",null,null,1,3,1,{"$f":"IF(ISNUMBER(SEARCH(\"1\",#REF!)),\"1\",\"0\")","v":"0"},{"$f":"IF(ISNUMBER(SEARCH(\"2\",#REF!)),\"1\",\"0\")","v":"0"},{"$f":"IF(ISNUMBER(SEARCH(\"3\",#REF!)),\"1\",\"0\")","v":"0"},{"$f":"IF(ISNUMBER(SEARCH(\"4\",#REF!)),\"1\",\"0\")","v":"0"},{"$f":"IF(ISNUMBER(SEARCH(\"5\",#REF!)),\"1\",\"0\")","v":"0"},{"$f":"IF(ISNUMBER(SEARCH(\"6\",#REF!)),\"1\",\"0\")","v":"0"},{"$f":"IF(ISNUMBER(SEARCH(\"7\",#REF!)),\"1\",\"0\")","v":"0"},{"$f":"IF(ISNUMBER(SEARCH(\"8\",#REF!)),\"1\",\"0\")","v":"0"},{"$f":"IF(ISNUMBER(SEARCH(\"9\",#REF!)),\"1\",\"0\")","v":"0"},{"$f":"IF(ISNUMBER(SEARCH(\"9\",#REF!)),\"1\",\"0\")","v":"0"},{"$f":"IF(ISNUMBER(SEARCH(\"10\",#REF!)),\"1\",\"0\")","v":"0"},{"$f":"IF(ISNUMBER(SEARCH(\"11\",#REF!)),\"1\",\"0\")","v":"0"},{"$f":"IF(ISNUMBER(SEARCH(\"12\",#REF!)),\"1\",\"0\")","v":"0"},{"$f":"IF(ISNUMBER(SEARCH(\"13\",#REF!)),\"1\",\"0\")","v":"0"},{"$f":"IF(ISNUMBER(SEARCH(\"14\",#REF!)),\"1\",\"0\")","v":"0"},{"$f":"IF(ISNUMBER(SEARCH(\"15\",#REF!)),\"1\",\"0\")","v":"0"},{"$f":"IF(ISNUMBER(SEARCH(\"16\",#REF!)),\"1\",\"0\")","v":"0"},{"$f":"IF(ISNUMBER(SEARCH(\"17\",#REF!)),\"1\",\"0\")","v":"0"},{"$nulls":4},16,16,16,48,13,null,8,8,8,24,{"$nulls":5},{"$f":"#REF!-#REF!","v":{"$error":"#REF!"}}]
[2,22,13,"B1",2,3,2016,1,7,1,0,3,1,3,"0","0","1","0","0","0","0","0","0","0","0","0","0","0","0","0","0","0",null,null,1,5,1,{"$f":"IF(ISNUMBER(SEARCH(\"1\",#REF!)),\"1\",\"0\")","v":"0"},{"$f":"IF(ISNUMBER(SEARCH(\"2\",#REF!)),\"1\",\"0\")","v":"0"},{"$f":"IF(ISNUMBER(SEARCH(\"3\",#REF!)),\"1\",\"0\")","v":"0"},{"$f":"IF(ISNUMBER(SEARCH(\"4\",#REF!)),\"1\",\"0\")","v":"0"},{"$f":"IF(ISNUMBER(SEARCH(\"5\",#REF!)),\"1\",\"0\")","v":"0"},{"$f":"IF(ISNUMBER(SEARCH(\"6\",#REF!)),\"1\",\"0\")","v":"0"},{"$f":"IF(ISNUMBER(SEARCH(\"7\",#REF!)),\"1\",\"0\")","v":"0"},{"$f":"IF(ISNUMBER(SEARCH(\"8\",#REF!)),\"1\",\"0\")","v":"0"},{"$f":"IF(ISNUMBER(SEARCH(\"9\",#REF!)),\"1\",\"0\")","v":"0"},{"$f":"IF(ISNUMBER(SEARCH(\"9\",#REF!)),\"1\",\"0\")","v":"0"},{"$f":"IF(ISNUMBER(SEARCH(\"10\",#REF!)),\"1\",\"0\")","v":"0"},{"$f":"IF(ISNUMBER(SEARCH(\"11\",#REF!)),\"1\",\"0\")","v":"0"},{"$f":"IF(ISNUMBER(SEARCH(\"12\",#REF!)),\"1\",\"0\")","v":"0"},{"$f":"IF(ISNUMBER(SEARCH(\"13\",#REF!)),\"1\",\"0\")","v":"0"},{"$f":"IF(ISNUMBER(SEARCH(\"14\",#REF!)),\"1\",\"0\")","v":"0"},{"$f":"IF(ISNUMBER(SEARCH(\"15\",#REF!)),\"1\",\"0\")","v":"0"},{"$f":"IF(ISNUMBER(SEARCH(\"16\",#REF!)),\"1\",\"0\")","v":"0"},{"$f":"IF(ISNUMBER(SEARCH(\"17\",#REF!)),\"1\",\"0\")","v":"0"},1,{"$nulls":3},32,22,24,78,7]
[2,22,13,"B2",1,18,2001,2,7,1,0,5,1,2,"0","1","0","0","0","0","0","0","0","0","0","0","0","0","0","0","0","0",null,null,3,5,2,{"$f":"IF(ISNUMBER(SEARCH(\"1\",#REF!)),\"1\",\"0\")","v":"0"},{"$f":"IF(ISNUMBER(SEARCH(\"2\",#REF!)),\"1\",\"0\")","v":"0"},{"$f":"IF(ISNUMBER(SEARCH(\"3\",#REF!)),\"1\",\"0\")","v":"0"},{"$f":"IF(ISNUMBER(SEARCH(\"4\",#REF!)),\"1\",\"0\")","v":"0"},{"$f":"IF(ISNUMBER(SEARCH(\"5\",#REF!)),\"1\",\"0\")","v":"0"},{"$f":"IF(ISNUMBER(SEARCH(\"6\",#REF!)),\"1\",\"0\")","v":"0"},{"$f":"IF(ISNUMBER(SEARCH(\"7\",#REF!)),\"1\",\"0\")","v":"0"},{"$f":"IF(ISNUMBER(SEARCH(\"8\",#REF!)),\"1\",\"0\")","v":"0"},{"$f":"IF(ISNUMBER(SEARCH(\"9\",#REF!)),\"1\",\"0\")","v":"0"},{"$f":"IF(ISNUMBER(SEARCH(\"9\",#REF!)),\"1\",\"0\")","v":"0"},{"$f":"IF(ISNUMBER(SEARCH(\"10\",#REF!)),\"1\",\"0\")","v":"0"},{"$f":"IF(ISNUMBER(SEARCH(\"11\",#REF!)),\"1\",\"0\")","v":"0"},{"$f":"IF(ISNUMBER(SEARCH(\"12\",#REF!)),\"1\",\"0\")","v":"0"},{"$f":"IF(ISNUMBER(SEARCH(\"13\",#REF!)),\"1\",\"0\")","v":"0"},{"$f":"IF(ISNUMBER(SEARCH(\"14\",#REF!)),\"1\",\"0\")","v":"0"},{"$f":"IF(ISNUMBER(SEARCH(\"15\",#REF!)),\"1\",\"0\")","v":"0"},{"$f":"IF(ISNUMBER(SEARCH(\"16\",#REF!)),\"1\",\"0\")","v":"0"},{"$f":"IF(ISNUMBER(SEARCH(\"17\",#REF!)),\"1\",\"0\")","v":"0"},{"$nulls":4},20,10,22,52,7,{"$nulls":9},{"$f":"#REF!-#REF!","v":{"$error":"#REF!"}}]
[2,22,13,"S3",2,30,1989,2,3,1,4,5,2,3,"0","0","1","0","0","0","0","0","0","0","0","0","0","0","0","0","0","0",null,null,2,5,2,{"$f":"IF(ISNUMBER(SEARCH(\"1\",#REF!)),\"1\",\"0\")","v":"0"},{"$f":"IF(ISNUMBER(SEARCH(\"2\",#REF!)),\"1\",\"0\")","v":"0"},{"$f":"IF(ISNUMBER(SEARCH(\"3\",#REF!)),\"1\",\"0\")","v":"0"},{"$f":"IF(ISNUMBER(SEARCH(\"4\",#REF!)),\"1\",\"0\")","v":"0"},{"$f":"IF(ISNUMBER(SEARCH(\"5\",#REF!)),\"1\",\"0\")","v":"0"},{"$f":"IF(ISNUMBER(SEARCH(\"6\",#REF!)),\"1\",\"0\")","v":"0"},{"$f":"IF(ISNUMBER(SEARCH(\"7\",#REF!)),\"1\",\"0\")","v":"0"},{"$f":"IF(ISNUMBER(SEARCH(\"8\",#REF!)),\"1\",\"0\")","v":"0"},{"$f":"IF(ISNUMBER(SEARCH(\"9\",#REF!)),\"1\",\"0\")","v":"0"},{"$f":"IF(ISNUMBER(SEARCH(\"9\",#REF!)),\"1\",\"0\")","v":"0"},{"$f":"IF(ISNUMBER(SEARCH(\"10\",#REF!)),\"1\",\"0\")","v":"0"},{"$f":"IF(ISNUMBER(SEARCH(\"11\",#REF!)),\"1\",\"0\")","v":"0"},{"$f":"IF(ISNUMBER(SEARCH(\"12\",#REF!)),\"1\",\"0\")","v":"0"},{"$f":"IF(ISNUMBER(SEARCH(\"13\",#REF!)),\"1\",\"0\")","v":"0"},{"$f":"IF(ISNUMBER(SEARCH(\"14\",#REF!)),\"1\",\"0\")","v":"0"},{"$f":"IF(ISNUMBER(SEARCH(\"15\",#REF!)),\"1\",\"0\")","v":"0"},{"$f":"IF(ISNUMBER(SEARCH(\"16\",#REF!)),\"1\",\"0\")","v":"0"},{"$f":"IF(ISNUMBER(SEARCH(\"17\",#REF!)),\"1\",\"0\")","v":"0"},{"$nulls":8},5]
[2,22,2,"KS",2,14,2005,3,7,null,null,5,1,3,"0","0","1","0","0","0","0","0","0","0","0","0","0","0","0","0","0","0",null,null,2,5,1,{"$f":"IF(ISNUMBER(SEARCH(\"1\",#REF!)),\"1\",\"0\")","v":"0"},{"$f":"IF(ISNUMBER(SEARCH(\"2\",#REF!)),\"1\",\"0\")","v":"0"},{"$f":"IF(ISNUMBER(SEARCH(\"3\",#REF!)),\"1\",\"0\")","v":"0"},{"$f":"IF(ISNUMBER(SEARCH(\"4\",#REF!)),\"1\",\"0\")","v":"0"},{"$f":"IF(ISNUMBER(SEARCH(\"5\",#REF!)),\"1\",\"0\")","v":"0"},{"$f":"IF(ISNUMBER(SEARCH(\"6\",#REF!)),\"1\",\"0\")","v":"0"},{"$f":"IF(ISNUMBER(SEARCH(\"7\",#REF!)),\"1\",\"0\")","v":"0"},{"$f":"IF(ISNUMBER(SEARCH(\"8\",#REF!)),\"1\",\"0\")","v":"0"},{"$f":"IF(ISNUMBER(SEARCH(\"9\",#REF!)),\"1\",\"0\")","v":"0"},{"$f":"IF(ISNUMBER(SEARCH(\"9\",#REF!)),\"1\",\"0\")","v":"0"},{"$f":"IF(ISNUMBER(SEARCH(\"10\",#REF!)),\"1\",\"0\")","v":"0"},{"$f":"IF(ISNUMBER(SEARCH(\"11\",#REF!)),\"1\",\"0\")","v":"0"},{"$f":"IF(ISNUMBER(SEARCH(\"12\",#REF!)),\"1\",\"0\")","v":"0"},{"$f":"IF(ISNUMBER(SEARCH(\"13\",#REF!)),\"1\",\"0\")","v":"0"},{"$f":"IF(ISNUMBER(SEARCH(\"14\",#REF!)),\"1\",\"0\")","v":"0"},{"$f":"IF(ISNUMBER(SEARCH(\"15\",#REF!)),\"1\",\"0\")","v":"0"},{"$f":"IF(ISNUMBER(SEARCH(\"16\",#REF!)),\"1\",\"0\")","v":"0"},{"$f":"IF(ISNUMBER(SEARCH(\"17\",#REF!)),\"1\",\"0\")","v":"0"},1,3,null,null,28,12,28,68,{"$f":"IF(COUNT(#REF!)>0,#REF!, \"\")","v":""}]
[2,22,2,"KS",2,23,1996,2,3,1,null,8,2,3,"0","0","1","0","0","0","0","0","0","0","0","0","0","0","0","0","0","0",{"$nulls":3},5,1,{"$f":"IF(ISNUMBER(SEARCH(\"1\",#REF!)),\"1\",\"0\")","v":"0"},{"$f":"IF(ISNUMBER(SEARCH(\"2\",#REF!)),\"1\",\"0\")","v":"0"},{"$f":"IF(ISNUMBER(SEARCH(\"3\",#REF!)),\"1\",\"0\")","v":"0"},{"$f":"IF(ISNUMBER(SEARCH(\"4\",#REF!)),\"1\",\"0\")","v":"0"},{"$f":"IF(ISNUMBER(SEARCH(\"5\",#REF!)),\"1\",\"0\")","v":"0"},{"$f":"IF(ISNUMBER(SEARCH(\"6\",#REF!)),\"1\",\"0\")","v":"0"},{"$f":"IF(ISNUMBER(SEARCH(\"7\",#REF!)),\"1\",\"0\")","v":"0"},{"$f":"IF(ISNUMBER(SEARCH(\"8\",#REF!)),\"1\",\"0\")","v":"0"},{"$f":"IF(ISNUMBER(SEARCH(\"9\",#REF!)),\"1\",\"0\")","v":"0"},{"$f":"IF(ISNUMBER(SEARCH(\"9\",#REF!)),\"1\",\"0\")","v":"0"},{"$f":"IF(ISNUMBER(SEARCH(\"10\",#REF!)),\"1\",\"0\")","v":"0"},{"$f":"IF(ISNUMBER(SEARCH(\"11\",#REF!)),\"1\",\"0\")","v":"0"},{"$f":"IF(ISNUMBER(SEARCH(\"12\",#REF!)),\"1\",\"0\")","v":"0"},{"$f":"IF(ISNUMBER(SEARCH(\"13\",#REF!)),\"1\",\"0\")","v":"0"},{"$f":"IF(ISNUMBER(SEARCH(\"14\",#REF!)),\"1\",\"0\")","v":"0"},{"$f":"IF(ISNUMBER(SEARCH(\"15\",#REF!)),\"1\",\"0\")","v":"0"},{"$f":"IF(ISNUMBER(SEARCH(\"16\",#REF!)),\"1\",\"0\")","v":"0"},{"$f":"IF(ISNUMBER(SEARCH(\"17\",#REF!)),\"1\",\"0\")","v":"0"},4,2,{"$nulls":6},{"$f":"IF(COUNT(#REF!)>0,#REF!, \"\")","v":""}]
[2,22,5,"RS",2,30,1989,3,3,1,null,5,2,3,"0","0","1","0","0","0","0","0","0","0","0","0","0","0","0","0","0","0",null,null,7,5,2,{"$f":"IF(ISNUMBER(SEARCH(\"1\",#REF!)),\"1\",\"0\")","v":"0"},0,{"$f":"IF(ISNUMBER(SEARCH(\"3\",#REF!)),\"1\",\"0\")","v":"0"},{"$f":"IF(ISNUMBER(SEARCH(\"4\",#REF!)),\"1\",\"0\")","v":"0"},{"$f":"IF(ISNUMBER(SEARCH(\"5\",#REF!)),\"1\",\"0\")","v":"0"},{"$f":"IF(ISNUMBER(SEARCH(\"6\",#REF!)),\"1\",\"0\")","v":"0"},{"$f":"IF(ISNUMBER(SEARCH(\"7\",#REF!)),\"1\",\"0\")","v":"0"},{"$f":"IF(ISNUMBER(SEARCH(\"8\",#REF!)),\"1\",\"0\")","v":"0"},{"$f":"IF(ISNUMBER(SEARCH(\"9\",#REF!)),\"1\",\"0\")","v":"0"},{"$f":"IF(ISNUMBER(SEARCH(\"9\",#REF!)),\"1\",\"0\")","v":"0"},{"$f":"IF(ISNUMBER(SEARCH(\"10\",#REF!)),\"1\",\"0\")","v":"0"},{"$f":"IF(ISNUMBER(SEARCH(\"11\",#REF!)),\"1\",\"0\")","v":"0"},{"$f":"IF(ISNUMBER(SEARCH(\"12\",#REF!)),\"1\",\"0\")","v":"0"},{"$f":"IF(ISNUMBER(SEARCH(\"13\",#REF!)),\"1\",\"0\")","v":"0"},{"$f":"IF(ISNUMBER(SEARCH(\"14\",#REF!)),\"1\",\"0\")","v":"0"},{"$f":"IF(ISNUMBER(SEARCH(\"15\",#REF!)),\"1\",\"0\")","v":"0"},{"$f":"IF(ISNUMBER(SEARCH(\"16\",#REF!)),\"1\",\"0\")","v":"0"},{"$f":"IF(ISNUMBER(SEARCH(\"17\",#REF!)),\"1\",\"0\")","v":"0"},1,1,{"$nulls":6},{"$f":"IF(COUNT(#REF!)>0,#REF!, \"\")","v":""}]
[2,22,1,1,1,17,2002,3,2,1,null,5,1,1,"1","0","0","0","0","0","0","0","0","0","0","0","0","0","0","0","0","0",null,null,3,5,2,{"$f":"IF(ISNUMBER(SEARCH(\"1\",#REF!)),\"1\",\"0\")","v":"0"},{"$f":"IF(ISNUMBER(SEARCH(\"2\",#REF!)),\"1\",\"0\")","v":"0"},{"$f":"IF(ISNUMBER(SEARCH(\"3\",#REF!)),\"1\",\"0\")","v":"0"},{"$f":"IF(ISNUMBER(SEARCH(\"4\",#REF!)),\"1\",\"0\")","v":"0"},{"$f":"IF(ISNUMBER(SEARCH(\"5\",#REF!)),\"1\",\"0\")","v":"0"},{"$f":"IF(ISNUMBER(SEARCH(\"6\",#REF!)),\"1\",\"0\")","v":"0"},{"$f":"IF(ISNUMBER(SEARCH(\"7\",#REF!)),\"1\",\"0\")","v":"0"},{"$f":"IF(ISNUMBER(SEARCH(\"8\",#REF!)),\"1\",\"0\")","v":"0"},{"$f":"IF(ISNUMBER(SEARCH(\"9\",#REF!)),\"1\",\"0\")","v":"0"},{"$f":"IF(ISNUMBER(SEARCH(\"9\",#REF!)),\"1\",\"0\")","v":"0"},{"$f":"IF(ISNUMBER(SEARCH(\"10\",#REF!)),\"1\",\"0\")","v":"0"},{"$f":"IF(ISNUMBER(SEARCH(\"11\",#REF!)),\"1\",\"0\")","v":"0"},{"$f":"IF(ISNUMBER(SEARCH(\"12\",#REF!)),\"1\",\"0\")","v":"0"},{"$f":"IF(ISNUMBER(SEARCH(\"13\",#REF!)),\"1\",\"0\")","v":"0"},{"$f":"IF(ISNUMBER(SEARCH(\"14\",#REF!)),\"1\",\"0\")","v":"0"},{"$f":"IF(ISNUMBER(SEARCH(\"15\",#REF!)),\"1\",\"0\")","v":"0"},{"$f":"IF(ISNUMBER(SEARCH(\"16\",#REF!)),\"1\",\"0\")","v":"0"},{"$f":"IF(ISNUMBER(SEARCH(\"17\",#REF!)),\"1\",\"0\")","v":"0"},null,2,{"$nulls":6},9]
[2,22,1,1,2,25,1994,1,3,1,4,5,6,3,"0","0","1","0","0","0","0","0","0","0","0","0","0","0","0","0","0","0",null,null,1,5,2,{"$f":"IF(ISNUMBER(SEARCH(\"1\",#REF!)),\"1\",\"0\")","v":"0"},{"$f":"IF(ISNUMBER(SEARCH(\"2\",#REF!)),\"1\",\"0\")","v":"0"},{"$f":"IF(ISNUMBER(SEARCH(\"3\",#REF!)),\"1\",\"0\")","v":"0"},{"$f":"IF(ISNUMBER(SEARCH(\"4\",#REF!)),\"1\",\"0\")","v":"0"},{"$f":"IF(ISNUMBER(SEARCH(\"5\",#REF!)),\"1\",\"0\")","v":"0"},{"$f":"IF(ISNUMBER(SEARCH(\"6\",#REF!)),\"1\",\"0\")","v":"0"},{"$f":"IF(ISNUMBER(SEARCH(\"7\",#REF!)),\"1\",\"0\")","v":"0"},{"$f":"IF(ISNUMBER(SEARCH(\"8\",#REF!)),\"1\",\"0\")","v":"0"},{"$f":"IF(ISNUMBER(SEARCH(\"9\",#REF!)),\"1\",\"0\")","v":"0"},{"$f":"IF(ISNUMBER(SEARCH(\"9\",#REF!)),\"1\",\"0\")","v":"0"},{"$f":"IF(ISNUMBER(SEARCH(\"10\",#REF!)),\"1\",\"0\")","v":"0"},{"$f":"IF(ISNUMBER(SEARCH(\"11\",#REF!)),\"1\",\"0\")","v":"0"},{"$f":"IF(ISNUMBER(SEARCH(\"12\",#REF!)),\"1\",\"0\")","v":"0"},{"$f":"IF(ISNUMBER(SEARCH(\"13\",#REF!)),\"1\",\"0\")","v":"0"},{"$f":"IF(ISNUMBER(SEARCH(\"14\",#REF!)),\"1\",\"0\")","v":"0"},{"$f":"IF(ISNUMBER(SEARCH(\"15\",#REF!)),\"1\",\"0\")","v":"0"},{"$f":"IF(ISNUMBER(SEARCH(\"16\",#REF!)),\"1\",\"0\")","v":"0"},{"$f":"IF(ISNUMBER(SEARCH(\"17\",#REF!)),\"1\",\"0\")","v":"0"},4,2,null,null,14,26,22,62,8,{"$nulls":6},14,null,null,{"$f":"#REF!-#REF!","v":{"$error":"#REF!"}}]
[2,22,9,"FM",2,32,1987,3,3,1,8,5,6,"16. Autre (SVP dans la case suivante) ","1","0","0","0","0","1","0","0","0","0","0","0","0","0","0","1","0","0",null,null,1,2,null,{"$f":"IF(ISNUMBER(SEARCH(\"1\",#REF!)),\"1\",\"0\")","v":"0"},{"$f":"IF(ISNUMBER(SEARCH(\"2\",#REF!)),\"1\",\"0\")","v":"0"},{"$f":"IF(ISNUMBER(SEARCH(\"3\",#REF!)),\"1\",\"0\")","v":"0"},{"$f":"IF(ISNUMBER(SEARCH(\"4\",#REF!)),\"1\",\"0\")","v":"0"},{"$f":"IF(ISNUMBER(SEARCH(\"5\",#REF!)),\"1\",\"0\")","v":"0"},{"$f":"IF(ISNUMBER(SEARCH(\"6\",#REF!)),\"1\",\"0\")","v":"0"},{"$f":"IF(ISNUMBER(SEARCH(\"7\",#REF!)),\"1\",\"0\")","v":"0"},{"$f":"IF(ISNUMBER(SEARCH(\"8\",#REF!)),\"1\",\"0\")","v":"0"},{"$f":"IF(ISNUMBER(SEARCH(\"9\",#REF!)),\"1\",\"0\")","v":"0"},{"$f":"IF(ISNUMBER(SEARCH(\"9\",#REF!)),\"1\",\"0\")","v":"0"},{"$f":"IF(ISNUMBER(SEARCH(\"10\",#REF!)),\"1\",\"0\")","v":"0"},{"$f":"IF(ISNUMBER(SEARCH(\"11\",#REF!)),\"1\",\"0\")","v":"0"},{"$f":"IF(ISNUMBER(SEARCH(\"12\",#REF!)),\"1\",\"0\")","v":"0"},{"$f":"IF(ISNUMBER(SEARCH(\"13\",#REF!)),\"1\",\"0\")","v":"0"},{"$f":"IF(ISNUMBER(SEARCH(\"14\",#REF!)),\"1\",\"0\")","v":"0"},{"$f":"IF(ISNUMBER(SEARCH(\"15\",#REF!)),\"1\",\"0\")","v":"0"},{"$f":"IF(ISNUMBER(SEARCH(\"16\",#REF!)),\"1\",\"0\")","v":"0"},{"$f":"IF(ISNUMBER(SEARCH(\"17\",#REF!)),\"1\",\"0\")","v":"0"},null,2,null,null,24,16,26,66,7,null,0,8,8,16,null,10,5,null,{"$f":"#REF!-#REF!","v":{"$error":"#REF!"}},{"$f":"#REF!-#REF!","v":{"$error":"#REF!"}}]
[2,22,4,"1KAR",2,32,1987,1,3,1,null,1,2,3,"0","0","1","0","0","0","0","0","0","0","0","0","0","0","0","0","0","0",null,null,3,5,2,{"$f":"IF(ISNUMBER(SEARCH(\"1\",#REF!)),\"1\",\"0\")","v":"0"},{"$f":"IF(ISNUMBER(SEARCH(\"2\",#REF!)),\"1\",\"0\")","v":"0"},{"$f":"IF(ISNUMBER(SEARCH(\"3\",#REF!)),\"1\",\"0\")","v":"0"},{"$f":"IF(ISNUMBER(SEARCH(\"4\",#REF!)),\"1\",\"0\")","v":"0"},{"$f":"IF(ISNUMBER(SEARCH(\"5\",#REF!)),\"1\",\"0\")","v":"0"},{"$f":"IF(ISNUMBER(SEARCH(\"6\",#REF!)),\"1\",\"0\")","v":"0"},{"$f":"IF(ISNUMBER(SEARCH(\"7\",#REF!)),\"1\",\"0\")","v":"0"},{"$f":"IF(ISNUMBER(SEARCH(\"8\",#REF!)),\"1\",\"0\")","v":"0"},{"$f":"IF(ISNUMBER(SEARCH(\"9\",#REF!)),\"1\",\"0\")","v":"0"},{"$f":"IF(ISNUMBER(SEARCH(\"9\",#REF!)),\"1\",\"0\")","v":"0"},{"$f":"IF(ISNUMBER(SEARCH(\"10\",#REF!)),\"1\",\"0\")","v":"0"},{"$f":"IF(ISNUMBER(SEARCH(\"11\",#REF!)),\"1\",\"0\")","v":"0"},{"$f":"IF(ISNUMBER(SEARCH(\"12\",#REF!)),\"1\",\"0\")","v":"0"},{"$f":"IF(ISNUMBER(SEARCH(\"13\",#REF!)),\"1\",\"0\")","v":"0"},{"$f":"IF(ISNUMBER(SEARCH(\"14\",#REF!)),\"1\",\"0\")","v":"0"},{"$f":"IF(ISNUMBER(SEARCH(\"15\",#REF!)),\"1\",\"0\")","v":"0"},{"$f":"IF(ISNUMBER(SEARCH(\"16\",#REF!)),\"1\",\"0\")","v":"0"},{"$f":"IF(ISNUMBER(SEARCH(\"17\",#REF!)),\"1\",\"0\")","v":"0"},1,{"$nulls":7},{"$f":"IF(COUNT(#REF!)>0,#REF!, \"\")","v":""}]
[2,22,4,"4KAR",2,27,1992,2,8,2,6,1,7,3,"0","0","1","0","0","0","0","0","0","0","0","0","0","0","0","0","0","0",null,null,3,5,1,{"$f":"IF(ISNUMBER(SEARCH(\"1\",#REF!)),\"1\",\"0\")","v":"0"},{"$f":"IF(ISNUMBER(SEARCH(\"2\",#REF!)),\"1\",\"0\")","v":"0"},{"$f":"IF(ISNUMBER(SEARCH(\"3\",#REF!)),\"1\",\"0\")","v":"0"},{"$f":"IF(ISNUMBER(SEARCH(\"4\",#REF!)),\"1\",\"0\")","v":"0"},{"$f":"IF(ISNUMBER(SEARCH(\"5\",#REF!)),\"1\",\"0\")","v":"0"},{"$f":"IF(ISNUMBER(SEARCH(\"6\",#REF!)),\"1\",\"0\")","v":"0"},{"$f":"IF(ISNUMBER(SEARCH(\"7\",#REF!)),\"1\",\"0\")","v":"0"},{"$f":"IF(ISNUMBER(SEARCH(\"8\",#REF!)),\"1\",\"0\")","v":"0"},{"$f":"IF(ISNUMBER(SEARCH(\"9\",#REF!)),\"1\",\"0\")","v":"0"},{"$f":"IF(ISNUMBER(SEARCH(\"9\",#REF!)),\"1\",\"0\")","v":"0"},{"$f":"IF(ISNUMBER(SEARCH(\"10\",#REF!)),\"1\",\"0\")","v":"0"},{"$f":"IF(ISNUMBER(SEARCH(\"11\",#REF!)),\"1\",\"0\")","v":"0"},{"$f":"IF(ISNUMBER(SEARCH(\"12\",#REF!)),\"1\",\"0\")","v":"0"},{"$f":"IF(ISNUMBER(SEARCH(\"13\",#REF!)),\"1\",\"0\")","v":"0"},{"$f":"IF(ISNUMBER(SEARCH(\"14\",#REF!)),\"1\",\"0\")","v":"0"},{"$f":"IF(ISNUMBER(SEARCH(\"15\",#REF!)),\"1\",\"0\")","v":"0"},{"$f":"IF(ISNUMBER(SEARCH(\"16\",#REF!)),\"1\",\"0\")","v":"0"},{"$f":"IF(ISNUMBER(SEARCH(\"17\",#REF!)),\"1\",\"0\")","v":"0"},2,2,null,null,26,18,16,60,{"$f":"IF(COUNT(#REF!)>0,#REF!, \"\")","v":""},{"$nulls":9},{"$f":"#REF!-#REF!","v":{"$error":"#REF!"}}]
[2,22,12,"NTC",1,30,1989,1,3,1,4,5,7,"9. Kidnapping/  Enlèvement/ Otage (SANS violence sexuelle)","0","0","0","0","0","0","0","0","1","0","0","0","0","0","0","0","0","0",null,null,3,5,2,{"$f":"IF(ISNUMBER(SEARCH(\"1\",#REF!)),\"1\",\"0\")","v":"0"},{"$f":"IF(ISNUMBER(SEARCH(\"2\",#REF!)),\"1\",\"0\")","v":"0"},{"$f":"IF(ISNUMBER(SEARCH(\"3\",#REF!)),\"1\",\"0\")","v":"0"},{"$f":"IF(ISNUMBER(SEARCH(\"4\",#REF!)),\"1\",\"0\")","v":"0"},{"$f":"IF(ISNUMBER(SEARCH(\"5\",#REF!)),\"1\",\"0\")","v":"0"},{"$f":"IF(ISNUMBER(SEARCH(\"6\",#REF!)),\"1\",\"0\")","v":"0"},{"$f":"IF(ISNUMBER(SEARCH(\"7\",#REF!)),\"1\",\"0\")","v":"0"},{"$f":"IF(ISNUMBER(SEARCH(\"8\",#REF!)),\"1\",\"0\")","v":"0"},{"$f":"IF(ISNUMBER(SEARCH(\"9\",#REF!)),\"1\",\"0\")","v":"0"},{"$f":"IF(ISNUMBER(SEARCH(\"9\",#REF!)),\"1\",\"0\")","v":"0"},{"$f":"IF(ISNUMBER(SEARCH(\"10\",#REF!)),\"1\",\"0\")","v":"0"},{"$f":"IF(ISNUMBER(SEARCH(\"11\",#REF!)),\"1\",\"0\")","v":"0"},{"$f":"IF(ISNUMBER(SEARCH(\"12\",#REF!)),\"1\",\"0\")","v":"0"},{"$f":"IF(ISNUMBER(SEARCH(\"13\",#REF!)),\"1\",\"0\")","v":"0"},{"$f":"IF(ISNUMBER(SEARCH(\"14\",#REF!)),\"1\",\"0\")","v":"0"},{"$f":"IF(ISNUMBER(SEARCH(\"15\",#REF!)),\"1\",\"0\")","v":"0"},{"$f":"IF(ISNUMBER(SEARCH(\"16\",#REF!)),\"1\",\"0\")","v":"0"},{"$f":"IF(ISNUMBER(SEARCH(\"17\",#REF!)),\"1\",\"0\")","v":"0"},null,2,null,null,42,30,22,94,3,{"$nulls":6},14,4,null,{"$f":"#REF!-#REF!","v":{"$error":"#REF!"}}]
[2,22,3,1,1,35,1984,2,3,2,4,5,2,2,"0","1","0","0","0","0","0","0","0","0","0","0","0","0","0","0","0","0",null,null,1,5,2,{"$f":"IF(ISNUMBER(SEARCH(\"1\",#REF!)),\"1\",\"0\")","v":"0"},{"$f":"IF(ISNUMBER(SEARCH(\"2\",#REF!)),\"1\",\"0\")","v":"0"},{"$f":"IF(ISNUMBER(SEARCH(\"3\",#REF!)),\"1\",\"0\")","v":"0"},{"$f":"IF(ISNUMBER(SEARCH(\"4\",#REF!)),\"1\",\"0\")","v":"0"},{"$f":"IF(ISNUMBER(SEARCH(\"5\",#REF!)),\"1\",\"0\")","v":"0"},{"$f":"IF(ISNUMBER(SEARCH(\"6\",#REF!)),\"1\",\"0\")","v":"0"},{"$f":"IF(ISNUMBER(SEARCH(\"7\",#REF!)),\"1\",\"0\")","v":"0"},{"$f":"IF(ISNUMBER(SEARCH(\"8\",#REF!)),\"1\",\"0\")","v":"0"},{"$f":"IF(ISNUMBER(SEARCH(\"9\",#REF!)),\"1\",\"0\")","v":"0"},{"$f":"IF(ISNUMBER(SEARCH(\"9\",#REF!)),\"1\",\"0\")","v":"0"},{"$f":"IF(ISNUMBER(SEARCH(\"10\",#REF!)),\"1\",\"0\")","v":"0"},{"$f":"IF(ISNUMBER(SEARCH(\"11\",#REF!)),\"1\",\"0\")","v":"0"},{"$f":"IF(ISNUMBER(SEARCH(\"12\",#REF!)),\"1\",\"0\")","v":"0"},{"$f":"IF(ISNUMBER(SEARCH(\"13\",#REF!)),\"1\",\"0\")","v":"0"},{"$f":"IF(ISNUMBER(SEARCH(\"14\",#REF!)),\"1\",\"0\")","v":"0"},{"$f":"IF(ISNUMBER(SEARCH(\"15\",#REF!)),\"1\",\"0\")","v":"0"},{"$f":"IF(ISNUMBER(SEARCH(\"16\",#REF!)),\"1\",\"0\")","v":"0"},{"$f":"IF(ISNUMBER(SEARCH(\"17\",#REF!)),\"1\",\"0\")","v":"0"},{"$nulls":4},18,14,20,52,{"$f":"IF(COUNT(#REF!)>0,#REF!, \"\")","v":""},{"$nulls":9},{"$f":"#REF!-#REF!","v":{"$error":"#REF!"}}]
[2,22,8,"AU",2,15,2004,3,2,1,null,3,1,3,"0","0","1","0","0","0","0","0","0","0","0","0","0","0","0","0","0","0",null,null,1,3,1,{"$f":"IF(ISNUMBER(SEARCH(\"1\",#REF!)),\"1\",\"0\")","v":"0"},{"$f":"IF(ISNUMBER(SEARCH(\"2\",#REF!)),\"1\",\"0\")","v":"0"},{"$f":"IF(ISNUMBER(SEARCH(\"3\",#REF!)),\"1\",\"0\")","v":"0"},{"$f":"IF(ISNUMBER(SEARCH(\"4\",#REF!)),\"1\",\"0\")","v":"0"},{"$f":"IF(ISNUMBER(SEARCH(\"5\",#REF!)),\"1\",\"0\")","v":"0"},{"$f":"IF(ISNUMBER(SEARCH(\"6\",#REF!)),\"1\",\"0\")","v":"0"},{"$f":"IF(ISNUMBER(SEARCH(\"7\",#REF!)),\"1\",\"0\")","v":"0"},{"$f":"IF(ISNUMBER(SEARCH(\"8\",#REF!)),\"1\",\"0\")","v":"0"},{"$f":"IF(ISNUMBER(SEARCH(\"9\",#REF!)),\"1\",\"0\")","v":"0"},{"$f":"IF(ISNUMBER(SEARCH(\"9\",#REF!)),\"1\",\"0\")","v":"0"},{"$f":"IF(ISNUMBER(SEARCH(\"10\",#REF!)),\"1\",\"0\")","v":"0"},{"$f":"IF(ISNUMBER(SEARCH(\"11\",#REF!)),\"1\",\"0\")","v":"0"},{"$f":"IF(ISNUMBER(SEARCH(\"12\",#REF!)),\"1\",\"0\")","v":"0"},{"$f":"IF(ISNUMBER(SEARCH(\"13\",#REF!)),\"1\",\"0\")","v":"0"},{"$f":"IF(ISNUMBER(SEARCH(\"14\",#REF!)),\"1\",\"0\")","v":"0"},{"$f":"IF(ISNUMBER(SEARCH(\"15\",#REF!)),\"1\",\"0\")","v":"0"},{"$f":"IF(ISNUMBER(SEARCH(\"16\",#REF!)),\"1\",\"0\")","v":"0"},{"$f":"IF(ISNUMBER(SEARCH(\"17\",#REF!)),\"1\",\"0\")","v":"0"},3,1,null,null,22,20,28,70,10]
[2,22,4,"4KAR",2,27,1992,2,8,1,3,5,2,"16. Autre (SVP dans la case suivante) ","1","0","0","0","0","1","0","0","0","0","0","0","0","0","0","1","0","0",null,null,7,null,null,{"$f":"IF(ISNUMBER(SEARCH(\"1\",#REF!)),\"1\",\"0\")","v":"0"},{"$f":"IF(ISNUMBER(SEARCH(\"2\",#REF!)),\"1\",\"0\")","v":"0"},{"$f":"IF(ISNUMBER(SEARCH(\"3\",#REF!)),\"1\",\"0\")","v":"0"},{"$f":"IF(ISNUMBER(SEARCH(\"4\",#REF!)),\"1\",\"0\")","v":"0"},{"$f":"IF(ISNUMBER(SEARCH(\"5\",#REF!)),\"1\",\"0\")","v":"0"},{"$f":"IF(ISNUMBER(SEARCH(\"6\",#REF!)),\"1\",\"0\")","v":"0"},{"$f":"IF(ISNUMBER(SEARCH(\"7\",#REF!)),\"1\",\"0\")","v":"0"},{"$f":"IF(ISNUMBER(SEARCH(\"8\",#REF!)),\"1\",\"0\")","v":"0"},{"$f":"IF(ISNUMBER(SEARCH(\"9\",#REF!)),\"1\",\"0\")","v":"0"},{"$f":"IF(ISNUMBER(SEARCH(\"9\",#REF!)),\"1\",\"0\")","v":"0"},{"$f":"IF(ISNUMBER(SEARCH(\"10\",#REF!)),\"1\",\"0\")","v":"0"},{"$f":"IF(ISNUMBER(SEARCH(\"11\",#REF!)),\"1\",\"0\")","v":"0"},{"$f":"IF(ISNUMBER(SEARCH(\"12\",#REF!)),\"1\",\"0\")","v":"0"},{"$f":"IF(ISNUMBER(SEARCH(\"13\",#REF!)),\"1\",\"0\")","v":"0"},{"$f":"IF(ISNUMBER(SEARCH(\"14\",#REF!)),\"1\",\"0\")","v":"0"},{"$f":"IF(ISNUMBER(SEARCH(\"15\",#REF!)),\"1\",\"0\")","v":"0"},{"$f":"IF(ISNUMBER(SEARCH(\"16\",#REF!)),\"1\",\"0\")","v":"0"},{"$f":"IF(ISNUMBER(SEARCH(\"17\",#REF!)),\"1\",\"0\")","v":"0"},{"$nulls":4},38,16,14,68,6,null,6,6,8,20,null,11,6,null,{"$f":"#REF!-#REF!","v":{"$error":"#REF!"}},{"$f":"#REF!-#REF!","v":{"$error":"#REF!"}}]
[2,22,4,"4KAR",1,35,1984,2,8,1,6,3,2,2,"0","1","0","0","0","0","0","0","0","0","0","0","0","0","0","0","0","0",null,null,3,5,1,{"$f":"IF(ISNUMBER(SEARCH(\"1\",#REF!)),\"1\",\"0\")","v":"0"},{"$f":"IF(ISNUMBER(SEARCH(\"2\",#REF!)),\"1\",\"0\")","v":"0"},{"$f":"IF(ISNUMBER(SEARCH(\"3\",#REF!)),\"1\",\"0\")","v":"0"},{"$f":"IF(ISNUMBER(SEARCH(\"4\",#REF!)),\"1\",\"0\")","v":"0"},{"$f":"IF(ISNUMBER(SEARCH(\"5\",#REF!)),\"1\",\"0\")","v":"0"},{"$f":"IF(ISNUMBER(SEARCH(\"6\",#REF!)),\"1\",\"0\")","v":"0"},{"$f":"IF(ISNUMBER(SEARCH(\"7\",#REF!)),\"1\",\"0\")","v":"0"},{"$f":"IF(ISNUMBER(SEARCH(\"8\",#REF!)),\"1\",\"0\")","v":"0"},{"$f":"IF(ISNUMBER(SEARCH(\"9\",#REF!)),\"1\",\"0\")","v":"0"},{"$f":"IF(ISNUMBER(SEARCH(\"9\",#REF!)),\"1\",\"0\")","v":"0"},{"$f":"IF(ISNUMBER(SEARCH(\"10\",#REF!)),\"1\",\"0\")","v":"0"},{"$f":"IF(ISNUMBER(SEARCH(\"11\",#REF!)),\"1\",\"0\")","v":"0"},{"$f":"IF(ISNUMBER(SEARCH(\"12\",#REF!)),\"1\",\"0\")","v":"0"},{"$f":"IF(ISNUMBER(SEARCH(\"13\",#REF!)),\"1\",\"0\")","v":"0"},{"$f":"IF(ISNUMBER(SEARCH(\"14\",#REF!)),\"1\",\"0\")","v":"0"},{"$f":"IF(ISNUMBER(SEARCH(\"15\",#REF!)),\"1\",\"0\")","v":"0"},{"$f":"IF(ISNUMBER(SEARCH(\"16\",#REF!)),\"1\",\"0\")","v":"0"},{"$f":"IF(ISNUMBER(SEARCH(\"17\",#REF!)),\"1\",\"0\")","v":"0"},{"$nulls":4},24,22,20,66,6,{"$nulls":9},{"$f":"#REF!-#REF!","v":{"$error":"#REF!"}}]
[2,22,4,"1KAR",2,14,2005,3,2,1,null,3,1,3,"0","0","1","0","0","0","0","0","0","0","0","0","0","0","0","0","0","0",null,null,3,4,1,{"$f":"IF(ISNUMBER(SEARCH(\"1\",#REF!)),\"1\",\"0\")","v":"0"},{"$f":"IF(ISNUMBER(SEARCH(\"2\",#REF!)),\"1\",\"0\")","v":"0"},{"$f":"IF(ISNUMBER(SEARCH(\"3\",#REF!)),\"1\",\"0\")","v":"0"},{"$f":"IF(ISNUMBER(SEARCH(\"4\",#REF!)),\"1\",\"0\")","v":"0"},{"$f":"IF(ISNUMBER(SEARCH(\"5\",#REF!)),\"1\",\"0\")","v":"0"},{"$f":"IF(ISNUMBER(SEARCH(\"6\",#REF!)),\"1\",\"0\")","v":"0"},{"$f":"IF(ISNUMBER(SEARCH(\"7\",#REF!)),\"1\",\"0\")","v":"0"},{"$f":"IF(ISNUMBER(SEARCH(\"8\",#REF!)),\"1\",\"0\")","v":"0"},{"$f":"IF(ISNUMBER(SEARCH(\"9\",#REF!)),\"1\",\"0\")","v":"0"},{"$f":"IF(ISNUMBER(SEARCH(\"9\",#REF!)),\"1\",\"0\")","v":"0"},{"$f":"IF(ISNUMBER(SEARCH(\"10\",#REF!)),\"1\",\"0\")","v":"0"},{"$f":"IF(ISNUMBER(SEARCH(\"11\",#REF!)),\"1\",\"0\")","v":"0"},{"$f":"IF(ISNUMBER(SEARCH(\"12\",#REF!)),\"1\",\"0\")","v":"0"},{"$f":"IF(ISNUMBER(SEARCH(\"13\",#REF!)),\"1\",\"0\")","v":"0"},{"$f":"IF(ISNUMBER(SEARCH(\"14\",#REF!)),\"1\",\"0\")","v":"0"},{"$f":"IF(ISNUMBER(SEARCH(\"15\",#REF!)),\"1\",\"0\")","v":"0"},{"$f":"IF(ISNUMBER(SEARCH(\"16\",#REF!)),\"1\",\"0\")","v":"0"},{"$f":"IF(ISNUMBER(SEARCH(\"17\",#REF!)),\"1\",\"0\")","v":"0"},5,{"$nulls":7},{"$f":"IF(COUNT(#REF!)>0,#REF!, \"\")","v":""},{"$nulls":7},1]
[2,22,9,"LL",2,42,1977,2,7,1,6,1,2,3,"0","0","1","0","0","0","0","0","0","0","0","0","0","0","0","0","0","0",null,null,1,5,2,{"$f":"IF(ISNUMBER(SEARCH(\"1\",#REF!)),\"1\",\"0\")","v":"0"},{"$f":"IF(ISNUMBER(SEARCH(\"2\",#REF!)),\"1\",\"0\")","v":"0"},{"$f":"IF(ISNUMBER(SEARCH(\"3\",#REF!)),\"1\",\"0\")","v":"0"},{"$f":"IF(ISNUMBER(SEARCH(\"4\",#REF!)),\"1\",\"0\")","v":"0"},{"$f":"IF(ISNUMBER(SEARCH(\"5\",#REF!)),\"1\",\"0\")","v":"0"},{"$f":"IF(ISNUMBER(SEARCH(\"6\",#REF!)),\"1\",\"0\")","v":"0"},{"$f":"IF(ISNUMBER(SEARCH(\"7\",#REF!)),\"1\",\"0\")","v":"0"},{"$f":"IF(ISNUMBER(SEARCH(\"8\",#REF!)),\"1\",\"0\")","v":"0"},{"$f":"IF(ISNUMBER(SEARCH(\"9\",#REF!)),\"1\",\"0\")","v":"0"},{"$f":"IF(ISNUMBER(SEARCH(\"9\",#REF!)),\"1\",\"0\")","v":"0"},{"$f":"IF(ISNUMBER(SEARCH(\"10\",#REF!)),\"1\",\"0\")","v":"0"},{"$f":"IF(ISNUMBER(SEARCH(\"11\",#REF!)),\"1\",\"0\")","v":"0"},{"$f":"IF(ISNUMBER(SEARCH(\"12\",#REF!)),\"1\",\"0\")","v":"0"},{"$f":"IF(ISNUMBER(SEARCH(\"13\",#REF!)),\"1\",\"0\")","v":"0"},{"$f":"IF(ISNUMBER(SEARCH(\"14\",#REF!)),\"1\",\"0\")","v":"0"},{"$f":"IF(ISNUMBER(SEARCH(\"15\",#REF!)),\"1\",\"0\")","v":"0"},{"$f":"IF(ISNUMBER(SEARCH(\"16\",#REF!)),\"1\",\"0\")","v":"0"},{"$f":"IF(ISNUMBER(SEARCH(\"17\",#REF!)),\"1\",\"0\")","v":"0"},4,{"$nulls":3},28,24,22,74,5,{"$nulls":9},{"$f":"#REF!-#REF!","v":{"$error":"#REF!"}}]
[2,22,9,"NT",2,16,2003,3,2,1,null,3,1,3,"0","0","1","0","0","0","0","0","0","0","0","0","0","0","0","0","0","0",null,null,3,5,2,{"$f":"IF(ISNUMBER(SEARCH(\"1\",#REF!)),\"1\",\"0\")","v":"0"},{"$f":"IF(ISNUMBER(SEARCH(\"2\",#REF!)),\"1\",\"0\")","v":"0"},{"$f":"IF(ISNUMBER(SEARCH(\"3\",#REF!)),\"1\",\"0\")","v":"0"},{"$f":"IF(ISNUMBER(SEARCH(\"4\",#REF!)),\"1\",\"0\")","v":"0"},{"$f":"IF(ISNUMBER(SEARCH(\"5\",#REF!)),\"1\",\"0\")","v":"0"},{"$f":"IF(ISNUMBER(SEARCH(\"6\",#REF!)),\"1\",\"0\")","v":"0"},{"$f":"IF(ISNUMBER(SEARCH(\"7\",#REF!)),\"1\",\"0\")","v":"0"},{"$f":"IF(ISNUMBER(SEARCH(\"8\",#REF!)),\"1\",\"0\")","v":"0"},{"$f":"IF(ISNUMBER(SEARCH(\"9\",#REF!)),\"1\",\"0\")","v":"0"},{"$f":"IF(ISNUMBER(SEARCH(\"9\",#REF!)),\"1\",\"0\")","v":"0"},{"$f":"IF(ISNUMBER(SEARCH(\"10\",#REF!)),\"1\",\"0\")","v":"0"},{"$f":"IF(ISNUMBER(SEARCH(\"11\",#REF!)),\"1\",\"0\")","v":"0"},{"$f":"IF(ISNUMBER(SEARCH(\"12\",#REF!)),\"1\",\"0\")","v":"0"},{"$f":"IF(ISNUMBER(SEARCH(\"13\",#REF!)),\"1\",\"0\")","v":"0"},{"$f":"IF(ISNUMBER(SEARCH(\"14\",#REF!)),\"1\",\"0\")","v":"0"},{"$f":"IF(ISNUMBER(SEARCH(\"15\",#REF!)),\"1\",\"0\")","v":"0"},{"$f":"IF(ISNUMBER(SEARCH(\"16\",#REF!)),\"1\",\"0\")","v":"0"},{"$f":"IF(ISNUMBER(SEARCH(\"17\",#REF!)),\"1\",\"0\")","v":"0"},4,3,null,null,20,16,14,50,10,{"$nulls":9},{"$f":"#REF!-#REF!","v":{"$error":"#REF!"}}]
[2,22,9,"FM",2,25,1994,3,1,1,2,5,1,3,"0","0","1","0","0","0","0","0","0","0","0","0","0","0","0","0","0","0",null,null,3,5,2,{"$f":"IF(ISNUMBER(SEARCH(\"1\",#REF!)),\"1\",\"0\")","v":"0"},{"$f":"IF(ISNUMBER(SEARCH(\"2\",#REF!)),\"1\",\"0\")","v":"0"},{"$f":"IF(ISNUMBER(SEARCH(\"3\",#REF!)),\"1\",\"0\")","v":"0"},{"$f":"IF(ISNUMBER(SEARCH(\"4\",#REF!)),\"1\",\"0\")","v":"0"},{"$f":"IF(ISNUMBER(SEARCH(\"5\",#REF!)),\"1\",\"0\")","v":"0"},{"$f":"IF(ISNUMBER(SEARCH(\"6\",#REF!)),\"1\",\"0\")","v":"0"},{"$f":"IF(ISNUMBER(SEARCH(\"7\",#REF!)),\"1\",\"0\")","v":"0"},{"$f":"IF(ISNUMBER(SEARCH(\"8\",#REF!)),\"1\",\"0\")","v":"0"},{"$f":"IF(ISNUMBER(SEARCH(\"9\",#REF!)),\"1\",\"0\")","v":"0"},{"$f":"IF(ISNUMBER(SEARCH(\"9\",#REF!)),\"1\",\"0\")","v":"0"},{"$f":"IF(ISNUMBER(SEARCH(\"10\",#REF!)),\"1\",\"0\")","v":"0"},{"$f":"IF(ISNUMBER(SEARCH(\"11\",#REF!)),\"1\",\"0\")","v":"0"},{"$f":"IF(ISNUMBER(SEARCH(\"12\",#REF!)),\"1\",\"0\")","v":"0"},{"$f":"IF(ISNUMBER(SEARCH(\"13\",#REF!)),\"1\",\"0\")","v":"0"},{"$f":"IF(ISNUMBER(SEARCH(\"14\",#REF!)),\"1\",\"0\")","v":"0"},{"$f":"IF(ISNUMBER(SEARCH(\"15\",#REF!)),\"1\",\"0\")","v":"0"},{"$f":"IF(ISNUMBER(SEARCH(\"16\",#REF!)),\"1\",\"0\")","v":"0"},{"$f":"IF(ISNUMBER(SEARCH(\"17\",#REF!)),\"1\",\"0\")","v":"0"},3,1,null,null,28,22,20,70,9,null,6,10,10,26,null,11,5,null,{"$f":"#REF!-#REF!","v":{"$error":"#REF!"}},{"$f":"#REF!-#REF!","v":{"$error":"#REF!"}}]
[2,22,12,"NTC",1,25,1994,2,8,2,4,5,7,"9. Kidnapping/  Enlèvement/ Otage (SANS violence sexuelle)","0","0","0","0","0","0","0","0","1","0","0","0","0","0","0","0","0","0",null,null,3,5,2,{"$f":"IF(ISNUMBER(SEARCH(\"1\",#REF!)),\"1\",\"0\")","v":"0"},{"$f":"IF(ISNUMBER(SEARCH(\"2\",#REF!)),\"1\",\"0\")","v":"0"},{"$f":"IF(ISNUMBER(SEARCH(\"3\",#REF!)),\"1\",\"0\")","v":"0"},{"$f":"IF(ISNUMBER(SEARCH(\"4\",#REF!)),\"1\",\"0\")","v":"0"},{"$f":"IF(ISNUMBER(SEARCH(\"5\",#REF!)),\"1\",\"0\")","v":"0"},{"$f":"IF(ISNUMBER(SEARCH(\"6\",#REF!)),\"1\",\"0\")","v":"0"},{"$f":"IF(ISNUMBER(SEARCH(\"7\",#REF!)),\"1\",\"0\")","v":"0"},{"$f":"IF(ISNUMBER(SEARCH(\"8\",#REF!)),\"1\",\"0\")","v":"0"},{"$f":"IF(ISNUMBER(SEARCH(\"9\",#REF!)),\"1\",\"0\")","v":"0"},{"$f":"IF(ISNUMBER(SEARCH(\"9\",#REF!)),\"1\",\"0\")","v":"0"},{"$f":"IF(ISNUMBER(SEARCH(\"10\",#REF!)),\"1\",\"0\")","v":"0"},{"$f":"IF(ISNUMBER(SEARCH(\"11\",#REF!)),\"1\",\"0\")","v":"0"},{"$f":"IF(ISNUMBER(SEARCH(\"12\",#REF!)),\"1\",\"0\")","v":"0"},{"$f":"IF(ISNUMBER(SEARCH(\"13\",#REF!)),\"1\",\"0\")","v":"0"},{"$f":"IF(ISNUMBER(SEARCH(\"14\",#REF!)),\"1\",\"0\")","v":"0"},{"$f":"IF(ISNUMBER(SEARCH(\"15\",#REF!)),\"1\",\"0\")","v":"0"},{"$f":"IF(ISNUMBER(SEARCH(\"16\",#REF!)),\"1\",\"0\")","v":"0"},{"$f":"IF(ISNUMBER(SEARCH(\"17\",#REF!)),\"1\",\"0\")","v":"0"},{"$nulls":4},20,20,26,66,5,null,2,2,0,4,null,6,3,null,{"$f":"#REF!-#REF!","v":{"$error":"#REF!"}},{"$f":"#REF!-#REF!","v":{"$error":"#REF!"}}]
[2,22,10,"IB",2,48,1971,1,8,1,9,4,6,1,"1","0","0","0","0","0","0","0","0","0","0","0","0","0","0","0","0","0",null,null,1,null,2,{"$f":"IF(ISNUMBER(SEARCH(\"1\",#REF!)),\"1\",\"0\")","v":"0"},{"$f":"IF(ISNUMBER(SEARCH(\"2\",#REF!)),\"1\",\"0\")","v":"0"},{"$f":"IF(ISNUMBER(SEARCH(\"3\",#REF!)),\"1\",\"0\")","v":"0"},{"$f":"IF(ISNUMBER(SEARCH(\"4\",#REF!)),\"1\",\"0\")","v":"0"},{"$f":"IF(ISNUMBER(SEARCH(\"5\",#REF!)),\"1\",\"0\")","v":"0"},{"$f":"IF(ISNUMBER(SEARCH(\"6\",#REF!)),\"1\",\"0\")","v":"0"},{"$f":"IF(ISNUMBER(SEARCH(\"7\",#REF!)),\"1\",\"0\")","v":"0"},{"$f":"IF(ISNUMBER(SEARCH(\"8\",#REF!)),\"1\",\"0\")","v":"0"},{"$f":"IF(ISNUMBER(SEARCH(\"9\",#REF!)),\"1\",\"0\")","v":"0"},{"$f":"IF(ISNUMBER(SEARCH(\"9\",#REF!)),\"1\",\"0\")","v":"0"},{"$f":"IF(ISNUMBER(SEARCH(\"10\",#REF!)),\"1\",\"0\")","v":"0"},{"$f":"IF(ISNUMBER(SEARCH(\"11\",#REF!)),\"1\",\"0\")","v":"0"},{"$f":"IF(ISNUMBER(SEARCH(\"12\",#REF!)),\"1\",\"0\")","v":"0"},{"$f":"IF(ISNUMBER(SEARCH(\"13\",#REF!)),\"1\",\"0\")","v":"0"},{"$f":"IF(ISNUMBER(SEARCH(\"14\",#REF!)),\"1\",\"0\")","v":"0"},{"$f":"IF(ISNUMBER(SEARCH(\"15\",#REF!)),\"1\",\"0\")","v":"0"},{"$f":"IF(ISNUMBER(SEARCH(\"16\",#REF!)),\"1\",\"0\")","v":"0"},{"$f":"IF(ISNUMBER(SEARCH(\"17\",#REF!)),\"1\",\"0\")","v":"0"},{"$nulls":4},8,10,12,30,9,null,4,4,8,16,null,10,4,null,null,{"$f":"#REF!-#REF!","v":{"$error":"#REF!"}}]
[2,22,11,"ZR",2,22,1997,3,3,1,1,11,2,3,"0","0","1","0","0","0","0","0","0","0","0","0","0","0","0","0","0","0",null,null,2,4,1,{"$f":"IF(ISNUMBER(SEARCH(\"1\",#REF!)),\"1\",\"0\")","v":"0"},{"$f":"IF(ISNUMBER(SEARCH(\"2\",#REF!)),\"1\",\"0\")","v":"0"},{"$f":"IF(ISNUMBER(SEARCH(\"3\",#REF!)),\"1\",\"0\")","v":"0"},{"$f":"IF(ISNUMBER(SEARCH(\"4\",#REF!)),\"1\",\"0\")","v":"0"},{"$f":"IF(ISNUMBER(SEARCH(\"5\",#REF!)),\"1\",\"0\")","v":"0"},{"$f":"IF(ISNUMBER(SEARCH(\"6\",#REF!)),\"1\",\"0\")","v":"0"},{"$f":"IF(ISNUMBER(SEARCH(\"7\",#REF!)),\"1\",\"0\")","v":"0"},{"$f":"IF(ISNUMBER(SEARCH(\"8\",#REF!)),\"1\",\"0\")","v":"0"},{"$f":"IF(ISNUMBER(SEARCH(\"9\",#REF!)),\"1\",\"0\")","v":"0"},{"$f":"IF(ISNUMBER(SEARCH(\"9\",#REF!)),\"1\",\"0\")","v":"0"},{"$f":"IF(ISNUMBER(SEARCH(\"10\",#REF!)),\"1\",\"0\")","v":"0"},{"$f":"IF(ISNUMBER(SEARCH(\"11\",#REF!)),\"1\",\"0\")","v":"0"},{"$f":"IF(ISNUMBER(SEARCH(\"12\",#REF!)),\"1\",\"0\")","v":"0"},{"$f":"IF(ISNUMBER(SEARCH(\"13\",#REF!)),\"1\",\"0\")","v":"0"},{"$f":"IF(ISNUMBER(SEARCH(\"14\",#REF!)),\"1\",\"0\")","v":"0"},{"$f":"IF(ISNUMBER(SEARCH(\"15\",#REF!)),\"1\",\"0\")","v":"0"},{"$f":"IF(ISNUMBER(SEARCH(\"16\",#REF!)),\"1\",\"0\")","v":"0"},{"$f":"IF(ISNUMBER(SEARCH(\"17\",#REF!)),\"1\",\"0\")","v":"0"},5,{"$nulls":7},8,{"$nulls":6},9,5]
[2,22,2,"F2",2,35,1984,2,3,1,null,5,2,3,"0","0","1","0","0","0","0","0","0","0","0","0","0","0","0","0","0","0",null,null,2,5,2,{"$f":"IF(ISNUMBER(SEARCH(\"1\",#REF!)),\"1\",\"0\")","v":"0"},{"$f":"IF(ISNUMBER(SEARCH(\"2\",#REF!)),\"1\",\"0\")","v":"0"},{"$f":"IF(ISNUMBER(SEARCH(\"3\",#REF!)),\"1\",\"0\")","v":"0"},{"$f":"IF(ISNUMBER(SEARCH(\"4\",#REF!)),\"1\",\"0\")","v":"0"},{"$f":"IF(ISNUMBER(SEARCH(\"5\",#REF!)),\"1\",\"0\")","v":"0"},{"$f":"IF(ISNUMBER(SEARCH(\"6\",#REF!)),\"1\",\"0\")","v":"0"},{"$f":"IF(ISNUMBER(SEARCH(\"7\",#REF!)),\"1\",\"0\")","v":"0"},{"$f":"IF(ISNUMBER(SEARCH(\"8\",#REF!)),\"1\",\"0\")","v":"0"},{"$f":"IF(ISNUMBER(SEARCH(\"9\",#REF!)),\"1\",\"0\")","v":"0"},{"$f":"IF(ISNUMBER(SEARCH(\"9\",#REF!)),\"1\",\"0\")","v":"0"},{"$f":"IF(ISNUMBER(SEARCH(\"10\",#REF!)),\"1\",\"0\")","v":"0"},{"$f":"IF(ISNUMBER(SEARCH(\"11\",#REF!)),\"1\",\"0\")","v":"0"},{"$f":"IF(ISNUMBER(SEARCH(\"12\",#REF!)),\"1\",\"0\")","v":"0"},{"$f":"IF(ISNUMBER(SEARCH(\"13\",#REF!)),\"1\",\"0\")","v":"0"},{"$f":"IF(ISNUMBER(SEARCH(\"14\",#REF!)),\"1\",\"0\")","v":"0"},{"$f":"IF(ISNUMBER(SEARCH(\"15\",#REF!)),\"1\",\"0\")","v":"0"},{"$f":"IF(ISNUMBER(SEARCH(\"16\",#REF!)),\"1\",\"0\")","v":"0"},{"$f":"IF(ISNUMBER(SEARCH(\"17\",#REF!)),\"1\",\"0\")","v":"0"},2,1,null,null,14,10,18,42,4,null,4,6,8,18,null,null,3,null,null,{"$f":"#REF!-#REF!","v":{"$error":"#REF!"}}]
[2,22,13,"S3",2,30,1989,1,3,1,4,5,2,3,"0","0","1","0","0","0","0","0","0","0","0","0","0","0","0","0","0","0",null,null,7,5,2,{"$f":"IF(ISNUMBER(SEARCH(\"1\",#REF!)),\"1\",\"0\")","v":"0"},{"$f":"IF(ISNUMBER(SEARCH(\"2\",#REF!)),\"1\",\"0\")","v":"0"},{"$f":"IF(ISNUMBER(SEARCH(\"3\",#REF!)),\"1\",\"0\")","v":"0"},{"$f":"IF(ISNUMBER(SEARCH(\"4\",#REF!)),\"1\",\"0\")","v":"0"},{"$f":"IF(ISNUMBER(SEARCH(\"5\",#REF!)),\"1\",\"0\")","v":"0"},{"$f":"IF(ISNUMBER(SEARCH(\"6\",#REF!)),\"1\",\"0\")","v":"0"},{"$f":"IF(ISNUMBER(SEARCH(\"7\",#REF!)),\"1\",\"0\")","v":"0"},{"$f":"IF(ISNUMBER(SEARCH(\"8\",#REF!)),\"1\",\"0\")","v":"0"},{"$f":"IF(ISNUMBER(SEARCH(\"9\",#REF!)),\"1\",\"0\")","v":"0"},{"$f":"IF(ISNUMBER(SEARCH(\"9\",#REF!)),\"1\",\"0\")","v":"0"},{"$f":"IF(ISNUMBER(SEARCH(\"10\",#REF!)),\"1\",\"0\")","v":"0"},{"$f":"IF(ISNUMBER(SEARCH(\"11\",#REF!)),\"1\",\"0\")","v":"0"},{"$f":"IF(ISNUMBER(SEARCH(\"12\",#REF!)),\"1\",\"0\")","v":"0"},{"$f":"IF(ISNUMBER(SEARCH(\"13\",#REF!)),\"1\",\"0\")","v":"0"},{"$f":"IF(ISNUMBER(SEARCH(\"14\",#REF!)),\"1\",\"0\")","v":"0"},{"$f":"IF(ISNUMBER(SEARCH(\"15\",#REF!)),\"1\",\"0\")","v":"0"},{"$f":"IF(ISNUMBER(SEARCH(\"16\",#REF!)),\"1\",\"0\")","v":"0"},{"$f":"IF(ISNUMBER(SEARCH(\"17\",#REF!)),\"1\",\"0\")","v":"0"},1,{"$nulls":3},16,22,10,48,{"$f":"IF(COUNT(#REF!)>0,#REF!, \"\")","v":""},{"$nulls":7},4]
[2,22,6,"MAT",2,36,1983,3,8,1,4,1,2,3,"0","0","1","0","0","0","0","0","0","0","0","0","0","0","0","0","0","0",null,null,3,5,2,{"$f":"IF(ISNUMBER(SEARCH(\"1\",#REF!)),\"1\",\"0\")","v":"0"},{"$f":"IF(ISNUMBER(SEARCH(\"2\",#REF!)),\"1\",\"0\")","v":"0"},{"$f":"IF(ISNUMBER(SEARCH(\"3\",#REF!)),\"1\",\"0\")","v":"0"},{"$f":"IF(ISNUMBER(SEARCH(\"4\",#REF!)),\"1\",\"0\")","v":"0"},{"$f":"IF(ISNUMBER(SEARCH(\"5\",#REF!)),\"1\",\"0\")","v":"0"},{"$f":"IF(ISNUMBER(SEARCH(\"6\",#REF!)),\"1\",\"0\")","v":"0"},{"$f":"IF(ISNUMBER(SEARCH(\"7\",#REF!)),\"1\",\"0\")","v":"0"},{"$f":"IF(ISNUMBER(SEARCH(\"8\",#REF!)),\"1\",\"0\")","v":"0"},{"$f":"IF(ISNUMBER(SEARCH(\"9\",#REF!)),\"1\",\"0\")","v":"0"},{"$f":"IF(ISNUMBER(SEARCH(\"9\",#REF!)),\"1\",\"0\")","v":"0"},{"$f":"IF(ISNUMBER(SEARCH(\"10\",#REF!)),\"1\",\"0\")","v":"0"},{"$f":"IF(ISNUMBER(SEARCH(\"11\",#REF!)),\"1\",\"0\")","v":"0"},{"$f":"IF(ISNUMBER(SEARCH(\"12\",#REF!)),\"1\",\"0\")","v":"0"},{"$f":"IF(ISNUMBER(SEARCH(\"13\",#REF!)),\"1\",\"0\")","v":"0"},{"$f":"IF(ISNUMBER(SEARCH(\"14\",#REF!)),\"1\",\"0\")","v":"0"},{"$f":"IF(ISNUMBER(SEARCH(\"15\",#REF!)),\"1\",\"0\")","v":"0"},{"$f":"IF(ISNUMBER(SEARCH(\"16\",#REF!)),\"1\",\"0\")","v":"0"},{"$f":"IF(ISNUMBER(SEARCH(\"17\",#REF!)),\"1\",\"0\")","v":"0"},1,{"$nulls":3},28,32,22,82,5,{"$nulls":9},{"$f":"#REF!-#REF!","v":{"$error":"#REF!"}}]
[2,22,6,"MAT",2,32,1987,3,3,1,6,1,2,3,"0","0","1","0","0","0","0","0","0","0","0","0","0","0","0","0","0","0",null,null,1,5,2,{"$f":"IF(ISNUMBER(SEARCH(\"1\",#REF!)),\"1\",\"0\")","v":"0"},{"$f":"IF(ISNUMBER(SEARCH(\"2\",#REF!)),\"1\",\"0\")","v":"0"},{"$f":"IF(ISNUMBER(SEARCH(\"3\",#REF!)),\"1\",\"0\")","v":"0"},{"$f":"IF(ISNUMBER(SEARCH(\"4\",#REF!)),\"1\",\"0\")","v":"0"},{"$f":"IF(ISNUMBER(SEARCH(\"5\",#REF!)),\"1\",\"0\")","v":"0"},{"$f":"IF(ISNUMBER(SEARCH(\"6\",#REF!)),\"1\",\"0\")","v":"0"},{"$f":"IF(ISNUMBER(SEARCH(\"7\",#REF!)),\"1\",\"0\")","v":"0"},{"$f":"IF(ISNUMBER(SEARCH(\"8\",#REF!)),\"1\",\"0\")","v":"0"},{"$f":"IF(ISNUMBER(SEARCH(\"9\",#REF!)),\"1\",\"0\")","v":"0"},{"$f":"IF(ISNUMBER(SEARCH(\"9\",#REF!)),\"1\",\"0\")","v":"0"},{"$f":"IF(ISNUMBER(SEARCH(\"10\",#REF!)),\"1\",\"0\")","v":"0"},{"$f":"IF(ISNUMBER(SEARCH(\"11\",#REF!)),\"1\",\"0\")","v":"0"},{"$f":"IF(ISNUMBER(SEARCH(\"12\",#REF!)),\"1\",\"0\")","v":"0"},{"$f":"IF(ISNUMBER(SEARCH(\"13\",#REF!)),\"1\",\"0\")","v":"0"},{"$f":"IF(ISNUMBER(SEARCH(\"14\",#REF!)),\"1\",\"0\")","v":"0"},{"$f":"IF(ISNUMBER(SEARCH(\"15\",#REF!)),\"1\",\"0\")","v":"0"},{"$f":"IF(ISNUMBER(SEARCH(\"16\",#REF!)),\"1\",\"0\")","v":"0"},{"$f":"IF(ISNUMBER(SEARCH(\"17\",#REF!)),\"1\",\"0\")","v":"0"},2,{"$nulls":3},20,24,18,62,{"$f":"IF(COUNT(#REF!)>0,#REF!, \"\")","v":""},{"$nulls":9},{"$f":"#REF!-#REF!","v":{"$error":"#REF!"}}]
[2,22,6,"MAT",2,27,1992,2,3,1,3,1,2,3,"0","0","1","0","0","0","0","0","0","0","0","0","0","0","0","0","0","0",null,null,1,5,2,{"$f":"IF(ISNUMBER(SEARCH(\"1\",#REF!)),\"1\",\"0\")","v":"0"},{"$f":"IF(ISNUMBER(SEARCH(\"2\",#REF!)),\"1\",\"0\")","v":"0"},{"$f":"IF(ISNUMBER(SEARCH(\"3\",#REF!)),\"1\",\"0\")","v":"0"},{"$f":"IF(ISNUMBER(SEARCH(\"4\",#REF!)),\"1\",\"0\")","v":"0"},{"$f":"IF(ISNUMBER(SEARCH(\"5\",#REF!)),\"1\",\"0\")","v":"0"},{"$f":"IF(ISNUMBER(SEARCH(\"6\",#REF!)),\"1\",\"0\")","v":"0"},{"$f":"IF(ISNUMBER(SEARCH(\"7\",#REF!)),\"1\",\"0\")","v":"0"},{"$f":"IF(ISNUMBER(SEARCH(\"8\",#REF!)),\"1\",\"0\")","v":"0"},{"$f":"IF(ISNUMBER(SEARCH(\"9\",#REF!)),\"1\",\"0\")","v":"0"},{"$f":"IF(ISNUMBER(SEARCH(\"9\",#REF!)),\"1\",\"0\")","v":"0"},{"$f":"IF(ISNUMBER(SEARCH(\"10\",#REF!)),\"1\",\"0\")","v":"0"},{"$f":"IF(ISNUMBER(SEARCH(\"11\",#REF!)),\"1\",\"0\")","v":"0"},{"$f":"IF(ISNUMBER(SEARCH(\"12\",#REF!)),\"1\",\"0\")","v":"0"},{"$f":"IF(ISNUMBER(SEARCH(\"13\",#REF!)),\"1\",\"0\")","v":"0"},{"$f":"IF(ISNUMBER(SEARCH(\"14\",#REF!)),\"1\",\"0\")","v":"0"},{"$f":"IF(ISNUMBER(SEARCH(\"15\",#REF!)),\"1\",\"0\")","v":"0"},{"$f":"IF(ISNUMBER(SEARCH(\"16\",#REF!)),\"1\",\"0\")","v":"0"},{"$f":"IF(ISNUMBER(SEARCH(\"17\",#REF!)),\"1\",\"0\")","v":"0"},2,{"$nulls":3},28,30,20,78,3,{"$nulls":9},{"$f":"#REF!-#REF!","v":{"$error":"#REF!"}}]
[2,22,6,"MAT",2,35,1984,2,1,1,5,1,2,3,"0","0","1","0","0","0","0","0","0","0","0","0","0","0","0","0","0","0",null,null,1,4,1,{"$f":"IF(ISNUMBER(SEARCH(\"1\",#REF!)),\"1\",\"0\")","v":"0"},{"$f":"IF(ISNUMBER(SEARCH(\"2\",#REF!)),\"1\",\"0\")","v":"0"},{"$f":"IF(ISNUMBER(SEARCH(\"3\",#REF!)),\"1\",\"0\")","v":"0"},{"$f":"IF(ISNUMBER(SEARCH(\"4\",#REF!)),\"1\",\"0\")","v":"0"},{"$f":"IF(ISNUMBER(SEARCH(\"5\",#REF!)),\"1\",\"0\")","v":"0"},{"$f":"IF(ISNUMBER(SEARCH(\"6\",#REF!)),\"1\",\"0\")","v":"0"},{"$f":"IF(ISNUMBER(SEARCH(\"7\",#REF!)),\"1\",\"0\")","v":"0"},{"$f":"IF(ISNUMBER(SEARCH(\"8\",#REF!)),\"1\",\"0\")","v":"0"},{"$f":"IF(ISNUMBER(SEARCH(\"9\",#REF!)),\"1\",\"0\")","v":"0"},{"$f":"IF(ISNUMBER(SEARCH(\"9\",#REF!)),\"1\",\"0\")","v":"0"},{"$f":"IF(ISNUMBER(SEARCH(\"10\",#REF!)),\"1\",\"0\")","v":"0"},{"$f":"IF(ISNUMBER(SEARCH(\"11\",#REF!)),\"1\",\"0\")","v":"0"},{"$f":"IF(ISNUMBER(SEARCH(\"12\",#REF!)),\"1\",\"0\")","v":"0"},{"$f":"IF(ISNUMBER(SEARCH(\"13\",#REF!)),\"1\",\"0\")","v":"0"},{"$f":"IF(ISNUMBER(SEARCH(\"14\",#REF!)),\"1\",\"0\")","v":"0"},{"$f":"IF(ISNUMBER(SEARCH(\"15\",#REF!)),\"1\",\"0\")","v":"0"},{"$f":"IF(ISNUMBER(SEARCH(\"16\",#REF!)),\"1\",\"0\")","v":"0"},{"$f":"IF(ISNUMBER(SEARCH(\"17\",#REF!)),\"1\",\"0\")","v":"0"},1,{"$nulls":3},28,20,30,78,4,{"$nulls":9},{"$f":"#REF!-#REF!","v":{"$error":"#REF!"}}]
[2,22,10,"NA",2,27,1992,2,3,1,6,3,4,1,"1","0","0","0","0","0","0","0","0","0","0","0","0","0","0","0","0","0",null,null,1,4,2,{"$f":"IF(ISNUMBER(SEARCH(\"1\",#REF!)),\"1\",\"0\")","v":"0"},{"$f":"IF(ISNUMBER(SEARCH(\"2\",#REF!)),\"1\",\"0\")","v":"0"},{"$f":"IF(ISNUMBER(SEARCH(\"3\",#REF!)),\"1\",\"0\")","v":"0"},{"$f":"IF(ISNUMBER(SEARCH(\"4\",#REF!)),\"1\",\"0\")","v":"0"},{"$f":"IF(ISNUMBER(SEARCH(\"5\",#REF!)),\"1\",\"0\")","v":"0"},{"$f":"IF(ISNUMBER(SEARCH(\"6\",#REF!)),\"1\",\"0\")","v":"0"},{"$f":"IF(ISNUMBER(SEARCH(\"7\",#REF!)),\"1\",\"0\")","v":"0"},{"$f":"IF(ISNUMBER(SEARCH(\"8\",#REF!)),\"1\",\"0\")","v":"0"},{"$f":"IF(ISNUMBER(SEARCH(\"9\",#REF!)),\"1\",\"0\")","v":"0"},{"$f":"IF(ISNUMBER(SEARCH(\"9\",#REF!)),\"1\",\"0\")","v":"0"},{"$f":"IF(ISNUMBER(SEARCH(\"10\",#REF!)),\"1\",\"0\")","v":"0"},{"$f":"IF(ISNUMBER(SEARCH(\"11\",#REF!)),\"1\",\"0\")","v":"0"},{"$f":"IF(ISNUMBER(SEARCH(\"12\",#REF!)),\"1\",\"0\")","v":"0"},{"$f":"IF(ISNUMBER(SEARCH(\"13\",#REF!)),\"1\",\"0\")","v":"0"},{"$f":"IF(ISNUMBER(SEARCH(\"14\",#REF!)),\"1\",\"0\")","v":"0"},{"$f":"IF(ISNUMBER(SEARCH(\"15\",#REF!)),\"1\",\"0\")","v":"0"},{"$f":"IF(ISNUMBER(SEARCH(\"16\",#REF!)),\"1\",\"0\")","v":"0"},{"$f":"IF(ISNUMBER(SEARCH(\"17\",#REF!)),\"1\",\"0\")","v":"0"},{"$nulls":4},24,32,26,82,5,null,2,6,4,12,null,7,4,null,{"$f":"#REF!-#REF!","v":{"$error":"#REF!"}},{"$f":"#REF!-#REF!","v":{"$error":"#REF!"}}]
[2,22,8,"KM",2,20,1999,3,1,1,null,1,1,3,"0","0","1","0","0","0","0","0","0","0","0","0","0","0","0","0","0","0",null,null,7,5,2,{"$f":"IF(ISNUMBER(SEARCH(\"1\",#REF!)),\"1\",\"0\")","v":"0"},{"$f":"IF(ISNUMBER(SEARCH(\"2\",#REF!)),\"1\",\"0\")","v":"0"},{"$f":"IF(ISNUMBER(SEARCH(\"3\",#REF!)),\"1\",\"0\")","v":"0"},{"$f":"IF(ISNUMBER(SEARCH(\"4\",#REF!)),\"1\",\"0\")","v":"0"},{"$f":"IF(ISNUMBER(SEARCH(\"5\",#REF!)),\"1\",\"0\")","v":"0"},{"$f":"IF(ISNUMBER(SEARCH(\"6\",#REF!)),\"1\",\"0\")","v":"0"},{"$f":"IF(ISNUMBER(SEARCH(\"7\",#REF!)),\"1\",\"0\")","v":"0"},{"$f":"IF(ISNUMBER(SEARCH(\"8\",#REF!)),\"1\",\"0\")","v":"0"},{"$f":"IF(ISNUMBER(SEARCH(\"9\",#REF!)),\"1\",\"0\")","v":"0"},{"$f":"IF(ISNUMBER(SEARCH(\"9\",#REF!)),\"1\",\"0\")","v":"0"},{"$f":"IF(ISNUMBER(SEARCH(\"10\",#REF!)),\"1\",\"0\")","v":"0"},{"$f":"IF(ISNUMBER(SEARCH(\"11\",#REF!)),\"1\",\"0\")","v":"0"},{"$f":"IF(ISNUMBER(SEARCH(\"12\",#REF!)),\"1\",\"0\")","v":"0"},{"$f":"IF(ISNUMBER(SEARCH(\"13\",#REF!)),\"1\",\"0\")","v":"0"},{"$f":"IF(ISNUMBER(SEARCH(\"14\",#REF!)),\"1\",\"0\")","v":"0"},{"$f":"IF(ISNUMBER(SEARCH(\"15\",#REF!)),\"1\",\"0\")","v":"0"},{"$f":"IF(ISNUMBER(SEARCH(\"16\",#REF!)),\"1\",\"0\")","v":"0"},{"$f":"IF(ISNUMBER(SEARCH(\"17\",#REF!)),\"1\",\"0\")","v":"0"},1,3,{"$nulls":6},{"$f":"IF(COUNT(#REF!)>0,#REF!, \"\")","v":""}]
[2,22,11,"RB",2,24,1995,1,8,1,2,11,2,3,"0","0","1","0","0","0","0","0","0","0","0","0","0","0","0","0","0","0",null,null,3,5,1,{"$f":"IF(ISNUMBER(SEARCH(\"1\",#REF!)),\"1\",\"0\")","v":"0"},{"$f":"IF(ISNUMBER(SEARCH(\"2\",#REF!)),\"1\",\"0\")","v":"0"},{"$f":"IF(ISNUMBER(SEARCH(\"3\",#REF!)),\"1\",\"0\")","v":"0"},{"$f":"IF(ISNUMBER(SEARCH(\"4\",#REF!)),\"1\",\"0\")","v":"0"},{"$f":"IF(ISNUMBER(SEARCH(\"5\",#REF!)),\"1\",\"0\")","v":"0"},{"$f":"IF(ISNUMBER(SEARCH(\"6\",#REF!)),\"1\",\"0\")","v":"0"},{"$f":"IF(ISNUMBER(SEARCH(\"7\",#REF!)),\"1\",\"0\")","v":"0"},{"$f":"IF(ISNUMBER(SEARCH(\"8\",#REF!)),\"1\",\"0\")","v":"0"},{"$f":"IF(ISNUMBER(SEARCH(\"9\",#REF!)),\"1\",\"0\")","v":"0"},{"$f":"IF(ISNUMBER(SEARCH(\"9\",#REF!)),\"1\",\"0\")","v":"0"},{"$f":"IF(ISNUMBER(SEARCH(\"10\",#REF!)),\"1\",\"0\")","v":"0"},{"$f":"IF(ISNUMBER(SEARCH(\"11\",#REF!)),\"1\",\"0\")","v":"0"},{"$f":"IF(ISNUMBER(SEARCH(\"12\",#REF!)),\"1\",\"0\")","v":"0"},{"$f":"IF(ISNUMBER(SEARCH(\"13\",#REF!)),\"1\",\"0\")","v":"0"},{"$f":"IF(ISNUMBER(SEARCH(\"14\",#REF!)),\"1\",\"0\")","v":"0"},{"$f":"IF(ISNUMBER(SEARCH(\"15\",#REF!)),\"1\",\"0\")","v":"0"},{"$f":"IF(ISNUMBER(SEARCH(\"16\",#REF!)),\"1\",\"0\")","v":"0"},{"$f":"IF(ISNUMBER(SEARCH(\"17\",#REF!)),\"1\",\"0\")","v":"0"},1,3,null,null,8,4,14,26,4,null,4,0,8,12,null,4,6]
[2,22,11,"ZR",1,60,1959,2,3,1,10,11,2,1,"1","0","0","0","0","0","0","0","0","0","0","0","0","0","0","0","0","0",null,null,1,3,2,{"$f":"IF(ISNUMBER(SEARCH(\"1\",#REF!)),\"1\",\"0\")","v":"0"},{"$f":"IF(ISNUMBER(SEARCH(\"2\",#REF!)),\"1\",\"0\")","v":"0"},{"$f":"IF(ISNUMBER(SEARCH(\"3\",#REF!)),\"1\",\"0\")","v":"0"},{"$f":"IF(ISNUMBER(SEARCH(\"4\",#REF!)),\"1\",\"0\")","v":"0"},{"$f":"IF(ISNUMBER(SEARCH(\"5\",#REF!)),\"1\",\"0\")","v":"0"},{"$f":"IF(ISNUMBER(SEARCH(\"6\",#REF!)),\"1\",\"0\")","v":"0"},{"$f":"IF(ISNUMBER(SEARCH(\"7\",#REF!)),\"1\",\"0\")","v":"0"},{"$f":"IF(ISNUMBER(SEARCH(\"8\",#REF!)),\"1\",\"0\")","v":"0"},{"$f":"IF(ISNUMBER(SEARCH(\"9\",#REF!)),\"1\",\"0\")","v":"0"},{"$f":"IF(ISNUMBER(SEARCH(\"9\",#REF!)),\"1\",\"0\")","v":"0"},{"$f":"IF(ISNUMBER(SEARCH(\"10\",#REF!)),\"1\",\"0\")","v":"0"},{"$f":"IF(ISNUMBER(SEARCH(\"11\",#REF!)),\"1\",\"0\")","v":"0"},{"$f":"IF(ISNUMBER(SEARCH(\"12\",#REF!)),\"1\",\"0\")","v":"0"},{"$f":"IF(ISNUMBER(SEARCH(\"13\",#REF!)),\"1\",\"0\")","v":"0"},{"$f":"IF(ISNUMBER(SEARCH(\"14\",#REF!)),\"1\",\"0\")","v":"0"},{"$f":"IF(ISNUMBER(SEARCH(\"15\",#REF!)),\"1\",\"0\")","v":"0"},{"$f":"IF(ISNUMBER(SEARCH(\"16\",#REF!)),\"1\",\"0\")","v":"0"},{"$f":"IF(ISNUMBER(SEARCH(\"17\",#REF!)),\"1\",\"0\")","v":"0"},{"$nulls":4},12,10,16,38,8,null,4,0,0,4,{"$nulls":4},{"$f":"#REF!-#REF!","v":{"$error":"#REF!"}},{"$f":"#REF!-#REF!","v":{"$error":"#REF!"}}]
[2,22,13,"S2",2,29,1990,3,8,1,2,3,5,3,"0","0","1","0","0","0","0","0","0","0","0","0","0","0","0","0","0","0",null,null,3,5,1,{"$f":"IF(ISNUMBER(SEARCH(\"1\",#REF!)),\"1\",\"0\")","v":"0"},{"$f":"IF(ISNUMBER(SEARCH(\"2\",#REF!)),\"1\",\"0\")","v":"0"},{"$f":"IF(ISNUMBER(SEARCH(\"3\",#REF!)),\"1\",\"0\")","v":"0"},{"$f":"IF(ISNUMBER(SEARCH(\"4\",#REF!)),\"1\",\"0\")","v":"0"},{"$f":"IF(ISNUMBER(SEARCH(\"5\",#REF!)),\"1\",\"0\")","v":"0"},{"$f":"IF(ISNUMBER(SEARCH(\"6\",#REF!)),\"1\",\"0\")","v":"0"},{"$f":"IF(ISNUMBER(SEARCH(\"7\",#REF!)),\"1\",\"0\")","v":"0"},{"$f":"IF(ISNUMBER(SEARCH(\"8\",#REF!)),\"1\",\"0\")","v":"0"},{"$f":"IF(ISNUMBER(SEARCH(\"9\",#REF!)),\"1\",\"0\")","v":"0"},{"$f":"IF(ISNUMBER(SEARCH(\"9\",#REF!)),\"1\",\"0\")","v":"0"},{"$f":"IF(ISNUMBER(SEARCH(\"10\",#REF!)),\"1\",\"0\")","v":"0"},{"$f":"IF(ISNUMBER(SEARCH(\"11\",#REF!)),\"1\",\"0\")","v":"0"},{"$f":"IF(ISNUMBER(SEARCH(\"12\",#REF!)),\"1\",\"0\")","v":"0"},{"$f":"IF(ISNUMBER(SEARCH(\"13\",#REF!)),\"1\",\"0\")","v":"0"},{"$f":"IF(ISNUMBER(SEARCH(\"14\",#REF!)),\"1\",\"0\")","v":"0"},{"$f":"IF(ISNUMBER(SEARCH(\"15\",#REF!)),\"1\",\"0\")","v":"0"},{"$f":"IF(ISNUMBER(SEARCH(\"16\",#REF!)),\"1\",\"0\")","v":"0"},{"$f":"IF(ISNUMBER(SEARCH(\"17\",#REF!)),\"1\",\"0\")","v":"0"},2,{"$nulls":3},24,20,18,62]
[2,22,2,"F2",2,38,1981,2,3,1,7,9,2,3,"0","0","1","0","0","0","0","0","0","0","0","0","0","0","0","0","0","0",null,null,1,5,1,{"$f":"IF(ISNUMBER(SEARCH(\"1\",#REF!)),\"1\",\"0\")","v":"0"},{"$f":"IF(ISNUMBER(SEARCH(\"2\",#REF!)),\"1\",\"0\")","v":"0"},{"$f":"IF(ISNUMBER(SEARCH(\"3\",#REF!)),\"1\",\"0\")","v":"0"},{"$f":"IF(ISNUMBER(SEARCH(\"4\",#REF!)),\"1\",\"0\")","v":"0"},{"$f":"IF(ISNUMBER(SEARCH(\"5\",#REF!)),\"1\",\"0\")","v":"0"},{"$f":"IF(ISNUMBER(SEARCH(\"6\",#REF!)),\"1\",\"0\")","v":"0"},{"$f":"IF(ISNUMBER(SEARCH(\"7\",#REF!)),\"1\",\"0\")","v":"0"},{"$f":"IF(ISNUMBER(SEARCH(\"8\",#REF!)),\"1\",\"0\")","v":"0"},{"$f":"IF(ISNUMBER(SEARCH(\"9\",#REF!)),\"1\",\"0\")","v":"0"},{"$f":"IF(ISNUMBER(SEARCH(\"9\",#REF!)),\"1\",\"0\")","v":"0"},{"$f":"IF(ISNUMBER(SEARCH(\"10\",#REF!)),\"1\",\"0\")","v":"0"},{"$f":"IF(ISNUMBER(SEARCH(\"11\",#REF!)),\"1\",\"0\")","v":"0"},{"$f":"IF(ISNUMBER(SEARCH(\"12\",#REF!)),\"1\",\"0\")","v":"0"},{"$f":"IF(ISNUMBER(SEARCH(\"13\",#REF!)),\"1\",\"0\")","v":"0"},{"$f":"IF(ISNUMBER(SEARCH(\"14\",#REF!)),\"1\",\"0\")","v":"0"},{"$f":"IF(ISNUMBER(SEARCH(\"15\",#REF!)),\"1\",\"0\")","v":"0"},{"$f":"IF(ISNUMBER(SEARCH(\"16\",#REF!)),\"1\",\"0\")","v":"0"},{"$f":"IF(ISNUMBER(SEARCH(\"17\",#REF!)),\"1\",\"0\")","v":"0"},2,{"$nulls":3},24,24,30,78,6]
[2,22,2,"F2",2,28,1991,null,3,3,null,5,2,1,"1","0","0","0","0","0","0","0","0","0","0","0","0","0","0","0","0","0",null,null,3,5,2,{"$f":"IF(ISNUMBER(SEARCH(\"1\",#REF!)),\"1\",\"0\")","v":"0"},{"$f":"IF(ISNUMBER(SEARCH(\"2\",#REF!)),\"1\",\"0\")","v":"0"},{"$f":"IF(ISNUMBER(SEARCH(\"3\",#REF!)),\"1\",\"0\")","v":"0"},{"$f":"IF(ISNUMBER(SEARCH(\"4\",#REF!)),\"1\",\"0\")","v":"0"},{"$f":"IF(ISNUMBER(SEARCH(\"5\",#REF!)),\"1\",\"0\")","v":"0"},{"$f":"IF(ISNUMBER(SEARCH(\"6\",#REF!)),\"1\",\"0\")","v":"0"},{"$f":"IF(ISNUMBER(SEARCH(\"7\",#REF!)),\"1\",\"0\")","v":"0"},{"$f":"IF(ISNUMBER(SEARCH(\"8\",#REF!)),\"1\",\"0\")","v":"0"},{"$f":"IF(ISNUMBER(SEARCH(\"9\",#REF!)),\"1\",\"0\")","v":"0"},{"$f":"IF(ISNUMBER(SEARCH(\"9\",#REF!)),\"1\",\"0\")","v":"0"},{"$f":"IF(ISNUMBER(SEARCH(\"10\",#REF!)),\"1\",\"0\")","v":"0"},{"$f":"IF(ISNUMBER(SEARCH(\"11\",#REF!)),\"1\",\"0\")","v":"0"},{"$f":"IF(ISNUMBER(SEARCH(\"12\",#REF!)),\"1\",\"0\")","v":"0"},{"$f":"IF(ISNUMBER(SEARCH(\"13\",#REF!)),\"1\",\"0\")","v":"0"},{"$f":"IF(ISNUMBER(SEARCH(\"14\",#REF!)),\"1\",\"0\")","v":"0"},{"$f":"IF(ISNUMBER(SEARCH(\"15\",#REF!)),\"1\",\"0\")","v":"0"},{"$f":"IF(ISNUMBER(SEARCH(\"16\",#REF!)),\"1\",\"0\")","v":"0"},{"$f":"IF(ISNUMBER(SEARCH(\"17\",#REF!)),\"1\",\"0\")","v":"0"},{"$nulls":4},28,18,20,66,6,null,4,4,0,8,null,6,4,null,null,{"$f":"#REF!-#REF!","v":{"$error":"#REF!"}}]
[2,22,2,"F1",2,32,1987,3,8,2,7,5,null,3,"0","0","1","0","0","0","0","0","0","0","0","0","0","0","0","0","0","0",null,null,3,5,2,{"$f":"IF(ISNUMBER(SEARCH(\"1\",#REF!)),\"1\",\"0\")","v":"0"},{"$f":"IF(ISNUMBER(SEARCH(\"2\",#REF!)),\"1\",\"0\")","v":"0"},{"$f":"IF(ISNUMBER(SEARCH(\"3\",#REF!)),\"1\",\"0\")","v":"0"},{"$f":"IF(ISNUMBER(SEARCH(\"4\",#REF!)),\"1\",\"0\")","v":"0"},{"$f":"IF(ISNUMBER(SEARCH(\"5\",#REF!)),\"1\",\"0\")","v":"0"},{"$f":"IF(ISNUMBER(SEARCH(\"6\",#REF!)),\"1\",\"0\")","v":"0"},{"$f":"IF(ISNUMBER(SEARCH(\"7\",#REF!)),\"1\",\"0\")","v":"0"},{"$f":"IF(ISNUMBER(SEARCH(\"8\",#REF!)),\"1\",\"0\")","v":"0"},{"$f":"IF(ISNUMBER(SEARCH(\"9\",#REF!)),\"1\",\"0\")","v":"0"},{"$f":"IF(ISNUMBER(SEARCH(\"9\",#REF!)),\"1\",\"0\")","v":"0"},{"$f":"IF(ISNUMBER(SEARCH(\"10\",#REF!)),\"1\",\"0\")","v":"0"},{"$f":"IF(ISNUMBER(SEARCH(\"11\",#REF!)),\"1\",\"0\")","v":"0"},{"$f":"IF(ISNUMBER(SEARCH(\"12\",#REF!)),\"1\",\"0\")","v":"0"},{"$f":"IF(ISNUMBER(SEARCH(\"13\",#REF!)),\"1\",\"0\")","v":"0"},{"$f":"IF(ISNUMBER(SEARCH(\"14\",#REF!)),\"1\",\"0\")","v":"0"},{"$f":"IF(ISNUMBER(SEARCH(\"15\",#REF!)),\"1\",\"0\")","v":"0"},{"$f":"IF(ISNUMBER(SEARCH(\"16\",#REF!)),\"1\",\"0\")","v":"0"},{"$f":"IF(ISNUMBER(SEARCH(\"17\",#REF!)),\"1\",\"0\")","v":"0"},2,3,null,null,20,12,14,46,5]
[2,22,12,"NTC",1,35,1984,1,8,1,6,11,7,"9. Kidnapping/  Enlèvement/ Otage (SANS violence sexuelle)","0","0","0","0","0","0","0","0","1","0","0","0","0","0","0","0","0","0",null,null,3,5,2,{"$f":"IF(ISNUMBER(SEARCH(\"1\",#REF!)),\"1\",\"0\")","v":"0"},{"$f":"IF(ISNUMBER(SEARCH(\"2\",#REF!)),\"1\",\"0\")","v":"0"},{"$f":"IF(ISNUMBER(SEARCH(\"3\",#REF!)),\"1\",\"0\")","v":"0"},{"$f":"IF(ISNUMBER(SEARCH(\"4\",#REF!)),\"1\",\"0\")","v":"0"},{"$f":"IF(ISNUMBER(SEARCH(\"5\",#REF!)),\"1\",\"0\")","v":"0"},{"$f":"IF(ISNUMBER(SEARCH(\"6\",#REF!)),\"1\",\"0\")","v":"0"},{"$f":"IF(ISNUMBER(SEARCH(\"7\",#REF!)),\"1\",\"0\")","v":"0"},{"$f":"IF(ISNUMBER(SEARCH(\"8\",#REF!)),\"1\",\"0\")","v":"0"},{"$f":"IF(ISNUMBER(SEARCH(\"9\",#REF!)),\"1\",\"0\")","v":"0"},{"$f":"IF(ISNUMBER(SEARCH(\"9\",#REF!)),\"1\",\"0\")","v":"0"},{"$f":"IF(ISNUMBER(SEARCH(\"10\",#REF!)),\"1\",\"0\")","v":"0"},{"$f":"IF(ISNUMBER(SEARCH(\"11\",#REF!)),\"1\",\"0\")","v":"0"},{"$f":"IF(ISNUMBER(SEARCH(\"12\",#REF!)),\"1\",\"0\")","v":"0"},{"$f":"IF(ISNUMBER(SEARCH(\"13\",#REF!)),\"1\",\"0\")","v":"0"},{"$f":"IF(ISNUMBER(SEARCH(\"14\",#REF!)),\"1\",\"0\")","v":"0"},{"$f":"IF(ISNUMBER(SEARCH(\"15\",#REF!)),\"1\",\"0\")","v":"0"},{"$f":"IF(ISNUMBER(SEARCH(\"16\",#REF!)),\"1\",\"0\")","v":"0"},{"$f":"IF(ISNUMBER(SEARCH(\"17\",#REF!)),\"1\",\"0\")","v":"0"},{"$nulls":4},32,26,26,84,3,null,2,0,2,4,null,12,null,null,{"$f":"#REF!-#REF!","v":{"$error":"#REF!"}},{"$f":"#REF!-#REF!","v":{"$error":"#REF!"}}]
[2,22,11,"RB",2,28,1991,1,8,1,3,5,6,3,"0","0","1","0","0","0","0","0","0","0","0","0","0","0","0","0","0","0",null,null,3,3,2,{"$f":"IF(ISNUMBER(SEARCH(\"1\",#REF!)),\"1\",\"0\")","v":"0"},{"$f":"IF(ISNUMBER(SEARCH(\"2\",#REF!)),\"1\",\"0\")","v":"0"},{"$f":"IF(ISNUMBER(SEARCH(\"3\",#REF!)),\"1\",\"0\")","v":"0"},{"$f":"IF(ISNUMBER(SEARCH(\"4\",#REF!)),\"1\",\"0\")","v":"0"},{"$f":"IF(ISNUMBER(SEARCH(\"5\",#REF!)),\"1\",\"0\")","v":"0"},{"$f":"IF(ISNUMBER(SEARCH(\"6\",#REF!)),\"1\",\"0\")","v":"0"},{"$f":"IF(ISNUMBER(SEARCH(\"7\",#REF!)),\"1\",\"0\")","v":"0"},{"$f":"IF(ISNUMBER(SEARCH(\"8\",#REF!)),\"1\",\"0\")","v":"0"},{"$f":"IF(ISNUMBER(SEARCH(\"9\",#REF!)),\"1\",\"0\")","v":"0"},{"$f":"IF(ISNUMBER(SEARCH(\"9\",#REF!)),\"1\",\"0\")","v":"0"},{"$f":"IF(ISNUMBER(SEARCH(\"10\",#REF!)),\"1\",\"0\")","v":"0"},{"$f":"IF(ISNUMBER(SEARCH(\"11\",#REF!)),\"1\",\"0\")","v":"0"},{"$f":"IF(ISNUMBER(SEARCH(\"12\",#REF!)),\"1\",\"0\")","v":"0"},{"$f":"IF(ISNUMBER(SEARCH(\"13\",#REF!)),\"1\",\"0\")","v":"0"},{"$f":"IF(ISNUMBER(SEARCH(\"14\",#REF!)),\"1\",\"0\")","v":"0"},{"$f":"IF(ISNUMBER(SEARCH(\"15\",#REF!)),\"1\",\"0\")","v":"0"},{"$f":"IF(ISNUMBER(SEARCH(\"16\",#REF!)),\"1\",\"0\")","v":"0"},{"$f":"IF(ISNUMBER(SEARCH(\"17\",#REF!)),\"1\",\"0\")","v":"0"},3,{"$nulls":3},18,18,14,50,6,{"$nulls":6},5,6,null,{"$f":"#REF!-#REF!","v":{"$error":"#REF!"}}]
[2,22,11,"MLO",2,34,{"$f":"2019-F1499","v":1985},1,3,1,5,5,2,3,"0","0","1","0","0","0","0","0","0","0","0","0","0","0","0","0","0","0",null,null,3,4,2,{"$f":"IF(ISNUMBER(SEARCH(\"1\",#REF!)),\"1\",\"0\")","v":"0"},{"$f":"IF(ISNUMBER(SEARCH(\"2\",#REF!)),\"1\",\"0\")","v":"0"},{"$f":"IF(ISNUMBER(SEARCH(\"3\",#REF!)),\"1\",\"0\")","v":"0"},{"$f":"IF(ISNUMBER(SEARCH(\"4\",#REF!)),\"1\",\"0\")","v":"0"},{"$f":"IF(ISNUMBER(SEARCH(\"5\",#REF!)),\"1\",\"0\")","v":"0"},{"$f":"IF(ISNUMBER(SEARCH(\"6\",#REF!)),\"1\",\"0\")","v":"0"},{"$f":"IF(ISNUMBER(SEARCH(\"7\",#REF!)),\"1\",\"0\")","v":"0"},{"$f":"IF(ISNUMBER(SEARCH(\"8\",#REF!)),\"1\",\"0\")","v":"0"},{"$f":"IF(ISNUMBER(SEARCH(\"9\",#REF!)),\"1\",\"0\")","v":"0"},{"$f":"IF(ISNUMBER(SEARCH(\"9\",#REF!)),\"1\",\"0\")","v":"0"},{"$f":"IF(ISNUMBER(SEARCH(\"10\",#REF!)),\"1\",\"0\")","v":"0"},{"$f":"IF(ISNUMBER(SEARCH(\"11\",#REF!)),\"1\",\"0\")","v":"0"},{"$f":"IF(ISNUMBER(SEARCH(\"12\",#REF!)),\"1\",\"0\")","v":"0"},{"$f":"IF(ISNUMBER(SEARCH(\"13\",#REF!)),\"1\",\"0\")","v":"0"},{"$f":"IF(ISNUMBER(SEARCH(\"14\",#REF!)),\"1\",\"0\")","v":"0"},{"$f":"IF(ISNUMBER(SEARCH(\"15\",#REF!)),\"1\",\"0\")","v":"0"},{"$f":"IF(ISNUMBER(SEARCH(\"16\",#REF!)),\"1\",\"0\")","v":"0"},{"$f":"IF(ISNUMBER(SEARCH(\"17\",#REF!)),\"1\",\"0\")","v":"0"},3,{"$nulls":7},6,{"$nulls":6},9,6]
[2,22,9,"LL",2,16,2003,3,2,1,0,4,1,3,"0","0","1","0","0","0","0","0","0","0","0","0","0","0","0","0","0","0",null,null,1,3,1,{"$f":"IF(ISNUMBER(SEARCH(\"1\",#REF!)),\"1\",\"0\")","v":"0"},{"$f":"IF(ISNUMBER(SEARCH(\"2\",#REF!)),\"1\",\"0\")","v":"0"},{"$f":"IF(ISNUMBER(SEARCH(\"3\",#REF!)),\"1\",\"0\")","v":"0"},{"$f":"IF(ISNUMBER(SEARCH(\"4\",#REF!)),\"1\",\"0\")","v":"0"},{"$f":"IF(ISNUMBER(SEARCH(\"5\",#REF!)),\"1\",\"0\")","v":"0"},{"$f":"IF(ISNUMBER(SEARCH(\"6\",#REF!)),\"1\",\"0\")","v":"0"},{"$f":"IF(ISNUMBER(SEARCH(\"7\",#REF!)),\"1\",\"0\")","v":"0"},{"$f":"IF(ISNUMBER(SEARCH(\"8\",#REF!)),\"1\",\"0\")","v":"0"},{"$f":"IF(ISNUMBER(SEARCH(\"9\",#REF!)),\"1\",\"0\")","v":"0"},{"$f":"IF(ISNUMBER(SEARCH(\"9\",#REF!)),\"1\",\"0\")","v":"0"},{"$f":"IF(ISNUMBER(SEARCH(\"10\",#REF!)),\"1\",\"0\")","v":"0"},{"$f":"IF(ISNUMBER(SEARCH(\"11\",#REF!)),\"1\",\"0\")","v":"0"},{"$f":"IF(ISNUMBER(SEARCH(\"12\",#REF!)),\"1\",\"0\")","v":"0"},{"$f":"IF(ISNUMBER(SEARCH(\"13\",#REF!)),\"1\",\"0\")","v":"0"},{"$f":"IF(ISNUMBER(SEARCH(\"14\",#REF!)),\"1\",\"0\")","v":"0"},{"$f":"IF(ISNUMBER(SEARCH(\"15\",#REF!)),\"1\",\"0\")","v":"0"},{"$f":"IF(ISNUMBER(SEARCH(\"16\",#REF!)),\"1\",\"0\")","v":"0"},{"$f":"IF(ISNUMBER(SEARCH(\"17\",#REF!)),\"1\",\"0\")","v":"0"},1,3,{"$nulls":6},4]
[2,22,9,"FM",2,40,1979,2,7,1,5,5,6,"11. Membre de famille / personne proche assassinée","1","0","0","0","0","0","0","0","0","0","1","0","0","0","0","0","0","0",null,null,2,5,null,{"$f":"IF(ISNUMBER(SEARCH(\"1\",#REF!)),\"1\",\"0\")","v":"0"},{"$f":"IF(ISNUMBER(SEARCH(\"2\",#REF!)),\"1\",\"0\")","v":"0"},{"$f":"IF(ISNUMBER(SEARCH(\"3\",#REF!)),\"1\",\"0\")","v":"0"},{"$f":"IF(ISNUMBER(SEARCH(\"4\",#REF!)),\"1\",\"0\")","v":"0"},{"$f":"IF(ISNUMBER(SEARCH(\"5\",#REF!)),\"1\",\"0\")","v":"0"},{"$f":"IF(ISNUMBER(SEARCH(\"6\",#REF!)),\"1\",\"0\")","v":"0"},{"$f":"IF(ISNUMBER(SEARCH(\"7\",#REF!)),\"1\",\"0\")","v":"0"},{"$f":"IF(ISNUMBER(SEARCH(\"8\",#REF!)),\"1\",\"0\")","v":"0"},{"$f":"IF(ISNUMBER(SEARCH(\"9\",#REF!)),\"1\",\"0\")","v":"0"},{"$f":"IF(ISNUMBER(SEARCH(\"9\",#REF!)),\"1\",\"0\")","v":"0"},{"$f":"IF(ISNUMBER(SEARCH(\"10\",#REF!)),\"1\",\"0\")","v":"0"},{"$f":"IF(ISNUMBER(SEARCH(\"11\",#REF!)),\"1\",\"0\")","v":"0"},{"$f":"IF(ISNUMBER(SEARCH(\"12\",#REF!)),\"1\",\"0\")","v":"0"},{"$f":"IF(ISNUMBER(SEARCH(\"13\",#REF!)),\"1\",\"0\")","v":"0"},{"$f":"IF(ISNUMBER(SEARCH(\"14\",#REF!)),\"1\",\"0\")","v":"0"},{"$f":"IF(ISNUMBER(SEARCH(\"15\",#REF!)),\"1\",\"0\")","v":"0"},{"$f":"IF(ISNUMBER(SEARCH(\"16\",#REF!)),\"1\",\"0\")","v":"0"},{"$f":"IF(ISNUMBER(SEARCH(\"17\",#REF!)),\"1\",\"0\")","v":"0"},{"$nulls":4},18,16,28,62,9]
[2,22,6,"AM",2,16,2003,3,2,1,0,3,1,3,"0","0","1","0","0","0","0","0","0","0","0","0","0","0","0","0","0","0",null,null,1,5,null,{"$f":"IF(ISNUMBER(SEARCH(\"1\",#REF!)),\"1\",\"0\")","v":"0"},{"$f":"IF(ISNUMBER(SEARCH(\"2\",#REF!)),\"1\",\"0\")","v":"0"},{"$f":"IF(ISNUMBER(SEARCH(\"3\",#REF!)),\"1\",\"0\")","v":"0"},{"$f":"IF(ISNUMBER(SEARCH(\"4\",#REF!)),\"1\",\"0\")","v":"0"},{"$f":"IF(ISNUMBER(SEARCH(\"5\",#REF!)),\"1\",\"0\")","v":"0"},{"$f":"IF(ISNUMBER(SEARCH(\"6\",#REF!)),\"1\",\"0\")","v":"0"},{"$f":"IF(ISNUMBER(SEARCH(\"7\",#REF!)),\"1\",\"0\")","v":"0"},{"$f":"IF(ISNUMBER(SEARCH(\"8\",#REF!)),\"1\",\"0\")","v":"0"},{"$f":"IF(ISNUMBER(SEARCH(\"9\",#REF!)),\"1\",\"0\")","v":"0"},{"$f":"IF(ISNUMBER(SEARCH(\"9\",#REF!)),\"1\",\"0\")","v":"0"},{"$f":"IF(ISNUMBER(SEARCH(\"10\",#REF!)),\"1\",\"0\")","v":"0"},{"$f":"IF(ISNUMBER(SEARCH(\"11\",#REF!)),\"1\",\"0\")","v":"0"},{"$f":"IF(ISNUMBER(SEARCH(\"12\",#REF!)),\"1\",\"0\")","v":"0"},{"$f":"IF(ISNUMBER(SEARCH(\"13\",#REF!)),\"1\",\"0\")","v":"0"},{"$f":"IF(ISNUMBER(SEARCH(\"14\",#REF!)),\"1\",\"0\")","v":"0"},{"$f":"IF(ISNUMBER(SEARCH(\"15\",#REF!)),\"1\",\"0\")","v":"0"},{"$f":"IF(ISNUMBER(SEARCH(\"16\",#REF!)),\"1\",\"0\")","v":"0"},{"$f":"IF(ISNUMBER(SEARCH(\"17\",#REF!)),\"1\",\"0\")","v":"0"},1,{"$nulls":7},6]
[2,22,6,"MF",2,23,1996,3,3,1,2,5,2,3,"0","0","1","0","0","0","0","0","0","0","0","0","0","0","0","0","0","0",null,null,3,5,2,{"$f":"IF(ISNUMBER(SEARCH(\"1\",#REF!)),\"1\",\"0\")","v":"0"},{"$f":"IF(ISNUMBER(SEARCH(\"2\",#REF!)),\"1\",\"0\")","v":"0"},{"$f":"IF(ISNUMBER(SEARCH(\"3\",#REF!)),\"1\",\"0\")","v":"0"},{"$f":"IF(ISNUMBER(SEARCH(\"4\",#REF!)),\"1\",\"0\")","v":"0"},{"$f":"IF(ISNUMBER(SEARCH(\"5\",#REF!)),\"1\",\"0\")","v":"0"},{"$f":"IF(ISNUMBER(SEARCH(\"6\",#REF!)),\"1\",\"0\")","v":"0"},{"$f":"IF(ISNUMBER(SEARCH(\"7\",#REF!)),\"1\",\"0\")","v":"0"},{"$f":"IF(ISNUMBER(SEARCH(\"8\",#REF!)),\"1\",\"0\")","v":"0"},{"$f":"IF(ISNUMBER(SEARCH(\"9\",#REF!)),\"1\",\"0\")","v":"0"},{"$f":"IF(ISNUMBER(SEARCH(\"9\",#REF!)),\"1\",\"0\")","v":"0"},{"$f":"IF(ISNUMBER(SEARCH(\"10\",#REF!)),\"1\",\"0\")","v":"0"},{"$f":"IF(ISNUMBER(SEARCH(\"11\",#REF!)),\"1\",\"0\")","v":"0"},{"$f":"IF(ISNUMBER(SEARCH(\"12\",#REF!)),\"1\",\"0\")","v":"0"},{"$f":"IF(ISNUMBER(SEARCH(\"13\",#REF!)),\"1\",\"0\")","v":"0"},{"$f":"IF(ISNUMBER(SEARCH(\"14\",#REF!)),\"1\",\"0\")","v":"0"},{"$f":"IF(ISNUMBER(SEARCH(\"15\",#REF!)),\"1\",\"0\")","v":"0"},{"$f":"IF(ISNUMBER(SEARCH(\"16\",#REF!)),\"1\",\"0\")","v":"0"},{"$f":"IF(ISNUMBER(SEARCH(\"17\",#REF!)),\"1\",\"0\")","v":"0"},1,3,{"$nulls":6},9]
[2,22,12,"NTC",2,50,1969,1,8,1,7,4,2,3,"0","0","1","0","0","0","0","0","0","0","0","0","0","0","0","0","0","0",null,null,1,5,1,{"$f":"IF(ISNUMBER(SEARCH(\"1\",#REF!)),\"1\",\"0\")","v":"0"},{"$f":"IF(ISNUMBER(SEARCH(\"2\",#REF!)),\"1\",\"0\")","v":"0"},{"$f":"IF(ISNUMBER(SEARCH(\"3\",#REF!)),\"1\",\"0\")","v":"0"},{"$f":"IF(ISNUMBER(SEARCH(\"4\",#REF!)),\"1\",\"0\")","v":"0"},{"$f":"IF(ISNUMBER(SEARCH(\"5\",#REF!)),\"1\",\"0\")","v":"0"},{"$f":"IF(ISNUMBER(SEARCH(\"6\",#REF!)),\"1\",\"0\")","v":"0"},{"$f":"IF(ISNUMBER(SEARCH(\"7\",#REF!)),\"1\",\"0\")","v":"0"},{"$f":"IF(ISNUMBER(SEARCH(\"8\",#REF!)),\"1\",\"0\")","v":"0"},{"$f":"IF(ISNUMBER(SEARCH(\"9\",#REF!)),\"1\",\"0\")","v":"0"},{"$f":"IF(ISNUMBER(SEARCH(\"9\",#REF!)),\"1\",\"0\")","v":"0"},{"$f":"IF(ISNUMBER(SEARCH(\"10\",#REF!)),\"1\",\"0\")","v":"0"},{"$f":"IF(ISNUMBER(SEARCH(\"11\",#REF!)),\"1\",\"0\")","v":"0"},{"$f":"IF(ISNUMBER(SEARCH(\"12\",#REF!)),\"1\",\"0\")","v":"0"},{"$f":"IF(ISNUMBER(SEARCH(\"13\",#REF!)),\"1\",\"0\")","v":"0"},{"$f":"IF(ISNUMBER(SEARCH(\"14\",#REF!)),\"1\",\"0\")","v":"0"},{"$f":"IF(ISNUMBER(SEARCH(\"15\",#REF!)),\"1\",\"0\")","v":"0"},{"$f":"IF(ISNUMBER(SEARCH(\"16\",#REF!)),\"1\",\"0\")","v":"0"},{"$f":"IF(ISNUMBER(SEARCH(\"17\",#REF!)),\"1\",\"0\")","v":"0"},1,3,null,null,28,26,22,76,6,{"$nulls":9},{"$f":"#REF!-#REF!","v":{"$error":"#REF!"}}]
[2,22,9,"FM",2,57,1962,2,3,1,6,3,2,3,"0","0","1","0","0","0","0","0","0","0","0","0","0","0","0","0","0","0",null,null,3,5,2,{"$f":"IF(ISNUMBER(SEARCH(\"1\",#REF!)),\"1\",\"0\")","v":"0"},{"$f":"IF(ISNUMBER(SEARCH(\"2\",#REF!)),\"1\",\"0\")","v":"0"},{"$f":"IF(ISNUMBER(SEARCH(\"3\",#REF!)),\"1\",\"0\")","v":"0"},{"$f":"IF(ISNUMBER(SEARCH(\"4\",#REF!)),\"1\",\"0\")","v":"0"},{"$f":"IF(ISNUMBER(SEARCH(\"5\",#REF!)),\"1\",\"0\")","v":"0"},{"$f":"IF(ISNUMBER(SEARCH(\"6\",#REF!)),\"1\",\"0\")","v":"0"},{"$f":"IF(ISNUMBER(SEARCH(\"7\",#REF!)),\"1\",\"0\")","v":"0"},{"$f":"IF(ISNUMBER(SEARCH(\"8\",#REF!)),\"1\",\"0\")","v":"0"},{"$f":"IF(ISNUMBER(SEARCH(\"9\",#REF!)),\"1\",\"0\")","v":"0"},{"$f":"IF(ISNUMBER(SEARCH(\"9\",#REF!)),\"1\",\"0\")","v":"0"},{"$f":"IF(ISNUMBER(SEARCH(\"10\",#REF!)),\"1\",\"0\")","v":"0"},{"$f":"IF(ISNUMBER(SEARCH(\"11\",#REF!)),\"1\",\"0\")","v":"0"},{"$f":"IF(ISNUMBER(SEARCH(\"12\",#REF!)),\"1\",\"0\")","v":"0"},{"$f":"IF(ISNUMBER(SEARCH(\"13\",#REF!)),\"1\",\"0\")","v":"0"},{"$f":"IF(ISNUMBER(SEARCH(\"14\",#REF!)),\"1\",\"0\")","v":"0"},{"$f":"IF(ISNUMBER(SEARCH(\"15\",#REF!)),\"1\",\"0\")","v":"0"},{"$f":"IF(ISNUMBER(SEARCH(\"16\",#REF!)),\"1\",\"0\")","v":"0"},{"$f":"IF(ISNUMBER(SEARCH(\"17\",#REF!)),\"1\",\"0\")","v":"0"},4,2,null,null,26,24,30,80,8,{"$nulls":9},{"$f":"#REF!-#REF!","v":{"$error":"#REF!"}}]
[2,22,10,"IB",1,53,1966,1,3,1,0,1,2,"6. Mariage Forcé","0","0","0","0","0","1","0","0","0","0","0","0","0","0","0","0","0","0",null,null,1,5,2,{"$f":"IF(ISNUMBER(SEARCH(\"1\",#REF!)),\"1\",\"0\")","v":"0"},{"$f":"IF(ISNUMBER(SEARCH(\"2\",#REF!)),\"1\",\"0\")","v":"0"},{"$f":"IF(ISNUMBER(SEARCH(\"3\",#REF!)),\"1\",\"0\")","v":"0"},{"$f":"IF(ISNUMBER(SEARCH(\"4\",#REF!)),\"1\",\"0\")","v":"0"},{"$f":"IF(ISNUMBER(SEARCH(\"5\",#REF!)),\"1\",\"0\")","v":"0"},{"$f":"IF(ISNUMBER(SEARCH(\"6\",#REF!)),\"1\",\"0\")","v":"0"},{"$f":"IF(ISNUMBER(SEARCH(\"7\",#REF!)),\"1\",\"0\")","v":"0"},{"$f":"IF(ISNUMBER(SEARCH(\"8\",#REF!)),\"1\",\"0\")","v":"0"},{"$f":"IF(ISNUMBER(SEARCH(\"9\",#REF!)),\"1\",\"0\")","v":"0"},{"$f":"IF(ISNUMBER(SEARCH(\"9\",#REF!)),\"1\",\"0\")","v":"0"},{"$f":"IF(ISNUMBER(SEARCH(\"10\",#REF!)),\"1\",\"0\")","v":"0"},{"$f":"IF(ISNUMBER(SEARCH(\"11\",#REF!)),\"1\",\"0\")","v":"0"},{"$f":"IF(ISNUMBER(SEARCH(\"12\",#REF!)),\"1\",\"0\")","v":"0"},{"$f":"IF(ISNUMBER(SEARCH(\"13\",#REF!)),\"1\",\"0\")","v":"0"},{"$f":"IF(ISNUMBER(SEARCH(\"14\",#REF!)),\"1\",\"0\")","v":"0"},{"$f":"IF(ISNUMBER(SEARCH(\"15\",#REF!)),\"1\",\"0\")","v":"0"},{"$f":"IF(ISNUMBER(SEARCH(\"16\",#REF!)),\"1\",\"0\")","v":"0"},{"$f":"IF(ISNUMBER(SEARCH(\"17\",#REF!)),\"1\",\"0\")","v":"0"},{"$nulls":4},20,18,20,58,6]
[2,22,11,"MLO",2,38,1981,2,3,1,5,2,6,3,"0","0","1","0","0","0","0","0","0","0","0","0","0","0","0","0","0","0",null,null,3,5,2,{"$f":"IF(ISNUMBER(SEARCH(\"1\",#REF!)),\"1\",\"0\")","v":"0"},{"$f":"IF(ISNUMBER(SEARCH(\"2\",#REF!)),\"1\",\"0\")","v":"0"},{"$f":"IF(ISNUMBER(SEARCH(\"3\",#REF!)),\"1\",\"0\")","v":"0"},{"$f":"IF(ISNUMBER(SEARCH(\"4\",#REF!)),\"1\",\"0\")","v":"0"},{"$f":"IF(ISNUMBER(SEARCH(\"5\",#REF!)),\"1\",\"0\")","v":"0"},{"$f":"IF(ISNUMBER(SEARCH(\"6\",#REF!)),\"1\",\"0\")","v":"0"},{"$f":"IF(ISNUMBER(SEARCH(\"7\",#REF!)),\"1\",\"0\")","v":"0"},{"$f":"IF(ISNUMBER(SEARCH(\"8\",#REF!)),\"1\",\"0\")","v":"0"},{"$f":"IF(ISNUMBER(SEARCH(\"9\",#REF!)),\"1\",\"0\")","v":"0"},{"$f":"IF(ISNUMBER(SEARCH(\"9\",#REF!)),\"1\",\"0\")","v":"0"},{"$f":"IF(ISNUMBER(SEARCH(\"10\",#REF!)),\"1\",\"0\")","v":"0"},{"$f":"IF(ISNUMBER(SEARCH(\"11\",#REF!)),\"1\",\"0\")","v":"0"},{"$f":"IF(ISNUMBER(SEARCH(\"12\",#REF!)),\"1\",\"0\")","v":"0"},{"$f":"IF(ISNUMBER(SEARCH(\"13\",#REF!)),\"1\",\"0\")","v":"0"},{"$f":"IF(ISNUMBER(SEARCH(\"14\",#REF!)),\"1\",\"0\")","v":"0"},{"$f":"IF(ISNUMBER(SEARCH(\"15\",#REF!)),\"1\",\"0\")","v":"0"},{"$f":"IF(ISNUMBER(SEARCH(\"16\",#REF!)),\"1\",\"0\")","v":"0"},{"$f":"IF(ISNUMBER(SEARCH(\"17\",#REF!)),\"1\",\"0\")","v":"0"},1,3,null,null,28,18,20,66,4,{"$nulls":6},7,5]
[2,22,11,"ZR",2,27,1992,2,8,1,3,3,2,1,"1","0","0","0","0","0","0","0","0","0","0","0","0","0","0","0","0","0",null,null,2,3,2,{"$f":"IF(ISNUMBER(SEARCH(\"1\",#REF!)),\"1\",\"0\")","v":"0"},{"$f":"IF(ISNUMBER(SEARCH(\"2\",#REF!)),\"1\",\"0\")","v":"0"},{"$f":"IF(ISNUMBER(SEARCH(\"3\",#REF!)),\"1\",\"0\")","v":"0"},{"$f":"IF(ISNUMBER(SEARCH(\"4\",#REF!)),\"1\",\"0\")","v":"0"},{"$f":"IF(ISNUMBER(SEARCH(\"5\",#REF!)),\"1\",\"0\")","v":"0"},{"$f":"IF(ISNUMBER(SEARCH(\"6\",#REF!)),\"1\",\"0\")","v":"0"},{"$f":"IF(ISNUMBER(SEARCH(\"7\",#REF!)),\"1\",\"0\")","v":"0"},{"$f":"IF(ISNUMBER(SEARCH(\"8\",#REF!)),\"1\",\"0\")","v":"0"},{"$f":"IF(ISNUMBER(SEARCH(\"9\",#REF!)),\"1\",\"0\")","v":"0"},{"$f":"IF(ISNUMBER(SEARCH(\"9\",#REF!)),\"1\",\"0\")","v":"0"},{"$f":"IF(ISNUMBER(SEARCH(\"10\",#REF!)),\"1\",\"0\")","v":"0"},{"$f":"IF(ISNUMBER(SEARCH(\"11\",#REF!)),\"1\",\"0\")","v":"0"},{"$f":"IF(ISNUMBER(SEARCH(\"12\",#REF!)),\"1\",\"0\")","v":"0"},{"$f":"IF(ISNUMBER(SEARCH(\"13\",#REF!)),\"1\",\"0\")","v":"0"},{"$f":"IF(ISNUMBER(SEARCH(\"14\",#REF!)),\"1\",\"0\")","v":"0"},{"$f":"IF(ISNUMBER(SEARCH(\"15\",#REF!)),\"1\",\"0\")","v":"0"},{"$f":"IF(ISNUMBER(SEARCH(\"16\",#REF!)),\"1\",\"0\")","v":"0"},{"$f":"IF(ISNUMBER(SEARCH(\"17\",#REF!)),\"1\",\"0\")","v":"0"},{"$nulls":8},5,{"$nulls":6},10,6]
[2,22,8,"KM",2,15,2004,2,2,1,0,5,1,3,"0","0","1","0","0","0","0","0","0","0","0","0","0","0","0","0","0","0",null,null,1,4,2,{"$f":"IF(ISNUMBER(SEARCH(\"1\",#REF!)),\"1\",\"0\")","v":"0"},{"$f":"IF(ISNUMBER(SEARCH(\"2\",#REF!)),\"1\",\"0\")","v":"0"},{"$f":"IF(ISNUMBER(SEARCH(\"3\",#REF!)),\"1\",\"0\")","v":"0"},{"$f":"IF(ISNUMBER(SEARCH(\"4\",#REF!)),\"1\",\"0\")","v":"0"},{"$f":"IF(ISNUMBER(SEARCH(\"5\",#REF!)),\"1\",\"0\")","v":"0"},{"$f":"IF(ISNUMBER(SEARCH(\"6\",#REF!)),\"1\",\"0\")","v":"0"},{"$f":"IF(ISNUMBER(SEARCH(\"7\",#REF!)),\"1\",\"0\")","v":"0"},{"$f":"IF(ISNUMBER(SEARCH(\"8\",#REF!)),\"1\",\"0\")","v":"0"},{"$f":"IF(ISNUMBER(SEARCH(\"9\",#REF!)),\"1\",\"0\")","v":"0"},{"$f":"IF(ISNUMBER(SEARCH(\"9\",#REF!)),\"1\",\"0\")","v":"0"},{"$f":"IF(ISNUMBER(SEARCH(\"10\",#REF!)),\"1\",\"0\")","v":"0"},{"$f":"IF(ISNUMBER(SEARCH(\"11\",#REF!)),\"1\",\"0\")","v":"0"},{"$f":"IF(ISNUMBER(SEARCH(\"12\",#REF!)),\"1\",\"0\")","v":"0"},{"$f":"IF(ISNUMBER(SEARCH(\"13\",#REF!)),\"1\",\"0\")","v":"0"},{"$f":"IF(ISNUMBER(SEARCH(\"14\",#REF!)),\"1\",\"0\")","v":"0"},{"$f":"IF(ISNUMBER(SEARCH(\"15\",#REF!)),\"1\",\"0\")","v":"0"},{"$f":"IF(ISNUMBER(SEARCH(\"16\",#REF!)),\"1\",\"0\")","v":"0"},{"$f":"IF(ISNUMBER(SEARCH(\"17\",#REF!)),\"1\",\"0\")","v":"0"},1,3,null,null,12,16,28,56,{"$f":"IF(COUNT(#REF!)>0,#REF!, \"\")","v":""},null,8,4,0,12,{"$nulls":4},{"$f":"#REF!-#REF!","v":{"$error":"#REF!"}},{"$f":"#REF!-#REF!","v":{"$error":"#REF!"}}]
[2,22,11,"ZR",2,32,1987,2,3,1,6,11,2,3,"0","0","1","0","0","0","0","0","0","0","0","0","0","0","0","0","0","0",null,null,3,5,2,{"$f":"IF(ISNUMBER(SEARCH(\"1\",#REF!)),\"1\",\"0\")","v":"0"},{"$f":"IF(ISNUMBER(SEARCH(\"2\",#REF!)),\"1\",\"0\")","v":"0"},{"$f":"IF(ISNUMBER(SEARCH(\"3\",#REF!)),\"1\",\"0\")","v":"0"},{"$f":"IF(ISNUMBER(SEARCH(\"4\",#REF!)),\"1\",\"0\")","v":"0"},{"$f":"IF(ISNUMBER(SEARCH(\"5\",#REF!)),\"1\",\"0\")","v":"0"},{"$f":"IF(ISNUMBER(SEARCH(\"6\",#REF!)),\"1\",\"0\")","v":"0"},{"$f":"IF(ISNUMBER(SEARCH(\"7\",#REF!)),\"1\",\"0\")","v":"0"},{"$f":"IF(ISNUMBER(SEARCH(\"8\",#REF!)),\"1\",\"0\")","v":"0"},{"$f":"IF(ISNUMBER(SEARCH(\"9\",#REF!)),\"1\",\"0\")","v":"0"},{"$f":"IF(ISNUMBER(SEARCH(\"9\",#REF!)),\"1\",\"0\")","v":"0"},{"$f":"IF(ISNUMBER(SEARCH(\"10\",#REF!)),\"1\",\"0\")","v":"0"},{"$f":"IF(ISNUMBER(SEARCH(\"11\",#REF!)),\"1\",\"0\")","v":"0"},{"$f":"IF(ISNUMBER(SEARCH(\"12\",#REF!)),\"1\",\"0\")","v":"0"},{"$f":"IF(ISNUMBER(SEARCH(\"13\",#REF!)),\"1\",\"0\")","v":"0"},{"$f":"IF(ISNUMBER(SEARCH(\"14\",#REF!)),\"1\",\"0\")","v":"0"},{"$f":"IF(ISNUMBER(SEARCH(\"15\",#REF!)),\"1\",\"0\")","v":"0"},{"$f":"IF(ISNUMBER(SEARCH(\"16\",#REF!)),\"1\",\"0\")","v":"0"},{"$f":"IF(ISNUMBER(SEARCH(\"17\",#REF!)),\"1\",\"0\")","v":"0"},2,{"$nulls":3},10,2,4,16,5,{"$nulls":7},3,null,{"$f":"#REF!-#REF!","v":{"$error":"#REF!"}}]
[2,22,4,"4 KAR",2,50,1969,1,3,1,7,3,6,"12. Pesonne de la famille disparue","1","1","0","0","0","0","0","0","0","0","0","1","0","0","0","0","0","0",null,null,3,5,2,{"$f":"IF(ISNUMBER(SEARCH(\"1\",#REF!)),\"1\",\"0\")","v":"0"},{"$f":"IF(ISNUMBER(SEARCH(\"2\",#REF!)),\"1\",\"0\")","v":"0"},{"$f":"IF(ISNUMBER(SEARCH(\"3\",#REF!)),\"1\",\"0\")","v":"0"},{"$f":"IF(ISNUMBER(SEARCH(\"4\",#REF!)),\"1\",\"0\")","v":"0"},{"$f":"IF(ISNUMBER(SEARCH(\"5\",#REF!)),\"1\",\"0\")","v":"0"},{"$f":"IF(ISNUMBER(SEARCH(\"6\",#REF!)),\"1\",\"0\")","v":"0"},{"$f":"IF(ISNUMBER(SEARCH(\"7\",#REF!)),\"1\",\"0\")","v":"0"},{"$f":"IF(ISNUMBER(SEARCH(\"8\",#REF!)),\"1\",\"0\")","v":"0"},{"$f":"IF(ISNUMBER(SEARCH(\"9\",#REF!)),\"1\",\"0\")","v":"0"},{"$f":"IF(ISNUMBER(SEARCH(\"9\",#REF!)),\"1\",\"0\")","v":"0"},{"$f":"IF(ISNUMBER(SEARCH(\"10\",#REF!)),\"1\",\"0\")","v":"0"},{"$f":"IF(ISNUMBER(SEARCH(\"11\",#REF!)),\"1\",\"0\")","v":"0"},{"$f":"IF(ISNUMBER(SEARCH(\"12\",#REF!)),\"1\",\"0\")","v":"0"},{"$f":"IF(ISNUMBER(SEARCH(\"13\",#REF!)),\"1\",\"0\")","v":"0"},{"$f":"IF(ISNUMBER(SEARCH(\"14\",#REF!)),\"1\",\"0\")","v":"0"},{"$f":"IF(ISNUMBER(SEARCH(\"15\",#REF!)),\"1\",\"0\")","v":"0"},{"$f":"IF(ISNUMBER(SEARCH(\"16\",#REF!)),\"1\",\"0\")","v":"0"},{"$f":"IF(ISNUMBER(SEARCH(\"17\",#REF!)),\"1\",\"0\")","v":"0"},{"$nulls":4},22,12,14,48,6,{"$nulls":9},{"$f":"#REF!-#REF!","v":{"$error":"#REF!"}}]
[2,22,4,"2 KAR",2,20,1999,2,3,1,1,5,1,3,"0","0","1","0","0","0","0","0","0","0","0","0","0","0","0","0","0","0",null,null,2,5,1,{"$f":"IF(ISNUMBER(SEARCH(\"1\",#REF!)),\"1\",\"0\")","v":"0"},{"$f":"IF(ISNUMBER(SEARCH(\"2\",#REF!)),\"1\",\"0\")","v":"0"},{"$f":"IF(ISNUMBER(SEARCH(\"3\",#REF!)),\"1\",\"0\")","v":"0"},{"$f":"IF(ISNUMBER(SEARCH(\"4\",#REF!)),\"1\",\"0\")","v":"0"},{"$f":"IF(ISNUMBER(SEARCH(\"5\",#REF!)),\"1\",\"0\")","v":"0"},{"$f":"IF(ISNUMBER(SEARCH(\"6\",#REF!)),\"1\",\"0\")","v":"0"},{"$f":"IF(ISNUMBER(SEARCH(\"7\",#REF!)),\"1\",\"0\")","v":"0"},{"$f":"IF(ISNUMBER(SEARCH(\"8\",#REF!)),\"1\",\"0\")","v":"0"},{"$f":"IF(ISNUMBER(SEARCH(\"9\",#REF!)),\"1\",\"0\")","v":"0"},{"$f":"IF(ISNUMBER(SEARCH(\"9\",#REF!)),\"1\",\"0\")","v":"0"},{"$f":"IF(ISNUMBER(SEARCH(\"10\",#REF!)),\"1\",\"0\")","v":"0"},{"$f":"IF(ISNUMBER(SEARCH(\"11\",#REF!)),\"1\",\"0\")","v":"0"},{"$f":"IF(ISNUMBER(SEARCH(\"12\",#REF!)),\"1\",\"0\")","v":"0"},{"$f":"IF(ISNUMBER(SEARCH(\"13\",#REF!)),\"1\",\"0\")","v":"0"},{"$f":"IF(ISNUMBER(SEARCH(\"14\",#REF!)),\"1\",\"0\")","v":"0"},{"$f":"IF(ISNUMBER(SEARCH(\"15\",#REF!)),\"1\",\"0\")","v":"0"},{"$f":"IF(ISNUMBER(SEARCH(\"16\",#REF!)),\"1\",\"0\")","v":"0"},{"$f":"IF(ISNUMBER(SEARCH(\"17\",#REF!)),\"1\",\"0\")","v":"0"},1,2,null,null,24,20,30,74,10,{"$nulls":9},{"$f":"#REF!-#REF!","v":{"$error":"#REF!"}}]
[2,22,4,"1 KAR",1,35,1984,3,3,1,6,5,2,14,"1","0","0","1","0","0","0","0","0","0","0","0","0","1","0","0","0","0",null,null,1,3,1,{"$f":"IF(ISNUMBER(SEARCH(\"1\",#REF!)),\"1\",\"0\")","v":"0"},{"$f":"IF(ISNUMBER(SEARCH(\"2\",#REF!)),\"1\",\"0\")","v":"0"},{"$f":"IF(ISNUMBER(SEARCH(\"3\",#REF!)),\"1\",\"0\")","v":"0"},{"$f":"IF(ISNUMBER(SEARCH(\"4\",#REF!)),\"1\",\"0\")","v":"0"},{"$f":"IF(ISNUMBER(SEARCH(\"5\",#REF!)),\"1\",\"0\")","v":"0"},{"$f":"IF(ISNUMBER(SEARCH(\"6\",#REF!)),\"1\",\"0\")","v":"0"},{"$f":"IF(ISNUMBER(SEARCH(\"7\",#REF!)),\"1\",\"0\")","v":"0"},{"$f":"IF(ISNUMBER(SEARCH(\"8\",#REF!)),\"1\",\"0\")","v":"0"},{"$f":"IF(ISNUMBER(SEARCH(\"9\",#REF!)),\"1\",\"0\")","v":"0"},{"$f":"IF(ISNUMBER(SEARCH(\"9\",#REF!)),\"1\",\"0\")","v":"0"},{"$f":"IF(ISNUMBER(SEARCH(\"10\",#REF!)),\"1\",\"0\")","v":"0"},{"$f":"IF(ISNUMBER(SEARCH(\"11\",#REF!)),\"1\",\"0\")","v":"0"},{"$f":"IF(ISNUMBER(SEARCH(\"12\",#REF!)),\"1\",\"0\")","v":"0"},{"$f":"IF(ISNUMBER(SEARCH(\"13\",#REF!)),\"1\",\"0\")","v":"0"},{"$f":"IF(ISNUMBER(SEARCH(\"14\",#REF!)),\"1\",\"0\")","v":"0"},{"$f":"IF(ISNUMBER(SEARCH(\"15\",#REF!)),\"1\",\"0\")","v":"0"},{"$f":"IF(ISNUMBER(SEARCH(\"16\",#REF!)),\"1\",\"0\")","v":"0"},{"$f":"IF(ISNUMBER(SEARCH(\"17\",#REF!)),\"1\",\"0\")","v":"0"},{"$nulls":8},10,null,8,8,8,24,null,22,3]
[2,22,4,"1 KAR",2,24,1995,2,3,1,3,3,2,3,"0","0","1","0","0","0","0","0","0","0","0","0","0","0","0","0","0","0",null,null,3,5,2,{"$f":"IF(ISNUMBER(SEARCH(\"1\",#REF!)),\"1\",\"0\")","v":"0"},{"$f":"IF(ISNUMBER(SEARCH(\"2\",#REF!)),\"1\",\"0\")","v":"0"},{"$f":"IF(ISNUMBER(SEARCH(\"3\",#REF!)),\"1\",\"0\")","v":"0"},{"$f":"IF(ISNUMBER(SEARCH(\"4\",#REF!)),\"1\",\"0\")","v":"0"},{"$f":"IF(ISNUMBER(SEARCH(\"5\",#REF!)),\"1\",\"0\")","v":"0"},{"$f":"IF(ISNUMBER(SEARCH(\"6\",#REF!)),\"1\",\"0\")","v":"0"},{"$f":"IF(ISNUMBER(SEARCH(\"7\",#REF!)),\"1\",\"0\")","v":"0"},{"$f":"IF(ISNUMBER(SEARCH(\"8\",#REF!)),\"1\",\"0\")","v":"0"},{"$f":"IF(ISNUMBER(SEARCH(\"9\",#REF!)),\"1\",\"0\")","v":"0"},{"$f":"IF(ISNUMBER(SEARCH(\"9\",#REF!)),\"1\",\"0\")","v":"0"},{"$f":"IF(ISNUMBER(SEARCH(\"10\",#REF!)),\"1\",\"0\")","v":"0"},{"$f":"IF(ISNUMBER(SEARCH(\"11\",#REF!)),\"1\",\"0\")","v":"0"},{"$f":"IF(ISNUMBER(SEARCH(\"12\",#REF!)),\"1\",\"0\")","v":"0"},{"$f":"IF(ISNUMBER(SEARCH(\"13\",#REF!)),\"1\",\"0\")","v":"0"},{"$f":"IF(ISNUMBER(SEARCH(\"14\",#REF!)),\"1\",\"0\")","v":"0"},{"$f":"IF(ISNUMBER(SEARCH(\"15\",#REF!)),\"1\",\"0\")","v":"0"},{"$f":"IF(ISNUMBER(SEARCH(\"16\",#REF!)),\"1\",\"0\")","v":"0"},{"$f":"IF(ISNUMBER(SEARCH(\"17\",#REF!)),\"1\",\"0\")","v":"0"},5,2,null,null,22,24,22,68,10,{"$nulls":9},{"$f":"#REF!-#REF!","v":{"$error":"#REF!"}}]
[2,22,13,"S3",2,22,1997,1,3,1,4,3,2,2,"0","1","0","0","0","0","0","0","0","0","0","0","0","0","0","0","0","0",null,null,1,3,1,{"$f":"IF(ISNUMBER(SEARCH(\"1\",#REF!)),\"1\",\"0\")","v":"0"},{"$f":"IF(ISNUMBER(SEARCH(\"2\",#REF!)),\"1\",\"0\")","v":"0"},{"$f":"IF(ISNUMBER(SEARCH(\"3\",#REF!)),\"1\",\"0\")","v":"0"},{"$f":"IF(ISNUMBER(SEARCH(\"4\",#REF!)),\"1\",\"0\")","v":"0"},{"$f":"IF(ISNUMBER(SEARCH(\"5\",#REF!)),\"1\",\"0\")","v":"0"},{"$f":"IF(ISNUMBER(SEARCH(\"6\",#REF!)),\"1\",\"0\")","v":"0"},{"$f":"IF(ISNUMBER(SEARCH(\"7\",#REF!)),\"1\",\"0\")","v":"0"},{"$f":"IF(ISNUMBER(SEARCH(\"8\",#REF!)),\"1\",\"0\")","v":"0"},{"$f":"IF(ISNUMBER(SEARCH(\"9\",#REF!)),\"1\",\"0\")","v":"0"},{"$f":"IF(ISNUMBER(SEARCH(\"9\",#REF!)),\"1\",\"0\")","v":"0"},{"$f":"IF(ISNUMBER(SEARCH(\"10\",#REF!)),\"1\",\"0\")","v":"0"},{"$f":"IF(ISNUMBER(SEARCH(\"11\",#REF!)),\"1\",\"0\")","v":"0"},{"$f":"IF(ISNUMBER(SEARCH(\"12\",#REF!)),\"1\",\"0\")","v":"0"},{"$f":"IF(ISNUMBER(SEARCH(\"13\",#REF!)),\"1\",\"0\")","v":"0"},{"$f":"IF(ISNUMBER(SEARCH(\"14\",#REF!)),\"1\",\"0\")","v":"0"},{"$f":"IF(ISNUMBER(SEARCH(\"15\",#REF!)),\"1\",\"0\")","v":"0"},{"$f":"IF(ISNUMBER(SEARCH(\"16\",#REF!)),\"1\",\"0\")","v":"0"},{"$f":"IF(ISNUMBER(SEARCH(\"17\",#REF!)),\"1\",\"0\")","v":"0"},{"$nulls":4},10,20,14,44,7,null,2,0,0,2,null,12,4,null,null,{"$f":"#REF!-#REF!","v":{"$error":"#REF!"}}]
[2,22,13,"S3",2,29,1990,1,3,1,3,1,2,3,"0","0","1","0","0","0","0","0","0","0","0","0","0","0","0","0","0","0",null,null,2,5,2,{"$f":"IF(ISNUMBER(SEARCH(\"1\",#REF!)),\"1\",\"0\")","v":"0"},{"$f":"IF(ISNUMBER(SEARCH(\"2\",#REF!)),\"1\",\"0\")","v":"0"},{"$f":"IF(ISNUMBER(SEARCH(\"3\",#REF!)),\"1\",\"0\")","v":"0"},{"$f":"IF(ISNUMBER(SEARCH(\"4\",#REF!)),\"1\",\"0\")","v":"0"},{"$f":"IF(ISNUMBER(SEARCH(\"5\",#REF!)),\"1\",\"0\")","v":"0"},{"$f":"IF(ISNUMBER(SEARCH(\"6\",#REF!)),\"1\",\"0\")","v":"0"},{"$f":"IF(ISNUMBER(SEARCH(\"7\",#REF!)),\"1\",\"0\")","v":"0"},{"$f":"IF(ISNUMBER(SEARCH(\"8\",#REF!)),\"1\",\"0\")","v":"0"},{"$f":"IF(ISNUMBER(SEARCH(\"9\",#REF!)),\"1\",\"0\")","v":"0"},{"$f":"IF(ISNUMBER(SEARCH(\"9\",#REF!)),\"1\",\"0\")","v":"0"},{"$f":"IF(ISNUMBER(SEARCH(\"10\",#REF!)),\"1\",\"0\")","v":"0"},{"$f":"IF(ISNUMBER(SEARCH(\"11\",#REF!)),\"1\",\"0\")","v":"0"},{"$f":"IF(ISNUMBER(SEARCH(\"12\",#REF!)),\"1\",\"0\")","v":"0"},{"$f":"IF(ISNUMBER(SEARCH(\"13\",#REF!)),\"1\",\"0\")","v":"0"},{"$f":"IF(ISNUMBER(SEARCH(\"14\",#REF!)),\"1\",\"0\")","v":"0"},{"$f":"IF(ISNUMBER(SEARCH(\"15\",#REF!)),\"1\",\"0\")","v":"0"},{"$f":"IF(ISNUMBER(SEARCH(\"16\",#REF!)),\"1\",\"0\")","v":"0"},{"$f":"IF(ISNUMBER(SEARCH(\"17\",#REF!)),\"1\",\"0\")","v":"0"},1,3,null,null,30,28,22,80,6]
[2,22,12,"CBM",2,35,1984,1,8,1,8,3,2,3,"0","0","1","0","0","0","0","0","0","0","0","0","0","0","0","0","0","0",null,null,2,5,2,{"$f":"IF(ISNUMBER(SEARCH(\"1\",#REF!)),\"1\",\"0\")","v":"0"},{"$f":"IF(ISNUMBER(SEARCH(\"2\",#REF!)),\"1\",\"0\")","v":"0"},{"$f":"IF(ISNUMBER(SEARCH(\"3\",#REF!)),\"1\",\"0\")","v":"0"},{"$f":"IF(ISNUMBER(SEARCH(\"4\",#REF!)),\"1\",\"0\")","v":"0"},{"$f":"IF(ISNUMBER(SEARCH(\"5\",#REF!)),\"1\",\"0\")","v":"0"},{"$f":"IF(ISNUMBER(SEARCH(\"6\",#REF!)),\"1\",\"0\")","v":"0"},{"$f":"IF(ISNUMBER(SEARCH(\"7\",#REF!)),\"1\",\"0\")","v":"0"},{"$f":"IF(ISNUMBER(SEARCH(\"8\",#REF!)),\"1\",\"0\")","v":"0"},{"$f":"IF(ISNUMBER(SEARCH(\"9\",#REF!)),\"1\",\"0\")","v":"0"},{"$f":"IF(ISNUMBER(SEARCH(\"9\",#REF!)),\"1\",\"0\")","v":"0"},{"$f":"IF(ISNUMBER(SEARCH(\"10\",#REF!)),\"1\",\"0\")","v":"0"},{"$f":"IF(ISNUMBER(SEARCH(\"11\",#REF!)),\"1\",\"0\")","v":"0"},{"$f":"IF(ISNUMBER(SEARCH(\"12\",#REF!)),\"1\",\"0\")","v":"0"},{"$f":"IF(ISNUMBER(SEARCH(\"13\",#REF!)),\"1\",\"0\")","v":"0"},{"$f":"IF(ISNUMBER(SEARCH(\"14\",#REF!)),\"1\",\"0\")","v":"0"},{"$f":"IF(ISNUMBER(SEARCH(\"15\",#REF!)),\"1\",\"0\")","v":"0"},{"$f":"IF(ISNUMBER(SEARCH(\"16\",#REF!)),\"1\",\"0\")","v":"0"},{"$f":"IF(ISNUMBER(SEARCH(\"17\",#REF!)),\"1\",\"0\")","v":"0"},4,2,null,null,6,0,8,14,8,null,0,2,0,2,null,13,5,null,{"$f":"#REF!-#REF!","v":{"$error":"#REF!"}},{"$f":"#REF!-#REF!","v":{"$error":"#REF!"}}]
[2,22,2,"F2",2,26,1993,null,3,2,4,5,2,3,"0","0","1","0","0","0","0","0","0","0","0","0","0","0","0","0","0","0",null,null,3,5,2,{"$f":"IF(ISNUMBER(SEARCH(\"1\",#REF!)),\"1\",\"0\")","v":"0"},{"$f":"IF(ISNUMBER(SEARCH(\"2\",#REF!)),\"1\",\"0\")","v":"0"},{"$f":"IF(ISNUMBER(SEARCH(\"3\",#REF!)),\"1\",\"0\")","v":"0"},{"$f":"IF(ISNUMBER(SEARCH(\"4\",#REF!)),\"1\",\"0\")","v":"0"},{"$f":"IF(ISNUMBER(SEARCH(\"5\",#REF!)),\"1\",\"0\")","v":"0"},{"$f":"IF(ISNUMBER(SEARCH(\"6\",#REF!)),\"1\",\"0\")","v":"0"},{"$f":"IF(ISNUMBER(SEARCH(\"7\",#REF!)),\"1\",\"0\")","v":"0"},{"$f":"IF(ISNUMBER(SEARCH(\"8\",#REF!)),\"1\",\"0\")","v":"0"},{"$f":"IF(ISNUMBER(SEARCH(\"9\",#REF!)),\"1\",\"0\")","v":"0"},{"$f":"IF(ISNUMBER(SEARCH(\"9\",#REF!)),\"1\",\"0\")","v":"0"},{"$f":"IF(ISNUMBER(SEARCH(\"10\",#REF!)),\"1\",\"0\")","v":"0"},{"$f":"IF(ISNUMBER(SEARCH(\"11\",#REF!)),\"1\",\"0\")","v":"0"},{"$f":"IF(ISNUMBER(SEARCH(\"12\",#REF!)),\"1\",\"0\")","v":"0"},{"$f":"IF(ISNUMBER(SEARCH(\"13\",#REF!)),\"1\",\"0\")","v":"0"},{"$f":"IF(ISNUMBER(SEARCH(\"14\",#REF!)),\"1\",\"0\")","v":"0"},{"$f":"IF(ISNUMBER(SEARCH(\"15\",#REF!)),\"1\",\"0\")","v":"0"},{"$f":"IF(ISNUMBER(SEARCH(\"16\",#REF!)),\"1\",\"0\")","v":"0"},{"$f":"IF(ISNUMBER(SEARCH(\"17\",#REF!)),\"1\",\"0\")","v":"0"},1,3,null,null,14,10,12,36,4,null,2,8,10,20,null,6,3,null,null,{"$f":"#REF!-#REF!","v":{"$error":"#REF!"}}]
[2,22,7,"BF",2,9,2010,3,3,1,0,5,1,3,"0","0","1","0","0","0","0","0","0","0","0","0","0","0","0","0","0","0",null,null,2,5,2,{"$f":"IF(ISNUMBER(SEARCH(\"1\",#REF!)),\"1\",\"0\")","v":"0"},{"$f":"IF(ISNUMBER(SEARCH(\"2\",#REF!)),\"1\",\"0\")","v":"0"},{"$f":"IF(ISNUMBER(SEARCH(\"3\",#REF!)),\"1\",\"0\")","v":"0"},{"$f":"IF(ISNUMBER(SEARCH(\"4\",#REF!)),\"1\",\"0\")","v":"0"},{"$f":"IF(ISNUMBER(SEARCH(\"5\",#REF!)),\"1\",\"0\")","v":"0"},{"$f":"IF(ISNUMBER(SEARCH(\"6\",#REF!)),\"1\",\"0\")","v":"0"},{"$f":"IF(ISNUMBER(SEARCH(\"7\",#REF!)),\"1\",\"0\")","v":"0"},{"$f":"IF(ISNUMBER(SEARCH(\"8\",#REF!)),\"1\",\"0\")","v":"0"},{"$f":"IF(ISNUMBER(SEARCH(\"9\",#REF!)),\"1\",\"0\")","v":"0"},{"$f":"IF(ISNUMBER(SEARCH(\"9\",#REF!)),\"1\",\"0\")","v":"0"},{"$f":"IF(ISNUMBER(SEARCH(\"10\",#REF!)),\"1\",\"0\")","v":"0"},{"$f":"IF(ISNUMBER(SEARCH(\"11\",#REF!)),\"1\",\"0\")","v":"0"},{"$f":"IF(ISNUMBER(SEARCH(\"12\",#REF!)),\"1\",\"0\")","v":"0"},{"$f":"IF(ISNUMBER(SEARCH(\"13\",#REF!)),\"1\",\"0\")","v":"0"},{"$f":"IF(ISNUMBER(SEARCH(\"14\",#REF!)),\"1\",\"0\")","v":"0"},{"$f":"IF(ISNUMBER(SEARCH(\"15\",#REF!)),\"1\",\"0\")","v":"0"},{"$f":"IF(ISNUMBER(SEARCH(\"16\",#REF!)),\"1\",\"0\")","v":"0"},{"$f":"IF(ISNUMBER(SEARCH(\"17\",#REF!)),\"1\",\"0\")","v":"0"},1,1,null,null,28,24,16,68,8,{"$nulls":9},{"$f":"#REF!-#REF!","v":{"$error":"#REF!"}}]
[2,22,10,"IB",1,47,1972,1,8,1,8,3,2,"16. Autre (SVP dans la case suivante) ","1","0","0","0","0","1","0","0","0","0","0","0","0","0","0","1","0","0",null,null,3,5,2,{"$f":"IF(ISNUMBER(SEARCH(\"1\",#REF!)),\"1\",\"0\")","v":"0"},{"$f":"IF(ISNUMBER(SEARCH(\"2\",#REF!)),\"1\",\"0\")","v":"0"},{"$f":"IF(ISNUMBER(SEARCH(\"3\",#REF!)),\"1\",\"0\")","v":"0"},{"$f":"IF(ISNUMBER(SEARCH(\"4\",#REF!)),\"1\",\"0\")","v":"0"},{"$f":"IF(ISNUMBER(SEARCH(\"5\",#REF!)),\"1\",\"0\")","v":"0"},{"$f":"IF(ISNUMBER(SEARCH(\"6\",#REF!)),\"1\",\"0\")","v":"0"},{"$f":"IF(ISNUMBER(SEARCH(\"7\",#REF!)),\"1\",\"0\")","v":"0"},{"$f":"IF(ISNUMBER(SEARCH(\"8\",#REF!)),\"1\",\"0\")","v":"0"},{"$f":"IF(ISNUMBER(SEARCH(\"9\",#REF!)),\"1\",\"0\")","v":"0"},{"$f":"IF(ISNUMBER(SEARCH(\"9\",#REF!)),\"1\",\"0\")","v":"0"},{"$f":"IF(ISNUMBER(SEARCH(\"10\",#REF!)),\"1\",\"0\")","v":"0"},{"$f":"IF(ISNUMBER(SEARCH(\"11\",#REF!)),\"1\",\"0\")","v":"0"},{"$f":"IF(ISNUMBER(SEARCH(\"12\",#REF!)),\"1\",\"0\")","v":"0"},{"$f":"IF(ISNUMBER(SEARCH(\"13\",#REF!)),\"1\",\"0\")","v":"0"},{"$f":"IF(ISNUMBER(SEARCH(\"14\",#REF!)),\"1\",\"0\")","v":"0"},{"$f":"IF(ISNUMBER(SEARCH(\"15\",#REF!)),\"1\",\"0\")","v":"0"},{"$f":"IF(ISNUMBER(SEARCH(\"16\",#REF!)),\"1\",\"0\")","v":"0"},{"$f":"IF(ISNUMBER(SEARCH(\"17\",#REF!)),\"1\",\"0\")","v":"0"},{"$nulls":4},26,10,22,58,2]
[2,22,12,"CBM",2,40,1979,1,8,1,8,1,6,3,"0","0","1","0","0","0","0","0","0","0","0","0","0","0","0","0","0","0",null,null,2,5,2,{"$f":"IF(ISNUMBER(SEARCH(\"1\",#REF!)),\"1\",\"0\")","v":"0"},{"$f":"IF(ISNUMBER(SEARCH(\"2\",#REF!)),\"1\",\"0\")","v":"0"},{"$f":"IF(ISNUMBER(SEARCH(\"3\",#REF!)),\"1\",\"0\")","v":"0"},{"$f":"IF(ISNUMBER(SEARCH(\"4\",#REF!)),\"1\",\"0\")","v":"0"},{"$f":"IF(ISNUMBER(SEARCH(\"5\",#REF!)),\"1\",\"0\")","v":"0"},{"$f":"IF(ISNUMBER(SEARCH(\"6\",#REF!)),\"1\",\"0\")","v":"0"},{"$f":"IF(ISNUMBER(SEARCH(\"7\",#REF!)),\"1\",\"0\")","v":"0"},{"$f":"IF(ISNUMBER(SEARCH(\"8\",#REF!)),\"1\",\"0\")","v":"0"},{"$f":"IF(ISNUMBER(SEARCH(\"9\",#REF!)),\"1\",\"0\")","v":"0"},{"$f":"IF(ISNUMBER(SEARCH(\"9\",#REF!)),\"1\",\"0\")","v":"0"},{"$f":"IF(ISNUMBER(SEARCH(\"10\",#REF!)),\"1\",\"0\")","v":"0"},{"$f":"IF(ISNUMBER(SEARCH(\"11\",#REF!)),\"1\",\"0\")","v":"0"},{"$f":"IF(ISNUMBER(SEARCH(\"12\",#REF!)),\"1\",\"0\")","v":"0"},{"$f":"IF(ISNUMBER(SEARCH(\"13\",#REF!)),\"1\",\"0\")","v":"0"},{"$f":"IF(ISNUMBER(SEARCH(\"14\",#REF!)),\"1\",\"0\")","v":"0"},{"$f":"IF(ISNUMBER(SEARCH(\"15\",#REF!)),\"1\",\"0\")","v":"0"},{"$f":"IF(ISNUMBER(SEARCH(\"16\",#REF!)),\"1\",\"0\")","v":"0"},{"$f":"IF(ISNUMBER(SEARCH(\"17\",#REF!)),\"1\",\"0\")","v":"0"},4,{"$nulls":7},7]
[2,22,12,"MN",2,36,1983,1,3,1,7,11,2,3,"0","0","1","0","0","0","0","0","0","0","0","0","0","0","0","0","0","0",null,null,1,5,2,{"$f":"IF(ISNUMBER(SEARCH(\"1\",#REF!)),\"1\",\"0\")","v":"0"},{"$f":"IF(ISNUMBER(SEARCH(\"2\",#REF!)),\"1\",\"0\")","v":"0"},{"$f":"IF(ISNUMBER(SEARCH(\"3\",#REF!)),\"1\",\"0\")","v":"0"},{"$f":"IF(ISNUMBER(SEARCH(\"4\",#REF!)),\"1\",\"0\")","v":"0"},{"$f":"IF(ISNUMBER(SEARCH(\"5\",#REF!)),\"1\",\"0\")","v":"0"},{"$f":"IF(ISNUMBER(SEARCH(\"6\",#REF!)),\"1\",\"0\")","v":"0"},{"$f":"IF(ISNUMBER(SEARCH(\"7\",#REF!)),\"1\",\"0\")","v":"0"},{"$f":"IF(ISNUMBER(SEARCH(\"8\",#REF!)),\"1\",\"0\")","v":"0"},{"$f":"IF(ISNUMBER(SEARCH(\"9\",#REF!)),\"1\",\"0\")","v":"0"},{"$f":"IF(ISNUMBER(SEARCH(\"9\",#REF!)),\"1\",\"0\")","v":"0"},{"$f":"IF(ISNUMBER(SEARCH(\"10\",#REF!)),\"1\",\"0\")","v":"0"},{"$f":"IF(ISNUMBER(SEARCH(\"11\",#REF!)),\"1\",\"0\")","v":"0"},{"$f":"IF(ISNUMBER(SEARCH(\"12\",#REF!)),\"1\",\"0\")","v":"0"},{"$f":"IF(ISNUMBER(SEARCH(\"13\",#REF!)),\"1\",\"0\")","v":"0"},{"$f":"IF(ISNUMBER(SEARCH(\"14\",#REF!)),\"1\",\"0\")","v":"0"},{"$f":"IF(ISNUMBER(SEARCH(\"15\",#REF!)),\"1\",\"0\")","v":"0"},{"$f":"IF(ISNUMBER(SEARCH(\"16\",#REF!)),\"1\",\"0\")","v":"0"},{"$f":"IF(ISNUMBER(SEARCH(\"17\",#REF!)),\"1\",\"0\")","v":"0"},5,2,null,null,20,16,12,48,8,{"$nulls":9},{"$f":"#REF!-#REF!","v":{"$error":"#REF!"}}]
[2,22,11,"MLO",2,51,1968,1,3,1,7,4,2,3,"0","0","1","0","0","0","0","0","0","0","0","0","0","0","0","0","0","0",null,null,3,5,2,{"$f":"IF(ISNUMBER(SEARCH(\"1\",#REF!)),\"1\",\"0\")","v":"0"},{"$f":"IF(ISNUMBER(SEARCH(\"2\",#REF!)),\"1\",\"0\")","v":"0"},{"$f":"IF(ISNUMBER(SEARCH(\"3\",#REF!)),\"1\",\"0\")","v":"0"},{"$f":"IF(ISNUMBER(SEARCH(\"4\",#REF!)),\"1\",\"0\")","v":"0"},{"$f":"IF(ISNUMBER(SEARCH(\"5\",#REF!)),\"1\",\"0\")","v":"0"},{"$f":"IF(ISNUMBER(SEARCH(\"6\",#REF!)),\"1\",\"0\")","v":"0"},{"$f":"IF(ISNUMBER(SEARCH(\"7\",#REF!)),\"1\",\"0\")","v":"0"},{"$f":"IF(ISNUMBER(SEARCH(\"8\",#REF!)),\"1\",\"0\")","v":"0"},{"$f":"IF(ISNUMBER(SEARCH(\"9\",#REF!)),\"1\",\"0\")","v":"0"},{"$f":"IF(ISNUMBER(SEARCH(\"9\",#REF!)),\"1\",\"0\")","v":"0"},{"$f":"IF(ISNUMBER(SEARCH(\"10\",#REF!)),\"1\",\"0\")","v":"0"},{"$f":"IF(ISNUMBER(SEARCH(\"11\",#REF!)),\"1\",\"0\")","v":"0"},{"$f":"IF(ISNUMBER(SEARCH(\"12\",#REF!)),\"1\",\"0\")","v":"0"},{"$f":"IF(ISNUMBER(SEARCH(\"13\",#REF!)),\"1\",\"0\")","v":"0"},{"$f":"IF(ISNUMBER(SEARCH(\"14\",#REF!)),\"1\",\"0\")","v":"0"},{"$f":"IF(ISNUMBER(SEARCH(\"15\",#REF!)),\"1\",\"0\")","v":"0"},{"$f":"IF(ISNUMBER(SEARCH(\"16\",#REF!)),\"1\",\"0\")","v":"0"},{"$f":"IF(ISNUMBER(SEARCH(\"17\",#REF!)),\"1\",\"0\")","v":"0"},1,3,null,null,4,0,8,12,4,{"$nulls":7},3,null,{"$f":"#REF!-#REF!","v":{"$error":"#REF!"}}]
[2,22,10,"NA",2,35,1984,3,8,2,0,5,5,3,"0","0","1","0","0","0","0","0","0","0","0","0","0","0","0","0","0","0",null,null,3,5,2,{"$f":"IF(ISNUMBER(SEARCH(\"1\",#REF!)),\"1\",\"0\")","v":"0"},{"$f":"IF(ISNUMBER(SEARCH(\"2\",#REF!)),\"1\",\"0\")","v":"0"},{"$f":"IF(ISNUMBER(SEARCH(\"3\",#REF!)),\"1\",\"0\")","v":"0"},{"$f":"IF(ISNUMBER(SEARCH(\"4\",#REF!)),\"1\",\"0\")","v":"0"},{"$f":"IF(ISNUMBER(SEARCH(\"5\",#REF!)),\"1\",\"0\")","v":"0"},{"$f":"IF(ISNUMBER(SEARCH(\"6\",#REF!)),\"1\",\"0\")","v":"0"},{"$f":"IF(ISNUMBER(SEARCH(\"7\",#REF!)),\"1\",\"0\")","v":"0"},{"$f":"IF(ISNUMBER(SEARCH(\"8\",#REF!)),\"1\",\"0\")","v":"0"},{"$f":"IF(ISNUMBER(SEARCH(\"9\",#REF!)),\"1\",\"0\")","v":"0"},{"$f":"IF(ISNUMBER(SEARCH(\"9\",#REF!)),\"1\",\"0\")","v":"0"},{"$f":"IF(ISNUMBER(SEARCH(\"10\",#REF!)),\"1\",\"0\")","v":"0"},{"$f":"IF(ISNUMBER(SEARCH(\"11\",#REF!)),\"1\",\"0\")","v":"0"},{"$f":"IF(ISNUMBER(SEARCH(\"12\",#REF!)),\"1\",\"0\")","v":"0"},{"$f":"IF(ISNUMBER(SEARCH(\"13\",#REF!)),\"1\",\"0\")","v":"0"},{"$f":"IF(ISNUMBER(SEARCH(\"14\",#REF!)),\"1\",\"0\")","v":"0"},{"$f":"IF(ISNUMBER(SEARCH(\"15\",#REF!)),\"1\",\"0\")","v":"0"},{"$f":"IF(ISNUMBER(SEARCH(\"16\",#REF!)),\"1\",\"0\")","v":"0"},{"$f":"IF(ISNUMBER(SEARCH(\"17\",#REF!)),\"1\",\"0\")","v":"0"},1,3,null,null,10,12,12,34,4,null,6,6,10,22,null,14,5,null,{"$f":"#REF!-#REF!","v":{"$error":"#REF!"}},{"$f":"#REF!-#REF!","v":{"$error":"#REF!"}}]
[2,22,8,"AN",2,28,1991,1,3,1,5,5,2,"4. Tentative de Viol","0","0","0","1","0","0","0","0","0","0","0","0","0","0","0","0","0","0",null,null,2,5,2,{"$f":"IF(ISNUMBER(SEARCH(\"1\",#REF!)),\"1\",\"0\")","v":"0"},{"$f":"IF(ISNUMBER(SEARCH(\"2\",#REF!)),\"1\",\"0\")","v":"0"},{"$f":"IF(ISNUMBER(SEARCH(\"3\",#REF!)),\"1\",\"0\")","v":"0"},{"$f":"IF(ISNUMBER(SEARCH(\"4\",#REF!)),\"1\",\"0\")","v":"0"},{"$f":"IF(ISNUMBER(SEARCH(\"5\",#REF!)),\"1\",\"0\")","v":"0"},{"$f":"IF(ISNUMBER(SEARCH(\"6\",#REF!)),\"1\",\"0\")","v":"0"},{"$f":"IF(ISNUMBER(SEARCH(\"7\",#REF!)),\"1\",\"0\")","v":"0"},{"$f":"IF(ISNUMBER(SEARCH(\"8\",#REF!)),\"1\",\"0\")","v":"0"},{"$f":"IF(ISNUMBER(SEARCH(\"9\",#REF!)),\"1\",\"0\")","v":"0"},{"$f":"IF(ISNUMBER(SEARCH(\"9\",#REF!)),\"1\",\"0\")","v":"0"},{"$f":"IF(ISNUMBER(SEARCH(\"10\",#REF!)),\"1\",\"0\")","v":"0"},{"$f":"IF(ISNUMBER(SEARCH(\"11\",#REF!)),\"1\",\"0\")","v":"0"},{"$f":"IF(ISNUMBER(SEARCH(\"12\",#REF!)),\"1\",\"0\")","v":"0"},{"$f":"IF(ISNUMBER(SEARCH(\"13\",#REF!)),\"1\",\"0\")","v":"0"},{"$f":"IF(ISNUMBER(SEARCH(\"14\",#REF!)),\"1\",\"0\")","v":"0"},{"$f":"IF(ISNUMBER(SEARCH(\"15\",#REF!)),\"1\",\"0\")","v":"0"},{"$f":"IF(ISNUMBER(SEARCH(\"16\",#REF!)),\"1\",\"0\")","v":"0"},{"$f":"IF(ISNUMBER(SEARCH(\"17\",#REF!)),\"1\",\"0\")","v":"0"},null,3,{"$nulls":6},4,null,4,0,6,{"$f":"BN1798+BO1798+BP1798","v":10},null,11,5]
[2,22,9,"LL",2,24,1995,2,7,1,0,5,1,3,"0","0","1","0","0","0","0","0","0","0","0","0","0","0","0","0","0","0",null,null,3,5,2,{"$f":"IF(ISNUMBER(SEARCH(\"1\",#REF!)),\"1\",\"0\")","v":"0"},{"$f":"IF(ISNUMBER(SEARCH(\"2\",#REF!)),\"1\",\"0\")","v":"0"},{"$f":"IF(ISNUMBER(SEARCH(\"3\",#REF!)),\"1\",\"0\")","v":"0"},{"$f":"IF(ISNUMBER(SEARCH(\"4\",#REF!)),\"1\",\"0\")","v":"0"},{"$f":"IF(ISNUMBER(SEARCH(\"5\",#REF!)),\"1\",\"0\")","v":"0"},{"$f":"IF(ISNUMBER(SEARCH(\"6\",#REF!)),\"1\",\"0\")","v":"0"},{"$f":"IF(ISNUMBER(SEARCH(\"7\",#REF!)),\"1\",\"0\")","v":"0"},{"$f":"IF(ISNUMBER(SEARCH(\"8\",#REF!)),\"1\",\"0\")","v":"0"},{"$f":"IF(ISNUMBER(SEARCH(\"9\",#REF!)),\"1\",\"0\")","v":"0"},{"$f":"IF(ISNUMBER(SEARCH(\"9\",#REF!)),\"1\",\"0\")","v":"0"},{"$f":"IF(ISNUMBER(SEARCH(\"10\",#REF!)),\"1\",\"0\")","v":"0"},{"$f":"IF(ISNUMBER(SEARCH(\"11\",#REF!)),\"1\",\"0\")","v":"0"},{"$f":"IF(ISNUMBER(SEARCH(\"12\",#REF!)),\"1\",\"0\")","v":"0"},{"$f":"IF(ISNUMBER(SEARCH(\"13\",#REF!)),\"1\",\"0\")","v":"0"},{"$f":"IF(ISNUMBER(SEARCH(\"14\",#REF!)),\"1\",\"0\")","v":"0"},{"$f":"IF(ISNUMBER(SEARCH(\"15\",#REF!)),\"1\",\"0\")","v":"0"},{"$f":"IF(ISNUMBER(SEARCH(\"16\",#REF!)),\"1\",\"0\")","v":"0"},{"$f":"IF(ISNUMBER(SEARCH(\"17\",#REF!)),\"1\",\"0\")","v":"0"},1,3,null,null,14,0,2,16,7,{"$nulls":7},4]
[2,22,4,"1 KAR",2,20,1999,3,2,1,0,5,1,3,"0","0","1","0","0","0","0","0","0","0","0","0","0","0","0","0","0","0",null,null,4,5,2,{"$f":"IF(ISNUMBER(SEARCH(\"1\",#REF!)),\"1\",\"0\")","v":"0"},{"$f":"IF(ISNUMBER(SEARCH(\"2\",#REF!)),\"1\",\"0\")","v":"0"},{"$f":"IF(ISNUMBER(SEARCH(\"3\",#REF!)),\"1\",\"0\")","v":"0"},{"$f":"IF(ISNUMBER(SEARCH(\"4\",#REF!)),\"1\",\"0\")","v":"0"},{"$f":"IF(ISNUMBER(SEARCH(\"5\",#REF!)),\"1\",\"0\")","v":"0"},{"$f":"IF(ISNUMBER(SEARCH(\"6\",#REF!)),\"1\",\"0\")","v":"0"},{"$f":"IF(ISNUMBER(SEARCH(\"7\",#REF!)),\"1\",\"0\")","v":"0"},{"$f":"IF(ISNUMBER(SEARCH(\"8\",#REF!)),\"1\",\"0\")","v":"0"},{"$f":"IF(ISNUMBER(SEARCH(\"9\",#REF!)),\"1\",\"0\")","v":"0"},{"$f":"IF(ISNUMBER(SEARCH(\"9\",#REF!)),\"1\",\"0\")","v":"0"},{"$f":"IF(ISNUMBER(SEARCH(\"10\",#REF!)),\"1\",\"0\")","v":"0"},{"$f":"IF(ISNUMBER(SEARCH(\"11\",#REF!)),\"1\",\"0\")","v":"0"},{"$f":"IF(ISNUMBER(SEARCH(\"12\",#REF!)),\"1\",\"0\")","v":"0"},{"$f":"IF(ISNUMBER(SEARCH(\"13\",#REF!)),\"1\",\"0\")","v":"0"},{"$f":"IF(ISNUMBER(SEARCH(\"14\",#REF!)),\"1\",\"0\")","v":"0"},{"$f":"IF(ISNUMBER(SEARCH(\"15\",#REF!)),\"1\",\"0\")","v":"0"},{"$f":"IF(ISNUMBER(SEARCH(\"16\",#REF!)),\"1\",\"0\")","v":"0"},{"$f":"IF(ISNUMBER(SEARCH(\"17\",#REF!)),\"1\",\"0\")","v":"0"},4,{"$nulls":3},32,28,34,94,5,{"$nulls":9},{"$f":"#REF!-#REF!","v":{"$error":"#REF!"}}]
[2,22,2,"F1",2,33,1986,2,3,2,6,5,2,3,"0","0","1","0","0","0","0","0","0","0","0","0","0","0","0","0","0","0",null,null,3,5,2,{"$f":"IF(ISNUMBER(SEARCH(\"1\",#REF!)),\"1\",\"0\")","v":"0"},{"$f":"IF(ISNUMBER(SEARCH(\"2\",#REF!)),\"1\",\"0\")","v":"0"},{"$f":"IF(ISNUMBER(SEARCH(\"3\",#REF!)),\"1\",\"0\")","v":"0"},{"$f":"IF(ISNUMBER(SEARCH(\"4\",#REF!)),\"1\",\"0\")","v":"0"},{"$f":"IF(ISNUMBER(SEARCH(\"5\",#REF!)),\"1\",\"0\")","v":"0"},{"$f":"IF(ISNUMBER(SEARCH(\"6\",#REF!)),\"1\",\"0\")","v":"0"},{"$f":"IF(ISNUMBER(SEARCH(\"7\",#REF!)),\"1\",\"0\")","v":"0"},{"$f":"IF(ISNUMBER(SEARCH(\"8\",#REF!)),\"1\",\"0\")","v":"0"},{"$f":"IF(ISNUMBER(SEARCH(\"9\",#REF!)),\"1\",\"0\")","v":"0"},{"$f":"IF(ISNUMBER(SEARCH(\"9\",#REF!)),\"1\",\"0\")","v":"0"},{"$f":"IF(ISNUMBER(SEARCH(\"10\",#REF!)),\"1\",\"0\")","v":"0"},{"$f":"IF(ISNUMBER(SEARCH(\"11\",#REF!)),\"1\",\"0\")","v":"0"},{"$f":"IF(ISNUMBER(SEARCH(\"12\",#REF!)),\"1\",\"0\")","v":"0"},{"$f":"IF(ISNUMBER(SEARCH(\"13\",#REF!)),\"1\",\"0\")","v":"0"},{"$f":"IF(ISNUMBER(SEARCH(\"14\",#REF!)),\"1\",\"0\")","v":"0"},{"$f":"IF(ISNUMBER(SEARCH(\"15\",#REF!)),\"1\",\"0\")","v":"0"},{"$f":"IF(ISNUMBER(SEARCH(\"16\",#REF!)),\"1\",\"0\")","v":"0"},{"$f":"IF(ISNUMBER(SEARCH(\"17\",#REF!)),\"1\",\"0\")","v":"0"},1,3,null,null,16,14,6,36,4,null,6,2,2,10,null,7,3,null,null,{"$f":"#REF!-#REF!","v":{"$error":"#REF!"}}]
[2,22,7,"BF",2,45,1974,2,3,1,5,5,6,3,"0","0","1","0","0","0","0","0","0","0","0","0","0","0","0","0","0","0",null,null,1,5,null,{"$f":"IF(ISNUMBER(SEARCH(\"1\",#REF!)),\"1\",\"0\")","v":"0"},{"$f":"IF(ISNUMBER(SEARCH(\"2\",#REF!)),\"1\",\"0\")","v":"0"},{"$f":"IF(ISNUMBER(SEARCH(\"3\",#REF!)),\"1\",\"0\")","v":"0"},{"$f":"IF(ISNUMBER(SEARCH(\"4\",#REF!)),\"1\",\"0\")","v":"0"},{"$f":"IF(ISNUMBER(SEARCH(\"5\",#REF!)),\"1\",\"0\")","v":"0"},{"$f":"IF(ISNUMBER(SEARCH(\"6\",#REF!)),\"1\",\"0\")","v":"0"},{"$f":"IF(ISNUMBER(SEARCH(\"7\",#REF!)),\"1\",\"0\")","v":"0"},{"$f":"IF(ISNUMBER(SEARCH(\"8\",#REF!)),\"1\",\"0\")","v":"0"},{"$f":"IF(ISNUMBER(SEARCH(\"9\",#REF!)),\"1\",\"0\")","v":"0"},{"$f":"IF(ISNUMBER(SEARCH(\"9\",#REF!)),\"1\",\"0\")","v":"0"},{"$f":"IF(ISNUMBER(SEARCH(\"10\",#REF!)),\"1\",\"0\")","v":"0"},{"$f":"IF(ISNUMBER(SEARCH(\"11\",#REF!)),\"1\",\"0\")","v":"0"},{"$f":"IF(ISNUMBER(SEARCH(\"12\",#REF!)),\"1\",\"0\")","v":"0"},{"$f":"IF(ISNUMBER(SEARCH(\"13\",#REF!)),\"1\",\"0\")","v":"0"},{"$f":"IF(ISNUMBER(SEARCH(\"14\",#REF!)),\"1\",\"0\")","v":"0"},{"$f":"IF(ISNUMBER(SEARCH(\"15\",#REF!)),\"1\",\"0\")","v":"0"},{"$f":"IF(ISNUMBER(SEARCH(\"16\",#REF!)),\"1\",\"0\")","v":"0"},{"$f":"IF(ISNUMBER(SEARCH(\"17\",#REF!)),\"1\",\"0\")","v":"0"},3,{"$nulls":3},20,32,20,72,6,{"$nulls":9},{"$f":"#REF!-#REF!","v":{"$error":"#REF!"}}]
[2,22,6,"KK",2,20,1999,2,3,1,1,5,2,3,"0","0","1","0","0","0","0","0","0","0","0","0","0","0","0","0","0","0",null,null,2,5,2,{"$f":"IF(ISNUMBER(SEARCH(\"1\",#REF!)),\"1\",\"0\")","v":"0"},{"$f":"IF(ISNUMBER(SEARCH(\"2\",#REF!)),\"1\",\"0\")","v":"0"},{"$f":"IF(ISNUMBER(SEARCH(\"3\",#REF!)),\"1\",\"0\")","v":"0"},{"$f":"IF(ISNUMBER(SEARCH(\"4\",#REF!)),\"1\",\"0\")","v":"0"},{"$f":"IF(ISNUMBER(SEARCH(\"5\",#REF!)),\"1\",\"0\")","v":"0"},{"$f":"IF(ISNUMBER(SEARCH(\"6\",#REF!)),\"1\",\"0\")","v":"0"},{"$f":"IF(ISNUMBER(SEARCH(\"7\",#REF!)),\"1\",\"0\")","v":"0"},{"$f":"IF(ISNUMBER(SEARCH(\"8\",#REF!)),\"1\",\"0\")","v":"0"},{"$f":"IF(ISNUMBER(SEARCH(\"9\",#REF!)),\"1\",\"0\")","v":"0"},{"$f":"IF(ISNUMBER(SEARCH(\"9\",#REF!)),\"1\",\"0\")","v":"0"},{"$f":"IF(ISNUMBER(SEARCH(\"10\",#REF!)),\"1\",\"0\")","v":"0"},{"$f":"IF(ISNUMBER(SEARCH(\"11\",#REF!)),\"1\",\"0\")","v":"0"},{"$f":"IF(ISNUMBER(SEARCH(\"12\",#REF!)),\"1\",\"0\")","v":"0"},{"$f":"IF(ISNUMBER(SEARCH(\"13\",#REF!)),\"1\",\"0\")","v":"0"},{"$f":"IF(ISNUMBER(SEARCH(\"14\",#REF!)),\"1\",\"0\")","v":"0"},{"$f":"IF(ISNUMBER(SEARCH(\"15\",#REF!)),\"1\",\"0\")","v":"0"},{"$f":"IF(ISNUMBER(SEARCH(\"16\",#REF!)),\"1\",\"0\")","v":"0"},{"$f":"IF(ISNUMBER(SEARCH(\"17\",#REF!)),\"1\",\"0\")","v":"0"},1,1,null,null,26,24,24,74,2,{"$nulls":6},7,2,null,{"$f":"#REF!-#REF!","v":{"$error":"#REF!"}}]
[2,22,11,"RB",2,27,null,3,3,1,0,5,2,3,"0","0","1","0","0","0","0","0","0","0","0","0","0","0","0","0","0","0",null,null,2,5,1,{"$f":"IF(ISNUMBER(SEARCH(\"1\",#REF!)),\"1\",\"0\")","v":"0"},{"$f":"IF(ISNUMBER(SEARCH(\"2\",#REF!)),\"1\",\"0\")","v":"0"},{"$f":"IF(ISNUMBER(SEARCH(\"3\",#REF!)),\"1\",\"0\")","v":"0"},{"$f":"IF(ISNUMBER(SEARCH(\"4\",#REF!)),\"1\",\"0\")","v":"0"},{"$f":"IF(ISNUMBER(SEARCH(\"5\",#REF!)),\"1\",\"0\")","v":"0"},{"$f":"IF(ISNUMBER(SEARCH(\"6\",#REF!)),\"1\",\"0\")","v":"0"},{"$f":"IF(ISNUMBER(SEARCH(\"7\",#REF!)),\"1\",\"0\")","v":"0"},{"$f":"IF(ISNUMBER(SEARCH(\"8\",#REF!)),\"1\",\"0\")","v":"0"},{"$f":"IF(ISNUMBER(SEARCH(\"9\",#REF!)),\"1\",\"0\")","v":"0"},{"$f":"IF(ISNUMBER(SEARCH(\"9\",#REF!)),\"1\",\"0\")","v":"0"},{"$f":"IF(ISNUMBER(SEARCH(\"10\",#REF!)),\"1\",\"0\")","v":"0"},{"$f":"IF(ISNUMBER(SEARCH(\"11\",#REF!)),\"1\",\"0\")","v":"0"},{"$f":"IF(ISNUMBER(SEARCH(\"12\",#REF!)),\"1\",\"0\")","v":"0"},{"$f":"IF(ISNUMBER(SEARCH(\"13\",#REF!)),\"1\",\"0\")","v":"0"},{"$f":"IF(ISNUMBER(SEARCH(\"14\",#REF!)),\"1\",\"0\")","v":"0"},{"$f":"IF(ISNUMBER(SEARCH(\"15\",#REF!)),\"1\",\"0\")","v":"0"},{"$f":"IF(ISNUMBER(SEARCH(\"16\",#REF!)),\"1\",\"0\")","v":"0"},{"$f":"IF(ISNUMBER(SEARCH(\"17\",#REF!)),\"1\",\"0\")","v":"0"},1,3,null,null,18,6,8,32,5,{"$nulls":6},10,5,null,{"$f":"#REF!-#REF!","v":{"$error":"#REF!"}},{"$f":"#REF!-#REF!","v":{"$error":"#REF!"}}]
[2,22,11,"RB",2,34,null,3,8,1,3,3,2,3,"0","0","1","0","0","0","0","0","0","0","0","0","0","0","0","0","0","0",null,null,3,4,1,{"$f":"IF(ISNUMBER(SEARCH(\"1\",#REF!)),\"1\",\"0\")","v":"0"},{"$f":"IF(ISNUMBER(SEARCH(\"2\",#REF!)),\"1\",\"0\")","v":"0"},{"$f":"IF(ISNUMBER(SEARCH(\"3\",#REF!)),\"1\",\"0\")","v":"0"},{"$f":"IF(ISNUMBER(SEARCH(\"4\",#REF!)),\"1\",\"0\")","v":"0"},{"$f":"IF(ISNUMBER(SEARCH(\"5\",#REF!)),\"1\",\"0\")","v":"0"},{"$f":"IF(ISNUMBER(SEARCH(\"6\",#REF!)),\"1\",\"0\")","v":"0"},{"$f":"IF(ISNUMBER(SEARCH(\"7\",#REF!)),\"1\",\"0\")","v":"0"},{"$f":"IF(ISNUMBER(SEARCH(\"8\",#REF!)),\"1\",\"0\")","v":"0"},{"$f":"IF(ISNUMBER(SEARCH(\"9\",#REF!)),\"1\",\"0\")","v":"0"},{"$f":"IF(ISNUMBER(SEARCH(\"9\",#REF!)),\"1\",\"0\")","v":"0"},{"$f":"IF(ISNUMBER(SEARCH(\"10\",#REF!)),\"1\",\"0\")","v":"0"},{"$f":"IF(ISNUMBER(SEARCH(\"11\",#REF!)),\"1\",\"0\")","v":"0"},{"$f":"IF(ISNUMBER(SEARCH(\"12\",#REF!)),\"1\",\"0\")","v":"0"},{"$f":"IF(ISNUMBER(SEARCH(\"13\",#REF!)),\"1\",\"0\")","v":"0"},{"$f":"IF(ISNUMBER(SEARCH(\"14\",#REF!)),\"1\",\"0\")","v":"0"},{"$f":"IF(ISNUMBER(SEARCH(\"15\",#REF!)),\"1\",\"0\")","v":"0"},{"$f":"IF(ISNUMBER(SEARCH(\"16\",#REF!)),\"1\",\"0\")","v":"0"},{"$f":"IF(ISNUMBER(SEARCH(\"17\",#REF!)),\"1\",\"0\")","v":"0"},1,3,null,null,20,10,12,42,3,null,2,2,2,6,null,11,6,null,{"$f":"#REF!-#REF!","v":{"$error":"#REF!"}},{"$f":"#REF!-#REF!","v":{"$error":"#REF!"}}]
[2,22,11,"MLO",2,48,null,2,3,1,4,5,2,3,"0","0","1","0","0","0","0","0","0","0","0","0","0","0","0","0","0","0",null,null,3,5,2,{"$f":"IF(ISNUMBER(SEARCH(\"1\",#REF!)),\"1\",\"0\")","v":"0"},{"$f":"IF(ISNUMBER(SEARCH(\"2\",#REF!)),\"1\",\"0\")","v":"0"},{"$f":"IF(ISNUMBER(SEARCH(\"3\",#REF!)),\"1\",\"0\")","v":"0"},{"$f":"IF(ISNUMBER(SEARCH(\"4\",#REF!)),\"1\",\"0\")","v":"0"},{"$f":"IF(ISNUMBER(SEARCH(\"5\",#REF!)),\"1\",\"0\")","v":"0"},{"$f":"IF(ISNUMBER(SEARCH(\"6\",#REF!)),\"1\",\"0\")","v":"0"},{"$f":"IF(ISNUMBER(SEARCH(\"7\",#REF!)),\"1\",\"0\")","v":"0"},{"$f":"IF(ISNUMBER(SEARCH(\"8\",#REF!)),\"1\",\"0\")","v":"0"},{"$f":"IF(ISNUMBER(SEARCH(\"9\",#REF!)),\"1\",\"0\")","v":"0"},{"$f":"IF(ISNUMBER(SEARCH(\"9\",#REF!)),\"1\",\"0\")","v":"0"},{"$f":"IF(ISNUMBER(SEARCH(\"10\",#REF!)),\"1\",\"0\")","v":"0"},{"$f":"IF(ISNUMBER(SEARCH(\"11\",#REF!)),\"1\",\"0\")","v":"0"},{"$f":"IF(ISNUMBER(SEARCH(\"12\",#REF!)),\"1\",\"0\")","v":"0"},{"$f":"IF(ISNUMBER(SEARCH(\"13\",#REF!)),\"1\",\"0\")","v":"0"},{"$f":"IF(ISNUMBER(SEARCH(\"14\",#REF!)),\"1\",\"0\")","v":"0"},{"$f":"IF(ISNUMBER(SEARCH(\"15\",#REF!)),\"1\",\"0\")","v":"0"},{"$f":"IF(ISNUMBER(SEARCH(\"16\",#REF!)),\"1\",\"0\")","v":"0"},{"$f":"IF(ISNUMBER(SEARCH(\"17\",#REF!)),\"1\",\"0\")","v":"0"},1,3,null,null,14,12,14,40,5,null,0,0,2,2,null,14,6,null,{"$f":"#REF!-#REF!","v":{"$error":"#REF!"}},{"$f":"#REF!-#REF!","v":{"$error":"#REF!"}}]
[2,22,10,"NA",2,30,null,2,8,1,4,5,2,"7. Prostitution forcée","0","0","0","0","0","0","1","0","0","0","0","0","0","0","0","0","0","0",null,null,1,3,1,{"$f":"IF(ISNUMBER(SEARCH(\"1\",#REF!)),\"1\",\"0\")","v":"0"},{"$f":"IF(ISNUMBER(SEARCH(\"2\",#REF!)),\"1\",\"0\")","v":"0"},{"$f":"IF(ISNUMBER(SEARCH(\"3\",#REF!)),\"1\",\"0\")","v":"0"},{"$f":"IF(ISNUMBER(SEARCH(\"4\",#REF!)),\"1\",\"0\")","v":"0"},{"$f":"IF(ISNUMBER(SEARCH(\"5\",#REF!)),\"1\",\"0\")","v":"0"},{"$f":"IF(ISNUMBER(SEARCH(\"6\",#REF!)),\"1\",\"0\")","v":"0"},{"$f":"IF(ISNUMBER(SEARCH(\"7\",#REF!)),\"1\",\"0\")","v":"0"},{"$f":"IF(ISNUMBER(SEARCH(\"8\",#REF!)),\"1\",\"0\")","v":"0"},{"$f":"IF(ISNUMBER(SEARCH(\"9\",#REF!)),\"1\",\"0\")","v":"0"},{"$f":"IF(ISNUMBER(SEARCH(\"9\",#REF!)),\"1\",\"0\")","v":"0"},{"$f":"IF(ISNUMBER(SEARCH(\"10\",#REF!)),\"1\",\"0\")","v":"0"},{"$f":"IF(ISNUMBER(SEARCH(\"11\",#REF!)),\"1\",\"0\")","v":"0"},{"$f":"IF(ISNUMBER(SEARCH(\"12\",#REF!)),\"1\",\"0\")","v":"0"},{"$f":"IF(ISNUMBER(SEARCH(\"13\",#REF!)),\"1\",\"0\")","v":"0"},{"$f":"IF(ISNUMBER(SEARCH(\"14\",#REF!)),\"1\",\"0\")","v":"0"},{"$f":"IF(ISNUMBER(SEARCH(\"15\",#REF!)),\"1\",\"0\")","v":"0"},{"$f":"IF(ISNUMBER(SEARCH(\"16\",#REF!)),\"1\",\"0\")","v":"0"},{"$f":"IF(ISNUMBER(SEARCH(\"17\",#REF!)),\"1\",\"0\")","v":"0"},2,2,null,null,10,6,10,26,8,null,8,2,8,18,null,14,4,null,{"$f":"#REF!-#REF!","v":{"$error":"#REF!"}},{"$f":"#REF!-#REF!","v":{"$error":"#REF!"}}]
[2,22,4,"2 KAR",2,28,null,1,8,1,5,5,2,10,"1","0","0","0","0","0","0","0","0","1","0","0","0","0","0","0","0","0",null,null,3,5,1,{"$f":"IF(ISNUMBER(SEARCH(\"1\",#REF!)),\"1\",\"0\")","v":"0"},{"$f":"IF(ISNUMBER(SEARCH(\"2\",#REF!)),\"1\",\"0\")","v":"0"},{"$f":"IF(ISNUMBER(SEARCH(\"3\",#REF!)),\"1\",\"0\")","v":"0"},{"$f":"IF(ISNUMBER(SEARCH(\"4\",#REF!)),\"1\",\"0\")","v":"0"},{"$f":"IF(ISNUMBER(SEARCH(\"5\",#REF!)),\"1\",\"0\")","v":"0"},{"$f":"IF(ISNUMBER(SEARCH(\"6\",#REF!)),\"1\",\"0\")","v":"0"},{"$f":"IF(ISNUMBER(SEARCH(\"7\",#REF!)),\"1\",\"0\")","v":"0"},{"$f":"IF(ISNUMBER(SEARCH(\"8\",#REF!)),\"1\",\"0\")","v":"0"},{"$f":"IF(ISNUMBER(SEARCH(\"9\",#REF!)),\"1\",\"0\")","v":"0"},{"$f":"IF(ISNUMBER(SEARCH(\"9\",#REF!)),\"1\",\"0\")","v":"0"},{"$f":"IF(ISNUMBER(SEARCH(\"10\",#REF!)),\"1\",\"0\")","v":"0"},{"$f":"IF(ISNUMBER(SEARCH(\"11\",#REF!)),\"1\",\"0\")","v":"0"},{"$f":"IF(ISNUMBER(SEARCH(\"12\",#REF!)),\"1\",\"0\")","v":"0"},{"$f":"IF(ISNUMBER(SEARCH(\"13\",#REF!)),\"1\",\"0\")","v":"0"},{"$f":"IF(ISNUMBER(SEARCH(\"14\",#REF!)),\"1\",\"0\")","v":"0"},{"$f":"IF(ISNUMBER(SEARCH(\"15\",#REF!)),\"1\",\"0\")","v":"0"},{"$f":"IF(ISNUMBER(SEARCH(\"16\",#REF!)),\"1\",\"0\")","v":"0"},{"$f":"IF(ISNUMBER(SEARCH(\"17\",#REF!)),\"1\",\"0\")","v":"0"},{"$nulls":4},18,12,12,{"$f":"BH1924+BI1924+BJ1924","v":42},8,null,2,2,4,{"$f":"BN1924+BO1924+BP1924","v":8},null,13,4,null,{"$f":"#REF!-#REF!","v":{"$error":"#REF!"}},{"$f":"#REF!-#REF!","v":{"$error":"#REF!"}}]
[2,22,4,"1 KAR",2,16,null,3,2,1,0,5,1,3,"0","0","1","0","0","0","0","0","0","0","0","0","0","0","0","0","0","0",null,null,1,3,1,{"$f":"IF(ISNUMBER(SEARCH(\"1\",#REF!)),\"1\",\"0\")","v":"0"},{"$f":"IF(ISNUMBER(SEARCH(\"2\",#REF!)),\"1\",\"0\")","v":"0"},{"$f":"IF(ISNUMBER(SEARCH(\"3\",#REF!)),\"1\",\"0\")","v":"0"},{"$f":"IF(ISNUMBER(SEARCH(\"4\",#REF!)),\"1\",\"0\")","v":"0"},{"$f":"IF(ISNUMBER(SEARCH(\"5\",#REF!)),\"1\",\"0\")","v":"0"},{"$f":"IF(ISNUMBER(SEARCH(\"6\",#REF!)),\"1\",\"0\")","v":"0"},{"$f":"IF(ISNUMBER(SEARCH(\"7\",#REF!)),\"1\",\"0\")","v":"0"},{"$f":"IF(ISNUMBER(SEARCH(\"8\",#REF!)),\"1\",\"0\")","v":"0"},{"$f":"IF(ISNUMBER(SEARCH(\"9\",#REF!)),\"1\",\"0\")","v":"0"},{"$f":"IF(ISNUMBER(SEARCH(\"9\",#REF!)),\"1\",\"0\")","v":"0"},{"$f":"IF(ISNUMBER(SEARCH(\"10\",#REF!)),\"1\",\"0\")","v":"0"},{"$f":"IF(ISNUMBER(SEARCH(\"11\",#REF!)),\"1\",\"0\")","v":"0"},{"$f":"IF(ISNUMBER(SEARCH(\"12\",#REF!)),\"1\",\"0\")","v":"0"},{"$f":"IF(ISNUMBER(SEARCH(\"13\",#REF!)),\"1\",\"0\")","v":"0"},{"$f":"IF(ISNUMBER(SEARCH(\"14\",#REF!)),\"1\",\"0\")","v":"0"},{"$f":"IF(ISNUMBER(SEARCH(\"15\",#REF!)),\"1\",\"0\")","v":"0"},{"$f":"IF(ISNUMBER(SEARCH(\"16\",#REF!)),\"1\",\"0\")","v":"0"},{"$f":"IF(ISNUMBER(SEARCH(\"17\",#REF!)),\"1\",\"0\")","v":"0"},1,3,{"$nulls":6},4]
[2,22,4,"4 KAR",2,23,null,2,2,1,2,1,2,3,"0","0","1","0","0","0","0","0","0","0","0","0","0","0","0","0","0","0",null,null,3,"5, 4",1,{"$f":"IF(ISNUMBER(SEARCH(\"1\",#REF!)),\"1\",\"0\")","v":"0"},{"$f":"IF(ISNUMBER(SEARCH(\"2\",#REF!)),\"1\",\"0\")","v":"0"},{"$f":"IF(ISNUMBER(SEARCH(\"3\",#REF!)),\"1\",\"0\")","v":"0"},{"$f":"IF(ISNUMBER(SEARCH(\"4\",#REF!)),\"1\",\"0\")","v":"0"},{"$f":"IF(ISNUMBER(SEARCH(\"5\",#REF!)),\"1\",\"0\")","v":"0"},{"$f":"IF(ISNUMBER(SEARCH(\"6\",#REF!)),\"1\",\"0\")","v":"0"},{"$f":"IF(ISNUMBER(SEARCH(\"7\",#REF!)),\"1\",\"0\")","v":"0"},{"$f":"IF(ISNUMBER(SEARCH(\"8\",#REF!)),\"1\",\"0\")","v":"0"},{"$f":"IF(ISNUMBER(SEARCH(\"9\",#REF!)),\"1\",\"0\")","v":"0"},{"$f":"IF(ISNUMBER(SEARCH(\"9\",#REF!)),\"1\",\"0\")","v":"0"},{"$f":"IF(ISNUMBER(SEARCH(\"10\",#REF!)),\"1\",\"0\")","v":"0"},{"$f":"IF(ISNUMBER(SEARCH(\"11\",#REF!)),\"1\",\"0\")","v":"0"},{"$f":"IF(ISNUMBER(SEARCH(\"12\",#REF!)),\"1\",\"0\")","v":"0"},{"$f":"IF(ISNUMBER(SEARCH(\"13\",#REF!)),\"1\",\"0\")","v":"0"},{"$f":"IF(ISNUMBER(SEARCH(\"14\",#REF!)),\"1\",\"0\")","v":"0"},{"$f":"IF(ISNUMBER(SEARCH(\"15\",#REF!)),\"1\",\"0\")","v":"0"},{"$f":"IF(ISNUMBER(SEARCH(\"16\",#REF!)),\"1\",\"0\")","v":"0"},{"$f":"IF(ISNUMBER(SEARCH(\"17\",#REF!)),\"1\",\"0\")","v":"0"},4,3,null,null,26,22,16,64,6,{"$nulls":9},{"$f":"#REF!-#REF!","v":{"$error":"#REF!"}}]
[2,22,4,"2 KAR",2,37,null,3,3,2,5,5,6,"15. Insultes / a reçu des menaces","1","0","0","0","1","0","0","0","0","0","0","0","0","0","1","0","0","0",null,null,3,3,1,{"$f":"IF(ISNUMBER(SEARCH(\"1\",#REF!)),\"1\",\"0\")","v":"0"},{"$f":"IF(ISNUMBER(SEARCH(\"2\",#REF!)),\"1\",\"0\")","v":"0"},{"$f":"IF(ISNUMBER(SEARCH(\"3\",#REF!)),\"1\",\"0\")","v":"0"},{"$f":"IF(ISNUMBER(SEARCH(\"4\",#REF!)),\"1\",\"0\")","v":"0"},{"$f":"IF(ISNUMBER(SEARCH(\"5\",#REF!)),\"1\",\"0\")","v":"0"},{"$f":"IF(ISNUMBER(SEARCH(\"6\",#REF!)),\"1\",\"0\")","v":"0"},{"$f":"IF(ISNUMBER(SEARCH(\"7\",#REF!)),\"1\",\"0\")","v":"0"},{"$f":"IF(ISNUMBER(SEARCH(\"8\",#REF!)),\"1\",\"0\")","v":"0"},{"$f":"IF(ISNUMBER(SEARCH(\"9\",#REF!)),\"1\",\"0\")","v":"0"},{"$f":"IF(ISNUMBER(SEARCH(\"9\",#REF!)),\"1\",\"0\")","v":"0"},{"$f":"IF(ISNUMBER(SEARCH(\"10\",#REF!)),\"1\",\"0\")","v":"0"},{"$f":"IF(ISNUMBER(SEARCH(\"11\",#REF!)),\"1\",\"0\")","v":"0"},{"$f":"IF(ISNUMBER(SEARCH(\"12\",#REF!)),\"1\",\"0\")","v":"0"},{"$f":"IF(ISNUMBER(SEARCH(\"13\",#REF!)),\"1\",\"0\")","v":"0"},{"$f":"IF(ISNUMBER(SEARCH(\"14\",#REF!)),\"1\",\"0\")","v":"0"},{"$f":"IF(ISNUMBER(SEARCH(\"15\",#REF!)),\"1\",\"0\")","v":"0"},{"$f":"IF(ISNUMBER(SEARCH(\"16\",#REF!)),\"1\",\"0\")","v":"0"},{"$f":"IF(ISNUMBER(SEARCH(\"17\",#REF!)),\"1\",\"0\")","v":"0"},{"$nulls":4},14,20,8,42,9,null,0,2,2,4,null,14,5,null,{"$f":"#REF!-#REF!","v":{"$error":"#REF!"}},{"$f":"#REF!-#REF!","v":{"$error":"#REF!"}}]
[2,22,6,"MAT",2,20,null,2,3,1,1,1,2,3,"0","0","1","0","0","0","0","0","0","0","0","0","0","0","0","0","0","0",null,null,1,5,2,{"$f":"IF(ISNUMBER(SEARCH(\"1\",#REF!)),\"1\",\"0\")","v":"0"},{"$f":"IF(ISNUMBER(SEARCH(\"2\",#REF!)),\"1\",\"0\")","v":"0"},{"$f":"IF(ISNUMBER(SEARCH(\"3\",#REF!)),\"1\",\"0\")","v":"0"},{"$f":"IF(ISNUMBER(SEARCH(\"4\",#REF!)),\"1\",\"0\")","v":"0"},{"$f":"IF(ISNUMBER(SEARCH(\"5\",#REF!)),\"1\",\"0\")","v":"0"},{"$f":"IF(ISNUMBER(SEARCH(\"6\",#REF!)),\"1\",\"0\")","v":"0"},{"$f":"IF(ISNUMBER(SEARCH(\"7\",#REF!)),\"1\",\"0\")","v":"0"},{"$f":"IF(ISNUMBER(SEARCH(\"8\",#REF!)),\"1\",\"0\")","v":"0"},{"$f":"IF(ISNUMBER(SEARCH(\"9\",#REF!)),\"1\",\"0\")","v":"0"},{"$f":"IF(ISNUMBER(SEARCH(\"9\",#REF!)),\"1\",\"0\")","v":"0"},{"$f":"IF(ISNUMBER(SEARCH(\"10\",#REF!)),\"1\",\"0\")","v":"0"},{"$f":"IF(ISNUMBER(SEARCH(\"11\",#REF!)),\"1\",\"0\")","v":"0"},{"$f":"IF(ISNUMBER(SEARCH(\"12\",#REF!)),\"1\",\"0\")","v":"0"},{"$f":"IF(ISNUMBER(SEARCH(\"13\",#REF!)),\"1\",\"0\")","v":"0"},{"$f":"IF(ISNUMBER(SEARCH(\"14\",#REF!)),\"1\",\"0\")","v":"0"},{"$f":"IF(ISNUMBER(SEARCH(\"15\",#REF!)),\"1\",\"0\")","v":"0"},{"$f":"IF(ISNUMBER(SEARCH(\"16\",#REF!)),\"1\",\"0\")","v":"0"},{"$f":"IF(ISNUMBER(SEARCH(\"17\",#REF!)),\"1\",\"0\")","v":"0"},1,3,null,null,2,0,0,2,5]
[2,22,6,"MAH",2,22,null,3,7,1,2,5,2,3,"0","0","1","0","0","0","0","0","0","0","0","0","0","0","0","0","0","0",{"$nulls":3},5,null,{"$f":"IF(ISNUMBER(SEARCH(\"1\",#REF!)),\"1\",\"0\")","v":"0"},{"$f":"IF(ISNUMBER(SEARCH(\"2\",#REF!)),\"1\",\"0\")","v":"0"},{"$f":"IF(ISNUMBER(SEARCH(\"3\",#REF!)),\"1\",\"0\")","v":"0"},{"$f":"IF(ISNUMBER(SEARCH(\"4\",#REF!)),\"1\",\"0\")","v":"0"},{"$f":"IF(ISNUMBER(SEARCH(\"5\",#REF!)),\"1\",\"0\")","v":"0"},{"$f":"IF(ISNUMBER(SEARCH(\"6\",#REF!)),\"1\",\"0\")","v":"0"},{"$f":"IF(ISNUMBER(SEARCH(\"7\",#REF!)),\"1\",\"0\")","v":"0"},{"$f":"IF(ISNUMBER(SEARCH(\"8\",#REF!)),\"1\",\"0\")","v":"0"},{"$f":"IF(ISNUMBER(SEARCH(\"9\",#REF!)),\"1\",\"0\")","v":"0"},{"$f":"IF(ISNUMBER(SEARCH(\"9\",#REF!)),\"1\",\"0\")","v":"0"},{"$f":"IF(ISNUMBER(SEARCH(\"10\",#REF!)),\"1\",\"0\")","v":"0"},{"$f":"IF(ISNUMBER(SEARCH(\"11\",#REF!)),\"1\",\"0\")","v":"0"},{"$f":"IF(ISNUMBER(SEARCH(\"12\",#REF!)),\"1\",\"0\")","v":"0"},{"$f":"IF(ISNUMBER(SEARCH(\"13\",#REF!)),\"1\",\"0\")","v":"0"},{"$f":"IF(ISNUMBER(SEARCH(\"14\",#REF!)),\"1\",\"0\")","v":"0"},{"$f":"IF(ISNUMBER(SEARCH(\"15\",#REF!)),\"1\",\"0\")","v":"0"},{"$f":"IF(ISNUMBER(SEARCH(\"16\",#REF!)),\"1\",\"0\")","v":"0"},{"$f":"IF(ISNUMBER(SEARCH(\"17\",#REF!)),\"1\",\"0\")","v":"0"},1,3,null,null,2,0,0,2,5]
[2,22,9,"NT",2,33,null,3,8,1,2,1,2,3,"0","0","1","0","0","0","0","0","0","0","0","0","0","0","0","0","0","0",null,null,1,1,1,{"$f":"IF(ISNUMBER(SEARCH(\"1\",#REF!)),\"1\",\"0\")","v":"0"},{"$f":"IF(ISNUMBER(SEARCH(\"2\",#REF!)),\"1\",\"0\")","v":"0"},{"$f":"IF(ISNUMBER(SEARCH(\"3\",#REF!)),\"1\",\"0\")","v":"0"},{"$f":"IF(ISNUMBER(SEARCH(\"4\",#REF!)),\"1\",\"0\")","v":"0"},{"$f":"IF(ISNUMBER(SEARCH(\"5\",#REF!)),\"1\",\"0\")","v":"0"},{"$f":"IF(ISNUMBER(SEARCH(\"6\",#REF!)),\"1\",\"0\")","v":"0"},{"$f":"IF(ISNUMBER(SEARCH(\"7\",#REF!)),\"1\",\"0\")","v":"0"},{"$f":"IF(ISNUMBER(SEARCH(\"8\",#REF!)),\"1\",\"0\")","v":"0"},{"$f":"IF(ISNUMBER(SEARCH(\"9\",#REF!)),\"1\",\"0\")","v":"0"},{"$f":"IF(ISNUMBER(SEARCH(\"9\",#REF!)),\"1\",\"0\")","v":"0"},{"$f":"IF(ISNUMBER(SEARCH(\"10\",#REF!)),\"1\",\"0\")","v":"0"},{"$f":"IF(ISNUMBER(SEARCH(\"11\",#REF!)),\"1\",\"0\")","v":"0"},{"$f":"IF(ISNUMBER(SEARCH(\"12\",#REF!)),\"1\",\"0\")","v":"0"},{"$f":"IF(ISNUMBER(SEARCH(\"13\",#REF!)),\"1\",\"0\")","v":"0"},{"$f":"IF(ISNUMBER(SEARCH(\"14\",#REF!)),\"1\",\"0\")","v":"0"},{"$f":"IF(ISNUMBER(SEARCH(\"15\",#REF!)),\"1\",\"0\")","v":"0"},{"$f":"IF(ISNUMBER(SEARCH(\"16\",#REF!)),\"1\",\"0\")","v":"0"},{"$f":"IF(ISNUMBER(SEARCH(\"17\",#REF!)),\"1\",\"0\")","v":"0"},{"$nulls":8},5]
[2,22,9,"NT",2,18,null,2,7,1,0,5,1,3,"0","0","1","0","0","0","0","0","0","0","0","0","0","0","0","0","0","0",null,null,1,1,1,{"$f":"IF(ISNUMBER(SEARCH(\"1\",#REF!)),\"1\",\"0\")","v":"0"},{"$f":"IF(ISNUMBER(SEARCH(\"2\",#REF!)),\"1\",\"0\")","v":"0"},{"$f":"IF(ISNUMBER(SEARCH(\"3\",#REF!)),\"1\",\"0\")","v":"0"},{"$f":"IF(ISNUMBER(SEARCH(\"4\",#REF!)),\"1\",\"0\")","v":"0"},{"$f":"IF(ISNUMBER(SEARCH(\"5\",#REF!)),\"1\",\"0\")","v":"0"},{"$f":"IF(ISNUMBER(SEARCH(\"6\",#REF!)),\"1\",\"0\")","v":"0"},{"$f":"IF(ISNUMBER(SEARCH(\"7\",#REF!)),\"1\",\"0\")","v":"0"},{"$f":"IF(ISNUMBER(SEARCH(\"8\",#REF!)),\"1\",\"0\")","v":"0"},{"$f":"IF(ISNUMBER(SEARCH(\"9\",#REF!)),\"1\",\"0\")","v":"0"},{"$f":"IF(ISNUMBER(SEARCH(\"9\",#REF!)),\"1\",\"0\")","v":"0"},{"$f":"IF(ISNUMBER(SEARCH(\"10\",#REF!)),\"1\",\"0\")","v":"0"},{"$f":"IF(ISNUMBER(SEARCH(\"11\",#REF!)),\"1\",\"0\")","v":"0"},{"$f":"IF(ISNUMBER(SEARCH(\"12\",#REF!)),\"1\",\"0\")","v":"0"},{"$f":"IF(ISNUMBER(SEARCH(\"13\",#REF!)),\"1\",\"0\")","v":"0"},{"$f":"IF(ISNUMBER(SEARCH(\"14\",#REF!)),\"1\",\"0\")","v":"0"},{"$f":"IF(ISNUMBER(SEARCH(\"15\",#REF!)),\"1\",\"0\")","v":"0"},{"$f":"IF(ISNUMBER(SEARCH(\"16\",#REF!)),\"1\",\"0\")","v":"0"},{"$f":"IF(ISNUMBER(SEARCH(\"17\",#REF!)),\"1\",\"0\")","v":"0"},4,1,null,null,26,14,12,52,7,null,10,20,16,46,null,9,7,null,null,{"$f":"#REF!-#REF!","v":{"$error":"#REF!"}}]
[2,22,9,"LL",2,17,null,3,2,1,0,5,1,3,"0","0","1","0","0","0","0","0","0","0","0","0","0","0","0","0","0","0",null,null,3,4,2,{"$f":"IF(ISNUMBER(SEARCH(\"1\",#REF!)),\"1\",\"0\")","v":"0"},{"$f":"IF(ISNUMBER(SEARCH(\"2\",#REF!)),\"1\",\"0\")","v":"0"},{"$f":"IF(ISNUMBER(SEARCH(\"3\",#REF!)),\"1\",\"0\")","v":"0"},{"$f":"IF(ISNUMBER(SEARCH(\"4\",#REF!)),\"1\",\"0\")","v":"0"},{"$f":"IF(ISNUMBER(SEARCH(\"5\",#REF!)),\"1\",\"0\")","v":"0"},{"$f":"IF(ISNUMBER(SEARCH(\"6\",#REF!)),\"1\",\"0\")","v":"0"},{"$f":"IF(ISNUMBER(SEARCH(\"7\",#REF!)),\"1\",\"0\")","v":"0"},{"$f":"IF(ISNUMBER(SEARCH(\"8\",#REF!)),\"1\",\"0\")","v":"0"},{"$f":"IF(ISNUMBER(SEARCH(\"9\",#REF!)),\"1\",\"0\")","v":"0"},{"$f":"IF(ISNUMBER(SEARCH(\"9\",#REF!)),\"1\",\"0\")","v":"0"},{"$f":"IF(ISNUMBER(SEARCH(\"10\",#REF!)),\"1\",\"0\")","v":"0"},{"$f":"IF(ISNUMBER(SEARCH(\"11\",#REF!)),\"1\",\"0\")","v":"0"},{"$f":"IF(ISNUMBER(SEARCH(\"12\",#REF!)),\"1\",\"0\")","v":"0"},{"$f":"IF(ISNUMBER(SEARCH(\"13\",#REF!)),\"1\",\"0\")","v":"0"},{"$f":"IF(ISNUMBER(SEARCH(\"14\",#REF!)),\"1\",\"0\")","v":"0"},{"$f":"IF(ISNUMBER(SEARCH(\"15\",#REF!)),\"1\",\"0\")","v":"0"},{"$f":"IF(ISNUMBER(SEARCH(\"16\",#REF!)),\"1\",\"0\")","v":"0"},{"$f":"IF(ISNUMBER(SEARCH(\"17\",#REF!)),\"1\",\"0\")","v":"0"},1,3,{"$nulls":6},8,null,0,0,2,2,null,10,5]
[2,22,9,"NT",2,27,null,2,8,1,6,5,6,3,"0","0","1","0","0","0","0","0","0","0","0","0","0","0","0","0","0","0",null,null,3,5,1,{"$f":"IF(ISNUMBER(SEARCH(\"1\",#REF!)),\"1\",\"0\")","v":"0"},0,{"$f":"IF(ISNUMBER(SEARCH(\"3\",#REF!)),\"1\",\"0\")","v":"0"},{"$f":"IF(ISNUMBER(SEARCH(\"4\",#REF!)),\"1\",\"0\")","v":"0"},{"$f":"IF(ISNUMBER(SEARCH(\"5\",#REF!)),\"1\",\"0\")","v":"0"},{"$f":"IF(ISNUMBER(SEARCH(\"6\",#REF!)),\"1\",\"0\")","v":"0"},{"$f":"IF(ISNUMBER(SEARCH(\"7\",#REF!)),\"1\",\"0\")","v":"0"},{"$f":"IF(ISNUMBER(SEARCH(\"8\",#REF!)),\"1\",\"0\")","v":"0"},{"$f":"IF(ISNUMBER(SEARCH(\"9\",#REF!)),\"1\",\"0\")","v":"0"},{"$f":"IF(ISNUMBER(SEARCH(\"9\",#REF!)),\"1\",\"0\")","v":"0"},{"$f":"IF(ISNUMBER(SEARCH(\"10\",#REF!)),\"1\",\"0\")","v":"0"},{"$f":"IF(ISNUMBER(SEARCH(\"11\",#REF!)),\"1\",\"0\")","v":"0"},{"$f":"IF(ISNUMBER(SEARCH(\"12\",#REF!)),\"1\",\"0\")","v":"0"},{"$f":"IF(ISNUMBER(SEARCH(\"13\",#REF!)),\"1\",\"0\")","v":"0"},{"$f":"IF(ISNUMBER(SEARCH(\"14\",#REF!)),\"1\",\"0\")","v":"0"},{"$f":"IF(ISNUMBER(SEARCH(\"15\",#REF!)),\"1\",\"0\")","v":"0"},{"$f":"IF(ISNUMBER(SEARCH(\"16\",#REF!)),\"1\",\"0\")","v":"0"},{"$f":"IF(ISNUMBER(SEARCH(\"17\",#REF!)),\"1\",\"0\")","v":"0"},4,2,null,null,12,14,6,32,7,null,0,4,4,8,null,10,4,null,{"$f":"#REF!-#REF!","v":{"$error":"#REF!"}},{"$f":"#REF!-#REF!","v":{"$error":"#REF!"}}]
[2,22,8,"AN",2,20,null,2,3,2,0,1,1,3,"0","0","1","0","0","0","0","0","0","0","0","0","0","0","0","0","0","0",null,null,1,5,2,{"$f":"IF(ISNUMBER(SEARCH(\"1\",#REF!)),\"1\",\"0\")","v":"0"},{"$f":"IF(ISNUMBER(SEARCH(\"2\",#REF!)),\"1\",\"0\")","v":"0"},{"$f":"IF(ISNUMBER(SEARCH(\"3\",#REF!)),\"1\",\"0\")","v":"0"},{"$f":"IF(ISNUMBER(SEARCH(\"4\",#REF!)),\"1\",\"0\")","v":"0"},{"$f":"IF(ISNUMBER(SEARCH(\"5\",#REF!)),\"1\",\"0\")","v":"0"},{"$f":"IF(ISNUMBER(SEARCH(\"6\",#REF!)),\"1\",\"0\")","v":"0"},{"$f":"IF(ISNUMBER(SEARCH(\"7\",#REF!)),\"1\",\"0\")","v":"0"},{"$f":"IF(ISNUMBER(SEARCH(\"8\",#REF!)),\"1\",\"0\")","v":"0"},{"$f":"IF(ISNUMBER(SEARCH(\"9\",#REF!)),\"1\",\"0\")","v":"0"},{"$f":"IF(ISNUMBER(SEARCH(\"9\",#REF!)),\"1\",\"0\")","v":"0"},{"$f":"IF(ISNUMBER(SEARCH(\"10\",#REF!)),\"1\",\"0\")","v":"0"},{"$f":"IF(ISNUMBER(SEARCH(\"11\",#REF!)),\"1\",\"0\")","v":"0"},{"$f":"IF(ISNUMBER(SEARCH(\"12\",#REF!)),\"1\",\"0\")","v":"0"},{"$f":"IF(ISNUMBER(SEARCH(\"13\",#REF!)),\"1\",\"0\")","v":"0"},{"$f":"IF(ISNUMBER(SEARCH(\"14\",#REF!)),\"1\",\"0\")","v":"0"},{"$f":"IF(ISNUMBER(SEARCH(\"15\",#REF!)),\"1\",\"0\")","v":"0"},{"$f":"IF(ISNUMBER(SEARCH(\"16\",#REF!)),\"1\",\"0\")","v":"0"},{"$f":"IF(ISNUMBER(SEARCH(\"17\",#REF!)),\"1\",\"0\")","v":"0"},{"$nulls":4},12,8,12,32,5,null,4,4,2,10,null,9,4,null,{"$f":"#REF!-#REF!","v":{"$error":"#REF!"}},{"$f":"#REF!-#REF!","v":{"$error":"#REF!"}}]
[2,22,8,"AN",2,46,null,3,3,1,6,1,6,3,"0","0","1","0","0","0","0","0","0","0","0","0","0","0","0","0","0","0",null,null,1,3,1,{"$f":"IF(ISNUMBER(SEARCH(\"1\",#REF!)),\"1\",\"0\")","v":"0"},{"$f":"IF(ISNUMBER(SEARCH(\"2\",#REF!)),\"1\",\"0\")","v":"0"},{"$f":"IF(ISNUMBER(SEARCH(\"3\",#REF!)),\"1\",\"0\")","v":"0"},{"$f":"IF(ISNUMBER(SEARCH(\"4\",#REF!)),\"1\",\"0\")","v":"0"},{"$f":"IF(ISNUMBER(SEARCH(\"5\",#REF!)),\"1\",\"0\")","v":"0"},{"$f":"IF(ISNUMBER(SEARCH(\"6\",#REF!)),\"1\",\"0\")","v":"0"},{"$f":"IF(ISNUMBER(SEARCH(\"7\",#REF!)),\"1\",\"0\")","v":"0"},{"$f":"IF(ISNUMBER(SEARCH(\"8\",#REF!)),\"1\",\"0\")","v":"0"},{"$f":"IF(ISNUMBER(SEARCH(\"9\",#REF!)),\"1\",\"0\")","v":"0"},{"$f":"IF(ISNUMBER(SEARCH(\"9\",#REF!)),\"1\",\"0\")","v":"0"},{"$f":"IF(ISNUMBER(SEARCH(\"10\",#REF!)),\"1\",\"0\")","v":"0"},{"$f":"IF(ISNUMBER(SEARCH(\"11\",#REF!)),\"1\",\"0\")","v":"0"},{"$f":"IF(ISNUMBER(SEARCH(\"12\",#REF!)),\"1\",\"0\")","v":"0"},{"$f":"IF(ISNUMBER(SEARCH(\"13\",#REF!)),\"1\",\"0\")","v":"0"},{"$f":"IF(ISNUMBER(SEARCH(\"14\",#REF!)),\"1\",\"0\")","v":"0"},{"$f":"IF(ISNUMBER(SEARCH(\"15\",#REF!)),\"1\",\"0\")","v":"0"},{"$f":"IF(ISNUMBER(SEARCH(\"16\",#REF!)),\"1\",\"0\")","v":"0"},{"$f":"IF(ISNUMBER(SEARCH(\"17\",#REF!)),\"1\",\"0\")","v":"0"},{"$nulls":4},36,32,38,106,8,null,8,10,10,28,null,12,4,null,{"$f":"#REF!-#REF!","v":{"$error":"#REF!"}},{"$f":"#REF!-#REF!","v":{"$error":"#REF!"}}]
[2,22,8,"KM",2,19,null,1,7,1,0,1,1,3,"0","0","1","0","0","0","0","0","0","0","0","0","0","0","0","0","0","0",null,null,3,5,2,{"$f":"IF(ISNUMBER(SEARCH(\"1\",#REF!)),\"1\",\"0\")","v":"0"},{"$f":"IF(ISNUMBER(SEARCH(\"2\",#REF!)),\"1\",\"0\")","v":"0"},{"$f":"IF(ISNUMBER(SEARCH(\"3\",#REF!)),\"1\",\"0\")","v":"0"},{"$f":"IF(ISNUMBER(SEARCH(\"4\",#REF!)),\"1\",\"0\")","v":"0"},{"$f":"IF(ISNUMBER(SEARCH(\"5\",#REF!)),\"1\",\"0\")","v":"0"},{"$f":"IF(ISNUMBER(SEARCH(\"6\",#REF!)),\"1\",\"0\")","v":"0"},{"$f":"IF(ISNUMBER(SEARCH(\"7\",#REF!)),\"1\",\"0\")","v":"0"},{"$f":"IF(ISNUMBER(SEARCH(\"8\",#REF!)),\"1\",\"0\")","v":"0"},{"$f":"IF(ISNUMBER(SEARCH(\"9\",#REF!)),\"1\",\"0\")","v":"0"},{"$f":"IF(ISNUMBER(SEARCH(\"9\",#REF!)),\"1\",\"0\")","v":"0"},{"$f":"IF(ISNUMBER(SEARCH(\"10\",#REF!)),\"1\",\"0\")","v":"0"},{"$f":"IF(ISNUMBER(SEARCH(\"11\",#REF!)),\"1\",\"0\")","v":"0"},{"$f":"IF(ISNUMBER(SEARCH(\"12\",#REF!)),\"1\",\"0\")","v":"0"},{"$f":"IF(ISNUMBER(SEARCH(\"13\",#REF!)),\"1\",\"0\")","v":"0"},{"$f":"IF(ISNUMBER(SEARCH(\"14\",#REF!)),\"1\",\"0\")","v":"0"},{"$f":"IF(ISNUMBER(SEARCH(\"15\",#REF!)),\"1\",\"0\")","v":"0"},{"$f":"IF(ISNUMBER(SEARCH(\"16\",#REF!)),\"1\",\"0\")","v":"0"},{"$f":"IF(ISNUMBER(SEARCH(\"17\",#REF!)),\"1\",\"0\")","v":"0"},3,2,null,null,12,10,14,36,6,null,4,2,8,14,null,13,4,null,null,{"$f":"#REF!-#REF!","v":{"$error":"#REF!"}}]
[2,22,2,"F2",2,15,null,2,2,1,0,5,1,3,"0","0","1","0","0","0","0","0","0","0","0","0","0","0","0","0","0","0",null,null,2,4,1,{"$f":"IF(ISNUMBER(SEARCH(\"1\",#REF!)),\"1\",\"0\")","v":"0"},{"$f":"IF(ISNUMBER(SEARCH(\"2\",#REF!)),\"1\",\"0\")","v":"0"},{"$f":"IF(ISNUMBER(SEARCH(\"3\",#REF!)),\"1\",\"0\")","v":"0"},{"$f":"IF(ISNUMBER(SEARCH(\"4\",#REF!)),\"1\",\"0\")","v":"0"},{"$f":"IF(ISNUMBER(SEARCH(\"5\",#REF!)),\"1\",\"0\")","v":"0"},{"$f":"IF(ISNUMBER(SEARCH(\"6\",#REF!)),\"1\",\"0\")","v":"0"},{"$f":"IF(ISNUMBER(SEARCH(\"7\",#REF!)),\"1\",\"0\")","v":"0"},{"$f":"IF(ISNUMBER(SEARCH(\"8\",#REF!)),\"1\",\"0\")","v":"0"},{"$f":"IF(ISNUMBER(SEARCH(\"9\",#REF!)),\"1\",\"0\")","v":"0"},{"$f":"IF(ISNUMBER(SEARCH(\"9\",#REF!)),\"1\",\"0\")","v":"0"},{"$f":"IF(ISNUMBER(SEARCH(\"10\",#REF!)),\"1\",\"0\")","v":"0"},{"$f":"IF(ISNUMBER(SEARCH(\"11\",#REF!)),\"1\",\"0\")","v":"0"},{"$f":"IF(ISNUMBER(SEARCH(\"12\",#REF!)),\"1\",\"0\")","v":"0"},{"$f":"IF(ISNUMBER(SEARCH(\"13\",#REF!)),\"1\",\"0\")","v":"0"},{"$f":"IF(ISNUMBER(SEARCH(\"14\",#REF!)),\"1\",\"0\")","v":"0"},{"$f":"IF(ISNUMBER(SEARCH(\"15\",#REF!)),\"1\",\"0\")","v":"0"},{"$f":"IF(ISNUMBER(SEARCH(\"16\",#REF!)),\"1\",\"0\")","v":"0"},{"$f":"IF(ISNUMBER(SEARCH(\"17\",#REF!)),\"1\",\"0\")","v":"0"},1,3,null,null,20,16,18,54,6,null,0,10,10,20,null,11,3,null,null,{"$f":"#REF!-#REF!","v":{"$error":"#REF!"}}]
[2,22,2,"F3",2,45,null,3,8,1,5,5,6,3,"0","0","1","0","0","0","0","0","0","0","0","0","0","0","0","0","0","0",null,null,3,5,2,{"$f":"IF(ISNUMBER(SEARCH(\"1\",#REF!)),\"1\",\"0\")","v":"0"},{"$f":"IF(ISNUMBER(SEARCH(\"2\",#REF!)),\"1\",\"0\")","v":"0"},{"$f":"IF(ISNUMBER(SEARCH(\"3\",#REF!)),\"1\",\"0\")","v":"0"},{"$f":"IF(ISNUMBER(SEARCH(\"4\",#REF!)),\"1\",\"0\")","v":"0"},{"$f":"IF(ISNUMBER(SEARCH(\"5\",#REF!)),\"1\",\"0\")","v":"0"},{"$f":"IF(ISNUMBER(SEARCH(\"6\",#REF!)),\"1\",\"0\")","v":"0"},{"$f":"IF(ISNUMBER(SEARCH(\"7\",#REF!)),\"1\",\"0\")","v":"0"},{"$f":"IF(ISNUMBER(SEARCH(\"8\",#REF!)),\"1\",\"0\")","v":"0"},{"$f":"IF(ISNUMBER(SEARCH(\"9\",#REF!)),\"1\",\"0\")","v":"0"},{"$f":"IF(ISNUMBER(SEARCH(\"9\",#REF!)),\"1\",\"0\")","v":"0"},{"$f":"IF(ISNUMBER(SEARCH(\"10\",#REF!)),\"1\",\"0\")","v":"0"},{"$f":"IF(ISNUMBER(SEARCH(\"11\",#REF!)),\"1\",\"0\")","v":"0"},{"$f":"IF(ISNUMBER(SEARCH(\"12\",#REF!)),\"1\",\"0\")","v":"0"},{"$f":"IF(ISNUMBER(SEARCH(\"13\",#REF!)),\"1\",\"0\")","v":"0"},{"$f":"IF(ISNUMBER(SEARCH(\"14\",#REF!)),\"1\",\"0\")","v":"0"},{"$f":"IF(ISNUMBER(SEARCH(\"15\",#REF!)),\"1\",\"0\")","v":"0"},{"$f":"IF(ISNUMBER(SEARCH(\"16\",#REF!)),\"1\",\"0\")","v":"0"},{"$f":"IF(ISNUMBER(SEARCH(\"17\",#REF!)),\"1\",\"0\")","v":"0"},4,2,null,null,22,12,22,56,7,null,8,2,10,20,null,13,5,null,null,{"$f":"#REF!-#REF!","v":{"$error":"#REF!"}}]
[2,22,11,"ZR",2,60,null,1,3,1,6,3,5,3,"0","0","1","0","0","0","0","0","0","0","0","0","0","0","0","0","0","0",null,null,2,5,2,{"$f":"IF(ISNUMBER(SEARCH(\"1\",#REF!)),\"1\",\"0\")","v":"0"},{"$f":"IF(ISNUMBER(SEARCH(\"2\",#REF!)),\"1\",\"0\")","v":"0"},{"$f":"IF(ISNUMBER(SEARCH(\"3\",#REF!)),\"1\",\"0\")","v":"0"},{"$f":"IF(ISNUMBER(SEARCH(\"4\",#REF!)),\"1\",\"0\")","v":"0"},{"$f":"IF(ISNUMBER(SEARCH(\"5\",#REF!)),\"1\",\"0\")","v":"0"},{"$f":"IF(ISNUMBER(SEARCH(\"6\",#REF!)),\"1\",\"0\")","v":"0"},{"$f":"IF(ISNUMBER(SEARCH(\"7\",#REF!)),\"1\",\"0\")","v":"0"},{"$f":"IF(ISNUMBER(SEARCH(\"8\",#REF!)),\"1\",\"0\")","v":"0"},{"$f":"IF(ISNUMBER(SEARCH(\"9\",#REF!)),\"1\",\"0\")","v":"0"},{"$f":"IF(ISNUMBER(SEARCH(\"9\",#REF!)),\"1\",\"0\")","v":"0"},{"$f":"IF(ISNUMBER(SEARCH(\"10\",#REF!)),\"1\",\"0\")","v":"0"},{"$f":"IF(ISNUMBER(SEARCH(\"11\",#REF!)),\"1\",\"0\")","v":"0"},{"$f":"IF(ISNUMBER(SEARCH(\"12\",#REF!)),\"1\",\"0\")","v":"0"},{"$f":"IF(ISNUMBER(SEARCH(\"13\",#REF!)),\"1\",\"0\")","v":"0"},{"$f":"IF(ISNUMBER(SEARCH(\"14\",#REF!)),\"1\",\"0\")","v":"0"},{"$f":"IF(ISNUMBER(SEARCH(\"15\",#REF!)),\"1\",\"0\")","v":"0"},{"$f":"IF(ISNUMBER(SEARCH(\"16\",#REF!)),\"1\",\"0\")","v":"0"},{"$f":"IF(ISNUMBER(SEARCH(\"17\",#REF!)),\"1\",\"0\")","v":"0"},{"$nulls":4},22,12,26,60,5,null,4,6,10,20,null,14,6,null,{"$f":"#REF!-#REF!","v":{"$error":"#REF!"}},{"$f":"#REF!-#REF!","v":{"$error":"#REF!"}}]
[2,22,8,"KM",2,23,null,1,3,1,3,5,2,3,"0","0","1","0","0","0","0","0","0","0","0","0","0","0","0","0","0","0",null,null,3,5,2,{"$f":"IF(ISNUMBER(SEARCH(\"1\",#REF!)),\"1\",\"0\")","v":"0"},{"$f":"IF(ISNUMBER(SEARCH(\"2\",#REF!)),\"1\",\"0\")","v":"0"},{"$f":"IF(ISNUMBER(SEARCH(\"3\",#REF!)),\"1\",\"0\")","v":"0"},{"$f":"IF(ISNUMBER(SEARCH(\"4\",#REF!)),\"1\",\"0\")","v":"0"},{"$f":"IF(ISNUMBER(SEARCH(\"5\",#REF!)),\"1\",\"0\")","v":"0"},{"$f":"IF(ISNUMBER(SEARCH(\"6\",#REF!)),\"1\",\"0\")","v":"0"},{"$f":"IF(ISNUMBER(SEARCH(\"7\",#REF!)),\"1\",\"0\")","v":"0"},{"$f":"IF(ISNUMBER(SEARCH(\"8\",#REF!)),\"1\",\"0\")","v":"0"},{"$f":"IF(ISNUMBER(SEARCH(\"9\",#REF!)),\"1\",\"0\")","v":"0"},{"$f":"IF(ISNUMBER(SEARCH(\"9\",#REF!)),\"1\",\"0\")","v":"0"},{"$f":"IF(ISNUMBER(SEARCH(\"10\",#REF!)),\"1\",\"0\")","v":"0"},{"$f":"IF(ISNUMBER(SEARCH(\"11\",#REF!)),\"1\",\"0\")","v":"0"},{"$f":"IF(ISNUMBER(SEARCH(\"12\",#REF!)),\"1\",\"0\")","v":"0"},{"$f":"IF(ISNUMBER(SEARCH(\"13\",#REF!)),\"1\",\"0\")","v":"0"},{"$f":"IF(ISNUMBER(SEARCH(\"14\",#REF!)),\"1\",\"0\")","v":"0"},{"$f":"IF(ISNUMBER(SEARCH(\"15\",#REF!)),\"1\",\"0\")","v":"0"},{"$f":"IF(ISNUMBER(SEARCH(\"16\",#REF!)),\"1\",\"0\")","v":"0"},{"$f":"IF(ISNUMBER(SEARCH(\"17\",#REF!)),\"1\",\"0\")","v":"0"},4,{"$nulls":3},14,12,10,36,4,null,8,6,4,18,null,10,4,null,{"$f":"#REF!-#REF!","v":{"$error":"#REF!"}},{"$f":"#REF!-#REF!","v":{"$error":"#REF!"}}]
[2,22,8,"SM",2,23,null,2,3,1,2,5,2,3,"0","0","1","0","0","0","0","0","0","0","0","0","0","0","0","0","0","0",null,null,3,5,2,{"$f":"IF(ISNUMBER(SEARCH(\"1\",#REF!)),\"1\",\"0\")","v":"0"},{"$f":"IF(ISNUMBER(SEARCH(\"2\",#REF!)),\"1\",\"0\")","v":"0"},{"$f":"IF(ISNUMBER(SEARCH(\"3\",#REF!)),\"1\",\"0\")","v":"0"},{"$f":"IF(ISNUMBER(SEARCH(\"4\",#REF!)),\"1\",\"0\")","v":"0"},{"$f":"IF(ISNUMBER(SEARCH(\"5\",#REF!)),\"1\",\"0\")","v":"0"},{"$f":"IF(ISNUMBER(SEARCH(\"6\",#REF!)),\"1\",\"0\")","v":"0"},{"$f":"IF(ISNUMBER(SEARCH(\"7\",#REF!)),\"1\",\"0\")","v":"0"},{"$f":"IF(ISNUMBER(SEARCH(\"8\",#REF!)),\"1\",\"0\")","v":"0"},{"$f":"IF(ISNUMBER(SEARCH(\"9\",#REF!)),\"1\",\"0\")","v":"0"},{"$f":"IF(ISNUMBER(SEARCH(\"9\",#REF!)),\"1\",\"0\")","v":"0"},{"$f":"IF(ISNUMBER(SEARCH(\"10\",#REF!)),\"1\",\"0\")","v":"0"},{"$f":"IF(ISNUMBER(SEARCH(\"11\",#REF!)),\"1\",\"0\")","v":"0"},{"$f":"IF(ISNUMBER(SEARCH(\"12\",#REF!)),\"1\",\"0\")","v":"0"},{"$f":"IF(ISNUMBER(SEARCH(\"13\",#REF!)),\"1\",\"0\")","v":"0"},{"$f":"IF(ISNUMBER(SEARCH(\"14\",#REF!)),\"1\",\"0\")","v":"0"},{"$f":"IF(ISNUMBER(SEARCH(\"15\",#REF!)),\"1\",\"0\")","v":"0"},{"$f":"IF(ISNUMBER(SEARCH(\"16\",#REF!)),\"1\",\"0\")","v":"0"},{"$f":"IF(ISNUMBER(SEARCH(\"17\",#REF!)),\"1\",\"0\")","v":"0"},1,3,null,null,10,20,8,38,3,null,8,2,8,18,null,14,4,null,null,{"$f":"#REF!-#REF!","v":{"$error":"#REF!"}}]
[2,22,4,"2 KAR",2,28,null,2,3,2,4,5,6,3,"0","0","1","0","0","0","0","0","0","0","0","0","0","0","0","0","0","0",null,null,3,5,1,{"$f":"IF(ISNUMBER(SEARCH(\"1\",#REF!)),\"1\",\"0\")","v":"0"},{"$f":"IF(ISNUMBER(SEARCH(\"2\",#REF!)),\"1\",\"0\")","v":"0"},{"$f":"IF(ISNUMBER(SEARCH(\"3\",#REF!)),\"1\",\"0\")","v":"0"},{"$f":"IF(ISNUMBER(SEARCH(\"4\",#REF!)),\"1\",\"0\")","v":"0"},{"$f":"IF(ISNUMBER(SEARCH(\"5\",#REF!)),\"1\",\"0\")","v":"0"},{"$f":"IF(ISNUMBER(SEARCH(\"6\",#REF!)),\"1\",\"0\")","v":"0"},{"$f":"IF(ISNUMBER(SEARCH(\"7\",#REF!)),\"1\",\"0\")","v":"0"},{"$f":"IF(ISNUMBER(SEARCH(\"8\",#REF!)),\"1\",\"0\")","v":"0"},{"$f":"IF(ISNUMBER(SEARCH(\"9\",#REF!)),\"1\",\"0\")","v":"0"},{"$f":"IF(ISNUMBER(SEARCH(\"9\",#REF!)),\"1\",\"0\")","v":"0"},{"$f":"IF(ISNUMBER(SEARCH(\"10\",#REF!)),\"1\",\"0\")","v":"0"},{"$f":"IF(ISNUMBER(SEARCH(\"11\",#REF!)),\"1\",\"0\")","v":"0"},{"$f":"IF(ISNUMBER(SEARCH(\"12\",#REF!)),\"1\",\"0\")","v":"0"},{"$f":"IF(ISNUMBER(SEARCH(\"13\",#REF!)),\"1\",\"0\")","v":"0"},{"$f":"IF(ISNUMBER(SEARCH(\"14\",#REF!)),\"1\",\"0\")","v":"0"},{"$f":"IF(ISNUMBER(SEARCH(\"15\",#REF!)),\"1\",\"0\")","v":"0"},{"$f":"IF(ISNUMBER(SEARCH(\"16\",#REF!)),\"1\",\"0\")","v":"0"},{"$f":"IF(ISNUMBER(SEARCH(\"17\",#REF!)),\"1\",\"0\")","v":"0"},2,3,null,null,12,14,10,36,7,{"$nulls":9},{"$f":"#REF!-#REF!","v":{"$error":"#REF!"}}]
[2,22,9,"NT",2,41,null,1,3,1,7,1,5,3,"0","0","1","0","0","0","0","0","0","0","0","0","0","0","0","0","0","0",null,null,3,5,2,{"$f":"IF(ISNUMBER(SEARCH(\"1\",#REF!)),\"1\",\"0\")","v":"0"},{"$f":"IF(ISNUMBER(SEARCH(\"2\",#REF!)),\"1\",\"0\")","v":"0"},{"$f":"IF(ISNUMBER(SEARCH(\"3\",#REF!)),\"1\",\"0\")","v":"0"},{"$f":"IF(ISNUMBER(SEARCH(\"4\",#REF!)),\"1\",\"0\")","v":"0"},{"$f":"IF(ISNUMBER(SEARCH(\"5\",#REF!)),\"1\",\"0\")","v":"0"},{"$f":"IF(ISNUMBER(SEARCH(\"6\",#REF!)),\"1\",\"0\")","v":"0"},{"$f":"IF(ISNUMBER(SEARCH(\"7\",#REF!)),\"1\",\"0\")","v":"0"},{"$f":"IF(ISNUMBER(SEARCH(\"8\",#REF!)),\"1\",\"0\")","v":"0"},{"$f":"IF(ISNUMBER(SEARCH(\"9\",#REF!)),\"1\",\"0\")","v":"0"},{"$f":"IF(ISNUMBER(SEARCH(\"9\",#REF!)),\"1\",\"0\")","v":"0"},{"$f":"IF(ISNUMBER(SEARCH(\"10\",#REF!)),\"1\",\"0\")","v":"0"},{"$f":"IF(ISNUMBER(SEARCH(\"11\",#REF!)),\"1\",\"0\")","v":"0"},{"$f":"IF(ISNUMBER(SEARCH(\"12\",#REF!)),\"1\",\"0\")","v":"0"},{"$f":"IF(ISNUMBER(SEARCH(\"13\",#REF!)),\"1\",\"0\")","v":"0"},{"$f":"IF(ISNUMBER(SEARCH(\"14\",#REF!)),\"1\",\"0\")","v":"0"},{"$f":"IF(ISNUMBER(SEARCH(\"15\",#REF!)),\"1\",\"0\")","v":"0"},{"$f":"IF(ISNUMBER(SEARCH(\"16\",#REF!)),\"1\",\"0\")","v":"0"},{"$f":"IF(ISNUMBER(SEARCH(\"17\",#REF!)),\"1\",\"0\")","v":"0"},3,{"$nulls":3},12,10,12,34,2,{"$nulls":6},8,6,null,{"$f":"#REF!-#REF!","v":{"$error":"#REF!"}},{"$f":"#REF!-#REF!","v":{"$error":"#REF!"}}]
[2,22,9,"LL",2,14,null,3,2,1,0,3,1,3,"0","0","1","0","0","0","0","0","0","0","0","0","0","0","0","0","0","0",null,null,3,5,null,{"$f":"IF(ISNUMBER(SEARCH(\"1\",#REF!)),\"1\",\"0\")","v":"0"},{"$f":"IF(ISNUMBER(SEARCH(\"2\",#REF!)),\"1\",\"0\")","v":"0"},{"$f":"IF(ISNUMBER(SEARCH(\"3\",#REF!)),\"1\",\"0\")","v":"0"},{"$f":"IF(ISNUMBER(SEARCH(\"4\",#REF!)),\"1\",\"0\")","v":"0"},{"$f":"IF(ISNUMBER(SEARCH(\"5\",#REF!)),\"1\",\"0\")","v":"0"},{"$f":"IF(ISNUMBER(SEARCH(\"6\",#REF!)),\"1\",\"0\")","v":"0"},{"$f":"IF(ISNUMBER(SEARCH(\"7\",#REF!)),\"1\",\"0\")","v":"0"},{"$f":"IF(ISNUMBER(SEARCH(\"8\",#REF!)),\"1\",\"0\")","v":"0"},{"$f":"IF(ISNUMBER(SEARCH(\"9\",#REF!)),\"1\",\"0\")","v":"0"},{"$f":"IF(ISNUMBER(SEARCH(\"9\",#REF!)),\"1\",\"0\")","v":"0"},{"$f":"IF(ISNUMBER(SEARCH(\"10\",#REF!)),\"1\",\"0\")","v":"0"},{"$f":"IF(ISNUMBER(SEARCH(\"11\",#REF!)),\"1\",\"0\")","v":"0"},{"$f":"IF(ISNUMBER(SEARCH(\"12\",#REF!)),\"1\",\"0\")","v":"0"},{"$f":"IF(ISNUMBER(SEARCH(\"13\",#REF!)),\"1\",\"0\")","v":"0"},{"$f":"IF(ISNUMBER(SEARCH(\"14\",#REF!)),\"1\",\"0\")","v":"0"},{"$f":"IF(ISNUMBER(SEARCH(\"15\",#REF!)),\"1\",\"0\")","v":"0"},{"$f":"IF(ISNUMBER(SEARCH(\"16\",#REF!)),\"1\",\"0\")","v":"0"},{"$f":"IF(ISNUMBER(SEARCH(\"17\",#REF!)),\"1\",\"0\")","v":"0"},{"$nulls":4},34,24,34,92,8,{"$nulls":9},{"$f":"#REF!-#REF!","v":{"$error":"#REF!"}}]
[2,22,2,"F2",2,27,null,2,3,2,4,5,2,3,"0","0","1","0","0","0","0","0","0","0","0","0","0","0","0","0","0","0",null,null,3,5,2,{"$f":"IF(ISNUMBER(SEARCH(\"1\",#REF!)),\"1\",\"0\")","v":"0"},{"$f":"IF(ISNUMBER(SEARCH(\"2\",#REF!)),\"1\",\"0\")","v":"0"},{"$f":"IF(ISNUMBER(SEARCH(\"3\",#REF!)),\"1\",\"0\")","v":"0"},{"$f":"IF(ISNUMBER(SEARCH(\"4\",#REF!)),\"1\",\"0\")","v":"0"},{"$f":"IF(ISNUMBER(SEARCH(\"5\",#REF!)),\"1\",\"0\")","v":"0"},{"$f":"IF(ISNUMBER(SEARCH(\"6\",#REF!)),\"1\",\"0\")","v":"0"},{"$f":"IF(ISNUMBER(SEARCH(\"7\",#REF!)),\"1\",\"0\")","v":"0"},{"$f":"IF(ISNUMBER(SEARCH(\"8\",#REF!)),\"1\",\"0\")","v":"0"},{"$f":"IF(ISNUMBER(SEARCH(\"9\",#REF!)),\"1\",\"0\")","v":"0"},{"$f":"IF(ISNUMBER(SEARCH(\"9\",#REF!)),\"1\",\"0\")","v":"0"},{"$f":"IF(ISNUMBER(SEARCH(\"10\",#REF!)),\"1\",\"0\")","v":"0"},{"$f":"IF(ISNUMBER(SEARCH(\"11\",#REF!)),\"1\",\"0\")","v":"0"},{"$f":"IF(ISNUMBER(SEARCH(\"12\",#REF!)),\"1\",\"0\")","v":"0"},{"$f":"IF(ISNUMBER(SEARCH(\"13\",#REF!)),\"1\",\"0\")","v":"0"},{"$f":"IF(ISNUMBER(SEARCH(\"14\",#REF!)),\"1\",\"0\")","v":"0"},{"$f":"IF(ISNUMBER(SEARCH(\"15\",#REF!)),\"1\",\"0\")","v":"0"},{"$f":"IF(ISNUMBER(SEARCH(\"16\",#REF!)),\"1\",\"0\")","v":"0"},{"$f":"IF(ISNUMBER(SEARCH(\"17\",#REF!)),\"1\",\"0\")","v":"0"},1,3,null,null,26,4,16,46,5,null,6,6,2,14,null,13,4,null,null,{"$f":"#REF!-#REF!","v":{"$error":"#REF!"}}]
[2,22,10,"NA",2,39,null,2,8,1,5,5,2,2,"0","1","0","0","0","0","0","0","0","0","0","0","0","0","0","0","0","0",null,null,3,5,2,{"$f":"IF(ISNUMBER(SEARCH(\"1\",#REF!)),\"1\",\"0\")","v":"0"},{"$f":"IF(ISNUMBER(SEARCH(\"2\",#REF!)),\"1\",\"0\")","v":"0"},{"$f":"IF(ISNUMBER(SEARCH(\"3\",#REF!)),\"1\",\"0\")","v":"0"},{"$f":"IF(ISNUMBER(SEARCH(\"4\",#REF!)),\"1\",\"0\")","v":"0"},{"$f":"IF(ISNUMBER(SEARCH(\"5\",#REF!)),\"1\",\"0\")","v":"0"},{"$f":"IF(ISNUMBER(SEARCH(\"6\",#REF!)),\"1\",\"0\")","v":"0"},{"$f":"IF(ISNUMBER(SEARCH(\"7\",#REF!)),\"1\",\"0\")","v":"0"},{"$f":"IF(ISNUMBER(SEARCH(\"8\",#REF!)),\"1\",\"0\")","v":"0"},{"$f":"IF(ISNUMBER(SEARCH(\"9\",#REF!)),\"1\",\"0\")","v":"0"},{"$f":"IF(ISNUMBER(SEARCH(\"9\",#REF!)),\"1\",\"0\")","v":"0"},{"$f":"IF(ISNUMBER(SEARCH(\"10\",#REF!)),\"1\",\"0\")","v":"0"},{"$f":"IF(ISNUMBER(SEARCH(\"11\",#REF!)),\"1\",\"0\")","v":"0"},{"$f":"IF(ISNUMBER(SEARCH(\"12\",#REF!)),\"1\",\"0\")","v":"0"},{"$f":"IF(ISNUMBER(SEARCH(\"13\",#REF!)),\"1\",\"0\")","v":"0"},{"$f":"IF(ISNUMBER(SEARCH(\"14\",#REF!)),\"1\",\"0\")","v":"0"},{"$f":"IF(ISNUMBER(SEARCH(\"15\",#REF!)),\"1\",\"0\")","v":"0"},{"$f":"IF(ISNUMBER(SEARCH(\"16\",#REF!)),\"1\",\"0\")","v":"0"},{"$f":"IF(ISNUMBER(SEARCH(\"17\",#REF!)),\"1\",\"0\")","v":"0"},{"$nulls":4},18,12,16,46,6]
[2,22,13,"S1",2,37,null,2,3,1,5,5,5,3,"0","0","1","0","0","0","0","0","0","0","0","0","0","0","0","0","0","0",null,null,1,5,2,{"$f":"IF(ISNUMBER(SEARCH(\"1\",#REF!)),\"1\",\"0\")","v":"0"},{"$f":"IF(ISNUMBER(SEARCH(\"2\",#REF!)),\"1\",\"0\")","v":"0"},{"$f":"IF(ISNUMBER(SEARCH(\"3\",#REF!)),\"1\",\"0\")","v":"0"},{"$f":"IF(ISNUMBER(SEARCH(\"4\",#REF!)),\"1\",\"0\")","v":"0"},{"$f":"IF(ISNUMBER(SEARCH(\"5\",#REF!)),\"1\",\"0\")","v":"0"},{"$f":"IF(ISNUMBER(SEARCH(\"6\",#REF!)),\"1\",\"0\")","v":"0"},{"$f":"IF(ISNUMBER(SEARCH(\"7\",#REF!)),\"1\",\"0\")","v":"0"},{"$f":"IF(ISNUMBER(SEARCH(\"8\",#REF!)),\"1\",\"0\")","v":"0"},{"$f":"IF(ISNUMBER(SEARCH(\"9\",#REF!)),\"1\",\"0\")","v":"0"},{"$f":"IF(ISNUMBER(SEARCH(\"9\",#REF!)),\"1\",\"0\")","v":"0"},{"$f":"IF(ISNUMBER(SEARCH(\"10\",#REF!)),\"1\",\"0\")","v":"0"},{"$f":"IF(ISNUMBER(SEARCH(\"11\",#REF!)),\"1\",\"0\")","v":"0"},{"$f":"IF(ISNUMBER(SEARCH(\"12\",#REF!)),\"1\",\"0\")","v":"0"},{"$f":"IF(ISNUMBER(SEARCH(\"13\",#REF!)),\"1\",\"0\")","v":"0"},{"$f":"IF(ISNUMBER(SEARCH(\"14\",#REF!)),\"1\",\"0\")","v":"0"},{"$f":"IF(ISNUMBER(SEARCH(\"15\",#REF!)),\"1\",\"0\")","v":"0"},{"$f":"IF(ISNUMBER(SEARCH(\"16\",#REF!)),\"1\",\"0\")","v":"0"},{"$f":"IF(ISNUMBER(SEARCH(\"17\",#REF!)),\"1\",\"0\")","v":"0"},1,3,null,null,34,24,22,80,7,{"$nulls":7},3]
[2,22,4,"1 KAR",2,43,null,2,3,2,6,5,5,3,"0","0","1","0","0","0","0","0","0","0","0","0","0","0","0","0","0","0",null,null,3,5,2,{"$f":"IF(ISNUMBER(SEARCH(\"1\",#REF!)),\"1\",\"0\")","v":"0"},{"$f":"IF(ISNUMBER(SEARCH(\"2\",#REF!)),\"1\",\"0\")","v":"0"},{"$f":"IF(ISNUMBER(SEARCH(\"3\",#REF!)),\"1\",\"0\")","v":"0"},{"$f":"IF(ISNUMBER(SEARCH(\"4\",#REF!)),\"1\",\"0\")","v":"0"},{"$f":"IF(ISNUMBER(SEARCH(\"5\",#REF!)),\"1\",\"0\")","v":"0"},{"$f":"IF(ISNUMBER(SEARCH(\"6\",#REF!)),\"1\",\"0\")","v":"0"},{"$f":"IF(ISNUMBER(SEARCH(\"7\",#REF!)),\"1\",\"0\")","v":"0"},{"$f":"IF(ISNUMBER(SEARCH(\"8\",#REF!)),\"1\",\"0\")","v":"0"},{"$f":"IF(ISNUMBER(SEARCH(\"9\",#REF!)),\"1\",\"0\")","v":"0"},{"$f":"IF(ISNUMBER(SEARCH(\"9\",#REF!)),\"1\",\"0\")","v":"0"},{"$f":"IF(ISNUMBER(SEARCH(\"10\",#REF!)),\"1\",\"0\")","v":"0"},{"$f":"IF(ISNUMBER(SEARCH(\"11\",#REF!)),\"1\",\"0\")","v":"0"},{"$f":"IF(ISNUMBER(SEARCH(\"12\",#REF!)),\"1\",\"0\")","v":"0"},{"$f":"IF(ISNUMBER(SEARCH(\"13\",#REF!)),\"1\",\"0\")","v":"0"},{"$f":"IF(ISNUMBER(SEARCH(\"14\",#REF!)),\"1\",\"0\")","v":"0"},{"$f":"IF(ISNUMBER(SEARCH(\"15\",#REF!)),\"1\",\"0\")","v":"0"},{"$f":"IF(ISNUMBER(SEARCH(\"16\",#REF!)),\"1\",\"0\")","v":"0"},{"$f":"IF(ISNUMBER(SEARCH(\"17\",#REF!)),\"1\",\"0\")","v":"0"},3,2,null,null,34,28,36,98,4,null,8,8,6,22,null,13,4,null,{"$f":"#REF!-#REF!","v":{"$error":"#REF!"}},{"$f":"#REF!-#REF!","v":{"$error":"#REF!"}}]
[2,22,4,"4 KAR",2,35,null,2,8,2,5,1,2,3,"0","0","1","0","0","0","0","0","0","0","0","0","0","0","0","0","0","0",null,null,3,5,1,{"$f":"IF(ISNUMBER(SEARCH(\"1\",#REF!)),\"1\",\"0\")","v":"0"},{"$f":"IF(ISNUMBER(SEARCH(\"2\",#REF!)),\"1\",\"0\")","v":"0"},{"$f":"IF(ISNUMBER(SEARCH(\"3\",#REF!)),\"1\",\"0\")","v":"0"},{"$f":"IF(ISNUMBER(SEARCH(\"4\",#REF!)),\"1\",\"0\")","v":"0"},{"$f":"IF(ISNUMBER(SEARCH(\"5\",#REF!)),\"1\",\"0\")","v":"0"},{"$f":"IF(ISNUMBER(SEARCH(\"6\",#REF!)),\"1\",\"0\")","v":"0"},{"$f":"IF(ISNUMBER(SEARCH(\"7\",#REF!)),\"1\",\"0\")","v":"0"},{"$f":"IF(ISNUMBER(SEARCH(\"8\",#REF!)),\"1\",\"0\")","v":"0"},{"$f":"IF(ISNUMBER(SEARCH(\"9\",#REF!)),\"1\",\"0\")","v":"0"},{"$f":"IF(ISNUMBER(SEARCH(\"9\",#REF!)),\"1\",\"0\")","v":"0"},{"$f":"IF(ISNUMBER(SEARCH(\"10\",#REF!)),\"1\",\"0\")","v":"0"},{"$f":"IF(ISNUMBER(SEARCH(\"11\",#REF!)),\"1\",\"0\")","v":"0"},{"$f":"IF(ISNUMBER(SEARCH(\"12\",#REF!)),\"1\",\"0\")","v":"0"},{"$f":"IF(ISNUMBER(SEARCH(\"13\",#REF!)),\"1\",\"0\")","v":"0"},{"$f":"IF(ISNUMBER(SEARCH(\"14\",#REF!)),\"1\",\"0\")","v":"0"},{"$f":"IF(ISNUMBER(SEARCH(\"15\",#REF!)),\"1\",\"0\")","v":"0"},{"$f":"IF(ISNUMBER(SEARCH(\"16\",#REF!)),\"1\",\"0\")","v":"0"},{"$f":"IF(ISNUMBER(SEARCH(\"17\",#REF!)),\"1\",\"0\")","v":"0"},3,2,null,null,26,18,16,60,5,{"$nulls":9},{"$f":"#REF!-#REF!","v":{"$error":"#REF!"}}]
[2,22,4,"2 KAR",2,20,null,2,2,1,0,5,1,3,"0","0","1","0","0","0","0","0","0","0","0","0","0","0","0","0","0","0",null,null,2,5,1,{"$f":"IF(ISNUMBER(SEARCH(\"1\",#REF!)),\"1\",\"0\")","v":"0"},{"$f":"IF(ISNUMBER(SEARCH(\"2\",#REF!)),\"1\",\"0\")","v":"0"},{"$f":"IF(ISNUMBER(SEARCH(\"3\",#REF!)),\"1\",\"0\")","v":"0"},{"$f":"IF(ISNUMBER(SEARCH(\"4\",#REF!)),\"1\",\"0\")","v":"0"},{"$f":"IF(ISNUMBER(SEARCH(\"5\",#REF!)),\"1\",\"0\")","v":"0"},{"$f":"IF(ISNUMBER(SEARCH(\"6\",#REF!)),\"1\",\"0\")","v":"0"},{"$f":"IF(ISNUMBER(SEARCH(\"7\",#REF!)),\"1\",\"0\")","v":"0"},{"$f":"IF(ISNUMBER(SEARCH(\"8\",#REF!)),\"1\",\"0\")","v":"0"},{"$f":"IF(ISNUMBER(SEARCH(\"9\",#REF!)),\"1\",\"0\")","v":"0"},{"$f":"IF(ISNUMBER(SEARCH(\"9\",#REF!)),\"1\",\"0\")","v":"0"},{"$f":"IF(ISNUMBER(SEARCH(\"10\",#REF!)),\"1\",\"0\")","v":"0"},{"$f":"IF(ISNUMBER(SEARCH(\"11\",#REF!)),\"1\",\"0\")","v":"0"},{"$f":"IF(ISNUMBER(SEARCH(\"12\",#REF!)),\"1\",\"0\")","v":"0"},{"$f":"IF(ISNUMBER(SEARCH(\"13\",#REF!)),\"1\",\"0\")","v":"0"},{"$f":"IF(ISNUMBER(SEARCH(\"14\",#REF!)),\"1\",\"0\")","v":"0"},{"$f":"IF(ISNUMBER(SEARCH(\"15\",#REF!)),\"1\",\"0\")","v":"0"},{"$f":"IF(ISNUMBER(SEARCH(\"16\",#REF!)),\"1\",\"0\")","v":"0"},{"$f":"IF(ISNUMBER(SEARCH(\"17\",#REF!)),\"1\",\"0\")","v":"0"},4,2,{"$nulls":6},7]
[2,22,4,"4 KAR",1,48,null,2,3,1,9,3,2,1,"1","0","0","0","0","0","0","0","0","0","0","0","0","0","0","0","0","0",null,null,1,5,2,{"$f":"IF(ISNUMBER(SEARCH(\"1\",#REF!)),\"1\",\"0\")","v":"0"},{"$f":"IF(ISNUMBER(SEARCH(\"2\",#REF!)),\"1\",\"0\")","v":"0"},{"$f":"IF(ISNUMBER(SEARCH(\"3\",#REF!)),\"1\",\"0\")","v":"0"},{"$f":"IF(ISNUMBER(SEARCH(\"4\",#REF!)),\"1\",\"0\")","v":"0"},{"$f":"IF(ISNUMBER(SEARCH(\"5\",#REF!)),\"1\",\"0\")","v":"0"},{"$f":"IF(ISNUMBER(SEARCH(\"6\",#REF!)),\"1\",\"0\")","v":"0"},{"$f":"IF(ISNUMBER(SEARCH(\"7\",#REF!)),\"1\",\"0\")","v":"0"},{"$f":"IF(ISNUMBER(SEARCH(\"8\",#REF!)),\"1\",\"0\")","v":"0"},{"$f":"IF(ISNUMBER(SEARCH(\"9\",#REF!)),\"1\",\"0\")","v":"0"},{"$f":"IF(ISNUMBER(SEARCH(\"9\",#REF!)),\"1\",\"0\")","v":"0"},{"$f":"IF(ISNUMBER(SEARCH(\"10\",#REF!)),\"1\",\"0\")","v":"0"},{"$f":"IF(ISNUMBER(SEARCH(\"11\",#REF!)),\"1\",\"0\")","v":"0"},{"$f":"IF(ISNUMBER(SEARCH(\"12\",#REF!)),\"1\",\"0\")","v":"0"},{"$f":"IF(ISNUMBER(SEARCH(\"13\",#REF!)),\"1\",\"0\")","v":"0"},{"$f":"IF(ISNUMBER(SEARCH(\"14\",#REF!)),\"1\",\"0\")","v":"0"},{"$f":"IF(ISNUMBER(SEARCH(\"15\",#REF!)),\"1\",\"0\")","v":"0"},{"$f":"IF(ISNUMBER(SEARCH(\"16\",#REF!)),\"1\",\"0\")","v":"0"},{"$f":"IF(ISNUMBER(SEARCH(\"17\",#REF!)),\"1\",\"0\")","v":"0"},{"$nulls":4},24,16,22,62,6,{"$nulls":9},{"$f":"#REF!-#REF!","v":{"$error":"#REF!"}}]
[2,22,4,"3 KAR",2,32,null,1,3,1,5,5,2,3,"0","0","1","0","0","0","0","0","0","0","0","0","0","0","0","0","0","0",null,null,3,4,1,{"$f":"IF(ISNUMBER(SEARCH(\"1\",#REF!)),\"1\",\"0\")","v":"0"},{"$f":"IF(ISNUMBER(SEARCH(\"2\",#REF!)),\"1\",\"0\")","v":"0"},{"$f":"IF(ISNUMBER(SEARCH(\"3\",#REF!)),\"1\",\"0\")","v":"0"},{"$f":"IF(ISNUMBER(SEARCH(\"4\",#REF!)),\"1\",\"0\")","v":"0"},{"$f":"IF(ISNUMBER(SEARCH(\"5\",#REF!)),\"1\",\"0\")","v":"0"},{"$f":"IF(ISNUMBER(SEARCH(\"6\",#REF!)),\"1\",\"0\")","v":"0"},{"$f":"IF(ISNUMBER(SEARCH(\"7\",#REF!)),\"1\",\"0\")","v":"0"},{"$f":"IF(ISNUMBER(SEARCH(\"8\",#REF!)),\"1\",\"0\")","v":"0"},{"$f":"IF(ISNUMBER(SEARCH(\"9\",#REF!)),\"1\",\"0\")","v":"0"},{"$f":"IF(ISNUMBER(SEARCH(\"9\",#REF!)),\"1\",\"0\")","v":"0"},{"$f":"IF(ISNUMBER(SEARCH(\"10\",#REF!)),\"1\",\"0\")","v":"0"},{"$f":"IF(ISNUMBER(SEARCH(\"11\",#REF!)),\"1\",\"0\")","v":"0"},{"$f":"IF(ISNUMBER(SEARCH(\"12\",#REF!)),\"1\",\"0\")","v":"0"},{"$f":"IF(ISNUMBER(SEARCH(\"13\",#REF!)),\"1\",\"0\")","v":"0"},{"$f":"IF(ISNUMBER(SEARCH(\"14\",#REF!)),\"1\",\"0\")","v":"0"},{"$f":"IF(ISNUMBER(SEARCH(\"15\",#REF!)),\"1\",\"0\")","v":"0"},{"$f":"IF(ISNUMBER(SEARCH(\"16\",#REF!)),\"1\",\"0\")","v":"0"},{"$f":"IF(ISNUMBER(SEARCH(\"17\",#REF!)),\"1\",\"0\")","v":"0"},4,2,null,null,26,28,22,76,7]
[2,22,4,"2 KAR",2,15,null,2,2,1,0,3,1,3,"0","0","1","0","0","0","0","0","0","0","0","0","0","0","0","0","0","0",null,null,1,4,1,{"$f":"IF(ISNUMBER(SEARCH(\"1\",#REF!)),\"1\",\"0\")","v":"0"},{"$f":"IF(ISNUMBER(SEARCH(\"2\",#REF!)),\"1\",\"0\")","v":"0"},{"$f":"IF(ISNUMBER(SEARCH(\"3\",#REF!)),\"1\",\"0\")","v":"0"},{"$f":"IF(ISNUMBER(SEARCH(\"4\",#REF!)),\"1\",\"0\")","v":"0"},{"$f":"IF(ISNUMBER(SEARCH(\"5\",#REF!)),\"1\",\"0\")","v":"0"},{"$f":"IF(ISNUMBER(SEARCH(\"6\",#REF!)),\"1\",\"0\")","v":"0"},{"$f":"IF(ISNUMBER(SEARCH(\"7\",#REF!)),\"1\",\"0\")","v":"0"},{"$f":"IF(ISNUMBER(SEARCH(\"8\",#REF!)),\"1\",\"0\")","v":"0"},{"$f":"IF(ISNUMBER(SEARCH(\"9\",#REF!)),\"1\",\"0\")","v":"0"},{"$f":"IF(ISNUMBER(SEARCH(\"9\",#REF!)),\"1\",\"0\")","v":"0"},{"$f":"IF(ISNUMBER(SEARCH(\"10\",#REF!)),\"1\",\"0\")","v":"0"},{"$f":"IF(ISNUMBER(SEARCH(\"11\",#REF!)),\"1\",\"0\")","v":"0"},{"$f":"IF(ISNUMBER(SEARCH(\"12\",#REF!)),\"1\",\"0\")","v":"0"},{"$f":"IF(ISNUMBER(SEARCH(\"13\",#REF!)),\"1\",\"0\")","v":"0"},{"$f":"IF(ISNUMBER(SEARCH(\"14\",#REF!)),\"1\",\"0\")","v":"0"},{"$f":"IF(ISNUMBER(SEARCH(\"15\",#REF!)),\"1\",\"0\")","v":"0"},{"$f":"IF(ISNUMBER(SEARCH(\"16\",#REF!)),\"1\",\"0\")","v":"0"},{"$f":"IF(ISNUMBER(SEARCH(\"17\",#REF!)),\"1\",\"0\")","v":"0"},1,3,{"$nulls":6},7]
[2,22,9,"LL",2,27,null,3,8,1,0,1,2,3,"0","0","1","0","0","0","0","0","0","0","0","0","0","0","0","0","0","0",null,null,3,5,1,{"$f":"IF(ISNUMBER(SEARCH(\"1\",#REF!)),\"1\",\"0\")","v":"0"},{"$f":"IF(ISNUMBER(SEARCH(\"2\",#REF!)),\"1\",\"0\")","v":"0"},{"$f":"IF(ISNUMBER(SEARCH(\"3\",#REF!)),\"1\",\"0\")","v":"0"},{"$f":"IF(ISNUMBER(SEARCH(\"4\",#REF!)),\"1\",\"0\")","v":"0"},{"$f":"IF(ISNUMBER(SEARCH(\"5\",#REF!)),\"1\",\"0\")","v":"0"},{"$f":"IF(ISNUMBER(SEARCH(\"6\",#REF!)),\"1\",\"0\")","v":"0"},{"$f":"IF(ISNUMBER(SEARCH(\"7\",#REF!)),\"1\",\"0\")","v":"0"},{"$f":"IF(ISNUMBER(SEARCH(\"8\",#REF!)),\"1\",\"0\")","v":"0"},{"$f":"IF(ISNUMBER(SEARCH(\"9\",#REF!)),\"1\",\"0\")","v":"0"},{"$f":"IF(ISNUMBER(SEARCH(\"9\",#REF!)),\"1\",\"0\")","v":"0"},{"$f":"IF(ISNUMBER(SEARCH(\"10\",#REF!)),\"1\",\"0\")","v":"0"},{"$f":"IF(ISNUMBER(SEARCH(\"11\",#REF!)),\"1\",\"0\")","v":"0"},{"$f":"IF(ISNUMBER(SEARCH(\"12\",#REF!)),\"1\",\"0\")","v":"0"},{"$f":"IF(ISNUMBER(SEARCH(\"13\",#REF!)),\"1\",\"0\")","v":"0"},{"$f":"IF(ISNUMBER(SEARCH(\"14\",#REF!)),\"1\",\"0\")","v":"0"},{"$f":"IF(ISNUMBER(SEARCH(\"15\",#REF!)),\"1\",\"0\")","v":"0"},{"$f":"IF(ISNUMBER(SEARCH(\"16\",#REF!)),\"1\",\"0\")","v":"0"},{"$f":"IF(ISNUMBER(SEARCH(\"17\",#REF!)),\"1\",\"0\")","v":"0"},1,3,{"$nulls":6},9]
[2,22,9,"LL",2,27,null,1,7,1,3,5,5,3,"0","0","1","0","0","0","0","0","0","0","0","0","0","0","0","0","0","0",null,null,3,5,2,{"$f":"IF(ISNUMBER(SEARCH(\"1\",#REF!)),\"1\",\"0\")","v":"0"},{"$f":"IF(ISNUMBER(SEARCH(\"2\",#REF!)),\"1\",\"0\")","v":"0"},{"$f":"IF(ISNUMBER(SEARCH(\"3\",#REF!)),\"1\",\"0\")","v":"0"},{"$f":"IF(ISNUMBER(SEARCH(\"4\",#REF!)),\"1\",\"0\")","v":"0"},{"$f":"IF(ISNUMBER(SEARCH(\"5\",#REF!)),\"1\",\"0\")","v":"0"},{"$f":"IF(ISNUMBER(SEARCH(\"6\",#REF!)),\"1\",\"0\")","v":"0"},{"$f":"IF(ISNUMBER(SEARCH(\"7\",#REF!)),\"1\",\"0\")","v":"0"},{"$f":"IF(ISNUMBER(SEARCH(\"8\",#REF!)),\"1\",\"0\")","v":"0"},{"$f":"IF(ISNUMBER(SEARCH(\"9\",#REF!)),\"1\",\"0\")","v":"0"},{"$f":"IF(ISNUMBER(SEARCH(\"9\",#REF!)),\"1\",\"0\")","v":"0"},{"$f":"IF(ISNUMBER(SEARCH(\"10\",#REF!)),\"1\",\"0\")","v":"0"},{"$f":"IF(ISNUMBER(SEARCH(\"11\",#REF!)),\"1\",\"0\")","v":"0"},{"$f":"IF(ISNUMBER(SEARCH(\"12\",#REF!)),\"1\",\"0\")","v":"0"},{"$f":"IF(ISNUMBER(SEARCH(\"13\",#REF!)),\"1\",\"0\")","v":"0"},{"$f":"IF(ISNUMBER(SEARCH(\"14\",#REF!)),\"1\",\"0\")","v":"0"},{"$f":"IF(ISNUMBER(SEARCH(\"15\",#REF!)),\"1\",\"0\")","v":"0"},{"$f":"IF(ISNUMBER(SEARCH(\"16\",#REF!)),\"1\",\"0\")","v":"0"},{"$f":"IF(ISNUMBER(SEARCH(\"17\",#REF!)),\"1\",\"0\")","v":"0"},4,2,null,null,22,4,20,46,6,null,4,0,0,{"$f":"BN2274+BO2274+BP2274","v":4},null,8,5,null,null,{"$f":"#REF!-#REF!","v":{"$error":"#REF!"}}]
[2,22,9,"LL",2,25,null,1,3,1,3,3,2,3,"0","0","1","0","0","0","0","0","0","0","0","0","0","0","0","0","0","0",null,null,3,5,1,{"$f":"IF(ISNUMBER(SEARCH(\"1\",#REF!)),\"1\",\"0\")","v":"0"},{"$f":"IF(ISNUMBER(SEARCH(\"2\",#REF!)),\"1\",\"0\")","v":"0"},{"$f":"IF(ISNUMBER(SEARCH(\"3\",#REF!)),\"1\",\"0\")","v":"0"},{"$f":"IF(ISNUMBER(SEARCH(\"4\",#REF!)),\"1\",\"0\")","v":"0"},{"$f":"IF(ISNUMBER(SEARCH(\"5\",#REF!)),\"1\",\"0\")","v":"0"},{"$f":"IF(ISNUMBER(SEARCH(\"6\",#REF!)),\"1\",\"0\")","v":"0"},{"$f":"IF(ISNUMBER(SEARCH(\"7\",#REF!)),\"1\",\"0\")","v":"0"},{"$f":"IF(ISNUMBER(SEARCH(\"8\",#REF!)),\"1\",\"0\")","v":"0"},{"$f":"IF(ISNUMBER(SEARCH(\"9\",#REF!)),\"1\",\"0\")","v":"0"},{"$f":"IF(ISNUMBER(SEARCH(\"9\",#REF!)),\"1\",\"0\")","v":"0"},{"$f":"IF(ISNUMBER(SEARCH(\"10\",#REF!)),\"1\",\"0\")","v":"0"},{"$f":"IF(ISNUMBER(SEARCH(\"11\",#REF!)),\"1\",\"0\")","v":"0"},{"$f":"IF(ISNUMBER(SEARCH(\"12\",#REF!)),\"1\",\"0\")","v":"0"},{"$f":"IF(ISNUMBER(SEARCH(\"13\",#REF!)),\"1\",\"0\")","v":"0"},{"$f":"IF(ISNUMBER(SEARCH(\"14\",#REF!)),\"1\",\"0\")","v":"0"},{"$f":"IF(ISNUMBER(SEARCH(\"15\",#REF!)),\"1\",\"0\")","v":"0"},{"$f":"IF(ISNUMBER(SEARCH(\"16\",#REF!)),\"1\",\"0\")","v":"0"},{"$f":"IF(ISNUMBER(SEARCH(\"17\",#REF!)),\"1\",\"0\")","v":"0"},{"$nulls":4},18,14,20,52,13]
[2,22,9,"FM",2,50,null,1,3,1,9,5,2,14,"1","0","0","1","0","0","0","0","0","0","0","0","0","1","0","0","0","0",null,null,1,2,2,{"$f":"IF(ISNUMBER(SEARCH(\"1\",#REF!)),\"1\",\"0\")","v":"0"},{"$f":"IF(ISNUMBER(SEARCH(\"2\",#REF!)),\"1\",\"0\")","v":"0"},{"$f":"IF(ISNUMBER(SEARCH(\"3\",#REF!)),\"1\",\"0\")","v":"0"},{"$f":"IF(ISNUMBER(SEARCH(\"4\",#REF!)),\"1\",\"0\")","v":"0"},{"$f":"IF(ISNUMBER(SEARCH(\"5\",#REF!)),\"1\",\"0\")","v":"0"},{"$f":"IF(ISNUMBER(SEARCH(\"6\",#REF!)),\"1\",\"0\")","v":"0"},{"$f":"IF(ISNUMBER(SEARCH(\"7\",#REF!)),\"1\",\"0\")","v":"0"},{"$f":"IF(ISNUMBER(SEARCH(\"8\",#REF!)),\"1\",\"0\")","v":"0"},{"$f":"IF(ISNUMBER(SEARCH(\"9\",#REF!)),\"1\",\"0\")","v":"0"},{"$f":"IF(ISNUMBER(SEARCH(\"9\",#REF!)),\"1\",\"0\")","v":"0"},{"$f":"IF(ISNUMBER(SEARCH(\"10\",#REF!)),\"1\",\"0\")","v":"0"},{"$f":"IF(ISNUMBER(SEARCH(\"11\",#REF!)),\"1\",\"0\")","v":"0"},{"$f":"IF(ISNUMBER(SEARCH(\"12\",#REF!)),\"1\",\"0\")","v":"0"},{"$f":"IF(ISNUMBER(SEARCH(\"13\",#REF!)),\"1\",\"0\")","v":"0"},{"$f":"IF(ISNUMBER(SEARCH(\"14\",#REF!)),\"1\",\"0\")","v":"0"},{"$f":"IF(ISNUMBER(SEARCH(\"15\",#REF!)),\"1\",\"0\")","v":"0"},{"$f":"IF(ISNUMBER(SEARCH(\"16\",#REF!)),\"1\",\"0\")","v":"0"},{"$f":"IF(ISNUMBER(SEARCH(\"17\",#REF!)),\"1\",\"0\")","v":"0"},{"$nulls":4},42,20,38,100,7]
[2,22,6,"MAT",2,25,null,3,8,1,4,5,2,3,"0","0","1","0","0","0","0","0","0","0","0","0","0","0","0","0","0","0",null,null,1,5,2,{"$f":"IF(ISNUMBER(SEARCH(\"1\",#REF!)),\"1\",\"0\")","v":"0"},{"$f":"IF(ISNUMBER(SEARCH(\"2\",#REF!)),\"1\",\"0\")","v":"0"},{"$f":"IF(ISNUMBER(SEARCH(\"3\",#REF!)),\"1\",\"0\")","v":"0"},{"$f":"IF(ISNUMBER(SEARCH(\"4\",#REF!)),\"1\",\"0\")","v":"0"},{"$f":"IF(ISNUMBER(SEARCH(\"5\",#REF!)),\"1\",\"0\")","v":"0"},{"$f":"IF(ISNUMBER(SEARCH(\"6\",#REF!)),\"1\",\"0\")","v":"0"},{"$f":"IF(ISNUMBER(SEARCH(\"7\",#REF!)),\"1\",\"0\")","v":"0"},{"$f":"IF(ISNUMBER(SEARCH(\"8\",#REF!)),\"1\",\"0\")","v":"0"},{"$f":"IF(ISNUMBER(SEARCH(\"9\",#REF!)),\"1\",\"0\")","v":"0"},{"$f":"IF(ISNUMBER(SEARCH(\"9\",#REF!)),\"1\",\"0\")","v":"0"},{"$f":"IF(ISNUMBER(SEARCH(\"10\",#REF!)),\"1\",\"0\")","v":"0"},{"$f":"IF(ISNUMBER(SEARCH(\"11\",#REF!)),\"1\",\"0\")","v":"0"},{"$f":"IF(ISNUMBER(SEARCH(\"12\",#REF!)),\"1\",\"0\")","v":"0"},{"$f":"IF(ISNUMBER(SEARCH(\"13\",#REF!)),\"1\",\"0\")","v":"0"},{"$f":"IF(ISNUMBER(SEARCH(\"14\",#REF!)),\"1\",\"0\")","v":"0"},{"$f":"IF(ISNUMBER(SEARCH(\"15\",#REF!)),\"1\",\"0\")","v":"0"},{"$f":"IF(ISNUMBER(SEARCH(\"16\",#REF!)),\"1\",\"0\")","v":"0"},{"$f":"IF(ISNUMBER(SEARCH(\"17\",#REF!)),\"1\",\"0\")","v":"0"},1,1,null,null,20,12,6,38,3,null,20,14,10,44,null,11,2,null,{"$f":"#REF!-#REF!","v":{"$error":"#REF!"}},{"$f":"#REF!-#REF!","v":{"$error":"#REF!"}}]
[2,22,2,"F2",2,36,null,2,8,1,6,5,2,3,"0","0","1","0","0","0","0","0","0","0","0","0","0","0","0","0","0","0",null,null,2,5,2,{"$f":"IF(ISNUMBER(SEARCH(\"1\",#REF!)),\"1\",\"0\")","v":"0"},{"$f":"IF(ISNUMBER(SEARCH(\"2\",#REF!)),\"1\",\"0\")","v":"0"},{"$f":"IF(ISNUMBER(SEARCH(\"3\",#REF!)),\"1\",\"0\")","v":"0"},{"$f":"IF(ISNUMBER(SEARCH(\"4\",#REF!)),\"1\",\"0\")","v":"0"},{"$f":"IF(ISNUMBER(SEARCH(\"5\",#REF!)),\"1\",\"0\")","v":"0"},{"$f":"IF(ISNUMBER(SEARCH(\"6\",#REF!)),\"1\",\"0\")","v":"0"},{"$f":"IF(ISNUMBER(SEARCH(\"7\",#REF!)),\"1\",\"0\")","v":"0"},{"$f":"IF(ISNUMBER(SEARCH(\"8\",#REF!)),\"1\",\"0\")","v":"0"},{"$f":"IF(ISNUMBER(SEARCH(\"9\",#REF!)),\"1\",\"0\")","v":"0"},{"$f":"IF(ISNUMBER(SEARCH(\"9\",#REF!)),\"1\",\"0\")","v":"0"},{"$f":"IF(ISNUMBER(SEARCH(\"10\",#REF!)),\"1\",\"0\")","v":"0"},{"$f":"IF(ISNUMBER(SEARCH(\"11\",#REF!)),\"1\",\"0\")","v":"0"},{"$f":"IF(ISNUMBER(SEARCH(\"12\",#REF!)),\"1\",\"0\")","v":"0"},{"$f":"IF(ISNUMBER(SEARCH(\"13\",#REF!)),\"1\",\"0\")","v":"0"},{"$f":"IF(ISNUMBER(SEARCH(\"14\",#REF!)),\"1\",\"0\")","v":"0"},{"$f":"IF(ISNUMBER(SEARCH(\"15\",#REF!)),\"1\",\"0\")","v":"0"},{"$f":"IF(ISNUMBER(SEARCH(\"16\",#REF!)),\"1\",\"0\")","v":"0"},{"$f":"IF(ISNUMBER(SEARCH(\"17\",#REF!)),\"1\",\"0\")","v":"0"},1,3,null,null,32,20,18,70,4]
[2,22,2,"F2",2,38,null,2,3,1,6,3,6,"4. Tentative de Viol","0","0","0","1","0","0","0","0","0","0","0","0","0","0","0","0","0","0",null,null,3,5,2,{"$f":"IF(ISNUMBER(SEARCH(\"1\",#REF!)),\"1\",\"0\")","v":"0"},{"$f":"IF(ISNUMBER(SEARCH(\"2\",#REF!)),\"1\",\"0\")","v":"0"},{"$f":"IF(ISNUMBER(SEARCH(\"3\",#REF!)),\"1\",\"0\")","v":"0"},{"$f":"IF(ISNUMBER(SEARCH(\"4\",#REF!)),\"1\",\"0\")","v":"0"},{"$f":"IF(ISNUMBER(SEARCH(\"5\",#REF!)),\"1\",\"0\")","v":"0"},{"$f":"IF(ISNUMBER(SEARCH(\"6\",#REF!)),\"1\",\"0\")","v":"0"},{"$f":"IF(ISNUMBER(SEARCH(\"7\",#REF!)),\"1\",\"0\")","v":"0"},{"$f":"IF(ISNUMBER(SEARCH(\"8\",#REF!)),\"1\",\"0\")","v":"0"},{"$f":"IF(ISNUMBER(SEARCH(\"9\",#REF!)),\"1\",\"0\")","v":"0"},{"$f":"IF(ISNUMBER(SEARCH(\"9\",#REF!)),\"1\",\"0\")","v":"0"},{"$f":"IF(ISNUMBER(SEARCH(\"10\",#REF!)),\"1\",\"0\")","v":"0"},{"$f":"IF(ISNUMBER(SEARCH(\"11\",#REF!)),\"1\",\"0\")","v":"0"},{"$f":"IF(ISNUMBER(SEARCH(\"12\",#REF!)),\"1\",\"0\")","v":"0"},{"$f":"IF(ISNUMBER(SEARCH(\"13\",#REF!)),\"1\",\"0\")","v":"0"},{"$f":"IF(ISNUMBER(SEARCH(\"14\",#REF!)),\"1\",\"0\")","v":"0"},{"$f":"IF(ISNUMBER(SEARCH(\"15\",#REF!)),\"1\",\"0\")","v":"0"},{"$f":"IF(ISNUMBER(SEARCH(\"16\",#REF!)),\"1\",\"0\")","v":"0"},{"$f":"IF(ISNUMBER(SEARCH(\"17\",#REF!)),\"1\",\"0\")","v":"0"},{"$nulls":4},24,20,10,54,4,null,10,6,14,30,null,13,5,null,null,{"$f":"#REF!-#REF!","v":{"$error":"#REF!"}}]
[2,22,2,"F1",2,27,null,2,8,1,2,5,2,3,"0","0","1","0","0","0","0","0","0","0","0","0","0","0","0","0","0","0",null,null,3,5,2,{"$f":"IF(ISNUMBER(SEARCH(\"1\",#REF!)),\"1\",\"0\")","v":"0"},{"$f":"IF(ISNUMBER(SEARCH(\"2\",#REF!)),\"1\",\"0\")","v":"0"},{"$f":"IF(ISNUMBER(SEARCH(\"3\",#REF!)),\"1\",\"0\")","v":"0"},{"$f":"IF(ISNUMBER(SEARCH(\"4\",#REF!)),\"1\",\"0\")","v":"0"},{"$f":"IF(ISNUMBER(SEARCH(\"5\",#REF!)),\"1\",\"0\")","v":"0"},{"$f":"IF(ISNUMBER(SEARCH(\"6\",#REF!)),\"1\",\"0\")","v":"0"},{"$f":"IF(ISNUMBER(SEARCH(\"7\",#REF!)),\"1\",\"0\")","v":"0"},{"$f":"IF(ISNUMBER(SEARCH(\"8\",#REF!)),\"1\",\"0\")","v":"0"},{"$f":"IF(ISNUMBER(SEARCH(\"9\",#REF!)),\"1\",\"0\")","v":"0"},{"$f":"IF(ISNUMBER(SEARCH(\"9\",#REF!)),\"1\",\"0\")","v":"0"},{"$f":"IF(ISNUMBER(SEARCH(\"10\",#REF!)),\"1\",\"0\")","v":"0"},{"$f":"IF(ISNUMBER(SEARCH(\"11\",#REF!)),\"1\",\"0\")","v":"0"},{"$f":"IF(ISNUMBER(SEARCH(\"12\",#REF!)),\"1\",\"0\")","v":"0"},{"$f":"IF(ISNUMBER(SEARCH(\"13\",#REF!)),\"1\",\"0\")","v":"0"},{"$f":"IF(ISNUMBER(SEARCH(\"14\",#REF!)),\"1\",\"0\")","v":"0"},{"$f":"IF(ISNUMBER(SEARCH(\"15\",#REF!)),\"1\",\"0\")","v":"0"},{"$f":"IF(ISNUMBER(SEARCH(\"16\",#REF!)),\"1\",\"0\")","v":"0"},{"$f":"IF(ISNUMBER(SEARCH(\"17\",#REF!)),\"1\",\"0\")","v":"0"},1,3,null,null,32,14,22,68,4]
[2,22,6,"MAT",2,50,null,3,3,1,7,1,2,3,"0","0","1","0","0","0","0","0","0","0","0","0","0","0","0","0","0","0",null,null,2,5,2,{"$f":"IF(ISNUMBER(SEARCH(\"1\",#REF!)),\"1\",\"0\")","v":"0"},{"$f":"IF(ISNUMBER(SEARCH(\"2\",#REF!)),\"1\",\"0\")","v":"0"},{"$f":"IF(ISNUMBER(SEARCH(\"3\",#REF!)),\"1\",\"0\")","v":"0"},{"$f":"IF(ISNUMBER(SEARCH(\"4\",#REF!)),\"1\",\"0\")","v":"0"},{"$f":"IF(ISNUMBER(SEARCH(\"5\",#REF!)),\"1\",\"0\")","v":"0"},{"$f":"IF(ISNUMBER(SEARCH(\"6\",#REF!)),\"1\",\"0\")","v":"0"},{"$f":"IF(ISNUMBER(SEARCH(\"7\",#REF!)),\"1\",\"0\")","v":"0"},{"$f":"IF(ISNUMBER(SEARCH(\"8\",#REF!)),\"1\",\"0\")","v":"0"},{"$f":"IF(ISNUMBER(SEARCH(\"9\",#REF!)),\"1\",\"0\")","v":"0"},{"$f":"IF(ISNUMBER(SEARCH(\"9\",#REF!)),\"1\",\"0\")","v":"0"},{"$f":"IF(ISNUMBER(SEARCH(\"10\",#REF!)),\"1\",\"0\")","v":"0"},{"$f":"IF(ISNUMBER(SEARCH(\"11\",#REF!)),\"1\",\"0\")","v":"0"},{"$f":"IF(ISNUMBER(SEARCH(\"12\",#REF!)),\"1\",\"0\")","v":"0"},{"$f":"IF(ISNUMBER(SEARCH(\"13\",#REF!)),\"1\",\"0\")","v":"0"},{"$f":"IF(ISNUMBER(SEARCH(\"14\",#REF!)),\"1\",\"0\")","v":"0"},{"$f":"IF(ISNUMBER(SEARCH(\"15\",#REF!)),\"1\",\"0\")","v":"0"},{"$f":"IF(ISNUMBER(SEARCH(\"16\",#REF!)),\"1\",\"0\")","v":"0"},{"$f":"IF(ISNUMBER(SEARCH(\"17\",#REF!)),\"1\",\"0\")","v":"0"},1,3,null,null,22,14,18,54,6,{"$nulls":9},{"$f":"#REF!-#REF!","v":{"$error":"#REF!"}}]
[2,22,13,"S1",2,30,null,1,3,1,4,1,6,3,"0","0","1","0","0","0","0","0","0","0","0","0","0","0","0","0","0","0",null,null,2,5,2,{"$f":"IF(ISNUMBER(SEARCH(\"1\",#REF!)),\"1\",\"0\")","v":"0"},{"$f":"IF(ISNUMBER(SEARCH(\"2\",#REF!)),\"1\",\"0\")","v":"0"},{"$f":"IF(ISNUMBER(SEARCH(\"3\",#REF!)),\"1\",\"0\")","v":"0"},{"$f":"IF(ISNUMBER(SEARCH(\"4\",#REF!)),\"1\",\"0\")","v":"0"},{"$f":"IF(ISNUMBER(SEARCH(\"5\",#REF!)),\"1\",\"0\")","v":"0"},{"$f":"IF(ISNUMBER(SEARCH(\"6\",#REF!)),\"1\",\"0\")","v":"0"},{"$f":"IF(ISNUMBER(SEARCH(\"7\",#REF!)),\"1\",\"0\")","v":"0"},{"$f":"IF(ISNUMBER(SEARCH(\"8\",#REF!)),\"1\",\"0\")","v":"0"},{"$f":"IF(ISNUMBER(SEARCH(\"9\",#REF!)),\"1\",\"0\")","v":"0"},{"$f":"IF(ISNUMBER(SEARCH(\"9\",#REF!)),\"1\",\"0\")","v":"0"},{"$f":"IF(ISNUMBER(SEARCH(\"10\",#REF!)),\"1\",\"0\")","v":"0"},{"$f":"IF(ISNUMBER(SEARCH(\"11\",#REF!)),\"1\",\"0\")","v":"0"},{"$f":"IF(ISNUMBER(SEARCH(\"12\",#REF!)),\"1\",\"0\")","v":"0"},{"$f":"IF(ISNUMBER(SEARCH(\"13\",#REF!)),\"1\",\"0\")","v":"0"},{"$f":"IF(ISNUMBER(SEARCH(\"14\",#REF!)),\"1\",\"0\")","v":"0"},{"$f":"IF(ISNUMBER(SEARCH(\"15\",#REF!)),\"1\",\"0\")","v":"0"},{"$f":"IF(ISNUMBER(SEARCH(\"16\",#REF!)),\"1\",\"0\")","v":"0"},{"$f":"IF(ISNUMBER(SEARCH(\"17\",#REF!)),\"1\",\"0\")","v":"0"},1,1,null,null,22,26,32,80,3]
[2,22,2,"F1",2,32,null,2,3,2,6,5,6,1,"1","0","0","0","0","0","0","0","0","0","0","0","0","0","0","0","0","0",null,null,3,5,1,{"$f":"IF(ISNUMBER(SEARCH(\"1\",#REF!)),\"1\",\"0\")","v":"0"},{"$f":"IF(ISNUMBER(SEARCH(\"2\",#REF!)),\"1\",\"0\")","v":"0"},{"$f":"IF(ISNUMBER(SEARCH(\"3\",#REF!)),\"1\",\"0\")","v":"0"},{"$f":"IF(ISNUMBER(SEARCH(\"4\",#REF!)),\"1\",\"0\")","v":"0"},{"$f":"IF(ISNUMBER(SEARCH(\"5\",#REF!)),\"1\",\"0\")","v":"0"},{"$f":"IF(ISNUMBER(SEARCH(\"6\",#REF!)),\"1\",\"0\")","v":"0"},{"$f":"IF(ISNUMBER(SEARCH(\"7\",#REF!)),\"1\",\"0\")","v":"0"},{"$f":"IF(ISNUMBER(SEARCH(\"8\",#REF!)),\"1\",\"0\")","v":"0"},{"$f":"IF(ISNUMBER(SEARCH(\"9\",#REF!)),\"1\",\"0\")","v":"0"},{"$f":"IF(ISNUMBER(SEARCH(\"9\",#REF!)),\"1\",\"0\")","v":"0"},{"$f":"IF(ISNUMBER(SEARCH(\"10\",#REF!)),\"1\",\"0\")","v":"0"},{"$f":"IF(ISNUMBER(SEARCH(\"11\",#REF!)),\"1\",\"0\")","v":"0"},{"$f":"IF(ISNUMBER(SEARCH(\"12\",#REF!)),\"1\",\"0\")","v":"0"},{"$f":"IF(ISNUMBER(SEARCH(\"13\",#REF!)),\"1\",\"0\")","v":"0"},{"$f":"IF(ISNUMBER(SEARCH(\"14\",#REF!)),\"1\",\"0\")","v":"0"},{"$f":"IF(ISNUMBER(SEARCH(\"15\",#REF!)),\"1\",\"0\")","v":"0"},{"$f":"IF(ISNUMBER(SEARCH(\"16\",#REF!)),\"1\",\"0\")","v":"0"},{"$f":"IF(ISNUMBER(SEARCH(\"17\",#REF!)),\"1\",\"0\")","v":"0"},{"$nulls":4},24,18,16,58,2]
[2,22,2,"F2",2,29,null,2,8,1,4,5,2,3,"0","0","1","0","0","0","0","0","0","0","0","0","0","0","0","0","0","0",null,null,3,5,1,{"$f":"IF(ISNUMBER(SEARCH(\"1\",#REF!)),\"1\",\"0\")","v":"0"},{"$f":"IF(ISNUMBER(SEARCH(\"2\",#REF!)),\"1\",\"0\")","v":"0"},{"$f":"IF(ISNUMBER(SEARCH(\"3\",#REF!)),\"1\",\"0\")","v":"0"},{"$f":"IF(ISNUMBER(SEARCH(\"4\",#REF!)),\"1\",\"0\")","v":"0"},{"$f":"IF(ISNUMBER(SEARCH(\"5\",#REF!)),\"1\",\"0\")","v":"0"},{"$f":"IF(ISNUMBER(SEARCH(\"6\",#REF!)),\"1\",\"0\")","v":"0"},{"$f":"IF(ISNUMBER(SEARCH(\"7\",#REF!)),\"1\",\"0\")","v":"0"},{"$f":"IF(ISNUMBER(SEARCH(\"8\",#REF!)),\"1\",\"0\")","v":"0"},{"$f":"IF(ISNUMBER(SEARCH(\"9\",#REF!)),\"1\",\"0\")","v":"0"},{"$f":"IF(ISNUMBER(SEARCH(\"9\",#REF!)),\"1\",\"0\")","v":"0"},{"$f":"IF(ISNUMBER(SEARCH(\"10\",#REF!)),\"1\",\"0\")","v":"0"},{"$f":"IF(ISNUMBER(SEARCH(\"11\",#REF!)),\"1\",\"0\")","v":"0"},{"$f":"IF(ISNUMBER(SEARCH(\"12\",#REF!)),\"1\",\"0\")","v":"0"},{"$f":"IF(ISNUMBER(SEARCH(\"13\",#REF!)),\"1\",\"0\")","v":"0"},{"$f":"IF(ISNUMBER(SEARCH(\"14\",#REF!)),\"1\",\"0\")","v":"0"},{"$f":"IF(ISNUMBER(SEARCH(\"15\",#REF!)),\"1\",\"0\")","v":"0"},{"$f":"IF(ISNUMBER(SEARCH(\"16\",#REF!)),\"1\",\"0\")","v":"0"},{"$f":"IF(ISNUMBER(SEARCH(\"17\",#REF!)),\"1\",\"0\")","v":"0"},2,3,null,null,26,16,18,60,4]
[2,22,13,"S2",2,42,null,2,3,1,9,3,2,3,"0","0","1","0","0","0","0","0","0","0","0","0","0","0","0","0","0","0",null,null,3,5,2,{"$f":"IF(ISNUMBER(SEARCH(\"1\",#REF!)),\"1\",\"0\")","v":"0"},{"$f":"IF(ISNUMBER(SEARCH(\"2\",#REF!)),\"1\",\"0\")","v":"0"},{"$f":"IF(ISNUMBER(SEARCH(\"3\",#REF!)),\"1\",\"0\")","v":"0"},{"$f":"IF(ISNUMBER(SEARCH(\"4\",#REF!)),\"1\",\"0\")","v":"0"},{"$f":"IF(ISNUMBER(SEARCH(\"5\",#REF!)),\"1\",\"0\")","v":"0"},{"$f":"IF(ISNUMBER(SEARCH(\"6\",#REF!)),\"1\",\"0\")","v":"0"},{"$f":"IF(ISNUMBER(SEARCH(\"7\",#REF!)),\"1\",\"0\")","v":"0"},{"$f":"IF(ISNUMBER(SEARCH(\"8\",#REF!)),\"1\",\"0\")","v":"0"},{"$f":"IF(ISNUMBER(SEARCH(\"9\",#REF!)),\"1\",\"0\")","v":"0"},{"$f":"IF(ISNUMBER(SEARCH(\"9\",#REF!)),\"1\",\"0\")","v":"0"},{"$f":"IF(ISNUMBER(SEARCH(\"10\",#REF!)),\"1\",\"0\")","v":"0"},{"$f":"IF(ISNUMBER(SEARCH(\"11\",#REF!)),\"1\",\"0\")","v":"0"},{"$f":"IF(ISNUMBER(SEARCH(\"12\",#REF!)),\"1\",\"0\")","v":"0"},{"$f":"IF(ISNUMBER(SEARCH(\"13\",#REF!)),\"1\",\"0\")","v":"0"},{"$f":"IF(ISNUMBER(SEARCH(\"14\",#REF!)),\"1\",\"0\")","v":"0"},{"$f":"IF(ISNUMBER(SEARCH(\"15\",#REF!)),\"1\",\"0\")","v":"0"},{"$f":"IF(ISNUMBER(SEARCH(\"16\",#REF!)),\"1\",\"0\")","v":"0"},{"$f":"IF(ISNUMBER(SEARCH(\"17\",#REF!)),\"1\",\"0\")","v":"0"},2,{"$nulls":3},26,20,20,66,7]
[2,22,13,"S1",2,37,null,2,3,1,4,3,6,3,"0","0","1","0","0","0","0","0","0","0","0","0","0","0","0","0","0","0",null,null,2,5,2,{"$f":"IF(ISNUMBER(SEARCH(\"1\",#REF!)),\"1\",\"0\")","v":"0"},{"$f":"IF(ISNUMBER(SEARCH(\"2\",#REF!)),\"1\",\"0\")","v":"0"},{"$f":"IF(ISNUMBER(SEARCH(\"3\",#REF!)),\"1\",\"0\")","v":"0"},{"$f":"IF(ISNUMBER(SEARCH(\"4\",#REF!)),\"1\",\"0\")","v":"0"},{"$f":"IF(ISNUMBER(SEARCH(\"5\",#REF!)),\"1\",\"0\")","v":"0"},{"$f":"IF(ISNUMBER(SEARCH(\"6\",#REF!)),\"1\",\"0\")","v":"0"},{"$f":"IF(ISNUMBER(SEARCH(\"7\",#REF!)),\"1\",\"0\")","v":"0"},{"$f":"IF(ISNUMBER(SEARCH(\"8\",#REF!)),\"1\",\"0\")","v":"0"},{"$f":"IF(ISNUMBER(SEARCH(\"9\",#REF!)),\"1\",\"0\")","v":"0"},{"$f":"IF(ISNUMBER(SEARCH(\"9\",#REF!)),\"1\",\"0\")","v":"0"},{"$f":"IF(ISNUMBER(SEARCH(\"10\",#REF!)),\"1\",\"0\")","v":"0"},{"$f":"IF(ISNUMBER(SEARCH(\"11\",#REF!)),\"1\",\"0\")","v":"0"},{"$f":"IF(ISNUMBER(SEARCH(\"12\",#REF!)),\"1\",\"0\")","v":"0"},{"$f":"IF(ISNUMBER(SEARCH(\"13\",#REF!)),\"1\",\"0\")","v":"0"},{"$f":"IF(ISNUMBER(SEARCH(\"14\",#REF!)),\"1\",\"0\")","v":"0"},{"$f":"IF(ISNUMBER(SEARCH(\"15\",#REF!)),\"1\",\"0\")","v":"0"},{"$f":"IF(ISNUMBER(SEARCH(\"16\",#REF!)),\"1\",\"0\")","v":"0"},{"$f":"IF(ISNUMBER(SEARCH(\"17\",#REF!)),\"1\",\"0\")","v":"0"},1,1,null,null,36,22,20,78,6]
[2,22,5,"K3",2,21,null,2,3,1,1,5,2,3,"0","0","1","0","0","0","0","0","0","0","0","0","0","0","0","0","0","0",null,null,2,5,1,{"$f":"IF(ISNUMBER(SEARCH(\"1\",#REF!)),\"1\",\"0\")","v":"0"},{"$f":"IF(ISNUMBER(SEARCH(\"2\",#REF!)),\"1\",\"0\")","v":"0"},{"$f":"IF(ISNUMBER(SEARCH(\"3\",#REF!)),\"1\",\"0\")","v":"0"},{"$f":"IF(ISNUMBER(SEARCH(\"4\",#REF!)),\"1\",\"0\")","v":"0"},{"$f":"IF(ISNUMBER(SEARCH(\"5\",#REF!)),\"1\",\"0\")","v":"0"},{"$f":"IF(ISNUMBER(SEARCH(\"6\",#REF!)),\"1\",\"0\")","v":"0"},{"$f":"IF(ISNUMBER(SEARCH(\"7\",#REF!)),\"1\",\"0\")","v":"0"},{"$f":"IF(ISNUMBER(SEARCH(\"8\",#REF!)),\"1\",\"0\")","v":"0"},{"$f":"IF(ISNUMBER(SEARCH(\"9\",#REF!)),\"1\",\"0\")","v":"0"},{"$f":"IF(ISNUMBER(SEARCH(\"9\",#REF!)),\"1\",\"0\")","v":"0"},{"$f":"IF(ISNUMBER(SEARCH(\"10\",#REF!)),\"1\",\"0\")","v":"0"},{"$f":"IF(ISNUMBER(SEARCH(\"11\",#REF!)),\"1\",\"0\")","v":"0"},{"$f":"IF(ISNUMBER(SEARCH(\"12\",#REF!)),\"1\",\"0\")","v":"0"},{"$f":"IF(ISNUMBER(SEARCH(\"13\",#REF!)),\"1\",\"0\")","v":"0"},{"$f":"IF(ISNUMBER(SEARCH(\"14\",#REF!)),\"1\",\"0\")","v":"0"},{"$f":"IF(ISNUMBER(SEARCH(\"15\",#REF!)),\"1\",\"0\")","v":"0"},{"$f":"IF(ISNUMBER(SEARCH(\"16\",#REF!)),\"1\",\"0\")","v":"0"},{"$f":"IF(ISNUMBER(SEARCH(\"17\",#REF!)),\"1\",\"0\")","v":"0"},1,3,null,null,20,20,26,66,6,null,6,6,4,16,null,13,4,null,null,{"$f":"#REF!-#REF!","v":{"$error":"#REF!"}}]
[2,22,5,"K3",2,20,null,2,3,1,1,5,2,3,"0","0","1","0","0","0","0","0","0","0","0","0","0","0","0","0","0","0",null,null,2,5,1,{"$f":"IF(ISNUMBER(SEARCH(\"1\",#REF!)),\"1\",\"0\")","v":"0"},{"$f":"IF(ISNUMBER(SEARCH(\"2\",#REF!)),\"1\",\"0\")","v":"0"},{"$f":"IF(ISNUMBER(SEARCH(\"3\",#REF!)),\"1\",\"0\")","v":"0"},{"$f":"IF(ISNUMBER(SEARCH(\"4\",#REF!)),\"1\",\"0\")","v":"0"},{"$f":"IF(ISNUMBER(SEARCH(\"5\",#REF!)),\"1\",\"0\")","v":"0"},{"$f":"IF(ISNUMBER(SEARCH(\"6\",#REF!)),\"1\",\"0\")","v":"0"},{"$f":"IF(ISNUMBER(SEARCH(\"7\",#REF!)),\"1\",\"0\")","v":"0"},{"$f":"IF(ISNUMBER(SEARCH(\"8\",#REF!)),\"1\",\"0\")","v":"0"},{"$f":"IF(ISNUMBER(SEARCH(\"9\",#REF!)),\"1\",\"0\")","v":"0"},{"$f":"IF(ISNUMBER(SEARCH(\"9\",#REF!)),\"1\",\"0\")","v":"0"},{"$f":"IF(ISNUMBER(SEARCH(\"10\",#REF!)),\"1\",\"0\")","v":"0"},{"$f":"IF(ISNUMBER(SEARCH(\"11\",#REF!)),\"1\",\"0\")","v":"0"},{"$f":"IF(ISNUMBER(SEARCH(\"12\",#REF!)),\"1\",\"0\")","v":"0"},{"$f":"IF(ISNUMBER(SEARCH(\"13\",#REF!)),\"1\",\"0\")","v":"0"},{"$f":"IF(ISNUMBER(SEARCH(\"14\",#REF!)),\"1\",\"0\")","v":"0"},{"$f":"IF(ISNUMBER(SEARCH(\"15\",#REF!)),\"1\",\"0\")","v":"0"},{"$f":"IF(ISNUMBER(SEARCH(\"16\",#REF!)),\"1\",\"0\")","v":"0"},{"$f":"IF(ISNUMBER(SEARCH(\"17\",#REF!)),\"1\",\"0\")","v":"0"},1,3,null,null,24,24,22,70,3,null,10,6,6,22,null,13,3,null,null,{"$f":"#REF!-#REF!","v":{"$error":"#REF!"}}]
[2,22,5,"K3",2,25,null,2,3,1,3,1,2,3,"0","0","1","0","0","0","0","0","0","0","0","0","0","0","0","0","0","0",null,null,2,5,1,{"$f":"IF(ISNUMBER(SEARCH(\"1\",#REF!)),\"1\",\"0\")","v":"0"},{"$f":"IF(ISNUMBER(SEARCH(\"2\",#REF!)),\"1\",\"0\")","v":"0"},{"$f":"IF(ISNUMBER(SEARCH(\"3\",#REF!)),\"1\",\"0\")","v":"0"},{"$f":"IF(ISNUMBER(SEARCH(\"4\",#REF!)),\"1\",\"0\")","v":"0"},{"$f":"IF(ISNUMBER(SEARCH(\"5\",#REF!)),\"1\",\"0\")","v":"0"},{"$f":"IF(ISNUMBER(SEARCH(\"6\",#REF!)),\"1\",\"0\")","v":"0"},{"$f":"IF(ISNUMBER(SEARCH(\"7\",#REF!)),\"1\",\"0\")","v":"0"},{"$f":"IF(ISNUMBER(SEARCH(\"8\",#REF!)),\"1\",\"0\")","v":"0"},{"$f":"IF(ISNUMBER(SEARCH(\"9\",#REF!)),\"1\",\"0\")","v":"0"},{"$f":"IF(ISNUMBER(SEARCH(\"9\",#REF!)),\"1\",\"0\")","v":"0"},{"$f":"IF(ISNUMBER(SEARCH(\"10\",#REF!)),\"1\",\"0\")","v":"0"},{"$f":"IF(ISNUMBER(SEARCH(\"11\",#REF!)),\"1\",\"0\")","v":"0"},{"$f":"IF(ISNUMBER(SEARCH(\"12\",#REF!)),\"1\",\"0\")","v":"0"},{"$f":"IF(ISNUMBER(SEARCH(\"13\",#REF!)),\"1\",\"0\")","v":"0"},{"$f":"IF(ISNUMBER(SEARCH(\"14\",#REF!)),\"1\",\"0\")","v":"0"},{"$f":"IF(ISNUMBER(SEARCH(\"15\",#REF!)),\"1\",\"0\")","v":"0"},{"$f":"IF(ISNUMBER(SEARCH(\"16\",#REF!)),\"1\",\"0\")","v":"0"},{"$f":"IF(ISNUMBER(SEARCH(\"17\",#REF!)),\"1\",\"0\")","v":"0"},1,3,null,null,30,26,20,76,2,null,6,8,2,16,null,13,4,null,null,{"$f":"#REF!-#REF!","v":{"$error":"#REF!"}}]
[2,22,5,"K3",2,25,null,2,3,1,3,5,2,3,"0","0","1","0","0","0","0","0","0","0","0","0","0","0","0","0","0","0",null,null,3,5,1,{"$f":"IF(ISNUMBER(SEARCH(\"1\",#REF!)),\"1\",\"0\")","v":"0"},{"$f":"IF(ISNUMBER(SEARCH(\"2\",#REF!)),\"1\",\"0\")","v":"0"},{"$f":"IF(ISNUMBER(SEARCH(\"3\",#REF!)),\"1\",\"0\")","v":"0"},{"$f":"IF(ISNUMBER(SEARCH(\"4\",#REF!)),\"1\",\"0\")","v":"0"},{"$f":"IF(ISNUMBER(SEARCH(\"5\",#REF!)),\"1\",\"0\")","v":"0"},{"$f":"IF(ISNUMBER(SEARCH(\"6\",#REF!)),\"1\",\"0\")","v":"0"},{"$f":"IF(ISNUMBER(SEARCH(\"7\",#REF!)),\"1\",\"0\")","v":"0"},{"$f":"IF(ISNUMBER(SEARCH(\"8\",#REF!)),\"1\",\"0\")","v":"0"},{"$f":"IF(ISNUMBER(SEARCH(\"9\",#REF!)),\"1\",\"0\")","v":"0"},{"$f":"IF(ISNUMBER(SEARCH(\"9\",#REF!)),\"1\",\"0\")","v":"0"},{"$f":"IF(ISNUMBER(SEARCH(\"10\",#REF!)),\"1\",\"0\")","v":"0"},{"$f":"IF(ISNUMBER(SEARCH(\"11\",#REF!)),\"1\",\"0\")","v":"0"},{"$f":"IF(ISNUMBER(SEARCH(\"12\",#REF!)),\"1\",\"0\")","v":"0"},{"$f":"IF(ISNUMBER(SEARCH(\"13\",#REF!)),\"1\",\"0\")","v":"0"},{"$f":"IF(ISNUMBER(SEARCH(\"14\",#REF!)),\"1\",\"0\")","v":"0"},{"$f":"IF(ISNUMBER(SEARCH(\"15\",#REF!)),\"1\",\"0\")","v":"0"},{"$f":"IF(ISNUMBER(SEARCH(\"16\",#REF!)),\"1\",\"0\")","v":"0"},{"$f":"IF(ISNUMBER(SEARCH(\"17\",#REF!)),\"1\",\"0\")","v":"0"},1,3,null,null,14,20,24,58,3]
[2,22,8,"NYNA",2,55,null,2,3,1,0,1,6,3,"0","0","1","0","0","0","0","0","0","0","0","0","0","0","0","0","0","0",null,null,3,5,1,{"$f":"IF(ISNUMBER(SEARCH(\"1\",#REF!)),\"1\",\"0\")","v":"0"},{"$f":"IF(ISNUMBER(SEARCH(\"2\",#REF!)),\"1\",\"0\")","v":"0"},{"$f":"IF(ISNUMBER(SEARCH(\"3\",#REF!)),\"1\",\"0\")","v":"0"},{"$f":"IF(ISNUMBER(SEARCH(\"4\",#REF!)),\"1\",\"0\")","v":"0"},{"$f":"IF(ISNUMBER(SEARCH(\"5\",#REF!)),\"1\",\"0\")","v":"0"},{"$f":"IF(ISNUMBER(SEARCH(\"6\",#REF!)),\"1\",\"0\")","v":"0"},{"$f":"IF(ISNUMBER(SEARCH(\"7\",#REF!)),\"1\",\"0\")","v":"0"},{"$f":"IF(ISNUMBER(SEARCH(\"8\",#REF!)),\"1\",\"0\")","v":"0"},{"$f":"IF(ISNUMBER(SEARCH(\"9\",#REF!)),\"1\",\"0\")","v":"0"},{"$f":"IF(ISNUMBER(SEARCH(\"9\",#REF!)),\"1\",\"0\")","v":"0"},{"$f":"IF(ISNUMBER(SEARCH(\"10\",#REF!)),\"1\",\"0\")","v":"0"},{"$f":"IF(ISNUMBER(SEARCH(\"11\",#REF!)),\"1\",\"0\")","v":"0"},{"$f":"IF(ISNUMBER(SEARCH(\"12\",#REF!)),\"1\",\"0\")","v":"0"},{"$f":"IF(ISNUMBER(SEARCH(\"13\",#REF!)),\"1\",\"0\")","v":"0"},{"$f":"IF(ISNUMBER(SEARCH(\"14\",#REF!)),\"1\",\"0\")","v":"0"},{"$f":"IF(ISNUMBER(SEARCH(\"15\",#REF!)),\"1\",\"0\")","v":"0"},{"$f":"IF(ISNUMBER(SEARCH(\"16\",#REF!)),\"1\",\"0\")","v":"0"},{"$f":"IF(ISNUMBER(SEARCH(\"17\",#REF!)),\"1\",\"0\")","v":"0"},1,3,null,null,4,8,6,18,4,null,6,6,8,20,null,11,4,null,{"$f":"#REF!-#REF!","v":{"$error":"#REF!"}},{"$f":"#REF!-#REF!","v":{"$error":"#REF!"}}]
[2,22,8,"NYNA",2,19,null,3,3,1,0,1,2,3,"0","0","1","0","0","0","0","0","0","0","0","0","0","0","0","0","0","0",null,null,5,5,2,{"$f":"IF(ISNUMBER(SEARCH(\"1\",#REF!)),\"1\",\"0\")","v":"0"},{"$f":"IF(ISNUMBER(SEARCH(\"2\",#REF!)),\"1\",\"0\")","v":"0"},{"$f":"IF(ISNUMBER(SEARCH(\"3\",#REF!)),\"1\",\"0\")","v":"0"},{"$f":"IF(ISNUMBER(SEARCH(\"4\",#REF!)),\"1\",\"0\")","v":"0"},{"$f":"IF(ISNUMBER(SEARCH(\"5\",#REF!)),\"1\",\"0\")","v":"0"},{"$f":"IF(ISNUMBER(SEARCH(\"6\",#REF!)),\"1\",\"0\")","v":"0"},{"$f":"IF(ISNUMBER(SEARCH(\"7\",#REF!)),\"1\",\"0\")","v":"0"},{"$f":"IF(ISNUMBER(SEARCH(\"8\",#REF!)),\"1\",\"0\")","v":"0"},{"$f":"IF(ISNUMBER(SEARCH(\"9\",#REF!)),\"1\",\"0\")","v":"0"},{"$f":"IF(ISNUMBER(SEARCH(\"9\",#REF!)),\"1\",\"0\")","v":"0"},{"$f":"IF(ISNUMBER(SEARCH(\"10\",#REF!)),\"1\",\"0\")","v":"0"},{"$f":"IF(ISNUMBER(SEARCH(\"11\",#REF!)),\"1\",\"0\")","v":"0"},{"$f":"IF(ISNUMBER(SEARCH(\"12\",#REF!)),\"1\",\"0\")","v":"0"},{"$f":"IF(ISNUMBER(SEARCH(\"13\",#REF!)),\"1\",\"0\")","v":"0"},{"$f":"IF(ISNUMBER(SEARCH(\"14\",#REF!)),\"1\",\"0\")","v":"0"},{"$f":"IF(ISNUMBER(SEARCH(\"15\",#REF!)),\"1\",\"0\")","v":"0"},{"$f":"IF(ISNUMBER(SEARCH(\"16\",#REF!)),\"1\",\"0\")","v":"0"},{"$f":"IF(ISNUMBER(SEARCH(\"17\",#REF!)),\"1\",\"0\")","v":"0"},1,3,null,null,6,0,4,10,5,{"$nulls":9},{"$f":"#REF!-#REF!","v":{"$error":"#REF!"}}]
[2,22,8,"KM",2,29,null,1,3,1,4,1,2,3,"0","0","1","0","0","0","0","0","0","0","0","0","0","0","0","0","0","0",null,null,3,5,2,{"$f":"IF(ISNUMBER(SEARCH(\"1\",#REF!)),\"1\",\"0\")","v":"0"},{"$f":"IF(ISNUMBER(SEARCH(\"2\",#REF!)),\"1\",\"0\")","v":"0"},{"$f":"IF(ISNUMBER(SEARCH(\"3\",#REF!)),\"1\",\"0\")","v":"0"},{"$f":"IF(ISNUMBER(SEARCH(\"4\",#REF!)),\"1\",\"0\")","v":"0"},{"$f":"IF(ISNUMBER(SEARCH(\"5\",#REF!)),\"1\",\"0\")","v":"0"},{"$f":"IF(ISNUMBER(SEARCH(\"6\",#REF!)),\"1\",\"0\")","v":"0"},{"$f":"IF(ISNUMBER(SEARCH(\"7\",#REF!)),\"1\",\"0\")","v":"0"},{"$f":"IF(ISNUMBER(SEARCH(\"8\",#REF!)),\"1\",\"0\")","v":"0"},{"$f":"IF(ISNUMBER(SEARCH(\"9\",#REF!)),\"1\",\"0\")","v":"0"},{"$f":"IF(ISNUMBER(SEARCH(\"9\",#REF!)),\"1\",\"0\")","v":"0"},{"$f":"IF(ISNUMBER(SEARCH(\"10\",#REF!)),\"1\",\"0\")","v":"0"},{"$f":"IF(ISNUMBER(SEARCH(\"11\",#REF!)),\"1\",\"0\")","v":"0"},{"$f":"IF(ISNUMBER(SEARCH(\"12\",#REF!)),\"1\",\"0\")","v":"0"},{"$f":"IF(ISNUMBER(SEARCH(\"13\",#REF!)),\"1\",\"0\")","v":"0"},{"$f":"IF(ISNUMBER(SEARCH(\"14\",#REF!)),\"1\",\"0\")","v":"0"},{"$f":"IF(ISNUMBER(SEARCH(\"15\",#REF!)),\"1\",\"0\")","v":"0"},{"$f":"IF(ISNUMBER(SEARCH(\"16\",#REF!)),\"1\",\"0\")","v":"0"},{"$f":"IF(ISNUMBER(SEARCH(\"17\",#REF!)),\"1\",\"0\")","v":"0"},1,3,null,null,0,4,0,4,5]
[2,22,8,"SM",2,20,null,3,2,1,0,1,1,3,"0","0","1","0","0","0","0","0","0","0","0","0","0","0","0","0","0","0",null,null,3,5,2,{"$f":"IF(ISNUMBER(SEARCH(\"1\",#REF!)),\"1\",\"0\")","v":"0"},{"$f":"IF(ISNUMBER(SEARCH(\"2\",#REF!)),\"1\",\"0\")","v":"0"},{"$f":"IF(ISNUMBER(SEARCH(\"3\",#REF!)),\"1\",\"0\")","v":"0"},{"$f":"IF(ISNUMBER(SEARCH(\"4\",#REF!)),\"1\",\"0\")","v":"0"},{"$f":"IF(ISNUMBER(SEARCH(\"5\",#REF!)),\"1\",\"0\")","v":"0"},{"$f":"IF(ISNUMBER(SEARCH(\"6\",#REF!)),\"1\",\"0\")","v":"0"},{"$f":"IF(ISNUMBER(SEARCH(\"7\",#REF!)),\"1\",\"0\")","v":"0"},{"$f":"IF(ISNUMBER(SEARCH(\"8\",#REF!)),\"1\",\"0\")","v":"0"},{"$f":"IF(ISNUMBER(SEARCH(\"9\",#REF!)),\"1\",\"0\")","v":"0"},{"$f":"IF(ISNUMBER(SEARCH(\"9\",#REF!)),\"1\",\"0\")","v":"0"},{"$f":"IF(ISNUMBER(SEARCH(\"10\",#REF!)),\"1\",\"0\")","v":"0"},{"$f":"IF(ISNUMBER(SEARCH(\"11\",#REF!)),\"1\",\"0\")","v":"0"},{"$f":"IF(ISNUMBER(SEARCH(\"12\",#REF!)),\"1\",\"0\")","v":"0"},{"$f":"IF(ISNUMBER(SEARCH(\"13\",#REF!)),\"1\",\"0\")","v":"0"},{"$f":"IF(ISNUMBER(SEARCH(\"14\",#REF!)),\"1\",\"0\")","v":"0"},{"$f":"IF(ISNUMBER(SEARCH(\"15\",#REF!)),\"1\",\"0\")","v":"0"},{"$f":"IF(ISNUMBER(SEARCH(\"16\",#REF!)),\"1\",\"0\")","v":"0"},{"$f":"IF(ISNUMBER(SEARCH(\"17\",#REF!)),\"1\",\"0\")","v":"0"},1,1,null,null,28,20,32,80,{"$f":"IF(COUNT(#REF!)>0,#REF!, \"\")","v":""}]
[2,22,11,"RB",2,36,null,2,3,1,7,5,2,3,"0","0","1","0","0","0","0","0","0","0","0","0","0","0","0","0","0","0",null,null,3,4,1,{"$f":"IF(ISNUMBER(SEARCH(\"1\",#REF!)),\"1\",\"0\")","v":"0"},{"$f":"IF(ISNUMBER(SEARCH(\"2\",#REF!)),\"1\",\"0\")","v":"0"},{"$f":"IF(ISNUMBER(SEARCH(\"3\",#REF!)),\"1\",\"0\")","v":"0"},{"$f":"IF(ISNUMBER(SEARCH(\"4\",#REF!)),\"1\",\"0\")","v":"0"},{"$f":"IF(ISNUMBER(SEARCH(\"5\",#REF!)),\"1\",\"0\")","v":"0"},{"$f":"IF(ISNUMBER(SEARCH(\"6\",#REF!)),\"1\",\"0\")","v":"0"},{"$f":"IF(ISNUMBER(SEARCH(\"7\",#REF!)),\"1\",\"0\")","v":"0"},{"$f":"IF(ISNUMBER(SEARCH(\"8\",#REF!)),\"1\",\"0\")","v":"0"},{"$f":"IF(ISNUMBER(SEARCH(\"9\",#REF!)),\"1\",\"0\")","v":"0"},{"$f":"IF(ISNUMBER(SEARCH(\"9\",#REF!)),\"1\",\"0\")","v":"0"},{"$f":"IF(ISNUMBER(SEARCH(\"10\",#REF!)),\"1\",\"0\")","v":"0"},{"$f":"IF(ISNUMBER(SEARCH(\"11\",#REF!)),\"1\",\"0\")","v":"0"},{"$f":"IF(ISNUMBER(SEARCH(\"12\",#REF!)),\"1\",\"0\")","v":"0"},{"$f":"IF(ISNUMBER(SEARCH(\"13\",#REF!)),\"1\",\"0\")","v":"0"},{"$f":"IF(ISNUMBER(SEARCH(\"14\",#REF!)),\"1\",\"0\")","v":"0"},{"$f":"IF(ISNUMBER(SEARCH(\"15\",#REF!)),\"1\",\"0\")","v":"0"},{"$f":"IF(ISNUMBER(SEARCH(\"16\",#REF!)),\"1\",\"0\")","v":"0"},{"$f":"IF(ISNUMBER(SEARCH(\"17\",#REF!)),\"1\",\"0\")","v":"0"},{"$nulls":4},20,10,10,40,4,null,0,0,2,2,null,6,6,null,null,{"$f":"#REF!-#REF!","v":{"$error":"#REF!"}}]
[2,22,11,"RB",2,40,null,2,8,1,8,3,2,3,"0","0","1","0","0","0","0","0","0","0","0","0","0","0","0","0","0","0",null,null,3,5,2,{"$f":"IF(ISNUMBER(SEARCH(\"1\",#REF!)),\"1\",\"0\")","v":"0"},{"$f":"IF(ISNUMBER(SEARCH(\"2\",#REF!)),\"1\",\"0\")","v":"0"},{"$f":"IF(ISNUMBER(SEARCH(\"3\",#REF!)),\"1\",\"0\")","v":"0"},{"$f":"IF(ISNUMBER(SEARCH(\"4\",#REF!)),\"1\",\"0\")","v":"0"},{"$f":"IF(ISNUMBER(SEARCH(\"5\",#REF!)),\"1\",\"0\")","v":"0"},{"$f":"IF(ISNUMBER(SEARCH(\"6\",#REF!)),\"1\",\"0\")","v":"0"},{"$f":"IF(ISNUMBER(SEARCH(\"7\",#REF!)),\"1\",\"0\")","v":"0"},{"$f":"IF(ISNUMBER(SEARCH(\"8\",#REF!)),\"1\",\"0\")","v":"0"},{"$f":"IF(ISNUMBER(SEARCH(\"9\",#REF!)),\"1\",\"0\")","v":"0"},{"$f":"IF(ISNUMBER(SEARCH(\"9\",#REF!)),\"1\",\"0\")","v":"0"},{"$f":"IF(ISNUMBER(SEARCH(\"10\",#REF!)),\"1\",\"0\")","v":"0"},{"$f":"IF(ISNUMBER(SEARCH(\"11\",#REF!)),\"1\",\"0\")","v":"0"},{"$f":"IF(ISNUMBER(SEARCH(\"12\",#REF!)),\"1\",\"0\")","v":"0"},{"$f":"IF(ISNUMBER(SEARCH(\"13\",#REF!)),\"1\",\"0\")","v":"0"},{"$f":"IF(ISNUMBER(SEARCH(\"14\",#REF!)),\"1\",\"0\")","v":"0"},{"$f":"IF(ISNUMBER(SEARCH(\"15\",#REF!)),\"1\",\"0\")","v":"0"},{"$f":"IF(ISNUMBER(SEARCH(\"16\",#REF!)),\"1\",\"0\")","v":"0"},{"$f":"IF(ISNUMBER(SEARCH(\"17\",#REF!)),\"1\",\"0\")","v":"0"},1,3,{"$nulls":6},5]
[2,22,11,"RB",2,40,null,3,3,1,6,11,2,3,"0","0","1","0","0","0","0","0","0","0","0","0","0","0","0","0","0","0",null,null,3,5,1,{"$f":"IF(ISNUMBER(SEARCH(\"1\",#REF!)),\"1\",\"0\")","v":"0"},{"$f":"IF(ISNUMBER(SEARCH(\"2\",#REF!)),\"1\",\"0\")","v":"0"},{"$f":"IF(ISNUMBER(SEARCH(\"3\",#REF!)),\"1\",\"0\")","v":"0"},{"$f":"IF(ISNUMBER(SEARCH(\"4\",#REF!)),\"1\",\"0\")","v":"0"},{"$f":"IF(ISNUMBER(SEARCH(\"5\",#REF!)),\"1\",\"0\")","v":"0"},{"$f":"IF(ISNUMBER(SEARCH(\"6\",#REF!)),\"1\",\"0\")","v":"0"},{"$f":"IF(ISNUMBER(SEARCH(\"7\",#REF!)),\"1\",\"0\")","v":"0"},{"$f":"IF(ISNUMBER(SEARCH(\"8\",#REF!)),\"1\",\"0\")","v":"0"},{"$f":"IF(ISNUMBER(SEARCH(\"9\",#REF!)),\"1\",\"0\")","v":"0"},{"$f":"IF(ISNUMBER(SEARCH(\"9\",#REF!)),\"1\",\"0\")","v":"0"},{"$f":"IF(ISNUMBER(SEARCH(\"10\",#REF!)),\"1\",\"0\")","v":"0"},{"$f":"IF(ISNUMBER(SEARCH(\"11\",#REF!)),\"1\",\"0\")","v":"0"},{"$f":"IF(ISNUMBER(SEARCH(\"12\",#REF!)),\"1\",\"0\")","v":"0"},{"$f":"IF(ISNUMBER(SEARCH(\"13\",#REF!)),\"1\",\"0\")","v":"0"},{"$f":"IF(ISNUMBER(SEARCH(\"14\",#REF!)),\"1\",\"0\")","v":"0"},{"$f":"IF(ISNUMBER(SEARCH(\"15\",#REF!)),\"1\",\"0\")","v":"0"},{"$f":"IF(ISNUMBER(SEARCH(\"16\",#REF!)),\"1\",\"0\")","v":"0"},{"$f":"IF(ISNUMBER(SEARCH(\"17\",#REF!)),\"1\",\"0\")","v":"0"},{"$nulls":8},4]
[2,22,11,"ZR",2,23,null,1,3,1,2,1,6,3,"0","0","1","0","0","0","0","0","0","0","0","0","0","0","0","0","0","0",null,null,3,5,2,{"$f":"IF(ISNUMBER(SEARCH(\"1\",#REF!)),\"1\",\"0\")","v":"0"},{"$f":"IF(ISNUMBER(SEARCH(\"2\",#REF!)),\"1\",\"0\")","v":"0"},{"$f":"IF(ISNUMBER(SEARCH(\"3\",#REF!)),\"1\",\"0\")","v":"0"},{"$f":"IF(ISNUMBER(SEARCH(\"4\",#REF!)),\"1\",\"0\")","v":"0"},{"$f":"IF(ISNUMBER(SEARCH(\"5\",#REF!)),\"1\",\"0\")","v":"0"},{"$f":"IF(ISNUMBER(SEARCH(\"6\",#REF!)),\"1\",\"0\")","v":"0"},{"$f":"IF(ISNUMBER(SEARCH(\"7\",#REF!)),\"1\",\"0\")","v":"0"},{"$f":"IF(ISNUMBER(SEARCH(\"8\",#REF!)),\"1\",\"0\")","v":"0"},{"$f":"IF(ISNUMBER(SEARCH(\"9\",#REF!)),\"1\",\"0\")","v":"0"},{"$f":"IF(ISNUMBER(SEARCH(\"9\",#REF!)),\"1\",\"0\")","v":"0"},{"$f":"IF(ISNUMBER(SEARCH(\"10\",#REF!)),\"1\",\"0\")","v":"0"},{"$f":"IF(ISNUMBER(SEARCH(\"11\",#REF!)),\"1\",\"0\")","v":"0"},{"$f":"IF(ISNUMBER(SEARCH(\"12\",#REF!)),\"1\",\"0\")","v":"0"},{"$f":"IF(ISNUMBER(SEARCH(\"13\",#REF!)),\"1\",\"0\")","v":"0"},{"$f":"IF(ISNUMBER(SEARCH(\"14\",#REF!)),\"1\",\"0\")","v":"0"},{"$f":"IF(ISNUMBER(SEARCH(\"15\",#REF!)),\"1\",\"0\")","v":"0"},{"$f":"IF(ISNUMBER(SEARCH(\"16\",#REF!)),\"1\",\"0\")","v":"0"},{"$f":"IF(ISNUMBER(SEARCH(\"17\",#REF!)),\"1\",\"0\")","v":"0"},{"$nulls":8},8]
[2,22,10,"BB",2,32,null,3,3,1,4,5,2,3,{"$f":"IF(ISNUMBER(SEARCH(\"1\",$N2563)),\"1\",\"0\")","v":"0"},{"$f":"IF(ISNUMBER(SEARCH(\"2\",$N2563)),\"1\",\"0\")","v":"0"},{"$f":"IF(ISNUMBER(SEARCH(\"3\",$N2563)),\"1\",\"0\")","v":"1"},{"$f":"IF(ISNUMBER(SEARCH(\"4\",$N2563)),\"1\",\"0\")","v":"0"},{"$f":"IF(ISNUMBER(SEARCH(\"5\",$N2563)),\"1\",\"0\")","v":"0"},{"$f":"IF(ISNUMBER(SEARCH(\"6\",$N2563)),\"1\",\"0\")","v":"0"},{"$f":"IF(ISNUMBER(SEARCH(\"7\",$N2563)),\"1\",\"0\")","v":"0"},{"$f":"IF(ISNUMBER(SEARCH(\"8\",$N2563)),\"1\",\"0\")","v":"0"},{"$f":"IF(ISNUMBER(SEARCH(\"9\",$N2563)),\"1\",\"0\")","v":"0"},{"$f":"IF(ISNUMBER(SEARCH(\"10\",$N2563)),\"1\",\"0\")","v":"0"},{"$f":"IF(ISNUMBER(SEARCH(\"11\",$N2563)),\"1\",\"0\")","v":"0"},{"$f":"IF(ISNUMBER(SEARCH(\"12\",$N2563)),\"1\",\"0\")","v":"0"},{"$f":"IF(ISNUMBER(SEARCH(\"13\",$N2563)),\"1\",\"0\")","v":"0"},{"$f":"IF(ISNUMBER(SEARCH(\"14\",$N2563)),\"1\",\"0\")","v":"0"},{"$f":"IF(ISNUMBER(SEARCH(\"15\",$N2563)),\"1\",\"0\")","v":"0"},{"$f":"IF(ISNUMBER(SEARCH(\"16\",$N2563)),\"1\",\"0\")","v":"0"},{"$f":"IF(ISNUMBER(SEARCH(\"17\",$N2563)),\"1\",\"0\")","v":"0"},{"$f":"IF(ISNUMBER(SEARCH(\"18\",$N2563)),\"1\",\"0\")","v":"0"},null,null,3,4,1,{"$f":"IF(ISNUMBER(SEARCH(\"1\",#REF!)),\"1\",\"0\")","v":"0"},{"$f":"IF(ISNUMBER(SEARCH(\"2\",#REF!)),\"1\",\"0\")","v":"0"},{"$f":"IF(ISNUMBER(SEARCH(\"3\",#REF!)),\"1\",\"0\")","v":"0"},{"$f":"IF(ISNUMBER(SEARCH(\"4\",#REF!)),\"1\",\"0\")","v":"0"},{"$f":"IF(ISNUMBER(SEARCH(\"5\",#REF!)),\"1\",\"0\")","v":"0"},{"$f":"IF(ISNUMBER(SEARCH(\"6\",#REF!)),\"1\",\"0\")","v":"0"},{"$f":"IF(ISNUMBER(SEARCH(\"7\",#REF!)),\"1\",\"0\")","v":"0"},{"$f":"IF(ISNUMBER(SEARCH(\"8\",#REF!)),\"1\",\"0\")","v":"0"},{"$f":"IF(ISNUMBER(SEARCH(\"9\",#REF!)),\"1\",\"0\")","v":"0"},{"$f":"IF(ISNUMBER(SEARCH(\"9\",#REF!)),\"1\",\"0\")","v":"0"},{"$f":"IF(ISNUMBER(SEARCH(\"10\",#REF!)),\"1\",\"0\")","v":"0"},{"$f":"IF(ISNUMBER(SEARCH(\"11\",#REF!)),\"1\",\"0\")","v":"0"},{"$f":"IF(ISNUMBER(SEARCH(\"12\",#REF!)),\"1\",\"0\")","v":"0"},{"$f":"IF(ISNUMBER(SEARCH(\"13\",#REF!)),\"1\",\"0\")","v":"0"},{"$f":"IF(ISNUMBER(SEARCH(\"14\",#REF!)),\"1\",\"0\")","v":"0"},{"$f":"IF(ISNUMBER(SEARCH(\"15\",#REF!)),\"1\",\"0\")","v":"0"},{"$f":"IF(ISNUMBER(SEARCH(\"16\",#REF!)),\"1\",\"0\")","v":"0"},{"$f":"IF(ISNUMBER(SEARCH(\"17\",#REF!)),\"1\",\"0\")","v":"0"},{"$nulls":4},16,14,14,{"$f":"BH2563+BI2563+BJ2563","v":44},5,null,8,2,4,{"$f":"BN2563+BO2563+BP2563","v":14},null,11,6,null,{"$f":"#REF!-#REF!","v":{"$error":"#REF!"}},{"$f":"#REF!-#REF!","v":{"$error":"#REF!"}}]
[2,22,10,"NA",2,17,null,2,8,1,0,5,1,3,"0","0","1","0","0","0","0","0","0","0","0","0","0","0","0","0","0","0",null,null,3,4,2,{"$f":"IF(ISNUMBER(SEARCH(\"1\",#REF!)),\"1\",\"0\")","v":"0"},{"$f":"IF(ISNUMBER(SEARCH(\"2\",#REF!)),\"1\",\"0\")","v":"0"},{"$f":"IF(ISNUMBER(SEARCH(\"3\",#REF!)),\"1\",\"0\")","v":"0"},{"$f":"IF(ISNUMBER(SEARCH(\"4\",#REF!)),\"1\",\"0\")","v":"0"},{"$f":"IF(ISNUMBER(SEARCH(\"5\",#REF!)),\"1\",\"0\")","v":"0"},{"$f":"IF(ISNUMBER(SEARCH(\"6\",#REF!)),\"1\",\"0\")","v":"0"},{"$f":"IF(ISNUMBER(SEARCH(\"7\",#REF!)),\"1\",\"0\")","v":"0"},{"$f":"IF(ISNUMBER(SEARCH(\"8\",#REF!)),\"1\",\"0\")","v":"0"},{"$f":"IF(ISNUMBER(SEARCH(\"9\",#REF!)),\"1\",\"0\")","v":"0"},{"$f":"IF(ISNUMBER(SEARCH(\"9\",#REF!)),\"1\",\"0\")","v":"0"},{"$f":"IF(ISNUMBER(SEARCH(\"10\",#REF!)),\"1\",\"0\")","v":"0"},{"$f":"IF(ISNUMBER(SEARCH(\"11\",#REF!)),\"1\",\"0\")","v":"0"},{"$f":"IF(ISNUMBER(SEARCH(\"12\",#REF!)),\"1\",\"0\")","v":"0"},{"$f":"IF(ISNUMBER(SEARCH(\"13\",#REF!)),\"1\",\"0\")","v":"0"},{"$f":"IF(ISNUMBER(SEARCH(\"14\",#REF!)),\"1\",\"0\")","v":"0"},{"$f":"IF(ISNUMBER(SEARCH(\"15\",#REF!)),\"1\",\"0\")","v":"0"},{"$f":"IF(ISNUMBER(SEARCH(\"16\",#REF!)),\"1\",\"0\")","v":"0"},{"$f":"IF(ISNUMBER(SEARCH(\"17\",#REF!)),\"1\",\"0\")","v":"0"},3,2,null,null,18,10,14,42,4,null,6,4,8,18,null,13,5,null,null,{"$f":"#REF!-#REF!","v":{"$error":"#REF!"}}]
[2,22,10,"BB",2,19,null,3,3,1,0,5,1,3,"0","0","1","0","0","0","0","0","0","0","0","0","0","0","0","0","0","0",null,null,1,4,2,{"$f":"IF(ISNUMBER(SEARCH(\"1\",#REF!)),\"1\",\"0\")","v":"0"},{"$f":"IF(ISNUMBER(SEARCH(\"2\",#REF!)),\"1\",\"0\")","v":"0"},{"$f":"IF(ISNUMBER(SEARCH(\"3\",#REF!)),\"1\",\"0\")","v":"0"},{"$f":"IF(ISNUMBER(SEARCH(\"4\",#REF!)),\"1\",\"0\")","v":"0"},{"$f":"IF(ISNUMBER(SEARCH(\"5\",#REF!)),\"1\",\"0\")","v":"0"},{"$f":"IF(ISNUMBER(SEARCH(\"6\",#REF!)),\"1\",\"0\")","v":"0"},{"$f":"IF(ISNUMBER(SEARCH(\"7\",#REF!)),\"1\",\"0\")","v":"0"},{"$f":"IF(ISNUMBER(SEARCH(\"8\",#REF!)),\"1\",\"0\")","v":"0"},{"$f":"IF(ISNUMBER(SEARCH(\"9\",#REF!)),\"1\",\"0\")","v":"0"},{"$f":"IF(ISNUMBER(SEARCH(\"9\",#REF!)),\"1\",\"0\")","v":"0"},{"$f":"IF(ISNUMBER(SEARCH(\"10\",#REF!)),\"1\",\"0\")","v":"0"},{"$f":"IF(ISNUMBER(SEARCH(\"11\",#REF!)),\"1\",\"0\")","v":"0"},{"$f":"IF(ISNUMBER(SEARCH(\"12\",#REF!)),\"1\",\"0\")","v":"0"},{"$f":"IF(ISNUMBER(SEARCH(\"13\",#REF!)),\"1\",\"0\")","v":"0"},{"$f":"IF(ISNUMBER(SEARCH(\"14\",#REF!)),\"1\",\"0\")","v":"0"},{"$f":"IF(ISNUMBER(SEARCH(\"15\",#REF!)),\"1\",\"0\")","v":"0"},{"$f":"IF(ISNUMBER(SEARCH(\"16\",#REF!)),\"1\",\"0\")","v":"0"},{"$f":"IF(ISNUMBER(SEARCH(\"17\",#REF!)),\"1\",\"0\")","v":"0"},2,1,null,null,24,24,18,66,3,{"$nulls":9},{"$f":"#REF!-#REF!","v":{"$error":"#REF!"}}]
[3,31,311,"MO",2,43,null,1,7,2,3,5,2,1,"1","0","0","0","0","0","0","0","0","0","0","0","0","0","0","0","0","0",null,1,1,5,2,{"$f":"IF(ISNUMBER(SEARCH(\"1\",#REF!)),\"1\",\"0\")","v":"0"},{"$f":"IF(ISNUMBER(SEARCH(\"2\",#REF!)),\"1\",\"0\")","v":"0"},{"$f":"IF(ISNUMBER(SEARCH(\"3\",#REF!)),\"1\",\"0\")","v":"0"},{"$f":"IF(ISNUMBER(SEARCH(\"4\",#REF!)),\"1\",\"0\")","v":"0"},{"$f":"IF(ISNUMBER(SEARCH(\"5\",#REF!)),\"1\",\"0\")","v":"0"},{"$f":"IF(ISNUMBER(SEARCH(\"6\",#REF!)),\"1\",\"0\")","v":"0"},{"$f":"IF(ISNUMBER(SEARCH(\"7\",#REF!)),\"1\",\"0\")","v":"0"},{"$f":"IF(ISNUMBER(SEARCH(\"8\",#REF!)),\"1\",\"0\")","v":"0"},{"$f":"IF(ISNUMBER(SEARCH(\"9\",#REF!)),\"1\",\"0\")","v":"0"},{"$f":"IF(ISNUMBER(SEARCH(\"9\",#REF!)),\"1\",\"0\")","v":"0"},{"$f":"IF(ISNUMBER(SEARCH(\"10\",#REF!)),\"1\",\"0\")","v":"0"},{"$f":"IF(ISNUMBER(SEARCH(\"11\",#REF!)),\"1\",\"0\")","v":"0"},{"$f":"IF(ISNUMBER(SEARCH(\"12\",#REF!)),\"1\",\"0\")","v":"0"},{"$f":"IF(ISNUMBER(SEARCH(\"13\",#REF!)),\"1\",\"0\")","v":"0"},{"$f":"IF(ISNUMBER(SEARCH(\"14\",#REF!)),\"1\",\"0\")","v":"0"},{"$f":"IF(ISNUMBER(SEARCH(\"15\",#REF!)),\"1\",\"0\")","v":"0"},{"$f":"IF(ISNUMBER(SEARCH(\"16\",#REF!)),\"1\",\"0\")","v":"0"},{"$f":"IF(ISNUMBER(SEARCH(\"17\",#REF!)),\"1\",\"0\")","v":"0"},{"$nulls":3},9,{"$nulls":4},12,21,{"$nulls":4},10,14,3,null,{"$f":"#REF!-#REF!","v":{"$error":"#REF!"}},{"$f":"#REF!-#REF!","v":{"$error":"#REF!"}}]
[3,31,311,"MO",2,14,null,2,2,1,null,5,1,1,"1","0","0","0","0","0","0","0","0","0","0","0","0","0","0","0","0","0",null,2,1,2,null,{"$f":"IF(ISNUMBER(SEARCH(\"1\",#REF!)),\"1\",\"0\")","v":"0"},{"$f":"IF(ISNUMBER(SEARCH(\"2\",#REF!)),\"1\",\"0\")","v":"0"},{"$f":"IF(ISNUMBER(SEARCH(\"3\",#REF!)),\"1\",\"0\")","v":"0"},{"$f":"IF(ISNUMBER(SEARCH(\"4\",#REF!)),\"1\",\"0\")","v":"0"},{"$f":"IF(ISNUMBER(SEARCH(\"5\",#REF!)),\"1\",\"0\")","v":"0"},{"$f":"IF(ISNUMBER(SEARCH(\"6\",#REF!)),\"1\",\"0\")","v":"0"},{"$f":"IF(ISNUMBER(SEARCH(\"7\",#REF!)),\"1\",\"0\")","v":"0"},{"$f":"IF(ISNUMBER(SEARCH(\"8\",#REF!)),\"1\",\"0\")","v":"0"},{"$f":"IF(ISNUMBER(SEARCH(\"9\",#REF!)),\"1\",\"0\")","v":"0"},{"$f":"IF(ISNUMBER(SEARCH(\"9\",#REF!)),\"1\",\"0\")","v":"0"},{"$f":"IF(ISNUMBER(SEARCH(\"10\",#REF!)),\"1\",\"0\")","v":"0"},{"$f":"IF(ISNUMBER(SEARCH(\"11\",#REF!)),\"1\",\"0\")","v":"0"},{"$f":"IF(ISNUMBER(SEARCH(\"12\",#REF!)),\"1\",\"0\")","v":"0"},{"$f":"IF(ISNUMBER(SEARCH(\"13\",#REF!)),\"1\",\"0\")","v":"0"},{"$f":"IF(ISNUMBER(SEARCH(\"14\",#REF!)),\"1\",\"0\")","v":"0"},{"$f":"IF(ISNUMBER(SEARCH(\"15\",#REF!)),\"1\",\"0\")","v":"0"},{"$f":"IF(ISNUMBER(SEARCH(\"16\",#REF!)),\"1\",\"0\")","v":"0"},{"$f":"IF(ISNUMBER(SEARCH(\"17\",#REF!)),\"1\",\"0\")","v":"0"},{"$nulls":3},9,{"$nulls":5},0,{"$nulls":4},0,null,0,null,{"$f":"#REF!-#REF!","v":{"$error":"#REF!"}},{"$f":"#REF!-#REF!","v":{"$error":"#REF!"}}]
[3,31,311,"MO",2,27,null,1,7,1,null,5,2,"1, 2","1","1","0","0","0","0","0","0","0","0","0","0","0","0","0","0","0","0",null,2,1,1,2,{"$f":"IF(ISNUMBER(SEARCH(\"1\",#REF!)),\"1\",\"0\")","v":"0"},{"$f":"IF(ISNUMBER(SEARCH(\"2\",#REF!)),\"1\",\"0\")","v":"0"},{"$f":"IF(ISNUMBER(SEARCH(\"3\",#REF!)),\"1\",\"0\")","v":"0"},{"$f":"IF(ISNUMBER(SEARCH(\"4\",#REF!)),\"1\",\"0\")","v":"0"},{"$f":"IF(ISNUMBER(SEARCH(\"5\",#REF!)),\"1\",\"0\")","v":"0"},{"$f":"IF(ISNUMBER(SEARCH(\"6\",#REF!)),\"1\",\"0\")","v":"0"},{"$f":"IF(ISNUMBER(SEARCH(\"7\",#REF!)),\"1\",\"0\")","v":"0"},{"$f":"IF(ISNUMBER(SEARCH(\"8\",#REF!)),\"1\",\"0\")","v":"0"},{"$f":"IF(ISNUMBER(SEARCH(\"9\",#REF!)),\"1\",\"0\")","v":"0"},{"$f":"IF(ISNUMBER(SEARCH(\"9\",#REF!)),\"1\",\"0\")","v":"0"},{"$f":"IF(ISNUMBER(SEARCH(\"10\",#REF!)),\"1\",\"0\")","v":"0"},{"$f":"IF(ISNUMBER(SEARCH(\"11\",#REF!)),\"1\",\"0\")","v":"0"},{"$f":"IF(ISNUMBER(SEARCH(\"12\",#REF!)),\"1\",\"0\")","v":"0"},{"$f":"IF(ISNUMBER(SEARCH(\"13\",#REF!)),\"1\",\"0\")","v":"0"},{"$f":"IF(ISNUMBER(SEARCH(\"14\",#REF!)),\"1\",\"0\")","v":"0"},{"$f":"IF(ISNUMBER(SEARCH(\"15\",#REF!)),\"1\",\"0\")","v":"0"},{"$f":"IF(ISNUMBER(SEARCH(\"16\",#REF!)),\"1\",\"0\")","v":"0"},{"$f":"IF(ISNUMBER(SEARCH(\"17\",#REF!)),\"1\",\"0\")","v":"0"},{"$nulls":3},9,{"$nulls":4},10,46,{"$nulls":4},20,14,2,null,{"$f":"#REF!-#REF!","v":{"$error":"#REF!"}}]
[3,31,311,"MO",2,50,null,1,7,2,7,1,6,"1, 2","1","1","0","0","0","0","0","0","0","0","0","0","0","0","0","0","0","0",null,1,1,5,2,{"$f":"IF(ISNUMBER(SEARCH(\"1\",#REF!)),\"1\",\"0\")","v":"0"},{"$f":"IF(ISNUMBER(SEARCH(\"2\",#REF!)),\"1\",\"0\")","v":"0"},{"$f":"IF(ISNUMBER(SEARCH(\"3\",#REF!)),\"1\",\"0\")","v":"0"},{"$f":"IF(ISNUMBER(SEARCH(\"4\",#REF!)),\"1\",\"0\")","v":"0"},{"$f":"IF(ISNUMBER(SEARCH(\"5\",#REF!)),\"1\",\"0\")","v":"0"},{"$f":"IF(ISNUMBER(SEARCH(\"6\",#REF!)),\"1\",\"0\")","v":"0"},{"$f":"IF(ISNUMBER(SEARCH(\"7\",#REF!)),\"1\",\"0\")","v":"0"},{"$f":"IF(ISNUMBER(SEARCH(\"8\",#REF!)),\"1\",\"0\")","v":"0"},{"$f":"IF(ISNUMBER(SEARCH(\"9\",#REF!)),\"1\",\"0\")","v":"0"},{"$f":"IF(ISNUMBER(SEARCH(\"9\",#REF!)),\"1\",\"0\")","v":"0"},{"$f":"IF(ISNUMBER(SEARCH(\"10\",#REF!)),\"1\",\"0\")","v":"0"},{"$f":"IF(ISNUMBER(SEARCH(\"11\",#REF!)),\"1\",\"0\")","v":"0"},{"$f":"IF(ISNUMBER(SEARCH(\"12\",#REF!)),\"1\",\"0\")","v":"0"},{"$f":"IF(ISNUMBER(SEARCH(\"13\",#REF!)),\"1\",\"0\")","v":"0"},{"$f":"IF(ISNUMBER(SEARCH(\"14\",#REF!)),\"1\",\"0\")","v":"0"},{"$f":"IF(ISNUMBER(SEARCH(\"15\",#REF!)),\"1\",\"0\")","v":"0"},{"$f":"IF(ISNUMBER(SEARCH(\"16\",#REF!)),\"1\",\"0\")","v":"0"},{"$f":"IF(ISNUMBER(SEARCH(\"17\",#REF!)),\"1\",\"0\")","v":"0"},{"$nulls":9},42,{"$nulls":8},{"$f":"#REF!-#REF!","v":{"$error":"#REF!"}}]
[3,32,323,"FA",2,25,null,1,8,1,null,5,1,3,"0","0","1","0","0","0","0","0","0","0","0","0","0","0","0","0","0","0",null,1,1,5,null,{"$f":"IF(ISNUMBER(SEARCH(\"1\",#REF!)),\"1\",\"0\")","v":"0"},{"$f":"IF(ISNUMBER(SEARCH(\"2\",#REF!)),\"1\",\"0\")","v":"0"},{"$f":"IF(ISNUMBER(SEARCH(\"3\",#REF!)),\"1\",\"0\")","v":"0"},{"$f":"IF(ISNUMBER(SEARCH(\"4\",#REF!)),\"1\",\"0\")","v":"0"},{"$f":"IF(ISNUMBER(SEARCH(\"5\",#REF!)),\"1\",\"0\")","v":"0"},{"$f":"IF(ISNUMBER(SEARCH(\"6\",#REF!)),\"1\",\"0\")","v":"0"},{"$f":"IF(ISNUMBER(SEARCH(\"7\",#REF!)),\"1\",\"0\")","v":"0"},{"$f":"IF(ISNUMBER(SEARCH(\"8\",#REF!)),\"1\",\"0\")","v":"0"},{"$f":"IF(ISNUMBER(SEARCH(\"9\",#REF!)),\"1\",\"0\")","v":"0"},{"$f":"IF(ISNUMBER(SEARCH(\"9\",#REF!)),\"1\",\"0\")","v":"0"},{"$f":"IF(ISNUMBER(SEARCH(\"10\",#REF!)),\"1\",\"0\")","v":"0"},{"$f":"IF(ISNUMBER(SEARCH(\"11\",#REF!)),\"1\",\"0\")","v":"0"},{"$f":"IF(ISNUMBER(SEARCH(\"12\",#REF!)),\"1\",\"0\")","v":"0"},{"$f":"IF(ISNUMBER(SEARCH(\"13\",#REF!)),\"1\",\"0\")","v":"0"},{"$f":"IF(ISNUMBER(SEARCH(\"14\",#REF!)),\"1\",\"0\")","v":"0"},{"$f":"IF(ISNUMBER(SEARCH(\"15\",#REF!)),\"1\",\"0\")","v":"0"},{"$f":"IF(ISNUMBER(SEARCH(\"16\",#REF!)),\"1\",\"0\")","v":"0"},{"$f":"IF(ISNUMBER(SEARCH(\"17\",#REF!)),\"1\",\"0\")","v":"0"},5,2,2,9,{"$nulls":4},7,84,{"$nulls":4},23,14,5,null,{"$f":"#REF!-#REF!","v":{"$error":"#REF!"}}]
[3,32,323,"FA",2,39,null,1,8,1,null,5,2,1,"1","0","0","0","0","0","0","0","0","0","0","0","0","0","0","0","0","0",null,1,3,null,null,{"$f":"IF(ISNUMBER(SEARCH(\"1\",#REF!)),\"1\",\"0\")","v":"0"},{"$f":"IF(ISNUMBER(SEARCH(\"2\",#REF!)),\"1\",\"0\")","v":"0"},{"$f":"IF(ISNUMBER(SEARCH(\"3\",#REF!)),\"1\",\"0\")","v":"0"},{"$f":"IF(ISNUMBER(SEARCH(\"4\",#REF!)),\"1\",\"0\")","v":"0"},{"$f":"IF(ISNUMBER(SEARCH(\"5\",#REF!)),\"1\",\"0\")","v":"0"},{"$f":"IF(ISNUMBER(SEARCH(\"6\",#REF!)),\"1\",\"0\")","v":"0"},{"$f":"IF(ISNUMBER(SEARCH(\"7\",#REF!)),\"1\",\"0\")","v":"0"},{"$f":"IF(ISNUMBER(SEARCH(\"8\",#REF!)),\"1\",\"0\")","v":"0"},{"$f":"IF(ISNUMBER(SEARCH(\"9\",#REF!)),\"1\",\"0\")","v":"0"},{"$f":"IF(ISNUMBER(SEARCH(\"9\",#REF!)),\"1\",\"0\")","v":"0"},{"$f":"IF(ISNUMBER(SEARCH(\"10\",#REF!)),\"1\",\"0\")","v":"0"},{"$f":"IF(ISNUMBER(SEARCH(\"11\",#REF!)),\"1\",\"0\")","v":"0"},{"$f":"IF(ISNUMBER(SEARCH(\"12\",#REF!)),\"1\",\"0\")","v":"0"},{"$f":"IF(ISNUMBER(SEARCH(\"13\",#REF!)),\"1\",\"0\")","v":"0"},{"$f":"IF(ISNUMBER(SEARCH(\"14\",#REF!)),\"1\",\"0\")","v":"0"},{"$f":"IF(ISNUMBER(SEARCH(\"15\",#REF!)),\"1\",\"0\")","v":"0"},{"$f":"IF(ISNUMBER(SEARCH(\"16\",#REF!)),\"1\",\"0\")","v":"0"},{"$f":"IF(ISNUMBER(SEARCH(\"17\",#REF!)),\"1\",\"0\")","v":"0"},null,2,2,4,{"$nulls":4},6,83,{"$nulls":4},14,13,4,null,{"$f":"#REF!-#REF!","v":{"$error":"#REF!"}}]
[3,32,321,"AM",1,14,null,2,3,null,0,5,1,1,"1","0","0","0","0","0","0","0","0","0","0","0","0","0","0","0","0","0",null,1,3,5,2,{"$f":"IF(ISNUMBER(SEARCH(\"1\",#REF!)),\"1\",\"0\")","v":"0"},{"$f":"IF(ISNUMBER(SEARCH(\"2\",#REF!)),\"1\",\"0\")","v":"0"},{"$f":"IF(ISNUMBER(SEARCH(\"3\",#REF!)),\"1\",\"0\")","v":"0"},{"$f":"IF(ISNUMBER(SEARCH(\"4\",#REF!)),\"1\",\"0\")","v":"0"},{"$f":"IF(ISNUMBER(SEARCH(\"5\",#REF!)),\"1\",\"0\")","v":"0"},{"$f":"IF(ISNUMBER(SEARCH(\"6\",#REF!)),\"1\",\"0\")","v":"0"},{"$f":"IF(ISNUMBER(SEARCH(\"7\",#REF!)),\"1\",\"0\")","v":"0"},{"$f":"IF(ISNUMBER(SEARCH(\"8\",#REF!)),\"1\",\"0\")","v":"0"},{"$f":"IF(ISNUMBER(SEARCH(\"9\",#REF!)),\"1\",\"0\")","v":"0"},{"$f":"IF(ISNUMBER(SEARCH(\"9\",#REF!)),\"1\",\"0\")","v":"0"},{"$f":"IF(ISNUMBER(SEARCH(\"10\",#REF!)),\"1\",\"0\")","v":"0"},{"$f":"IF(ISNUMBER(SEARCH(\"11\",#REF!)),\"1\",\"0\")","v":"0"},{"$f":"IF(ISNUMBER(SEARCH(\"12\",#REF!)),\"1\",\"0\")","v":"0"},{"$f":"IF(ISNUMBER(SEARCH(\"13\",#REF!)),\"1\",\"0\")","v":"0"},{"$f":"IF(ISNUMBER(SEARCH(\"14\",#REF!)),\"1\",\"0\")","v":"0"},{"$f":"IF(ISNUMBER(SEARCH(\"15\",#REF!)),\"1\",\"0\")","v":"0"},{"$f":"IF(ISNUMBER(SEARCH(\"16\",#REF!)),\"1\",\"0\")","v":"0"},{"$f":"IF(ISNUMBER(SEARCH(\"17\",#REF!)),\"1\",\"0\")","v":"0"},null,null,2,4,{"$nulls":4},6,9,{"$nulls":4},5,12,5,null,{"$f":"#REF!-#REF!","v":{"$error":"#REF!"}}]
[3,32,321,"AM",1,32,null,1,7,1,null,5,2,1,"1","0","0","0","0","0","0","0","0","0","0","0","0","0","0","0","0","0",null,1,{"$nulls":3},{"$f":"IF(ISNUMBER(SEARCH(\"1\",#REF!)),\"1\",\"0\")","v":"0"},{"$f":"IF(ISNUMBER(SEARCH(\"2\",#REF!)),\"1\",\"0\")","v":"0"},{"$f":"IF(ISNUMBER(SEARCH(\"3\",#REF!)),\"1\",\"0\")","v":"0"},{"$f":"IF(ISNUMBER(SEARCH(\"4\",#REF!)),\"1\",\"0\")","v":"0"},{"$f":"IF(ISNUMBER(SEARCH(\"5\",#REF!)),\"1\",\"0\")","v":"0"},{"$f":"IF(ISNUMBER(SEARCH(\"6\",#REF!)),\"1\",\"0\")","v":"0"},{"$f":"IF(ISNUMBER(SEARCH(\"7\",#REF!)),\"1\",\"0\")","v":"0"},{"$f":"IF(ISNUMBER(SEARCH(\"8\",#REF!)),\"1\",\"0\")","v":"0"},{"$f":"IF(ISNUMBER(SEARCH(\"9\",#REF!)),\"1\",\"0\")","v":"0"},{"$f":"IF(ISNUMBER(SEARCH(\"9\",#REF!)),\"1\",\"0\")","v":"0"},{"$f":"IF(ISNUMBER(SEARCH(\"10\",#REF!)),\"1\",\"0\")","v":"0"},{"$f":"IF(ISNUMBER(SEARCH(\"11\",#REF!)),\"1\",\"0\")","v":"0"},{"$f":"IF(ISNUMBER(SEARCH(\"12\",#REF!)),\"1\",\"0\")","v":"0"},{"$f":"IF(ISNUMBER(SEARCH(\"13\",#REF!)),\"1\",\"0\")","v":"0"},{"$f":"IF(ISNUMBER(SEARCH(\"14\",#REF!)),\"1\",\"0\")","v":"0"},{"$f":"IF(ISNUMBER(SEARCH(\"15\",#REF!)),\"1\",\"0\")","v":"0"},{"$f":"IF(ISNUMBER(SEARCH(\"16\",#REF!)),\"1\",\"0\")","v":"0"},{"$f":"IF(ISNUMBER(SEARCH(\"17\",#REF!)),\"1\",\"0\")","v":"0"},null,2,2,4,{"$nulls":4},4,10,{"$nulls":4},4,14,5,null,{"$f":"#REF!-#REF!","v":{"$error":"#REF!"}}]
[3,32,323,"FA",1,48,null,2,8,null,5,5,2,1,"1","0","0","0","0","0","0","0","0","0","0","0","0","0","0","0","0","0",null,1,4,null,null,{"$f":"IF(ISNUMBER(SEARCH(\"1\",#REF!)),\"1\",\"0\")","v":"0"},{"$f":"IF(ISNUMBER(SEARCH(\"2\",#REF!)),\"1\",\"0\")","v":"0"},{"$f":"IF(ISNUMBER(SEARCH(\"3\",#REF!)),\"1\",\"0\")","v":"0"},{"$f":"IF(ISNUMBER(SEARCH(\"4\",#REF!)),\"1\",\"0\")","v":"0"},{"$f":"IF(ISNUMBER(SEARCH(\"5\",#REF!)),\"1\",\"0\")","v":"0"},{"$f":"IF(ISNUMBER(SEARCH(\"6\",#REF!)),\"1\",\"0\")","v":"0"},{"$f":"IF(ISNUMBER(SEARCH(\"7\",#REF!)),\"1\",\"0\")","v":"0"},{"$f":"IF(ISNUMBER(SEARCH(\"8\",#REF!)),\"1\",\"0\")","v":"0"},{"$f":"IF(ISNUMBER(SEARCH(\"9\",#REF!)),\"1\",\"0\")","v":"0"},{"$f":"IF(ISNUMBER(SEARCH(\"9\",#REF!)),\"1\",\"0\")","v":"0"},{"$f":"IF(ISNUMBER(SEARCH(\"10\",#REF!)),\"1\",\"0\")","v":"0"},{"$f":"IF(ISNUMBER(SEARCH(\"11\",#REF!)),\"1\",\"0\")","v":"0"},{"$f":"IF(ISNUMBER(SEARCH(\"12\",#REF!)),\"1\",\"0\")","v":"0"},{"$f":"IF(ISNUMBER(SEARCH(\"13\",#REF!)),\"1\",\"0\")","v":"0"},{"$f":"IF(ISNUMBER(SEARCH(\"14\",#REF!)),\"1\",\"0\")","v":"0"},{"$f":"IF(ISNUMBER(SEARCH(\"15\",#REF!)),\"1\",\"0\")","v":"0"},{"$f":"IF(ISNUMBER(SEARCH(\"16\",#REF!)),\"1\",\"0\")","v":"0"},{"$f":"IF(ISNUMBER(SEARCH(\"17\",#REF!)),\"1\",\"0\")","v":"0"},null,2,1,4,{"$nulls":4},2,7,{"$nulls":4},6,10,4]
[3,32,321,"AM",1,64,null,1,7,null,null,5,2,1,"1","0","0","0","0","0","0","0","0","0","0","0","0","0","0","0","0","0",null,1,{"$nulls":3},{"$f":"IF(ISNUMBER(SEARCH(\"1\",#REF!)),\"1\",\"0\")","v":"0"},{"$f":"IF(ISNUMBER(SEARCH(\"2\",#REF!)),\"1\",\"0\")","v":"0"},{"$f":"IF(ISNUMBER(SEARCH(\"3\",#REF!)),\"1\",\"0\")","v":"0"},{"$f":"IF(ISNUMBER(SEARCH(\"4\",#REF!)),\"1\",\"0\")","v":"0"},{"$f":"IF(ISNUMBER(SEARCH(\"5\",#REF!)),\"1\",\"0\")","v":"0"},{"$f":"IF(ISNUMBER(SEARCH(\"6\",#REF!)),\"1\",\"0\")","v":"0"},{"$f":"IF(ISNUMBER(SEARCH(\"7\",#REF!)),\"1\",\"0\")","v":"0"},{"$f":"IF(ISNUMBER(SEARCH(\"8\",#REF!)),\"1\",\"0\")","v":"0"},{"$f":"IF(ISNUMBER(SEARCH(\"9\",#REF!)),\"1\",\"0\")","v":"0"},{"$f":"IF(ISNUMBER(SEARCH(\"9\",#REF!)),\"1\",\"0\")","v":"0"},{"$f":"IF(ISNUMBER(SEARCH(\"10\",#REF!)),\"1\",\"0\")","v":"0"},{"$f":"IF(ISNUMBER(SEARCH(\"11\",#REF!)),\"1\",\"0\")","v":"0"},{"$f":"IF(ISNUMBER(SEARCH(\"12\",#REF!)),\"1\",\"0\")","v":"0"},{"$f":"IF(ISNUMBER(SEARCH(\"13\",#REF!)),\"1\",\"0\")","v":"0"},{"$f":"IF(ISNUMBER(SEARCH(\"14\",#REF!)),\"1\",\"0\")","v":"0"},{"$f":"IF(ISNUMBER(SEARCH(\"15\",#REF!)),\"1\",\"0\")","v":"0"},{"$f":"IF(ISNUMBER(SEARCH(\"16\",#REF!)),\"1\",\"0\")","v":"0"},{"$f":"IF(ISNUMBER(SEARCH(\"17\",#REF!)),\"1\",\"0\")","v":"0"},null,2,1,4,{"$nulls":4},4,22,{"$nulls":4},8,14,4]
[3,32,323,"FA",1,55,null,1,2,null,3,5,2,2,"0","1","0","0","0","0","0","0","0","0","0","0","0","0","0","0","0","0",null,1,{"$nulls":3},{"$f":"IF(ISNUMBER(SEARCH(\"1\",#REF!)),\"1\",\"0\")","v":"0"},{"$f":"IF(ISNUMBER(SEARCH(\"2\",#REF!)),\"1\",\"0\")","v":"0"},{"$f":"IF(ISNUMBER(SEARCH(\"3\",#REF!)),\"1\",\"0\")","v":"0"},{"$f":"IF(ISNUMBER(SEARCH(\"4\",#REF!)),\"1\",\"0\")","v":"0"},{"$f":"IF(ISNUMBER(SEARCH(\"5\",#REF!)),\"1\",\"0\")","v":"0"},{"$f":"IF(ISNUMBER(SEARCH(\"6\",#REF!)),\"1\",\"0\")","v":"0"},{"$f":"IF(ISNUMBER(SEARCH(\"7\",#REF!)),\"1\",\"0\")","v":"0"},{"$f":"IF(ISNUMBER(SEARCH(\"8\",#REF!)),\"1\",\"0\")","v":"0"},{"$f":"IF(ISNUMBER(SEARCH(\"9\",#REF!)),\"1\",\"0\")","v":"0"},{"$f":"IF(ISNUMBER(SEARCH(\"9\",#REF!)),\"1\",\"0\")","v":"0"},{"$f":"IF(ISNUMBER(SEARCH(\"10\",#REF!)),\"1\",\"0\")","v":"0"},{"$f":"IF(ISNUMBER(SEARCH(\"11\",#REF!)),\"1\",\"0\")","v":"0"},{"$f":"IF(ISNUMBER(SEARCH(\"12\",#REF!)),\"1\",\"0\")","v":"0"},{"$f":"IF(ISNUMBER(SEARCH(\"13\",#REF!)),\"1\",\"0\")","v":"0"},{"$f":"IF(ISNUMBER(SEARCH(\"14\",#REF!)),\"1\",\"0\")","v":"0"},{"$f":"IF(ISNUMBER(SEARCH(\"15\",#REF!)),\"1\",\"0\")","v":"0"},{"$f":"IF(ISNUMBER(SEARCH(\"16\",#REF!)),\"1\",\"0\")","v":"0"},{"$f":"IF(ISNUMBER(SEARCH(\"17\",#REF!)),\"1\",\"0\")","v":"0"},null,null,1,4,{"$nulls":5},22,{"$nulls":4},8,null,4]
[3,32,323,"AMM",{"$nulls":4},7,null,null,5,null,1,"1","0","0","0","0","0","0","0","0","0","0","0","0","0","0","0","0","0",null,1,{"$nulls":3},{"$f":"IF(ISNUMBER(SEARCH(\"1\",#REF!)),\"1\",\"0\")","v":"0"},{"$f":"IF(ISNUMBER(SEARCH(\"2\",#REF!)),\"1\",\"0\")","v":"0"},{"$f":"IF(ISNUMBER(SEARCH(\"3\",#REF!)),\"1\",\"0\")","v":"0"},{"$f":"IF(ISNUMBER(SEARCH(\"4\",#REF!)),\"1\",\"0\")","v":"0"},{"$f":"IF(ISNUMBER(SEARCH(\"5\",#REF!)),\"1\",\"0\")","v":"0"},{"$f":"IF(ISNUMBER(SEARCH(\"6\",#REF!)),\"1\",\"0\")","v":"0"},{"$f":"IF(ISNUMBER(SEARCH(\"7\",#REF!)),\"1\",\"0\")","v":"0"},{"$f":"IF(ISNUMBER(SEARCH(\"8\",#REF!)),\"1\",\"0\")","v":"0"},{"$f":"IF(ISNUMBER(SEARCH(\"9\",#REF!)),\"1\",\"0\")","v":"0"},{"$f":"IF(ISNUMBER(SEARCH(\"9\",#REF!)),\"1\",\"0\")","v":"0"},{"$f":"IF(ISNUMBER(SEARCH(\"10\",#REF!)),\"1\",\"0\")","v":"0"},{"$f":"IF(ISNUMBER(SEARCH(\"11\",#REF!)),\"1\",\"0\")","v":"0"},{"$f":"IF(ISNUMBER(SEARCH(\"12\",#REF!)),\"1\",\"0\")","v":"0"},{"$f":"IF(ISNUMBER(SEARCH(\"13\",#REF!)),\"1\",\"0\")","v":"0"},{"$f":"IF(ISNUMBER(SEARCH(\"14\",#REF!)),\"1\",\"0\")","v":"0"},{"$f":"IF(ISNUMBER(SEARCH(\"15\",#REF!)),\"1\",\"0\")","v":"0"},{"$f":"IF(ISNUMBER(SEARCH(\"16\",#REF!)),\"1\",\"0\")","v":"0"},{"$f":"IF(ISNUMBER(SEARCH(\"17\",#REF!)),\"1\",\"0\")","v":"0"},null,null,1,4,{"$nulls":4},4,22,{"$nulls":4},8,14,4]
[3,32,323,"FA",2,37,null,1,7,null,1,5,2,2,"0","1","0","0","0","0","0","0","0","0","0","0","0","0","0","0","0","0",null,1,{"$nulls":3},{"$f":"IF(ISNUMBER(SEARCH(\"1\",#REF!)),\"1\",\"0\")","v":"0"},{"$f":"IF(ISNUMBER(SEARCH(\"2\",#REF!)),\"1\",\"0\")","v":"0"},{"$f":"IF(ISNUMBER(SEARCH(\"3\",#REF!)),\"1\",\"0\")","v":"0"},{"$f":"IF(ISNUMBER(SEARCH(\"4\",#REF!)),\"1\",\"0\")","v":"0"},{"$f":"IF(ISNUMBER(SEARCH(\"5\",#REF!)),\"1\",\"0\")","v":"0"},{"$f":"IF(ISNUMBER(SEARCH(\"6\",#REF!)),\"1\",\"0\")","v":"0"},{"$f":"IF(ISNUMBER(SEARCH(\"7\",#REF!)),\"1\",\"0\")","v":"0"},{"$f":"IF(ISNUMBER(SEARCH(\"8\",#REF!)),\"1\",\"0\")","v":"0"},{"$f":"IF(ISNUMBER(SEARCH(\"9\",#REF!)),\"1\",\"0\")","v":"0"},{"$f":"IF(ISNUMBER(SEARCH(\"9\",#REF!)),\"1\",\"0\")","v":"0"},{"$f":"IF(ISNUMBER(SEARCH(\"10\",#REF!)),\"1\",\"0\")","v":"0"},{"$f":"IF(ISNUMBER(SEARCH(\"11\",#REF!)),\"1\",\"0\")","v":"0"},{"$f":"IF(ISNUMBER(SEARCH(\"12\",#REF!)),\"1\",\"0\")","v":"0"},{"$f":"IF(ISNUMBER(SEARCH(\"13\",#REF!)),\"1\",\"0\")","v":"0"},{"$f":"IF(ISNUMBER(SEARCH(\"14\",#REF!)),\"1\",\"0\")","v":"0"},{"$f":"IF(ISNUMBER(SEARCH(\"15\",#REF!)),\"1\",\"0\")","v":"0"},{"$f":"IF(ISNUMBER(SEARCH(\"16\",#REF!)),\"1\",\"0\")","v":"0"},{"$f":"IF(ISNUMBER(SEARCH(\"17\",#REF!)),\"1\",\"0\")","v":"0"},null,null,1,4,{"$nulls":4},2,18,{"$nulls":4},6,14,4]
[3,32,321,"AM",1,18,null,1,7,null,0,5,2,2,"0","1","0","0","0","0","0","0","0","0","0","0","0","0","0","0","0","0",null,1,{"$nulls":3},{"$f":"IF(ISNUMBER(SEARCH(\"1\",#REF!)),\"1\",\"0\")","v":"0"},{"$f":"IF(ISNUMBER(SEARCH(\"2\",#REF!)),\"1\",\"0\")","v":"0"},{"$f":"IF(ISNUMBER(SEARCH(\"3\",#REF!)),\"1\",\"0\")","v":"0"},{"$f":"IF(ISNUMBER(SEARCH(\"4\",#REF!)),\"1\",\"0\")","v":"0"},{"$f":"IF(ISNUMBER(SEARCH(\"5\",#REF!)),\"1\",\"0\")","v":"0"},{"$f":"IF(ISNUMBER(SEARCH(\"6\",#REF!)),\"1\",\"0\")","v":"0"},{"$f":"IF(ISNUMBER(SEARCH(\"7\",#REF!)),\"1\",\"0\")","v":"0"},{"$f":"IF(ISNUMBER(SEARCH(\"8\",#REF!)),\"1\",\"0\")","v":"0"},{"$f":"IF(ISNUMBER(SEARCH(\"9\",#REF!)),\"1\",\"0\")","v":"0"},{"$f":"IF(ISNUMBER(SEARCH(\"9\",#REF!)),\"1\",\"0\")","v":"0"},{"$f":"IF(ISNUMBER(SEARCH(\"10\",#REF!)),\"1\",\"0\")","v":"0"},{"$f":"IF(ISNUMBER(SEARCH(\"11\",#REF!)),\"1\",\"0\")","v":"0"},{"$f":"IF(ISNUMBER(SEARCH(\"12\",#REF!)),\"1\",\"0\")","v":"0"},{"$f":"IF(ISNUMBER(SEARCH(\"13\",#REF!)),\"1\",\"0\")","v":"0"},{"$f":"IF(ISNUMBER(SEARCH(\"14\",#REF!)),\"1\",\"0\")","v":"0"},{"$f":"IF(ISNUMBER(SEARCH(\"15\",#REF!)),\"1\",\"0\")","v":"0"},{"$f":"IF(ISNUMBER(SEARCH(\"16\",#REF!)),\"1\",\"0\")","v":"0"},{"$f":"IF(ISNUMBER(SEARCH(\"17\",#REF!)),\"1\",\"0\")","v":"0"},{"$nulls":3},4,{"$nulls":4},2,16,{"$nulls":5},14,4]
[3,32,321,"AM",1,45,null,1,7,null,3,5,2,1,"1","0","0","0","0","0","0","0","0","0","0","0","0","0","0","0","0","0",null,1,{"$nulls":3},{"$f":"IF(ISNUMBER(SEARCH(\"1\",#REF!)),\"1\",\"0\")","v":"0"},{"$f":"IF(ISNUMBER(SEARCH(\"2\",#REF!)),\"1\",\"0\")","v":"0"},{"$f":"IF(ISNUMBER(SEARCH(\"3\",#REF!)),\"1\",\"0\")","v":"0"},{"$f":"IF(ISNUMBER(SEARCH(\"4\",#REF!)),\"1\",\"0\")","v":"0"},{"$f":"IF(ISNUMBER(SEARCH(\"5\",#REF!)),\"1\",\"0\")","v":"0"},{"$f":"IF(ISNUMBER(SEARCH(\"6\",#REF!)),\"1\",\"0\")","v":"0"},{"$f":"IF(ISNUMBER(SEARCH(\"7\",#REF!)),\"1\",\"0\")","v":"0"},{"$f":"IF(ISNUMBER(SEARCH(\"8\",#REF!)),\"1\",\"0\")","v":"0"},{"$f":"IF(ISNUMBER(SEARCH(\"9\",#REF!)),\"1\",\"0\")","v":"0"},{"$f":"IF(ISNUMBER(SEARCH(\"9\",#REF!)),\"1\",\"0\")","v":"0"},{"$f":"IF(ISNUMBER(SEARCH(\"10\",#REF!)),\"1\",\"0\")","v":"0"},{"$f":"IF(ISNUMBER(SEARCH(\"11\",#REF!)),\"1\",\"0\")","v":"0"},{"$f":"IF(ISNUMBER(SEARCH(\"12\",#REF!)),\"1\",\"0\")","v":"0"},{"$f":"IF(ISNUMBER(SEARCH(\"13\",#REF!)),\"1\",\"0\")","v":"0"},{"$f":"IF(ISNUMBER(SEARCH(\"14\",#REF!)),\"1\",\"0\")","v":"0"},{"$f":"IF(ISNUMBER(SEARCH(\"15\",#REF!)),\"1\",\"0\")","v":"0"},{"$f":"IF(ISNUMBER(SEARCH(\"16\",#REF!)),\"1\",\"0\")","v":"0"},{"$f":"IF(ISNUMBER(SEARCH(\"17\",#REF!)),\"1\",\"0\")","v":"0"},{"$nulls":3},4,{"$nulls":4},2,18,{"$nulls":4},8,14,4]
[3,32,321,"AM",2,23,null,1,7,null,null,5,2,"16. Autre (SVP dans la case suivante) ","1","0","0","0","0","1","0","0","0","0","0","0","0","0","0","1","0","0",null,1,{"$nulls":3},{"$f":"IF(ISNUMBER(SEARCH(\"1\",#REF!)),\"1\",\"0\")","v":"0"},{"$f":"IF(ISNUMBER(SEARCH(\"2\",#REF!)),\"1\",\"0\")","v":"0"},{"$f":"IF(ISNUMBER(SEARCH(\"3\",#REF!)),\"1\",\"0\")","v":"0"},{"$f":"IF(ISNUMBER(SEARCH(\"4\",#REF!)),\"1\",\"0\")","v":"0"},{"$f":"IF(ISNUMBER(SEARCH(\"5\",#REF!)),\"1\",\"0\")","v":"0"},{"$f":"IF(ISNUMBER(SEARCH(\"6\",#REF!)),\"1\",\"0\")","v":"0"},{"$f":"IF(ISNUMBER(SEARCH(\"7\",#REF!)),\"1\",\"0\")","v":"0"},{"$f":"IF(ISNUMBER(SEARCH(\"8\",#REF!)),\"1\",\"0\")","v":"0"},{"$f":"IF(ISNUMBER(SEARCH(\"9\",#REF!)),\"1\",\"0\")","v":"0"},{"$f":"IF(ISNUMBER(SEARCH(\"9\",#REF!)),\"1\",\"0\")","v":"0"},{"$f":"IF(ISNUMBER(SEARCH(\"10\",#REF!)),\"1\",\"0\")","v":"0"},{"$f":"IF(ISNUMBER(SEARCH(\"11\",#REF!)),\"1\",\"0\")","v":"0"},{"$f":"IF(ISNUMBER(SEARCH(\"12\",#REF!)),\"1\",\"0\")","v":"0"},{"$f":"IF(ISNUMBER(SEARCH(\"13\",#REF!)),\"1\",\"0\")","v":"0"},{"$f":"IF(ISNUMBER(SEARCH(\"14\",#REF!)),\"1\",\"0\")","v":"0"},{"$f":"IF(ISNUMBER(SEARCH(\"15\",#REF!)),\"1\",\"0\")","v":"0"},{"$f":"IF(ISNUMBER(SEARCH(\"16\",#REF!)),\"1\",\"0\")","v":"0"},{"$f":"IF(ISNUMBER(SEARCH(\"17\",#REF!)),\"1\",\"0\")","v":"0"},{"$nulls":8},2,16,{"$nulls":4},8,14,4]
[2,21,null,1,2,null,null,2,3,1,null,5,2,1,"1","0","0","0","0","0","0","0","0","0","0","0","0","0","0","0","0","0",null,2,1,3,1,{"$f":"IF(ISNUMBER(SEARCH(\"1\",#REF!)),\"1\",\"0\")","v":"0"},{"$f":"IF(ISNUMBER(SEARCH(\"2\",#REF!)),\"1\",\"0\")","v":"0"},{"$f":"IF(ISNUMBER(SEARCH(\"3\",#REF!)),\"1\",\"0\")","v":"0"},{"$f":"IF(ISNUMBER(SEARCH(\"4\",#REF!)),\"1\",\"0\")","v":"0"},{"$f":"IF(ISNUMBER(SEARCH(\"5\",#REF!)),\"1\",\"0\")","v":"0"},{"$f":"IF(ISNUMBER(SEARCH(\"6\",#REF!)),\"1\",\"0\")","v":"0"},{"$f":"IF(ISNUMBER(SEARCH(\"7\",#REF!)),\"1\",\"0\")","v":"0"},{"$f":"IF(ISNUMBER(SEARCH(\"8\",#REF!)),\"1\",\"0\")","v":"0"},{"$f":"IF(ISNUMBER(SEARCH(\"9\",#REF!)),\"1\",\"0\")","v":"0"},{"$f":"IF(ISNUMBER(SEARCH(\"9\",#REF!)),\"1\",\"0\")","v":"0"},{"$f":"IF(ISNUMBER(SEARCH(\"10\",#REF!)),\"1\",\"0\")","v":"0"},{"$f":"IF(ISNUMBER(SEARCH(\"11\",#REF!)),\"1\",\"0\")","v":"0"},{"$f":"IF(ISNUMBER(SEARCH(\"12\",#REF!)),\"1\",\"0\")","v":"0"},{"$f":"IF(ISNUMBER(SEARCH(\"13\",#REF!)),\"1\",\"0\")","v":"0"},{"$f":"IF(ISNUMBER(SEARCH(\"14\",#REF!)),\"1\",\"0\")","v":"0"},{"$f":"IF(ISNUMBER(SEARCH(\"15\",#REF!)),\"1\",\"0\")","v":"0"},{"$f":"IF(ISNUMBER(SEARCH(\"16\",#REF!)),\"1\",\"0\")","v":"0"},{"$f":"IF(ISNUMBER(SEARCH(\"17\",#REF!)),\"1\",\"0\")","v":"0"},{"$nulls":3},9,null,0,0,null,2]
[2,21,null,2,2,null,null,1,3,2,5,3,2,"1, 16. Autre (SVP dans la case suivante) ","1","0","0","0","0","1","0","0","0","0","0","0","0","0","0","1","0","0",null,1,1,1,1,{"$f":"IF(ISNUMBER(SEARCH(\"1\",#REF!)),\"1\",\"0\")","v":"0"},{"$f":"IF(ISNUMBER(SEARCH(\"2\",#REF!)),\"1\",\"0\")","v":"0"},{"$f":"IF(ISNUMBER(SEARCH(\"3\",#REF!)),\"1\",\"0\")","v":"0"},{"$f":"IF(ISNUMBER(SEARCH(\"4\",#REF!)),\"1\",\"0\")","v":"0"},{"$f":"IF(ISNUMBER(SEARCH(\"5\",#REF!)),\"1\",\"0\")","v":"0"},{"$f":"IF(ISNUMBER(SEARCH(\"6\",#REF!)),\"1\",\"0\")","v":"0"},{"$f":"IF(ISNUMBER(SEARCH(\"7\",#REF!)),\"1\",\"0\")","v":"0"},{"$f":"IF(ISNUMBER(SEARCH(\"8\",#REF!)),\"1\",\"0\")","v":"0"},{"$f":"IF(ISNUMBER(SEARCH(\"9\",#REF!)),\"1\",\"0\")","v":"0"},{"$f":"IF(ISNUMBER(SEARCH(\"9\",#REF!)),\"1\",\"0\")","v":"0"},{"$f":"IF(ISNUMBER(SEARCH(\"10\",#REF!)),\"1\",\"0\")","v":"0"},{"$f":"IF(ISNUMBER(SEARCH(\"11\",#REF!)),\"1\",\"0\")","v":"0"},{"$f":"IF(ISNUMBER(SEARCH(\"12\",#REF!)),\"1\",\"0\")","v":"0"},{"$f":"IF(ISNUMBER(SEARCH(\"13\",#REF!)),\"1\",\"0\")","v":"0"},{"$f":"IF(ISNUMBER(SEARCH(\"14\",#REF!)),\"1\",\"0\")","v":"0"},{"$f":"IF(ISNUMBER(SEARCH(\"15\",#REF!)),\"1\",\"0\")","v":"0"},{"$f":"IF(ISNUMBER(SEARCH(\"16\",#REF!)),\"1\",\"0\")","v":"0"},{"$f":"IF(ISNUMBER(SEARCH(\"17\",#REF!)),\"1\",\"0\")","v":"0"},{"$nulls":3},9,null,0,0,null,2]
[2,21,null,4,2,16,null,1,3,1,0,5,2,3,"0","0","1","0","0","0","0","0","0","0","0","0","0","0","0","0","0","0",null,1,3,4,1,{"$f":"IF(ISNUMBER(SEARCH(\"1\",#REF!)),\"1\",\"0\")","v":"0"},{"$f":"IF(ISNUMBER(SEARCH(\"2\",#REF!)),\"1\",\"0\")","v":"0"},{"$f":"IF(ISNUMBER(SEARCH(\"3\",#REF!)),\"1\",\"0\")","v":"0"},{"$f":"IF(ISNUMBER(SEARCH(\"4\",#REF!)),\"1\",\"0\")","v":"0"},{"$f":"IF(ISNUMBER(SEARCH(\"5\",#REF!)),\"1\",\"0\")","v":"0"},{"$f":"IF(ISNUMBER(SEARCH(\"6\",#REF!)),\"1\",\"0\")","v":"0"},{"$f":"IF(ISNUMBER(SEARCH(\"7\",#REF!)),\"1\",\"0\")","v":"0"},{"$f":"IF(ISNUMBER(SEARCH(\"8\",#REF!)),\"1\",\"0\")","v":"0"},{"$f":"IF(ISNUMBER(SEARCH(\"9\",#REF!)),\"1\",\"0\")","v":"0"},{"$f":"IF(ISNUMBER(SEARCH(\"9\",#REF!)),\"1\",\"0\")","v":"0"},{"$f":"IF(ISNUMBER(SEARCH(\"10\",#REF!)),\"1\",\"0\")","v":"0"},{"$f":"IF(ISNUMBER(SEARCH(\"11\",#REF!)),\"1\",\"0\")","v":"0"},{"$f":"IF(ISNUMBER(SEARCH(\"12\",#REF!)),\"1\",\"0\")","v":"0"},{"$f":"IF(ISNUMBER(SEARCH(\"13\",#REF!)),\"1\",\"0\")","v":"0"},{"$f":"IF(ISNUMBER(SEARCH(\"14\",#REF!)),\"1\",\"0\")","v":"0"},{"$f":"IF(ISNUMBER(SEARCH(\"15\",#REF!)),\"1\",\"0\")","v":"0"},{"$f":"IF(ISNUMBER(SEARCH(\"16\",#REF!)),\"1\",\"0\")","v":"0"},{"$f":"IF(ISNUMBER(SEARCH(\"17\",#REF!)),\"1\",\"0\")","v":"0"},1,null,null,9,null,0,0]
[2,21,null,5,2,47,null,3,3,1,4,4,2,"7. Prostitution forcée, 12. Pesonne de la famille disparue","1","1","0","0","0","0","1","0","0","0","0","1","0","0","0","0","0","0",null,1,2,3,1,{"$f":"IF(ISNUMBER(SEARCH(\"1\",#REF!)),\"1\",\"0\")","v":"0"},{"$f":"IF(ISNUMBER(SEARCH(\"2\",#REF!)),\"1\",\"0\")","v":"0"},{"$f":"IF(ISNUMBER(SEARCH(\"3\",#REF!)),\"1\",\"0\")","v":"0"},{"$f":"IF(ISNUMBER(SEARCH(\"4\",#REF!)),\"1\",\"0\")","v":"0"},{"$f":"IF(ISNUMBER(SEARCH(\"5\",#REF!)),\"1\",\"0\")","v":"0"},{"$f":"IF(ISNUMBER(SEARCH(\"6\",#REF!)),\"1\",\"0\")","v":"0"},{"$f":"IF(ISNUMBER(SEARCH(\"7\",#REF!)),\"1\",\"0\")","v":"0"},{"$f":"IF(ISNUMBER(SEARCH(\"8\",#REF!)),\"1\",\"0\")","v":"0"},{"$f":"IF(ISNUMBER(SEARCH(\"9\",#REF!)),\"1\",\"0\")","v":"0"},{"$f":"IF(ISNUMBER(SEARCH(\"9\",#REF!)),\"1\",\"0\")","v":"0"},{"$f":"IF(ISNUMBER(SEARCH(\"10\",#REF!)),\"1\",\"0\")","v":"0"},{"$f":"IF(ISNUMBER(SEARCH(\"11\",#REF!)),\"1\",\"0\")","v":"0"},{"$f":"IF(ISNUMBER(SEARCH(\"12\",#REF!)),\"1\",\"0\")","v":"0"},{"$f":"IF(ISNUMBER(SEARCH(\"13\",#REF!)),\"1\",\"0\")","v":"0"},{"$f":"IF(ISNUMBER(SEARCH(\"14\",#REF!)),\"1\",\"0\")","v":"0"},{"$f":"IF(ISNUMBER(SEARCH(\"15\",#REF!)),\"1\",\"0\")","v":"0"},{"$f":"IF(ISNUMBER(SEARCH(\"16\",#REF!)),\"1\",\"0\")","v":"0"},{"$f":"IF(ISNUMBER(SEARCH(\"17\",#REF!)),\"1\",\"0\")","v":"0"},{"$nulls":3},9,null,0,0]
[2,21,null,7,1,33,null,1,3,1,4,5,2,1,"1","0","0","0","0","0","0","0","0","0","0","0","0","0","0","0","0","0",null,2,1,3,1,{"$f":"IF(ISNUMBER(SEARCH(\"1\",#REF!)),\"1\",\"0\")","v":"0"},{"$f":"IF(ISNUMBER(SEARCH(\"2\",#REF!)),\"1\",\"0\")","v":"0"},{"$f":"IF(ISNUMBER(SEARCH(\"3\",#REF!)),\"1\",\"0\")","v":"0"},{"$f":"IF(ISNUMBER(SEARCH(\"4\",#REF!)),\"1\",\"0\")","v":"0"},{"$f":"IF(ISNUMBER(SEARCH(\"5\",#REF!)),\"1\",\"0\")","v":"0"},{"$f":"IF(ISNUMBER(SEARCH(\"6\",#REF!)),\"1\",\"0\")","v":"0"},{"$f":"IF(ISNUMBER(SEARCH(\"7\",#REF!)),\"1\",\"0\")","v":"0"},{"$f":"IF(ISNUMBER(SEARCH(\"8\",#REF!)),\"1\",\"0\")","v":"0"},{"$f":"IF(ISNUMBER(SEARCH(\"9\",#REF!)),\"1\",\"0\")","v":"0"},{"$f":"IF(ISNUMBER(SEARCH(\"9\",#REF!)),\"1\",\"0\")","v":"0"},{"$f":"IF(ISNUMBER(SEARCH(\"10\",#REF!)),\"1\",\"0\")","v":"0"},{"$f":"IF(ISNUMBER(SEARCH(\"11\",#REF!)),\"1\",\"0\")","v":"0"},{"$f":"IF(ISNUMBER(SEARCH(\"12\",#REF!)),\"1\",\"0\")","v":"0"},{"$f":"IF(ISNUMBER(SEARCH(\"13\",#REF!)),\"1\",\"0\")","v":"0"},{"$f":"IF(ISNUMBER(SEARCH(\"14\",#REF!)),\"1\",\"0\")","v":"0"},{"$f":"IF(ISNUMBER(SEARCH(\"15\",#REF!)),\"1\",\"0\")","v":"0"},{"$f":"IF(ISNUMBER(SEARCH(\"16\",#REF!)),\"1\",\"0\")","v":"0"},{"$f":"IF(ISNUMBER(SEARCH(\"17\",#REF!)),\"1\",\"0\")","v":"0"},{"$nulls":5},0,0]
[2,21,null,11,2,22,null,1,3,1,null,null,2,null,"0","0","0","0","0","0","0","0","0","0","0","0","0","0","0","0","0","0",null,null,1,3,1,{"$f":"IF(ISNUMBER(SEARCH(\"1\",#REF!)),\"1\",\"0\")","v":"0"},{"$f":"IF(ISNUMBER(SEARCH(\"2\",#REF!)),\"1\",\"0\")","v":"0"},{"$f":"IF(ISNUMBER(SEARCH(\"3\",#REF!)),\"1\",\"0\")","v":"0"},{"$f":"IF(ISNUMBER(SEARCH(\"4\",#REF!)),\"1\",\"0\")","v":"0"},{"$f":"IF(ISNUMBER(SEARCH(\"5\",#REF!)),\"1\",\"0\")","v":"0"},{"$f":"IF(ISNUMBER(SEARCH(\"6\",#REF!)),\"1\",\"0\")","v":"0"},{"$f":"IF(ISNUMBER(SEARCH(\"7\",#REF!)),\"1\",\"0\")","v":"0"},{"$f":"IF(ISNUMBER(SEARCH(\"8\",#REF!)),\"1\",\"0\")","v":"0"},{"$f":"IF(ISNUMBER(SEARCH(\"9\",#REF!)),\"1\",\"0\")","v":"0"},{"$f":"IF(ISNUMBER(SEARCH(\"9\",#REF!)),\"1\",\"0\")","v":"0"},{"$f":"IF(ISNUMBER(SEARCH(\"10\",#REF!)),\"1\",\"0\")","v":"0"},{"$f":"IF(ISNUMBER(SEARCH(\"11\",#REF!)),\"1\",\"0\")","v":"0"},{"$f":"IF(ISNUMBER(SEARCH(\"12\",#REF!)),\"1\",\"0\")","v":"0"},{"$f":"IF(ISNUMBER(SEARCH(\"13\",#REF!)),\"1\",\"0\")","v":"0"},{"$f":"IF(ISNUMBER(SEARCH(\"14\",#REF!)),\"1\",\"0\")","v":"0"},{"$f":"IF(ISNUMBER(SEARCH(\"15\",#REF!)),\"1\",\"0\")","v":"0"},{"$f":"IF(ISNUMBER(SEARCH(\"16\",#REF!)),\"1\",\"0\")","v":"0"},{"$f":"IF(ISNUMBER(SEARCH(\"17\",#REF!)),\"1\",\"0\")","v":"0"},{"$nulls":3},9,null,0,0]
[2,21,null,12,2,14,null,3,2,1,null,5,7,3,"0","0","1","0","0","0","0","0","0","0","0","0","0","0","0","0","0","0",null,1,1,3,1,{"$f":"IF(ISNUMBER(SEARCH(\"1\",#REF!)),\"1\",\"0\")","v":"0"},{"$f":"IF(ISNUMBER(SEARCH(\"2\",#REF!)),\"1\",\"0\")","v":"0"},{"$f":"IF(ISNUMBER(SEARCH(\"3\",#REF!)),\"1\",\"0\")","v":"0"},{"$f":"IF(ISNUMBER(SEARCH(\"4\",#REF!)),\"1\",\"0\")","v":"0"},{"$f":"IF(ISNUMBER(SEARCH(\"5\",#REF!)),\"1\",\"0\")","v":"0"},{"$f":"IF(ISNUMBER(SEARCH(\"6\",#REF!)),\"1\",\"0\")","v":"0"},{"$f":"IF(ISNUMBER(SEARCH(\"7\",#REF!)),\"1\",\"0\")","v":"0"},{"$f":"IF(ISNUMBER(SEARCH(\"8\",#REF!)),\"1\",\"0\")","v":"0"},{"$f":"IF(ISNUMBER(SEARCH(\"9\",#REF!)),\"1\",\"0\")","v":"0"},{"$f":"IF(ISNUMBER(SEARCH(\"9\",#REF!)),\"1\",\"0\")","v":"0"},{"$f":"IF(ISNUMBER(SEARCH(\"10\",#REF!)),\"1\",\"0\")","v":"0"},{"$f":"IF(ISNUMBER(SEARCH(\"11\",#REF!)),\"1\",\"0\")","v":"0"},{"$f":"IF(ISNUMBER(SEARCH(\"12\",#REF!)),\"1\",\"0\")","v":"0"},{"$f":"IF(ISNUMBER(SEARCH(\"13\",#REF!)),\"1\",\"0\")","v":"0"},{"$f":"IF(ISNUMBER(SEARCH(\"14\",#REF!)),\"1\",\"0\")","v":"0"},{"$f":"IF(ISNUMBER(SEARCH(\"15\",#REF!)),\"1\",\"0\")","v":"0"},{"$f":"IF(ISNUMBER(SEARCH(\"16\",#REF!)),\"1\",\"0\")","v":"0"},{"$f":"IF(ISNUMBER(SEARCH(\"17\",#REF!)),\"1\",\"0\")","v":"0"},1,null,null,9,null,0,0]
[2,21,null,15,1,24,null,2,7,1,null,5,null,1,"1","0","0","0","0","0","0","0","0","0","0","0","0","0","0","0","0","0",null,2,3,5,2,{"$f":"IF(ISNUMBER(SEARCH(\"1\",#REF!)),\"1\",\"0\")","v":"0"},{"$f":"IF(ISNUMBER(SEARCH(\"2\",#REF!)),\"1\",\"0\")","v":"0"},{"$f":"IF(ISNUMBER(SEARCH(\"3\",#REF!)),\"1\",\"0\")","v":"0"},{"$f":"IF(ISNUMBER(SEARCH(\"4\",#REF!)),\"1\",\"0\")","v":"0"},{"$f":"IF(ISNUMBER(SEARCH(\"5\",#REF!)),\"1\",\"0\")","v":"0"},{"$f":"IF(ISNUMBER(SEARCH(\"6\",#REF!)),\"1\",\"0\")","v":"0"},{"$f":"IF(ISNUMBER(SEARCH(\"7\",#REF!)),\"1\",\"0\")","v":"0"},{"$f":"IF(ISNUMBER(SEARCH(\"8\",#REF!)),\"1\",\"0\")","v":"0"},{"$f":"IF(ISNUMBER(SEARCH(\"9\",#REF!)),\"1\",\"0\")","v":"0"},{"$f":"IF(ISNUMBER(SEARCH(\"9\",#REF!)),\"1\",\"0\")","v":"0"},{"$f":"IF(ISNUMBER(SEARCH(\"10\",#REF!)),\"1\",\"0\")","v":"0"},{"$f":"IF(ISNUMBER(SEARCH(\"11\",#REF!)),\"1\",\"0\")","v":"0"},{"$f":"IF(ISNUMBER(SEARCH(\"12\",#REF!)),\"1\",\"0\")","v":"0"},{"$f":"IF(ISNUMBER(SEARCH(\"13\",#REF!)),\"1\",\"0\")","v":"0"},{"$f":"IF(ISNUMBER(SEARCH(\"14\",#REF!)),\"1\",\"0\")","v":"0"},{"$f":"IF(ISNUMBER(SEARCH(\"15\",#REF!)),\"1\",\"0\")","v":"0"},{"$f":"IF(ISNUMBER(SEARCH(\"16\",#REF!)),\"1\",\"0\")","v":"0"},{"$f":"IF(ISNUMBER(SEARCH(\"17\",#REF!)),\"1\",\"0\")","v":"0"},{"$nulls":3},9,null,0,0]
[2,21,null,16,2,20,null,3,2,1,0,3,1,3,"0","0","1","0","0","0","0","0","0","0","0","0","0","0","0","0","0","0",null,1,3,5,1,{"$f":"IF(ISNUMBER(SEARCH(\"1\",#REF!)),\"1\",\"0\")","v":"0"},{"$f":"IF(ISNUMBER(SEARCH(\"2\",#REF!)),\"1\",\"0\")","v":"0"},{"$f":"IF(ISNUMBER(SEARCH(\"3\",#REF!)),\"1\",\"0\")","v":"0"},{"$f":"IF(ISNUMBER(SEARCH(\"4\",#REF!)),\"1\",\"0\")","v":"0"},{"$f":"IF(ISNUMBER(SEARCH(\"5\",#REF!)),\"1\",\"0\")","v":"0"},{"$f":"IF(ISNUMBER(SEARCH(\"6\",#REF!)),\"1\",\"0\")","v":"0"},{"$f":"IF(ISNUMBER(SEARCH(\"7\",#REF!)),\"1\",\"0\")","v":"0"},{"$f":"IF(ISNUMBER(SEARCH(\"8\",#REF!)),\"1\",\"0\")","v":"0"},{"$f":"IF(ISNUMBER(SEARCH(\"9\",#REF!)),\"1\",\"0\")","v":"0"},{"$f":"IF(ISNUMBER(SEARCH(\"9\",#REF!)),\"1\",\"0\")","v":"0"},{"$f":"IF(ISNUMBER(SEARCH(\"10\",#REF!)),\"1\",\"0\")","v":"0"},{"$f":"IF(ISNUMBER(SEARCH(\"11\",#REF!)),\"1\",\"0\")","v":"0"},{"$f":"IF(ISNUMBER(SEARCH(\"12\",#REF!)),\"1\",\"0\")","v":"0"},{"$f":"IF(ISNUMBER(SEARCH(\"13\",#REF!)),\"1\",\"0\")","v":"0"},{"$f":"IF(ISNUMBER(SEARCH(\"14\",#REF!)),\"1\",\"0\")","v":"0"},{"$f":"IF(ISNUMBER(SEARCH(\"15\",#REF!)),\"1\",\"0\")","v":"0"},{"$f":"IF(ISNUMBER(SEARCH(\"16\",#REF!)),\"1\",\"0\")","v":"0"},{"$f":"IF(ISNUMBER(SEARCH(\"17\",#REF!)),\"1\",\"0\")","v":"0"},2,null,null,3,null,0,0]
[2,21,null,17,2,25,null,2,3,1,8,3,5,2,"0","1","0","0","0","0","0","0","0","0","0","0","0","0","0","0","0","0",null,1,3,3,1,{"$f":"IF(ISNUMBER(SEARCH(\"1\",#REF!)),\"1\",\"0\")","v":"0"},{"$f":"IF(ISNUMBER(SEARCH(\"2\",#REF!)),\"1\",\"0\")","v":"0"},{"$f":"IF(ISNUMBER(SEARCH(\"3\",#REF!)),\"1\",\"0\")","v":"0"},{"$f":"IF(ISNUMBER(SEARCH(\"4\",#REF!)),\"1\",\"0\")","v":"0"},{"$f":"IF(ISNUMBER(SEARCH(\"5\",#REF!)),\"1\",\"0\")","v":"0"},{"$f":"IF(ISNUMBER(SEARCH(\"6\",#REF!)),\"1\",\"0\")","v":"0"},{"$f":"IF(ISNUMBER(SEARCH(\"7\",#REF!)),\"1\",\"0\")","v":"0"},{"$f":"IF(ISNUMBER(SEARCH(\"8\",#REF!)),\"1\",\"0\")","v":"0"},{"$f":"IF(ISNUMBER(SEARCH(\"9\",#REF!)),\"1\",\"0\")","v":"0"},{"$f":"IF(ISNUMBER(SEARCH(\"9\",#REF!)),\"1\",\"0\")","v":"0"},{"$f":"IF(ISNUMBER(SEARCH(\"10\",#REF!)),\"1\",\"0\")","v":"0"},{"$f":"IF(ISNUMBER(SEARCH(\"11\",#REF!)),\"1\",\"0\")","v":"0"},{"$f":"IF(ISNUMBER(SEARCH(\"12\",#REF!)),\"1\",\"0\")","v":"0"},{"$f":"IF(ISNUMBER(SEARCH(\"13\",#REF!)),\"1\",\"0\")","v":"0"},{"$f":"IF(ISNUMBER(SEARCH(\"14\",#REF!)),\"1\",\"0\")","v":"0"},{"$f":"IF(ISNUMBER(SEARCH(\"15\",#REF!)),\"1\",\"0\")","v":"0"},{"$f":"IF(ISNUMBER(SEARCH(\"16\",#REF!)),\"1\",\"0\")","v":"0"},{"$f":"IF(ISNUMBER(SEARCH(\"17\",#REF!)),\"1\",\"0\")","v":"0"},{"$nulls":3},9,null,0,0]
[2,21,null,18,2,19,null,3,7,1,2,1,6,"2, 15. Insultes / a reçu des menaces","1","1","0","0","1","0","0","0","0","0","0","0","0","0","1","0","0","0",null,1,1,5,2,{"$f":"IF(ISNUMBER(SEARCH(\"1\",#REF!)),\"1\",\"0\")","v":"0"},{"$f":"IF(ISNUMBER(SEARCH(\"2\",#REF!)),\"1\",\"0\")","v":"0"},{"$f":"IF(ISNUMBER(SEARCH(\"3\",#REF!)),\"1\",\"0\")","v":"0"},{"$f":"IF(ISNUMBER(SEARCH(\"4\",#REF!)),\"1\",\"0\")","v":"0"},{"$f":"IF(ISNUMBER(SEARCH(\"5\",#REF!)),\"1\",\"0\")","v":"0"},{"$f":"IF(ISNUMBER(SEARCH(\"6\",#REF!)),\"1\",\"0\")","v":"0"},{"$f":"IF(ISNUMBER(SEARCH(\"7\",#REF!)),\"1\",\"0\")","v":"0"},{"$f":"IF(ISNUMBER(SEARCH(\"8\",#REF!)),\"1\",\"0\")","v":"0"},{"$f":"IF(ISNUMBER(SEARCH(\"9\",#REF!)),\"1\",\"0\")","v":"0"},{"$f":"IF(ISNUMBER(SEARCH(\"9\",#REF!)),\"1\",\"0\")","v":"0"},{"$f":"IF(ISNUMBER(SEARCH(\"10\",#REF!)),\"1\",\"0\")","v":"0"},{"$f":"IF(ISNUMBER(SEARCH(\"11\",#REF!)),\"1\",\"0\")","v":"0"},{"$f":"IF(ISNUMBER(SEARCH(\"12\",#REF!)),\"1\",\"0\")","v":"0"},{"$f":"IF(ISNUMBER(SEARCH(\"13\",#REF!)),\"1\",\"0\")","v":"0"},{"$f":"IF(ISNUMBER(SEARCH(\"14\",#REF!)),\"1\",\"0\")","v":"0"},{"$f":"IF(ISNUMBER(SEARCH(\"15\",#REF!)),\"1\",\"0\")","v":"0"},{"$f":"IF(ISNUMBER(SEARCH(\"16\",#REF!)),\"1\",\"0\")","v":"0"},{"$f":"IF(ISNUMBER(SEARCH(\"17\",#REF!)),\"1\",\"0\")","v":"0"},{"$nulls":3},9,null,0,0]
[2,21,null,1,2,36,null,2,7,2,5,5,1,1,"1","0","0","0","0","0","0","0","0","0","0","0","0","0","0","0","0","0",null,2,5,5,2,{"$f":"IF(ISNUMBER(SEARCH(\"1\",#REF!)),\"1\",\"0\")","v":"0"},{"$f":"IF(ISNUMBER(SEARCH(\"2\",#REF!)),\"1\",\"0\")","v":"0"},{"$f":"IF(ISNUMBER(SEARCH(\"3\",#REF!)),\"1\",\"0\")","v":"0"},{"$f":"IF(ISNUMBER(SEARCH(\"4\",#REF!)),\"1\",\"0\")","v":"0"},{"$f":"IF(ISNUMBER(SEARCH(\"5\",#REF!)),\"1\",\"0\")","v":"0"},{"$f":"IF(ISNUMBER(SEARCH(\"6\",#REF!)),\"1\",\"0\")","v":"0"},{"$f":"IF(ISNUMBER(SEARCH(\"7\",#REF!)),\"1\",\"0\")","v":"0"},{"$f":"IF(ISNUMBER(SEARCH(\"8\",#REF!)),\"1\",\"0\")","v":"0"},{"$f":"IF(ISNUMBER(SEARCH(\"9\",#REF!)),\"1\",\"0\")","v":"0"},{"$f":"IF(ISNUMBER(SEARCH(\"9\",#REF!)),\"1\",\"0\")","v":"0"},{"$f":"IF(ISNUMBER(SEARCH(\"10\",#REF!)),\"1\",\"0\")","v":"0"},{"$f":"IF(ISNUMBER(SEARCH(\"11\",#REF!)),\"1\",\"0\")","v":"0"},{"$f":"IF(ISNUMBER(SEARCH(\"12\",#REF!)),\"1\",\"0\")","v":"0"},{"$f":"IF(ISNUMBER(SEARCH(\"13\",#REF!)),\"1\",\"0\")","v":"0"},{"$f":"IF(ISNUMBER(SEARCH(\"14\",#REF!)),\"1\",\"0\")","v":"0"},{"$f":"IF(ISNUMBER(SEARCH(\"15\",#REF!)),\"1\",\"0\")","v":"0"},{"$f":"IF(ISNUMBER(SEARCH(\"16\",#REF!)),\"1\",\"0\")","v":"0"},{"$f":"IF(ISNUMBER(SEARCH(\"17\",#REF!)),\"1\",\"0\")","v":"0"}]
[2,21,null,17,2,29,null,3,2,1,0,11,1,3,"0","0","1","0","0","0","0","0","0","0","0","0","0","0","0","0","0","0",null,1,1,5,2,{"$f":"IF(ISNUMBER(SEARCH(\"1\",#REF!)),\"1\",\"0\")","v":"0"},{"$f":"IF(ISNUMBER(SEARCH(\"2\",#REF!)),\"1\",\"0\")","v":"0"},{"$f":"IF(ISNUMBER(SEARCH(\"3\",#REF!)),\"1\",\"0\")","v":"0"},{"$f":"IF(ISNUMBER(SEARCH(\"4\",#REF!)),\"1\",\"0\")","v":"0"},{"$f":"IF(ISNUMBER(SEARCH(\"5\",#REF!)),\"1\",\"0\")","v":"0"},{"$f":"IF(ISNUMBER(SEARCH(\"6\",#REF!)),\"1\",\"0\")","v":"0"},{"$f":"IF(ISNUMBER(SEARCH(\"7\",#REF!)),\"1\",\"0\")","v":"0"},{"$f":"IF(ISNUMBER(SEARCH(\"8\",#REF!)),\"1\",\"0\")","v":"0"},{"$f":"IF(ISNUMBER(SEARCH(\"9\",#REF!)),\"1\",\"0\")","v":"0"},{"$f":"IF(ISNUMBER(SEARCH(\"9\",#REF!)),\"1\",\"0\")","v":"0"},{"$f":"IF(ISNUMBER(SEARCH(\"10\",#REF!)),\"1\",\"0\")","v":"0"},{"$f":"IF(ISNUMBER(SEARCH(\"11\",#REF!)),\"1\",\"0\")","v":"0"},{"$f":"IF(ISNUMBER(SEARCH(\"12\",#REF!)),\"1\",\"0\")","v":"0"},{"$f":"IF(ISNUMBER(SEARCH(\"13\",#REF!)),\"1\",\"0\")","v":"0"},{"$f":"IF(ISNUMBER(SEARCH(\"14\",#REF!)),\"1\",\"0\")","v":"0"},{"$f":"IF(ISNUMBER(SEARCH(\"15\",#REF!)),\"1\",\"0\")","v":"0"},{"$f":"IF(ISNUMBER(SEARCH(\"16\",#REF!)),\"1\",\"0\")","v":"0"},{"$f":"IF(ISNUMBER(SEARCH(\"17\",#REF!)),\"1\",\"0\")","v":"0"},1,null,null,3]
[2,21,null,22,2,23,null,1,3,1,6,1,6,"1, 11. Membre de famille / personne proche assassinée","1","0","0","0","0","0","0","0","0","0","1","0","0","0","0","0","0","0",null,1,1,1,1,{"$f":"IF(ISNUMBER(SEARCH(\"1\",#REF!)),\"1\",\"0\")","v":"0"},{"$f":"IF(ISNUMBER(SEARCH(\"2\",#REF!)),\"1\",\"0\")","v":"0"},{"$f":"IF(ISNUMBER(SEARCH(\"3\",#REF!)),\"1\",\"0\")","v":"0"},{"$f":"IF(ISNUMBER(SEARCH(\"4\",#REF!)),\"1\",\"0\")","v":"0"},{"$f":"IF(ISNUMBER(SEARCH(\"5\",#REF!)),\"1\",\"0\")","v":"0"},{"$f":"IF(ISNUMBER(SEARCH(\"6\",#REF!)),\"1\",\"0\")","v":"0"},{"$f":"IF(ISNUMBER(SEARCH(\"7\",#REF!)),\"1\",\"0\")","v":"0"},{"$f":"IF(ISNUMBER(SEARCH(\"8\",#REF!)),\"1\",\"0\")","v":"0"},{"$f":"IF(ISNUMBER(SEARCH(\"9\",#REF!)),\"1\",\"0\")","v":"0"},{"$f":"IF(ISNUMBER(SEARCH(\"9\",#REF!)),\"1\",\"0\")","v":"0"},{"$f":"IF(ISNUMBER(SEARCH(\"10\",#REF!)),\"1\",\"0\")","v":"0"},{"$f":"IF(ISNUMBER(SEARCH(\"11\",#REF!)),\"1\",\"0\")","v":"0"},{"$f":"IF(ISNUMBER(SEARCH(\"12\",#REF!)),\"1\",\"0\")","v":"0"},{"$f":"IF(ISNUMBER(SEARCH(\"13\",#REF!)),\"1\",\"0\")","v":"0"},{"$f":"IF(ISNUMBER(SEARCH(\"14\",#REF!)),\"1\",\"0\")","v":"0"},{"$f":"IF(ISNUMBER(SEARCH(\"15\",#REF!)),\"1\",\"0\")","v":"0"},{"$f":"IF(ISNUMBER(SEARCH(\"16\",#REF!)),\"1\",\"0\")","v":"0"},{"$f":"IF(ISNUMBER(SEARCH(\"17\",#REF!)),\"1\",\"0\")","v":"0"},{"$nulls":4},16,20,18,{"$nulls":3},2,2,2,6]
[2,21,null,6,2,53,null,1,3,1,9,1,2,3,"0","0","1","0","0","0","0","0","0","0","0","0","0","0","0","0","0","0",null,1,3,5,2,{"$f":"IF(ISNUMBER(SEARCH(\"1\",#REF!)),\"1\",\"0\")","v":"0"},{"$f":"IF(ISNUMBER(SEARCH(\"2\",#REF!)),\"1\",\"0\")","v":"0"},{"$f":"IF(ISNUMBER(SEARCH(\"3\",#REF!)),\"1\",\"0\")","v":"0"},{"$f":"IF(ISNUMBER(SEARCH(\"4\",#REF!)),\"1\",\"0\")","v":"0"},{"$f":"IF(ISNUMBER(SEARCH(\"5\",#REF!)),\"1\",\"0\")","v":"0"},{"$f":"IF(ISNUMBER(SEARCH(\"6\",#REF!)),\"1\",\"0\")","v":"0"},{"$f":"IF(ISNUMBER(SEARCH(\"7\",#REF!)),\"1\",\"0\")","v":"0"},{"$f":"IF(ISNUMBER(SEARCH(\"8\",#REF!)),\"1\",\"0\")","v":"0"},{"$f":"IF(ISNUMBER(SEARCH(\"9\",#REF!)),\"1\",\"0\")","v":"0"},{"$f":"IF(ISNUMBER(SEARCH(\"9\",#REF!)),\"1\",\"0\")","v":"0"},{"$f":"IF(ISNUMBER(SEARCH(\"10\",#REF!)),\"1\",\"0\")","v":"0"},{"$f":"IF(ISNUMBER(SEARCH(\"11\",#REF!)),\"1\",\"0\")","v":"0"},{"$f":"IF(ISNUMBER(SEARCH(\"12\",#REF!)),\"1\",\"0\")","v":"0"},{"$f":"IF(ISNUMBER(SEARCH(\"13\",#REF!)),\"1\",\"0\")","v":"0"},{"$f":"IF(ISNUMBER(SEARCH(\"14\",#REF!)),\"1\",\"0\")","v":"0"},{"$f":"IF(ISNUMBER(SEARCH(\"15\",#REF!)),\"1\",\"0\")","v":"0"},{"$f":"IF(ISNUMBER(SEARCH(\"16\",#REF!)),\"1\",\"0\")","v":"0"},{"$f":"IF(ISNUMBER(SEARCH(\"17\",#REF!)),\"1\",\"0\")","v":"0"},1,null,null,9]
[2,21,null,5,1,43,null,3,2,1,0,4,1,"4. Tentative de Viol, 15. Insultes / a reçu des menaces","1","0","0","1","1","0","0","0","0","0","0","0","0","0","1","0","0","0",null,1,2,3,1,{"$f":"IF(ISNUMBER(SEARCH(\"1\",#REF!)),\"1\",\"0\")","v":"0"},{"$f":"IF(ISNUMBER(SEARCH(\"2\",#REF!)),\"1\",\"0\")","v":"0"},{"$f":"IF(ISNUMBER(SEARCH(\"3\",#REF!)),\"1\",\"0\")","v":"0"},{"$f":"IF(ISNUMBER(SEARCH(\"4\",#REF!)),\"1\",\"0\")","v":"0"},{"$f":"IF(ISNUMBER(SEARCH(\"5\",#REF!)),\"1\",\"0\")","v":"0"},{"$f":"IF(ISNUMBER(SEARCH(\"6\",#REF!)),\"1\",\"0\")","v":"0"},{"$f":"IF(ISNUMBER(SEARCH(\"7\",#REF!)),\"1\",\"0\")","v":"0"},{"$f":"IF(ISNUMBER(SEARCH(\"8\",#REF!)),\"1\",\"0\")","v":"0"},{"$f":"IF(ISNUMBER(SEARCH(\"9\",#REF!)),\"1\",\"0\")","v":"0"},{"$f":"IF(ISNUMBER(SEARCH(\"9\",#REF!)),\"1\",\"0\")","v":"0"},{"$f":"IF(ISNUMBER(SEARCH(\"10\",#REF!)),\"1\",\"0\")","v":"0"},{"$f":"IF(ISNUMBER(SEARCH(\"11\",#REF!)),\"1\",\"0\")","v":"0"},{"$f":"IF(ISNUMBER(SEARCH(\"12\",#REF!)),\"1\",\"0\")","v":"0"},{"$f":"IF(ISNUMBER(SEARCH(\"13\",#REF!)),\"1\",\"0\")","v":"0"},{"$f":"IF(ISNUMBER(SEARCH(\"14\",#REF!)),\"1\",\"0\")","v":"0"},{"$f":"IF(ISNUMBER(SEARCH(\"15\",#REF!)),\"1\",\"0\")","v":"0"},{"$f":"IF(ISNUMBER(SEARCH(\"16\",#REF!)),\"1\",\"0\")","v":"0"},{"$f":"IF(ISNUMBER(SEARCH(\"17\",#REF!)),\"1\",\"0\")","v":"0"},{"$nulls":3},9]
[2,21,null,15,2,25,null,2,2,1,0,5,1,3,"0","0","1","0","0","0","0","0","0","0","0","0","0","0","0","0","0","0",null,1,2,5,1,{"$f":"IF(ISNUMBER(SEARCH(\"1\",#REF!)),\"1\",\"0\")","v":"0"},{"$f":"IF(ISNUMBER(SEARCH(\"2\",#REF!)),\"1\",\"0\")","v":"0"},{"$f":"IF(ISNUMBER(SEARCH(\"3\",#REF!)),\"1\",\"0\")","v":"0"},{"$f":"IF(ISNUMBER(SEARCH(\"4\",#REF!)),\"1\",\"0\")","v":"0"},{"$f":"IF(ISNUMBER(SEARCH(\"5\",#REF!)),\"1\",\"0\")","v":"0"},{"$f":"IF(ISNUMBER(SEARCH(\"6\",#REF!)),\"1\",\"0\")","v":"0"},{"$f":"IF(ISNUMBER(SEARCH(\"7\",#REF!)),\"1\",\"0\")","v":"0"},{"$f":"IF(ISNUMBER(SEARCH(\"8\",#REF!)),\"1\",\"0\")","v":"0"},{"$f":"IF(ISNUMBER(SEARCH(\"9\",#REF!)),\"1\",\"0\")","v":"0"},{"$f":"IF(ISNUMBER(SEARCH(\"9\",#REF!)),\"1\",\"0\")","v":"0"},{"$f":"IF(ISNUMBER(SEARCH(\"10\",#REF!)),\"1\",\"0\")","v":"0"},{"$f":"IF(ISNUMBER(SEARCH(\"11\",#REF!)),\"1\",\"0\")","v":"0"},{"$f":"IF(ISNUMBER(SEARCH(\"12\",#REF!)),\"1\",\"0\")","v":"0"},{"$f":"IF(ISNUMBER(SEARCH(\"13\",#REF!)),\"1\",\"0\")","v":"0"},{"$f":"IF(ISNUMBER(SEARCH(\"14\",#REF!)),\"1\",\"0\")","v":"0"},{"$f":"IF(ISNUMBER(SEARCH(\"15\",#REF!)),\"1\",\"0\")","v":"0"},{"$f":"IF(ISNUMBER(SEARCH(\"16\",#REF!)),\"1\",\"0\")","v":"0"},{"$f":"IF(ISNUMBER(SEARCH(\"17\",#REF!)),\"1\",\"0\")","v":"0"},1,null,null,3]
[2,21,null,13,2,33,null,3,3,1,4,5,5,1,"1","0","0","0","0","0","0","0","0","0","0","0","0","0","0","0","0","0",null,1,1,3,1,{"$f":"IF(ISNUMBER(SEARCH(\"1\",#REF!)),\"1\",\"0\")","v":"0"},{"$f":"IF(ISNUMBER(SEARCH(\"2\",#REF!)),\"1\",\"0\")","v":"0"},{"$f":"IF(ISNUMBER(SEARCH(\"3\",#REF!)),\"1\",\"0\")","v":"0"},{"$f":"IF(ISNUMBER(SEARCH(\"4\",#REF!)),\"1\",\"0\")","v":"0"},{"$f":"IF(ISNUMBER(SEARCH(\"5\",#REF!)),\"1\",\"0\")","v":"0"},{"$f":"IF(ISNUMBER(SEARCH(\"6\",#REF!)),\"1\",\"0\")","v":"0"},{"$f":"IF(ISNUMBER(SEARCH(\"7\",#REF!)),\"1\",\"0\")","v":"0"},{"$f":"IF(ISNUMBER(SEARCH(\"8\",#REF!)),\"1\",\"0\")","v":"0"},{"$f":"IF(ISNUMBER(SEARCH(\"9\",#REF!)),\"1\",\"0\")","v":"0"},{"$f":"IF(ISNUMBER(SEARCH(\"9\",#REF!)),\"1\",\"0\")","v":"0"},{"$f":"IF(ISNUMBER(SEARCH(\"10\",#REF!)),\"1\",\"0\")","v":"0"},{"$f":"IF(ISNUMBER(SEARCH(\"11\",#REF!)),\"1\",\"0\")","v":"0"},{"$f":"IF(ISNUMBER(SEARCH(\"12\",#REF!)),\"1\",\"0\")","v":"0"},{"$f":"IF(ISNUMBER(SEARCH(\"13\",#REF!)),\"1\",\"0\")","v":"0"},{"$f":"IF(ISNUMBER(SEARCH(\"14\",#REF!)),\"1\",\"0\")","v":"0"},{"$f":"IF(ISNUMBER(SEARCH(\"15\",#REF!)),\"1\",\"0\")","v":"0"},{"$f":"IF(ISNUMBER(SEARCH(\"16\",#REF!)),\"1\",\"0\")","v":"0"},{"$f":"IF(ISNUMBER(SEARCH(\"17\",#REF!)),\"1\",\"0\")","v":"0"},{"$nulls":3},9]
[2,21,null,9,1,40,null,null,3,2,null,1,2,14,"1","0","0","1","0","0","0","0","0","0","0","0","0","1","0","0","0","0",null,2,1,3,1,{"$f":"IF(ISNUMBER(SEARCH(\"1\",#REF!)),\"1\",\"0\")","v":"0"},{"$f":"IF(ISNUMBER(SEARCH(\"2\",#REF!)),\"1\",\"0\")","v":"0"},{"$f":"IF(ISNUMBER(SEARCH(\"3\",#REF!)),\"1\",\"0\")","v":"0"},{"$f":"IF(ISNUMBER(SEARCH(\"4\",#REF!)),\"1\",\"0\")","v":"0"},{"$f":"IF(ISNUMBER(SEARCH(\"5\",#REF!)),\"1\",\"0\")","v":"0"},{"$f":"IF(ISNUMBER(SEARCH(\"6\",#REF!)),\"1\",\"0\")","v":"0"},{"$f":"IF(ISNUMBER(SEARCH(\"7\",#REF!)),\"1\",\"0\")","v":"0"},{"$f":"IF(ISNUMBER(SEARCH(\"8\",#REF!)),\"1\",\"0\")","v":"0"},{"$f":"IF(ISNUMBER(SEARCH(\"9\",#REF!)),\"1\",\"0\")","v":"0"},{"$f":"IF(ISNUMBER(SEARCH(\"9\",#REF!)),\"1\",\"0\")","v":"0"},{"$f":"IF(ISNUMBER(SEARCH(\"10\",#REF!)),\"1\",\"0\")","v":"0"},{"$f":"IF(ISNUMBER(SEARCH(\"11\",#REF!)),\"1\",\"0\")","v":"0"},{"$f":"IF(ISNUMBER(SEARCH(\"12\",#REF!)),\"1\",\"0\")","v":"0"},{"$f":"IF(ISNUMBER(SEARCH(\"13\",#REF!)),\"1\",\"0\")","v":"0"},{"$f":"IF(ISNUMBER(SEARCH(\"14\",#REF!)),\"1\",\"0\")","v":"0"},{"$f":"IF(ISNUMBER(SEARCH(\"15\",#REF!)),\"1\",\"0\")","v":"0"},{"$f":"IF(ISNUMBER(SEARCH(\"16\",#REF!)),\"1\",\"0\")","v":"0"},{"$f":"IF(ISNUMBER(SEARCH(\"17\",#REF!)),\"1\",\"0\")","v":"0"},{"$nulls":3},8]
[2,21,null,7,1,47,null,2,8,1,4,5,2,3,"0","0","1","0","0","0","0","0","0","0","0","0","0","0","0","0","0","0",null,1,3,5,1,{"$f":"IF(ISNUMBER(SEARCH(\"1\",#REF!)),\"1\",\"0\")","v":"0"},{"$f":"IF(ISNUMBER(SEARCH(\"2\",#REF!)),\"1\",\"0\")","v":"0"},{"$f":"IF(ISNUMBER(SEARCH(\"3\",#REF!)),\"1\",\"0\")","v":"0"},{"$f":"IF(ISNUMBER(SEARCH(\"4\",#REF!)),\"1\",\"0\")","v":"0"},{"$f":"IF(ISNUMBER(SEARCH(\"5\",#REF!)),\"1\",\"0\")","v":"0"},{"$f":"IF(ISNUMBER(SEARCH(\"6\",#REF!)),\"1\",\"0\")","v":"0"},{"$f":"IF(ISNUMBER(SEARCH(\"7\",#REF!)),\"1\",\"0\")","v":"0"},{"$f":"IF(ISNUMBER(SEARCH(\"8\",#REF!)),\"1\",\"0\")","v":"0"},{"$f":"IF(ISNUMBER(SEARCH(\"9\",#REF!)),\"1\",\"0\")","v":"0"},{"$f":"IF(ISNUMBER(SEARCH(\"9\",#REF!)),\"1\",\"0\")","v":"0"},{"$f":"IF(ISNUMBER(SEARCH(\"10\",#REF!)),\"1\",\"0\")","v":"0"},{"$f":"IF(ISNUMBER(SEARCH(\"11\",#REF!)),\"1\",\"0\")","v":"0"},{"$f":"IF(ISNUMBER(SEARCH(\"12\",#REF!)),\"1\",\"0\")","v":"0"},{"$f":"IF(ISNUMBER(SEARCH(\"13\",#REF!)),\"1\",\"0\")","v":"0"},{"$f":"IF(ISNUMBER(SEARCH(\"14\",#REF!)),\"1\",\"0\")","v":"0"},{"$f":"IF(ISNUMBER(SEARCH(\"15\",#REF!)),\"1\",\"0\")","v":"0"},{"$f":"IF(ISNUMBER(SEARCH(\"16\",#REF!)),\"1\",\"0\")","v":"0"},{"$f":"IF(ISNUMBER(SEARCH(\"17\",#REF!)),\"1\",\"0\")","v":"0"},1]
[2,21,null,12,2,25,null,3,3,1,1,5,1,"1, 4. Tentative de Viol","1","0","0","1","0","0","0","0","0","0","0","0","0","0","0","0","0","0",null,1,1,5,2,{"$f":"IF(ISNUMBER(SEARCH(\"1\",#REF!)),\"1\",\"0\")","v":"0"},{"$f":"IF(ISNUMBER(SEARCH(\"2\",#REF!)),\"1\",\"0\")","v":"0"},{"$f":"IF(ISNUMBER(SEARCH(\"3\",#REF!)),\"1\",\"0\")","v":"0"},{"$f":"IF(ISNUMBER(SEARCH(\"4\",#REF!)),\"1\",\"0\")","v":"0"},{"$f":"IF(ISNUMBER(SEARCH(\"5\",#REF!)),\"1\",\"0\")","v":"0"},{"$f":"IF(ISNUMBER(SEARCH(\"6\",#REF!)),\"1\",\"0\")","v":"0"},{"$f":"IF(ISNUMBER(SEARCH(\"7\",#REF!)),\"1\",\"0\")","v":"0"},{"$f":"IF(ISNUMBER(SEARCH(\"8\",#REF!)),\"1\",\"0\")","v":"0"},{"$f":"IF(ISNUMBER(SEARCH(\"9\",#REF!)),\"1\",\"0\")","v":"0"},{"$f":"IF(ISNUMBER(SEARCH(\"9\",#REF!)),\"1\",\"0\")","v":"0"},{"$f":"IF(ISNUMBER(SEARCH(\"10\",#REF!)),\"1\",\"0\")","v":"0"},{"$f":"IF(ISNUMBER(SEARCH(\"11\",#REF!)),\"1\",\"0\")","v":"0"},{"$f":"IF(ISNUMBER(SEARCH(\"12\",#REF!)),\"1\",\"0\")","v":"0"},{"$f":"IF(ISNUMBER(SEARCH(\"13\",#REF!)),\"1\",\"0\")","v":"0"},{"$f":"IF(ISNUMBER(SEARCH(\"14\",#REF!)),\"1\",\"0\")","v":"0"},{"$f":"IF(ISNUMBER(SEARCH(\"15\",#REF!)),\"1\",\"0\")","v":"0"},{"$f":"IF(ISNUMBER(SEARCH(\"16\",#REF!)),\"1\",\"0\")","v":"0"},{"$f":"IF(ISNUMBER(SEARCH(\"17\",#REF!)),\"1\",\"0\")","v":"0"},{"$nulls":3},9]
[2,21,null,14,2,52,null,2,3,1,1,5,1,3,"0","0","1","0","0","0","0","0","0","0","0","0","0","0","0","0","0","0",null,1,2,5,2,{"$f":"IF(ISNUMBER(SEARCH(\"1\",#REF!)),\"1\",\"0\")","v":"0"},{"$f":"IF(ISNUMBER(SEARCH(\"2\",#REF!)),\"1\",\"0\")","v":"0"},{"$f":"IF(ISNUMBER(SEARCH(\"3\",#REF!)),\"1\",\"0\")","v":"0"},{"$f":"IF(ISNUMBER(SEARCH(\"4\",#REF!)),\"1\",\"0\")","v":"0"},{"$f":"IF(ISNUMBER(SEARCH(\"5\",#REF!)),\"1\",\"0\")","v":"0"},{"$f":"IF(ISNUMBER(SEARCH(\"6\",#REF!)),\"1\",\"0\")","v":"0"},{"$f":"IF(ISNUMBER(SEARCH(\"7\",#REF!)),\"1\",\"0\")","v":"0"},{"$f":"IF(ISNUMBER(SEARCH(\"8\",#REF!)),\"1\",\"0\")","v":"0"},{"$f":"IF(ISNUMBER(SEARCH(\"9\",#REF!)),\"1\",\"0\")","v":"0"},{"$f":"IF(ISNUMBER(SEARCH(\"9\",#REF!)),\"1\",\"0\")","v":"0"},{"$f":"IF(ISNUMBER(SEARCH(\"10\",#REF!)),\"1\",\"0\")","v":"0"},{"$f":"IF(ISNUMBER(SEARCH(\"11\",#REF!)),\"1\",\"0\")","v":"0"},{"$f":"IF(ISNUMBER(SEARCH(\"12\",#REF!)),\"1\",\"0\")","v":"0"},{"$f":"IF(ISNUMBER(SEARCH(\"13\",#REF!)),\"1\",\"0\")","v":"0"},{"$f":"IF(ISNUMBER(SEARCH(\"14\",#REF!)),\"1\",\"0\")","v":"0"},{"$f":"IF(ISNUMBER(SEARCH(\"15\",#REF!)),\"1\",\"0\")","v":"0"},{"$f":"IF(ISNUMBER(SEARCH(\"16\",#REF!)),\"1\",\"0\")","v":"0"},{"$f":"IF(ISNUMBER(SEARCH(\"17\",#REF!)),\"1\",\"0\")","v":"0"},1,null,null,3]
[2,21,null,17,2,27,null,2,7,2,6,5,5,3,"0","0","1","0","0","0","0","0","0","0","0","0","0","0","0","0","0","0",null,1,4,5,2,{"$f":"IF(ISNUMBER(SEARCH(\"1\",#REF!)),\"1\",\"0\")","v":"0"},{"$f":"IF(ISNUMBER(SEARCH(\"2\",#REF!)),\"1\",\"0\")","v":"0"},{"$f":"IF(ISNUMBER(SEARCH(\"3\",#REF!)),\"1\",\"0\")","v":"0"},{"$f":"IF(ISNUMBER(SEARCH(\"4\",#REF!)),\"1\",\"0\")","v":"0"},{"$f":"IF(ISNUMBER(SEARCH(\"5\",#REF!)),\"1\",\"0\")","v":"0"},{"$f":"IF(ISNUMBER(SEARCH(\"6\",#REF!)),\"1\",\"0\")","v":"0"},{"$f":"IF(ISNUMBER(SEARCH(\"7\",#REF!)),\"1\",\"0\")","v":"0"},{"$f":"IF(ISNUMBER(SEARCH(\"8\",#REF!)),\"1\",\"0\")","v":"0"},{"$f":"IF(ISNUMBER(SEARCH(\"9\",#REF!)),\"1\",\"0\")","v":"0"},{"$f":"IF(ISNUMBER(SEARCH(\"9\",#REF!)),\"1\",\"0\")","v":"0"},{"$f":"IF(ISNUMBER(SEARCH(\"10\",#REF!)),\"1\",\"0\")","v":"0"},{"$f":"IF(ISNUMBER(SEARCH(\"11\",#REF!)),\"1\",\"0\")","v":"0"},{"$f":"IF(ISNUMBER(SEARCH(\"12\",#REF!)),\"1\",\"0\")","v":"0"},{"$f":"IF(ISNUMBER(SEARCH(\"13\",#REF!)),\"1\",\"0\")","v":"0"},{"$f":"IF(ISNUMBER(SEARCH(\"14\",#REF!)),\"1\",\"0\")","v":"0"},{"$f":"IF(ISNUMBER(SEARCH(\"15\",#REF!)),\"1\",\"0\")","v":"0"},{"$f":"IF(ISNUMBER(SEARCH(\"16\",#REF!)),\"1\",\"0\")","v":"0"},{"$f":"IF(ISNUMBER(SEARCH(\"17\",#REF!)),\"1\",\"0\")","v":"0"},1,null,null,9]
[2,21,null,23,2,24,null,1,3,2,5,5,1,"16. Autre (SVP dans 20 case suivante) ","1","1","0","0","0","1","0","0","0","0","0","0","0","0","0","1","0","0",null,1,1,5,null,{"$f":"IF(ISNUMBER(SEARCH(\"1\",#REF!)),\"1\",\"0\")","v":"0"},{"$f":"IF(ISNUMBER(SEARCH(\"2\",#REF!)),\"1\",\"0\")","v":"0"},{"$f":"IF(ISNUMBER(SEARCH(\"3\",#REF!)),\"1\",\"0\")","v":"0"},{"$f":"IF(ISNUMBER(SEARCH(\"4\",#REF!)),\"1\",\"0\")","v":"0"},{"$f":"IF(ISNUMBER(SEARCH(\"5\",#REF!)),\"1\",\"0\")","v":"0"},{"$f":"IF(ISNUMBER(SEARCH(\"6\",#REF!)),\"1\",\"0\")","v":"0"},{"$f":"IF(ISNUMBER(SEARCH(\"7\",#REF!)),\"1\",\"0\")","v":"0"},{"$f":"IF(ISNUMBER(SEARCH(\"8\",#REF!)),\"1\",\"0\")","v":"0"},{"$f":"IF(ISNUMBER(SEARCH(\"9\",#REF!)),\"1\",\"0\")","v":"0"},{"$f":"IF(ISNUMBER(SEARCH(\"9\",#REF!)),\"1\",\"0\")","v":"0"},{"$f":"IF(ISNUMBER(SEARCH(\"10\",#REF!)),\"1\",\"0\")","v":"0"},{"$f":"IF(ISNUMBER(SEARCH(\"11\",#REF!)),\"1\",\"0\")","v":"0"},{"$f":"IF(ISNUMBER(SEARCH(\"12\",#REF!)),\"1\",\"0\")","v":"0"},{"$f":"IF(ISNUMBER(SEARCH(\"13\",#REF!)),\"1\",\"0\")","v":"0"},{"$f":"IF(ISNUMBER(SEARCH(\"14\",#REF!)),\"1\",\"0\")","v":"0"},{"$f":"IF(ISNUMBER(SEARCH(\"15\",#REF!)),\"1\",\"0\")","v":"0"},{"$f":"IF(ISNUMBER(SEARCH(\"16\",#REF!)),\"1\",\"0\")","v":"0"},{"$f":"IF(ISNUMBER(SEARCH(\"17\",#REF!)),\"1\",\"0\")","v":"0"},{"$nulls":3},9]
[2,21,null,25,1,46,null,3,2,2,0,3,1,"3, 15. Insultes / a reçu des menaces","1","0","1","0","1","0","0","0","0","0","0","0","0","0","1","0","0","0",null,1,5,5,2,{"$f":"IF(ISNUMBER(SEARCH(\"1\",#REF!)),\"1\",\"0\")","v":"0"},{"$f":"IF(ISNUMBER(SEARCH(\"2\",#REF!)),\"1\",\"0\")","v":"0"},{"$f":"IF(ISNUMBER(SEARCH(\"3\",#REF!)),\"1\",\"0\")","v":"0"},{"$f":"IF(ISNUMBER(SEARCH(\"4\",#REF!)),\"1\",\"0\")","v":"0"},{"$f":"IF(ISNUMBER(SEARCH(\"5\",#REF!)),\"1\",\"0\")","v":"0"},{"$f":"IF(ISNUMBER(SEARCH(\"6\",#REF!)),\"1\",\"0\")","v":"0"},{"$f":"IF(ISNUMBER(SEARCH(\"7\",#REF!)),\"1\",\"0\")","v":"0"},{"$f":"IF(ISNUMBER(SEARCH(\"8\",#REF!)),\"1\",\"0\")","v":"0"},{"$f":"IF(ISNUMBER(SEARCH(\"9\",#REF!)),\"1\",\"0\")","v":"0"},{"$f":"IF(ISNUMBER(SEARCH(\"9\",#REF!)),\"1\",\"0\")","v":"0"},{"$f":"IF(ISNUMBER(SEARCH(\"10\",#REF!)),\"1\",\"0\")","v":"0"},{"$f":"IF(ISNUMBER(SEARCH(\"11\",#REF!)),\"1\",\"0\")","v":"0"},{"$f":"IF(ISNUMBER(SEARCH(\"12\",#REF!)),\"1\",\"0\")","v":"0"},{"$f":"IF(ISNUMBER(SEARCH(\"13\",#REF!)),\"1\",\"0\")","v":"0"},{"$f":"IF(ISNUMBER(SEARCH(\"14\",#REF!)),\"1\",\"0\")","v":"0"},{"$f":"IF(ISNUMBER(SEARCH(\"15\",#REF!)),\"1\",\"0\")","v":"0"},{"$f":"IF(ISNUMBER(SEARCH(\"16\",#REF!)),\"1\",\"0\")","v":"0"},{"$f":"IF(ISNUMBER(SEARCH(\"17\",#REF!)),\"1\",\"0\")","v":"0"},1,1,null,3]
[2,21,null,26,2,35,null,1,3,1,10,1,2,"4. Tentative de Viol, 1","1","0","0","1","0","0","0","0","0","0","0","0","0","0","0","0","0","0",null,1,4,5,2,{"$f":"IF(ISNUMBER(SEARCH(\"1\",#REF!)),\"1\",\"0\")","v":"0"},{"$f":"IF(ISNUMBER(SEARCH(\"2\",#REF!)),\"1\",\"0\")","v":"0"},{"$f":"IF(ISNUMBER(SEARCH(\"3\",#REF!)),\"1\",\"0\")","v":"0"},{"$f":"IF(ISNUMBER(SEARCH(\"4\",#REF!)),\"1\",\"0\")","v":"0"},{"$f":"IF(ISNUMBER(SEARCH(\"5\",#REF!)),\"1\",\"0\")","v":"0"},{"$f":"IF(ISNUMBER(SEARCH(\"6\",#REF!)),\"1\",\"0\")","v":"0"},{"$f":"IF(ISNUMBER(SEARCH(\"7\",#REF!)),\"1\",\"0\")","v":"0"},{"$f":"IF(ISNUMBER(SEARCH(\"8\",#REF!)),\"1\",\"0\")","v":"0"},{"$f":"IF(ISNUMBER(SEARCH(\"9\",#REF!)),\"1\",\"0\")","v":"0"},{"$f":"IF(ISNUMBER(SEARCH(\"9\",#REF!)),\"1\",\"0\")","v":"0"},{"$f":"IF(ISNUMBER(SEARCH(\"10\",#REF!)),\"1\",\"0\")","v":"0"},{"$f":"IF(ISNUMBER(SEARCH(\"11\",#REF!)),\"1\",\"0\")","v":"0"},{"$f":"IF(ISNUMBER(SEARCH(\"12\",#REF!)),\"1\",\"0\")","v":"0"},{"$f":"IF(ISNUMBER(SEARCH(\"13\",#REF!)),\"1\",\"0\")","v":"0"},{"$f":"IF(ISNUMBER(SEARCH(\"14\",#REF!)),\"1\",\"0\")","v":"0"},{"$f":"IF(ISNUMBER(SEARCH(\"15\",#REF!)),\"1\",\"0\")","v":"0"},{"$f":"IF(ISNUMBER(SEARCH(\"16\",#REF!)),\"1\",\"0\")","v":"0"},{"$f":"IF(ISNUMBER(SEARCH(\"17\",#REF!)),\"1\",\"0\")","v":"0"},null,1,null,9]
[2,21,null,26,2,17,null,2,2,1,0,3,1,3,"0","0","1","0","0","0","0","0","0","0","0","0","0","0","0","0","0","0",null,1,5,5,1,{"$f":"IF(ISNUMBER(SEARCH(\"1\",#REF!)),\"1\",\"0\")","v":"0"},{"$f":"IF(ISNUMBER(SEARCH(\"2\",#REF!)),\"1\",\"0\")","v":"0"},{"$f":"IF(ISNUMBER(SEARCH(\"3\",#REF!)),\"1\",\"0\")","v":"0"},{"$f":"IF(ISNUMBER(SEARCH(\"4\",#REF!)),\"1\",\"0\")","v":"0"},{"$f":"IF(ISNUMBER(SEARCH(\"5\",#REF!)),\"1\",\"0\")","v":"0"},{"$f":"IF(ISNUMBER(SEARCH(\"6\",#REF!)),\"1\",\"0\")","v":"0"},{"$f":"IF(ISNUMBER(SEARCH(\"7\",#REF!)),\"1\",\"0\")","v":"0"},{"$f":"IF(ISNUMBER(SEARCH(\"8\",#REF!)),\"1\",\"0\")","v":"0"},{"$f":"IF(ISNUMBER(SEARCH(\"9\",#REF!)),\"1\",\"0\")","v":"0"},{"$f":"IF(ISNUMBER(SEARCH(\"9\",#REF!)),\"1\",\"0\")","v":"0"},{"$f":"IF(ISNUMBER(SEARCH(\"10\",#REF!)),\"1\",\"0\")","v":"0"},{"$f":"IF(ISNUMBER(SEARCH(\"11\",#REF!)),\"1\",\"0\")","v":"0"},{"$f":"IF(ISNUMBER(SEARCH(\"12\",#REF!)),\"1\",\"0\")","v":"0"},{"$f":"IF(ISNUMBER(SEARCH(\"13\",#REF!)),\"1\",\"0\")","v":"0"},{"$f":"IF(ISNUMBER(SEARCH(\"14\",#REF!)),\"1\",\"0\")","v":"0"},{"$f":"IF(ISNUMBER(SEARCH(\"15\",#REF!)),\"1\",\"0\")","v":"0"},{"$f":"IF(ISNUMBER(SEARCH(\"16\",#REF!)),\"1\",\"0\")","v":"0"},{"$f":"IF(ISNUMBER(SEARCH(\"17\",#REF!)),\"1\",\"0\")","v":"0"},1,1,null,3]
[2,21,null,16,2,39,null,null,7,null,null,5,2,1,"1","0","0","0","0","0","0","0","0","0","0","0","0","0","0","0","0","0",null,null,3,5,2,{"$f":"IF(ISNUMBER(SEARCH(\"1\",#REF!)),\"1\",\"0\")","v":"0"},{"$f":"IF(ISNUMBER(SEARCH(\"2\",#REF!)),\"1\",\"0\")","v":"0"},{"$f":"IF(ISNUMBER(SEARCH(\"3\",#REF!)),\"1\",\"0\")","v":"0"},{"$f":"IF(ISNUMBER(SEARCH(\"4\",#REF!)),\"1\",\"0\")","v":"0"},{"$f":"IF(ISNUMBER(SEARCH(\"5\",#REF!)),\"1\",\"0\")","v":"0"},{"$f":"IF(ISNUMBER(SEARCH(\"6\",#REF!)),\"1\",\"0\")","v":"0"},{"$f":"IF(ISNUMBER(SEARCH(\"7\",#REF!)),\"1\",\"0\")","v":"0"},{"$f":"IF(ISNUMBER(SEARCH(\"8\",#REF!)),\"1\",\"0\")","v":"0"},{"$f":"IF(ISNUMBER(SEARCH(\"9\",#REF!)),\"1\",\"0\")","v":"0"},{"$f":"IF(ISNUMBER(SEARCH(\"9\",#REF!)),\"1\",\"0\")","v":"0"},{"$f":"IF(ISNUMBER(SEARCH(\"10\",#REF!)),\"1\",\"0\")","v":"0"},{"$f":"IF(ISNUMBER(SEARCH(\"11\",#REF!)),\"1\",\"0\")","v":"0"},{"$f":"IF(ISNUMBER(SEARCH(\"12\",#REF!)),\"1\",\"0\")","v":"0"},{"$f":"IF(ISNUMBER(SEARCH(\"13\",#REF!)),\"1\",\"0\")","v":"0"},{"$f":"IF(ISNUMBER(SEARCH(\"14\",#REF!)),\"1\",\"0\")","v":"0"},{"$f":"IF(ISNUMBER(SEARCH(\"15\",#REF!)),\"1\",\"0\")","v":"0"},{"$f":"IF(ISNUMBER(SEARCH(\"16\",#REF!)),\"1\",\"0\")","v":"0"},{"$f":"IF(ISNUMBER(SEARCH(\"17\",#REF!)),\"1\",\"0\")","v":"0"},{"$nulls":3},9]
[2,21,null,16,2,39,null,3,2,1,null,1,1,3,"0","0","1","0","0","0","0","0","0","0","0","0","0","0","0","0","0","0",null,1,3,4,2,{"$f":"IF(ISNUMBER(SEARCH(\"1\",#REF!)),\"1\",\"0\")","v":"0"},{"$f":"IF(ISNUMBER(SEARCH(\"2\",#REF!)),\"1\",\"0\")","v":"0"},{"$f":"IF(ISNUMBER(SEARCH(\"3\",#REF!)),\"1\",\"0\")","v":"0"},{"$f":"IF(ISNUMBER(SEARCH(\"4\",#REF!)),\"1\",\"0\")","v":"0"},{"$f":"IF(ISNUMBER(SEARCH(\"5\",#REF!)),\"1\",\"0\")","v":"0"},{"$f":"IF(ISNUMBER(SEARCH(\"6\",#REF!)),\"1\",\"0\")","v":"0"},{"$f":"IF(ISNUMBER(SEARCH(\"7\",#REF!)),\"1\",\"0\")","v":"0"},{"$f":"IF(ISNUMBER(SEARCH(\"8\",#REF!)),\"1\",\"0\")","v":"0"},{"$f":"IF(ISNUMBER(SEARCH(\"9\",#REF!)),\"1\",\"0\")","v":"0"},{"$f":"IF(ISNUMBER(SEARCH(\"9\",#REF!)),\"1\",\"0\")","v":"0"},{"$f":"IF(ISNUMBER(SEARCH(\"10\",#REF!)),\"1\",\"0\")","v":"0"},{"$f":"IF(ISNUMBER(SEARCH(\"11\",#REF!)),\"1\",\"0\")","v":"0"},{"$f":"IF(ISNUMBER(SEARCH(\"12\",#REF!)),\"1\",\"0\")","v":"0"},{"$f":"IF(ISNUMBER(SEARCH(\"13\",#REF!)),\"1\",\"0\")","v":"0"},{"$f":"IF(ISNUMBER(SEARCH(\"14\",#REF!)),\"1\",\"0\")","v":"0"},{"$f":"IF(ISNUMBER(SEARCH(\"15\",#REF!)),\"1\",\"0\")","v":"0"},{"$f":"IF(ISNUMBER(SEARCH(\"16\",#REF!)),\"1\",\"0\")","v":"0"},{"$f":"IF(ISNUMBER(SEARCH(\"17\",#REF!)),\"1\",\"0\")","v":"0"},1,3,null,3]
[2,21,null,29,2,27,null,3,8,1,5,5,2,null,"0","0","0","0","0","0","0","0","0","0","0","0","0","0","0","0","0","0",null,1,3,5,2,{"$f":"IF(ISNUMBER(SEARCH(\"1\",#REF!)),\"1\",\"0\")","v":"0"},{"$f":"IF(ISNUMBER(SEARCH(\"2\",#REF!)),\"1\",\"0\")","v":"0"},{"$f":"IF(ISNUMBER(SEARCH(\"3\",#REF!)),\"1\",\"0\")","v":"0"},{"$f":"IF(ISNUMBER(SEARCH(\"4\",#REF!)),\"1\",\"0\")","v":"0"},{"$f":"IF(ISNUMBER(SEARCH(\"5\",#REF!)),\"1\",\"0\")","v":"0"},{"$f":"IF(ISNUMBER(SEARCH(\"6\",#REF!)),\"1\",\"0\")","v":"0"},{"$f":"IF(ISNUMBER(SEARCH(\"7\",#REF!)),\"1\",\"0\")","v":"0"},{"$f":"IF(ISNUMBER(SEARCH(\"8\",#REF!)),\"1\",\"0\")","v":"0"},{"$f":"IF(ISNUMBER(SEARCH(\"9\",#REF!)),\"1\",\"0\")","v":"0"},{"$f":"IF(ISNUMBER(SEARCH(\"9\",#REF!)),\"1\",\"0\")","v":"0"},{"$f":"IF(ISNUMBER(SEARCH(\"10\",#REF!)),\"1\",\"0\")","v":"0"},{"$f":"IF(ISNUMBER(SEARCH(\"11\",#REF!)),\"1\",\"0\")","v":"0"},{"$f":"IF(ISNUMBER(SEARCH(\"12\",#REF!)),\"1\",\"0\")","v":"0"},{"$f":"IF(ISNUMBER(SEARCH(\"13\",#REF!)),\"1\",\"0\")","v":"0"},{"$f":"IF(ISNUMBER(SEARCH(\"14\",#REF!)),\"1\",\"0\")","v":"0"},{"$f":"IF(ISNUMBER(SEARCH(\"15\",#REF!)),\"1\",\"0\")","v":"0"},{"$f":"IF(ISNUMBER(SEARCH(\"16\",#REF!)),\"1\",\"0\")","v":"0"},{"$f":"IF(ISNUMBER(SEARCH(\"17\",#REF!)),\"1\",\"0\")","v":"0"},{"$nulls":3},9]
[2,21,null,27,2,16,null,2,3,2,6,5,2,"1, 2, 3","1","1","1","0","0","0","0","0","0","0","0","0","0","0","0","0","0","0",null,1,5,5,2,{"$f":"IF(ISNUMBER(SEARCH(\"1\",#REF!)),\"1\",\"0\")","v":"0"},{"$f":"IF(ISNUMBER(SEARCH(\"2\",#REF!)),\"1\",\"0\")","v":"0"},{"$f":"IF(ISNUMBER(SEARCH(\"3\",#REF!)),\"1\",\"0\")","v":"0"},{"$f":"IF(ISNUMBER(SEARCH(\"4\",#REF!)),\"1\",\"0\")","v":"0"},{"$f":"IF(ISNUMBER(SEARCH(\"5\",#REF!)),\"1\",\"0\")","v":"0"},{"$f":"IF(ISNUMBER(SEARCH(\"6\",#REF!)),\"1\",\"0\")","v":"0"},{"$f":"IF(ISNUMBER(SEARCH(\"7\",#REF!)),\"1\",\"0\")","v":"0"},{"$f":"IF(ISNUMBER(SEARCH(\"8\",#REF!)),\"1\",\"0\")","v":"0"},{"$f":"IF(ISNUMBER(SEARCH(\"9\",#REF!)),\"1\",\"0\")","v":"0"},{"$f":"IF(ISNUMBER(SEARCH(\"9\",#REF!)),\"1\",\"0\")","v":"0"},{"$f":"IF(ISNUMBER(SEARCH(\"10\",#REF!)),\"1\",\"0\")","v":"0"},{"$f":"IF(ISNUMBER(SEARCH(\"11\",#REF!)),\"1\",\"0\")","v":"0"},{"$f":"IF(ISNUMBER(SEARCH(\"12\",#REF!)),\"1\",\"0\")","v":"0"},{"$f":"IF(ISNUMBER(SEARCH(\"13\",#REF!)),\"1\",\"0\")","v":"0"},{"$f":"IF(ISNUMBER(SEARCH(\"14\",#REF!)),\"1\",\"0\")","v":"0"},{"$f":"IF(ISNUMBER(SEARCH(\"15\",#REF!)),\"1\",\"0\")","v":"0"},{"$f":"IF(ISNUMBER(SEARCH(\"16\",#REF!)),\"1\",\"0\")","v":"0"},{"$f":"IF(ISNUMBER(SEARCH(\"17\",#REF!)),\"1\",\"0\")","v":"0"},1,null,null,3]
[2,21,null,5,2,19,null,2,3,1,7,5,2,3,"0","0","1","0","0","0","0","0","0","0","0","0","0","0","0","0","0","0",null,1,1,3,1,{"$f":"IF(ISNUMBER(SEARCH(\"1\",#REF!)),\"1\",\"0\")","v":"0"},{"$f":"IF(ISNUMBER(SEARCH(\"2\",#REF!)),\"1\",\"0\")","v":"0"},{"$f":"IF(ISNUMBER(SEARCH(\"3\",#REF!)),\"1\",\"0\")","v":"0"},{"$f":"IF(ISNUMBER(SEARCH(\"4\",#REF!)),\"1\",\"0\")","v":"0"},{"$f":"IF(ISNUMBER(SEARCH(\"5\",#REF!)),\"1\",\"0\")","v":"0"},{"$f":"IF(ISNUMBER(SEARCH(\"6\",#REF!)),\"1\",\"0\")","v":"0"},{"$f":"IF(ISNUMBER(SEARCH(\"7\",#REF!)),\"1\",\"0\")","v":"0"},{"$f":"IF(ISNUMBER(SEARCH(\"8\",#REF!)),\"1\",\"0\")","v":"0"},{"$f":"IF(ISNUMBER(SEARCH(\"9\",#REF!)),\"1\",\"0\")","v":"0"},{"$f":"IF(ISNUMBER(SEARCH(\"9\",#REF!)),\"1\",\"0\")","v":"0"},{"$f":"IF(ISNUMBER(SEARCH(\"10\",#REF!)),\"1\",\"0\")","v":"0"},{"$f":"IF(ISNUMBER(SEARCH(\"11\",#REF!)),\"1\",\"0\")","v":"0"},{"$f":"IF(ISNUMBER(SEARCH(\"12\",#REF!)),\"1\",\"0\")","v":"0"},{"$f":"IF(ISNUMBER(SEARCH(\"13\",#REF!)),\"1\",\"0\")","v":"0"},{"$f":"IF(ISNUMBER(SEARCH(\"14\",#REF!)),\"1\",\"0\")","v":"0"},{"$f":"IF(ISNUMBER(SEARCH(\"15\",#REF!)),\"1\",\"0\")","v":"0"},{"$f":"IF(ISNUMBER(SEARCH(\"16\",#REF!)),\"1\",\"0\")","v":"0"},{"$f":"IF(ISNUMBER(SEARCH(\"17\",#REF!)),\"1\",\"0\")","v":"0"},1,null,null,3]
[2,21,null,30,2,29,null,2,3,2,null,5,2,null,"0","0","0","0","0","0","0","0","0","0","0","0","0","0","0","0","0","0",{"$nulls":4},2,{"$f":"IF(ISNUMBER(SEARCH(\"1\",#REF!)),\"1\",\"0\")","v":"0"},{"$f":"IF(ISNUMBER(SEARCH(\"2\",#REF!)),\"1\",\"0\")","v":"0"},{"$f":"IF(ISNUMBER(SEARCH(\"3\",#REF!)),\"1\",\"0\")","v":"0"},{"$f":"IF(ISNUMBER(SEARCH(\"4\",#REF!)),\"1\",\"0\")","v":"0"},{"$f":"IF(ISNUMBER(SEARCH(\"5\",#REF!)),\"1\",\"0\")","v":"0"},{"$f":"IF(ISNUMBER(SEARCH(\"6\",#REF!)),\"1\",\"0\")","v":"0"},{"$f":"IF(ISNUMBER(SEARCH(\"7\",#REF!)),\"1\",\"0\")","v":"0"},{"$f":"IF(ISNUMBER(SEARCH(\"8\",#REF!)),\"1\",\"0\")","v":"0"},{"$f":"IF(ISNUMBER(SEARCH(\"9\",#REF!)),\"1\",\"0\")","v":"0"},{"$f":"IF(ISNUMBER(SEARCH(\"9\",#REF!)),\"1\",\"0\")","v":"0"},{"$f":"IF(ISNUMBER(SEARCH(\"10\",#REF!)),\"1\",\"0\")","v":"0"},{"$f":"IF(ISNUMBER(SEARCH(\"11\",#REF!)),\"1\",\"0\")","v":"0"},{"$f":"IF(ISNUMBER(SEARCH(\"12\",#REF!)),\"1\",\"0\")","v":"0"},{"$f":"IF(ISNUMBER(SEARCH(\"13\",#REF!)),\"1\",\"0\")","v":"0"},{"$f":"IF(ISNUMBER(SEARCH(\"14\",#REF!)),\"1\",\"0\")","v":"0"},{"$f":"IF(ISNUMBER(SEARCH(\"15\",#REF!)),\"1\",\"0\")","v":"0"},{"$f":"IF(ISNUMBER(SEARCH(\"16\",#REF!)),\"1\",\"0\")","v":"0"},{"$f":"IF(ISNUMBER(SEARCH(\"17\",#REF!)),\"1\",\"0\")","v":"0"},{"$nulls":3},9]
[2,21,null,30,2,28,null,3,7,2,0,1,1,"3, 10","1","0","1","0","0","0","0","0","0","1","0","0","0","0","0","0","0","0",null,1,3,5,2,{"$f":"IF(ISNUMBER(SEARCH(\"1\",#REF!)),\"1\",\"0\")","v":"0"},{"$f":"IF(ISNUMBER(SEARCH(\"2\",#REF!)),\"1\",\"0\")","v":"0"},{"$f":"IF(ISNUMBER(SEARCH(\"3\",#REF!)),\"1\",\"0\")","v":"0"},{"$f":"IF(ISNUMBER(SEARCH(\"4\",#REF!)),\"1\",\"0\")","v":"0"},{"$f":"IF(ISNUMBER(SEARCH(\"5\",#REF!)),\"1\",\"0\")","v":"0"},{"$f":"IF(ISNUMBER(SEARCH(\"6\",#REF!)),\"1\",\"0\")","v":"0"},{"$f":"IF(ISNUMBER(SEARCH(\"7\",#REF!)),\"1\",\"0\")","v":"0"},{"$f":"IF(ISNUMBER(SEARCH(\"8\",#REF!)),\"1\",\"0\")","v":"0"},{"$f":"IF(ISNUMBER(SEARCH(\"9\",#REF!)),\"1\",\"0\")","v":"0"},{"$f":"IF(ISNUMBER(SEARCH(\"9\",#REF!)),\"1\",\"0\")","v":"0"},{"$f":"IF(ISNUMBER(SEARCH(\"10\",#REF!)),\"1\",\"0\")","v":"0"},{"$f":"IF(ISNUMBER(SEARCH(\"11\",#REF!)),\"1\",\"0\")","v":"0"},{"$f":"IF(ISNUMBER(SEARCH(\"12\",#REF!)),\"1\",\"0\")","v":"0"},{"$f":"IF(ISNUMBER(SEARCH(\"13\",#REF!)),\"1\",\"0\")","v":"0"},{"$f":"IF(ISNUMBER(SEARCH(\"14\",#REF!)),\"1\",\"0\")","v":"0"},{"$f":"IF(ISNUMBER(SEARCH(\"15\",#REF!)),\"1\",\"0\")","v":"0"},{"$f":"IF(ISNUMBER(SEARCH(\"16\",#REF!)),\"1\",\"0\")","v":"0"},{"$f":"IF(ISNUMBER(SEARCH(\"17\",#REF!)),\"1\",\"0\")","v":"0"},1,null,null,3]
[2,21,null,1,1,31,null,2,3,1,3,3,1,null,"0","0","0","0","0","0","0","0","0","0","0","0","0","0","0","0","0","0",null,2,3,5,2,{"$f":"IF(ISNUMBER(SEARCH(\"1\",#REF!)),\"1\",\"0\")","v":"0"},{"$f":"IF(ISNUMBER(SEARCH(\"2\",#REF!)),\"1\",\"0\")","v":"0"},{"$f":"IF(ISNUMBER(SEARCH(\"3\",#REF!)),\"1\",\"0\")","v":"0"},{"$f":"IF(ISNUMBER(SEARCH(\"4\",#REF!)),\"1\",\"0\")","v":"0"},{"$f":"IF(ISNUMBER(SEARCH(\"5\",#REF!)),\"1\",\"0\")","v":"0"},{"$f":"IF(ISNUMBER(SEARCH(\"6\",#REF!)),\"1\",\"0\")","v":"0"},{"$f":"IF(ISNUMBER(SEARCH(\"7\",#REF!)),\"1\",\"0\")","v":"0"},{"$f":"IF(ISNUMBER(SEARCH(\"8\",#REF!)),\"1\",\"0\")","v":"0"},{"$f":"IF(ISNUMBER(SEARCH(\"9\",#REF!)),\"1\",\"0\")","v":"0"},{"$f":"IF(ISNUMBER(SEARCH(\"9\",#REF!)),\"1\",\"0\")","v":"0"},{"$f":"IF(ISNUMBER(SEARCH(\"10\",#REF!)),\"1\",\"0\")","v":"0"},{"$f":"IF(ISNUMBER(SEARCH(\"11\",#REF!)),\"1\",\"0\")","v":"0"},{"$f":"IF(ISNUMBER(SEARCH(\"12\",#REF!)),\"1\",\"0\")","v":"0"},{"$f":"IF(ISNUMBER(SEARCH(\"13\",#REF!)),\"1\",\"0\")","v":"0"},{"$f":"IF(ISNUMBER(SEARCH(\"14\",#REF!)),\"1\",\"0\")","v":"0"},{"$f":"IF(ISNUMBER(SEARCH(\"15\",#REF!)),\"1\",\"0\")","v":"0"},{"$f":"IF(ISNUMBER(SEARCH(\"16\",#REF!)),\"1\",\"0\")","v":"0"},{"$f":"IF(ISNUMBER(SEARCH(\"17\",#REF!)),\"1\",\"0\")","v":"0"},{"$nulls":3},9]
[2,21,null,31,2,13,null,2,3,1,4,3,2,1,"1","0","0","0","0","0","0","0","0","0","0","0","0","0","0","0","0","0",null,1,3,5,2,{"$f":"IF(ISNUMBER(SEARCH(\"1\",#REF!)),\"1\",\"0\")","v":"0"},{"$f":"IF(ISNUMBER(SEARCH(\"2\",#REF!)),\"1\",\"0\")","v":"0"},{"$f":"IF(ISNUMBER(SEARCH(\"3\",#REF!)),\"1\",\"0\")","v":"0"},{"$f":"IF(ISNUMBER(SEARCH(\"4\",#REF!)),\"1\",\"0\")","v":"0"},{"$f":"IF(ISNUMBER(SEARCH(\"5\",#REF!)),\"1\",\"0\")","v":"0"},{"$f":"IF(ISNUMBER(SEARCH(\"6\",#REF!)),\"1\",\"0\")","v":"0"},{"$f":"IF(ISNUMBER(SEARCH(\"7\",#REF!)),\"1\",\"0\")","v":"0"},{"$f":"IF(ISNUMBER(SEARCH(\"8\",#REF!)),\"1\",\"0\")","v":"0"},{"$f":"IF(ISNUMBER(SEARCH(\"9\",#REF!)),\"1\",\"0\")","v":"0"},{"$f":"IF(ISNUMBER(SEARCH(\"9\",#REF!)),\"1\",\"0\")","v":"0"},{"$f":"IF(ISNUMBER(SEARCH(\"10\",#REF!)),\"1\",\"0\")","v":"0"},{"$f":"IF(ISNUMBER(SEARCH(\"11\",#REF!)),\"1\",\"0\")","v":"0"},{"$f":"IF(ISNUMBER(SEARCH(\"12\",#REF!)),\"1\",\"0\")","v":"0"},{"$f":"IF(ISNUMBER(SEARCH(\"13\",#REF!)),\"1\",\"0\")","v":"0"},{"$f":"IF(ISNUMBER(SEARCH(\"14\",#REF!)),\"1\",\"0\")","v":"0"},{"$f":"IF(ISNUMBER(SEARCH(\"15\",#REF!)),\"1\",\"0\")","v":"0"},{"$f":"IF(ISNUMBER(SEARCH(\"16\",#REF!)),\"1\",\"0\")","v":"0"},{"$f":"IF(ISNUMBER(SEARCH(\"17\",#REF!)),\"1\",\"0\")","v":"0"},{"$nulls":3},9]
[2,21,null,32,1,30,null,2,8,1,1,4,2,"11. Membre de famille / personne proche assassinée, 16. Autre (SVP dans 20 case suivante) ","1","1","0","0","0","1","0","0","0","0","1","0","0","0","0","1","0","0",null,1,3,5,1,{"$f":"IF(ISNUMBER(SEARCH(\"1\",#REF!)),\"1\",\"0\")","v":"0"},{"$f":"IF(ISNUMBER(SEARCH(\"2\",#REF!)),\"1\",\"0\")","v":"0"},{"$f":"IF(ISNUMBER(SEARCH(\"3\",#REF!)),\"1\",\"0\")","v":"0"},{"$f":"IF(ISNUMBER(SEARCH(\"4\",#REF!)),\"1\",\"0\")","v":"0"},{"$f":"IF(ISNUMBER(SEARCH(\"5\",#REF!)),\"1\",\"0\")","v":"0"},{"$f":"IF(ISNUMBER(SEARCH(\"6\",#REF!)),\"1\",\"0\")","v":"0"},{"$f":"IF(ISNUMBER(SEARCH(\"7\",#REF!)),\"1\",\"0\")","v":"0"},{"$f":"IF(ISNUMBER(SEARCH(\"8\",#REF!)),\"1\",\"0\")","v":"0"},{"$f":"IF(ISNUMBER(SEARCH(\"9\",#REF!)),\"1\",\"0\")","v":"0"},{"$f":"IF(ISNUMBER(SEARCH(\"9\",#REF!)),\"1\",\"0\")","v":"0"},{"$f":"IF(ISNUMBER(SEARCH(\"10\",#REF!)),\"1\",\"0\")","v":"0"},{"$f":"IF(ISNUMBER(SEARCH(\"11\",#REF!)),\"1\",\"0\")","v":"0"},{"$f":"IF(ISNUMBER(SEARCH(\"12\",#REF!)),\"1\",\"0\")","v":"0"},{"$f":"IF(ISNUMBER(SEARCH(\"13\",#REF!)),\"1\",\"0\")","v":"0"},{"$f":"IF(ISNUMBER(SEARCH(\"14\",#REF!)),\"1\",\"0\")","v":"0"},{"$f":"IF(ISNUMBER(SEARCH(\"15\",#REF!)),\"1\",\"0\")","v":"0"},{"$f":"IF(ISNUMBER(SEARCH(\"16\",#REF!)),\"1\",\"0\")","v":"0"},{"$f":"IF(ISNUMBER(SEARCH(\"17\",#REF!)),\"1\",\"0\")","v":"0"},{"$nulls":3},9]
[2,21,null,32,2,30,null,3,3,1,2,1,2,null,"0","0","0","0","0","0","0","0","0","0","0","0","0","0","0","0","0","0",null,2,1,5,null,{"$f":"IF(ISNUMBER(SEARCH(\"1\",#REF!)),\"1\",\"0\")","v":"0"},{"$f":"IF(ISNUMBER(SEARCH(\"2\",#REF!)),\"1\",\"0\")","v":"0"},{"$f":"IF(ISNUMBER(SEARCH(\"3\",#REF!)),\"1\",\"0\")","v":"0"},{"$f":"IF(ISNUMBER(SEARCH(\"4\",#REF!)),\"1\",\"0\")","v":"0"},{"$f":"IF(ISNUMBER(SEARCH(\"5\",#REF!)),\"1\",\"0\")","v":"0"},{"$f":"IF(ISNUMBER(SEARCH(\"6\",#REF!)),\"1\",\"0\")","v":"0"},{"$f":"IF(ISNUMBER(SEARCH(\"7\",#REF!)),\"1\",\"0\")","v":"0"},{"$f":"IF(ISNUMBER(SEARCH(\"8\",#REF!)),\"1\",\"0\")","v":"0"},{"$f":"IF(ISNUMBER(SEARCH(\"9\",#REF!)),\"1\",\"0\")","v":"0"},{"$f":"IF(ISNUMBER(SEARCH(\"9\",#REF!)),\"1\",\"0\")","v":"0"},{"$f":"IF(ISNUMBER(SEARCH(\"10\",#REF!)),\"1\",\"0\")","v":"0"},{"$f":"IF(ISNUMBER(SEARCH(\"11\",#REF!)),\"1\",\"0\")","v":"0"},{"$f":"IF(ISNUMBER(SEARCH(\"12\",#REF!)),\"1\",\"0\")","v":"0"},{"$f":"IF(ISNUMBER(SEARCH(\"13\",#REF!)),\"1\",\"0\")","v":"0"},{"$f":"IF(ISNUMBER(SEARCH(\"14\",#REF!)),\"1\",\"0\")","v":"0"},{"$f":"IF(ISNUMBER(SEARCH(\"15\",#REF!)),\"1\",\"0\")","v":"0"},{"$f":"IF(ISNUMBER(SEARCH(\"16\",#REF!)),\"1\",\"0\")","v":"0"},{"$f":"IF(ISNUMBER(SEARCH(\"17\",#REF!)),\"1\",\"0\")","v":"0"},{"$nulls":3},9]
[2,21,null,33,2,29,null,2,8,1,5,3,2,null,"0","0","0","0","0","0","0","0","0","0","0","0","0","0","0","0","0","0",null,1,1,5,2,{"$f":"IF(ISNUMBER(SEARCH(\"1\",#REF!)),\"1\",\"0\")","v":"0"},{"$f":"IF(ISNUMBER(SEARCH(\"2\",#REF!)),\"1\",\"0\")","v":"0"},{"$f":"IF(ISNUMBER(SEARCH(\"3\",#REF!)),\"1\",\"0\")","v":"0"},{"$f":"IF(ISNUMBER(SEARCH(\"4\",#REF!)),\"1\",\"0\")","v":"0"},{"$f":"IF(ISNUMBER(SEARCH(\"5\",#REF!)),\"1\",\"0\")","v":"0"},{"$f":"IF(ISNUMBER(SEARCH(\"6\",#REF!)),\"1\",\"0\")","v":"0"},{"$f":"IF(ISNUMBER(SEARCH(\"7\",#REF!)),\"1\",\"0\")","v":"0"},{"$f":"IF(ISNUMBER(SEARCH(\"8\",#REF!)),\"1\",\"0\")","v":"0"},{"$f":"IF(ISNUMBER(SEARCH(\"9\",#REF!)),\"1\",\"0\")","v":"0"},{"$f":"IF(ISNUMBER(SEARCH(\"9\",#REF!)),\"1\",\"0\")","v":"0"},{"$f":"IF(ISNUMBER(SEARCH(\"10\",#REF!)),\"1\",\"0\")","v":"0"},{"$f":"IF(ISNUMBER(SEARCH(\"11\",#REF!)),\"1\",\"0\")","v":"0"},{"$f":"IF(ISNUMBER(SEARCH(\"12\",#REF!)),\"1\",\"0\")","v":"0"},{"$f":"IF(ISNUMBER(SEARCH(\"13\",#REF!)),\"1\",\"0\")","v":"0"},{"$f":"IF(ISNUMBER(SEARCH(\"14\",#REF!)),\"1\",\"0\")","v":"0"},{"$f":"IF(ISNUMBER(SEARCH(\"15\",#REF!)),\"1\",\"0\")","v":"0"},{"$f":"IF(ISNUMBER(SEARCH(\"16\",#REF!)),\"1\",\"0\")","v":"0"},{"$f":"IF(ISNUMBER(SEARCH(\"17\",#REF!)),\"1\",\"0\")","v":"0"},{"$nulls":3},9]
[2,21,null,21,2,33,null,3,8,2,6,1,2,1,"1","0","0","0","0","0","0","0","0","0","0","0","0","0","0","0","0","0",null,2,2,5,2,{"$f":"IF(ISNUMBER(SEARCH(\"1\",#REF!)),\"1\",\"0\")","v":"0"},{"$f":"IF(ISNUMBER(SEARCH(\"2\",#REF!)),\"1\",\"0\")","v":"0"},{"$f":"IF(ISNUMBER(SEARCH(\"3\",#REF!)),\"1\",\"0\")","v":"0"},{"$f":"IF(ISNUMBER(SEARCH(\"4\",#REF!)),\"1\",\"0\")","v":"0"},{"$f":"IF(ISNUMBER(SEARCH(\"5\",#REF!)),\"1\",\"0\")","v":"0"},{"$f":"IF(ISNUMBER(SEARCH(\"6\",#REF!)),\"1\",\"0\")","v":"0"},{"$f":"IF(ISNUMBER(SEARCH(\"7\",#REF!)),\"1\",\"0\")","v":"0"},{"$f":"IF(ISNUMBER(SEARCH(\"8\",#REF!)),\"1\",\"0\")","v":"0"},{"$f":"IF(ISNUMBER(SEARCH(\"9\",#REF!)),\"1\",\"0\")","v":"0"},{"$f":"IF(ISNUMBER(SEARCH(\"9\",#REF!)),\"1\",\"0\")","v":"0"},{"$f":"IF(ISNUMBER(SEARCH(\"10\",#REF!)),\"1\",\"0\")","v":"0"},{"$f":"IF(ISNUMBER(SEARCH(\"11\",#REF!)),\"1\",\"0\")","v":"0"},{"$f":"IF(ISNUMBER(SEARCH(\"12\",#REF!)),\"1\",\"0\")","v":"0"},{"$f":"IF(ISNUMBER(SEARCH(\"13\",#REF!)),\"1\",\"0\")","v":"0"},{"$f":"IF(ISNUMBER(SEARCH(\"14\",#REF!)),\"1\",\"0\")","v":"0"},{"$f":"IF(ISNUMBER(SEARCH(\"15\",#REF!)),\"1\",\"0\")","v":"0"},{"$f":"IF(ISNUMBER(SEARCH(\"16\",#REF!)),\"1\",\"0\")","v":"0"},{"$f":"IF(ISNUMBER(SEARCH(\"17\",#REF!)),\"1\",\"0\")","v":"0"},{"$nulls":3},9]
[2,21,null,30,2,24,null,2,7,1,5,1,2,"2, 15. Insultes / a reçu des menaces","1","1","0","0","1","0","0","0","0","0","0","0","0","0","1","0","0","0",null,1,1,3,2,{"$f":"IF(ISNUMBER(SEARCH(\"1\",#REF!)),\"1\",\"0\")","v":"0"},{"$f":"IF(ISNUMBER(SEARCH(\"2\",#REF!)),\"1\",\"0\")","v":"0"},{"$f":"IF(ISNUMBER(SEARCH(\"3\",#REF!)),\"1\",\"0\")","v":"0"},{"$f":"IF(ISNUMBER(SEARCH(\"4\",#REF!)),\"1\",\"0\")","v":"0"},{"$f":"IF(ISNUMBER(SEARCH(\"5\",#REF!)),\"1\",\"0\")","v":"0"},{"$f":"IF(ISNUMBER(SEARCH(\"6\",#REF!)),\"1\",\"0\")","v":"0"},{"$f":"IF(ISNUMBER(SEARCH(\"7\",#REF!)),\"1\",\"0\")","v":"0"},{"$f":"IF(ISNUMBER(SEARCH(\"8\",#REF!)),\"1\",\"0\")","v":"0"},{"$f":"IF(ISNUMBER(SEARCH(\"9\",#REF!)),\"1\",\"0\")","v":"0"},{"$f":"IF(ISNUMBER(SEARCH(\"9\",#REF!)),\"1\",\"0\")","v":"0"},{"$f":"IF(ISNUMBER(SEARCH(\"10\",#REF!)),\"1\",\"0\")","v":"0"},{"$f":"IF(ISNUMBER(SEARCH(\"11\",#REF!)),\"1\",\"0\")","v":"0"},{"$f":"IF(ISNUMBER(SEARCH(\"12\",#REF!)),\"1\",\"0\")","v":"0"},{"$f":"IF(ISNUMBER(SEARCH(\"13\",#REF!)),\"1\",\"0\")","v":"0"},{"$f":"IF(ISNUMBER(SEARCH(\"14\",#REF!)),\"1\",\"0\")","v":"0"},{"$f":"IF(ISNUMBER(SEARCH(\"15\",#REF!)),\"1\",\"0\")","v":"0"},{"$f":"IF(ISNUMBER(SEARCH(\"16\",#REF!)),\"1\",\"0\")","v":"0"},{"$f":"IF(ISNUMBER(SEARCH(\"17\",#REF!)),\"1\",\"0\")","v":"0"},{"$nulls":3},3]
[2,21,null,30,1,35,null,3,8,1,2,5,2,"1, 3","1","0","1","0","0","0","0","0","0","0","0","0","0","0","0","0","0","0",null,1,3,5,2,{"$f":"IF(ISNUMBER(SEARCH(\"1\",#REF!)),\"1\",\"0\")","v":"0"},{"$f":"IF(ISNUMBER(SEARCH(\"2\",#REF!)),\"1\",\"0\")","v":"0"},{"$f":"IF(ISNUMBER(SEARCH(\"3\",#REF!)),\"1\",\"0\")","v":"0"},{"$f":"IF(ISNUMBER(SEARCH(\"4\",#REF!)),\"1\",\"0\")","v":"0"},{"$f":"IF(ISNUMBER(SEARCH(\"5\",#REF!)),\"1\",\"0\")","v":"0"},{"$f":"IF(ISNUMBER(SEARCH(\"6\",#REF!)),\"1\",\"0\")","v":"0"},{"$f":"IF(ISNUMBER(SEARCH(\"7\",#REF!)),\"1\",\"0\")","v":"0"},{"$f":"IF(ISNUMBER(SEARCH(\"8\",#REF!)),\"1\",\"0\")","v":"0"},{"$f":"IF(ISNUMBER(SEARCH(\"9\",#REF!)),\"1\",\"0\")","v":"0"},{"$f":"IF(ISNUMBER(SEARCH(\"9\",#REF!)),\"1\",\"0\")","v":"0"},{"$f":"IF(ISNUMBER(SEARCH(\"10\",#REF!)),\"1\",\"0\")","v":"0"},{"$f":"IF(ISNUMBER(SEARCH(\"11\",#REF!)),\"1\",\"0\")","v":"0"},{"$f":"IF(ISNUMBER(SEARCH(\"12\",#REF!)),\"1\",\"0\")","v":"0"},{"$f":"IF(ISNUMBER(SEARCH(\"13\",#REF!)),\"1\",\"0\")","v":"0"},{"$f":"IF(ISNUMBER(SEARCH(\"14\",#REF!)),\"1\",\"0\")","v":"0"},{"$f":"IF(ISNUMBER(SEARCH(\"15\",#REF!)),\"1\",\"0\")","v":"0"},{"$f":"IF(ISNUMBER(SEARCH(\"16\",#REF!)),\"1\",\"0\")","v":"0"},{"$f":"IF(ISNUMBER(SEARCH(\"17\",#REF!)),\"1\",\"0\")","v":"0"},1,3,null,3]
[2,21,null,29,2,48,null,3,3,1,6,5,2,null,"0","0","0","0","0","0","0","0","0","0","0","0","0","0","0","0","0","0",null,1,3,5,2,{"$f":"IF(ISNUMBER(SEARCH(\"1\",#REF!)),\"1\",\"0\")","v":"0"},{"$f":"IF(ISNUMBER(SEARCH(\"2\",#REF!)),\"1\",\"0\")","v":"0"},{"$f":"IF(ISNUMBER(SEARCH(\"3\",#REF!)),\"1\",\"0\")","v":"0"},{"$f":"IF(ISNUMBER(SEARCH(\"4\",#REF!)),\"1\",\"0\")","v":"0"},{"$f":"IF(ISNUMBER(SEARCH(\"5\",#REF!)),\"1\",\"0\")","v":"0"},{"$f":"IF(ISNUMBER(SEARCH(\"6\",#REF!)),\"1\",\"0\")","v":"0"},{"$f":"IF(ISNUMBER(SEARCH(\"7\",#REF!)),\"1\",\"0\")","v":"0"},{"$f":"IF(ISNUMBER(SEARCH(\"8\",#REF!)),\"1\",\"0\")","v":"0"},{"$f":"IF(ISNUMBER(SEARCH(\"9\",#REF!)),\"1\",\"0\")","v":"0"},{"$f":"IF(ISNUMBER(SEARCH(\"9\",#REF!)),\"1\",\"0\")","v":"0"},{"$f":"IF(ISNUMBER(SEARCH(\"10\",#REF!)),\"1\",\"0\")","v":"0"},{"$f":"IF(ISNUMBER(SEARCH(\"11\",#REF!)),\"1\",\"0\")","v":"0"},{"$f":"IF(ISNUMBER(SEARCH(\"12\",#REF!)),\"1\",\"0\")","v":"0"},{"$f":"IF(ISNUMBER(SEARCH(\"13\",#REF!)),\"1\",\"0\")","v":"0"},{"$f":"IF(ISNUMBER(SEARCH(\"14\",#REF!)),\"1\",\"0\")","v":"0"},{"$f":"IF(ISNUMBER(SEARCH(\"15\",#REF!)),\"1\",\"0\")","v":"0"},{"$f":"IF(ISNUMBER(SEARCH(\"16\",#REF!)),\"1\",\"0\")","v":"0"},{"$f":"IF(ISNUMBER(SEARCH(\"17\",#REF!)),\"1\",\"0\")","v":"0"},{"$nulls":3},9]
[2,21,null,29,2,33,null,3,8,1,2,5,2,3,"0","0","1","0","0","0","0","0","0","0","0","0","0","0","0","0","0","0",null,1,3,5,2,{"$f":"IF(ISNUMBER(SEARCH(\"1\",#REF!)),\"1\",\"0\")","v":"0"},{"$f":"IF(ISNUMBER(SEARCH(\"2\",#REF!)),\"1\",\"0\")","v":"0"},{"$f":"IF(ISNUMBER(SEARCH(\"3\",#REF!)),\"1\",\"0\")","v":"0"},{"$f":"IF(ISNUMBER(SEARCH(\"4\",#REF!)),\"1\",\"0\")","v":"0"},{"$f":"IF(ISNUMBER(SEARCH(\"5\",#REF!)),\"1\",\"0\")","v":"0"},{"$f":"IF(ISNUMBER(SEARCH(\"6\",#REF!)),\"1\",\"0\")","v":"0"},{"$f":"IF(ISNUMBER(SEARCH(\"7\",#REF!)),\"1\",\"0\")","v":"0"},{"$f":"IF(ISNUMBER(SEARCH(\"8\",#REF!)),\"1\",\"0\")","v":"0"},{"$f":"IF(ISNUMBER(SEARCH(\"9\",#REF!)),\"1\",\"0\")","v":"0"},{"$f":"IF(ISNUMBER(SEARCH(\"9\",#REF!)),\"1\",\"0\")","v":"0"},{"$f":"IF(ISNUMBER(SEARCH(\"10\",#REF!)),\"1\",\"0\")","v":"0"},{"$f":"IF(ISNUMBER(SEARCH(\"11\",#REF!)),\"1\",\"0\")","v":"0"},{"$f":"IF(ISNUMBER(SEARCH(\"12\",#REF!)),\"1\",\"0\")","v":"0"},{"$f":"IF(ISNUMBER(SEARCH(\"13\",#REF!)),\"1\",\"0\")","v":"0"},{"$f":"IF(ISNUMBER(SEARCH(\"14\",#REF!)),\"1\",\"0\")","v":"0"},{"$f":"IF(ISNUMBER(SEARCH(\"15\",#REF!)),\"1\",\"0\")","v":"0"},{"$f":"IF(ISNUMBER(SEARCH(\"16\",#REF!)),\"1\",\"0\")","v":"0"},{"$f":"IF(ISNUMBER(SEARCH(\"17\",#REF!)),\"1\",\"0\")","v":"0"},1,3,null,9]
[2,21,null,32,2,15,null,2,3,1,7,1,2,"11. Membre de famille / personne proche assassinée","1","0","0","0","0","0","0","0","0","0","1","0","0","0","0","0","0","0",null,2,2,5,1,{"$f":"IF(ISNUMBER(SEARCH(\"1\",#REF!)),\"1\",\"0\")","v":"0"},{"$f":"IF(ISNUMBER(SEARCH(\"2\",#REF!)),\"1\",\"0\")","v":"0"},{"$f":"IF(ISNUMBER(SEARCH(\"3\",#REF!)),\"1\",\"0\")","v":"0"},{"$f":"IF(ISNUMBER(SEARCH(\"4\",#REF!)),\"1\",\"0\")","v":"0"},{"$f":"IF(ISNUMBER(SEARCH(\"5\",#REF!)),\"1\",\"0\")","v":"0"},{"$f":"IF(ISNUMBER(SEARCH(\"6\",#REF!)),\"1\",\"0\")","v":"0"},{"$f":"IF(ISNUMBER(SEARCH(\"7\",#REF!)),\"1\",\"0\")","v":"0"},{"$f":"IF(ISNUMBER(SEARCH(\"8\",#REF!)),\"1\",\"0\")","v":"0"},{"$f":"IF(ISNUMBER(SEARCH(\"9\",#REF!)),\"1\",\"0\")","v":"0"},{"$f":"IF(ISNUMBER(SEARCH(\"9\",#REF!)),\"1\",\"0\")","v":"0"},{"$f":"IF(ISNUMBER(SEARCH(\"10\",#REF!)),\"1\",\"0\")","v":"0"},{"$f":"IF(ISNUMBER(SEARCH(\"11\",#REF!)),\"1\",\"0\")","v":"0"},{"$f":"IF(ISNUMBER(SEARCH(\"12\",#REF!)),\"1\",\"0\")","v":"0"},{"$f":"IF(ISNUMBER(SEARCH(\"13\",#REF!)),\"1\",\"0\")","v":"0"},{"$f":"IF(ISNUMBER(SEARCH(\"14\",#REF!)),\"1\",\"0\")","v":"0"},{"$f":"IF(ISNUMBER(SEARCH(\"15\",#REF!)),\"1\",\"0\")","v":"0"},{"$f":"IF(ISNUMBER(SEARCH(\"16\",#REF!)),\"1\",\"0\")","v":"0"},{"$f":"IF(ISNUMBER(SEARCH(\"17\",#REF!)),\"1\",\"0\")","v":"0"},{"$nulls":3},9]
[2,21,null,24,2,40,null,1,8,1,6,3,2,"3, 16. Autre (SVP dans 20 case suivante) ","1","1","1","0","0","1","0","0","0","0","0","0","0","0","0","1","0","0",null,1,7,null,null,{"$f":"IF(ISNUMBER(SEARCH(\"1\",#REF!)),\"1\",\"0\")","v":"0"},{"$f":"IF(ISNUMBER(SEARCH(\"2\",#REF!)),\"1\",\"0\")","v":"0"},{"$f":"IF(ISNUMBER(SEARCH(\"3\",#REF!)),\"1\",\"0\")","v":"0"},{"$f":"IF(ISNUMBER(SEARCH(\"4\",#REF!)),\"1\",\"0\")","v":"0"},{"$f":"IF(ISNUMBER(SEARCH(\"5\",#REF!)),\"1\",\"0\")","v":"0"},{"$f":"IF(ISNUMBER(SEARCH(\"6\",#REF!)),\"1\",\"0\")","v":"0"},{"$f":"IF(ISNUMBER(SEARCH(\"7\",#REF!)),\"1\",\"0\")","v":"0"},{"$f":"IF(ISNUMBER(SEARCH(\"8\",#REF!)),\"1\",\"0\")","v":"0"},{"$f":"IF(ISNUMBER(SEARCH(\"9\",#REF!)),\"1\",\"0\")","v":"0"},{"$f":"IF(ISNUMBER(SEARCH(\"9\",#REF!)),\"1\",\"0\")","v":"0"},{"$f":"IF(ISNUMBER(SEARCH(\"10\",#REF!)),\"1\",\"0\")","v":"0"},{"$f":"IF(ISNUMBER(SEARCH(\"11\",#REF!)),\"1\",\"0\")","v":"0"},{"$f":"IF(ISNUMBER(SEARCH(\"12\",#REF!)),\"1\",\"0\")","v":"0"},{"$f":"IF(ISNUMBER(SEARCH(\"13\",#REF!)),\"1\",\"0\")","v":"0"},{"$f":"IF(ISNUMBER(SEARCH(\"14\",#REF!)),\"1\",\"0\")","v":"0"},{"$f":"IF(ISNUMBER(SEARCH(\"15\",#REF!)),\"1\",\"0\")","v":"0"},{"$f":"IF(ISNUMBER(SEARCH(\"16\",#REF!)),\"1\",\"0\")","v":"0"},{"$f":"IF(ISNUMBER(SEARCH(\"17\",#REF!)),\"1\",\"0\")","v":"0"},1,null,null,9]
[2,21,null,25,2,14,null,2,8,1,3,4,2,"2, 16. Autre (SVP dans 20 case suivante) ","1","1","0","0","0","1","0","0","0","0","0","0","0","0","0","1","0","0",null,1,4,5,2,{"$f":"IF(ISNUMBER(SEARCH(\"1\",#REF!)),\"1\",\"0\")","v":"0"},{"$f":"IF(ISNUMBER(SEARCH(\"2\",#REF!)),\"1\",\"0\")","v":"0"},{"$f":"IF(ISNUMBER(SEARCH(\"3\",#REF!)),\"1\",\"0\")","v":"0"},{"$f":"IF(ISNUMBER(SEARCH(\"4\",#REF!)),\"1\",\"0\")","v":"0"},{"$f":"IF(ISNUMBER(SEARCH(\"5\",#REF!)),\"1\",\"0\")","v":"0"},{"$f":"IF(ISNUMBER(SEARCH(\"6\",#REF!)),\"1\",\"0\")","v":"0"},{"$f":"IF(ISNUMBER(SEARCH(\"7\",#REF!)),\"1\",\"0\")","v":"0"},{"$f":"IF(ISNUMBER(SEARCH(\"8\",#REF!)),\"1\",\"0\")","v":"0"},{"$f":"IF(ISNUMBER(SEARCH(\"9\",#REF!)),\"1\",\"0\")","v":"0"},{"$f":"IF(ISNUMBER(SEARCH(\"9\",#REF!)),\"1\",\"0\")","v":"0"},{"$f":"IF(ISNUMBER(SEARCH(\"10\",#REF!)),\"1\",\"0\")","v":"0"},{"$f":"IF(ISNUMBER(SEARCH(\"11\",#REF!)),\"1\",\"0\")","v":"0"},{"$f":"IF(ISNUMBER(SEARCH(\"12\",#REF!)),\"1\",\"0\")","v":"0"},{"$f":"IF(ISNUMBER(SEARCH(\"13\",#REF!)),\"1\",\"0\")","v":"0"},{"$f":"IF(ISNUMBER(SEARCH(\"14\",#REF!)),\"1\",\"0\")","v":"0"},{"$f":"IF(ISNUMBER(SEARCH(\"15\",#REF!)),\"1\",\"0\")","v":"0"},{"$f":"IF(ISNUMBER(SEARCH(\"16\",#REF!)),\"1\",\"0\")","v":"0"},{"$f":"IF(ISNUMBER(SEARCH(\"17\",#REF!)),\"1\",\"0\")","v":"0"},{"$nulls":3},9]
[2,21,null,26,1,33,null,2,3,1,2,1,2,"2, 16. Autre (SVP dans 20 case suivante) ","1","1","0","0","0","1","0","0","0","0","0","0","0","0","0","1","0","0",null,2,3,5,2,{"$f":"IF(ISNUMBER(SEARCH(\"1\",#REF!)),\"1\",\"0\")","v":"0"},{"$f":"IF(ISNUMBER(SEARCH(\"2\",#REF!)),\"1\",\"0\")","v":"0"},{"$f":"IF(ISNUMBER(SEARCH(\"3\",#REF!)),\"1\",\"0\")","v":"0"},{"$f":"IF(ISNUMBER(SEARCH(\"4\",#REF!)),\"1\",\"0\")","v":"0"},{"$f":"IF(ISNUMBER(SEARCH(\"5\",#REF!)),\"1\",\"0\")","v":"0"},{"$f":"IF(ISNUMBER(SEARCH(\"6\",#REF!)),\"1\",\"0\")","v":"0"},{"$f":"IF(ISNUMBER(SEARCH(\"7\",#REF!)),\"1\",\"0\")","v":"0"},{"$f":"IF(ISNUMBER(SEARCH(\"8\",#REF!)),\"1\",\"0\")","v":"0"},{"$f":"IF(ISNUMBER(SEARCH(\"9\",#REF!)),\"1\",\"0\")","v":"0"},{"$f":"IF(ISNUMBER(SEARCH(\"9\",#REF!)),\"1\",\"0\")","v":"0"},{"$f":"IF(ISNUMBER(SEARCH(\"10\",#REF!)),\"1\",\"0\")","v":"0"},{"$f":"IF(ISNUMBER(SEARCH(\"11\",#REF!)),\"1\",\"0\")","v":"0"},{"$f":"IF(ISNUMBER(SEARCH(\"12\",#REF!)),\"1\",\"0\")","v":"0"},{"$f":"IF(ISNUMBER(SEARCH(\"13\",#REF!)),\"1\",\"0\")","v":"0"},{"$f":"IF(ISNUMBER(SEARCH(\"14\",#REF!)),\"1\",\"0\")","v":"0"},{"$f":"IF(ISNUMBER(SEARCH(\"15\",#REF!)),\"1\",\"0\")","v":"0"},{"$f":"IF(ISNUMBER(SEARCH(\"16\",#REF!)),\"1\",\"0\")","v":"0"},{"$f":"IF(ISNUMBER(SEARCH(\"17\",#REF!)),\"1\",\"0\")","v":"0"},{"$nulls":3},9]
[2,21,null,3,2,45,null,1,3,1,null,5,2,"3, 10","1","0","1","0","0","0","0","0","0","1","0","0","0","0","0","0","0","0",null,1,2,5,2,{"$f":"IF(ISNUMBER(SEARCH(\"1\",#REF!)),\"1\",\"0\")","v":"0"},{"$f":"IF(ISNUMBER(SEARCH(\"2\",#REF!)),\"1\",\"0\")","v":"0"},{"$f":"IF(ISNUMBER(SEARCH(\"3\",#REF!)),\"1\",\"0\")","v":"0"},{"$f":"IF(ISNUMBER(SEARCH(\"4\",#REF!)),\"1\",\"0\")","v":"0"},{"$f":"IF(ISNUMBER(SEARCH(\"5\",#REF!)),\"1\",\"0\")","v":"0"},{"$f":"IF(ISNUMBER(SEARCH(\"6\",#REF!)),\"1\",\"0\")","v":"0"},{"$f":"IF(ISNUMBER(SEARCH(\"7\",#REF!)),\"1\",\"0\")","v":"0"},{"$f":"IF(ISNUMBER(SEARCH(\"8\",#REF!)),\"1\",\"0\")","v":"0"},{"$f":"IF(ISNUMBER(SEARCH(\"9\",#REF!)),\"1\",\"0\")","v":"0"},{"$f":"IF(ISNUMBER(SEARCH(\"9\",#REF!)),\"1\",\"0\")","v":"0"},{"$f":"IF(ISNUMBER(SEARCH(\"10\",#REF!)),\"1\",\"0\")","v":"0"},{"$f":"IF(ISNUMBER(SEARCH(\"11\",#REF!)),\"1\",\"0\")","v":"0"},{"$f":"IF(ISNUMBER(SEARCH(\"12\",#REF!)),\"1\",\"0\")","v":"0"},{"$f":"IF(ISNUMBER(SEARCH(\"13\",#REF!)),\"1\",\"0\")","v":"0"},{"$f":"IF(ISNUMBER(SEARCH(\"14\",#REF!)),\"1\",\"0\")","v":"0"},{"$f":"IF(ISNUMBER(SEARCH(\"15\",#REF!)),\"1\",\"0\")","v":"0"},{"$f":"IF(ISNUMBER(SEARCH(\"16\",#REF!)),\"1\",\"0\")","v":"0"},{"$f":"IF(ISNUMBER(SEARCH(\"17\",#REF!)),\"1\",\"0\")","v":"0"},1,null,null,9,14,22,26,{"$nulls":11},{"$f":"#REF!-#REF!","v":{"$error":"#REF!"}}]
[2,21,null,24,2,28,null,1,3,1,null,3,2,"3, 16. Autre (SVP dans 20 case suivante) ","1","1","1","0","0","1","0","0","0","0","0","0","0","0","0","1","0","0",null,1,7,5,2,{"$f":"IF(ISNUMBER(SEARCH(\"1\",#REF!)),\"1\",\"0\")","v":"0"},{"$f":"IF(ISNUMBER(SEARCH(\"2\",#REF!)),\"1\",\"0\")","v":"0"},{"$f":"IF(ISNUMBER(SEARCH(\"3\",#REF!)),\"1\",\"0\")","v":"0"},{"$f":"IF(ISNUMBER(SEARCH(\"4\",#REF!)),\"1\",\"0\")","v":"0"},{"$f":"IF(ISNUMBER(SEARCH(\"5\",#REF!)),\"1\",\"0\")","v":"0"},{"$f":"IF(ISNUMBER(SEARCH(\"6\",#REF!)),\"1\",\"0\")","v":"0"},{"$f":"IF(ISNUMBER(SEARCH(\"7\",#REF!)),\"1\",\"0\")","v":"0"},{"$f":"IF(ISNUMBER(SEARCH(\"8\",#REF!)),\"1\",\"0\")","v":"0"},{"$f":"IF(ISNUMBER(SEARCH(\"9\",#REF!)),\"1\",\"0\")","v":"0"},{"$f":"IF(ISNUMBER(SEARCH(\"9\",#REF!)),\"1\",\"0\")","v":"0"},{"$f":"IF(ISNUMBER(SEARCH(\"10\",#REF!)),\"1\",\"0\")","v":"0"},{"$f":"IF(ISNUMBER(SEARCH(\"11\",#REF!)),\"1\",\"0\")","v":"0"},{"$f":"IF(ISNUMBER(SEARCH(\"12\",#REF!)),\"1\",\"0\")","v":"0"},{"$f":"IF(ISNUMBER(SEARCH(\"13\",#REF!)),\"1\",\"0\")","v":"0"},{"$f":"IF(ISNUMBER(SEARCH(\"14\",#REF!)),\"1\",\"0\")","v":"0"},{"$f":"IF(ISNUMBER(SEARCH(\"15\",#REF!)),\"1\",\"0\")","v":"0"},{"$f":"IF(ISNUMBER(SEARCH(\"16\",#REF!)),\"1\",\"0\")","v":"0"},{"$f":"IF(ISNUMBER(SEARCH(\"17\",#REF!)),\"1\",\"0\")","v":"0"},1,null,null,9]
[2,21,null,25,1,60,null,2,3,1,4,1,6,"15. Insultes / a reçu des menaces, 16. Autre (SVP dans 20 case suivante) ","1","1","0","0","1","1","0","0","0","0","0","0","0","0","1","1","0","0",null,1,1,3,1,{"$f":"IF(ISNUMBER(SEARCH(\"1\",#REF!)),\"1\",\"0\")","v":"0"},{"$f":"IF(ISNUMBER(SEARCH(\"2\",#REF!)),\"1\",\"0\")","v":"0"},{"$f":"IF(ISNUMBER(SEARCH(\"3\",#REF!)),\"1\",\"0\")","v":"0"},{"$f":"IF(ISNUMBER(SEARCH(\"4\",#REF!)),\"1\",\"0\")","v":"0"},{"$f":"IF(ISNUMBER(SEARCH(\"5\",#REF!)),\"1\",\"0\")","v":"0"},{"$f":"IF(ISNUMBER(SEARCH(\"6\",#REF!)),\"1\",\"0\")","v":"0"},{"$f":"IF(ISNUMBER(SEARCH(\"7\",#REF!)),\"1\",\"0\")","v":"0"},{"$f":"IF(ISNUMBER(SEARCH(\"8\",#REF!)),\"1\",\"0\")","v":"0"},{"$f":"IF(ISNUMBER(SEARCH(\"9\",#REF!)),\"1\",\"0\")","v":"0"},{"$f":"IF(ISNUMBER(SEARCH(\"9\",#REF!)),\"1\",\"0\")","v":"0"},{"$f":"IF(ISNUMBER(SEARCH(\"10\",#REF!)),\"1\",\"0\")","v":"0"},{"$f":"IF(ISNUMBER(SEARCH(\"11\",#REF!)),\"1\",\"0\")","v":"0"},{"$f":"IF(ISNUMBER(SEARCH(\"12\",#REF!)),\"1\",\"0\")","v":"0"},{"$f":"IF(ISNUMBER(SEARCH(\"13\",#REF!)),\"1\",\"0\")","v":"0"},{"$f":"IF(ISNUMBER(SEARCH(\"14\",#REF!)),\"1\",\"0\")","v":"0"},{"$f":"IF(ISNUMBER(SEARCH(\"15\",#REF!)),\"1\",\"0\")","v":"0"},{"$f":"IF(ISNUMBER(SEARCH(\"16\",#REF!)),\"1\",\"0\")","v":"0"},{"$f":"IF(ISNUMBER(SEARCH(\"17\",#REF!)),\"1\",\"0\")","v":"0"},{"$nulls":3},6]
[2,21,null,26,2,40,null,1,3,1,2,8,2,"3, 15. Insultes / a reçu des menaces","1","0","1","0","1","0","0","0","0","0","0","0","0","0","1","0","0","0",null,2,5,5,2,{"$f":"IF(ISNUMBER(SEARCH(\"1\",#REF!)),\"1\",\"0\")","v":"0"},{"$f":"IF(ISNUMBER(SEARCH(\"2\",#REF!)),\"1\",\"0\")","v":"0"},{"$f":"IF(ISNUMBER(SEARCH(\"3\",#REF!)),\"1\",\"0\")","v":"0"},{"$f":"IF(ISNUMBER(SEARCH(\"4\",#REF!)),\"1\",\"0\")","v":"0"},{"$f":"IF(ISNUMBER(SEARCH(\"5\",#REF!)),\"1\",\"0\")","v":"0"},{"$f":"IF(ISNUMBER(SEARCH(\"6\",#REF!)),\"1\",\"0\")","v":"0"},{"$f":"IF(ISNUMBER(SEARCH(\"7\",#REF!)),\"1\",\"0\")","v":"0"},{"$f":"IF(ISNUMBER(SEARCH(\"8\",#REF!)),\"1\",\"0\")","v":"0"},{"$f":"IF(ISNUMBER(SEARCH(\"9\",#REF!)),\"1\",\"0\")","v":"0"},{"$f":"IF(ISNUMBER(SEARCH(\"9\",#REF!)),\"1\",\"0\")","v":"0"},{"$f":"IF(ISNUMBER(SEARCH(\"10\",#REF!)),\"1\",\"0\")","v":"0"},{"$f":"IF(ISNUMBER(SEARCH(\"11\",#REF!)),\"1\",\"0\")","v":"0"},{"$f":"IF(ISNUMBER(SEARCH(\"12\",#REF!)),\"1\",\"0\")","v":"0"},{"$f":"IF(ISNUMBER(SEARCH(\"13\",#REF!)),\"1\",\"0\")","v":"0"},{"$f":"IF(ISNUMBER(SEARCH(\"14\",#REF!)),\"1\",\"0\")","v":"0"},{"$f":"IF(ISNUMBER(SEARCH(\"15\",#REF!)),\"1\",\"0\")","v":"0"},{"$f":"IF(ISNUMBER(SEARCH(\"16\",#REF!)),\"1\",\"0\")","v":"0"},{"$f":"IF(ISNUMBER(SEARCH(\"17\",#REF!)),\"1\",\"0\")","v":"0"},3,null,null,9]
[2,21,null,35,1,32,null,3,3,1,10,5,2,"11. Membre de famille / personne proche assassinée, 16. Autre (SVP dans 20 case suivante) ","1","1","0","0","0","1","0","0","0","0","1","0","0","0","0","1","0","0",null,2,3,3,1,{"$f":"IF(ISNUMBER(SEARCH(\"1\",#REF!)),\"1\",\"0\")","v":"0"},0,{"$f":"IF(ISNUMBER(SEARCH(\"3\",#REF!)),\"1\",\"0\")","v":"0"},{"$f":"IF(ISNUMBER(SEARCH(\"4\",#REF!)),\"1\",\"0\")","v":"0"},{"$f":"IF(ISNUMBER(SEARCH(\"5\",#REF!)),\"1\",\"0\")","v":"0"},{"$f":"IF(ISNUMBER(SEARCH(\"6\",#REF!)),\"1\",\"0\")","v":"0"},{"$f":"IF(ISNUMBER(SEARCH(\"7\",#REF!)),\"1\",\"0\")","v":"0"},{"$f":"IF(ISNUMBER(SEARCH(\"8\",#REF!)),\"1\",\"0\")","v":"0"},{"$f":"IF(ISNUMBER(SEARCH(\"9\",#REF!)),\"1\",\"0\")","v":"0"},{"$f":"IF(ISNUMBER(SEARCH(\"9\",#REF!)),\"1\",\"0\")","v":"0"},{"$f":"IF(ISNUMBER(SEARCH(\"10\",#REF!)),\"1\",\"0\")","v":"0"},{"$f":"IF(ISNUMBER(SEARCH(\"11\",#REF!)),\"1\",\"0\")","v":"0"},{"$f":"IF(ISNUMBER(SEARCH(\"12\",#REF!)),\"1\",\"0\")","v":"0"},{"$f":"IF(ISNUMBER(SEARCH(\"13\",#REF!)),\"1\",\"0\")","v":"0"},{"$f":"IF(ISNUMBER(SEARCH(\"14\",#REF!)),\"1\",\"0\")","v":"0"},{"$f":"IF(ISNUMBER(SEARCH(\"15\",#REF!)),\"1\",\"0\")","v":"0"},{"$f":"IF(ISNUMBER(SEARCH(\"16\",#REF!)),\"1\",\"0\")","v":"0"},{"$f":"IF(ISNUMBER(SEARCH(\"17\",#REF!)),\"1\",\"0\")","v":"0"},{"$nulls":3},9]
[2,21,null,3,null,40,null,2,3,1,4,5,2,3,"0","0","1","0","0","0","0","0","0","0","0","0","0","0","0","0","0","0",null,1,2,5,1,{"$f":"IF(ISNUMBER(SEARCH(\"1\",#REF!)),\"1\",\"0\")","v":"0"},{"$f":"IF(ISNUMBER(SEARCH(\"2\",#REF!)),\"1\",\"0\")","v":"0"},{"$f":"IF(ISNUMBER(SEARCH(\"3\",#REF!)),\"1\",\"0\")","v":"0"},{"$f":"IF(ISNUMBER(SEARCH(\"4\",#REF!)),\"1\",\"0\")","v":"0"},{"$f":"IF(ISNUMBER(SEARCH(\"5\",#REF!)),\"1\",\"0\")","v":"0"},{"$f":"IF(ISNUMBER(SEARCH(\"6\",#REF!)),\"1\",\"0\")","v":"0"},{"$f":"IF(ISNUMBER(SEARCH(\"7\",#REF!)),\"1\",\"0\")","v":"0"},{"$f":"IF(ISNUMBER(SEARCH(\"8\",#REF!)),\"1\",\"0\")","v":"0"},{"$f":"IF(ISNUMBER(SEARCH(\"9\",#REF!)),\"1\",\"0\")","v":"0"},{"$f":"IF(ISNUMBER(SEARCH(\"9\",#REF!)),\"1\",\"0\")","v":"0"},{"$f":"IF(ISNUMBER(SEARCH(\"10\",#REF!)),\"1\",\"0\")","v":"0"},{"$f":"IF(ISNUMBER(SEARCH(\"11\",#REF!)),\"1\",\"0\")","v":"0"},{"$f":"IF(ISNUMBER(SEARCH(\"12\",#REF!)),\"1\",\"0\")","v":"0"},{"$f":"IF(ISNUMBER(SEARCH(\"13\",#REF!)),\"1\",\"0\")","v":"0"},{"$f":"IF(ISNUMBER(SEARCH(\"14\",#REF!)),\"1\",\"0\")","v":"0"},{"$f":"IF(ISNUMBER(SEARCH(\"15\",#REF!)),\"1\",\"0\")","v":"0"},{"$f":"IF(ISNUMBER(SEARCH(\"16\",#REF!)),\"1\",\"0\")","v":"0"},{"$f":"IF(ISNUMBER(SEARCH(\"17\",#REF!)),\"1\",\"0\")","v":"0"},1,null,null,9]
[2,21,null,35,2,19,null,2,3,null,0,5,1,"2, 12. Pesonne de 20 famille disparue","1","1","0","0","0","0","0","0","0","0","0","1","0","0","0","0","0","0",null,2,4,5,2,{"$f":"IF(ISNUMBER(SEARCH(\"1\",#REF!)),\"1\",\"0\")","v":"0"},0,{"$f":"IF(ISNUMBER(SEARCH(\"3\",#REF!)),\"1\",\"0\")","v":"0"},{"$f":"IF(ISNUMBER(SEARCH(\"4\",#REF!)),\"1\",\"0\")","v":"0"},{"$f":"IF(ISNUMBER(SEARCH(\"5\",#REF!)),\"1\",\"0\")","v":"0"},{"$f":"IF(ISNUMBER(SEARCH(\"6\",#REF!)),\"1\",\"0\")","v":"0"},{"$f":"IF(ISNUMBER(SEARCH(\"7\",#REF!)),\"1\",\"0\")","v":"0"},{"$f":"IF(ISNUMBER(SEARCH(\"8\",#REF!)),\"1\",\"0\")","v":"0"},{"$f":"IF(ISNUMBER(SEARCH(\"9\",#REF!)),\"1\",\"0\")","v":"0"},{"$f":"IF(ISNUMBER(SEARCH(\"9\",#REF!)),\"1\",\"0\")","v":"0"},{"$f":"IF(ISNUMBER(SEARCH(\"10\",#REF!)),\"1\",\"0\")","v":"0"},{"$f":"IF(ISNUMBER(SEARCH(\"11\",#REF!)),\"1\",\"0\")","v":"0"},{"$f":"IF(ISNUMBER(SEARCH(\"12\",#REF!)),\"1\",\"0\")","v":"0"},{"$f":"IF(ISNUMBER(SEARCH(\"13\",#REF!)),\"1\",\"0\")","v":"0"},{"$f":"IF(ISNUMBER(SEARCH(\"14\",#REF!)),\"1\",\"0\")","v":"0"},{"$f":"IF(ISNUMBER(SEARCH(\"15\",#REF!)),\"1\",\"0\")","v":"0"},{"$f":"IF(ISNUMBER(SEARCH(\"16\",#REF!)),\"1\",\"0\")","v":"0"},{"$f":"IF(ISNUMBER(SEARCH(\"17\",#REF!)),\"1\",\"0\")","v":"0"},{"$nulls":3},9]
[2,21,null,6,2,17,null,2,3,1,6,5,2,14,"1","0","0","1","0","0","0","0","0","0","0","0","0","1","0","0","0","0",null,1,1,3,1,{"$f":"IF(ISNUMBER(SEARCH(\"1\",#REF!)),\"1\",\"0\")","v":"0"},{"$f":"IF(ISNUMBER(SEARCH(\"2\",#REF!)),\"1\",\"0\")","v":"0"},{"$f":"IF(ISNUMBER(SEARCH(\"3\",#REF!)),\"1\",\"0\")","v":"0"},{"$f":"IF(ISNUMBER(SEARCH(\"4\",#REF!)),\"1\",\"0\")","v":"0"},{"$f":"IF(ISNUMBER(SEARCH(\"5\",#REF!)),\"1\",\"0\")","v":"0"},{"$f":"IF(ISNUMBER(SEARCH(\"6\",#REF!)),\"1\",\"0\")","v":"0"},{"$f":"IF(ISNUMBER(SEARCH(\"7\",#REF!)),\"1\",\"0\")","v":"0"},{"$f":"IF(ISNUMBER(SEARCH(\"8\",#REF!)),\"1\",\"0\")","v":"0"},{"$f":"IF(ISNUMBER(SEARCH(\"9\",#REF!)),\"1\",\"0\")","v":"0"},{"$f":"IF(ISNUMBER(SEARCH(\"9\",#REF!)),\"1\",\"0\")","v":"0"},{"$f":"IF(ISNUMBER(SEARCH(\"10\",#REF!)),\"1\",\"0\")","v":"0"},{"$f":"IF(ISNUMBER(SEARCH(\"11\",#REF!)),\"1\",\"0\")","v":"0"},{"$f":"IF(ISNUMBER(SEARCH(\"12\",#REF!)),\"1\",\"0\")","v":"0"},{"$f":"IF(ISNUMBER(SEARCH(\"13\",#REF!)),\"1\",\"0\")","v":"0"},{"$f":"IF(ISNUMBER(SEARCH(\"14\",#REF!)),\"1\",\"0\")","v":"0"},{"$f":"IF(ISNUMBER(SEARCH(\"15\",#REF!)),\"1\",\"0\")","v":"0"},{"$f":"IF(ISNUMBER(SEARCH(\"16\",#REF!)),\"1\",\"0\")","v":"0"},{"$f":"IF(ISNUMBER(SEARCH(\"17\",#REF!)),\"1\",\"0\")","v":"0"}]
[2,21,null,3,1,26,null,1,3,1,3,5,2,3,"0","0","1","0","0","0","0","0","0","0","0","0","0","0","0","0","0","0",null,1,2,5,1,{"$f":"IF(ISNUMBER(SEARCH(\"1\",#REF!)),\"1\",\"0\")","v":"0"},{"$f":"IF(ISNUMBER(SEARCH(\"2\",#REF!)),\"1\",\"0\")","v":"0"},{"$f":"IF(ISNUMBER(SEARCH(\"3\",#REF!)),\"1\",\"0\")","v":"0"},{"$f":"IF(ISNUMBER(SEARCH(\"4\",#REF!)),\"1\",\"0\")","v":"0"},{"$f":"IF(ISNUMBER(SEARCH(\"5\",#REF!)),\"1\",\"0\")","v":"0"},{"$f":"IF(ISNUMBER(SEARCH(\"6\",#REF!)),\"1\",\"0\")","v":"0"},{"$f":"IF(ISNUMBER(SEARCH(\"7\",#REF!)),\"1\",\"0\")","v":"0"},{"$f":"IF(ISNUMBER(SEARCH(\"8\",#REF!)),\"1\",\"0\")","v":"0"},{"$f":"IF(ISNUMBER(SEARCH(\"9\",#REF!)),\"1\",\"0\")","v":"0"},{"$f":"IF(ISNUMBER(SEARCH(\"9\",#REF!)),\"1\",\"0\")","v":"0"},{"$f":"IF(ISNUMBER(SEARCH(\"10\",#REF!)),\"1\",\"0\")","v":"0"},{"$f":"IF(ISNUMBER(SEARCH(\"11\",#REF!)),\"1\",\"0\")","v":"0"},{"$f":"IF(ISNUMBER(SEARCH(\"12\",#REF!)),\"1\",\"0\")","v":"0"},{"$f":"IF(ISNUMBER(SEARCH(\"13\",#REF!)),\"1\",\"0\")","v":"0"},{"$f":"IF(ISNUMBER(SEARCH(\"14\",#REF!)),\"1\",\"0\")","v":"0"},{"$f":"IF(ISNUMBER(SEARCH(\"15\",#REF!)),\"1\",\"0\")","v":"0"},{"$f":"IF(ISNUMBER(SEARCH(\"16\",#REF!)),\"1\",\"0\")","v":"0"},{"$f":"IF(ISNUMBER(SEARCH(\"17\",#REF!)),\"1\",\"0\")","v":"0"},1]
[2,21,null,3,2,30,null,1,3,1,4,5,1,3,"0","0","1","0","0","0","0","0","0","0","0","0","0","0","0","0","0","0",null,1,2,5,1,{"$f":"IF(ISNUMBER(SEARCH(\"1\",#REF!)),\"1\",\"0\")","v":"0"},{"$f":"IF(ISNUMBER(SEARCH(\"2\",#REF!)),\"1\",\"0\")","v":"0"},{"$f":"IF(ISNUMBER(SEARCH(\"3\",#REF!)),\"1\",\"0\")","v":"0"},{"$f":"IF(ISNUMBER(SEARCH(\"4\",#REF!)),\"1\",\"0\")","v":"0"},{"$f":"IF(ISNUMBER(SEARCH(\"5\",#REF!)),\"1\",\"0\")","v":"0"},{"$f":"IF(ISNUMBER(SEARCH(\"6\",#REF!)),\"1\",\"0\")","v":"0"},{"$f":"IF(ISNUMBER(SEARCH(\"7\",#REF!)),\"1\",\"0\")","v":"0"},{"$f":"IF(ISNUMBER(SEARCH(\"8\",#REF!)),\"1\",\"0\")","v":"0"},{"$f":"IF(ISNUMBER(SEARCH(\"9\",#REF!)),\"1\",\"0\")","v":"0"},{"$f":"IF(ISNUMBER(SEARCH(\"9\",#REF!)),\"1\",\"0\")","v":"0"},{"$f":"IF(ISNUMBER(SEARCH(\"10\",#REF!)),\"1\",\"0\")","v":"0"},{"$f":"IF(ISNUMBER(SEARCH(\"11\",#REF!)),\"1\",\"0\")","v":"0"},{"$f":"IF(ISNUMBER(SEARCH(\"12\",#REF!)),\"1\",\"0\")","v":"0"},{"$f":"IF(ISNUMBER(SEARCH(\"13\",#REF!)),\"1\",\"0\")","v":"0"},{"$f":"IF(ISNUMBER(SEARCH(\"14\",#REF!)),\"1\",\"0\")","v":"0"},{"$f":"IF(ISNUMBER(SEARCH(\"15\",#REF!)),\"1\",\"0\")","v":"0"},{"$f":"IF(ISNUMBER(SEARCH(\"16\",#REF!)),\"1\",\"0\")","v":"0"},{"$f":"IF(ISNUMBER(SEARCH(\"17\",#REF!)),\"1\",\"0\")","v":"0"}]
[2,21,null,36,2,37,null,2,3,1,8,5,2,"9. Kidnapping/  Enlèvement/ Otage (SANS violence sexuelle)","0","0","0","0","0","0","0","0","1","0","0","0","0","0","0","0","0","0",null,1,7,5,2,{"$f":"IF(ISNUMBER(SEARCH(\"1\",#REF!)),\"1\",\"0\")","v":"0"},{"$f":"IF(ISNUMBER(SEARCH(\"2\",#REF!)),\"1\",\"0\")","v":"0"},{"$f":"IF(ISNUMBER(SEARCH(\"3\",#REF!)),\"1\",\"0\")","v":"0"},{"$f":"IF(ISNUMBER(SEARCH(\"4\",#REF!)),\"1\",\"0\")","v":"0"},{"$f":"IF(ISNUMBER(SEARCH(\"5\",#REF!)),\"1\",\"0\")","v":"0"},{"$f":"IF(ISNUMBER(SEARCH(\"6\",#REF!)),\"1\",\"0\")","v":"0"},{"$f":"IF(ISNUMBER(SEARCH(\"7\",#REF!)),\"1\",\"0\")","v":"0"},{"$f":"IF(ISNUMBER(SEARCH(\"8\",#REF!)),\"1\",\"0\")","v":"0"},{"$f":"IF(ISNUMBER(SEARCH(\"9\",#REF!)),\"1\",\"0\")","v":"0"},{"$f":"IF(ISNUMBER(SEARCH(\"9\",#REF!)),\"1\",\"0\")","v":"0"},{"$f":"IF(ISNUMBER(SEARCH(\"10\",#REF!)),\"1\",\"0\")","v":"0"},{"$f":"IF(ISNUMBER(SEARCH(\"11\",#REF!)),\"1\",\"0\")","v":"0"},{"$f":"IF(ISNUMBER(SEARCH(\"12\",#REF!)),\"1\",\"0\")","v":"0"},{"$f":"IF(ISNUMBER(SEARCH(\"13\",#REF!)),\"1\",\"0\")","v":"0"},{"$f":"IF(ISNUMBER(SEARCH(\"14\",#REF!)),\"1\",\"0\")","v":"0"},{"$f":"IF(ISNUMBER(SEARCH(\"15\",#REF!)),\"1\",\"0\")","v":"0"},{"$f":"IF(ISNUMBER(SEARCH(\"16\",#REF!)),\"1\",\"0\")","v":"0"},{"$f":"IF(ISNUMBER(SEARCH(\"17\",#REF!)),\"1\",\"0\")","v":"0"},{"$nulls":3},3]
[2,21,null,3,2,20,null,1,3,1,2,5,2,3,"0","0","1","0","0","0","0","0","0","0","0","0","0","0","0","0","0","0",null,1,3,5,1,{"$f":"IF(ISNUMBER(SEARCH(\"1\",#REF!)),\"1\",\"0\")","v":"0"},{"$f":"IF(ISNUMBER(SEARCH(\"2\",#REF!)),\"1\",\"0\")","v":"0"},{"$f":"IF(ISNUMBER(SEARCH(\"3\",#REF!)),\"1\",\"0\")","v":"0"},{"$f":"IF(ISNUMBER(SEARCH(\"4\",#REF!)),\"1\",\"0\")","v":"0"},{"$f":"IF(ISNUMBER(SEARCH(\"5\",#REF!)),\"1\",\"0\")","v":"0"},{"$f":"IF(ISNUMBER(SEARCH(\"6\",#REF!)),\"1\",\"0\")","v":"0"},{"$f":"IF(ISNUMBER(SEARCH(\"7\",#REF!)),\"1\",\"0\")","v":"0"},{"$f":"IF(ISNUMBER(SEARCH(\"8\",#REF!)),\"1\",\"0\")","v":"0"},{"$f":"IF(ISNUMBER(SEARCH(\"9\",#REF!)),\"1\",\"0\")","v":"0"},{"$f":"IF(ISNUMBER(SEARCH(\"9\",#REF!)),\"1\",\"0\")","v":"0"},{"$f":"IF(ISNUMBER(SEARCH(\"10\",#REF!)),\"1\",\"0\")","v":"0"},{"$f":"IF(ISNUMBER(SEARCH(\"11\",#REF!)),\"1\",\"0\")","v":"0"},{"$f":"IF(ISNUMBER(SEARCH(\"12\",#REF!)),\"1\",\"0\")","v":"0"},{"$f":"IF(ISNUMBER(SEARCH(\"13\",#REF!)),\"1\",\"0\")","v":"0"},{"$f":"IF(ISNUMBER(SEARCH(\"14\",#REF!)),\"1\",\"0\")","v":"0"},{"$f":"IF(ISNUMBER(SEARCH(\"15\",#REF!)),\"1\",\"0\")","v":"0"},{"$f":"IF(ISNUMBER(SEARCH(\"16\",#REF!)),\"1\",\"0\")","v":"0"},{"$f":"IF(ISNUMBER(SEARCH(\"17\",#REF!)),\"1\",\"0\")","v":"0"},1]
[2,21,null,36,2,29,null,1,3,1,null,5,1,"4. Tentative de Viol","0","0","0","1","0","0","0","0","0","0","0","0","0","0","0","0","0","0",null,1,null,5,2,{"$f":"IF(ISNUMBER(SEARCH(\"1\",#REF!)),\"1\",\"0\")","v":"0"},{"$f":"IF(ISNUMBER(SEARCH(\"2\",#REF!)),\"1\",\"0\")","v":"0"},{"$f":"IF(ISNUMBER(SEARCH(\"3\",#REF!)),\"1\",\"0\")","v":"0"},{"$f":"IF(ISNUMBER(SEARCH(\"4\",#REF!)),\"1\",\"0\")","v":"0"},{"$f":"IF(ISNUMBER(SEARCH(\"5\",#REF!)),\"1\",\"0\")","v":"0"},{"$f":"IF(ISNUMBER(SEARCH(\"6\",#REF!)),\"1\",\"0\")","v":"0"},{"$f":"IF(ISNUMBER(SEARCH(\"7\",#REF!)),\"1\",\"0\")","v":"0"},{"$f":"IF(ISNUMBER(SEARCH(\"8\",#REF!)),\"1\",\"0\")","v":"0"},{"$f":"IF(ISNUMBER(SEARCH(\"9\",#REF!)),\"1\",\"0\")","v":"0"},{"$f":"IF(ISNUMBER(SEARCH(\"9\",#REF!)),\"1\",\"0\")","v":"0"},{"$f":"IF(ISNUMBER(SEARCH(\"10\",#REF!)),\"1\",\"0\")","v":"0"},{"$f":"IF(ISNUMBER(SEARCH(\"11\",#REF!)),\"1\",\"0\")","v":"0"},{"$f":"IF(ISNUMBER(SEARCH(\"12\",#REF!)),\"1\",\"0\")","v":"0"},{"$f":"IF(ISNUMBER(SEARCH(\"13\",#REF!)),\"1\",\"0\")","v":"0"},{"$f":"IF(ISNUMBER(SEARCH(\"14\",#REF!)),\"1\",\"0\")","v":"0"},{"$f":"IF(ISNUMBER(SEARCH(\"15\",#REF!)),\"1\",\"0\")","v":"0"},{"$f":"IF(ISNUMBER(SEARCH(\"16\",#REF!)),\"1\",\"0\")","v":"0"},{"$f":"IF(ISNUMBER(SEARCH(\"17\",#REF!)),\"1\",\"0\")","v":"0"},{"$nulls":3},9]
[2,21,null,32,2,32,null,2,3,1,7,3,2,1,"1","0","0","0","0","0","0","0","0","0","0","0","0","0","0","0","0","0",null,1,4,5,null,{"$f":"IF(ISNUMBER(SEARCH(\"1\",#REF!)),\"1\",\"0\")","v":"0"},{"$f":"IF(ISNUMBER(SEARCH(\"2\",#REF!)),\"1\",\"0\")","v":"0"},{"$f":"IF(ISNUMBER(SEARCH(\"3\",#REF!)),\"1\",\"0\")","v":"0"},{"$f":"IF(ISNUMBER(SEARCH(\"4\",#REF!)),\"1\",\"0\")","v":"0"},{"$f":"IF(ISNUMBER(SEARCH(\"5\",#REF!)),\"1\",\"0\")","v":"0"},{"$f":"IF(ISNUMBER(SEARCH(\"6\",#REF!)),\"1\",\"0\")","v":"0"},{"$f":"IF(ISNUMBER(SEARCH(\"7\",#REF!)),\"1\",\"0\")","v":"0"},{"$f":"IF(ISNUMBER(SEARCH(\"8\",#REF!)),\"1\",\"0\")","v":"0"},{"$f":"IF(ISNUMBER(SEARCH(\"9\",#REF!)),\"1\",\"0\")","v":"0"},{"$f":"IF(ISNUMBER(SEARCH(\"9\",#REF!)),\"1\",\"0\")","v":"0"},{"$f":"IF(ISNUMBER(SEARCH(\"10\",#REF!)),\"1\",\"0\")","v":"0"},{"$f":"IF(ISNUMBER(SEARCH(\"11\",#REF!)),\"1\",\"0\")","v":"0"},{"$f":"IF(ISNUMBER(SEARCH(\"12\",#REF!)),\"1\",\"0\")","v":"0"},{"$f":"IF(ISNUMBER(SEARCH(\"13\",#REF!)),\"1\",\"0\")","v":"0"},{"$f":"IF(ISNUMBER(SEARCH(\"14\",#REF!)),\"1\",\"0\")","v":"0"},{"$f":"IF(ISNUMBER(SEARCH(\"15\",#REF!)),\"1\",\"0\")","v":"0"},{"$f":"IF(ISNUMBER(SEARCH(\"16\",#REF!)),\"1\",\"0\")","v":"0"},{"$f":"IF(ISNUMBER(SEARCH(\"17\",#REF!)),\"1\",\"0\")","v":"0"},{"$nulls":3},3]
[2,21,null,30,2,33,null,3,3,1,0,1,1,"13. Recrutement Forcé (par Groupe Armé)","1","0","1","0","0","0","0","0","0","0","0","0","1","0","0","0","0","0",null,1,1,5,2,{"$f":"IF(ISNUMBER(SEARCH(\"1\",#REF!)),\"1\",\"0\")","v":"0"},0,{"$f":"IF(ISNUMBER(SEARCH(\"3\",#REF!)),\"1\",\"0\")","v":"0"},{"$f":"IF(ISNUMBER(SEARCH(\"4\",#REF!)),\"1\",\"0\")","v":"0"},{"$f":"IF(ISNUMBER(SEARCH(\"5\",#REF!)),\"1\",\"0\")","v":"0"},{"$f":"IF(ISNUMBER(SEARCH(\"6\",#REF!)),\"1\",\"0\")","v":"0"},{"$f":"IF(ISNUMBER(SEARCH(\"7\",#REF!)),\"1\",\"0\")","v":"0"},{"$f":"IF(ISNUMBER(SEARCH(\"8\",#REF!)),\"1\",\"0\")","v":"0"},{"$f":"IF(ISNUMBER(SEARCH(\"9\",#REF!)),\"1\",\"0\")","v":"0"},{"$f":"IF(ISNUMBER(SEARCH(\"9\",#REF!)),\"1\",\"0\")","v":"0"},{"$f":"IF(ISNUMBER(SEARCH(\"10\",#REF!)),\"1\",\"0\")","v":"0"},{"$f":"IF(ISNUMBER(SEARCH(\"11\",#REF!)),\"1\",\"0\")","v":"0"},{"$f":"IF(ISNUMBER(SEARCH(\"12\",#REF!)),\"1\",\"0\")","v":"0"},{"$f":"IF(ISNUMBER(SEARCH(\"13\",#REF!)),\"1\",\"0\")","v":"0"},{"$f":"IF(ISNUMBER(SEARCH(\"14\",#REF!)),\"1\",\"0\")","v":"0"},{"$f":"IF(ISNUMBER(SEARCH(\"15\",#REF!)),\"1\",\"0\")","v":"0"},{"$f":"IF(ISNUMBER(SEARCH(\"16\",#REF!)),\"1\",\"0\")","v":"0"},{"$f":"IF(ISNUMBER(SEARCH(\"17\",#REF!)),\"1\",\"0\")","v":"0"},{"$nulls":3},3,24,14,16,{"$nulls":3},10,6,6,22,{"$nulls":4},{"$f":"#REF!-#REF!","v":{"$error":"#REF!"}},{"$f":"#REF!-#REF!","v":{"$error":"#REF!"}}]
[2,21,null,30,2,27,null,3,7,1,4,5,2,"1, 3","1","0","1","0","0","0","0","0","0","0","0","0","0","0","0","0","0","0",null,1,3,5,2,{"$f":"IF(ISNUMBER(SEARCH(\"1\",#REF!)),\"1\",\"0\")","v":"0"},{"$f":"IF(ISNUMBER(SEARCH(\"2\",#REF!)),\"1\",\"0\")","v":"0"},{"$f":"IF(ISNUMBER(SEARCH(\"3\",#REF!)),\"1\",\"0\")","v":"0"},{"$f":"IF(ISNUMBER(SEARCH(\"4\",#REF!)),\"1\",\"0\")","v":"0"},{"$f":"IF(ISNUMBER(SEARCH(\"5\",#REF!)),\"1\",\"0\")","v":"0"},{"$f":"IF(ISNUMBER(SEARCH(\"6\",#REF!)),\"1\",\"0\")","v":"0"},{"$f":"IF(ISNUMBER(SEARCH(\"7\",#REF!)),\"1\",\"0\")","v":"0"},{"$f":"IF(ISNUMBER(SEARCH(\"8\",#REF!)),\"1\",\"0\")","v":"0"},{"$f":"IF(ISNUMBER(SEARCH(\"9\",#REF!)),\"1\",\"0\")","v":"0"},{"$f":"IF(ISNUMBER(SEARCH(\"9\",#REF!)),\"1\",\"0\")","v":"0"},{"$f":"IF(ISNUMBER(SEARCH(\"10\",#REF!)),\"1\",\"0\")","v":"0"},{"$f":"IF(ISNUMBER(SEARCH(\"11\",#REF!)),\"1\",\"0\")","v":"0"},{"$f":"IF(ISNUMBER(SEARCH(\"12\",#REF!)),\"1\",\"0\")","v":"0"},{"$f":"IF(ISNUMBER(SEARCH(\"13\",#REF!)),\"1\",\"0\")","v":"0"},{"$f":"IF(ISNUMBER(SEARCH(\"14\",#REF!)),\"1\",\"0\")","v":"0"},{"$f":"IF(ISNUMBER(SEARCH(\"15\",#REF!)),\"1\",\"0\")","v":"0"},{"$f":"IF(ISNUMBER(SEARCH(\"16\",#REF!)),\"1\",\"0\")","v":"0"},{"$f":"IF(ISNUMBER(SEARCH(\"17\",#REF!)),\"1\",\"0\")","v":"0"},1,3,null,3,28,18,22,{"$nulls":3},12,6,6,24,{"$nulls":4},{"$f":"#REF!-#REF!","v":{"$error":"#REF!"}},{"$f":"#REF!-#REF!","v":{"$error":"#REF!"}}]
[2,21,null,30,2,41,null,2,3,1,4,1,2,"9. Kidnapping/  Enlèvement/ Otage (SANS violence sexuelle), 14",{"$f":"IF(ISNUMBER(SEARCH(\"1\",$N3523)),\"1\",\"0\")","v":"1"},{"$f":"IF(ISNUMBER(SEARCH(\"2\",$N3523)),\"1\",\"0\")","v":"0"},{"$f":"IF(ISNUMBER(SEARCH(\"3\",$N3523)),\"1\",\"0\")","v":"0"},{"$f":"IF(ISNUMBER(SEARCH(\"4\",$N3523)),\"1\",\"0\")","v":"1"},{"$f":"IF(ISNUMBER(SEARCH(\"5\",$N3523)),\"1\",\"0\")","v":"0"},{"$f":"IF(ISNUMBER(SEARCH(\"6\",$N3523)),\"1\",\"0\")","v":"0"},{"$f":"IF(ISNUMBER(SEARCH(\"7\",$N3523)),\"1\",\"0\")","v":"0"},{"$f":"IF(ISNUMBER(SEARCH(\"8\",$N3523)),\"1\",\"0\")","v":"0"},{"$f":"IF(ISNUMBER(SEARCH(\"9\",$N3523)),\"1\",\"0\")","v":"1"},{"$f":"IF(ISNUMBER(SEARCH(\"10\",$N3523)),\"1\",\"0\")","v":"0"},{"$f":"IF(ISNUMBER(SEARCH(\"11\",$N3523)),\"1\",\"0\")","v":"0"},{"$f":"IF(ISNUMBER(SEARCH(\"12\",$N3523)),\"1\",\"0\")","v":"0"},{"$f":"IF(ISNUMBER(SEARCH(\"13\",$N3523)),\"1\",\"0\")","v":"0"},{"$f":"IF(ISNUMBER(SEARCH(\"14\",$N3523)),\"1\",\"0\")","v":"1"},{"$f":"IF(ISNUMBER(SEARCH(\"15\",$N3523)),\"1\",\"0\")","v":"0"},{"$f":"IF(ISNUMBER(SEARCH(\"16\",$N3523)),\"1\",\"0\")","v":"0"},{"$f":"IF(ISNUMBER(SEARCH(\"17\",$N3523)),\"1\",\"0\")","v":"0"},{"$f":"IF(ISNUMBER(SEARCH(\"18\",$N3523)),\"1\",\"0\")","v":"0"},null,1,1,3,2,{"$f":"IF(ISNUMBER(SEARCH(\"1\",#REF!)),\"1\",\"0\")","v":"0"},{"$f":"IF(ISNUMBER(SEARCH(\"2\",#REF!)),\"1\",\"0\")","v":"0"},{"$f":"IF(ISNUMBER(SEARCH(\"3\",#REF!)),\"1\",\"0\")","v":"0"},{"$f":"IF(ISNUMBER(SEARCH(\"4\",#REF!)),\"1\",\"0\")","v":"0"},{"$f":"IF(ISNUMBER(SEARCH(\"5\",#REF!)),\"1\",\"0\")","v":"0"},{"$f":"IF(ISNUMBER(SEARCH(\"6\",#REF!)),\"1\",\"0\")","v":"0"},{"$f":"IF(ISNUMBER(SEARCH(\"7\",#REF!)),\"1\",\"0\")","v":"0"},{"$f":"IF(ISNUMBER(SEARCH(\"8\",#REF!)),\"1\",\"0\")","v":"0"},{"$f":"IF(ISNUMBER(SEARCH(\"9\",#REF!)),\"1\",\"0\")","v":"0"},{"$f":"IF(ISNUMBER(SEARCH(\"9\",#REF!)),\"1\",\"0\")","v":"0"},{"$f":"IF(ISNUMBER(SEARCH(\"10\",#REF!)),\"1\",\"0\")","v":"0"},{"$f":"IF(ISNUMBER(SEARCH(\"11\",#REF!)),\"1\",\"0\")","v":"0"},{"$f":"IF(ISNUMBER(SEARCH(\"12\",#REF!)),\"1\",\"0\")","v":"0"},{"$f":"IF(ISNUMBER(SEARCH(\"13\",#REF!)),\"1\",\"0\")","v":"0"},{"$f":"IF(ISNUMBER(SEARCH(\"14\",#REF!)),\"1\",\"0\")","v":"0"},{"$f":"IF(ISNUMBER(SEARCH(\"15\",#REF!)),\"1\",\"0\")","v":"0"},{"$f":"IF(ISNUMBER(SEARCH(\"16\",#REF!)),\"1\",\"0\")","v":"0"},{"$f":"IF(ISNUMBER(SEARCH(\"17\",#REF!)),\"1\",\"0\")","v":"0"},{"$nulls":3},3,22,18,24,{"$nulls":3},4,4,6,{"$f":"BN3523+BO3523+BP3523","v":14},{"$nulls":4},{"$f":"#REF!-#REF!","v":{"$error":"#REF!"}},{"$f":"#REF!-#REF!","v":{"$error":"#REF!"}}]
[2,21,null,29,1,30,null,3,2,1,0,5,1,3,"0","0","1","0","0","0","0","0","0","0","0","0","0","0","0","0","0","0",null,1,3,5,2,{"$f":"IF(ISNUMBER(SEARCH(\"1\",#REF!)),\"1\",\"0\")","v":"0"},{"$f":"IF(ISNUMBER(SEARCH(\"2\",#REF!)),\"1\",\"0\")","v":"0"},{"$f":"IF(ISNUMBER(SEARCH(\"3\",#REF!)),\"1\",\"0\")","v":"0"},{"$f":"IF(ISNUMBER(SEARCH(\"4\",#REF!)),\"1\",\"0\")","v":"0"},{"$f":"IF(ISNUMBER(SEARCH(\"5\",#REF!)),\"1\",\"0\")","v":"0"},{"$f":"IF(ISNUMBER(SEARCH(\"6\",#REF!)),\"1\",\"0\")","v":"0"},{"$f":"IF(ISNUMBER(SEARCH(\"7\",#REF!)),\"1\",\"0\")","v":"0"},{"$f":"IF(ISNUMBER(SEARCH(\"8\",#REF!)),\"1\",\"0\")","v":"0"},{"$f":"IF(ISNUMBER(SEARCH(\"9\",#REF!)),\"1\",\"0\")","v":"0"},{"$f":"IF(ISNUMBER(SEARCH(\"9\",#REF!)),\"1\",\"0\")","v":"0"},{"$f":"IF(ISNUMBER(SEARCH(\"10\",#REF!)),\"1\",\"0\")","v":"0"},{"$f":"IF(ISNUMBER(SEARCH(\"11\",#REF!)),\"1\",\"0\")","v":"0"},{"$f":"IF(ISNUMBER(SEARCH(\"12\",#REF!)),\"1\",\"0\")","v":"0"},{"$f":"IF(ISNUMBER(SEARCH(\"13\",#REF!)),\"1\",\"0\")","v":"0"},{"$f":"IF(ISNUMBER(SEARCH(\"14\",#REF!)),\"1\",\"0\")","v":"0"},{"$f":"IF(ISNUMBER(SEARCH(\"15\",#REF!)),\"1\",\"0\")","v":"0"},{"$f":"IF(ISNUMBER(SEARCH(\"16\",#REF!)),\"1\",\"0\")","v":"0"},{"$f":"IF(ISNUMBER(SEARCH(\"17\",#REF!)),\"1\",\"0\")","v":"0"},1,3,null,9,24,22,16,{"$nulls":3},6,6,2,14,{"$nulls":4},{"$f":"#REF!-#REF!","v":{"$error":"#REF!"}},{"$f":"#REF!-#REF!","v":{"$error":"#REF!"}}]
[2,21,null,27,1,12,null,3,2,1,0,3,1,"4. Tentative de Viol","0","0","0","1","0","0","0","0","0","0","0","0","0","0","0","0","0","0",{"$nulls":5},{"$f":"IF(ISNUMBER(SEARCH(\"1\",#REF!)),\"1\",\"0\")","v":"0"},{"$f":"IF(ISNUMBER(SEARCH(\"2\",#REF!)),\"1\",\"0\")","v":"0"},{"$f":"IF(ISNUMBER(SEARCH(\"3\",#REF!)),\"1\",\"0\")","v":"0"},{"$f":"IF(ISNUMBER(SEARCH(\"4\",#REF!)),\"1\",\"0\")","v":"0"},{"$f":"IF(ISNUMBER(SEARCH(\"5\",#REF!)),\"1\",\"0\")","v":"0"},{"$f":"IF(ISNUMBER(SEARCH(\"6\",#REF!)),\"1\",\"0\")","v":"0"},{"$f":"IF(ISNUMBER(SEARCH(\"7\",#REF!)),\"1\",\"0\")","v":"0"},{"$f":"IF(ISNUMBER(SEARCH(\"8\",#REF!)),\"1\",\"0\")","v":"0"},{"$f":"IF(ISNUMBER(SEARCH(\"9\",#REF!)),\"1\",\"0\")","v":"0"},{"$f":"IF(ISNUMBER(SEARCH(\"9\",#REF!)),\"1\",\"0\")","v":"0"},{"$f":"IF(ISNUMBER(SEARCH(\"10\",#REF!)),\"1\",\"0\")","v":"0"},{"$f":"IF(ISNUMBER(SEARCH(\"11\",#REF!)),\"1\",\"0\")","v":"0"},{"$f":"IF(ISNUMBER(SEARCH(\"12\",#REF!)),\"1\",\"0\")","v":"0"},{"$f":"IF(ISNUMBER(SEARCH(\"13\",#REF!)),\"1\",\"0\")","v":"0"},{"$f":"IF(ISNUMBER(SEARCH(\"14\",#REF!)),\"1\",\"0\")","v":"0"},{"$f":"IF(ISNUMBER(SEARCH(\"15\",#REF!)),\"1\",\"0\")","v":"0"},{"$f":"IF(ISNUMBER(SEARCH(\"16\",#REF!)),\"1\",\"0\")","v":"0"},{"$f":"IF(ISNUMBER(SEARCH(\"17\",#REF!)),\"1\",\"0\")","v":"0"},{"$nulls":3},9]
[2,21,null,27,2,30,null,2,2,1,0,1,1,null,"0","0","0","0","0","0","0","0","0","0","0","0","0","0","0","0","0","0",{"$nulls":5},{"$f":"IF(ISNUMBER(SEARCH(\"1\",#REF!)),\"1\",\"0\")","v":"0"},{"$f":"IF(ISNUMBER(SEARCH(\"2\",#REF!)),\"1\",\"0\")","v":"0"},{"$f":"IF(ISNUMBER(SEARCH(\"3\",#REF!)),\"1\",\"0\")","v":"0"},{"$f":"IF(ISNUMBER(SEARCH(\"4\",#REF!)),\"1\",\"0\")","v":"0"},{"$f":"IF(ISNUMBER(SEARCH(\"5\",#REF!)),\"1\",\"0\")","v":"0"},{"$f":"IF(ISNUMBER(SEARCH(\"6\",#REF!)),\"1\",\"0\")","v":"0"},{"$f":"IF(ISNUMBER(SEARCH(\"7\",#REF!)),\"1\",\"0\")","v":"0"},{"$f":"IF(ISNUMBER(SEARCH(\"8\",#REF!)),\"1\",\"0\")","v":"0"},{"$f":"IF(ISNUMBER(SEARCH(\"9\",#REF!)),\"1\",\"0\")","v":"0"},{"$f":"IF(ISNUMBER(SEARCH(\"9\",#REF!)),\"1\",\"0\")","v":"0"},{"$f":"IF(ISNUMBER(SEARCH(\"10\",#REF!)),\"1\",\"0\")","v":"0"},{"$f":"IF(ISNUMBER(SEARCH(\"11\",#REF!)),\"1\",\"0\")","v":"0"},{"$f":"IF(ISNUMBER(SEARCH(\"12\",#REF!)),\"1\",\"0\")","v":"0"},{"$f":"IF(ISNUMBER(SEARCH(\"13\",#REF!)),\"1\",\"0\")","v":"0"},{"$f":"IF(ISNUMBER(SEARCH(\"14\",#REF!)),\"1\",\"0\")","v":"0"},{"$f":"IF(ISNUMBER(SEARCH(\"15\",#REF!)),\"1\",\"0\")","v":"0"},{"$f":"IF(ISNUMBER(SEARCH(\"16\",#REF!)),\"1\",\"0\")","v":"0"},{"$f":"IF(ISNUMBER(SEARCH(\"17\",#REF!)),\"1\",\"0\")","v":"0"},{"$nulls":3},9,28,28,12,{"$nulls":3},8,4,4,16,{"$nulls":5},{"$f":"#REF!-#REF!","v":{"$error":"#REF!"}}]
[2,21,null,26,2,40,null,1,3,1,4,1,2,3,"0","0","1","0","0","0","0","0","0","0","0","0","0","0","0","0","0","0",null,1,2,5,2,{"$f":"IF(ISNUMBER(SEARCH(\"1\",#REF!)),\"1\",\"0\")","v":"0"},{"$f":"IF(ISNUMBER(SEARCH(\"2\",#REF!)),\"1\",\"0\")","v":"0"},{"$f":"IF(ISNUMBER(SEARCH(\"3\",#REF!)),\"1\",\"0\")","v":"0"},{"$f":"IF(ISNUMBER(SEARCH(\"4\",#REF!)),\"1\",\"0\")","v":"0"},{"$f":"IF(ISNUMBER(SEARCH(\"5\",#REF!)),\"1\",\"0\")","v":"0"},{"$f":"IF(ISNUMBER(SEARCH(\"6\",#REF!)),\"1\",\"0\")","v":"0"},{"$f":"IF(ISNUMBER(SEARCH(\"7\",#REF!)),\"1\",\"0\")","v":"0"},{"$f":"IF(ISNUMBER(SEARCH(\"8\",#REF!)),\"1\",\"0\")","v":"0"},{"$f":"IF(ISNUMBER(SEARCH(\"9\",#REF!)),\"1\",\"0\")","v":"0"},{"$f":"IF(ISNUMBER(SEARCH(\"9\",#REF!)),\"1\",\"0\")","v":"0"},{"$f":"IF(ISNUMBER(SEARCH(\"10\",#REF!)),\"1\",\"0\")","v":"0"},{"$f":"IF(ISNUMBER(SEARCH(\"11\",#REF!)),\"1\",\"0\")","v":"0"},{"$f":"IF(ISNUMBER(SEARCH(\"12\",#REF!)),\"1\",\"0\")","v":"0"},{"$f":"IF(ISNUMBER(SEARCH(\"13\",#REF!)),\"1\",\"0\")","v":"0"},{"$f":"IF(ISNUMBER(SEARCH(\"14\",#REF!)),\"1\",\"0\")","v":"0"},{"$f":"IF(ISNUMBER(SEARCH(\"15\",#REF!)),\"1\",\"0\")","v":"0"},{"$f":"IF(ISNUMBER(SEARCH(\"16\",#REF!)),\"1\",\"0\")","v":"0"},{"$f":"IF(ISNUMBER(SEARCH(\"17\",#REF!)),\"1\",\"0\")","v":"0"},2,null,null,9,24,18,20,{"$nulls":3},8,4,18,30,{"$nulls":4},{"$f":"#REF!-#REF!","v":{"$error":"#REF!"}},{"$f":"#REF!-#REF!","v":{"$error":"#REF!"}}]
[2,21,null,26,2,38,null,1,3,2,3,3,2,"3, 8. Victime de trafic / contrebande","0","0","1","0","0","0","0","1","0","0","0","0","0","0","0","0","0","0",null,2,7,5,2,{"$f":"IF(ISNUMBER(SEARCH(\"1\",#REF!)),\"1\",\"0\")","v":"0"},{"$f":"IF(ISNUMBER(SEARCH(\"2\",#REF!)),\"1\",\"0\")","v":"0"},{"$f":"IF(ISNUMBER(SEARCH(\"3\",#REF!)),\"1\",\"0\")","v":"0"},{"$f":"IF(ISNUMBER(SEARCH(\"4\",#REF!)),\"1\",\"0\")","v":"0"},{"$f":"IF(ISNUMBER(SEARCH(\"5\",#REF!)),\"1\",\"0\")","v":"0"},{"$f":"IF(ISNUMBER(SEARCH(\"6\",#REF!)),\"1\",\"0\")","v":"0"},{"$f":"IF(ISNUMBER(SEARCH(\"7\",#REF!)),\"1\",\"0\")","v":"0"},{"$f":"IF(ISNUMBER(SEARCH(\"8\",#REF!)),\"1\",\"0\")","v":"0"},{"$f":"IF(ISNUMBER(SEARCH(\"9\",#REF!)),\"1\",\"0\")","v":"0"},{"$f":"IF(ISNUMBER(SEARCH(\"9\",#REF!)),\"1\",\"0\")","v":"0"},{"$f":"IF(ISNUMBER(SEARCH(\"10\",#REF!)),\"1\",\"0\")","v":"0"},{"$f":"IF(ISNUMBER(SEARCH(\"11\",#REF!)),\"1\",\"0\")","v":"0"},{"$f":"IF(ISNUMBER(SEARCH(\"12\",#REF!)),\"1\",\"0\")","v":"0"},{"$f":"IF(ISNUMBER(SEARCH(\"13\",#REF!)),\"1\",\"0\")","v":"0"},{"$f":"IF(ISNUMBER(SEARCH(\"14\",#REF!)),\"1\",\"0\")","v":"0"},{"$f":"IF(ISNUMBER(SEARCH(\"15\",#REF!)),\"1\",\"0\")","v":"0"},{"$f":"IF(ISNUMBER(SEARCH(\"16\",#REF!)),\"1\",\"0\")","v":"0"},{"$f":"IF(ISNUMBER(SEARCH(\"17\",#REF!)),\"1\",\"0\")","v":"0"},4,null,null,9,32,24,22,{"$nulls":3},8,4,4,16,{"$nulls":4},{"$f":"#REF!-#REF!","v":{"$error":"#REF!"}},{"$f":"#REF!-#REF!","v":{"$error":"#REF!"}}]
[2,21,null,3,2,24,null,2,3,1,4,5,2,3,"0","0","1","0","0","0","0","0","0","0","0","0","0","0","0","0","0","0",null,1,3,5,1,{"$f":"IF(ISNUMBER(SEARCH(\"1\",#REF!)),\"1\",\"0\")","v":"0"},{"$f":"IF(ISNUMBER(SEARCH(\"2\",#REF!)),\"1\",\"0\")","v":"0"},{"$f":"IF(ISNUMBER(SEARCH(\"3\",#REF!)),\"1\",\"0\")","v":"0"},{"$f":"IF(ISNUMBER(SEARCH(\"4\",#REF!)),\"1\",\"0\")","v":"0"},{"$f":"IF(ISNUMBER(SEARCH(\"5\",#REF!)),\"1\",\"0\")","v":"0"},{"$f":"IF(ISNUMBER(SEARCH(\"6\",#REF!)),\"1\",\"0\")","v":"0"},{"$f":"IF(ISNUMBER(SEARCH(\"7\",#REF!)),\"1\",\"0\")","v":"0"},{"$f":"IF(ISNUMBER(SEARCH(\"8\",#REF!)),\"1\",\"0\")","v":"0"},{"$f":"IF(ISNUMBER(SEARCH(\"9\",#REF!)),\"1\",\"0\")","v":"0"},{"$f":"IF(ISNUMBER(SEARCH(\"9\",#REF!)),\"1\",\"0\")","v":"0"},{"$f":"IF(ISNUMBER(SEARCH(\"10\",#REF!)),\"1\",\"0\")","v":"0"},{"$f":"IF(ISNUMBER(SEARCH(\"11\",#REF!)),\"1\",\"0\")","v":"0"},{"$f":"IF(ISNUMBER(SEARCH(\"12\",#REF!)),\"1\",\"0\")","v":"0"},{"$f":"IF(ISNUMBER(SEARCH(\"13\",#REF!)),\"1\",\"0\")","v":"0"},{"$f":"IF(ISNUMBER(SEARCH(\"14\",#REF!)),\"1\",\"0\")","v":"0"},{"$f":"IF(ISNUMBER(SEARCH(\"15\",#REF!)),\"1\",\"0\")","v":"0"},{"$f":"IF(ISNUMBER(SEARCH(\"16\",#REF!)),\"1\",\"0\")","v":"0"},{"$f":"IF(ISNUMBER(SEARCH(\"17\",#REF!)),\"1\",\"0\")","v":"0"},2,null,null,3]
[2,21,null,35,2,42,null,2,3,1,5,5,2,"3, 4. Tentative de Viol","0","0","1","1","0","0","0","0","0","0","0","0","0","0","0","0","0","0",null,1,2,5,1,{"$f":"IF(ISNUMBER(SEARCH(\"1\",#REF!)),\"1\",\"0\")","v":"0"},{"$f":"IF(ISNUMBER(SEARCH(\"2\",#REF!)),\"1\",\"0\")","v":"0"},{"$f":"IF(ISNUMBER(SEARCH(\"3\",#REF!)),\"1\",\"0\")","v":"0"},{"$f":"IF(ISNUMBER(SEARCH(\"4\",#REF!)),\"1\",\"0\")","v":"0"},{"$f":"IF(ISNUMBER(SEARCH(\"5\",#REF!)),\"1\",\"0\")","v":"0"},{"$f":"IF(ISNUMBER(SEARCH(\"6\",#REF!)),\"1\",\"0\")","v":"0"},{"$f":"IF(ISNUMBER(SEARCH(\"7\",#REF!)),\"1\",\"0\")","v":"0"},{"$f":"IF(ISNUMBER(SEARCH(\"8\",#REF!)),\"1\",\"0\")","v":"0"},{"$f":"IF(ISNUMBER(SEARCH(\"9\",#REF!)),\"1\",\"0\")","v":"0"},{"$f":"IF(ISNUMBER(SEARCH(\"9\",#REF!)),\"1\",\"0\")","v":"0"},{"$f":"IF(ISNUMBER(SEARCH(\"10\",#REF!)),\"1\",\"0\")","v":"0"},{"$f":"IF(ISNUMBER(SEARCH(\"11\",#REF!)),\"1\",\"0\")","v":"0"},{"$f":"IF(ISNUMBER(SEARCH(\"12\",#REF!)),\"1\",\"0\")","v":"0"},{"$f":"IF(ISNUMBER(SEARCH(\"13\",#REF!)),\"1\",\"0\")","v":"0"},{"$f":"IF(ISNUMBER(SEARCH(\"14\",#REF!)),\"1\",\"0\")","v":"0"},{"$f":"IF(ISNUMBER(SEARCH(\"15\",#REF!)),\"1\",\"0\")","v":"0"},{"$f":"IF(ISNUMBER(SEARCH(\"16\",#REF!)),\"1\",\"0\")","v":"0"},{"$f":"IF(ISNUMBER(SEARCH(\"17\",#REF!)),\"1\",\"0\")","v":"0"},2,null,null,3]
[2,21,null,18,1,36,null,1,7,2,3,3,6,"2, 11. Membre de famille / personne proche assassinée","1","1","0","0","0","0","0","0","0","0","1","0","0","0","0","0","0","0",null,1,1,5,2,{"$f":"IF(ISNUMBER(SEARCH(\"1\",#REF!)),\"1\",\"0\")","v":"0"},{"$f":"IF(ISNUMBER(SEARCH(\"2\",#REF!)),\"1\",\"0\")","v":"0"},{"$f":"IF(ISNUMBER(SEARCH(\"3\",#REF!)),\"1\",\"0\")","v":"0"},{"$f":"IF(ISNUMBER(SEARCH(\"4\",#REF!)),\"1\",\"0\")","v":"0"},{"$f":"IF(ISNUMBER(SEARCH(\"5\",#REF!)),\"1\",\"0\")","v":"0"},{"$f":"IF(ISNUMBER(SEARCH(\"6\",#REF!)),\"1\",\"0\")","v":"0"},{"$f":"IF(ISNUMBER(SEARCH(\"7\",#REF!)),\"1\",\"0\")","v":"0"},{"$f":"IF(ISNUMBER(SEARCH(\"8\",#REF!)),\"1\",\"0\")","v":"0"},{"$f":"IF(ISNUMBER(SEARCH(\"9\",#REF!)),\"1\",\"0\")","v":"0"},{"$f":"IF(ISNUMBER(SEARCH(\"9\",#REF!)),\"1\",\"0\")","v":"0"},{"$f":"IF(ISNUMBER(SEARCH(\"10\",#REF!)),\"1\",\"0\")","v":"0"},{"$f":"IF(ISNUMBER(SEARCH(\"11\",#REF!)),\"1\",\"0\")","v":"0"},{"$f":"IF(ISNUMBER(SEARCH(\"12\",#REF!)),\"1\",\"0\")","v":"0"},{"$f":"IF(ISNUMBER(SEARCH(\"13\",#REF!)),\"1\",\"0\")","v":"0"},{"$f":"IF(ISNUMBER(SEARCH(\"14\",#REF!)),\"1\",\"0\")","v":"0"},{"$f":"IF(ISNUMBER(SEARCH(\"15\",#REF!)),\"1\",\"0\")","v":"0"},{"$f":"IF(ISNUMBER(SEARCH(\"16\",#REF!)),\"1\",\"0\")","v":"0"},{"$f":"IF(ISNUMBER(SEARCH(\"17\",#REF!)),\"1\",\"0\")","v":"0"},{"$nulls":3},10]
[2,21,null,20,2,26,null,3,2,1,0,3,1,"4. Tentative de Viol","0","0","0","1","0","0","0","0","0","0","0","0","0","0","0","0","0","0",null,1,3,3,1,{"$f":"IF(ISNUMBER(SEARCH(\"1\",#REF!)),\"1\",\"0\")","v":"0"},{"$f":"IF(ISNUMBER(SEARCH(\"2\",#REF!)),\"1\",\"0\")","v":"0"},{"$f":"IF(ISNUMBER(SEARCH(\"3\",#REF!)),\"1\",\"0\")","v":"0"},{"$f":"IF(ISNUMBER(SEARCH(\"4\",#REF!)),\"1\",\"0\")","v":"0"},{"$f":"IF(ISNUMBER(SEARCH(\"5\",#REF!)),\"1\",\"0\")","v":"0"},{"$f":"IF(ISNUMBER(SEARCH(\"6\",#REF!)),\"1\",\"0\")","v":"0"},{"$f":"IF(ISNUMBER(SEARCH(\"7\",#REF!)),\"1\",\"0\")","v":"0"},{"$f":"IF(ISNUMBER(SEARCH(\"8\",#REF!)),\"1\",\"0\")","v":"0"},{"$f":"IF(ISNUMBER(SEARCH(\"9\",#REF!)),\"1\",\"0\")","v":"0"},{"$f":"IF(ISNUMBER(SEARCH(\"9\",#REF!)),\"1\",\"0\")","v":"0"},{"$f":"IF(ISNUMBER(SEARCH(\"10\",#REF!)),\"1\",\"0\")","v":"0"},{"$f":"IF(ISNUMBER(SEARCH(\"11\",#REF!)),\"1\",\"0\")","v":"0"},{"$f":"IF(ISNUMBER(SEARCH(\"12\",#REF!)),\"1\",\"0\")","v":"0"},{"$f":"IF(ISNUMBER(SEARCH(\"13\",#REF!)),\"1\",\"0\")","v":"0"},{"$f":"IF(ISNUMBER(SEARCH(\"14\",#REF!)),\"1\",\"0\")","v":"0"},{"$f":"IF(ISNUMBER(SEARCH(\"15\",#REF!)),\"1\",\"0\")","v":"0"},{"$f":"IF(ISNUMBER(SEARCH(\"16\",#REF!)),\"1\",\"0\")","v":"0"},{"$f":"IF(ISNUMBER(SEARCH(\"17\",#REF!)),\"1\",\"0\")","v":"0"},{"$nulls":3},9]
[2,21,null,20,2,31,null,1,8,1,6,3,2,2,"0","1","0","0","0","0","0","0","0","0","0","0","0","0","0","0","0","0",null,2,1,5,1,{"$f":"IF(ISNUMBER(SEARCH(\"1\",#REF!)),\"1\",\"0\")","v":"0"},{"$f":"IF(ISNUMBER(SEARCH(\"2\",#REF!)),\"1\",\"0\")","v":"0"},{"$f":"IF(ISNUMBER(SEARCH(\"3\",#REF!)),\"1\",\"0\")","v":"0"},{"$f":"IF(ISNUMBER(SEARCH(\"4\",#REF!)),\"1\",\"0\")","v":"0"},{"$f":"IF(ISNUMBER(SEARCH(\"5\",#REF!)),\"1\",\"0\")","v":"0"},{"$f":"IF(ISNUMBER(SEARCH(\"6\",#REF!)),\"1\",\"0\")","v":"0"},{"$f":"IF(ISNUMBER(SEARCH(\"7\",#REF!)),\"1\",\"0\")","v":"0"},{"$f":"IF(ISNUMBER(SEARCH(\"8\",#REF!)),\"1\",\"0\")","v":"0"},{"$f":"IF(ISNUMBER(SEARCH(\"9\",#REF!)),\"1\",\"0\")","v":"0"},{"$f":"IF(ISNUMBER(SEARCH(\"9\",#REF!)),\"1\",\"0\")","v":"0"},{"$f":"IF(ISNUMBER(SEARCH(\"10\",#REF!)),\"1\",\"0\")","v":"0"},{"$f":"IF(ISNUMBER(SEARCH(\"11\",#REF!)),\"1\",\"0\")","v":"0"},{"$f":"IF(ISNUMBER(SEARCH(\"12\",#REF!)),\"1\",\"0\")","v":"0"},{"$f":"IF(ISNUMBER(SEARCH(\"13\",#REF!)),\"1\",\"0\")","v":"0"},{"$f":"IF(ISNUMBER(SEARCH(\"14\",#REF!)),\"1\",\"0\")","v":"0"},{"$f":"IF(ISNUMBER(SEARCH(\"15\",#REF!)),\"1\",\"0\")","v":"0"},{"$f":"IF(ISNUMBER(SEARCH(\"16\",#REF!)),\"1\",\"0\")","v":"0"},{"$f":"IF(ISNUMBER(SEARCH(\"17\",#REF!)),\"1\",\"0\")","v":"0"},{"$nulls":3},9]
[2,21,null,27,2,20,null,2,3,1,10,1,2,null,"0","0","0","0","0","0","0","0","0","0","0","0","0","0","0","0","0","0",{"$nulls":5},{"$f":"IF(ISNUMBER(SEARCH(\"1\",#REF!)),\"1\",\"0\")","v":"0"},{"$f":"IF(ISNUMBER(SEARCH(\"2\",#REF!)),\"1\",\"0\")","v":"0"},{"$f":"IF(ISNUMBER(SEARCH(\"3\",#REF!)),\"1\",\"0\")","v":"0"},{"$f":"IF(ISNUMBER(SEARCH(\"4\",#REF!)),\"1\",\"0\")","v":"0"},{"$f":"IF(ISNUMBER(SEARCH(\"5\",#REF!)),\"1\",\"0\")","v":"0"},{"$f":"IF(ISNUMBER(SEARCH(\"6\",#REF!)),\"1\",\"0\")","v":"0"},{"$f":"IF(ISNUMBER(SEARCH(\"7\",#REF!)),\"1\",\"0\")","v":"0"},{"$f":"IF(ISNUMBER(SEARCH(\"8\",#REF!)),\"1\",\"0\")","v":"0"},{"$f":"IF(ISNUMBER(SEARCH(\"9\",#REF!)),\"1\",\"0\")","v":"0"},{"$f":"IF(ISNUMBER(SEARCH(\"9\",#REF!)),\"1\",\"0\")","v":"0"},{"$f":"IF(ISNUMBER(SEARCH(\"10\",#REF!)),\"1\",\"0\")","v":"0"},{"$f":"IF(ISNUMBER(SEARCH(\"11\",#REF!)),\"1\",\"0\")","v":"0"},{"$f":"IF(ISNUMBER(SEARCH(\"12\",#REF!)),\"1\",\"0\")","v":"0"},{"$f":"IF(ISNUMBER(SEARCH(\"13\",#REF!)),\"1\",\"0\")","v":"0"},{"$f":"IF(ISNUMBER(SEARCH(\"14\",#REF!)),\"1\",\"0\")","v":"0"},{"$f":"IF(ISNUMBER(SEARCH(\"15\",#REF!)),\"1\",\"0\")","v":"0"},{"$f":"IF(ISNUMBER(SEARCH(\"16\",#REF!)),\"1\",\"0\")","v":"0"},{"$f":"IF(ISNUMBER(SEARCH(\"17\",#REF!)),\"1\",\"0\")","v":"0"},{"$nulls":3},9]
[2,21,null,24,1,21,null,3,2,1,null,5,1,"4. Tentative de Viol","0","0","0","1","0","0","0","0","0","0","0","0","0","0","0","0","0","0",null,1,3,5,1,{"$f":"IF(ISNUMBER(SEARCH(\"1\",#REF!)),\"1\",\"0\")","v":"0"},{"$f":"IF(ISNUMBER(SEARCH(\"2\",#REF!)),\"1\",\"0\")","v":"0"},{"$f":"IF(ISNUMBER(SEARCH(\"3\",#REF!)),\"1\",\"0\")","v":"0"},{"$f":"IF(ISNUMBER(SEARCH(\"4\",#REF!)),\"1\",\"0\")","v":"0"},{"$f":"IF(ISNUMBER(SEARCH(\"5\",#REF!)),\"1\",\"0\")","v":"0"},{"$f":"IF(ISNUMBER(SEARCH(\"6\",#REF!)),\"1\",\"0\")","v":"0"},{"$f":"IF(ISNUMBER(SEARCH(\"7\",#REF!)),\"1\",\"0\")","v":"0"},{"$f":"IF(ISNUMBER(SEARCH(\"8\",#REF!)),\"1\",\"0\")","v":"0"},{"$f":"IF(ISNUMBER(SEARCH(\"9\",#REF!)),\"1\",\"0\")","v":"0"},{"$f":"IF(ISNUMBER(SEARCH(\"9\",#REF!)),\"1\",\"0\")","v":"0"},{"$f":"IF(ISNUMBER(SEARCH(\"10\",#REF!)),\"1\",\"0\")","v":"0"},{"$f":"IF(ISNUMBER(SEARCH(\"11\",#REF!)),\"1\",\"0\")","v":"0"},{"$f":"IF(ISNUMBER(SEARCH(\"12\",#REF!)),\"1\",\"0\")","v":"0"},{"$f":"IF(ISNUMBER(SEARCH(\"13\",#REF!)),\"1\",\"0\")","v":"0"},{"$f":"IF(ISNUMBER(SEARCH(\"14\",#REF!)),\"1\",\"0\")","v":"0"},{"$f":"IF(ISNUMBER(SEARCH(\"15\",#REF!)),\"1\",\"0\")","v":"0"},{"$f":"IF(ISNUMBER(SEARCH(\"16\",#REF!)),\"1\",\"0\")","v":"0"},{"$f":"IF(ISNUMBER(SEARCH(\"17\",#REF!)),\"1\",\"0\")","v":"0"},{"$nulls":3},9]
[2,21,null,25,2,20,null,1,8,2,1,5,6,"1, 3","1","0","1","0","0","0","0","0","0","0","0","0","0","0","0","0","0","0",null,1,7,null,2,{"$f":"IF(ISNUMBER(SEARCH(\"1\",#REF!)),\"1\",\"0\")","v":"0"},{"$f":"IF(ISNUMBER(SEARCH(\"2\",#REF!)),\"1\",\"0\")","v":"0"},{"$f":"IF(ISNUMBER(SEARCH(\"3\",#REF!)),\"1\",\"0\")","v":"0"},{"$f":"IF(ISNUMBER(SEARCH(\"4\",#REF!)),\"1\",\"0\")","v":"0"},{"$f":"IF(ISNUMBER(SEARCH(\"5\",#REF!)),\"1\",\"0\")","v":"0"},{"$f":"IF(ISNUMBER(SEARCH(\"6\",#REF!)),\"1\",\"0\")","v":"0"},{"$f":"IF(ISNUMBER(SEARCH(\"7\",#REF!)),\"1\",\"0\")","v":"0"},{"$f":"IF(ISNUMBER(SEARCH(\"8\",#REF!)),\"1\",\"0\")","v":"0"},{"$f":"IF(ISNUMBER(SEARCH(\"9\",#REF!)),\"1\",\"0\")","v":"0"},{"$f":"IF(ISNUMBER(SEARCH(\"9\",#REF!)),\"1\",\"0\")","v":"0"},{"$f":"IF(ISNUMBER(SEARCH(\"10\",#REF!)),\"1\",\"0\")","v":"0"},{"$f":"IF(ISNUMBER(SEARCH(\"11\",#REF!)),\"1\",\"0\")","v":"0"},{"$f":"IF(ISNUMBER(SEARCH(\"12\",#REF!)),\"1\",\"0\")","v":"0"},{"$f":"IF(ISNUMBER(SEARCH(\"13\",#REF!)),\"1\",\"0\")","v":"0"},{"$f":"IF(ISNUMBER(SEARCH(\"14\",#REF!)),\"1\",\"0\")","v":"0"},{"$f":"IF(ISNUMBER(SEARCH(\"15\",#REF!)),\"1\",\"0\")","v":"0"},{"$f":"IF(ISNUMBER(SEARCH(\"16\",#REF!)),\"1\",\"0\")","v":"0"},{"$f":"IF(ISNUMBER(SEARCH(\"17\",#REF!)),\"1\",\"0\")","v":"0"},1,null,null,9]
[2,21,null,26,1,32,null,1,8,1,null,3,1,"3, 4. Tentative de Viol","0","0","1","1","0","0","0","0","0","0","0","0","0","0","0","0","0","0",null,2,3,5,1,{"$f":"IF(ISNUMBER(SEARCH(\"1\",#REF!)),\"1\",\"0\")","v":"0"},{"$f":"IF(ISNUMBER(SEARCH(\"2\",#REF!)),\"1\",\"0\")","v":"0"},{"$f":"IF(ISNUMBER(SEARCH(\"3\",#REF!)),\"1\",\"0\")","v":"0"},{"$f":"IF(ISNUMBER(SEARCH(\"4\",#REF!)),\"1\",\"0\")","v":"0"},{"$f":"IF(ISNUMBER(SEARCH(\"5\",#REF!)),\"1\",\"0\")","v":"0"},{"$f":"IF(ISNUMBER(SEARCH(\"6\",#REF!)),\"1\",\"0\")","v":"0"},{"$f":"IF(ISNUMBER(SEARCH(\"7\",#REF!)),\"1\",\"0\")","v":"0"},{"$f":"IF(ISNUMBER(SEARCH(\"8\",#REF!)),\"1\",\"0\")","v":"0"},{"$f":"IF(ISNUMBER(SEARCH(\"9\",#REF!)),\"1\",\"0\")","v":"0"},{"$f":"IF(ISNUMBER(SEARCH(\"9\",#REF!)),\"1\",\"0\")","v":"0"},{"$f":"IF(ISNUMBER(SEARCH(\"10\",#REF!)),\"1\",\"0\")","v":"0"},{"$f":"IF(ISNUMBER(SEARCH(\"11\",#REF!)),\"1\",\"0\")","v":"0"},{"$f":"IF(ISNUMBER(SEARCH(\"12\",#REF!)),\"1\",\"0\")","v":"0"},{"$f":"IF(ISNUMBER(SEARCH(\"13\",#REF!)),\"1\",\"0\")","v":"0"},{"$f":"IF(ISNUMBER(SEARCH(\"14\",#REF!)),\"1\",\"0\")","v":"0"},{"$f":"IF(ISNUMBER(SEARCH(\"15\",#REF!)),\"1\",\"0\")","v":"0"},{"$f":"IF(ISNUMBER(SEARCH(\"16\",#REF!)),\"1\",\"0\")","v":"0"},{"$f":"IF(ISNUMBER(SEARCH(\"17\",#REF!)),\"1\",\"0\")","v":"0"},4,1,null,9,36,18,20,{"$nulls":3},14,2,10,26,{"$nulls":4},{"$f":"#REF!-#REF!","v":{"$error":"#REF!"}},{"$f":"#REF!-#REF!","v":{"$error":"#REF!"}}]
[2,21,null,31,2,42,null,3,8,1,1,1,1,1,"1","0","0","0","0","0","0","0","0","0","0","0","0","0","0","0","0","0",null,1,3,3,2,{"$f":"IF(ISNUMBER(SEARCH(\"1\",#REF!)),\"1\",\"0\")","v":"0"},{"$f":"IF(ISNUMBER(SEARCH(\"2\",#REF!)),\"1\",\"0\")","v":"0"},{"$f":"IF(ISNUMBER(SEARCH(\"3\",#REF!)),\"1\",\"0\")","v":"0"},{"$f":"IF(ISNUMBER(SEARCH(\"4\",#REF!)),\"1\",\"0\")","v":"0"},{"$f":"IF(ISNUMBER(SEARCH(\"5\",#REF!)),\"1\",\"0\")","v":"0"},{"$f":"IF(ISNUMBER(SEARCH(\"6\",#REF!)),\"1\",\"0\")","v":"0"},{"$f":"IF(ISNUMBER(SEARCH(\"7\",#REF!)),\"1\",\"0\")","v":"0"},{"$f":"IF(ISNUMBER(SEARCH(\"8\",#REF!)),\"1\",\"0\")","v":"0"},{"$f":"IF(ISNUMBER(SEARCH(\"9\",#REF!)),\"1\",\"0\")","v":"0"},{"$f":"IF(ISNUMBER(SEARCH(\"9\",#REF!)),\"1\",\"0\")","v":"0"},{"$f":"IF(ISNUMBER(SEARCH(\"10\",#REF!)),\"1\",\"0\")","v":"0"},{"$f":"IF(ISNUMBER(SEARCH(\"11\",#REF!)),\"1\",\"0\")","v":"0"},{"$f":"IF(ISNUMBER(SEARCH(\"12\",#REF!)),\"1\",\"0\")","v":"0"},{"$f":"IF(ISNUMBER(SEARCH(\"13\",#REF!)),\"1\",\"0\")","v":"0"},{"$f":"IF(ISNUMBER(SEARCH(\"14\",#REF!)),\"1\",\"0\")","v":"0"},{"$f":"IF(ISNUMBER(SEARCH(\"15\",#REF!)),\"1\",\"0\")","v":"0"},{"$f":"IF(ISNUMBER(SEARCH(\"16\",#REF!)),\"1\",\"0\")","v":"0"},{"$f":"IF(ISNUMBER(SEARCH(\"17\",#REF!)),\"1\",\"0\")","v":"0"},{"$nulls":3},9,26,30,30,{"$nulls":3},16,12,14,42,{"$nulls":4},{"$f":"#REF!-#REF!","v":{"$error":"#REF!"}},{"$f":"#REF!-#REF!","v":{"$error":"#REF!"}}]
[2,21,null,27,2,22,null,3,8,1,2,5,2,3,"0","0","1","0","0","0","0","0","0","0","0","0","0","0","0","0","0","0",null,1,3,5,2,{"$f":"IF(ISNUMBER(SEARCH(\"1\",#REF!)),\"1\",\"0\")","v":"0"},{"$f":"IF(ISNUMBER(SEARCH(\"2\",#REF!)),\"1\",\"0\")","v":"0"},{"$f":"IF(ISNUMBER(SEARCH(\"3\",#REF!)),\"1\",\"0\")","v":"0"},{"$f":"IF(ISNUMBER(SEARCH(\"4\",#REF!)),\"1\",\"0\")","v":"0"},{"$f":"IF(ISNUMBER(SEARCH(\"5\",#REF!)),\"1\",\"0\")","v":"0"},{"$f":"IF(ISNUMBER(SEARCH(\"6\",#REF!)),\"1\",\"0\")","v":"0"},{"$f":"IF(ISNUMBER(SEARCH(\"7\",#REF!)),\"1\",\"0\")","v":"0"},{"$f":"IF(ISNUMBER(SEARCH(\"8\",#REF!)),\"1\",\"0\")","v":"0"},{"$f":"IF(ISNUMBER(SEARCH(\"9\",#REF!)),\"1\",\"0\")","v":"0"},{"$f":"IF(ISNUMBER(SEARCH(\"9\",#REF!)),\"1\",\"0\")","v":"0"},{"$f":"IF(ISNUMBER(SEARCH(\"10\",#REF!)),\"1\",\"0\")","v":"0"},{"$f":"IF(ISNUMBER(SEARCH(\"11\",#REF!)),\"1\",\"0\")","v":"0"},{"$f":"IF(ISNUMBER(SEARCH(\"12\",#REF!)),\"1\",\"0\")","v":"0"},{"$f":"IF(ISNUMBER(SEARCH(\"13\",#REF!)),\"1\",\"0\")","v":"0"},{"$f":"IF(ISNUMBER(SEARCH(\"14\",#REF!)),\"1\",\"0\")","v":"0"},{"$f":"IF(ISNUMBER(SEARCH(\"15\",#REF!)),\"1\",\"0\")","v":"0"},{"$f":"IF(ISNUMBER(SEARCH(\"16\",#REF!)),\"1\",\"0\")","v":"0"},{"$f":"IF(ISNUMBER(SEARCH(\"17\",#REF!)),\"1\",\"0\")","v":"0"},1,null,null,3]
[2,21,null,24,2,28,null,3,3,1,7,3,5,"1, 16. Autre (SVP dans 20 case suivante) ","1","1","0","0","0","1","0","0","0","0","0","0","0","0","0","1","0","0",null,1,1,5,2,{"$f":"IF(ISNUMBER(SEARCH(\"1\",#REF!)),\"1\",\"0\")","v":"0"},{"$f":"IF(ISNUMBER(SEARCH(\"2\",#REF!)),\"1\",\"0\")","v":"0"},{"$f":"IF(ISNUMBER(SEARCH(\"3\",#REF!)),\"1\",\"0\")","v":"0"},{"$f":"IF(ISNUMBER(SEARCH(\"4\",#REF!)),\"1\",\"0\")","v":"0"},{"$f":"IF(ISNUMBER(SEARCH(\"5\",#REF!)),\"1\",\"0\")","v":"0"},{"$f":"IF(ISNUMBER(SEARCH(\"6\",#REF!)),\"1\",\"0\")","v":"0"},{"$f":"IF(ISNUMBER(SEARCH(\"7\",#REF!)),\"1\",\"0\")","v":"0"},{"$f":"IF(ISNUMBER(SEARCH(\"8\",#REF!)),\"1\",\"0\")","v":"0"},{"$f":"IF(ISNUMBER(SEARCH(\"9\",#REF!)),\"1\",\"0\")","v":"0"},{"$f":"IF(ISNUMBER(SEARCH(\"9\",#REF!)),\"1\",\"0\")","v":"0"},{"$f":"IF(ISNUMBER(SEARCH(\"10\",#REF!)),\"1\",\"0\")","v":"0"},{"$f":"IF(ISNUMBER(SEARCH(\"11\",#REF!)),\"1\",\"0\")","v":"0"},{"$f":"IF(ISNUMBER(SEARCH(\"12\",#REF!)),\"1\",\"0\")","v":"0"},{"$f":"IF(ISNUMBER(SEARCH(\"13\",#REF!)),\"1\",\"0\")","v":"0"},{"$f":"IF(ISNUMBER(SEARCH(\"14\",#REF!)),\"1\",\"0\")","v":"0"},{"$f":"IF(ISNUMBER(SEARCH(\"15\",#REF!)),\"1\",\"0\")","v":"0"},{"$f":"IF(ISNUMBER(SEARCH(\"16\",#REF!)),\"1\",\"0\")","v":"0"},{"$f":"IF(ISNUMBER(SEARCH(\"17\",#REF!)),\"1\",\"0\")","v":"0"},{"$nulls":3},9,26,12,18]
[2,21,null,25,2,21,null,3,2,1,null,3,1,"6. Mariage Forcé","0","0","0","0","0","1","0","0","0","0","0","0","0","0","0","0","0","0",null,1,7,1,2,{"$f":"IF(ISNUMBER(SEARCH(\"1\",#REF!)),\"1\",\"0\")","v":"0"},{"$f":"IF(ISNUMBER(SEARCH(\"2\",#REF!)),\"1\",\"0\")","v":"0"},{"$f":"IF(ISNUMBER(SEARCH(\"3\",#REF!)),\"1\",\"0\")","v":"0"},{"$f":"IF(ISNUMBER(SEARCH(\"4\",#REF!)),\"1\",\"0\")","v":"0"},{"$f":"IF(ISNUMBER(SEARCH(\"5\",#REF!)),\"1\",\"0\")","v":"0"},{"$f":"IF(ISNUMBER(SEARCH(\"6\",#REF!)),\"1\",\"0\")","v":"0"},{"$f":"IF(ISNUMBER(SEARCH(\"7\",#REF!)),\"1\",\"0\")","v":"0"},{"$f":"IF(ISNUMBER(SEARCH(\"8\",#REF!)),\"1\",\"0\")","v":"0"},{"$f":"IF(ISNUMBER(SEARCH(\"9\",#REF!)),\"1\",\"0\")","v":"0"},{"$f":"IF(ISNUMBER(SEARCH(\"9\",#REF!)),\"1\",\"0\")","v":"0"},{"$f":"IF(ISNUMBER(SEARCH(\"10\",#REF!)),\"1\",\"0\")","v":"0"},{"$f":"IF(ISNUMBER(SEARCH(\"11\",#REF!)),\"1\",\"0\")","v":"0"},{"$f":"IF(ISNUMBER(SEARCH(\"12\",#REF!)),\"1\",\"0\")","v":"0"},{"$f":"IF(ISNUMBER(SEARCH(\"13\",#REF!)),\"1\",\"0\")","v":"0"},{"$f":"IF(ISNUMBER(SEARCH(\"14\",#REF!)),\"1\",\"0\")","v":"0"},{"$f":"IF(ISNUMBER(SEARCH(\"15\",#REF!)),\"1\",\"0\")","v":"0"},{"$f":"IF(ISNUMBER(SEARCH(\"16\",#REF!)),\"1\",\"0\")","v":"0"},{"$f":"IF(ISNUMBER(SEARCH(\"17\",#REF!)),\"1\",\"0\")","v":"0"},{"$nulls":3},9,18,20,28,{"$nulls":3},2,14,8,24,{"$nulls":4},{"$f":"#REF!-#REF!","v":{"$error":"#REF!"}},{"$f":"#REF!-#REF!","v":{"$error":"#REF!"}}]
[2,21,null,31,2,38,null,2,3,2,4,5,1,1,"1","0","0","0","0","0","0","0","0","0","0","0","0","0","0","0","0","0",null,1,3,5,2,{"$f":"IF(ISNUMBER(SEARCH(\"1\",#REF!)),\"1\",\"0\")","v":"0"},{"$f":"IF(ISNUMBER(SEARCH(\"2\",#REF!)),\"1\",\"0\")","v":"0"},{"$f":"IF(ISNUMBER(SEARCH(\"3\",#REF!)),\"1\",\"0\")","v":"0"},{"$f":"IF(ISNUMBER(SEARCH(\"4\",#REF!)),\"1\",\"0\")","v":"0"},{"$f":"IF(ISNUMBER(SEARCH(\"5\",#REF!)),\"1\",\"0\")","v":"0"},{"$f":"IF(ISNUMBER(SEARCH(\"6\",#REF!)),\"1\",\"0\")","v":"0"},{"$f":"IF(ISNUMBER(SEARCH(\"7\",#REF!)),\"1\",\"0\")","v":"0"},{"$f":"IF(ISNUMBER(SEARCH(\"8\",#REF!)),\"1\",\"0\")","v":"0"},{"$f":"IF(ISNUMBER(SEARCH(\"9\",#REF!)),\"1\",\"0\")","v":"0"},{"$f":"IF(ISNUMBER(SEARCH(\"9\",#REF!)),\"1\",\"0\")","v":"0"},{"$f":"IF(ISNUMBER(SEARCH(\"10\",#REF!)),\"1\",\"0\")","v":"0"},{"$f":"IF(ISNUMBER(SEARCH(\"11\",#REF!)),\"1\",\"0\")","v":"0"},{"$f":"IF(ISNUMBER(SEARCH(\"12\",#REF!)),\"1\",\"0\")","v":"0"},{"$f":"IF(ISNUMBER(SEARCH(\"13\",#REF!)),\"1\",\"0\")","v":"0"},{"$f":"IF(ISNUMBER(SEARCH(\"14\",#REF!)),\"1\",\"0\")","v":"0"},{"$f":"IF(ISNUMBER(SEARCH(\"15\",#REF!)),\"1\",\"0\")","v":"0"},{"$f":"IF(ISNUMBER(SEARCH(\"16\",#REF!)),\"1\",\"0\")","v":"0"},{"$f":"IF(ISNUMBER(SEARCH(\"17\",#REF!)),\"1\",\"0\")","v":"0"},{"$nulls":3},9,24,22,32,{"$nulls":11},{"$f":"#REF!-#REF!","v":{"$error":"#REF!"}}]
[2,21,null,32,1,38,null,2,3,1,8,5,2,"4. Tentative de Viol","0","0","0","1","0","0","0","0","0","0","0","0","0","0","0","0","0","0",null,1,3,5,2,{"$f":"IF(ISNUMBER(SEARCH(\"1\",#REF!)),\"1\",\"0\")","v":"0"},{"$f":"IF(ISNUMBER(SEARCH(\"2\",#REF!)),\"1\",\"0\")","v":"0"},{"$f":"IF(ISNUMBER(SEARCH(\"3\",#REF!)),\"1\",\"0\")","v":"0"},{"$f":"IF(ISNUMBER(SEARCH(\"4\",#REF!)),\"1\",\"0\")","v":"0"},{"$f":"IF(ISNUMBER(SEARCH(\"5\",#REF!)),\"1\",\"0\")","v":"0"},{"$f":"IF(ISNUMBER(SEARCH(\"6\",#REF!)),\"1\",\"0\")","v":"0"},{"$f":"IF(ISNUMBER(SEARCH(\"7\",#REF!)),\"1\",\"0\")","v":"0"},{"$f":"IF(ISNUMBER(SEARCH(\"8\",#REF!)),\"1\",\"0\")","v":"0"},{"$f":"IF(ISNUMBER(SEARCH(\"9\",#REF!)),\"1\",\"0\")","v":"0"},{"$f":"IF(ISNUMBER(SEARCH(\"9\",#REF!)),\"1\",\"0\")","v":"0"},{"$f":"IF(ISNUMBER(SEARCH(\"10\",#REF!)),\"1\",\"0\")","v":"0"},{"$f":"IF(ISNUMBER(SEARCH(\"11\",#REF!)),\"1\",\"0\")","v":"0"},{"$f":"IF(ISNUMBER(SEARCH(\"12\",#REF!)),\"1\",\"0\")","v":"0"},{"$f":"IF(ISNUMBER(SEARCH(\"13\",#REF!)),\"1\",\"0\")","v":"0"},{"$f":"IF(ISNUMBER(SEARCH(\"14\",#REF!)),\"1\",\"0\")","v":"0"},{"$f":"IF(ISNUMBER(SEARCH(\"15\",#REF!)),\"1\",\"0\")","v":"0"},{"$f":"IF(ISNUMBER(SEARCH(\"16\",#REF!)),\"1\",\"0\")","v":"0"},{"$f":"IF(ISNUMBER(SEARCH(\"17\",#REF!)),\"1\",\"0\")","v":"0"},{"$nulls":3},9]
[2,21,null,33,2,35,null,null,8,1,6,5,2,"4. Tentative de Viol","0","0","0","1","0","0","0","0","0","0","0","0","0","0","0","0","0","0",null,1,3,5,2,{"$f":"IF(ISNUMBER(SEARCH(\"1\",#REF!)),\"1\",\"0\")","v":"0"},{"$f":"IF(ISNUMBER(SEARCH(\"2\",#REF!)),\"1\",\"0\")","v":"0"},{"$f":"IF(ISNUMBER(SEARCH(\"3\",#REF!)),\"1\",\"0\")","v":"0"},{"$f":"IF(ISNUMBER(SEARCH(\"4\",#REF!)),\"1\",\"0\")","v":"0"},{"$f":"IF(ISNUMBER(SEARCH(\"5\",#REF!)),\"1\",\"0\")","v":"0"},{"$f":"IF(ISNUMBER(SEARCH(\"6\",#REF!)),\"1\",\"0\")","v":"0"},{"$f":"IF(ISNUMBER(SEARCH(\"7\",#REF!)),\"1\",\"0\")","v":"0"},{"$f":"IF(ISNUMBER(SEARCH(\"8\",#REF!)),\"1\",\"0\")","v":"0"},{"$f":"IF(ISNUMBER(SEARCH(\"9\",#REF!)),\"1\",\"0\")","v":"0"},{"$f":"IF(ISNUMBER(SEARCH(\"9\",#REF!)),\"1\",\"0\")","v":"0"},{"$f":"IF(ISNUMBER(SEARCH(\"10\",#REF!)),\"1\",\"0\")","v":"0"},{"$f":"IF(ISNUMBER(SEARCH(\"11\",#REF!)),\"1\",\"0\")","v":"0"},{"$f":"IF(ISNUMBER(SEARCH(\"12\",#REF!)),\"1\",\"0\")","v":"0"},{"$f":"IF(ISNUMBER(SEARCH(\"13\",#REF!)),\"1\",\"0\")","v":"0"},{"$f":"IF(ISNUMBER(SEARCH(\"14\",#REF!)),\"1\",\"0\")","v":"0"},{"$f":"IF(ISNUMBER(SEARCH(\"15\",#REF!)),\"1\",\"0\")","v":"0"},{"$f":"IF(ISNUMBER(SEARCH(\"16\",#REF!)),\"1\",\"0\")","v":"0"},{"$f":"IF(ISNUMBER(SEARCH(\"17\",#REF!)),\"1\",\"0\")","v":"0"},{"$nulls":3},9,28,16,20,{"$nulls":3},8,8,10,26,{"$nulls":4},{"$f":"#REF!-#REF!","v":{"$error":"#REF!"}}]
[2,21,null,30,2,32,null,3,2,1,0,5,1,"3, 5. Inceste (enfant ab8é par un membre de 20 famille)","0","1","1","0","1","0","0","1","0","0","0","0","0","0","0","0","0","0",null,1,5,5,1,{"$f":"IF(ISNUMBER(SEARCH(\"1\",#REF!)),\"1\",\"0\")","v":"0"},{"$f":"IF(ISNUMBER(SEARCH(\"2\",#REF!)),\"1\",\"0\")","v":"0"},{"$f":"IF(ISNUMBER(SEARCH(\"3\",#REF!)),\"1\",\"0\")","v":"0"},{"$f":"IF(ISNUMBER(SEARCH(\"4\",#REF!)),\"1\",\"0\")","v":"0"},{"$f":"IF(ISNUMBER(SEARCH(\"5\",#REF!)),\"1\",\"0\")","v":"0"},{"$f":"IF(ISNUMBER(SEARCH(\"6\",#REF!)),\"1\",\"0\")","v":"0"},{"$f":"IF(ISNUMBER(SEARCH(\"7\",#REF!)),\"1\",\"0\")","v":"0"},{"$f":"IF(ISNUMBER(SEARCH(\"8\",#REF!)),\"1\",\"0\")","v":"0"},{"$f":"IF(ISNUMBER(SEARCH(\"9\",#REF!)),\"1\",\"0\")","v":"0"},{"$f":"IF(ISNUMBER(SEARCH(\"9\",#REF!)),\"1\",\"0\")","v":"0"},{"$f":"IF(ISNUMBER(SEARCH(\"10\",#REF!)),\"1\",\"0\")","v":"0"},{"$f":"IF(ISNUMBER(SEARCH(\"11\",#REF!)),\"1\",\"0\")","v":"0"},{"$f":"IF(ISNUMBER(SEARCH(\"12\",#REF!)),\"1\",\"0\")","v":"0"},{"$f":"IF(ISNUMBER(SEARCH(\"13\",#REF!)),\"1\",\"0\")","v":"0"},{"$f":"IF(ISNUMBER(SEARCH(\"14\",#REF!)),\"1\",\"0\")","v":"0"},{"$f":"IF(ISNUMBER(SEARCH(\"15\",#REF!)),\"1\",\"0\")","v":"0"},{"$f":"IF(ISNUMBER(SEARCH(\"16\",#REF!)),\"1\",\"0\")","v":"0"},{"$f":"IF(ISNUMBER(SEARCH(\"17\",#REF!)),\"1\",\"0\")","v":"0"},1,3,null,3,30,22,26,{"$nulls":3},10,6,8,24,{"$nulls":4},{"$f":"#REF!-#REF!","v":{"$error":"#REF!"}},{"$f":"#REF!-#REF!","v":{"$error":"#REF!"}}]
[2,21,null,29,2,16,null,null,8,1,5,3,2,14,"1","0","0","1","0","0","0","0","0","0","0","0","0","1","0","0","0","0",null,1,3,5,2,{"$f":"IF(ISNUMBER(SEARCH(\"1\",#REF!)),\"1\",\"0\")","v":"0"},{"$f":"IF(ISNUMBER(SEARCH(\"2\",#REF!)),\"1\",\"0\")","v":"0"},{"$f":"IF(ISNUMBER(SEARCH(\"3\",#REF!)),\"1\",\"0\")","v":"0"},{"$f":"IF(ISNUMBER(SEARCH(\"4\",#REF!)),\"1\",\"0\")","v":"0"},{"$f":"IF(ISNUMBER(SEARCH(\"5\",#REF!)),\"1\",\"0\")","v":"0"},{"$f":"IF(ISNUMBER(SEARCH(\"6\",#REF!)),\"1\",\"0\")","v":"0"},{"$f":"IF(ISNUMBER(SEARCH(\"7\",#REF!)),\"1\",\"0\")","v":"0"},{"$f":"IF(ISNUMBER(SEARCH(\"8\",#REF!)),\"1\",\"0\")","v":"0"},{"$f":"IF(ISNUMBER(SEARCH(\"9\",#REF!)),\"1\",\"0\")","v":"0"},{"$f":"IF(ISNUMBER(SEARCH(\"9\",#REF!)),\"1\",\"0\")","v":"0"},{"$f":"IF(ISNUMBER(SEARCH(\"10\",#REF!)),\"1\",\"0\")","v":"0"},{"$f":"IF(ISNUMBER(SEARCH(\"11\",#REF!)),\"1\",\"0\")","v":"0"},{"$f":"IF(ISNUMBER(SEARCH(\"12\",#REF!)),\"1\",\"0\")","v":"0"},{"$f":"IF(ISNUMBER(SEARCH(\"13\",#REF!)),\"1\",\"0\")","v":"0"},{"$f":"IF(ISNUMBER(SEARCH(\"14\",#REF!)),\"1\",\"0\")","v":"0"},{"$f":"IF(ISNUMBER(SEARCH(\"15\",#REF!)),\"1\",\"0\")","v":"0"},{"$f":"IF(ISNUMBER(SEARCH(\"16\",#REF!)),\"1\",\"0\")","v":"0"},{"$f":"IF(ISNUMBER(SEARCH(\"17\",#REF!)),\"1\",\"0\")","v":"0"},{"$nulls":3},9,22,18,16,{"$nulls":3},6,6,4,16,{"$nulls":4},{"$f":"#REF!-#REF!","v":{"$error":"#REF!"}},{"$f":"#REF!-#REF!","v":{"$error":"#REF!"}}]
[2,21,null,24,2,40,null,1,3,1,5,5,6,1,"1","0","0","0","0","0","0","0","0","0","0","0","0","0","0","0","0","0",null,2,1,3,1,{"$f":"IF(ISNUMBER(SEARCH(\"1\",#REF!)),\"1\",\"0\")","v":"0"},{"$f":"IF(ISNUMBER(SEARCH(\"2\",#REF!)),\"1\",\"0\")","v":"0"},{"$f":"IF(ISNUMBER(SEARCH(\"3\",#REF!)),\"1\",\"0\")","v":"0"},{"$f":"IF(ISNUMBER(SEARCH(\"4\",#REF!)),\"1\",\"0\")","v":"0"},{"$f":"IF(ISNUMBER(SEARCH(\"5\",#REF!)),\"1\",\"0\")","v":"0"},{"$f":"IF(ISNUMBER(SEARCH(\"6\",#REF!)),\"1\",\"0\")","v":"0"},{"$f":"IF(ISNUMBER(SEARCH(\"7\",#REF!)),\"1\",\"0\")","v":"0"},{"$f":"IF(ISNUMBER(SEARCH(\"8\",#REF!)),\"1\",\"0\")","v":"0"},{"$f":"IF(ISNUMBER(SEARCH(\"9\",#REF!)),\"1\",\"0\")","v":"0"},{"$f":"IF(ISNUMBER(SEARCH(\"9\",#REF!)),\"1\",\"0\")","v":"0"},{"$f":"IF(ISNUMBER(SEARCH(\"10\",#REF!)),\"1\",\"0\")","v":"0"},{"$f":"IF(ISNUMBER(SEARCH(\"11\",#REF!)),\"1\",\"0\")","v":"0"},{"$f":"IF(ISNUMBER(SEARCH(\"12\",#REF!)),\"1\",\"0\")","v":"0"},{"$f":"IF(ISNUMBER(SEARCH(\"13\",#REF!)),\"1\",\"0\")","v":"0"},{"$f":"IF(ISNUMBER(SEARCH(\"14\",#REF!)),\"1\",\"0\")","v":"0"},{"$f":"IF(ISNUMBER(SEARCH(\"15\",#REF!)),\"1\",\"0\")","v":"0"},{"$f":"IF(ISNUMBER(SEARCH(\"16\",#REF!)),\"1\",\"0\")","v":"0"},{"$f":"IF(ISNUMBER(SEARCH(\"17\",#REF!)),\"1\",\"0\")","v":"0"},{"$nulls":3},9,24,14,12,{"$nulls":11},{"$f":"#REF!-#REF!","v":{"$error":"#REF!"}}]
[2,21,null,26,2,30,null,2,2,1,null,8,null,3,"0","0","1","0","0","0","0","0","0","0","0","0","0","0","0","0","0","0",null,1,7,5,2,{"$f":"IF(ISNUMBER(SEARCH(\"1\",#REF!)),\"1\",\"0\")","v":"0"},{"$f":"IF(ISNUMBER(SEARCH(\"2\",#REF!)),\"1\",\"0\")","v":"0"},{"$f":"IF(ISNUMBER(SEARCH(\"3\",#REF!)),\"1\",\"0\")","v":"0"},{"$f":"IF(ISNUMBER(SEARCH(\"4\",#REF!)),\"1\",\"0\")","v":"0"},{"$f":"IF(ISNUMBER(SEARCH(\"5\",#REF!)),\"1\",\"0\")","v":"0"},{"$f":"IF(ISNUMBER(SEARCH(\"6\",#REF!)),\"1\",\"0\")","v":"0"},{"$f":"IF(ISNUMBER(SEARCH(\"7\",#REF!)),\"1\",\"0\")","v":"0"},{"$f":"IF(ISNUMBER(SEARCH(\"8\",#REF!)),\"1\",\"0\")","v":"0"},{"$f":"IF(ISNUMBER(SEARCH(\"9\",#REF!)),\"1\",\"0\")","v":"0"},{"$f":"IF(ISNUMBER(SEARCH(\"9\",#REF!)),\"1\",\"0\")","v":"0"},{"$f":"IF(ISNUMBER(SEARCH(\"10\",#REF!)),\"1\",\"0\")","v":"0"},{"$f":"IF(ISNUMBER(SEARCH(\"11\",#REF!)),\"1\",\"0\")","v":"0"},{"$f":"IF(ISNUMBER(SEARCH(\"12\",#REF!)),\"1\",\"0\")","v":"0"},{"$f":"IF(ISNUMBER(SEARCH(\"13\",#REF!)),\"1\",\"0\")","v":"0"},{"$f":"IF(ISNUMBER(SEARCH(\"14\",#REF!)),\"1\",\"0\")","v":"0"},{"$f":"IF(ISNUMBER(SEARCH(\"15\",#REF!)),\"1\",\"0\")","v":"0"},{"$f":"IF(ISNUMBER(SEARCH(\"16\",#REF!)),\"1\",\"0\")","v":"0"},{"$f":"IF(ISNUMBER(SEARCH(\"17\",#REF!)),\"1\",\"0\")","v":"0"},4,null,null,9,28,18,24,{"$nulls":3},10,8,4,22,{"$nulls":4},{"$f":"#REF!-#REF!","v":{"$error":"#REF!"}},{"$f":"#REF!-#REF!","v":{"$error":"#REF!"}}]
[2,21,null,26,2,31,null,3,8,1,null,8,1,"3, 16. Autre (SVP dans 20 case suivante) ","1","1","1","0","0","1","0","0","0","0","0","0","0","0","0","1","0","0",null,2,3,null,null,{"$f":"IF(ISNUMBER(SEARCH(\"1\",#REF!)),\"1\",\"0\")","v":"0"},{"$f":"IF(ISNUMBER(SEARCH(\"2\",#REF!)),\"1\",\"0\")","v":"0"},{"$f":"IF(ISNUMBER(SEARCH(\"3\",#REF!)),\"1\",\"0\")","v":"0"},{"$f":"IF(ISNUMBER(SEARCH(\"4\",#REF!)),\"1\",\"0\")","v":"0"},{"$f":"IF(ISNUMBER(SEARCH(\"5\",#REF!)),\"1\",\"0\")","v":"0"},{"$f":"IF(ISNUMBER(SEARCH(\"6\",#REF!)),\"1\",\"0\")","v":"0"},{"$f":"IF(ISNUMBER(SEARCH(\"7\",#REF!)),\"1\",\"0\")","v":"0"},{"$f":"IF(ISNUMBER(SEARCH(\"8\",#REF!)),\"1\",\"0\")","v":"0"},{"$f":"IF(ISNUMBER(SEARCH(\"9\",#REF!)),\"1\",\"0\")","v":"0"},{"$f":"IF(ISNUMBER(SEARCH(\"9\",#REF!)),\"1\",\"0\")","v":"0"},{"$f":"IF(ISNUMBER(SEARCH(\"10\",#REF!)),\"1\",\"0\")","v":"0"},{"$f":"IF(ISNUMBER(SEARCH(\"11\",#REF!)),\"1\",\"0\")","v":"0"},{"$f":"IF(ISNUMBER(SEARCH(\"12\",#REF!)),\"1\",\"0\")","v":"0"},{"$f":"IF(ISNUMBER(SEARCH(\"13\",#REF!)),\"1\",\"0\")","v":"0"},{"$f":"IF(ISNUMBER(SEARCH(\"14\",#REF!)),\"1\",\"0\")","v":"0"},{"$f":"IF(ISNUMBER(SEARCH(\"15\",#REF!)),\"1\",\"0\")","v":"0"},{"$f":"IF(ISNUMBER(SEARCH(\"16\",#REF!)),\"1\",\"0\")","v":"0"},{"$f":"IF(ISNUMBER(SEARCH(\"17\",#REF!)),\"1\",\"0\")","v":"0"},3,null,null,9,32,22,18,{"$nulls":3},10,6,6,22,{"$nulls":4},{"$f":"#REF!-#REF!","v":{"$error":"#REF!"}},{"$f":"#REF!-#REF!","v":{"$error":"#REF!"}}]
[2,21,null,32,2,25,null,3,3,null,4,3,2,1,"1","0","0","0","0","0","0","0","0","0","0","0","0","0","0","0","0","0",null,1,1,5,2,{"$f":"IF(ISNUMBER(SEARCH(\"1\",#REF!)),\"1\",\"0\")","v":"0"},{"$f":"IF(ISNUMBER(SEARCH(\"2\",#REF!)),\"1\",\"0\")","v":"0"},{"$f":"IF(ISNUMBER(SEARCH(\"3\",#REF!)),\"1\",\"0\")","v":"0"},{"$f":"IF(ISNUMBER(SEARCH(\"4\",#REF!)),\"1\",\"0\")","v":"0"},{"$f":"IF(ISNUMBER(SEARCH(\"5\",#REF!)),\"1\",\"0\")","v":"0"},{"$f":"IF(ISNUMBER(SEARCH(\"6\",#REF!)),\"1\",\"0\")","v":"0"},{"$f":"IF(ISNUMBER(SEARCH(\"7\",#REF!)),\"1\",\"0\")","v":"0"},{"$f":"IF(ISNUMBER(SEARCH(\"8\",#REF!)),\"1\",\"0\")","v":"0"},{"$f":"IF(ISNUMBER(SEARCH(\"9\",#REF!)),\"1\",\"0\")","v":"0"},{"$f":"IF(ISNUMBER(SEARCH(\"9\",#REF!)),\"1\",\"0\")","v":"0"},{"$f":"IF(ISNUMBER(SEARCH(\"10\",#REF!)),\"1\",\"0\")","v":"0"},{"$f":"IF(ISNUMBER(SEARCH(\"11\",#REF!)),\"1\",\"0\")","v":"0"},{"$f":"IF(ISNUMBER(SEARCH(\"12\",#REF!)),\"1\",\"0\")","v":"0"},{"$f":"IF(ISNUMBER(SEARCH(\"13\",#REF!)),\"1\",\"0\")","v":"0"},{"$f":"IF(ISNUMBER(SEARCH(\"14\",#REF!)),\"1\",\"0\")","v":"0"},{"$f":"IF(ISNUMBER(SEARCH(\"15\",#REF!)),\"1\",\"0\")","v":"0"},{"$f":"IF(ISNUMBER(SEARCH(\"16\",#REF!)),\"1\",\"0\")","v":"0"},{"$f":"IF(ISNUMBER(SEARCH(\"17\",#REF!)),\"1\",\"0\")","v":"0"},{"$nulls":3},9,14,14,8,{"$nulls":3},2,4,0,6,{"$nulls":4},{"$f":"#REF!-#REF!","v":{"$error":"#REF!"}},{"$f":"#REF!-#REF!","v":{"$error":"#REF!"}}]
[2,21,null,33,2,23,null,3,8,1,5,5,2,null,"0","0","0","0","0","0","0","0","0","0","0","0","0","0","0","0","0","0",null,1,null,null,2,{"$f":"IF(ISNUMBER(SEARCH(\"1\",#REF!)),\"1\",\"0\")","v":"0"},{"$f":"IF(ISNUMBER(SEARCH(\"2\",#REF!)),\"1\",\"0\")","v":"0"},{"$f":"IF(ISNUMBER(SEARCH(\"3\",#REF!)),\"1\",\"0\")","v":"0"},{"$f":"IF(ISNUMBER(SEARCH(\"4\",#REF!)),\"1\",\"0\")","v":"0"},{"$f":"IF(ISNUMBER(SEARCH(\"5\",#REF!)),\"1\",\"0\")","v":"0"},{"$f":"IF(ISNUMBER(SEARCH(\"6\",#REF!)),\"1\",\"0\")","v":"0"},{"$f":"IF(ISNUMBER(SEARCH(\"7\",#REF!)),\"1\",\"0\")","v":"0"},{"$f":"IF(ISNUMBER(SEARCH(\"8\",#REF!)),\"1\",\"0\")","v":"0"},{"$f":"IF(ISNUMBER(SEARCH(\"9\",#REF!)),\"1\",\"0\")","v":"0"},{"$f":"IF(ISNUMBER(SEARCH(\"9\",#REF!)),\"1\",\"0\")","v":"0"},{"$f":"IF(ISNUMBER(SEARCH(\"10\",#REF!)),\"1\",\"0\")","v":"0"},{"$f":"IF(ISNUMBER(SEARCH(\"11\",#REF!)),\"1\",\"0\")","v":"0"},{"$f":"IF(ISNUMBER(SEARCH(\"12\",#REF!)),\"1\",\"0\")","v":"0"},{"$f":"IF(ISNUMBER(SEARCH(\"13\",#REF!)),\"1\",\"0\")","v":"0"},{"$f":"IF(ISNUMBER(SEARCH(\"14\",#REF!)),\"1\",\"0\")","v":"0"},{"$f":"IF(ISNUMBER(SEARCH(\"15\",#REF!)),\"1\",\"0\")","v":"0"},{"$f":"IF(ISNUMBER(SEARCH(\"16\",#REF!)),\"1\",\"0\")","v":"0"},{"$f":"IF(ISNUMBER(SEARCH(\"17\",#REF!)),\"1\",\"0\")","v":"0"},{"$nulls":3},9,34,18,26,{"$nulls":3},6,6,6,18,{"$nulls":4},{"$f":"#REF!-#REF!","v":{"$error":"#REF!"}},{"$f":"#REF!-#REF!","v":{"$error":"#REF!"}}]
[2,21,null,27,2,20,null,3,8,1,3,5,5,3,"0","0","1","0","0","0","0","0","0","0","0","0","0","0","0","0","0","0",null,1,3,5,2,{"$f":"IF(ISNUMBER(SEARCH(\"1\",#REF!)),\"1\",\"0\")","v":"0"},{"$f":"IF(ISNUMBER(SEARCH(\"2\",#REF!)),\"1\",\"0\")","v":"0"},{"$f":"IF(ISNUMBER(SEARCH(\"3\",#REF!)),\"1\",\"0\")","v":"0"},{"$f":"IF(ISNUMBER(SEARCH(\"4\",#REF!)),\"1\",\"0\")","v":"0"},{"$f":"IF(ISNUMBER(SEARCH(\"5\",#REF!)),\"1\",\"0\")","v":"0"},{"$f":"IF(ISNUMBER(SEARCH(\"6\",#REF!)),\"1\",\"0\")","v":"0"},{"$f":"IF(ISNUMBER(SEARCH(\"7\",#REF!)),\"1\",\"0\")","v":"0"},{"$f":"IF(ISNUMBER(SEARCH(\"8\",#REF!)),\"1\",\"0\")","v":"0"},{"$f":"IF(ISNUMBER(SEARCH(\"9\",#REF!)),\"1\",\"0\")","v":"0"},{"$f":"IF(ISNUMBER(SEARCH(\"9\",#REF!)),\"1\",\"0\")","v":"0"},{"$f":"IF(ISNUMBER(SEARCH(\"10\",#REF!)),\"1\",\"0\")","v":"0"},{"$f":"IF(ISNUMBER(SEARCH(\"11\",#REF!)),\"1\",\"0\")","v":"0"},{"$f":"IF(ISNUMBER(SEARCH(\"12\",#REF!)),\"1\",\"0\")","v":"0"},{"$f":"IF(ISNUMBER(SEARCH(\"13\",#REF!)),\"1\",\"0\")","v":"0"},{"$f":"IF(ISNUMBER(SEARCH(\"14\",#REF!)),\"1\",\"0\")","v":"0"},{"$f":"IF(ISNUMBER(SEARCH(\"15\",#REF!)),\"1\",\"0\")","v":"0"},{"$f":"IF(ISNUMBER(SEARCH(\"16\",#REF!)),\"1\",\"0\")","v":"0"},{"$f":"IF(ISNUMBER(SEARCH(\"17\",#REF!)),\"1\",\"0\")","v":"0"},1,null,null,9]
[2,21,null,27,2,67,null,3,3,1,3,5,5,3,"0","0","1","0","0","0","0","0","0","0","0","0","0","0","0","0","0","0",null,1,7,5,2,{"$f":"IF(ISNUMBER(SEARCH(\"1\",#REF!)),\"1\",\"0\")","v":"0"},{"$f":"IF(ISNUMBER(SEARCH(\"2\",#REF!)),\"1\",\"0\")","v":"0"},{"$f":"IF(ISNUMBER(SEARCH(\"3\",#REF!)),\"1\",\"0\")","v":"0"},{"$f":"IF(ISNUMBER(SEARCH(\"4\",#REF!)),\"1\",\"0\")","v":"0"},{"$f":"IF(ISNUMBER(SEARCH(\"5\",#REF!)),\"1\",\"0\")","v":"0"},{"$f":"IF(ISNUMBER(SEARCH(\"6\",#REF!)),\"1\",\"0\")","v":"0"},{"$f":"IF(ISNUMBER(SEARCH(\"7\",#REF!)),\"1\",\"0\")","v":"0"},{"$f":"IF(ISNUMBER(SEARCH(\"8\",#REF!)),\"1\",\"0\")","v":"0"},{"$f":"IF(ISNUMBER(SEARCH(\"9\",#REF!)),\"1\",\"0\")","v":"0"},{"$f":"IF(ISNUMBER(SEARCH(\"9\",#REF!)),\"1\",\"0\")","v":"0"},{"$f":"IF(ISNUMBER(SEARCH(\"10\",#REF!)),\"1\",\"0\")","v":"0"},{"$f":"IF(ISNUMBER(SEARCH(\"11\",#REF!)),\"1\",\"0\")","v":"0"},{"$f":"IF(ISNUMBER(SEARCH(\"12\",#REF!)),\"1\",\"0\")","v":"0"},{"$f":"IF(ISNUMBER(SEARCH(\"13\",#REF!)),\"1\",\"0\")","v":"0"},{"$f":"IF(ISNUMBER(SEARCH(\"14\",#REF!)),\"1\",\"0\")","v":"0"},{"$f":"IF(ISNUMBER(SEARCH(\"15\",#REF!)),\"1\",\"0\")","v":"0"},{"$f":"IF(ISNUMBER(SEARCH(\"16\",#REF!)),\"1\",\"0\")","v":"0"},{"$f":"IF(ISNUMBER(SEARCH(\"17\",#REF!)),\"1\",\"0\")","v":"0"},1,null,null,3,18,14,14,{"$nulls":3},2,2,8,12,{"$nulls":4},{"$f":"#REF!-#REF!","v":{"$error":"#REF!"}},{"$f":"#REF!-#REF!","v":{"$error":"#REF!"}}]
[2,21,null,30,2,37,null,3,8,2,3,5,6,"3, 12. Pesonne de 20 famille disparue","1","1","1","0","0","0","0","0","0","0","0","1","0","0","0","0","0","0",null,2,5,5,2,{"$f":"IF(ISNUMBER(SEARCH(\"1\",#REF!)),\"1\",\"0\")","v":"0"},{"$f":"IF(ISNUMBER(SEARCH(\"2\",#REF!)),\"1\",\"0\")","v":"0"},{"$f":"IF(ISNUMBER(SEARCH(\"3\",#REF!)),\"1\",\"0\")","v":"0"},{"$f":"IF(ISNUMBER(SEARCH(\"4\",#REF!)),\"1\",\"0\")","v":"0"},{"$f":"IF(ISNUMBER(SEARCH(\"5\",#REF!)),\"1\",\"0\")","v":"0"},{"$f":"IF(ISNUMBER(SEARCH(\"6\",#REF!)),\"1\",\"0\")","v":"0"},{"$f":"IF(ISNUMBER(SEARCH(\"7\",#REF!)),\"1\",\"0\")","v":"0"},{"$f":"IF(ISNUMBER(SEARCH(\"8\",#REF!)),\"1\",\"0\")","v":"0"},{"$f":"IF(ISNUMBER(SEARCH(\"9\",#REF!)),\"1\",\"0\")","v":"0"},{"$f":"IF(ISNUMBER(SEARCH(\"9\",#REF!)),\"1\",\"0\")","v":"0"},{"$f":"IF(ISNUMBER(SEARCH(\"10\",#REF!)),\"1\",\"0\")","v":"0"},{"$f":"IF(ISNUMBER(SEARCH(\"11\",#REF!)),\"1\",\"0\")","v":"0"},{"$f":"IF(ISNUMBER(SEARCH(\"12\",#REF!)),\"1\",\"0\")","v":"0"},{"$f":"IF(ISNUMBER(SEARCH(\"13\",#REF!)),\"1\",\"0\")","v":"0"},{"$f":"IF(ISNUMBER(SEARCH(\"14\",#REF!)),\"1\",\"0\")","v":"0"},{"$f":"IF(ISNUMBER(SEARCH(\"15\",#REF!)),\"1\",\"0\")","v":"0"},{"$f":"IF(ISNUMBER(SEARCH(\"16\",#REF!)),\"1\",\"0\")","v":"0"},{"$f":"IF(ISNUMBER(SEARCH(\"17\",#REF!)),\"1\",\"0\")","v":"0"},1,3,null,3,32,20,30,{"$nulls":3},12,6,10,28,{"$nulls":4},{"$f":"#REF!-#REF!","v":{"$error":"#REF!"}},{"$f":"#REF!-#REF!","v":{"$error":"#REF!"}}]
[2,21,null,30,1,14,null,2,7,1,4,5,5,"3, 14","1","0","1","1","0","0","0","0","0","0","0","0","0","1","0","0","0","0",null,1,5,5,2,{"$f":"IF(ISNUMBER(SEARCH(\"1\",#REF!)),\"1\",\"0\")","v":"0"},{"$f":"IF(ISNUMBER(SEARCH(\"2\",#REF!)),\"1\",\"0\")","v":"0"},{"$f":"IF(ISNUMBER(SEARCH(\"3\",#REF!)),\"1\",\"0\")","v":"0"},{"$f":"IF(ISNUMBER(SEARCH(\"4\",#REF!)),\"1\",\"0\")","v":"0"},{"$f":"IF(ISNUMBER(SEARCH(\"5\",#REF!)),\"1\",\"0\")","v":"0"},{"$f":"IF(ISNUMBER(SEARCH(\"6\",#REF!)),\"1\",\"0\")","v":"0"},{"$f":"IF(ISNUMBER(SEARCH(\"7\",#REF!)),\"1\",\"0\")","v":"0"},{"$f":"IF(ISNUMBER(SEARCH(\"8\",#REF!)),\"1\",\"0\")","v":"0"},{"$f":"IF(ISNUMBER(SEARCH(\"9\",#REF!)),\"1\",\"0\")","v":"0"},{"$f":"IF(ISNUMBER(SEARCH(\"9\",#REF!)),\"1\",\"0\")","v":"0"},{"$f":"IF(ISNUMBER(SEARCH(\"10\",#REF!)),\"1\",\"0\")","v":"0"},{"$f":"IF(ISNUMBER(SEARCH(\"11\",#REF!)),\"1\",\"0\")","v":"0"},{"$f":"IF(ISNUMBER(SEARCH(\"12\",#REF!)),\"1\",\"0\")","v":"0"},{"$f":"IF(ISNUMBER(SEARCH(\"13\",#REF!)),\"1\",\"0\")","v":"0"},{"$f":"IF(ISNUMBER(SEARCH(\"14\",#REF!)),\"1\",\"0\")","v":"0"},{"$f":"IF(ISNUMBER(SEARCH(\"15\",#REF!)),\"1\",\"0\")","v":"0"},{"$f":"IF(ISNUMBER(SEARCH(\"16\",#REF!)),\"1\",\"0\")","v":"0"},{"$f":"IF(ISNUMBER(SEARCH(\"17\",#REF!)),\"1\",\"0\")","v":"0"},1,3,null,3,26,18,26,{"$nulls":3},12,4,10,26,{"$nulls":4},{"$f":"#REF!-#REF!","v":{"$error":"#REF!"}},{"$f":"#REF!-#REF!","v":{"$error":"#REF!"}}]
[2,21,null,30,2,32,null,2,7,2,6,3,6,1,"1","0","0","0","0","0","0","0","0","0","0","0","0","0","0","0","0","0",null,1,4,5,2,{"$f":"IF(ISNUMBER(SEARCH(\"1\",#REF!)),\"1\",\"0\")","v":"0"},{"$f":"IF(ISNUMBER(SEARCH(\"2\",#REF!)),\"1\",\"0\")","v":"0"},{"$f":"IF(ISNUMBER(SEARCH(\"3\",#REF!)),\"1\",\"0\")","v":"0"},{"$f":"IF(ISNUMBER(SEARCH(\"4\",#REF!)),\"1\",\"0\")","v":"0"},{"$f":"IF(ISNUMBER(SEARCH(\"5\",#REF!)),\"1\",\"0\")","v":"0"},{"$f":"IF(ISNUMBER(SEARCH(\"6\",#REF!)),\"1\",\"0\")","v":"0"},{"$f":"IF(ISNUMBER(SEARCH(\"7\",#REF!)),\"1\",\"0\")","v":"0"},{"$f":"IF(ISNUMBER(SEARCH(\"8\",#REF!)),\"1\",\"0\")","v":"0"},{"$f":"IF(ISNUMBER(SEARCH(\"9\",#REF!)),\"1\",\"0\")","v":"0"},{"$f":"IF(ISNUMBER(SEARCH(\"9\",#REF!)),\"1\",\"0\")","v":"0"},{"$f":"IF(ISNUMBER(SEARCH(\"10\",#REF!)),\"1\",\"0\")","v":"0"},{"$f":"IF(ISNUMBER(SEARCH(\"11\",#REF!)),\"1\",\"0\")","v":"0"},{"$f":"IF(ISNUMBER(SEARCH(\"12\",#REF!)),\"1\",\"0\")","v":"0"},{"$f":"IF(ISNUMBER(SEARCH(\"13\",#REF!)),\"1\",\"0\")","v":"0"},{"$f":"IF(ISNUMBER(SEARCH(\"14\",#REF!)),\"1\",\"0\")","v":"0"},{"$f":"IF(ISNUMBER(SEARCH(\"15\",#REF!)),\"1\",\"0\")","v":"0"},{"$f":"IF(ISNUMBER(SEARCH(\"16\",#REF!)),\"1\",\"0\")","v":"0"},{"$f":"IF(ISNUMBER(SEARCH(\"17\",#REF!)),\"1\",\"0\")","v":"0"},{"$nulls":3},3,28,18,22,{"$nulls":3},8,6,6,20,{"$nulls":4},{"$f":"#REF!-#REF!","v":{"$error":"#REF!"}},{"$f":"#REF!-#REF!","v":{"$error":"#REF!"}}]
[2,21,null,29,1,46,null,3,1,1,0,5,2,3,"0","0","1","0","0","0","0","0","0","0","0","0","0","0","0","0","0","0",null,1,3,5,2,{"$f":"IF(ISNUMBER(SEARCH(\"1\",#REF!)),\"1\",\"0\")","v":"0"},{"$f":"IF(ISNUMBER(SEARCH(\"2\",#REF!)),\"1\",\"0\")","v":"0"},{"$f":"IF(ISNUMBER(SEARCH(\"3\",#REF!)),\"1\",\"0\")","v":"0"},{"$f":"IF(ISNUMBER(SEARCH(\"4\",#REF!)),\"1\",\"0\")","v":"0"},{"$f":"IF(ISNUMBER(SEARCH(\"5\",#REF!)),\"1\",\"0\")","v":"0"},{"$f":"IF(ISNUMBER(SEARCH(\"6\",#REF!)),\"1\",\"0\")","v":"0"},{"$f":"IF(ISNUMBER(SEARCH(\"7\",#REF!)),\"1\",\"0\")","v":"0"},{"$f":"IF(ISNUMBER(SEARCH(\"8\",#REF!)),\"1\",\"0\")","v":"0"},{"$f":"IF(ISNUMBER(SEARCH(\"9\",#REF!)),\"1\",\"0\")","v":"0"},{"$f":"IF(ISNUMBER(SEARCH(\"9\",#REF!)),\"1\",\"0\")","v":"0"},{"$f":"IF(ISNUMBER(SEARCH(\"10\",#REF!)),\"1\",\"0\")","v":"0"},{"$f":"IF(ISNUMBER(SEARCH(\"11\",#REF!)),\"1\",\"0\")","v":"0"},{"$f":"IF(ISNUMBER(SEARCH(\"12\",#REF!)),\"1\",\"0\")","v":"0"},{"$f":"IF(ISNUMBER(SEARCH(\"13\",#REF!)),\"1\",\"0\")","v":"0"},{"$f":"IF(ISNUMBER(SEARCH(\"14\",#REF!)),\"1\",\"0\")","v":"0"},{"$f":"IF(ISNUMBER(SEARCH(\"15\",#REF!)),\"1\",\"0\")","v":"0"},{"$f":"IF(ISNUMBER(SEARCH(\"16\",#REF!)),\"1\",\"0\")","v":"0"},{"$f":"IF(ISNUMBER(SEARCH(\"17\",#REF!)),\"1\",\"0\")","v":"0"},1,null,null,9,18,20,22,{"$nulls":3},2,6,6,14,{"$nulls":4},{"$f":"#REF!-#REF!","v":{"$error":"#REF!"}},{"$f":"#REF!-#REF!","v":{"$error":"#REF!"}}]
[2,21,null,32,2,25,null,3,7,1,7,5,2,"4. Tentative de Viol","0","0","0","1","0","0","0","0","0","0","0","0","0","0","0","0","0","0",null,1,3,5,2,{"$f":"IF(ISNUMBER(SEARCH(\"1\",#REF!)),\"1\",\"0\")","v":"0"},{"$f":"IF(ISNUMBER(SEARCH(\"2\",#REF!)),\"1\",\"0\")","v":"0"},{"$f":"IF(ISNUMBER(SEARCH(\"3\",#REF!)),\"1\",\"0\")","v":"0"},{"$f":"IF(ISNUMBER(SEARCH(\"4\",#REF!)),\"1\",\"0\")","v":"0"},{"$f":"IF(ISNUMBER(SEARCH(\"5\",#REF!)),\"1\",\"0\")","v":"0"},{"$f":"IF(ISNUMBER(SEARCH(\"6\",#REF!)),\"1\",\"0\")","v":"0"},{"$f":"IF(ISNUMBER(SEARCH(\"7\",#REF!)),\"1\",\"0\")","v":"0"},{"$f":"IF(ISNUMBER(SEARCH(\"8\",#REF!)),\"1\",\"0\")","v":"0"},{"$f":"IF(ISNUMBER(SEARCH(\"9\",#REF!)),\"1\",\"0\")","v":"0"},{"$f":"IF(ISNUMBER(SEARCH(\"9\",#REF!)),\"1\",\"0\")","v":"0"},{"$f":"IF(ISNUMBER(SEARCH(\"10\",#REF!)),\"1\",\"0\")","v":"0"},{"$f":"IF(ISNUMBER(SEARCH(\"11\",#REF!)),\"1\",\"0\")","v":"0"},{"$f":"IF(ISNUMBER(SEARCH(\"12\",#REF!)),\"1\",\"0\")","v":"0"},{"$f":"IF(ISNUMBER(SEARCH(\"13\",#REF!)),\"1\",\"0\")","v":"0"},{"$f":"IF(ISNUMBER(SEARCH(\"14\",#REF!)),\"1\",\"0\")","v":"0"},{"$f":"IF(ISNUMBER(SEARCH(\"15\",#REF!)),\"1\",\"0\")","v":"0"},{"$f":"IF(ISNUMBER(SEARCH(\"16\",#REF!)),\"1\",\"0\")","v":"0"},{"$f":"IF(ISNUMBER(SEARCH(\"17\",#REF!)),\"1\",\"0\")","v":"0"},{"$nulls":3},9]
[2,21,null,33,1,40,null,2,8,1,null,5,2,null,"0","0","0","0","0","0","0","0","0","0","0","0","0","0","0","0","0","0",{"$nulls":4},2,{"$f":"IF(ISNUMBER(SEARCH(\"1\",#REF!)),\"1\",\"0\")","v":"0"},{"$f":"IF(ISNUMBER(SEARCH(\"2\",#REF!)),\"1\",\"0\")","v":"0"},{"$f":"IF(ISNUMBER(SEARCH(\"3\",#REF!)),\"1\",\"0\")","v":"0"},{"$f":"IF(ISNUMBER(SEARCH(\"4\",#REF!)),\"1\",\"0\")","v":"0"},{"$f":"IF(ISNUMBER(SEARCH(\"5\",#REF!)),\"1\",\"0\")","v":"0"},{"$f":"IF(ISNUMBER(SEARCH(\"6\",#REF!)),\"1\",\"0\")","v":"0"},{"$f":"IF(ISNUMBER(SEARCH(\"7\",#REF!)),\"1\",\"0\")","v":"0"},{"$f":"IF(ISNUMBER(SEARCH(\"8\",#REF!)),\"1\",\"0\")","v":"0"},{"$f":"IF(ISNUMBER(SEARCH(\"9\",#REF!)),\"1\",\"0\")","v":"0"},{"$f":"IF(ISNUMBER(SEARCH(\"9\",#REF!)),\"1\",\"0\")","v":"0"},{"$f":"IF(ISNUMBER(SEARCH(\"10\",#REF!)),\"1\",\"0\")","v":"0"},{"$f":"IF(ISNUMBER(SEARCH(\"11\",#REF!)),\"1\",\"0\")","v":"0"},{"$f":"IF(ISNUMBER(SEARCH(\"12\",#REF!)),\"1\",\"0\")","v":"0"},{"$f":"IF(ISNUMBER(SEARCH(\"13\",#REF!)),\"1\",\"0\")","v":"0"},{"$f":"IF(ISNUMBER(SEARCH(\"14\",#REF!)),\"1\",\"0\")","v":"0"},{"$f":"IF(ISNUMBER(SEARCH(\"15\",#REF!)),\"1\",\"0\")","v":"0"},{"$f":"IF(ISNUMBER(SEARCH(\"16\",#REF!)),\"1\",\"0\")","v":"0"},{"$f":"IF(ISNUMBER(SEARCH(\"17\",#REF!)),\"1\",\"0\")","v":"0"},{"$nulls":3},9]
[2,21,null,24,2,38,null,1,3,1,4,3,2,3,"0","0","1","0","0","0","0","0","0","0","0","0","0","0","0","0","0","0",null,1,7,5,1,{"$f":"IF(ISNUMBER(SEARCH(\"1\",#REF!)),\"1\",\"0\")","v":"0"},{"$f":"IF(ISNUMBER(SEARCH(\"2\",#REF!)),\"1\",\"0\")","v":"0"},{"$f":"IF(ISNUMBER(SEARCH(\"3\",#REF!)),\"1\",\"0\")","v":"0"},{"$f":"IF(ISNUMBER(SEARCH(\"4\",#REF!)),\"1\",\"0\")","v":"0"},{"$f":"IF(ISNUMBER(SEARCH(\"5\",#REF!)),\"1\",\"0\")","v":"0"},{"$f":"IF(ISNUMBER(SEARCH(\"6\",#REF!)),\"1\",\"0\")","v":"0"},{"$f":"IF(ISNUMBER(SEARCH(\"7\",#REF!)),\"1\",\"0\")","v":"0"},{"$f":"IF(ISNUMBER(SEARCH(\"8\",#REF!)),\"1\",\"0\")","v":"0"},{"$f":"IF(ISNUMBER(SEARCH(\"9\",#REF!)),\"1\",\"0\")","v":"0"},{"$f":"IF(ISNUMBER(SEARCH(\"9\",#REF!)),\"1\",\"0\")","v":"0"},{"$f":"IF(ISNUMBER(SEARCH(\"10\",#REF!)),\"1\",\"0\")","v":"0"},{"$f":"IF(ISNUMBER(SEARCH(\"11\",#REF!)),\"1\",\"0\")","v":"0"},{"$f":"IF(ISNUMBER(SEARCH(\"12\",#REF!)),\"1\",\"0\")","v":"0"},{"$f":"IF(ISNUMBER(SEARCH(\"13\",#REF!)),\"1\",\"0\")","v":"0"},{"$f":"IF(ISNUMBER(SEARCH(\"14\",#REF!)),\"1\",\"0\")","v":"0"},{"$f":"IF(ISNUMBER(SEARCH(\"15\",#REF!)),\"1\",\"0\")","v":"0"},{"$f":"IF(ISNUMBER(SEARCH(\"16\",#REF!)),\"1\",\"0\")","v":"0"},{"$f":"IF(ISNUMBER(SEARCH(\"17\",#REF!)),\"1\",\"0\")","v":"0"},1,null,null,9,30,22,10,{"$nulls":11},{"$f":"#REF!-#REF!","v":{"$error":"#REF!"}},{"$f":"#REF!-#REF!","v":{"$error":"#REF!"}}]
[2,21,null,25,2,39,null,2,3,1,8,1,null,1,"1","0","0","0","0","0","0","0","0","0","0","0","0","0","0","0","0","0",null,1,1,5,2,{"$f":"IF(ISNUMBER(SEARCH(\"1\",#REF!)),\"1\",\"0\")","v":"0"},{"$f":"IF(ISNUMBER(SEARCH(\"2\",#REF!)),\"1\",\"0\")","v":"0"},{"$f":"IF(ISNUMBER(SEARCH(\"3\",#REF!)),\"1\",\"0\")","v":"0"},{"$f":"IF(ISNUMBER(SEARCH(\"4\",#REF!)),\"1\",\"0\")","v":"0"},{"$f":"IF(ISNUMBER(SEARCH(\"5\",#REF!)),\"1\",\"0\")","v":"0"},{"$f":"IF(ISNUMBER(SEARCH(\"6\",#REF!)),\"1\",\"0\")","v":"0"},{"$f":"IF(ISNUMBER(SEARCH(\"7\",#REF!)),\"1\",\"0\")","v":"0"},{"$f":"IF(ISNUMBER(SEARCH(\"8\",#REF!)),\"1\",\"0\")","v":"0"},{"$f":"IF(ISNUMBER(SEARCH(\"9\",#REF!)),\"1\",\"0\")","v":"0"},{"$f":"IF(ISNUMBER(SEARCH(\"9\",#REF!)),\"1\",\"0\")","v":"0"},{"$f":"IF(ISNUMBER(SEARCH(\"10\",#REF!)),\"1\",\"0\")","v":"0"},{"$f":"IF(ISNUMBER(SEARCH(\"11\",#REF!)),\"1\",\"0\")","v":"0"},{"$f":"IF(ISNUMBER(SEARCH(\"12\",#REF!)),\"1\",\"0\")","v":"0"},{"$f":"IF(ISNUMBER(SEARCH(\"13\",#REF!)),\"1\",\"0\")","v":"0"},{"$f":"IF(ISNUMBER(SEARCH(\"14\",#REF!)),\"1\",\"0\")","v":"0"},{"$f":"IF(ISNUMBER(SEARCH(\"15\",#REF!)),\"1\",\"0\")","v":"0"},{"$f":"IF(ISNUMBER(SEARCH(\"16\",#REF!)),\"1\",\"0\")","v":"0"},{"$f":"IF(ISNUMBER(SEARCH(\"17\",#REF!)),\"1\",\"0\")","v":"0"},{"$nulls":3},9,24,18,24,{"$nulls":11},{"$f":"#REF!-#REF!","v":{"$error":"#REF!"}}]
[2,21,null,26,2,33,null,3,2,1,null,1,1,"4. Tentative de Viol","0","0","0","1","0","0","0","0","0","0","0","0","0","0","0","0","0","0",null,1,3,5,1,{"$f":"IF(ISNUMBER(SEARCH(\"1\",#REF!)),\"1\",\"0\")","v":"0"},{"$f":"IF(ISNUMBER(SEARCH(\"2\",#REF!)),\"1\",\"0\")","v":"0"},{"$f":"IF(ISNUMBER(SEARCH(\"3\",#REF!)),\"1\",\"0\")","v":"0"},{"$f":"IF(ISNUMBER(SEARCH(\"4\",#REF!)),\"1\",\"0\")","v":"0"},{"$f":"IF(ISNUMBER(SEARCH(\"5\",#REF!)),\"1\",\"0\")","v":"0"},{"$f":"IF(ISNUMBER(SEARCH(\"6\",#REF!)),\"1\",\"0\")","v":"0"},{"$f":"IF(ISNUMBER(SEARCH(\"7\",#REF!)),\"1\",\"0\")","v":"0"},{"$f":"IF(ISNUMBER(SEARCH(\"8\",#REF!)),\"1\",\"0\")","v":"0"},{"$f":"IF(ISNUMBER(SEARCH(\"9\",#REF!)),\"1\",\"0\")","v":"0"},{"$f":"IF(ISNUMBER(SEARCH(\"9\",#REF!)),\"1\",\"0\")","v":"0"},{"$f":"IF(ISNUMBER(SEARCH(\"10\",#REF!)),\"1\",\"0\")","v":"0"},{"$f":"IF(ISNUMBER(SEARCH(\"11\",#REF!)),\"1\",\"0\")","v":"0"},{"$f":"IF(ISNUMBER(SEARCH(\"12\",#REF!)),\"1\",\"0\")","v":"0"},{"$f":"IF(ISNUMBER(SEARCH(\"13\",#REF!)),\"1\",\"0\")","v":"0"},{"$f":"IF(ISNUMBER(SEARCH(\"14\",#REF!)),\"1\",\"0\")","v":"0"},{"$f":"IF(ISNUMBER(SEARCH(\"15\",#REF!)),\"1\",\"0\")","v":"0"},{"$f":"IF(ISNUMBER(SEARCH(\"16\",#REF!)),\"1\",\"0\")","v":"0"},{"$f":"IF(ISNUMBER(SEARCH(\"17\",#REF!)),\"1\",\"0\")","v":"0"},{"$nulls":3},9]
[2,21,null,35,1,35,null,2,3,null,0,5,1,"4. Tentative de Viol, 14","1","0","0","1","0","0","0","0","0","0","0","0","0","1","0","0","0","0",null,1,2,5,2,{"$f":"IF(ISNUMBER(SEARCH(\"1\",#REF!)),\"1\",\"0\")","v":"0"},0,{"$f":"IF(ISNUMBER(SEARCH(\"3\",#REF!)),\"1\",\"0\")","v":"0"},{"$f":"IF(ISNUMBER(SEARCH(\"4\",#REF!)),\"1\",\"0\")","v":"0"},{"$f":"IF(ISNUMBER(SEARCH(\"5\",#REF!)),\"1\",\"0\")","v":"0"},{"$f":"IF(ISNUMBER(SEARCH(\"6\",#REF!)),\"1\",\"0\")","v":"0"},{"$f":"IF(ISNUMBER(SEARCH(\"7\",#REF!)),\"1\",\"0\")","v":"0"},{"$f":"IF(ISNUMBER(SEARCH(\"8\",#REF!)),\"1\",\"0\")","v":"0"},{"$f":"IF(ISNUMBER(SEARCH(\"9\",#REF!)),\"1\",\"0\")","v":"0"},{"$f":"IF(ISNUMBER(SEARCH(\"9\",#REF!)),\"1\",\"0\")","v":"0"},{"$f":"IF(ISNUMBER(SEARCH(\"10\",#REF!)),\"1\",\"0\")","v":"0"},{"$f":"IF(ISNUMBER(SEARCH(\"11\",#REF!)),\"1\",\"0\")","v":"0"},{"$f":"IF(ISNUMBER(SEARCH(\"12\",#REF!)),\"1\",\"0\")","v":"0"},{"$f":"IF(ISNUMBER(SEARCH(\"13\",#REF!)),\"1\",\"0\")","v":"0"},{"$f":"IF(ISNUMBER(SEARCH(\"14\",#REF!)),\"1\",\"0\")","v":"0"},{"$f":"IF(ISNUMBER(SEARCH(\"15\",#REF!)),\"1\",\"0\")","v":"0"},{"$f":"IF(ISNUMBER(SEARCH(\"16\",#REF!)),\"1\",\"0\")","v":"0"},{"$f":"IF(ISNUMBER(SEARCH(\"17\",#REF!)),\"1\",\"0\")","v":"0"},{"$nulls":3},9,20,18,20,{"$nulls":3},18,20,20,58,{"$nulls":4},{"$f":"#REF!-#REF!","v":{"$error":"#REF!"}},{"$f":"#REF!-#REF!","v":{"$error":"#REF!"}}]
[2,21,null,35,2,48,null,2,3,1,0,5,1,3,"0","0","1","0","0","0","0","0","0","0","0","0","0","0","0","0","0","0",null,1,2,2,1,{"$f":"IF(ISNUMBER(SEARCH(\"1\",#REF!)),\"1\",\"0\")","v":"0"},0,{"$f":"IF(ISNUMBER(SEARCH(\"3\",#REF!)),\"1\",\"0\")","v":"0"},{"$f":"IF(ISNUMBER(SEARCH(\"4\",#REF!)),\"1\",\"0\")","v":"0"},{"$f":"IF(ISNUMBER(SEARCH(\"5\",#REF!)),\"1\",\"0\")","v":"0"},{"$f":"IF(ISNUMBER(SEARCH(\"6\",#REF!)),\"1\",\"0\")","v":"0"},{"$f":"IF(ISNUMBER(SEARCH(\"7\",#REF!)),\"1\",\"0\")","v":"0"},{"$f":"IF(ISNUMBER(SEARCH(\"8\",#REF!)),\"1\",\"0\")","v":"0"},{"$f":"IF(ISNUMBER(SEARCH(\"9\",#REF!)),\"1\",\"0\")","v":"0"},{"$f":"IF(ISNUMBER(SEARCH(\"9\",#REF!)),\"1\",\"0\")","v":"0"},{"$f":"IF(ISNUMBER(SEARCH(\"10\",#REF!)),\"1\",\"0\")","v":"0"},{"$f":"IF(ISNUMBER(SEARCH(\"11\",#REF!)),\"1\",\"0\")","v":"0"},{"$f":"IF(ISNUMBER(SEARCH(\"12\",#REF!)),\"1\",\"0\")","v":"0"},{"$f":"IF(ISNUMBER(SEARCH(\"13\",#REF!)),\"1\",\"0\")","v":"0"},{"$f":"IF(ISNUMBER(SEARCH(\"14\",#REF!)),\"1\",\"0\")","v":"0"},{"$f":"IF(ISNUMBER(SEARCH(\"15\",#REF!)),\"1\",\"0\")","v":"0"},{"$f":"IF(ISNUMBER(SEARCH(\"16\",#REF!)),\"1\",\"0\")","v":"0"},{"$f":"IF(ISNUMBER(SEARCH(\"17\",#REF!)),\"1\",\"0\")","v":"0"},4,null,null,9,22,20,22,{"$nulls":11},{"$f":"#REF!-#REF!","v":{"$error":"#REF!"}}]
[2,21,null,3,2,38,null,1,3,1,4,5,1,3,"0","0","1","0","0","0","0","0","0","0","0","0","0","0","0","0","0","0",null,1,2,5,1,{"$f":"IF(ISNUMBER(SEARCH(\"1\",#REF!)),\"1\",\"0\")","v":"0"},{"$f":"IF(ISNUMBER(SEARCH(\"2\",#REF!)),\"1\",\"0\")","v":"0"},{"$f":"IF(ISNUMBER(SEARCH(\"3\",#REF!)),\"1\",\"0\")","v":"0"},{"$f":"IF(ISNUMBER(SEARCH(\"4\",#REF!)),\"1\",\"0\")","v":"0"},{"$f":"IF(ISNUMBER(SEARCH(\"5\",#REF!)),\"1\",\"0\")","v":"0"},{"$f":"IF(ISNUMBER(SEARCH(\"6\",#REF!)),\"1\",\"0\")","v":"0"},{"$f":"IF(ISNUMBER(SEARCH(\"7\",#REF!)),\"1\",\"0\")","v":"0"},{"$f":"IF(ISNUMBER(SEARCH(\"8\",#REF!)),\"1\",\"0\")","v":"0"},{"$f":"IF(ISNUMBER(SEARCH(\"9\",#REF!)),\"1\",\"0\")","v":"0"},{"$f":"IF(ISNUMBER(SEARCH(\"9\",#REF!)),\"1\",\"0\")","v":"0"},{"$f":"IF(ISNUMBER(SEARCH(\"10\",#REF!)),\"1\",\"0\")","v":"0"},{"$f":"IF(ISNUMBER(SEARCH(\"11\",#REF!)),\"1\",\"0\")","v":"0"},{"$f":"IF(ISNUMBER(SEARCH(\"12\",#REF!)),\"1\",\"0\")","v":"0"},{"$f":"IF(ISNUMBER(SEARCH(\"13\",#REF!)),\"1\",\"0\")","v":"0"},{"$f":"IF(ISNUMBER(SEARCH(\"14\",#REF!)),\"1\",\"0\")","v":"0"},{"$f":"IF(ISNUMBER(SEARCH(\"15\",#REF!)),\"1\",\"0\")","v":"0"},{"$f":"IF(ISNUMBER(SEARCH(\"16\",#REF!)),\"1\",\"0\")","v":"0"},{"$f":"IF(ISNUMBER(SEARCH(\"17\",#REF!)),\"1\",\"0\")","v":"0"},1,null,null,9]
[2,21,null,3,1,33,null,1,3,1,2,5,2,3,"0","0","1","0","0","0","0","0","0","0","0","0","0","0","0","0","0","0",null,1,null,5,1,{"$f":"IF(ISNUMBER(SEARCH(\"1\",#REF!)),\"1\",\"0\")","v":"0"},{"$f":"IF(ISNUMBER(SEARCH(\"2\",#REF!)),\"1\",\"0\")","v":"0"},{"$f":"IF(ISNUMBER(SEARCH(\"3\",#REF!)),\"1\",\"0\")","v":"0"},{"$f":"IF(ISNUMBER(SEARCH(\"4\",#REF!)),\"1\",\"0\")","v":"0"},{"$f":"IF(ISNUMBER(SEARCH(\"5\",#REF!)),\"1\",\"0\")","v":"0"},{"$f":"IF(ISNUMBER(SEARCH(\"6\",#REF!)),\"1\",\"0\")","v":"0"},{"$f":"IF(ISNUMBER(SEARCH(\"7\",#REF!)),\"1\",\"0\")","v":"0"},{"$f":"IF(ISNUMBER(SEARCH(\"8\",#REF!)),\"1\",\"0\")","v":"0"},{"$f":"IF(ISNUMBER(SEARCH(\"9\",#REF!)),\"1\",\"0\")","v":"0"},{"$f":"IF(ISNUMBER(SEARCH(\"9\",#REF!)),\"1\",\"0\")","v":"0"},{"$f":"IF(ISNUMBER(SEARCH(\"10\",#REF!)),\"1\",\"0\")","v":"0"},{"$f":"IF(ISNUMBER(SEARCH(\"11\",#REF!)),\"1\",\"0\")","v":"0"},{"$f":"IF(ISNUMBER(SEARCH(\"12\",#REF!)),\"1\",\"0\")","v":"0"},{"$f":"IF(ISNUMBER(SEARCH(\"13\",#REF!)),\"1\",\"0\")","v":"0"},{"$f":"IF(ISNUMBER(SEARCH(\"14\",#REF!)),\"1\",\"0\")","v":"0"},{"$f":"IF(ISNUMBER(SEARCH(\"15\",#REF!)),\"1\",\"0\")","v":"0"},{"$f":"IF(ISNUMBER(SEARCH(\"16\",#REF!)),\"1\",\"0\")","v":"0"},{"$f":"IF(ISNUMBER(SEARCH(\"17\",#REF!)),\"1\",\"0\")","v":"0"},1,null,null,9]
[2,21,null,35,2,40,null,3,2,1,0,5,1,"4. Tentative de Viol","0","0","0","1","0","0","0","0","0","0","0","0","0","0","0","0","0","0",null,1,3,5,2,{"$f":"IF(ISNUMBER(SEARCH(\"1\",#REF!)),\"1\",\"0\")","v":"0"},0,{"$f":"IF(ISNUMBER(SEARCH(\"3\",#REF!)),\"1\",\"0\")","v":"0"},{"$f":"IF(ISNUMBER(SEARCH(\"4\",#REF!)),\"1\",\"0\")","v":"0"},{"$f":"IF(ISNUMBER(SEARCH(\"5\",#REF!)),\"1\",\"0\")","v":"0"},{"$f":"IF(ISNUMBER(SEARCH(\"6\",#REF!)),\"1\",\"0\")","v":"0"},{"$f":"IF(ISNUMBER(SEARCH(\"7\",#REF!)),\"1\",\"0\")","v":"0"},{"$f":"IF(ISNUMBER(SEARCH(\"8\",#REF!)),\"1\",\"0\")","v":"0"},{"$f":"IF(ISNUMBER(SEARCH(\"9\",#REF!)),\"1\",\"0\")","v":"0"},{"$f":"IF(ISNUMBER(SEARCH(\"9\",#REF!)),\"1\",\"0\")","v":"0"},{"$f":"IF(ISNUMBER(SEARCH(\"10\",#REF!)),\"1\",\"0\")","v":"0"},{"$f":"IF(ISNUMBER(SEARCH(\"11\",#REF!)),\"1\",\"0\")","v":"0"},{"$f":"IF(ISNUMBER(SEARCH(\"12\",#REF!)),\"1\",\"0\")","v":"0"},{"$f":"IF(ISNUMBER(SEARCH(\"13\",#REF!)),\"1\",\"0\")","v":"0"},{"$f":"IF(ISNUMBER(SEARCH(\"14\",#REF!)),\"1\",\"0\")","v":"0"},{"$f":"IF(ISNUMBER(SEARCH(\"15\",#REF!)),\"1\",\"0\")","v":"0"},{"$f":"IF(ISNUMBER(SEARCH(\"16\",#REF!)),\"1\",\"0\")","v":"0"},{"$f":"IF(ISNUMBER(SEARCH(\"17\",#REF!)),\"1\",\"0\")","v":"0"},{"$nulls":3},9,20,26,26,{"$nulls":11},{"$f":"#REF!-#REF!","v":{"$error":"#REF!"}}]
[2,21,null,35,1,21,null,3,3,1,3,5,2,"4. Tentative de Viol","0","0","0","1","0","0","0","0","0","0","0","0","0","0","0","0","0","0",null,2,2,5,2,{"$f":"IF(ISNUMBER(SEARCH(\"1\",#REF!)),\"1\",\"0\")","v":"0"},0,{"$f":"IF(ISNUMBER(SEARCH(\"3\",#REF!)),\"1\",\"0\")","v":"0"},{"$f":"IF(ISNUMBER(SEARCH(\"4\",#REF!)),\"1\",\"0\")","v":"0"},{"$f":"IF(ISNUMBER(SEARCH(\"5\",#REF!)),\"1\",\"0\")","v":"0"},{"$f":"IF(ISNUMBER(SEARCH(\"6\",#REF!)),\"1\",\"0\")","v":"0"},{"$f":"IF(ISNUMBER(SEARCH(\"7\",#REF!)),\"1\",\"0\")","v":"0"},{"$f":"IF(ISNUMBER(SEARCH(\"8\",#REF!)),\"1\",\"0\")","v":"0"},{"$f":"IF(ISNUMBER(SEARCH(\"9\",#REF!)),\"1\",\"0\")","v":"0"},{"$f":"IF(ISNUMBER(SEARCH(\"9\",#REF!)),\"1\",\"0\")","v":"0"},{"$f":"IF(ISNUMBER(SEARCH(\"10\",#REF!)),\"1\",\"0\")","v":"0"},{"$f":"IF(ISNUMBER(SEARCH(\"11\",#REF!)),\"1\",\"0\")","v":"0"},{"$f":"IF(ISNUMBER(SEARCH(\"12\",#REF!)),\"1\",\"0\")","v":"0"},{"$f":"IF(ISNUMBER(SEARCH(\"13\",#REF!)),\"1\",\"0\")","v":"0"},{"$f":"IF(ISNUMBER(SEARCH(\"14\",#REF!)),\"1\",\"0\")","v":"0"},{"$f":"IF(ISNUMBER(SEARCH(\"15\",#REF!)),\"1\",\"0\")","v":"0"},{"$f":"IF(ISNUMBER(SEARCH(\"16\",#REF!)),\"1\",\"0\")","v":"0"},{"$f":"IF(ISNUMBER(SEARCH(\"17\",#REF!)),\"1\",\"0\")","v":"0"},{"$nulls":3},9,18,14,18,{"$nulls":3},16,14,16,46,{"$nulls":4},{"$f":"#REF!-#REF!","v":{"$error":"#REF!"}},{"$f":"#REF!-#REF!","v":{"$error":"#REF!"}}]
[2,21,null,36,1,14,null,2,3,1,7,5,2,14,"1","0","0","1","0","0","0","0","0","0","0","0","0","1","0","0","0","0",null,1,7,5,2,{"$f":"IF(ISNUMBER(SEARCH(\"1\",#REF!)),\"1\",\"0\")","v":"0"},{"$f":"IF(ISNUMBER(SEARCH(\"2\",#REF!)),\"1\",\"0\")","v":"0"},{"$f":"IF(ISNUMBER(SEARCH(\"3\",#REF!)),\"1\",\"0\")","v":"0"},{"$f":"IF(ISNUMBER(SEARCH(\"4\",#REF!)),\"1\",\"0\")","v":"0"},{"$f":"IF(ISNUMBER(SEARCH(\"5\",#REF!)),\"1\",\"0\")","v":"0"},{"$f":"IF(ISNUMBER(SEARCH(\"6\",#REF!)),\"1\",\"0\")","v":"0"},{"$f":"IF(ISNUMBER(SEARCH(\"7\",#REF!)),\"1\",\"0\")","v":"0"},{"$f":"IF(ISNUMBER(SEARCH(\"8\",#REF!)),\"1\",\"0\")","v":"0"},{"$f":"IF(ISNUMBER(SEARCH(\"9\",#REF!)),\"1\",\"0\")","v":"0"},{"$f":"IF(ISNUMBER(SEARCH(\"9\",#REF!)),\"1\",\"0\")","v":"0"},{"$f":"IF(ISNUMBER(SEARCH(\"10\",#REF!)),\"1\",\"0\")","v":"0"},{"$f":"IF(ISNUMBER(SEARCH(\"11\",#REF!)),\"1\",\"0\")","v":"0"},{"$f":"IF(ISNUMBER(SEARCH(\"12\",#REF!)),\"1\",\"0\")","v":"0"},{"$f":"IF(ISNUMBER(SEARCH(\"13\",#REF!)),\"1\",\"0\")","v":"0"},{"$f":"IF(ISNUMBER(SEARCH(\"14\",#REF!)),\"1\",\"0\")","v":"0"},{"$f":"IF(ISNUMBER(SEARCH(\"15\",#REF!)),\"1\",\"0\")","v":"0"},{"$f":"IF(ISNUMBER(SEARCH(\"16\",#REF!)),\"1\",\"0\")","v":"0"},{"$f":"IF(ISNUMBER(SEARCH(\"17\",#REF!)),\"1\",\"0\")","v":"0"},{"$nulls":3},9,14,26,12,{"$nulls":3},10,14,10,34,{"$nulls":4},{"$f":"#REF!-#REF!","v":{"$error":"#REF!"}},{"$f":"#REF!-#REF!","v":{"$error":"#REF!"}}]
[2,21,null,36,2,32,null,1,3,1,4,5,2,3,"0","0","1","0","0","0","0","0","0","0","0","0","0","0","0","0","0","0",null,1,1,4,1,{"$f":"IF(ISNUMBER(SEARCH(\"1\",#REF!)),\"1\",\"0\")","v":"0"},{"$f":"IF(ISNUMBER(SEARCH(\"2\",#REF!)),\"1\",\"0\")","v":"0"},{"$f":"IF(ISNUMBER(SEARCH(\"3\",#REF!)),\"1\",\"0\")","v":"0"},{"$f":"IF(ISNUMBER(SEARCH(\"4\",#REF!)),\"1\",\"0\")","v":"0"},{"$f":"IF(ISNUMBER(SEARCH(\"5\",#REF!)),\"1\",\"0\")","v":"0"},{"$f":"IF(ISNUMBER(SEARCH(\"6\",#REF!)),\"1\",\"0\")","v":"0"},{"$f":"IF(ISNUMBER(SEARCH(\"7\",#REF!)),\"1\",\"0\")","v":"0"},{"$f":"IF(ISNUMBER(SEARCH(\"8\",#REF!)),\"1\",\"0\")","v":"0"},{"$f":"IF(ISNUMBER(SEARCH(\"9\",#REF!)),\"1\",\"0\")","v":"0"},{"$f":"IF(ISNUMBER(SEARCH(\"9\",#REF!)),\"1\",\"0\")","v":"0"},{"$f":"IF(ISNUMBER(SEARCH(\"10\",#REF!)),\"1\",\"0\")","v":"0"},{"$f":"IF(ISNUMBER(SEARCH(\"11\",#REF!)),\"1\",\"0\")","v":"0"},{"$f":"IF(ISNUMBER(SEARCH(\"12\",#REF!)),\"1\",\"0\")","v":"0"},{"$f":"IF(ISNUMBER(SEARCH(\"13\",#REF!)),\"1\",\"0\")","v":"0"},{"$f":"IF(ISNUMBER(SEARCH(\"14\",#REF!)),\"1\",\"0\")","v":"0"},{"$f":"IF(ISNUMBER(SEARCH(\"15\",#REF!)),\"1\",\"0\")","v":"0"},{"$f":"IF(ISNUMBER(SEARCH(\"16\",#REF!)),\"1\",\"0\")","v":"0"},{"$f":"IF(ISNUMBER(SEARCH(\"17\",#REF!)),\"1\",\"0\")","v":"0"},1,null,null,3]
[2,21,null,24,2,39,null,3,2,1,null,5,1,3,"0","0","1","0","0","0","0","0","0","0","0","0","0","0","0","0","0","0",null,1,7,5,1,{"$f":"IF(ISNUMBER(SEARCH(\"1\",#REF!)),\"1\",\"0\")","v":"0"},{"$f":"IF(ISNUMBER(SEARCH(\"2\",#REF!)),\"1\",\"0\")","v":"0"},{"$f":"IF(ISNUMBER(SEARCH(\"3\",#REF!)),\"1\",\"0\")","v":"0"},{"$f":"IF(ISNUMBER(SEARCH(\"4\",#REF!)),\"1\",\"0\")","v":"0"},{"$f":"IF(ISNUMBER(SEARCH(\"5\",#REF!)),\"1\",\"0\")","v":"0"},{"$f":"IF(ISNUMBER(SEARCH(\"6\",#REF!)),\"1\",\"0\")","v":"0"},{"$f":"IF(ISNUMBER(SEARCH(\"7\",#REF!)),\"1\",\"0\")","v":"0"},{"$f":"IF(ISNUMBER(SEARCH(\"8\",#REF!)),\"1\",\"0\")","v":"0"},{"$f":"IF(ISNUMBER(SEARCH(\"9\",#REF!)),\"1\",\"0\")","v":"0"},{"$f":"IF(ISNUMBER(SEARCH(\"9\",#REF!)),\"1\",\"0\")","v":"0"},{"$f":"IF(ISNUMBER(SEARCH(\"10\",#REF!)),\"1\",\"0\")","v":"0"},{"$f":"IF(ISNUMBER(SEARCH(\"11\",#REF!)),\"1\",\"0\")","v":"0"},{"$f":"IF(ISNUMBER(SEARCH(\"12\",#REF!)),\"1\",\"0\")","v":"0"},{"$f":"IF(ISNUMBER(SEARCH(\"13\",#REF!)),\"1\",\"0\")","v":"0"},{"$f":"IF(ISNUMBER(SEARCH(\"14\",#REF!)),\"1\",\"0\")","v":"0"},{"$f":"IF(ISNUMBER(SEARCH(\"15\",#REF!)),\"1\",\"0\")","v":"0"},{"$f":"IF(ISNUMBER(SEARCH(\"16\",#REF!)),\"1\",\"0\")","v":"0"},{"$f":"IF(ISNUMBER(SEARCH(\"17\",#REF!)),\"1\",\"0\")","v":"0"},{"$nulls":3},9]
[2,21,null,33,2,15,null,2,3,1,5,5,2,"4. Tentative de Viol","0","0","0","1","0","0","0","0","0","0","0","0","0","0","0","0","0","0",null,1,2,5,2,{"$f":"IF(ISNUMBER(SEARCH(\"1\",#REF!)),\"1\",\"0\")","v":"0"},{"$f":"IF(ISNUMBER(SEARCH(\"2\",#REF!)),\"1\",\"0\")","v":"0"},{"$f":"IF(ISNUMBER(SEARCH(\"3\",#REF!)),\"1\",\"0\")","v":"0"},{"$f":"IF(ISNUMBER(SEARCH(\"4\",#REF!)),\"1\",\"0\")","v":"0"},{"$f":"IF(ISNUMBER(SEARCH(\"5\",#REF!)),\"1\",\"0\")","v":"0"},{"$f":"IF(ISNUMBER(SEARCH(\"6\",#REF!)),\"1\",\"0\")","v":"0"},{"$f":"IF(ISNUMBER(SEARCH(\"7\",#REF!)),\"1\",\"0\")","v":"0"},{"$f":"IF(ISNUMBER(SEARCH(\"8\",#REF!)),\"1\",\"0\")","v":"0"},{"$f":"IF(ISNUMBER(SEARCH(\"9\",#REF!)),\"1\",\"0\")","v":"0"},{"$f":"IF(ISNUMBER(SEARCH(\"9\",#REF!)),\"1\",\"0\")","v":"0"},{"$f":"IF(ISNUMBER(SEARCH(\"10\",#REF!)),\"1\",\"0\")","v":"0"},{"$f":"IF(ISNUMBER(SEARCH(\"11\",#REF!)),\"1\",\"0\")","v":"0"},{"$f":"IF(ISNUMBER(SEARCH(\"12\",#REF!)),\"1\",\"0\")","v":"0"},{"$f":"IF(ISNUMBER(SEARCH(\"13\",#REF!)),\"1\",\"0\")","v":"0"},{"$f":"IF(ISNUMBER(SEARCH(\"14\",#REF!)),\"1\",\"0\")","v":"0"},{"$f":"IF(ISNUMBER(SEARCH(\"15\",#REF!)),\"1\",\"0\")","v":"0"},{"$f":"IF(ISNUMBER(SEARCH(\"16\",#REF!)),\"1\",\"0\")","v":"0"},{"$f":"IF(ISNUMBER(SEARCH(\"17\",#REF!)),\"1\",\"0\")","v":"0"},{"$nulls":3},9]
[2,21,null,33,2,33,null,2,3,1,5,5,2,3,"0","0","1","0","0","0","0","0","0","0","0","0","0","0","0","0","0","0",null,1,2,5,1,{"$f":"IF(ISNUMBER(SEARCH(\"1\",#REF!)),\"1\",\"0\")","v":"0"},{"$f":"IF(ISNUMBER(SEARCH(\"2\",#REF!)),\"1\",\"0\")","v":"0"},{"$f":"IF(ISNUMBER(SEARCH(\"3\",#REF!)),\"1\",\"0\")","v":"0"},{"$f":"IF(ISNUMBER(SEARCH(\"4\",#REF!)),\"1\",\"0\")","v":"0"},{"$f":"IF(ISNUMBER(SEARCH(\"5\",#REF!)),\"1\",\"0\")","v":"0"},{"$f":"IF(ISNUMBER(SEARCH(\"6\",#REF!)),\"1\",\"0\")","v":"0"},{"$f":"IF(ISNUMBER(SEARCH(\"7\",#REF!)),\"1\",\"0\")","v":"0"},{"$f":"IF(ISNUMBER(SEARCH(\"8\",#REF!)),\"1\",\"0\")","v":"0"},{"$f":"IF(ISNUMBER(SEARCH(\"9\",#REF!)),\"1\",\"0\")","v":"0"},{"$f":"IF(ISNUMBER(SEARCH(\"9\",#REF!)),\"1\",\"0\")","v":"0"},{"$f":"IF(ISNUMBER(SEARCH(\"10\",#REF!)),\"1\",\"0\")","v":"0"},{"$f":"IF(ISNUMBER(SEARCH(\"11\",#REF!)),\"1\",\"0\")","v":"0"},{"$f":"IF(ISNUMBER(SEARCH(\"12\",#REF!)),\"1\",\"0\")","v":"0"},{"$f":"IF(ISNUMBER(SEARCH(\"13\",#REF!)),\"1\",\"0\")","v":"0"},{"$f":"IF(ISNUMBER(SEARCH(\"14\",#REF!)),\"1\",\"0\")","v":"0"},{"$f":"IF(ISNUMBER(SEARCH(\"15\",#REF!)),\"1\",\"0\")","v":"0"},{"$f":"IF(ISNUMBER(SEARCH(\"16\",#REF!)),\"1\",\"0\")","v":"0"},{"$f":"IF(ISNUMBER(SEARCH(\"17\",#REF!)),\"1\",\"0\")","v":"0"},{"$nulls":3},3]
[2,21,null,33,2,33,null,2,3,1,null,5,1,"4. Tentative de Viol","0","0","0","1","0","0","0","0","0","0","0","0","0","0","0","0","0","0",null,1,3,5,2,{"$f":"IF(ISNUMBER(SEARCH(\"1\",#REF!)),\"1\",\"0\")","v":"0"},{"$f":"IF(ISNUMBER(SEARCH(\"2\",#REF!)),\"1\",\"0\")","v":"0"},{"$f":"IF(ISNUMBER(SEARCH(\"3\",#REF!)),\"1\",\"0\")","v":"0"},{"$f":"IF(ISNUMBER(SEARCH(\"4\",#REF!)),\"1\",\"0\")","v":"0"},{"$f":"IF(ISNUMBER(SEARCH(\"5\",#REF!)),\"1\",\"0\")","v":"0"},{"$f":"IF(ISNUMBER(SEARCH(\"6\",#REF!)),\"1\",\"0\")","v":"0"},{"$f":"IF(ISNUMBER(SEARCH(\"7\",#REF!)),\"1\",\"0\")","v":"0"},{"$f":"IF(ISNUMBER(SEARCH(\"8\",#REF!)),\"1\",\"0\")","v":"0"},{"$f":"IF(ISNUMBER(SEARCH(\"9\",#REF!)),\"1\",\"0\")","v":"0"},{"$f":"IF(ISNUMBER(SEARCH(\"9\",#REF!)),\"1\",\"0\")","v":"0"},{"$f":"IF(ISNUMBER(SEARCH(\"10\",#REF!)),\"1\",\"0\")","v":"0"},{"$f":"IF(ISNUMBER(SEARCH(\"11\",#REF!)),\"1\",\"0\")","v":"0"},{"$f":"IF(ISNUMBER(SEARCH(\"12\",#REF!)),\"1\",\"0\")","v":"0"},{"$f":"IF(ISNUMBER(SEARCH(\"13\",#REF!)),\"1\",\"0\")","v":"0"},{"$f":"IF(ISNUMBER(SEARCH(\"14\",#REF!)),\"1\",\"0\")","v":"0"},{"$f":"IF(ISNUMBER(SEARCH(\"15\",#REF!)),\"1\",\"0\")","v":"0"},{"$f":"IF(ISNUMBER(SEARCH(\"16\",#REF!)),\"1\",\"0\")","v":"0"},{"$f":"IF(ISNUMBER(SEARCH(\"17\",#REF!)),\"1\",\"0\")","v":"0"},{"$nulls":3},9]
[2,21,null,33,2,49,null,2,8,1,7,5,1,1,"1","0","0","0","0","0","0","0","0","0","0","0","0","0","0","0","0","0",null,1,3,5,2,{"$f":"IF(ISNUMBER(SEARCH(\"1\",#REF!)),\"1\",\"0\")","v":"0"},{"$f":"IF(ISNUMBER(SEARCH(\"2\",#REF!)),\"1\",\"0\")","v":"0"},{"$f":"IF(ISNUMBER(SEARCH(\"3\",#REF!)),\"1\",\"0\")","v":"0"},{"$f":"IF(ISNUMBER(SEARCH(\"4\",#REF!)),\"1\",\"0\")","v":"0"},{"$f":"IF(ISNUMBER(SEARCH(\"5\",#REF!)),\"1\",\"0\")","v":"0"},{"$f":"IF(ISNUMBER(SEARCH(\"6\",#REF!)),\"1\",\"0\")","v":"0"},{"$f":"IF(ISNUMBER(SEARCH(\"7\",#REF!)),\"1\",\"0\")","v":"0"},{"$f":"IF(ISNUMBER(SEARCH(\"8\",#REF!)),\"1\",\"0\")","v":"0"},{"$f":"IF(ISNUMBER(SEARCH(\"9\",#REF!)),\"1\",\"0\")","v":"0"},{"$f":"IF(ISNUMBER(SEARCH(\"9\",#REF!)),\"1\",\"0\")","v":"0"},{"$f":"IF(ISNUMBER(SEARCH(\"10\",#REF!)),\"1\",\"0\")","v":"0"},{"$f":"IF(ISNUMBER(SEARCH(\"11\",#REF!)),\"1\",\"0\")","v":"0"},{"$f":"IF(ISNUMBER(SEARCH(\"12\",#REF!)),\"1\",\"0\")","v":"0"},{"$f":"IF(ISNUMBER(SEARCH(\"13\",#REF!)),\"1\",\"0\")","v":"0"},{"$f":"IF(ISNUMBER(SEARCH(\"14\",#REF!)),\"1\",\"0\")","v":"0"},{"$f":"IF(ISNUMBER(SEARCH(\"15\",#REF!)),\"1\",\"0\")","v":"0"},{"$f":"IF(ISNUMBER(SEARCH(\"16\",#REF!)),\"1\",\"0\")","v":"0"},{"$f":"IF(ISNUMBER(SEARCH(\"17\",#REF!)),\"1\",\"0\")","v":"0"},{"$nulls":3},9]
[2,21,null,33,2,37,null,2,8,1,7,5,2,3,"0","0","1","0","0","0","0","0","0","0","0","0","0","0","0","0","0","0",null,1,null,5,1,{"$f":"IF(ISNUMBER(SEARCH(\"1\",#REF!)),\"1\",\"0\")","v":"0"},{"$f":"IF(ISNUMBER(SEARCH(\"2\",#REF!)),\"1\",\"0\")","v":"0"},{"$f":"IF(ISNUMBER(SEARCH(\"3\",#REF!)),\"1\",\"0\")","v":"0"},{"$f":"IF(ISNUMBER(SEARCH(\"4\",#REF!)),\"1\",\"0\")","v":"0"},{"$f":"IF(ISNUMBER(SEARCH(\"5\",#REF!)),\"1\",\"0\")","v":"0"},{"$f":"IF(ISNUMBER(SEARCH(\"6\",#REF!)),\"1\",\"0\")","v":"0"},{"$f":"IF(ISNUMBER(SEARCH(\"7\",#REF!)),\"1\",\"0\")","v":"0"},{"$f":"IF(ISNUMBER(SEARCH(\"8\",#REF!)),\"1\",\"0\")","v":"0"},{"$f":"IF(ISNUMBER(SEARCH(\"9\",#REF!)),\"1\",\"0\")","v":"0"},{"$f":"IF(ISNUMBER(SEARCH(\"9\",#REF!)),\"1\",\"0\")","v":"0"},{"$f":"IF(ISNUMBER(SEARCH(\"10\",#REF!)),\"1\",\"0\")","v":"0"},{"$f":"IF(ISNUMBER(SEARCH(\"11\",#REF!)),\"1\",\"0\")","v":"0"},{"$f":"IF(ISNUMBER(SEARCH(\"12\",#REF!)),\"1\",\"0\")","v":"0"},{"$f":"IF(ISNUMBER(SEARCH(\"13\",#REF!)),\"1\",\"0\")","v":"0"},{"$f":"IF(ISNUMBER(SEARCH(\"14\",#REF!)),\"1\",\"0\")","v":"0"},{"$f":"IF(ISNUMBER(SEARCH(\"15\",#REF!)),\"1\",\"0\")","v":"0"},{"$f":"IF(ISNUMBER(SEARCH(\"16\",#REF!)),\"1\",\"0\")","v":"0"},{"$f":"IF(ISNUMBER(SEARCH(\"17\",#REF!)),\"1\",\"0\")","v":"0"},5,1,null,9]
[2,21,null,32,2,56,null,2,3,1,2,3,2,1,"1","0","0","0","0","0","0","0","0","0","0","0","0","0","0","0","0","0",null,1,1,5,2,{"$f":"IF(ISNUMBER(SEARCH(\"1\",#REF!)),\"1\",\"0\")","v":"0"},{"$f":"IF(ISNUMBER(SEARCH(\"2\",#REF!)),\"1\",\"0\")","v":"0"},{"$f":"IF(ISNUMBER(SEARCH(\"3\",#REF!)),\"1\",\"0\")","v":"0"},{"$f":"IF(ISNUMBER(SEARCH(\"4\",#REF!)),\"1\",\"0\")","v":"0"},{"$f":"IF(ISNUMBER(SEARCH(\"5\",#REF!)),\"1\",\"0\")","v":"0"},{"$f":"IF(ISNUMBER(SEARCH(\"6\",#REF!)),\"1\",\"0\")","v":"0"},{"$f":"IF(ISNUMBER(SEARCH(\"7\",#REF!)),\"1\",\"0\")","v":"0"},{"$f":"IF(ISNUMBER(SEARCH(\"8\",#REF!)),\"1\",\"0\")","v":"0"},{"$f":"IF(ISNUMBER(SEARCH(\"9\",#REF!)),\"1\",\"0\")","v":"0"},{"$f":"IF(ISNUMBER(SEARCH(\"9\",#REF!)),\"1\",\"0\")","v":"0"},{"$f":"IF(ISNUMBER(SEARCH(\"10\",#REF!)),\"1\",\"0\")","v":"0"},{"$f":"IF(ISNUMBER(SEARCH(\"11\",#REF!)),\"1\",\"0\")","v":"0"},{"$f":"IF(ISNUMBER(SEARCH(\"12\",#REF!)),\"1\",\"0\")","v":"0"},{"$f":"IF(ISNUMBER(SEARCH(\"13\",#REF!)),\"1\",\"0\")","v":"0"},{"$f":"IF(ISNUMBER(SEARCH(\"14\",#REF!)),\"1\",\"0\")","v":"0"},{"$f":"IF(ISNUMBER(SEARCH(\"15\",#REF!)),\"1\",\"0\")","v":"0"},{"$f":"IF(ISNUMBER(SEARCH(\"16\",#REF!)),\"1\",\"0\")","v":"0"},{"$f":"IF(ISNUMBER(SEARCH(\"17\",#REF!)),\"1\",\"0\")","v":"0"},{"$nulls":3},9,18,16,14,{"$nulls":3},4,2,0,6,{"$nulls":4},{"$f":"#REF!-#REF!","v":{"$error":"#REF!"}},{"$f":"#REF!-#REF!","v":{"$error":"#REF!"}}]
[2,21,null,32,2,19,null,3,3,1,0,5,1,1,"1","0","0","0","0","0","0","0","0","0","0","0","0","0","0","0","0","0",null,1,3,5,2,{"$f":"IF(ISNUMBER(SEARCH(\"1\",#REF!)),\"1\",\"0\")","v":"0"},{"$f":"IF(ISNUMBER(SEARCH(\"2\",#REF!)),\"1\",\"0\")","v":"0"},{"$f":"IF(ISNUMBER(SEARCH(\"3\",#REF!)),\"1\",\"0\")","v":"0"},{"$f":"IF(ISNUMBER(SEARCH(\"4\",#REF!)),\"1\",\"0\")","v":"0"},{"$f":"IF(ISNUMBER(SEARCH(\"5\",#REF!)),\"1\",\"0\")","v":"0"},{"$f":"IF(ISNUMBER(SEARCH(\"6\",#REF!)),\"1\",\"0\")","v":"0"},{"$f":"IF(ISNUMBER(SEARCH(\"7\",#REF!)),\"1\",\"0\")","v":"0"},{"$f":"IF(ISNUMBER(SEARCH(\"8\",#REF!)),\"1\",\"0\")","v":"0"},{"$f":"IF(ISNUMBER(SEARCH(\"9\",#REF!)),\"1\",\"0\")","v":"0"},{"$f":"IF(ISNUMBER(SEARCH(\"9\",#REF!)),\"1\",\"0\")","v":"0"},{"$f":"IF(ISNUMBER(SEARCH(\"10\",#REF!)),\"1\",\"0\")","v":"0"},{"$f":"IF(ISNUMBER(SEARCH(\"11\",#REF!)),\"1\",\"0\")","v":"0"},{"$f":"IF(ISNUMBER(SEARCH(\"12\",#REF!)),\"1\",\"0\")","v":"0"},{"$f":"IF(ISNUMBER(SEARCH(\"13\",#REF!)),\"1\",\"0\")","v":"0"},{"$f":"IF(ISNUMBER(SEARCH(\"14\",#REF!)),\"1\",\"0\")","v":"0"},{"$f":"IF(ISNUMBER(SEARCH(\"15\",#REF!)),\"1\",\"0\")","v":"0"},{"$f":"IF(ISNUMBER(SEARCH(\"16\",#REF!)),\"1\",\"0\")","v":"0"},{"$f":"IF(ISNUMBER(SEARCH(\"17\",#REF!)),\"1\",\"0\")","v":"0"},{"$nulls":3},9,6,12,14,{"$nulls":11},{"$f":"#REF!-#REF!","v":{"$error":"#REF!"}},{"$f":"#REF!-#REF!","v":{"$error":"#REF!"}}]
[2,21,null,32,2,26,null,2,3,1,4,5,2,1,"1","0","0","0","0","0","0","0","0","0","0","0","0","0","0","0","0","0",null,1,3,5,2,{"$f":"IF(ISNUMBER(SEARCH(\"1\",#REF!)),\"1\",\"0\")","v":"0"},{"$f":"IF(ISNUMBER(SEARCH(\"2\",#REF!)),\"1\",\"0\")","v":"0"},{"$f":"IF(ISNUMBER(SEARCH(\"3\",#REF!)),\"1\",\"0\")","v":"0"},{"$f":"IF(ISNUMBER(SEARCH(\"4\",#REF!)),\"1\",\"0\")","v":"0"},{"$f":"IF(ISNUMBER(SEARCH(\"5\",#REF!)),\"1\",\"0\")","v":"0"},{"$f":"IF(ISNUMBER(SEARCH(\"6\",#REF!)),\"1\",\"0\")","v":"0"},{"$f":"IF(ISNUMBER(SEARCH(\"7\",#REF!)),\"1\",\"0\")","v":"0"},{"$f":"IF(ISNUMBER(SEARCH(\"8\",#REF!)),\"1\",\"0\")","v":"0"},{"$f":"IF(ISNUMBER(SEARCH(\"9\",#REF!)),\"1\",\"0\")","v":"0"},{"$f":"IF(ISNUMBER(SEARCH(\"9\",#REF!)),\"1\",\"0\")","v":"0"},{"$f":"IF(ISNUMBER(SEARCH(\"10\",#REF!)),\"1\",\"0\")","v":"0"},{"$f":"IF(ISNUMBER(SEARCH(\"11\",#REF!)),\"1\",\"0\")","v":"0"},{"$f":"IF(ISNUMBER(SEARCH(\"12\",#REF!)),\"1\",\"0\")","v":"0"},{"$f":"IF(ISNUMBER(SEARCH(\"13\",#REF!)),\"1\",\"0\")","v":"0"},{"$f":"IF(ISNUMBER(SEARCH(\"14\",#REF!)),\"1\",\"0\")","v":"0"},{"$f":"IF(ISNUMBER(SEARCH(\"15\",#REF!)),\"1\",\"0\")","v":"0"},{"$f":"IF(ISNUMBER(SEARCH(\"16\",#REF!)),\"1\",\"0\")","v":"0"},{"$f":"IF(ISNUMBER(SEARCH(\"17\",#REF!)),\"1\",\"0\")","v":"0"},{"$nulls":3},9]
[2,21,null,29,2,33,null,3,2,1,0,5,1,null,"0","0","0","0","0","0","0","0","0","0","0","0","0","0","0","0","0","0",null,1,null,5,2,{"$f":"IF(ISNUMBER(SEARCH(\"1\",#REF!)),\"1\",\"0\")","v":"0"},{"$f":"IF(ISNUMBER(SEARCH(\"2\",#REF!)),\"1\",\"0\")","v":"0"},{"$f":"IF(ISNUMBER(SEARCH(\"3\",#REF!)),\"1\",\"0\")","v":"0"},{"$f":"IF(ISNUMBER(SEARCH(\"4\",#REF!)),\"1\",\"0\")","v":"0"},{"$f":"IF(ISNUMBER(SEARCH(\"5\",#REF!)),\"1\",\"0\")","v":"0"},{"$f":"IF(ISNUMBER(SEARCH(\"6\",#REF!)),\"1\",\"0\")","v":"0"},{"$f":"IF(ISNUMBER(SEARCH(\"7\",#REF!)),\"1\",\"0\")","v":"0"},{"$f":"IF(ISNUMBER(SEARCH(\"8\",#REF!)),\"1\",\"0\")","v":"0"},{"$f":"IF(ISNUMBER(SEARCH(\"9\",#REF!)),\"1\",\"0\")","v":"0"},{"$f":"IF(ISNUMBER(SEARCH(\"9\",#REF!)),\"1\",\"0\")","v":"0"},{"$f":"IF(ISNUMBER(SEARCH(\"10\",#REF!)),\"1\",\"0\")","v":"0"},{"$f":"IF(ISNUMBER(SEARCH(\"11\",#REF!)),\"1\",\"0\")","v":"0"},{"$f":"IF(ISNUMBER(SEARCH(\"12\",#REF!)),\"1\",\"0\")","v":"0"},{"$f":"IF(ISNUMBER(SEARCH(\"13\",#REF!)),\"1\",\"0\")","v":"0"},{"$f":"IF(ISNUMBER(SEARCH(\"14\",#REF!)),\"1\",\"0\")","v":"0"},{"$f":"IF(ISNUMBER(SEARCH(\"15\",#REF!)),\"1\",\"0\")","v":"0"},{"$f":"IF(ISNUMBER(SEARCH(\"16\",#REF!)),\"1\",\"0\")","v":"0"},{"$f":"IF(ISNUMBER(SEARCH(\"17\",#REF!)),\"1\",\"0\")","v":"0"},{"$nulls":3},9]
[2,21,null,29,2,40,null,3,2,1,2,5,2,3,"0","0","1","0","0","0","0","0","0","0","0","0","0","0","0","0","0","0",null,1,3,5,2,{"$f":"IF(ISNUMBER(SEARCH(\"1\",#REF!)),\"1\",\"0\")","v":"0"},{"$f":"IF(ISNUMBER(SEARCH(\"2\",#REF!)),\"1\",\"0\")","v":"0"},{"$f":"IF(ISNUMBER(SEARCH(\"3\",#REF!)),\"1\",\"0\")","v":"0"},{"$f":"IF(ISNUMBER(SEARCH(\"4\",#REF!)),\"1\",\"0\")","v":"0"},{"$f":"IF(ISNUMBER(SEARCH(\"5\",#REF!)),\"1\",\"0\")","v":"0"},{"$f":"IF(ISNUMBER(SEARCH(\"6\",#REF!)),\"1\",\"0\")","v":"0"},{"$f":"IF(ISNUMBER(SEARCH(\"7\",#REF!)),\"1\",\"0\")","v":"0"},{"$f":"IF(ISNUMBER(SEARCH(\"8\",#REF!)),\"1\",\"0\")","v":"0"},{"$f":"IF(ISNUMBER(SEARCH(\"9\",#REF!)),\"1\",\"0\")","v":"0"},{"$f":"IF(ISNUMBER(SEARCH(\"9\",#REF!)),\"1\",\"0\")","v":"0"},{"$f":"IF(ISNUMBER(SEARCH(\"10\",#REF!)),\"1\",\"0\")","v":"0"},{"$f":"IF(ISNUMBER(SEARCH(\"11\",#REF!)),\"1\",\"0\")","v":"0"},{"$f":"IF(ISNUMBER(SEARCH(\"12\",#REF!)),\"1\",\"0\")","v":"0"},{"$f":"IF(ISNUMBER(SEARCH(\"13\",#REF!)),\"1\",\"0\")","v":"0"},{"$f":"IF(ISNUMBER(SEARCH(\"14\",#REF!)),\"1\",\"0\")","v":"0"},{"$f":"IF(ISNUMBER(SEARCH(\"15\",#REF!)),\"1\",\"0\")","v":"0"},{"$f":"IF(ISNUMBER(SEARCH(\"16\",#REF!)),\"1\",\"0\")","v":"0"},{"$f":"IF(ISNUMBER(SEARCH(\"17\",#REF!)),\"1\",\"0\")","v":"0"},1,3,null,3,24,18,14,{"$nulls":3},0,6,2,8,{"$nulls":4},{"$f":"#REF!-#REF!","v":{"$error":"#REF!"}},{"$f":"#REF!-#REF!","v":{"$error":"#REF!"}}]
[2,21,null,29,2,40,null,3,8,1,4,5,2,"9. Kidnapping/  Enlèvement/ Otage (SANS violence sexuelle)","0","0","0","0","0","0","0","0","1","0","0","0","0","0","0","0","0","0",null,1,3,5,2,{"$f":"IF(ISNUMBER(SEARCH(\"1\",#REF!)),\"1\",\"0\")","v":"0"},{"$f":"IF(ISNUMBER(SEARCH(\"2\",#REF!)),\"1\",\"0\")","v":"0"},{"$f":"IF(ISNUMBER(SEARCH(\"3\",#REF!)),\"1\",\"0\")","v":"0"},{"$f":"IF(ISNUMBER(SEARCH(\"4\",#REF!)),\"1\",\"0\")","v":"0"},{"$f":"IF(ISNUMBER(SEARCH(\"5\",#REF!)),\"1\",\"0\")","v":"0"},{"$f":"IF(ISNUMBER(SEARCH(\"6\",#REF!)),\"1\",\"0\")","v":"0"},{"$f":"IF(ISNUMBER(SEARCH(\"7\",#REF!)),\"1\",\"0\")","v":"0"},{"$f":"IF(ISNUMBER(SEARCH(\"8\",#REF!)),\"1\",\"0\")","v":"0"},{"$f":"IF(ISNUMBER(SEARCH(\"9\",#REF!)),\"1\",\"0\")","v":"0"},{"$f":"IF(ISNUMBER(SEARCH(\"9\",#REF!)),\"1\",\"0\")","v":"0"},{"$f":"IF(ISNUMBER(SEARCH(\"10\",#REF!)),\"1\",\"0\")","v":"0"},{"$f":"IF(ISNUMBER(SEARCH(\"11\",#REF!)),\"1\",\"0\")","v":"0"},{"$f":"IF(ISNUMBER(SEARCH(\"12\",#REF!)),\"1\",\"0\")","v":"0"},{"$f":"IF(ISNUMBER(SEARCH(\"13\",#REF!)),\"1\",\"0\")","v":"0"},{"$f":"IF(ISNUMBER(SEARCH(\"14\",#REF!)),\"1\",\"0\")","v":"0"},{"$f":"IF(ISNUMBER(SEARCH(\"15\",#REF!)),\"1\",\"0\")","v":"0"},{"$f":"IF(ISNUMBER(SEARCH(\"16\",#REF!)),\"1\",\"0\")","v":"0"},{"$f":"IF(ISNUMBER(SEARCH(\"17\",#REF!)),\"1\",\"0\")","v":"0"},{"$nulls":3},9,16,14,18,{"$nulls":3},0,4,2,6,{"$nulls":4},{"$f":"#REF!-#REF!","v":{"$error":"#REF!"}},{"$f":"#REF!-#REF!","v":{"$error":"#REF!"}}]
[2,21,null,29,2,28,null,3,3,1,2,5,2,3,"0","0","1","0","0","0","0","0","0","0","0","0","0","0","0","0","0","0",null,1,1,3,1,{"$f":"IF(ISNUMBER(SEARCH(\"1\",#REF!)),\"1\",\"0\")","v":"0"},{"$f":"IF(ISNUMBER(SEARCH(\"2\",#REF!)),\"1\",\"0\")","v":"0"},{"$f":"IF(ISNUMBER(SEARCH(\"3\",#REF!)),\"1\",\"0\")","v":"0"},{"$f":"IF(ISNUMBER(SEARCH(\"4\",#REF!)),\"1\",\"0\")","v":"0"},{"$f":"IF(ISNUMBER(SEARCH(\"5\",#REF!)),\"1\",\"0\")","v":"0"},{"$f":"IF(ISNUMBER(SEARCH(\"6\",#REF!)),\"1\",\"0\")","v":"0"},{"$f":"IF(ISNUMBER(SEARCH(\"7\",#REF!)),\"1\",\"0\")","v":"0"},{"$f":"IF(ISNUMBER(SEARCH(\"8\",#REF!)),\"1\",\"0\")","v":"0"},{"$f":"IF(ISNUMBER(SEARCH(\"9\",#REF!)),\"1\",\"0\")","v":"0"},{"$f":"IF(ISNUMBER(SEARCH(\"9\",#REF!)),\"1\",\"0\")","v":"0"},{"$f":"IF(ISNUMBER(SEARCH(\"10\",#REF!)),\"1\",\"0\")","v":"0"},{"$f":"IF(ISNUMBER(SEARCH(\"11\",#REF!)),\"1\",\"0\")","v":"0"},{"$f":"IF(ISNUMBER(SEARCH(\"12\",#REF!)),\"1\",\"0\")","v":"0"},{"$f":"IF(ISNUMBER(SEARCH(\"13\",#REF!)),\"1\",\"0\")","v":"0"},{"$f":"IF(ISNUMBER(SEARCH(\"14\",#REF!)),\"1\",\"0\")","v":"0"},{"$f":"IF(ISNUMBER(SEARCH(\"15\",#REF!)),\"1\",\"0\")","v":"0"},{"$f":"IF(ISNUMBER(SEARCH(\"16\",#REF!)),\"1\",\"0\")","v":"0"},{"$f":"IF(ISNUMBER(SEARCH(\"17\",#REF!)),\"1\",\"0\")","v":"0"},1,null,null,3]
[2,21,null,30,2,21,null,3,2,1,null,5,1,"3, 14","1","0","1","1","0","0","0","0","0","0","0","0","0","1","0","0","0","0",null,1,3,5,1,{"$f":"IF(ISNUMBER(SEARCH(\"1\",#REF!)),\"1\",\"0\")","v":"0"},{"$f":"IF(ISNUMBER(SEARCH(\"2\",#REF!)),\"1\",\"0\")","v":"0"},{"$f":"IF(ISNUMBER(SEARCH(\"3\",#REF!)),\"1\",\"0\")","v":"0"},{"$f":"IF(ISNUMBER(SEARCH(\"4\",#REF!)),\"1\",\"0\")","v":"0"},{"$f":"IF(ISNUMBER(SEARCH(\"5\",#REF!)),\"1\",\"0\")","v":"0"},{"$f":"IF(ISNUMBER(SEARCH(\"6\",#REF!)),\"1\",\"0\")","v":"0"},{"$f":"IF(ISNUMBER(SEARCH(\"7\",#REF!)),\"1\",\"0\")","v":"0"},{"$f":"IF(ISNUMBER(SEARCH(\"8\",#REF!)),\"1\",\"0\")","v":"0"},{"$f":"IF(ISNUMBER(SEARCH(\"9\",#REF!)),\"1\",\"0\")","v":"0"},{"$f":"IF(ISNUMBER(SEARCH(\"9\",#REF!)),\"1\",\"0\")","v":"0"},{"$f":"IF(ISNUMBER(SEARCH(\"10\",#REF!)),\"1\",\"0\")","v":"0"},{"$f":"IF(ISNUMBER(SEARCH(\"11\",#REF!)),\"1\",\"0\")","v":"0"},{"$f":"IF(ISNUMBER(SEARCH(\"12\",#REF!)),\"1\",\"0\")","v":"0"},{"$f":"IF(ISNUMBER(SEARCH(\"13\",#REF!)),\"1\",\"0\")","v":"0"},{"$f":"IF(ISNUMBER(SEARCH(\"14\",#REF!)),\"1\",\"0\")","v":"0"},{"$f":"IF(ISNUMBER(SEARCH(\"15\",#REF!)),\"1\",\"0\")","v":"0"},{"$f":"IF(ISNUMBER(SEARCH(\"16\",#REF!)),\"1\",\"0\")","v":"0"},{"$f":"IF(ISNUMBER(SEARCH(\"17\",#REF!)),\"1\",\"0\")","v":"0"},1,3,null,3,26,22,28,{"$nulls":3},8,8,10,26,{"$nulls":4},{"$f":"#REF!-#REF!","v":{"$error":"#REF!"}},{"$f":"#REF!-#REF!","v":{"$error":"#REF!"}}]
[2,21,null,30,2,17,null,3,3,2,6,3,2,"1, 12. Pesonne de 20 famille disparue, 14","1","1","0","1","0","0","0","0","0","0","0","1","0","1","0","0","0","0",null,1,5,5,2,{"$f":"IF(ISNUMBER(SEARCH(\"1\",#REF!)),\"1\",\"0\")","v":"0"},{"$f":"IF(ISNUMBER(SEARCH(\"2\",#REF!)),\"1\",\"0\")","v":"0"},{"$f":"IF(ISNUMBER(SEARCH(\"3\",#REF!)),\"1\",\"0\")","v":"0"},{"$f":"IF(ISNUMBER(SEARCH(\"4\",#REF!)),\"1\",\"0\")","v":"0"},{"$f":"IF(ISNUMBER(SEARCH(\"5\",#REF!)),\"1\",\"0\")","v":"0"},{"$f":"IF(ISNUMBER(SEARCH(\"6\",#REF!)),\"1\",\"0\")","v":"0"},{"$f":"IF(ISNUMBER(SEARCH(\"7\",#REF!)),\"1\",\"0\")","v":"0"},{"$f":"IF(ISNUMBER(SEARCH(\"8\",#REF!)),\"1\",\"0\")","v":"0"},{"$f":"IF(ISNUMBER(SEARCH(\"9\",#REF!)),\"1\",\"0\")","v":"0"},{"$f":"IF(ISNUMBER(SEARCH(\"9\",#REF!)),\"1\",\"0\")","v":"0"},{"$f":"IF(ISNUMBER(SEARCH(\"10\",#REF!)),\"1\",\"0\")","v":"0"},{"$f":"IF(ISNUMBER(SEARCH(\"11\",#REF!)),\"1\",\"0\")","v":"0"},{"$f":"IF(ISNUMBER(SEARCH(\"12\",#REF!)),\"1\",\"0\")","v":"0"},{"$f":"IF(ISNUMBER(SEARCH(\"13\",#REF!)),\"1\",\"0\")","v":"0"},{"$f":"IF(ISNUMBER(SEARCH(\"14\",#REF!)),\"1\",\"0\")","v":"0"},{"$f":"IF(ISNUMBER(SEARCH(\"15\",#REF!)),\"1\",\"0\")","v":"0"},{"$f":"IF(ISNUMBER(SEARCH(\"16\",#REF!)),\"1\",\"0\")","v":"0"},{"$f":"IF(ISNUMBER(SEARCH(\"17\",#REF!)),\"1\",\"0\")","v":"0"},{"$nulls":3},3,26,14,28,{"$nulls":3},12,0,10,22,{"$nulls":4},{"$f":"#REF!-#REF!","v":{"$error":"#REF!"}},{"$f":"#REF!-#REF!","v":{"$error":"#REF!"}}]
[2,21,null,30,2,46,null,4,2,1,0,5,1,"3, 14","1","0","1","1","0","0","0","0","0","0","0","0","0","1","0","0","0","0",null,1,3,5,2,{"$f":"IF(ISNUMBER(SEARCH(\"1\",#REF!)),\"1\",\"0\")","v":"0"},{"$f":"IF(ISNUMBER(SEARCH(\"2\",#REF!)),\"1\",\"0\")","v":"0"},{"$f":"IF(ISNUMBER(SEARCH(\"3\",#REF!)),\"1\",\"0\")","v":"0"},{"$f":"IF(ISNUMBER(SEARCH(\"4\",#REF!)),\"1\",\"0\")","v":"0"},{"$f":"IF(ISNUMBER(SEARCH(\"5\",#REF!)),\"1\",\"0\")","v":"0"},{"$f":"IF(ISNUMBER(SEARCH(\"6\",#REF!)),\"1\",\"0\")","v":"0"},{"$f":"IF(ISNUMBER(SEARCH(\"7\",#REF!)),\"1\",\"0\")","v":"0"},{"$f":"IF(ISNUMBER(SEARCH(\"8\",#REF!)),\"1\",\"0\")","v":"0"},{"$f":"IF(ISNUMBER(SEARCH(\"9\",#REF!)),\"1\",\"0\")","v":"0"},{"$f":"IF(ISNUMBER(SEARCH(\"9\",#REF!)),\"1\",\"0\")","v":"0"},{"$f":"IF(ISNUMBER(SEARCH(\"10\",#REF!)),\"1\",\"0\")","v":"0"},{"$f":"IF(ISNUMBER(SEARCH(\"11\",#REF!)),\"1\",\"0\")","v":"0"},{"$f":"IF(ISNUMBER(SEARCH(\"12\",#REF!)),\"1\",\"0\")","v":"0"},{"$f":"IF(ISNUMBER(SEARCH(\"13\",#REF!)),\"1\",\"0\")","v":"0"},{"$f":"IF(ISNUMBER(SEARCH(\"14\",#REF!)),\"1\",\"0\")","v":"0"},{"$f":"IF(ISNUMBER(SEARCH(\"15\",#REF!)),\"1\",\"0\")","v":"0"},{"$f":"IF(ISNUMBER(SEARCH(\"16\",#REF!)),\"1\",\"0\")","v":"0"},{"$f":"IF(ISNUMBER(SEARCH(\"17\",#REF!)),\"1\",\"0\")","v":"0"},1,3,null,3,28,16,30,{"$nulls":3},12,2,10,24,{"$nulls":4},{"$f":"#REF!-#REF!","v":{"$error":"#REF!"}},{"$f":"#REF!-#REF!","v":{"$error":"#REF!"}}]
[2,21,null,27,2,53,null,2,3,1,10,5,2,3,"0","0","1","0","0","0","0","0","0","0","0","0","0","0","0","0","0","0",null,1,1,5,1,{"$f":"IF(ISNUMBER(SEARCH(\"1\",#REF!)),\"1\",\"0\")","v":"0"},{"$f":"IF(ISNUMBER(SEARCH(\"2\",#REF!)),\"1\",\"0\")","v":"0"},{"$f":"IF(ISNUMBER(SEARCH(\"3\",#REF!)),\"1\",\"0\")","v":"0"},{"$f":"IF(ISNUMBER(SEARCH(\"4\",#REF!)),\"1\",\"0\")","v":"0"},{"$f":"IF(ISNUMBER(SEARCH(\"5\",#REF!)),\"1\",\"0\")","v":"0"},{"$f":"IF(ISNUMBER(SEARCH(\"6\",#REF!)),\"1\",\"0\")","v":"0"},{"$f":"IF(ISNUMBER(SEARCH(\"7\",#REF!)),\"1\",\"0\")","v":"0"},{"$f":"IF(ISNUMBER(SEARCH(\"8\",#REF!)),\"1\",\"0\")","v":"0"},{"$f":"IF(ISNUMBER(SEARCH(\"9\",#REF!)),\"1\",\"0\")","v":"0"},{"$f":"IF(ISNUMBER(SEARCH(\"9\",#REF!)),\"1\",\"0\")","v":"0"},{"$f":"IF(ISNUMBER(SEARCH(\"10\",#REF!)),\"1\",\"0\")","v":"0"},{"$f":"IF(ISNUMBER(SEARCH(\"11\",#REF!)),\"1\",\"0\")","v":"0"},{"$f":"IF(ISNUMBER(SEARCH(\"12\",#REF!)),\"1\",\"0\")","v":"0"},{"$f":"IF(ISNUMBER(SEARCH(\"13\",#REF!)),\"1\",\"0\")","v":"0"},{"$f":"IF(ISNUMBER(SEARCH(\"14\",#REF!)),\"1\",\"0\")","v":"0"},{"$f":"IF(ISNUMBER(SEARCH(\"15\",#REF!)),\"1\",\"0\")","v":"0"},{"$f":"IF(ISNUMBER(SEARCH(\"16\",#REF!)),\"1\",\"0\")","v":"0"},{"$f":"IF(ISNUMBER(SEARCH(\"17\",#REF!)),\"1\",\"0\")","v":"0"},1,null,null,9,22,12,12,{"$nulls":3},2,4,4,10,{"$nulls":4},{"$f":"#REF!-#REF!","v":{"$error":"#REF!"}},{"$f":"#REF!-#REF!","v":{"$error":"#REF!"}}]
[2,21,null,27,2,16,null,2,3,1,4,5,6,3,"0","0","1","0","0","0","0","0","0","0","0","0","0","0","0","0","0","0",null,1,7,5,2,{"$f":"IF(ISNUMBER(SEARCH(\"1\",#REF!)),\"1\",\"0\")","v":"0"},{"$f":"IF(ISNUMBER(SEARCH(\"2\",#REF!)),\"1\",\"0\")","v":"0"},{"$f":"IF(ISNUMBER(SEARCH(\"3\",#REF!)),\"1\",\"0\")","v":"0"},{"$f":"IF(ISNUMBER(SEARCH(\"4\",#REF!)),\"1\",\"0\")","v":"0"},{"$f":"IF(ISNUMBER(SEARCH(\"5\",#REF!)),\"1\",\"0\")","v":"0"},{"$f":"IF(ISNUMBER(SEARCH(\"6\",#REF!)),\"1\",\"0\")","v":"0"},{"$f":"IF(ISNUMBER(SEARCH(\"7\",#REF!)),\"1\",\"0\")","v":"0"},{"$f":"IF(ISNUMBER(SEARCH(\"8\",#REF!)),\"1\",\"0\")","v":"0"},{"$f":"IF(ISNUMBER(SEARCH(\"9\",#REF!)),\"1\",\"0\")","v":"0"},{"$f":"IF(ISNUMBER(SEARCH(\"9\",#REF!)),\"1\",\"0\")","v":"0"},{"$f":"IF(ISNUMBER(SEARCH(\"10\",#REF!)),\"1\",\"0\")","v":"0"},{"$f":"IF(ISNUMBER(SEARCH(\"11\",#REF!)),\"1\",\"0\")","v":"0"},{"$f":"IF(ISNUMBER(SEARCH(\"12\",#REF!)),\"1\",\"0\")","v":"0"},{"$f":"IF(ISNUMBER(SEARCH(\"13\",#REF!)),\"1\",\"0\")","v":"0"},{"$f":"IF(ISNUMBER(SEARCH(\"14\",#REF!)),\"1\",\"0\")","v":"0"},{"$f":"IF(ISNUMBER(SEARCH(\"15\",#REF!)),\"1\",\"0\")","v":"0"},{"$f":"IF(ISNUMBER(SEARCH(\"16\",#REF!)),\"1\",\"0\")","v":"0"},{"$f":"IF(ISNUMBER(SEARCH(\"17\",#REF!)),\"1\",\"0\")","v":"0"},3,null,null,9,16,14,12,{"$nulls":3},2,2,2,6,{"$nulls":4},{"$f":"#REF!-#REF!","v":{"$error":"#REF!"}},{"$f":"#REF!-#REF!","v":{"$error":"#REF!"}}]
[2,21,null,3,2,42,null,1,3,1,null,5,2,3,"0","0","1","0","0","0","0","0","0","0","0","0","0","0","0","0","0","0",null,1,2,5,2,{"$f":"IF(ISNUMBER(SEARCH(\"1\",#REF!)),\"1\",\"0\")","v":"0"},{"$f":"IF(ISNUMBER(SEARCH(\"2\",#REF!)),\"1\",\"0\")","v":"0"},{"$f":"IF(ISNUMBER(SEARCH(\"3\",#REF!)),\"1\",\"0\")","v":"0"},{"$f":"IF(ISNUMBER(SEARCH(\"4\",#REF!)),\"1\",\"0\")","v":"0"},{"$f":"IF(ISNUMBER(SEARCH(\"5\",#REF!)),\"1\",\"0\")","v":"0"},{"$f":"IF(ISNUMBER(SEARCH(\"6\",#REF!)),\"1\",\"0\")","v":"0"},{"$f":"IF(ISNUMBER(SEARCH(\"7\",#REF!)),\"1\",\"0\")","v":"0"},{"$f":"IF(ISNUMBER(SEARCH(\"8\",#REF!)),\"1\",\"0\")","v":"0"},{"$f":"IF(ISNUMBER(SEARCH(\"9\",#REF!)),\"1\",\"0\")","v":"0"},{"$f":"IF(ISNUMBER(SEARCH(\"9\",#REF!)),\"1\",\"0\")","v":"0"},{"$f":"IF(ISNUMBER(SEARCH(\"10\",#REF!)),\"1\",\"0\")","v":"0"},{"$f":"IF(ISNUMBER(SEARCH(\"11\",#REF!)),\"1\",\"0\")","v":"0"},{"$f":"IF(ISNUMBER(SEARCH(\"12\",#REF!)),\"1\",\"0\")","v":"0"},{"$f":"IF(ISNUMBER(SEARCH(\"13\",#REF!)),\"1\",\"0\")","v":"0"},{"$f":"IF(ISNUMBER(SEARCH(\"14\",#REF!)),\"1\",\"0\")","v":"0"},{"$f":"IF(ISNUMBER(SEARCH(\"15\",#REF!)),\"1\",\"0\")","v":"0"},{"$f":"IF(ISNUMBER(SEARCH(\"16\",#REF!)),\"1\",\"0\")","v":"0"},{"$f":"IF(ISNUMBER(SEARCH(\"17\",#REF!)),\"1\",\"0\")","v":"0"},1,null,null,9]
[2,21,null,3,1,22,null,2,3,1,null,5,2,"16. Autre (SVP dans la case suivante) ","1","0","0","0","0","1","0","0","0","0","0","0","0","0","0","1","0","0",null,1,1,3,1,{"$f":"IF(ISNUMBER(SEARCH(\"1\",#REF!)),\"1\",\"0\")","v":"0"},{"$f":"IF(ISNUMBER(SEARCH(\"2\",#REF!)),\"1\",\"0\")","v":"0"},{"$f":"IF(ISNUMBER(SEARCH(\"3\",#REF!)),\"1\",\"0\")","v":"0"},{"$f":"IF(ISNUMBER(SEARCH(\"4\",#REF!)),\"1\",\"0\")","v":"0"},{"$f":"IF(ISNUMBER(SEARCH(\"5\",#REF!)),\"1\",\"0\")","v":"0"},{"$f":"IF(ISNUMBER(SEARCH(\"6\",#REF!)),\"1\",\"0\")","v":"0"},{"$f":"IF(ISNUMBER(SEARCH(\"7\",#REF!)),\"1\",\"0\")","v":"0"},{"$f":"IF(ISNUMBER(SEARCH(\"8\",#REF!)),\"1\",\"0\")","v":"0"},{"$f":"IF(ISNUMBER(SEARCH(\"9\",#REF!)),\"1\",\"0\")","v":"0"},{"$f":"IF(ISNUMBER(SEARCH(\"9\",#REF!)),\"1\",\"0\")","v":"0"},{"$f":"IF(ISNUMBER(SEARCH(\"10\",#REF!)),\"1\",\"0\")","v":"0"},{"$f":"IF(ISNUMBER(SEARCH(\"11\",#REF!)),\"1\",\"0\")","v":"0"},{"$f":"IF(ISNUMBER(SEARCH(\"12\",#REF!)),\"1\",\"0\")","v":"0"},{"$f":"IF(ISNUMBER(SEARCH(\"13\",#REF!)),\"1\",\"0\")","v":"0"},{"$f":"IF(ISNUMBER(SEARCH(\"14\",#REF!)),\"1\",\"0\")","v":"0"},{"$f":"IF(ISNUMBER(SEARCH(\"15\",#REF!)),\"1\",\"0\")","v":"0"},{"$f":"IF(ISNUMBER(SEARCH(\"16\",#REF!)),\"1\",\"0\")","v":"0"},{"$f":"IF(ISNUMBER(SEARCH(\"17\",#REF!)),\"1\",\"0\")","v":"0"},{"$nulls":3},9]
[2,21,null,3,2,41,null,2,3,1,3,5,1,"4. Tentative de Viol","0","0","0","1","0","0","0","0","0","0","0","0","0","0","0","0","0","0",null,2,2,4,1,{"$f":"IF(ISNUMBER(SEARCH(\"1\",#REF!)),\"1\",\"0\")","v":"0"},{"$f":"IF(ISNUMBER(SEARCH(\"2\",#REF!)),\"1\",\"0\")","v":"0"},{"$f":"IF(ISNUMBER(SEARCH(\"3\",#REF!)),\"1\",\"0\")","v":"0"},{"$f":"IF(ISNUMBER(SEARCH(\"4\",#REF!)),\"1\",\"0\")","v":"0"},{"$f":"IF(ISNUMBER(SEARCH(\"5\",#REF!)),\"1\",\"0\")","v":"0"},{"$f":"IF(ISNUMBER(SEARCH(\"6\",#REF!)),\"1\",\"0\")","v":"0"},{"$f":"IF(ISNUMBER(SEARCH(\"7\",#REF!)),\"1\",\"0\")","v":"0"},{"$f":"IF(ISNUMBER(SEARCH(\"8\",#REF!)),\"1\",\"0\")","v":"0"},{"$f":"IF(ISNUMBER(SEARCH(\"9\",#REF!)),\"1\",\"0\")","v":"0"},{"$f":"IF(ISNUMBER(SEARCH(\"9\",#REF!)),\"1\",\"0\")","v":"0"},{"$f":"IF(ISNUMBER(SEARCH(\"10\",#REF!)),\"1\",\"0\")","v":"0"},{"$f":"IF(ISNUMBER(SEARCH(\"11\",#REF!)),\"1\",\"0\")","v":"0"},{"$f":"IF(ISNUMBER(SEARCH(\"12\",#REF!)),\"1\",\"0\")","v":"0"},{"$f":"IF(ISNUMBER(SEARCH(\"13\",#REF!)),\"1\",\"0\")","v":"0"},{"$f":"IF(ISNUMBER(SEARCH(\"14\",#REF!)),\"1\",\"0\")","v":"0"},{"$f":"IF(ISNUMBER(SEARCH(\"15\",#REF!)),\"1\",\"0\")","v":"0"},{"$f":"IF(ISNUMBER(SEARCH(\"16\",#REF!)),\"1\",\"0\")","v":"0"},{"$f":"IF(ISNUMBER(SEARCH(\"17\",#REF!)),\"1\",\"0\")","v":"0"},{"$nulls":3},9]
[2,21,null,35,1,30,null,2,3,1,0,5,1,"3, 12. Pesonne de 20 famille disparue","1","1","1","0","0","0","0","0","0","0","0","1","0","0","0","0","0","0",null,2,2,5,2,{"$f":"IF(ISNUMBER(SEARCH(\"1\",#REF!)),\"1\",\"0\")","v":"0"},0,{"$f":"IF(ISNUMBER(SEARCH(\"3\",#REF!)),\"1\",\"0\")","v":"0"},{"$f":"IF(ISNUMBER(SEARCH(\"4\",#REF!)),\"1\",\"0\")","v":"0"},{"$f":"IF(ISNUMBER(SEARCH(\"5\",#REF!)),\"1\",\"0\")","v":"0"},{"$f":"IF(ISNUMBER(SEARCH(\"6\",#REF!)),\"1\",\"0\")","v":"0"},{"$f":"IF(ISNUMBER(SEARCH(\"7\",#REF!)),\"1\",\"0\")","v":"0"},{"$f":"IF(ISNUMBER(SEARCH(\"8\",#REF!)),\"1\",\"0\")","v":"0"},{"$f":"IF(ISNUMBER(SEARCH(\"9\",#REF!)),\"1\",\"0\")","v":"0"},{"$f":"IF(ISNUMBER(SEARCH(\"9\",#REF!)),\"1\",\"0\")","v":"0"},{"$f":"IF(ISNUMBER(SEARCH(\"10\",#REF!)),\"1\",\"0\")","v":"0"},{"$f":"IF(ISNUMBER(SEARCH(\"11\",#REF!)),\"1\",\"0\")","v":"0"},{"$f":"IF(ISNUMBER(SEARCH(\"12\",#REF!)),\"1\",\"0\")","v":"0"},{"$f":"IF(ISNUMBER(SEARCH(\"13\",#REF!)),\"1\",\"0\")","v":"0"},{"$f":"IF(ISNUMBER(SEARCH(\"14\",#REF!)),\"1\",\"0\")","v":"0"},{"$f":"IF(ISNUMBER(SEARCH(\"15\",#REF!)),\"1\",\"0\")","v":"0"},{"$f":"IF(ISNUMBER(SEARCH(\"16\",#REF!)),\"1\",\"0\")","v":"0"},{"$f":"IF(ISNUMBER(SEARCH(\"17\",#REF!)),\"1\",\"0\")","v":"0"},1,null,null,3]
[2,21,null,35,2,14,null,3,3,1,7,5,6,1,"1","0","0","0","0","0","0","0","0","0","0","0","0","0","0","0","0","0",null,1,1,2,2,{"$f":"IF(ISNUMBER(SEARCH(\"1\",#REF!)),\"1\",\"0\")","v":"0"},{"$f":"IF(ISNUMBER(SEARCH(\"2\",#REF!)),\"1\",\"0\")","v":"0"},{"$f":"IF(ISNUMBER(SEARCH(\"3\",#REF!)),\"1\",\"0\")","v":"0"},{"$f":"IF(ISNUMBER(SEARCH(\"4\",#REF!)),\"1\",\"0\")","v":"0"},{"$f":"IF(ISNUMBER(SEARCH(\"5\",#REF!)),\"1\",\"0\")","v":"0"},{"$f":"IF(ISNUMBER(SEARCH(\"6\",#REF!)),\"1\",\"0\")","v":"0"},{"$f":"IF(ISNUMBER(SEARCH(\"7\",#REF!)),\"1\",\"0\")","v":"0"},{"$f":"IF(ISNUMBER(SEARCH(\"8\",#REF!)),\"1\",\"0\")","v":"0"},{"$f":"IF(ISNUMBER(SEARCH(\"9\",#REF!)),\"1\",\"0\")","v":"0"},{"$f":"IF(ISNUMBER(SEARCH(\"9\",#REF!)),\"1\",\"0\")","v":"0"},{"$f":"IF(ISNUMBER(SEARCH(\"10\",#REF!)),\"1\",\"0\")","v":"0"},{"$f":"IF(ISNUMBER(SEARCH(\"11\",#REF!)),\"1\",\"0\")","v":"0"},{"$f":"IF(ISNUMBER(SEARCH(\"12\",#REF!)),\"1\",\"0\")","v":"0"},{"$f":"IF(ISNUMBER(SEARCH(\"13\",#REF!)),\"1\",\"0\")","v":"0"},{"$f":"IF(ISNUMBER(SEARCH(\"14\",#REF!)),\"1\",\"0\")","v":"0"},{"$f":"IF(ISNUMBER(SEARCH(\"15\",#REF!)),\"1\",\"0\")","v":"0"},{"$f":"IF(ISNUMBER(SEARCH(\"16\",#REF!)),\"1\",\"0\")","v":"0"},{"$f":"IF(ISNUMBER(SEARCH(\"17\",#REF!)),\"1\",\"0\")","v":"0"},{"$nulls":3},9]
[2,21,null,35,2,25,null,2,3,1,0,5,1,"4. Tentative de Viol","0","0","0","1","0","0","0","0","0","0","0","0","0","0","0","0","0","0",null,1,3,5,2,{"$f":"IF(ISNUMBER(SEARCH(\"1\",#REF!)),\"1\",\"0\")","v":"0"},0,{"$f":"IF(ISNUMBER(SEARCH(\"3\",#REF!)),\"1\",\"0\")","v":"0"},{"$f":"IF(ISNUMBER(SEARCH(\"4\",#REF!)),\"1\",\"0\")","v":"0"},{"$f":"IF(ISNUMBER(SEARCH(\"5\",#REF!)),\"1\",\"0\")","v":"0"},{"$f":"IF(ISNUMBER(SEARCH(\"6\",#REF!)),\"1\",\"0\")","v":"0"},{"$f":"IF(ISNUMBER(SEARCH(\"7\",#REF!)),\"1\",\"0\")","v":"0"},{"$f":"IF(ISNUMBER(SEARCH(\"8\",#REF!)),\"1\",\"0\")","v":"0"},{"$f":"IF(ISNUMBER(SEARCH(\"9\",#REF!)),\"1\",\"0\")","v":"0"},{"$f":"IF(ISNUMBER(SEARCH(\"9\",#REF!)),\"1\",\"0\")","v":"0"},{"$f":"IF(ISNUMBER(SEARCH(\"10\",#REF!)),\"1\",\"0\")","v":"0"},{"$f":"IF(ISNUMBER(SEARCH(\"11\",#REF!)),\"1\",\"0\")","v":"0"},{"$f":"IF(ISNUMBER(SEARCH(\"12\",#REF!)),\"1\",\"0\")","v":"0"},{"$f":"IF(ISNUMBER(SEARCH(\"13\",#REF!)),\"1\",\"0\")","v":"0"},{"$f":"IF(ISNUMBER(SEARCH(\"14\",#REF!)),\"1\",\"0\")","v":"0"},{"$f":"IF(ISNUMBER(SEARCH(\"15\",#REF!)),\"1\",\"0\")","v":"0"},{"$f":"IF(ISNUMBER(SEARCH(\"16\",#REF!)),\"1\",\"0\")","v":"0"},{"$f":"IF(ISNUMBER(SEARCH(\"17\",#REF!)),\"1\",\"0\")","v":"0"},{"$nulls":3},9]
[2,21,null,36,2,20,null,2,3,1,3,5,2,"15. Insultes / a reçu des menaces","1","0","0","0","1","0","0","0","0","0","0","0","0","0","1","0","0","0",null,1,1,5,2,{"$f":"IF(ISNUMBER(SEARCH(\"1\",#REF!)),\"1\",\"0\")","v":"0"},{"$f":"IF(ISNUMBER(SEARCH(\"2\",#REF!)),\"1\",\"0\")","v":"0"},{"$f":"IF(ISNUMBER(SEARCH(\"3\",#REF!)),\"1\",\"0\")","v":"0"},{"$f":"IF(ISNUMBER(SEARCH(\"4\",#REF!)),\"1\",\"0\")","v":"0"},{"$f":"IF(ISNUMBER(SEARCH(\"5\",#REF!)),\"1\",\"0\")","v":"0"},{"$f":"IF(ISNUMBER(SEARCH(\"6\",#REF!)),\"1\",\"0\")","v":"0"},{"$f":"IF(ISNUMBER(SEARCH(\"7\",#REF!)),\"1\",\"0\")","v":"0"},{"$f":"IF(ISNUMBER(SEARCH(\"8\",#REF!)),\"1\",\"0\")","v":"0"},{"$f":"IF(ISNUMBER(SEARCH(\"9\",#REF!)),\"1\",\"0\")","v":"0"},{"$f":"IF(ISNUMBER(SEARCH(\"9\",#REF!)),\"1\",\"0\")","v":"0"},{"$f":"IF(ISNUMBER(SEARCH(\"10\",#REF!)),\"1\",\"0\")","v":"0"},{"$f":"IF(ISNUMBER(SEARCH(\"11\",#REF!)),\"1\",\"0\")","v":"0"},{"$f":"IF(ISNUMBER(SEARCH(\"12\",#REF!)),\"1\",\"0\")","v":"0"},{"$f":"IF(ISNUMBER(SEARCH(\"13\",#REF!)),\"1\",\"0\")","v":"0"},{"$f":"IF(ISNUMBER(SEARCH(\"14\",#REF!)),\"1\",\"0\")","v":"0"},{"$f":"IF(ISNUMBER(SEARCH(\"15\",#REF!)),\"1\",\"0\")","v":"0"},{"$f":"IF(ISNUMBER(SEARCH(\"16\",#REF!)),\"1\",\"0\")","v":"0"},{"$f":"IF(ISNUMBER(SEARCH(\"17\",#REF!)),\"1\",\"0\")","v":"0"},{"$nulls":3},9]
[2,21,null,35,2,50,null,3,3,1,0,5,1,"4. Tentative de Viol","0","0","0","1","0","0","0","0","0","0","0","0","0","0","0","0","0","0",null,1,2,3,2,{"$f":"IF(ISNUMBER(SEARCH(\"1\",#REF!)),\"1\",\"0\")","v":"0"},0,{"$f":"IF(ISNUMBER(SEARCH(\"3\",#REF!)),\"1\",\"0\")","v":"0"},{"$f":"IF(ISNUMBER(SEARCH(\"4\",#REF!)),\"1\",\"0\")","v":"0"},{"$f":"IF(ISNUMBER(SEARCH(\"5\",#REF!)),\"1\",\"0\")","v":"0"},{"$f":"IF(ISNUMBER(SEARCH(\"6\",#REF!)),\"1\",\"0\")","v":"0"},{"$f":"IF(ISNUMBER(SEARCH(\"7\",#REF!)),\"1\",\"0\")","v":"0"},{"$f":"IF(ISNUMBER(SEARCH(\"8\",#REF!)),\"1\",\"0\")","v":"0"},{"$f":"IF(ISNUMBER(SEARCH(\"9\",#REF!)),\"1\",\"0\")","v":"0"},{"$f":"IF(ISNUMBER(SEARCH(\"9\",#REF!)),\"1\",\"0\")","v":"0"},{"$f":"IF(ISNUMBER(SEARCH(\"10\",#REF!)),\"1\",\"0\")","v":"0"},{"$f":"IF(ISNUMBER(SEARCH(\"11\",#REF!)),\"1\",\"0\")","v":"0"},{"$f":"IF(ISNUMBER(SEARCH(\"12\",#REF!)),\"1\",\"0\")","v":"0"},{"$f":"IF(ISNUMBER(SEARCH(\"13\",#REF!)),\"1\",\"0\")","v":"0"},{"$f":"IF(ISNUMBER(SEARCH(\"14\",#REF!)),\"1\",\"0\")","v":"0"},{"$f":"IF(ISNUMBER(SEARCH(\"15\",#REF!)),\"1\",\"0\")","v":"0"},{"$f":"IF(ISNUMBER(SEARCH(\"16\",#REF!)),\"1\",\"0\")","v":"0"},{"$f":"IF(ISNUMBER(SEARCH(\"17\",#REF!)),\"1\",\"0\")","v":"0"},{"$nulls":3},9]
[2,21,null,35,2,55,null,2,3,1,3,5,6,"1, 15. Insultes / a reçu des menaces","1","0","0","0","1","0","0","0","0","0","0","0","0","0","1","0","0","0",null,1,1,2,2,{"$f":"IF(ISNUMBER(SEARCH(\"1\",#REF!)),\"1\",\"0\")","v":"0"},0,{"$f":"IF(ISNUMBER(SEARCH(\"3\",#REF!)),\"1\",\"0\")","v":"0"},{"$f":"IF(ISNUMBER(SEARCH(\"4\",#REF!)),\"1\",\"0\")","v":"0"},{"$f":"IF(ISNUMBER(SEARCH(\"5\",#REF!)),\"1\",\"0\")","v":"0"},{"$f":"IF(ISNUMBER(SEARCH(\"6\",#REF!)),\"1\",\"0\")","v":"0"},{"$f":"IF(ISNUMBER(SEARCH(\"7\",#REF!)),\"1\",\"0\")","v":"0"},{"$f":"IF(ISNUMBER(SEARCH(\"8\",#REF!)),\"1\",\"0\")","v":"0"},{"$f":"IF(ISNUMBER(SEARCH(\"9\",#REF!)),\"1\",\"0\")","v":"0"},{"$f":"IF(ISNUMBER(SEARCH(\"9\",#REF!)),\"1\",\"0\")","v":"0"},{"$f":"IF(ISNUMBER(SEARCH(\"10\",#REF!)),\"1\",\"0\")","v":"0"},{"$f":"IF(ISNUMBER(SEARCH(\"11\",#REF!)),\"1\",\"0\")","v":"0"},{"$f":"IF(ISNUMBER(SEARCH(\"12\",#REF!)),\"1\",\"0\")","v":"0"},{"$f":"IF(ISNUMBER(SEARCH(\"13\",#REF!)),\"1\",\"0\")","v":"0"},{"$f":"IF(ISNUMBER(SEARCH(\"14\",#REF!)),\"1\",\"0\")","v":"0"},{"$f":"IF(ISNUMBER(SEARCH(\"15\",#REF!)),\"1\",\"0\")","v":"0"},{"$f":"IF(ISNUMBER(SEARCH(\"16\",#REF!)),\"1\",\"0\")","v":"0"},{"$f":"IF(ISNUMBER(SEARCH(\"17\",#REF!)),\"1\",\"0\")","v":"0"},{"$nulls":3},9]
[2,21,null,25,2,44,null,1,3,1,2,3,1,"1, 16. Autre (SVP dans 20 case suivante) ","1","1","0","0","0","1","0","0","0","0","0","0","0","0","0","1","0","0",null,1,1,5,2,{"$f":"IF(ISNUMBER(SEARCH(\"1\",#REF!)),\"1\",\"0\")","v":"0"},{"$f":"IF(ISNUMBER(SEARCH(\"2\",#REF!)),\"1\",\"0\")","v":"0"},{"$f":"IF(ISNUMBER(SEARCH(\"3\",#REF!)),\"1\",\"0\")","v":"0"},{"$f":"IF(ISNUMBER(SEARCH(\"4\",#REF!)),\"1\",\"0\")","v":"0"},{"$f":"IF(ISNUMBER(SEARCH(\"5\",#REF!)),\"1\",\"0\")","v":"0"},{"$f":"IF(ISNUMBER(SEARCH(\"6\",#REF!)),\"1\",\"0\")","v":"0"},{"$f":"IF(ISNUMBER(SEARCH(\"7\",#REF!)),\"1\",\"0\")","v":"0"},{"$f":"IF(ISNUMBER(SEARCH(\"8\",#REF!)),\"1\",\"0\")","v":"0"},{"$f":"IF(ISNUMBER(SEARCH(\"9\",#REF!)),\"1\",\"0\")","v":"0"},{"$f":"IF(ISNUMBER(SEARCH(\"9\",#REF!)),\"1\",\"0\")","v":"0"},{"$f":"IF(ISNUMBER(SEARCH(\"10\",#REF!)),\"1\",\"0\")","v":"0"},{"$f":"IF(ISNUMBER(SEARCH(\"11\",#REF!)),\"1\",\"0\")","v":"0"},{"$f":"IF(ISNUMBER(SEARCH(\"12\",#REF!)),\"1\",\"0\")","v":"0"},{"$f":"IF(ISNUMBER(SEARCH(\"13\",#REF!)),\"1\",\"0\")","v":"0"},{"$f":"IF(ISNUMBER(SEARCH(\"14\",#REF!)),\"1\",\"0\")","v":"0"},{"$f":"IF(ISNUMBER(SEARCH(\"15\",#REF!)),\"1\",\"0\")","v":"0"},{"$f":"IF(ISNUMBER(SEARCH(\"16\",#REF!)),\"1\",\"0\")","v":"0"},{"$f":"IF(ISNUMBER(SEARCH(\"17\",#REF!)),\"1\",\"0\")","v":"0"},{"$nulls":3},3,30,26,24,{"$nulls":3},12,14,10,36,{"$nulls":4},{"$f":"#REF!-#REF!","v":{"$error":"#REF!"}},{"$f":"#REF!-#REF!","v":{"$error":"#REF!"}}]
[2,21,null,25,2,43,null,null,7,null,5,1,5,"1, 16. Autre (SVP dans 20 case suivante) ","1","1","0","0","0","1","0","0","0","0","0","0","0","0","0","1","0","0",null,1,3,5,2,{"$f":"IF(ISNUMBER(SEARCH(\"1\",#REF!)),\"1\",\"0\")","v":"0"},{"$f":"IF(ISNUMBER(SEARCH(\"2\",#REF!)),\"1\",\"0\")","v":"0"},{"$f":"IF(ISNUMBER(SEARCH(\"3\",#REF!)),\"1\",\"0\")","v":"0"},{"$f":"IF(ISNUMBER(SEARCH(\"4\",#REF!)),\"1\",\"0\")","v":"0"},{"$f":"IF(ISNUMBER(SEARCH(\"5\",#REF!)),\"1\",\"0\")","v":"0"},{"$f":"IF(ISNUMBER(SEARCH(\"6\",#REF!)),\"1\",\"0\")","v":"0"},{"$f":"IF(ISNUMBER(SEARCH(\"7\",#REF!)),\"1\",\"0\")","v":"0"},{"$f":"IF(ISNUMBER(SEARCH(\"8\",#REF!)),\"1\",\"0\")","v":"0"},{"$f":"IF(ISNUMBER(SEARCH(\"9\",#REF!)),\"1\",\"0\")","v":"0"},{"$f":"IF(ISNUMBER(SEARCH(\"9\",#REF!)),\"1\",\"0\")","v":"0"},{"$f":"IF(ISNUMBER(SEARCH(\"10\",#REF!)),\"1\",\"0\")","v":"0"},{"$f":"IF(ISNUMBER(SEARCH(\"11\",#REF!)),\"1\",\"0\")","v":"0"},{"$f":"IF(ISNUMBER(SEARCH(\"12\",#REF!)),\"1\",\"0\")","v":"0"},{"$f":"IF(ISNUMBER(SEARCH(\"13\",#REF!)),\"1\",\"0\")","v":"0"},{"$f":"IF(ISNUMBER(SEARCH(\"14\",#REF!)),\"1\",\"0\")","v":"0"},{"$f":"IF(ISNUMBER(SEARCH(\"15\",#REF!)),\"1\",\"0\")","v":"0"},{"$f":"IF(ISNUMBER(SEARCH(\"16\",#REF!)),\"1\",\"0\")","v":"0"},{"$f":"IF(ISNUMBER(SEARCH(\"17\",#REF!)),\"1\",\"0\")","v":"0"},{"$nulls":3},9,30,18,24,{"$nulls":3},16,10,16,42,{"$nulls":4},{"$f":"#REF!-#REF!","v":{"$error":"#REF!"}},{"$f":"#REF!-#REF!","v":{"$error":"#REF!"}}]
[2,21,null,26,2,40,null,4,2,2,null,5,1,"4. Tentative de Viol","0","0","0","1","0","0","0","0","0","0","0","0","0","0","0","0","0","0",null,1,7,5,1,{"$f":"IF(ISNUMBER(SEARCH(\"1\",#REF!)),\"1\",\"0\")","v":"0"},{"$f":"IF(ISNUMBER(SEARCH(\"2\",#REF!)),\"1\",\"0\")","v":"0"},{"$f":"IF(ISNUMBER(SEARCH(\"3\",#REF!)),\"1\",\"0\")","v":"0"},{"$f":"IF(ISNUMBER(SEARCH(\"4\",#REF!)),\"1\",\"0\")","v":"0"},{"$f":"IF(ISNUMBER(SEARCH(\"5\",#REF!)),\"1\",\"0\")","v":"0"},{"$f":"IF(ISNUMBER(SEARCH(\"6\",#REF!)),\"1\",\"0\")","v":"0"},{"$f":"IF(ISNUMBER(SEARCH(\"7\",#REF!)),\"1\",\"0\")","v":"0"},{"$f":"IF(ISNUMBER(SEARCH(\"8\",#REF!)),\"1\",\"0\")","v":"0"},{"$f":"IF(ISNUMBER(SEARCH(\"9\",#REF!)),\"1\",\"0\")","v":"0"},{"$f":"IF(ISNUMBER(SEARCH(\"9\",#REF!)),\"1\",\"0\")","v":"0"},{"$f":"IF(ISNUMBER(SEARCH(\"10\",#REF!)),\"1\",\"0\")","v":"0"},{"$f":"IF(ISNUMBER(SEARCH(\"11\",#REF!)),\"1\",\"0\")","v":"0"},{"$f":"IF(ISNUMBER(SEARCH(\"12\",#REF!)),\"1\",\"0\")","v":"0"},{"$f":"IF(ISNUMBER(SEARCH(\"13\",#REF!)),\"1\",\"0\")","v":"0"},{"$f":"IF(ISNUMBER(SEARCH(\"14\",#REF!)),\"1\",\"0\")","v":"0"},{"$f":"IF(ISNUMBER(SEARCH(\"15\",#REF!)),\"1\",\"0\")","v":"0"},{"$f":"IF(ISNUMBER(SEARCH(\"16\",#REF!)),\"1\",\"0\")","v":"0"},{"$f":"IF(ISNUMBER(SEARCH(\"17\",#REF!)),\"1\",\"0\")","v":"0"},{"$nulls":3},9,10,14,10,{"$nulls":11},{"$f":"#REF!-#REF!","v":{"$error":"#REF!"}}]
[2,21,null,26,1,24,null,1,3,2,4,5,2,3,"0","0","1","0","0","0","0","0","0","0","0","0","0","0","0","0","0","0",null,2,1,5,2,{"$f":"IF(ISNUMBER(SEARCH(\"1\",#REF!)),\"1\",\"0\")","v":"0"},{"$f":"IF(ISNUMBER(SEARCH(\"2\",#REF!)),\"1\",\"0\")","v":"0"},{"$f":"IF(ISNUMBER(SEARCH(\"3\",#REF!)),\"1\",\"0\")","v":"0"},{"$f":"IF(ISNUMBER(SEARCH(\"4\",#REF!)),\"1\",\"0\")","v":"0"},{"$f":"IF(ISNUMBER(SEARCH(\"5\",#REF!)),\"1\",\"0\")","v":"0"},{"$f":"IF(ISNUMBER(SEARCH(\"6\",#REF!)),\"1\",\"0\")","v":"0"},{"$f":"IF(ISNUMBER(SEARCH(\"7\",#REF!)),\"1\",\"0\")","v":"0"},{"$f":"IF(ISNUMBER(SEARCH(\"8\",#REF!)),\"1\",\"0\")","v":"0"},{"$f":"IF(ISNUMBER(SEARCH(\"9\",#REF!)),\"1\",\"0\")","v":"0"},{"$f":"IF(ISNUMBER(SEARCH(\"9\",#REF!)),\"1\",\"0\")","v":"0"},{"$f":"IF(ISNUMBER(SEARCH(\"10\",#REF!)),\"1\",\"0\")","v":"0"},{"$f":"IF(ISNUMBER(SEARCH(\"11\",#REF!)),\"1\",\"0\")","v":"0"},{"$f":"IF(ISNUMBER(SEARCH(\"12\",#REF!)),\"1\",\"0\")","v":"0"},{"$f":"IF(ISNUMBER(SEARCH(\"13\",#REF!)),\"1\",\"0\")","v":"0"},{"$f":"IF(ISNUMBER(SEARCH(\"14\",#REF!)),\"1\",\"0\")","v":"0"},{"$f":"IF(ISNUMBER(SEARCH(\"15\",#REF!)),\"1\",\"0\")","v":"0"},{"$f":"IF(ISNUMBER(SEARCH(\"16\",#REF!)),\"1\",\"0\")","v":"0"},{"$f":"IF(ISNUMBER(SEARCH(\"17\",#REF!)),\"1\",\"0\")","v":"0"},1,null,null,3]
[2,21,null,26,2,43,null,2,3,2,4,8,2,3,"0","0","1","0","0","0","0","0","0","0","0","0","0","0","0","0","0","0",null,1,7,5,2,{"$f":"IF(ISNUMBER(SEARCH(\"1\",#REF!)),\"1\",\"0\")","v":"0"},{"$f":"IF(ISNUMBER(SEARCH(\"2\",#REF!)),\"1\",\"0\")","v":"0"},{"$f":"IF(ISNUMBER(SEARCH(\"3\",#REF!)),\"1\",\"0\")","v":"0"},{"$f":"IF(ISNUMBER(SEARCH(\"4\",#REF!)),\"1\",\"0\")","v":"0"},{"$f":"IF(ISNUMBER(SEARCH(\"5\",#REF!)),\"1\",\"0\")","v":"0"},{"$f":"IF(ISNUMBER(SEARCH(\"6\",#REF!)),\"1\",\"0\")","v":"0"},{"$f":"IF(ISNUMBER(SEARCH(\"7\",#REF!)),\"1\",\"0\")","v":"0"},{"$f":"IF(ISNUMBER(SEARCH(\"8\",#REF!)),\"1\",\"0\")","v":"0"},{"$f":"IF(ISNUMBER(SEARCH(\"9\",#REF!)),\"1\",\"0\")","v":"0"},{"$f":"IF(ISNUMBER(SEARCH(\"9\",#REF!)),\"1\",\"0\")","v":"0"},{"$f":"IF(ISNUMBER(SEARCH(\"10\",#REF!)),\"1\",\"0\")","v":"0"},{"$f":"IF(ISNUMBER(SEARCH(\"11\",#REF!)),\"1\",\"0\")","v":"0"},{"$f":"IF(ISNUMBER(SEARCH(\"12\",#REF!)),\"1\",\"0\")","v":"0"},{"$f":"IF(ISNUMBER(SEARCH(\"13\",#REF!)),\"1\",\"0\")","v":"0"},{"$f":"IF(ISNUMBER(SEARCH(\"14\",#REF!)),\"1\",\"0\")","v":"0"},{"$f":"IF(ISNUMBER(SEARCH(\"15\",#REF!)),\"1\",\"0\")","v":"0"},{"$f":"IF(ISNUMBER(SEARCH(\"16\",#REF!)),\"1\",\"0\")","v":"0"},{"$f":"IF(ISNUMBER(SEARCH(\"17\",#REF!)),\"1\",\"0\")","v":"0"},{"$nulls":3},9,24,22,16,{"$nulls":3},2,8,2,12,{"$nulls":4},{"$f":"#REF!-#REF!","v":{"$error":"#REF!"}},{"$f":"#REF!-#REF!","v":{"$error":"#REF!"}}]
[2,21,null,26,2,26,null,3,3,1,null,1,2,1,"1","0","0","0","0","0","0","0","0","0","0","0","0","0","0","0","0","0",null,1,1,5,2,{"$f":"IF(ISNUMBER(SEARCH(\"1\",#REF!)),\"1\",\"0\")","v":"0"},{"$f":"IF(ISNUMBER(SEARCH(\"2\",#REF!)),\"1\",\"0\")","v":"0"},{"$f":"IF(ISNUMBER(SEARCH(\"3\",#REF!)),\"1\",\"0\")","v":"0"},{"$f":"IF(ISNUMBER(SEARCH(\"4\",#REF!)),\"1\",\"0\")","v":"0"},{"$f":"IF(ISNUMBER(SEARCH(\"5\",#REF!)),\"1\",\"0\")","v":"0"},{"$f":"IF(ISNUMBER(SEARCH(\"6\",#REF!)),\"1\",\"0\")","v":"0"},{"$f":"IF(ISNUMBER(SEARCH(\"7\",#REF!)),\"1\",\"0\")","v":"0"},{"$f":"IF(ISNUMBER(SEARCH(\"8\",#REF!)),\"1\",\"0\")","v":"0"},{"$f":"IF(ISNUMBER(SEARCH(\"9\",#REF!)),\"1\",\"0\")","v":"0"},{"$f":"IF(ISNUMBER(SEARCH(\"9\",#REF!)),\"1\",\"0\")","v":"0"},{"$f":"IF(ISNUMBER(SEARCH(\"10\",#REF!)),\"1\",\"0\")","v":"0"},{"$f":"IF(ISNUMBER(SEARCH(\"11\",#REF!)),\"1\",\"0\")","v":"0"},{"$f":"IF(ISNUMBER(SEARCH(\"12\",#REF!)),\"1\",\"0\")","v":"0"},{"$f":"IF(ISNUMBER(SEARCH(\"13\",#REF!)),\"1\",\"0\")","v":"0"},{"$f":"IF(ISNUMBER(SEARCH(\"14\",#REF!)),\"1\",\"0\")","v":"0"},{"$f":"IF(ISNUMBER(SEARCH(\"15\",#REF!)),\"1\",\"0\")","v":"0"},{"$f":"IF(ISNUMBER(SEARCH(\"16\",#REF!)),\"1\",\"0\")","v":"0"},{"$f":"IF(ISNUMBER(SEARCH(\"17\",#REF!)),\"1\",\"0\")","v":"0"},{"$nulls":3},9,16,12,16,{"$nulls":3},4,8,2,14,{"$nulls":4},{"$f":"#REF!-#REF!","v":{"$error":"#REF!"}},{"$f":"#REF!-#REF!","v":{"$error":"#REF!"}}]
[2,21,null,26,1,29,null,4,7,1,1,1,2,"16. Autre (SVP dans 20 case suivante) ","1","1","0","0","0","1","0","0","0","0","0","0","0","0","0","1","0","0",null,2,3,5,null,{"$f":"IF(ISNUMBER(SEARCH(\"1\",#REF!)),\"1\",\"0\")","v":"0"},{"$f":"IF(ISNUMBER(SEARCH(\"2\",#REF!)),\"1\",\"0\")","v":"0"},{"$f":"IF(ISNUMBER(SEARCH(\"3\",#REF!)),\"1\",\"0\")","v":"0"},{"$f":"IF(ISNUMBER(SEARCH(\"4\",#REF!)),\"1\",\"0\")","v":"0"},{"$f":"IF(ISNUMBER(SEARCH(\"5\",#REF!)),\"1\",\"0\")","v":"0"},{"$f":"IF(ISNUMBER(SEARCH(\"6\",#REF!)),\"1\",\"0\")","v":"0"},{"$f":"IF(ISNUMBER(SEARCH(\"7\",#REF!)),\"1\",\"0\")","v":"0"},{"$f":"IF(ISNUMBER(SEARCH(\"8\",#REF!)),\"1\",\"0\")","v":"0"},{"$f":"IF(ISNUMBER(SEARCH(\"9\",#REF!)),\"1\",\"0\")","v":"0"},{"$f":"IF(ISNUMBER(SEARCH(\"9\",#REF!)),\"1\",\"0\")","v":"0"},{"$f":"IF(ISNUMBER(SEARCH(\"10\",#REF!)),\"1\",\"0\")","v":"0"},{"$f":"IF(ISNUMBER(SEARCH(\"11\",#REF!)),\"1\",\"0\")","v":"0"},{"$f":"IF(ISNUMBER(SEARCH(\"12\",#REF!)),\"1\",\"0\")","v":"0"},{"$f":"IF(ISNUMBER(SEARCH(\"13\",#REF!)),\"1\",\"0\")","v":"0"},{"$f":"IF(ISNUMBER(SEARCH(\"14\",#REF!)),\"1\",\"0\")","v":"0"},{"$f":"IF(ISNUMBER(SEARCH(\"15\",#REF!)),\"1\",\"0\")","v":"0"},{"$f":"IF(ISNUMBER(SEARCH(\"16\",#REF!)),\"1\",\"0\")","v":"0"},{"$f":"IF(ISNUMBER(SEARCH(\"17\",#REF!)),\"1\",\"0\")","v":"0"},{"$nulls":3},9]
[2,21,null,24,2,28,null,1,3,1,5,11,2,3,"0","0","1","0","0","0","0","0","0","0","0","0","0","0","0","0","0","0",null,1,3,5,1,{"$f":"IF(ISNUMBER(SEARCH(\"1\",#REF!)),\"1\",\"0\")","v":"0"},{"$f":"IF(ISNUMBER(SEARCH(\"2\",#REF!)),\"1\",\"0\")","v":"0"},{"$f":"IF(ISNUMBER(SEARCH(\"3\",#REF!)),\"1\",\"0\")","v":"0"},{"$f":"IF(ISNUMBER(SEARCH(\"4\",#REF!)),\"1\",\"0\")","v":"0"},{"$f":"IF(ISNUMBER(SEARCH(\"5\",#REF!)),\"1\",\"0\")","v":"0"},{"$f":"IF(ISNUMBER(SEARCH(\"6\",#REF!)),\"1\",\"0\")","v":"0"},{"$f":"IF(ISNUMBER(SEARCH(\"7\",#REF!)),\"1\",\"0\")","v":"0"},{"$f":"IF(ISNUMBER(SEARCH(\"8\",#REF!)),\"1\",\"0\")","v":"0"},{"$f":"IF(ISNUMBER(SEARCH(\"9\",#REF!)),\"1\",\"0\")","v":"0"},{"$f":"IF(ISNUMBER(SEARCH(\"9\",#REF!)),\"1\",\"0\")","v":"0"},{"$f":"IF(ISNUMBER(SEARCH(\"10\",#REF!)),\"1\",\"0\")","v":"0"},{"$f":"IF(ISNUMBER(SEARCH(\"11\",#REF!)),\"1\",\"0\")","v":"0"},{"$f":"IF(ISNUMBER(SEARCH(\"12\",#REF!)),\"1\",\"0\")","v":"0"},{"$f":"IF(ISNUMBER(SEARCH(\"13\",#REF!)),\"1\",\"0\")","v":"0"},{"$f":"IF(ISNUMBER(SEARCH(\"14\",#REF!)),\"1\",\"0\")","v":"0"},{"$f":"IF(ISNUMBER(SEARCH(\"15\",#REF!)),\"1\",\"0\")","v":"0"},{"$f":"IF(ISNUMBER(SEARCH(\"16\",#REF!)),\"1\",\"0\")","v":"0"},{"$f":"IF(ISNUMBER(SEARCH(\"17\",#REF!)),\"1\",\"0\")","v":"0"},3,null,null,9,30,22,20,{"$nulls":11},{"$f":"#REF!-#REF!","v":{"$error":"#REF!"}}]
[2,21,null,24,1,26,null,1,3,1,3,3,6,"1, 16. Autre (SVP dans 20 case suivante) ","1","1","0","0","0","1","0","0","0","0","0","0","0","0","0","1","0","0",null,1,1,5,null,{"$f":"IF(ISNUMBER(SEARCH(\"1\",#REF!)),\"1\",\"0\")","v":"0"},0,{"$f":"IF(ISNUMBER(SEARCH(\"3\",#REF!)),\"1\",\"0\")","v":"0"},{"$f":"IF(ISNUMBER(SEARCH(\"4\",#REF!)),\"1\",\"0\")","v":"0"},{"$f":"IF(ISNUMBER(SEARCH(\"5\",#REF!)),\"1\",\"0\")","v":"0"},{"$f":"IF(ISNUMBER(SEARCH(\"6\",#REF!)),\"1\",\"0\")","v":"0"},{"$f":"IF(ISNUMBER(SEARCH(\"7\",#REF!)),\"1\",\"0\")","v":"0"},{"$f":"IF(ISNUMBER(SEARCH(\"8\",#REF!)),\"1\",\"0\")","v":"0"},{"$f":"IF(ISNUMBER(SEARCH(\"9\",#REF!)),\"1\",\"0\")","v":"0"},{"$f":"IF(ISNUMBER(SEARCH(\"9\",#REF!)),\"1\",\"0\")","v":"0"},{"$f":"IF(ISNUMBER(SEARCH(\"10\",#REF!)),\"1\",\"0\")","v":"0"},{"$f":"IF(ISNUMBER(SEARCH(\"11\",#REF!)),\"1\",\"0\")","v":"0"},{"$f":"IF(ISNUMBER(SEARCH(\"12\",#REF!)),\"1\",\"0\")","v":"0"},{"$f":"IF(ISNUMBER(SEARCH(\"13\",#REF!)),\"1\",\"0\")","v":"0"},{"$f":"IF(ISNUMBER(SEARCH(\"14\",#REF!)),\"1\",\"0\")","v":"0"},{"$f":"IF(ISNUMBER(SEARCH(\"15\",#REF!)),\"1\",\"0\")","v":"0"},{"$f":"IF(ISNUMBER(SEARCH(\"16\",#REF!)),\"1\",\"0\")","v":"0"},{"$f":"IF(ISNUMBER(SEARCH(\"17\",#REF!)),\"1\",\"0\")","v":"0"},{"$nulls":3},9,26,14,10,{"$nulls":11},{"$f":"#REF!-#REF!","v":{"$error":"#REF!"}},{"$f":"#REF!-#REF!","v":{"$error":"#REF!"}}]
[2,21,null,24,2,44,null,2,3,1,null,3,1,2,"0","1","0","0","0","0","0","0","0","0","0","0","0","0","0","0","0","0",null,1,3,5,2,{"$f":"IF(ISNUMBER(SEARCH(\"1\",#REF!)),\"1\",\"0\")","v":"0"},{"$f":"IF(ISNUMBER(SEARCH(\"2\",#REF!)),\"1\",\"0\")","v":"0"},{"$f":"IF(ISNUMBER(SEARCH(\"3\",#REF!)),\"1\",\"0\")","v":"0"},{"$f":"IF(ISNUMBER(SEARCH(\"4\",#REF!)),\"1\",\"0\")","v":"0"},{"$f":"IF(ISNUMBER(SEARCH(\"5\",#REF!)),\"1\",\"0\")","v":"0"},{"$f":"IF(ISNUMBER(SEARCH(\"6\",#REF!)),\"1\",\"0\")","v":"0"},{"$f":"IF(ISNUMBER(SEARCH(\"7\",#REF!)),\"1\",\"0\")","v":"0"},{"$f":"IF(ISNUMBER(SEARCH(\"8\",#REF!)),\"1\",\"0\")","v":"0"},{"$f":"IF(ISNUMBER(SEARCH(\"9\",#REF!)),\"1\",\"0\")","v":"0"},{"$f":"IF(ISNUMBER(SEARCH(\"9\",#REF!)),\"1\",\"0\")","v":"0"},{"$f":"IF(ISNUMBER(SEARCH(\"10\",#REF!)),\"1\",\"0\")","v":"0"},{"$f":"IF(ISNUMBER(SEARCH(\"11\",#REF!)),\"1\",\"0\")","v":"0"},{"$f":"IF(ISNUMBER(SEARCH(\"12\",#REF!)),\"1\",\"0\")","v":"0"},{"$f":"IF(ISNUMBER(SEARCH(\"13\",#REF!)),\"1\",\"0\")","v":"0"},{"$f":"IF(ISNUMBER(SEARCH(\"14\",#REF!)),\"1\",\"0\")","v":"0"},{"$f":"IF(ISNUMBER(SEARCH(\"15\",#REF!)),\"1\",\"0\")","v":"0"},{"$f":"IF(ISNUMBER(SEARCH(\"16\",#REF!)),\"1\",\"0\")","v":"0"},{"$f":"IF(ISNUMBER(SEARCH(\"17\",#REF!)),\"1\",\"0\")","v":"0"},{"$nulls":3},9,30,12,12,{"$nulls":3},30,12,12,{"$f":"BN4501+BO4501+BP4501","v":54},{"$nulls":4},{"$f":"#REF!-#REF!","v":{"$error":"#REF!"}},{"$f":"#REF!-#REF!","v":{"$error":"#REF!"}}]
[2,21,null,26,1,35,null,2,8,2,7,5,2,1,"1","0","0","0","0","0","0","0","0","0","0","0","0","0","0","0","0","0",null,1,3,5,2,{"$f":"IF(ISNUMBER(SEARCH(\"1\",#REF!)),\"1\",\"0\")","v":"0"},{"$f":"IF(ISNUMBER(SEARCH(\"2\",#REF!)),\"1\",\"0\")","v":"0"},{"$f":"IF(ISNUMBER(SEARCH(\"3\",#REF!)),\"1\",\"0\")","v":"0"},{"$f":"IF(ISNUMBER(SEARCH(\"4\",#REF!)),\"1\",\"0\")","v":"0"},{"$f":"IF(ISNUMBER(SEARCH(\"5\",#REF!)),\"1\",\"0\")","v":"0"},{"$f":"IF(ISNUMBER(SEARCH(\"6\",#REF!)),\"1\",\"0\")","v":"0"},{"$f":"IF(ISNUMBER(SEARCH(\"7\",#REF!)),\"1\",\"0\")","v":"0"},{"$f":"IF(ISNUMBER(SEARCH(\"8\",#REF!)),\"1\",\"0\")","v":"0"},{"$f":"IF(ISNUMBER(SEARCH(\"9\",#REF!)),\"1\",\"0\")","v":"0"},{"$f":"IF(ISNUMBER(SEARCH(\"9\",#REF!)),\"1\",\"0\")","v":"0"},{"$f":"IF(ISNUMBER(SEARCH(\"10\",#REF!)),\"1\",\"0\")","v":"0"},{"$f":"IF(ISNUMBER(SEARCH(\"11\",#REF!)),\"1\",\"0\")","v":"0"},{"$f":"IF(ISNUMBER(SEARCH(\"12\",#REF!)),\"1\",\"0\")","v":"0"},{"$f":"IF(ISNUMBER(SEARCH(\"13\",#REF!)),\"1\",\"0\")","v":"0"},{"$f":"IF(ISNUMBER(SEARCH(\"14\",#REF!)),\"1\",\"0\")","v":"0"},{"$f":"IF(ISNUMBER(SEARCH(\"15\",#REF!)),\"1\",\"0\")","v":"0"},{"$f":"IF(ISNUMBER(SEARCH(\"16\",#REF!)),\"1\",\"0\")","v":"0"},{"$f":"IF(ISNUMBER(SEARCH(\"17\",#REF!)),\"1\",\"0\")","v":"0"},{"$nulls":3},3,22,16,20,{"$nulls":3},2,6,2,10,{"$nulls":4},{"$f":"#REF!-#REF!","v":{"$error":"#REF!"}},{"$f":"#REF!-#REF!","v":{"$error":"#REF!"}}]
[2,21,null,26,2,38,null,1,3,1,2,5,2,"4. Tentative de Viol","0","0","0","1","0","0","0","0","0","0","0","0","0","0","0","0","0","0",null,1,3,5,2,{"$f":"IF(ISNUMBER(SEARCH(\"1\",#REF!)),\"1\",\"0\")","v":"0"},{"$f":"IF(ISNUMBER(SEARCH(\"2\",#REF!)),\"1\",\"0\")","v":"0"},{"$f":"IF(ISNUMBER(SEARCH(\"3\",#REF!)),\"1\",\"0\")","v":"0"},{"$f":"IF(ISNUMBER(SEARCH(\"4\",#REF!)),\"1\",\"0\")","v":"0"},{"$f":"IF(ISNUMBER(SEARCH(\"5\",#REF!)),\"1\",\"0\")","v":"0"},{"$f":"IF(ISNUMBER(SEARCH(\"6\",#REF!)),\"1\",\"0\")","v":"0"},{"$f":"IF(ISNUMBER(SEARCH(\"7\",#REF!)),\"1\",\"0\")","v":"0"},{"$f":"IF(ISNUMBER(SEARCH(\"8\",#REF!)),\"1\",\"0\")","v":"0"},{"$f":"IF(ISNUMBER(SEARCH(\"9\",#REF!)),\"1\",\"0\")","v":"0"},{"$f":"IF(ISNUMBER(SEARCH(\"9\",#REF!)),\"1\",\"0\")","v":"0"},{"$f":"IF(ISNUMBER(SEARCH(\"10\",#REF!)),\"1\",\"0\")","v":"0"},{"$f":"IF(ISNUMBER(SEARCH(\"11\",#REF!)),\"1\",\"0\")","v":"0"},{"$f":"IF(ISNUMBER(SEARCH(\"12\",#REF!)),\"1\",\"0\")","v":"0"},{"$f":"IF(ISNUMBER(SEARCH(\"13\",#REF!)),\"1\",\"0\")","v":"0"},{"$f":"IF(ISNUMBER(SEARCH(\"14\",#REF!)),\"1\",\"0\")","v":"0"},{"$f":"IF(ISNUMBER(SEARCH(\"15\",#REF!)),\"1\",\"0\")","v":"0"},{"$f":"IF(ISNUMBER(SEARCH(\"16\",#REF!)),\"1\",\"0\")","v":"0"},{"$f":"IF(ISNUMBER(SEARCH(\"17\",#REF!)),\"1\",\"0\")","v":"0"},{"$nulls":3},9,30,10,24,{"$nulls":11},{"$f":"#REF!-#REF!","v":{"$error":"#REF!"}}]
[2,21,null,26,2,36,null,3,7,1,1,1,2,"16. Autre (SVP dans 20 case suivante) ","1","1","0","0","0","1","0","0","0","0","0","0","0","0","0","1","0","0",null,1,3,5,1,{"$f":"IF(ISNUMBER(SEARCH(\"1\",#REF!)),\"1\",\"0\")","v":"0"},{"$f":"IF(ISNUMBER(SEARCH(\"2\",#REF!)),\"1\",\"0\")","v":"0"},{"$f":"IF(ISNUMBER(SEARCH(\"3\",#REF!)),\"1\",\"0\")","v":"0"},{"$f":"IF(ISNUMBER(SEARCH(\"4\",#REF!)),\"1\",\"0\")","v":"0"},{"$f":"IF(ISNUMBER(SEARCH(\"5\",#REF!)),\"1\",\"0\")","v":"0"},{"$f":"IF(ISNUMBER(SEARCH(\"6\",#REF!)),\"1\",\"0\")","v":"0"},{"$f":"IF(ISNUMBER(SEARCH(\"7\",#REF!)),\"1\",\"0\")","v":"0"},{"$f":"IF(ISNUMBER(SEARCH(\"8\",#REF!)),\"1\",\"0\")","v":"0"},{"$f":"IF(ISNUMBER(SEARCH(\"9\",#REF!)),\"1\",\"0\")","v":"0"},{"$f":"IF(ISNUMBER(SEARCH(\"9\",#REF!)),\"1\",\"0\")","v":"0"},{"$f":"IF(ISNUMBER(SEARCH(\"10\",#REF!)),\"1\",\"0\")","v":"0"},{"$f":"IF(ISNUMBER(SEARCH(\"11\",#REF!)),\"1\",\"0\")","v":"0"},{"$f":"IF(ISNUMBER(SEARCH(\"12\",#REF!)),\"1\",\"0\")","v":"0"},{"$f":"IF(ISNUMBER(SEARCH(\"13\",#REF!)),\"1\",\"0\")","v":"0"},{"$f":"IF(ISNUMBER(SEARCH(\"14\",#REF!)),\"1\",\"0\")","v":"0"},{"$f":"IF(ISNUMBER(SEARCH(\"15\",#REF!)),\"1\",\"0\")","v":"0"},{"$f":"IF(ISNUMBER(SEARCH(\"16\",#REF!)),\"1\",\"0\")","v":"0"},{"$f":"IF(ISNUMBER(SEARCH(\"17\",#REF!)),\"1\",\"0\")","v":"0"},{"$nulls":3},9,20,10,18,{"$nulls":3},2,8,4,14,{"$nulls":4},{"$f":"#REF!-#REF!","v":{"$error":"#REF!"}},{"$f":"#REF!-#REF!","v":{"$error":"#REF!"}}]
[2,21,null,24,2,25,null,3,3,1,null,5,1,"3, 16. Autre (SVP dans 20 case suivante) ","1","1","1","0","0","1","0","0","0","0","0","0","0","0","0","1","0","0",null,1,3,5,1,{"$f":"IF(ISNUMBER(SEARCH(\"1\",#REF!)),\"1\",\"0\")","v":"0"},{"$f":"IF(ISNUMBER(SEARCH(\"2\",#REF!)),\"1\",\"0\")","v":"0"},{"$f":"IF(ISNUMBER(SEARCH(\"3\",#REF!)),\"1\",\"0\")","v":"0"},{"$f":"IF(ISNUMBER(SEARCH(\"4\",#REF!)),\"1\",\"0\")","v":"0"},{"$f":"IF(ISNUMBER(SEARCH(\"5\",#REF!)),\"1\",\"0\")","v":"0"},{"$f":"IF(ISNUMBER(SEARCH(\"6\",#REF!)),\"1\",\"0\")","v":"0"},{"$f":"IF(ISNUMBER(SEARCH(\"7\",#REF!)),\"1\",\"0\")","v":"0"},{"$f":"IF(ISNUMBER(SEARCH(\"8\",#REF!)),\"1\",\"0\")","v":"0"},{"$f":"IF(ISNUMBER(SEARCH(\"9\",#REF!)),\"1\",\"0\")","v":"0"},{"$f":"IF(ISNUMBER(SEARCH(\"9\",#REF!)),\"1\",\"0\")","v":"0"},{"$f":"IF(ISNUMBER(SEARCH(\"10\",#REF!)),\"1\",\"0\")","v":"0"},{"$f":"IF(ISNUMBER(SEARCH(\"11\",#REF!)),\"1\",\"0\")","v":"0"},{"$f":"IF(ISNUMBER(SEARCH(\"12\",#REF!)),\"1\",\"0\")","v":"0"},{"$f":"IF(ISNUMBER(SEARCH(\"13\",#REF!)),\"1\",\"0\")","v":"0"},{"$f":"IF(ISNUMBER(SEARCH(\"14\",#REF!)),\"1\",\"0\")","v":"0"},{"$f":"IF(ISNUMBER(SEARCH(\"15\",#REF!)),\"1\",\"0\")","v":"0"},{"$f":"IF(ISNUMBER(SEARCH(\"16\",#REF!)),\"1\",\"0\")","v":"0"},{"$f":"IF(ISNUMBER(SEARCH(\"17\",#REF!)),\"1\",\"0\")","v":"0"},1,null,null,9]
[2,21,null,25,2,38,null,3,3,1,3,3,2,"7. Prostitution forcée","0","0","0","0","0","0","1","0","0","0","0","0","0","0","0","0","0","0",null,1,3,4,1,{"$f":"IF(ISNUMBER(SEARCH(\"1\",#REF!)),\"1\",\"0\")","v":"0"},{"$f":"IF(ISNUMBER(SEARCH(\"2\",#REF!)),\"1\",\"0\")","v":"0"},{"$f":"IF(ISNUMBER(SEARCH(\"3\",#REF!)),\"1\",\"0\")","v":"0"},{"$f":"IF(ISNUMBER(SEARCH(\"4\",#REF!)),\"1\",\"0\")","v":"0"},{"$f":"IF(ISNUMBER(SEARCH(\"5\",#REF!)),\"1\",\"0\")","v":"0"},{"$f":"IF(ISNUMBER(SEARCH(\"6\",#REF!)),\"1\",\"0\")","v":"0"},{"$f":"IF(ISNUMBER(SEARCH(\"7\",#REF!)),\"1\",\"0\")","v":"0"},{"$f":"IF(ISNUMBER(SEARCH(\"8\",#REF!)),\"1\",\"0\")","v":"0"},{"$f":"IF(ISNUMBER(SEARCH(\"9\",#REF!)),\"1\",\"0\")","v":"0"},{"$f":"IF(ISNUMBER(SEARCH(\"9\",#REF!)),\"1\",\"0\")","v":"0"},{"$f":"IF(ISNUMBER(SEARCH(\"10\",#REF!)),\"1\",\"0\")","v":"0"},{"$f":"IF(ISNUMBER(SEARCH(\"11\",#REF!)),\"1\",\"0\")","v":"0"},{"$f":"IF(ISNUMBER(SEARCH(\"12\",#REF!)),\"1\",\"0\")","v":"0"},{"$f":"IF(ISNUMBER(SEARCH(\"13\",#REF!)),\"1\",\"0\")","v":"0"},{"$f":"IF(ISNUMBER(SEARCH(\"14\",#REF!)),\"1\",\"0\")","v":"0"},{"$f":"IF(ISNUMBER(SEARCH(\"15\",#REF!)),\"1\",\"0\")","v":"0"},{"$f":"IF(ISNUMBER(SEARCH(\"16\",#REF!)),\"1\",\"0\")","v":"0"},{"$f":"IF(ISNUMBER(SEARCH(\"17\",#REF!)),\"1\",\"0\")","v":"0"},{"$nulls":3},9,30,10,22,{"$nulls":3},12,4,12,28,{"$nulls":4},{"$f":"#REF!-#REF!","v":{"$error":"#REF!"}},{"$f":"#REF!-#REF!","v":{"$error":"#REF!"}}]
[2,21,null,25,2,37,null,1,3,1,4,11,5,3,"0","0","1","0","0","0","0","0","0","0","0","0","0","0","0","0","0","0",null,2,7,5,1,{"$f":"IF(ISNUMBER(SEARCH(\"1\",#REF!)),\"1\",\"0\")","v":"0"},{"$f":"IF(ISNUMBER(SEARCH(\"2\",#REF!)),\"1\",\"0\")","v":"0"},{"$f":"IF(ISNUMBER(SEARCH(\"3\",#REF!)),\"1\",\"0\")","v":"0"},{"$f":"IF(ISNUMBER(SEARCH(\"4\",#REF!)),\"1\",\"0\")","v":"0"},{"$f":"IF(ISNUMBER(SEARCH(\"5\",#REF!)),\"1\",\"0\")","v":"0"},{"$f":"IF(ISNUMBER(SEARCH(\"6\",#REF!)),\"1\",\"0\")","v":"0"},{"$f":"IF(ISNUMBER(SEARCH(\"7\",#REF!)),\"1\",\"0\")","v":"0"},{"$f":"IF(ISNUMBER(SEARCH(\"8\",#REF!)),\"1\",\"0\")","v":"0"},{"$f":"IF(ISNUMBER(SEARCH(\"9\",#REF!)),\"1\",\"0\")","v":"0"},{"$f":"IF(ISNUMBER(SEARCH(\"9\",#REF!)),\"1\",\"0\")","v":"0"},{"$f":"IF(ISNUMBER(SEARCH(\"10\",#REF!)),\"1\",\"0\")","v":"0"},{"$f":"IF(ISNUMBER(SEARCH(\"11\",#REF!)),\"1\",\"0\")","v":"0"},{"$f":"IF(ISNUMBER(SEARCH(\"12\",#REF!)),\"1\",\"0\")","v":"0"},{"$f":"IF(ISNUMBER(SEARCH(\"13\",#REF!)),\"1\",\"0\")","v":"0"},{"$f":"IF(ISNUMBER(SEARCH(\"14\",#REF!)),\"1\",\"0\")","v":"0"},{"$f":"IF(ISNUMBER(SEARCH(\"15\",#REF!)),\"1\",\"0\")","v":"0"},{"$f":"IF(ISNUMBER(SEARCH(\"16\",#REF!)),\"1\",\"0\")","v":"0"},{"$f":"IF(ISNUMBER(SEARCH(\"17\",#REF!)),\"1\",\"0\")","v":"0"},1,null,null,3,10,6,12,{"$nulls":11},{"$f":"#REF!-#REF!","v":{"$error":"#REF!"}}]
[2,21,null,26,2,29,null,3,3,1,2,3,2,3,"0","0","1","0","0","0","0","0","0","0","0","0","0","0","0","0","0","0",null,1,3,5,2,{"$f":"IF(ISNUMBER(SEARCH(\"1\",#REF!)),\"1\",\"0\")","v":"0"},{"$f":"IF(ISNUMBER(SEARCH(\"2\",#REF!)),\"1\",\"0\")","v":"0"},{"$f":"IF(ISNUMBER(SEARCH(\"3\",#REF!)),\"1\",\"0\")","v":"0"},{"$f":"IF(ISNUMBER(SEARCH(\"4\",#REF!)),\"1\",\"0\")","v":"0"},{"$f":"IF(ISNUMBER(SEARCH(\"5\",#REF!)),\"1\",\"0\")","v":"0"},{"$f":"IF(ISNUMBER(SEARCH(\"6\",#REF!)),\"1\",\"0\")","v":"0"},{"$f":"IF(ISNUMBER(SEARCH(\"7\",#REF!)),\"1\",\"0\")","v":"0"},{"$f":"IF(ISNUMBER(SEARCH(\"8\",#REF!)),\"1\",\"0\")","v":"0"},{"$f":"IF(ISNUMBER(SEARCH(\"9\",#REF!)),\"1\",\"0\")","v":"0"},{"$f":"IF(ISNUMBER(SEARCH(\"9\",#REF!)),\"1\",\"0\")","v":"0"},{"$f":"IF(ISNUMBER(SEARCH(\"10\",#REF!)),\"1\",\"0\")","v":"0"},{"$f":"IF(ISNUMBER(SEARCH(\"11\",#REF!)),\"1\",\"0\")","v":"0"},{"$f":"IF(ISNUMBER(SEARCH(\"12\",#REF!)),\"1\",\"0\")","v":"0"},{"$f":"IF(ISNUMBER(SEARCH(\"13\",#REF!)),\"1\",\"0\")","v":"0"},{"$f":"IF(ISNUMBER(SEARCH(\"14\",#REF!)),\"1\",\"0\")","v":"0"},{"$f":"IF(ISNUMBER(SEARCH(\"15\",#REF!)),\"1\",\"0\")","v":"0"},{"$f":"IF(ISNUMBER(SEARCH(\"16\",#REF!)),\"1\",\"0\")","v":"0"},{"$f":"IF(ISNUMBER(SEARCH(\"17\",#REF!)),\"1\",\"0\")","v":"0"},1,null,null,9,28,10,20,{"$nulls":3},6,6,6,18,{"$nulls":4},{"$f":"#REF!-#REF!","v":{"$error":"#REF!"}},{"$f":"#REF!-#REF!","v":{"$error":"#REF!"}}]
[2,21,null,26,2,40,null,3,3,1,4,1,2,1,"1","0","0","0","0","0","0","0","0","0","0","0","0","0","0","0","0","0",null,1,3,5,1,{"$f":"IF(ISNUMBER(SEARCH(\"1\",#REF!)),\"1\",\"0\")","v":"0"},{"$f":"IF(ISNUMBER(SEARCH(\"2\",#REF!)),\"1\",\"0\")","v":"0"},{"$f":"IF(ISNUMBER(SEARCH(\"3\",#REF!)),\"1\",\"0\")","v":"0"},{"$f":"IF(ISNUMBER(SEARCH(\"4\",#REF!)),\"1\",\"0\")","v":"0"},{"$f":"IF(ISNUMBER(SEARCH(\"5\",#REF!)),\"1\",\"0\")","v":"0"},{"$f":"IF(ISNUMBER(SEARCH(\"6\",#REF!)),\"1\",\"0\")","v":"0"},{"$f":"IF(ISNUMBER(SEARCH(\"7\",#REF!)),\"1\",\"0\")","v":"0"},{"$f":"IF(ISNUMBER(SEARCH(\"8\",#REF!)),\"1\",\"0\")","v":"0"},{"$f":"IF(ISNUMBER(SEARCH(\"9\",#REF!)),\"1\",\"0\")","v":"0"},{"$f":"IF(ISNUMBER(SEARCH(\"9\",#REF!)),\"1\",\"0\")","v":"0"},{"$f":"IF(ISNUMBER(SEARCH(\"10\",#REF!)),\"1\",\"0\")","v":"0"},{"$f":"IF(ISNUMBER(SEARCH(\"11\",#REF!)),\"1\",\"0\")","v":"0"},{"$f":"IF(ISNUMBER(SEARCH(\"12\",#REF!)),\"1\",\"0\")","v":"0"},{"$f":"IF(ISNUMBER(SEARCH(\"13\",#REF!)),\"1\",\"0\")","v":"0"},{"$f":"IF(ISNUMBER(SEARCH(\"14\",#REF!)),\"1\",\"0\")","v":"0"},{"$f":"IF(ISNUMBER(SEARCH(\"15\",#REF!)),\"1\",\"0\")","v":"0"},{"$f":"IF(ISNUMBER(SEARCH(\"16\",#REF!)),\"1\",\"0\")","v":"0"},{"$f":"IF(ISNUMBER(SEARCH(\"17\",#REF!)),\"1\",\"0\")","v":"0"},{"$nulls":3},9,28,24,18,{"$nulls":11},{"$f":"#REF!-#REF!","v":{"$error":"#REF!"}}]
[2,21,null,30,1,50,null,3,7,1,2,5,6,"3, 14","1","0","1","1","0","0","0","0","0","0","0","0","0","1","0","0","0","0",null,1,3,5,2,{"$f":"IF(ISNUMBER(SEARCH(\"1\",#REF!)),\"1\",\"0\")","v":"0"},{"$f":"IF(ISNUMBER(SEARCH(\"2\",#REF!)),\"1\",\"0\")","v":"0"},{"$f":"IF(ISNUMBER(SEARCH(\"3\",#REF!)),\"1\",\"0\")","v":"0"},{"$f":"IF(ISNUMBER(SEARCH(\"4\",#REF!)),\"1\",\"0\")","v":"0"},{"$f":"IF(ISNUMBER(SEARCH(\"5\",#REF!)),\"1\",\"0\")","v":"0"},{"$f":"IF(ISNUMBER(SEARCH(\"6\",#REF!)),\"1\",\"0\")","v":"0"},{"$f":"IF(ISNUMBER(SEARCH(\"7\",#REF!)),\"1\",\"0\")","v":"0"},{"$f":"IF(ISNUMBER(SEARCH(\"8\",#REF!)),\"1\",\"0\")","v":"0"},{"$f":"IF(ISNUMBER(SEARCH(\"9\",#REF!)),\"1\",\"0\")","v":"0"},{"$f":"IF(ISNUMBER(SEARCH(\"9\",#REF!)),\"1\",\"0\")","v":"0"},{"$f":"IF(ISNUMBER(SEARCH(\"10\",#REF!)),\"1\",\"0\")","v":"0"},{"$f":"IF(ISNUMBER(SEARCH(\"11\",#REF!)),\"1\",\"0\")","v":"0"},{"$f":"IF(ISNUMBER(SEARCH(\"12\",#REF!)),\"1\",\"0\")","v":"0"},{"$f":"IF(ISNUMBER(SEARCH(\"13\",#REF!)),\"1\",\"0\")","v":"0"},{"$f":"IF(ISNUMBER(SEARCH(\"14\",#REF!)),\"1\",\"0\")","v":"0"},{"$f":"IF(ISNUMBER(SEARCH(\"15\",#REF!)),\"1\",\"0\")","v":"0"},{"$f":"IF(ISNUMBER(SEARCH(\"16\",#REF!)),\"1\",\"0\")","v":"0"},{"$f":"IF(ISNUMBER(SEARCH(\"17\",#REF!)),\"1\",\"0\")","v":"0"},1,3,null,3]
[2,21,null,27,2,38,null,2,3,1,5,5,2,1,"1","0","0","0","0","0","0","0","0","0","0","0","0","0","0","0","0","0",null,2,3,4,2,{"$f":"IF(ISNUMBER(SEARCH(\"1\",#REF!)),\"1\",\"0\")","v":"0"},{"$f":"IF(ISNUMBER(SEARCH(\"2\",#REF!)),\"1\",\"0\")","v":"0"},{"$f":"IF(ISNUMBER(SEARCH(\"3\",#REF!)),\"1\",\"0\")","v":"0"},{"$f":"IF(ISNUMBER(SEARCH(\"4\",#REF!)),\"1\",\"0\")","v":"0"},{"$f":"IF(ISNUMBER(SEARCH(\"5\",#REF!)),\"1\",\"0\")","v":"0"},{"$f":"IF(ISNUMBER(SEARCH(\"6\",#REF!)),\"1\",\"0\")","v":"0"},{"$f":"IF(ISNUMBER(SEARCH(\"7\",#REF!)),\"1\",\"0\")","v":"0"},{"$f":"IF(ISNUMBER(SEARCH(\"8\",#REF!)),\"1\",\"0\")","v":"0"},{"$f":"IF(ISNUMBER(SEARCH(\"9\",#REF!)),\"1\",\"0\")","v":"0"},{"$f":"IF(ISNUMBER(SEARCH(\"9\",#REF!)),\"1\",\"0\")","v":"0"},{"$f":"IF(ISNUMBER(SEARCH(\"10\",#REF!)),\"1\",\"0\")","v":"0"},{"$f":"IF(ISNUMBER(SEARCH(\"11\",#REF!)),\"1\",\"0\")","v":"0"},{"$f":"IF(ISNUMBER(SEARCH(\"12\",#REF!)),\"1\",\"0\")","v":"0"},{"$f":"IF(ISNUMBER(SEARCH(\"13\",#REF!)),\"1\",\"0\")","v":"0"},{"$f":"IF(ISNUMBER(SEARCH(\"14\",#REF!)),\"1\",\"0\")","v":"0"},{"$f":"IF(ISNUMBER(SEARCH(\"15\",#REF!)),\"1\",\"0\")","v":"0"},{"$f":"IF(ISNUMBER(SEARCH(\"16\",#REF!)),\"1\",\"0\")","v":"0"},{"$f":"IF(ISNUMBER(SEARCH(\"17\",#REF!)),\"1\",\"0\")","v":"0"},{"$nulls":3},9,10,8,12,{"$nulls":3},2,2,2,6,{"$nulls":4},{"$f":"#REF!-#REF!","v":{"$error":"#REF!"}},{"$f":"#REF!-#REF!","v":{"$error":"#REF!"}}]
[2,21,null,31,2,40,null,2,3,2,7,5,2,1,"1","0","0","0","0","0","0","0","0","0","0","0","0","0","0","0","0","0",null,1,2,null,null,{"$f":"IF(ISNUMBER(SEARCH(\"1\",#REF!)),\"1\",\"0\")","v":"0"},{"$f":"IF(ISNUMBER(SEARCH(\"2\",#REF!)),\"1\",\"0\")","v":"0"},{"$f":"IF(ISNUMBER(SEARCH(\"3\",#REF!)),\"1\",\"0\")","v":"0"},{"$f":"IF(ISNUMBER(SEARCH(\"4\",#REF!)),\"1\",\"0\")","v":"0"},{"$f":"IF(ISNUMBER(SEARCH(\"5\",#REF!)),\"1\",\"0\")","v":"0"},{"$f":"IF(ISNUMBER(SEARCH(\"6\",#REF!)),\"1\",\"0\")","v":"0"},{"$f":"IF(ISNUMBER(SEARCH(\"7\",#REF!)),\"1\",\"0\")","v":"0"},{"$f":"IF(ISNUMBER(SEARCH(\"8\",#REF!)),\"1\",\"0\")","v":"0"},{"$f":"IF(ISNUMBER(SEARCH(\"9\",#REF!)),\"1\",\"0\")","v":"0"},{"$f":"IF(ISNUMBER(SEARCH(\"9\",#REF!)),\"1\",\"0\")","v":"0"},{"$f":"IF(ISNUMBER(SEARCH(\"10\",#REF!)),\"1\",\"0\")","v":"0"},{"$f":"IF(ISNUMBER(SEARCH(\"11\",#REF!)),\"1\",\"0\")","v":"0"},{"$f":"IF(ISNUMBER(SEARCH(\"12\",#REF!)),\"1\",\"0\")","v":"0"},{"$f":"IF(ISNUMBER(SEARCH(\"13\",#REF!)),\"1\",\"0\")","v":"0"},{"$f":"IF(ISNUMBER(SEARCH(\"14\",#REF!)),\"1\",\"0\")","v":"0"},{"$f":"IF(ISNUMBER(SEARCH(\"15\",#REF!)),\"1\",\"0\")","v":"0"},{"$f":"IF(ISNUMBER(SEARCH(\"16\",#REF!)),\"1\",\"0\")","v":"0"},{"$f":"IF(ISNUMBER(SEARCH(\"17\",#REF!)),\"1\",\"0\")","v":"0"},{"$nulls":3},9,24,26,22,{"$nulls":3},6,6,6,18,{"$nulls":5},{"$f":"#REF!-#REF!","v":{"$error":"#REF!"}}]
[2,21,null,32,1,20,null,2,3,1,null,5,1,1,"1","0","0","0","0","0","0","0","0","0","0","0","0","0","0","0","0","0",null,1,3,5,2,{"$f":"IF(ISNUMBER(SEARCH(\"1\",#REF!)),\"1\",\"0\")","v":"0"},{"$f":"IF(ISNUMBER(SEARCH(\"2\",#REF!)),\"1\",\"0\")","v":"0"},{"$f":"IF(ISNUMBER(SEARCH(\"3\",#REF!)),\"1\",\"0\")","v":"0"},{"$f":"IF(ISNUMBER(SEARCH(\"4\",#REF!)),\"1\",\"0\")","v":"0"},{"$f":"IF(ISNUMBER(SEARCH(\"5\",#REF!)),\"1\",\"0\")","v":"0"},{"$f":"IF(ISNUMBER(SEARCH(\"6\",#REF!)),\"1\",\"0\")","v":"0"},{"$f":"IF(ISNUMBER(SEARCH(\"7\",#REF!)),\"1\",\"0\")","v":"0"},{"$f":"IF(ISNUMBER(SEARCH(\"8\",#REF!)),\"1\",\"0\")","v":"0"},{"$f":"IF(ISNUMBER(SEARCH(\"9\",#REF!)),\"1\",\"0\")","v":"0"},{"$f":"IF(ISNUMBER(SEARCH(\"9\",#REF!)),\"1\",\"0\")","v":"0"},{"$f":"IF(ISNUMBER(SEARCH(\"10\",#REF!)),\"1\",\"0\")","v":"0"},{"$f":"IF(ISNUMBER(SEARCH(\"11\",#REF!)),\"1\",\"0\")","v":"0"},{"$f":"IF(ISNUMBER(SEARCH(\"12\",#REF!)),\"1\",\"0\")","v":"0"},{"$f":"IF(ISNUMBER(SEARCH(\"13\",#REF!)),\"1\",\"0\")","v":"0"},{"$f":"IF(ISNUMBER(SEARCH(\"14\",#REF!)),\"1\",\"0\")","v":"0"},{"$f":"IF(ISNUMBER(SEARCH(\"15\",#REF!)),\"1\",\"0\")","v":"0"},{"$f":"IF(ISNUMBER(SEARCH(\"16\",#REF!)),\"1\",\"0\")","v":"0"},{"$f":"IF(ISNUMBER(SEARCH(\"17\",#REF!)),\"1\",\"0\")","v":"0"},{"$nulls":3},3,6,12,12,{"$nulls":3},2,2,0,4,{"$nulls":4},{"$f":"#REF!-#REF!","v":{"$error":"#REF!"}},{"$f":"#REF!-#REF!","v":{"$error":"#REF!"}}]
[2,21,null,32,2,53,null,3,8,1,7,3,2,1,"1","0","0","0","0","0","0","0","0","0","0","0","0","0","0","0","0","0",null,1,3,5,2,{"$f":"IF(ISNUMBER(SEARCH(\"1\",#REF!)),\"1\",\"0\")","v":"0"},{"$f":"IF(ISNUMBER(SEARCH(\"2\",#REF!)),\"1\",\"0\")","v":"0"},{"$f":"IF(ISNUMBER(SEARCH(\"3\",#REF!)),\"1\",\"0\")","v":"0"},{"$f":"IF(ISNUMBER(SEARCH(\"4\",#REF!)),\"1\",\"0\")","v":"0"},{"$f":"IF(ISNUMBER(SEARCH(\"5\",#REF!)),\"1\",\"0\")","v":"0"},{"$f":"IF(ISNUMBER(SEARCH(\"6\",#REF!)),\"1\",\"0\")","v":"0"},{"$f":"IF(ISNUMBER(SEARCH(\"7\",#REF!)),\"1\",\"0\")","v":"0"},{"$f":"IF(ISNUMBER(SEARCH(\"8\",#REF!)),\"1\",\"0\")","v":"0"},{"$f":"IF(ISNUMBER(SEARCH(\"9\",#REF!)),\"1\",\"0\")","v":"0"},{"$f":"IF(ISNUMBER(SEARCH(\"9\",#REF!)),\"1\",\"0\")","v":"0"},{"$f":"IF(ISNUMBER(SEARCH(\"10\",#REF!)),\"1\",\"0\")","v":"0"},{"$f":"IF(ISNUMBER(SEARCH(\"11\",#REF!)),\"1\",\"0\")","v":"0"},{"$f":"IF(ISNUMBER(SEARCH(\"12\",#REF!)),\"1\",\"0\")","v":"0"},{"$f":"IF(ISNUMBER(SEARCH(\"13\",#REF!)),\"1\",\"0\")","v":"0"},{"$f":"IF(ISNUMBER(SEARCH(\"14\",#REF!)),\"1\",\"0\")","v":"0"},{"$f":"IF(ISNUMBER(SEARCH(\"15\",#REF!)),\"1\",\"0\")","v":"0"},{"$f":"IF(ISNUMBER(SEARCH(\"16\",#REF!)),\"1\",\"0\")","v":"0"},{"$f":"IF(ISNUMBER(SEARCH(\"17\",#REF!)),\"1\",\"0\")","v":"0"},{"$nulls":3},3,18,12,22,{"$nulls":3},4,0,2,6,{"$nulls":4},{"$f":"#REF!-#REF!","v":{"$error":"#REF!"}},{"$f":"#REF!-#REF!","v":{"$error":"#REF!"}}]
[2,21,null,33,2,46,null,3,3,1,3,5,1,1,"1","0","0","0","0","0","0","0","0","0","0","0","0","0","0","0","0","0",null,1,3,5,2,{"$f":"IF(ISNUMBER(SEARCH(\"1\",#REF!)),\"1\",\"0\")","v":"0"},{"$f":"IF(ISNUMBER(SEARCH(\"2\",#REF!)),\"1\",\"0\")","v":"0"},{"$f":"IF(ISNUMBER(SEARCH(\"3\",#REF!)),\"1\",\"0\")","v":"0"},{"$f":"IF(ISNUMBER(SEARCH(\"4\",#REF!)),\"1\",\"0\")","v":"0"},{"$f":"IF(ISNUMBER(SEARCH(\"5\",#REF!)),\"1\",\"0\")","v":"0"},{"$f":"IF(ISNUMBER(SEARCH(\"6\",#REF!)),\"1\",\"0\")","v":"0"},{"$f":"IF(ISNUMBER(SEARCH(\"7\",#REF!)),\"1\",\"0\")","v":"0"},{"$f":"IF(ISNUMBER(SEARCH(\"8\",#REF!)),\"1\",\"0\")","v":"0"},{"$f":"IF(ISNUMBER(SEARCH(\"9\",#REF!)),\"1\",\"0\")","v":"0"},{"$f":"IF(ISNUMBER(SEARCH(\"9\",#REF!)),\"1\",\"0\")","v":"0"},{"$f":"IF(ISNUMBER(SEARCH(\"10\",#REF!)),\"1\",\"0\")","v":"0"},{"$f":"IF(ISNUMBER(SEARCH(\"11\",#REF!)),\"1\",\"0\")","v":"0"},{"$f":"IF(ISNUMBER(SEARCH(\"12\",#REF!)),\"1\",\"0\")","v":"0"},{"$f":"IF(ISNUMBER(SEARCH(\"13\",#REF!)),\"1\",\"0\")","v":"0"},{"$f":"IF(ISNUMBER(SEARCH(\"14\",#REF!)),\"1\",\"0\")","v":"0"},{"$f":"IF(ISNUMBER(SEARCH(\"15\",#REF!)),\"1\",\"0\")","v":"0"},{"$f":"IF(ISNUMBER(SEARCH(\"16\",#REF!)),\"1\",\"0\")","v":"0"},{"$f":"IF(ISNUMBER(SEARCH(\"17\",#REF!)),\"1\",\"0\")","v":"0"},{"$nulls":3},9]
[2,21,null,33,2,35,null,3,2,1,3,5,2,1,"1","0","0","0","0","0","0","0","0","0","0","0","0","0","0","0","0","0",null,1,7,5,2,{"$f":"IF(ISNUMBER(SEARCH(\"1\",#REF!)),\"1\",\"0\")","v":"0"},{"$f":"IF(ISNUMBER(SEARCH(\"2\",#REF!)),\"1\",\"0\")","v":"0"},{"$f":"IF(ISNUMBER(SEARCH(\"3\",#REF!)),\"1\",\"0\")","v":"0"},{"$f":"IF(ISNUMBER(SEARCH(\"4\",#REF!)),\"1\",\"0\")","v":"0"},{"$f":"IF(ISNUMBER(SEARCH(\"5\",#REF!)),\"1\",\"0\")","v":"0"},{"$f":"IF(ISNUMBER(SEARCH(\"6\",#REF!)),\"1\",\"0\")","v":"0"},{"$f":"IF(ISNUMBER(SEARCH(\"7\",#REF!)),\"1\",\"0\")","v":"0"},{"$f":"IF(ISNUMBER(SEARCH(\"8\",#REF!)),\"1\",\"0\")","v":"0"},{"$f":"IF(ISNUMBER(SEARCH(\"9\",#REF!)),\"1\",\"0\")","v":"0"},{"$f":"IF(ISNUMBER(SEARCH(\"9\",#REF!)),\"1\",\"0\")","v":"0"},{"$f":"IF(ISNUMBER(SEARCH(\"10\",#REF!)),\"1\",\"0\")","v":"0"},{"$f":"IF(ISNUMBER(SEARCH(\"11\",#REF!)),\"1\",\"0\")","v":"0"},{"$f":"IF(ISNUMBER(SEARCH(\"12\",#REF!)),\"1\",\"0\")","v":"0"},{"$f":"IF(ISNUMBER(SEARCH(\"13\",#REF!)),\"1\",\"0\")","v":"0"},{"$f":"IF(ISNUMBER(SEARCH(\"14\",#REF!)),\"1\",\"0\")","v":"0"},{"$f":"IF(ISNUMBER(SEARCH(\"15\",#REF!)),\"1\",\"0\")","v":"0"},{"$f":"IF(ISNUMBER(SEARCH(\"16\",#REF!)),\"1\",\"0\")","v":"0"},{"$f":"IF(ISNUMBER(SEARCH(\"17\",#REF!)),\"1\",\"0\")","v":"0"},{"$nulls":3},9]
[2,21,null,31,1,41,null,2,8,1,8,5,1,1,"1","0","0","0","0","0","0","0","0","0","0","0","0","0","0","0","0","0",null,1,3,5,2,{"$f":"IF(ISNUMBER(SEARCH(\"1\",#REF!)),\"1\",\"0\")","v":"0"},{"$f":"IF(ISNUMBER(SEARCH(\"2\",#REF!)),\"1\",\"0\")","v":"0"},{"$f":"IF(ISNUMBER(SEARCH(\"3\",#REF!)),\"1\",\"0\")","v":"0"},{"$f":"IF(ISNUMBER(SEARCH(\"4\",#REF!)),\"1\",\"0\")","v":"0"},{"$f":"IF(ISNUMBER(SEARCH(\"5\",#REF!)),\"1\",\"0\")","v":"0"},{"$f":"IF(ISNUMBER(SEARCH(\"6\",#REF!)),\"1\",\"0\")","v":"0"},{"$f":"IF(ISNUMBER(SEARCH(\"7\",#REF!)),\"1\",\"0\")","v":"0"},{"$f":"IF(ISNUMBER(SEARCH(\"8\",#REF!)),\"1\",\"0\")","v":"0"},{"$f":"IF(ISNUMBER(SEARCH(\"9\",#REF!)),\"1\",\"0\")","v":"0"},{"$f":"IF(ISNUMBER(SEARCH(\"9\",#REF!)),\"1\",\"0\")","v":"0"},{"$f":"IF(ISNUMBER(SEARCH(\"10\",#REF!)),\"1\",\"0\")","v":"0"},{"$f":"IF(ISNUMBER(SEARCH(\"11\",#REF!)),\"1\",\"0\")","v":"0"},{"$f":"IF(ISNUMBER(SEARCH(\"12\",#REF!)),\"1\",\"0\")","v":"0"},{"$f":"IF(ISNUMBER(SEARCH(\"13\",#REF!)),\"1\",\"0\")","v":"0"},{"$f":"IF(ISNUMBER(SEARCH(\"14\",#REF!)),\"1\",\"0\")","v":"0"},{"$f":"IF(ISNUMBER(SEARCH(\"15\",#REF!)),\"1\",\"0\")","v":"0"},{"$f":"IF(ISNUMBER(SEARCH(\"16\",#REF!)),\"1\",\"0\")","v":"0"},{"$f":"IF(ISNUMBER(SEARCH(\"17\",#REF!)),\"1\",\"0\")","v":"0"},{"$nulls":3},9,34,32,34,{"$nulls":3},4,4,4,12]
[2,21,null,24,2,41,null,2,3,1,5,3,2,"1, 16. Autre (SVP dans 20 case suivante) ","1","1","0","0","0","1","0","0","0","0","0","0","0","0","0","1","0","0",null,1,3,5,2,{"$f":"IF(ISNUMBER(SEARCH(\"1\",#REF!)),\"1\",\"0\")","v":"0"},{"$f":"IF(ISNUMBER(SEARCH(\"2\",#REF!)),\"1\",\"0\")","v":"0"},{"$f":"IF(ISNUMBER(SEARCH(\"3\",#REF!)),\"1\",\"0\")","v":"0"},{"$f":"IF(ISNUMBER(SEARCH(\"4\",#REF!)),\"1\",\"0\")","v":"0"},{"$f":"IF(ISNUMBER(SEARCH(\"5\",#REF!)),\"1\",\"0\")","v":"0"},{"$f":"IF(ISNUMBER(SEARCH(\"6\",#REF!)),\"1\",\"0\")","v":"0"},{"$f":"IF(ISNUMBER(SEARCH(\"7\",#REF!)),\"1\",\"0\")","v":"0"},{"$f":"IF(ISNUMBER(SEARCH(\"8\",#REF!)),\"1\",\"0\")","v":"0"},{"$f":"IF(ISNUMBER(SEARCH(\"9\",#REF!)),\"1\",\"0\")","v":"0"},{"$f":"IF(ISNUMBER(SEARCH(\"9\",#REF!)),\"1\",\"0\")","v":"0"},{"$f":"IF(ISNUMBER(SEARCH(\"10\",#REF!)),\"1\",\"0\")","v":"0"},{"$f":"IF(ISNUMBER(SEARCH(\"11\",#REF!)),\"1\",\"0\")","v":"0"},{"$f":"IF(ISNUMBER(SEARCH(\"12\",#REF!)),\"1\",\"0\")","v":"0"},{"$f":"IF(ISNUMBER(SEARCH(\"13\",#REF!)),\"1\",\"0\")","v":"0"},{"$f":"IF(ISNUMBER(SEARCH(\"14\",#REF!)),\"1\",\"0\")","v":"0"},{"$f":"IF(ISNUMBER(SEARCH(\"15\",#REF!)),\"1\",\"0\")","v":"0"},{"$f":"IF(ISNUMBER(SEARCH(\"16\",#REF!)),\"1\",\"0\")","v":"0"},{"$f":"IF(ISNUMBER(SEARCH(\"17\",#REF!)),\"1\",\"0\")","v":"0"},{"$nulls":3},9,28,12,12]
[2,21,null,25,1,18,null,3,3,2,5,1,5,"3, 15. Insultes / a reçu des menaces","1","0","1","0","1","0","0","0","0","0","0","0","0","0","1","0","0","0",null,1,5,5,2,{"$f":"IF(ISNUMBER(SEARCH(\"1\",#REF!)),\"1\",\"0\")","v":"0"},{"$f":"IF(ISNUMBER(SEARCH(\"2\",#REF!)),\"1\",\"0\")","v":"0"},{"$f":"IF(ISNUMBER(SEARCH(\"3\",#REF!)),\"1\",\"0\")","v":"0"},{"$f":"IF(ISNUMBER(SEARCH(\"4\",#REF!)),\"1\",\"0\")","v":"0"},{"$f":"IF(ISNUMBER(SEARCH(\"5\",#REF!)),\"1\",\"0\")","v":"0"},{"$f":"IF(ISNUMBER(SEARCH(\"6\",#REF!)),\"1\",\"0\")","v":"0"},{"$f":"IF(ISNUMBER(SEARCH(\"7\",#REF!)),\"1\",\"0\")","v":"0"},{"$f":"IF(ISNUMBER(SEARCH(\"8\",#REF!)),\"1\",\"0\")","v":"0"},{"$f":"IF(ISNUMBER(SEARCH(\"9\",#REF!)),\"1\",\"0\")","v":"0"},{"$f":"IF(ISNUMBER(SEARCH(\"9\",#REF!)),\"1\",\"0\")","v":"0"},{"$f":"IF(ISNUMBER(SEARCH(\"10\",#REF!)),\"1\",\"0\")","v":"0"},{"$f":"IF(ISNUMBER(SEARCH(\"11\",#REF!)),\"1\",\"0\")","v":"0"},{"$f":"IF(ISNUMBER(SEARCH(\"12\",#REF!)),\"1\",\"0\")","v":"0"},{"$f":"IF(ISNUMBER(SEARCH(\"13\",#REF!)),\"1\",\"0\")","v":"0"},{"$f":"IF(ISNUMBER(SEARCH(\"14\",#REF!)),\"1\",\"0\")","v":"0"},{"$f":"IF(ISNUMBER(SEARCH(\"15\",#REF!)),\"1\",\"0\")","v":"0"},{"$f":"IF(ISNUMBER(SEARCH(\"16\",#REF!)),\"1\",\"0\")","v":"0"},{"$f":"IF(ISNUMBER(SEARCH(\"17\",#REF!)),\"1\",\"0\")","v":"0"},1,null,null,9]
[2,21,null,30,2,54,null,3,7,2,6,3,6,"3, 14","1","0","1","1","0","0","0","0","0","0","0","0","0","1","0","0","0","0",null,2,4,5,2,{"$f":"IF(ISNUMBER(SEARCH(\"1\",#REF!)),\"1\",\"0\")","v":"0"},{"$f":"IF(ISNUMBER(SEARCH(\"2\",#REF!)),\"1\",\"0\")","v":"0"},{"$f":"IF(ISNUMBER(SEARCH(\"3\",#REF!)),\"1\",\"0\")","v":"0"},{"$f":"IF(ISNUMBER(SEARCH(\"4\",#REF!)),\"1\",\"0\")","v":"0"},{"$f":"IF(ISNUMBER(SEARCH(\"5\",#REF!)),\"1\",\"0\")","v":"0"},{"$f":"IF(ISNUMBER(SEARCH(\"6\",#REF!)),\"1\",\"0\")","v":"0"},{"$f":"IF(ISNUMBER(SEARCH(\"7\",#REF!)),\"1\",\"0\")","v":"0"},{"$f":"IF(ISNUMBER(SEARCH(\"8\",#REF!)),\"1\",\"0\")","v":"0"},{"$f":"IF(ISNUMBER(SEARCH(\"9\",#REF!)),\"1\",\"0\")","v":"0"},{"$f":"IF(ISNUMBER(SEARCH(\"9\",#REF!)),\"1\",\"0\")","v":"0"},{"$f":"IF(ISNUMBER(SEARCH(\"10\",#REF!)),\"1\",\"0\")","v":"0"},{"$f":"IF(ISNUMBER(SEARCH(\"11\",#REF!)),\"1\",\"0\")","v":"0"},{"$f":"IF(ISNUMBER(SEARCH(\"12\",#REF!)),\"1\",\"0\")","v":"0"},{"$f":"IF(ISNUMBER(SEARCH(\"13\",#REF!)),\"1\",\"0\")","v":"0"},{"$f":"IF(ISNUMBER(SEARCH(\"14\",#REF!)),\"1\",\"0\")","v":"0"},{"$f":"IF(ISNUMBER(SEARCH(\"15\",#REF!)),\"1\",\"0\")","v":"0"},{"$f":"IF(ISNUMBER(SEARCH(\"16\",#REF!)),\"1\",\"0\")","v":"0"},{"$f":"IF(ISNUMBER(SEARCH(\"17\",#REF!)),\"1\",\"0\")","v":"0"},1,3,null,3,30,14,32,{"$nulls":3},10,0,14,24,{"$nulls":4},{"$f":"#REF!-#REF!","v":{"$error":"#REF!"}},{"$f":"#REF!-#REF!","v":{"$error":"#REF!"}}]
[2,21,null,30,1,32,null,3,7,2,2,8,1,3,"0","0","1","0","0","0","0","0","0","0","0","0","0","0","0","0","0","0",null,1,4,5,2,{"$f":"IF(ISNUMBER(SEARCH(\"1\",#REF!)),\"1\",\"0\")","v":"0"},{"$f":"IF(ISNUMBER(SEARCH(\"2\",#REF!)),\"1\",\"0\")","v":"0"},{"$f":"IF(ISNUMBER(SEARCH(\"3\",#REF!)),\"1\",\"0\")","v":"0"},{"$f":"IF(ISNUMBER(SEARCH(\"4\",#REF!)),\"1\",\"0\")","v":"0"},{"$f":"IF(ISNUMBER(SEARCH(\"5\",#REF!)),\"1\",\"0\")","v":"0"},{"$f":"IF(ISNUMBER(SEARCH(\"6\",#REF!)),\"1\",\"0\")","v":"0"},{"$f":"IF(ISNUMBER(SEARCH(\"7\",#REF!)),\"1\",\"0\")","v":"0"},{"$f":"IF(ISNUMBER(SEARCH(\"8\",#REF!)),\"1\",\"0\")","v":"0"},{"$f":"IF(ISNUMBER(SEARCH(\"9\",#REF!)),\"1\",\"0\")","v":"0"},{"$f":"IF(ISNUMBER(SEARCH(\"9\",#REF!)),\"1\",\"0\")","v":"0"},{"$f":"IF(ISNUMBER(SEARCH(\"10\",#REF!)),\"1\",\"0\")","v":"0"},{"$f":"IF(ISNUMBER(SEARCH(\"11\",#REF!)),\"1\",\"0\")","v":"0"},{"$f":"IF(ISNUMBER(SEARCH(\"12\",#REF!)),\"1\",\"0\")","v":"0"},{"$f":"IF(ISNUMBER(SEARCH(\"13\",#REF!)),\"1\",\"0\")","v":"0"},{"$f":"IF(ISNUMBER(SEARCH(\"14\",#REF!)),\"1\",\"0\")","v":"0"},{"$f":"IF(ISNUMBER(SEARCH(\"15\",#REF!)),\"1\",\"0\")","v":"0"},{"$f":"IF(ISNUMBER(SEARCH(\"16\",#REF!)),\"1\",\"0\")","v":"0"},{"$f":"IF(ISNUMBER(SEARCH(\"17\",#REF!)),\"1\",\"0\")","v":"0"},1,3,null,3,28,16,28,{"$nulls":3},12,2,12,26,{"$nulls":4},{"$f":"#REF!-#REF!","v":{"$error":"#REF!"}},{"$f":"#REF!-#REF!","v":{"$error":"#REF!"}}]
[2,21,null,29,2,45,null,3,3,1,4,5,2,null,"0","0","0","0","0","0","0","0","0","0","0","0","0","0","0","0","0","0",null,1,3,5,2,{"$f":"IF(ISNUMBER(SEARCH(\"1\",#REF!)),\"1\",\"0\")","v":"0"},{"$f":"IF(ISNUMBER(SEARCH(\"2\",#REF!)),\"1\",\"0\")","v":"0"},{"$f":"IF(ISNUMBER(SEARCH(\"3\",#REF!)),\"1\",\"0\")","v":"0"},{"$f":"IF(ISNUMBER(SEARCH(\"4\",#REF!)),\"1\",\"0\")","v":"0"},{"$f":"IF(ISNUMBER(SEARCH(\"5\",#REF!)),\"1\",\"0\")","v":"0"},{"$f":"IF(ISNUMBER(SEARCH(\"6\",#REF!)),\"1\",\"0\")","v":"0"},{"$f":"IF(ISNUMBER(SEARCH(\"7\",#REF!)),\"1\",\"0\")","v":"0"},{"$f":"IF(ISNUMBER(SEARCH(\"8\",#REF!)),\"1\",\"0\")","v":"0"},{"$f":"IF(ISNUMBER(SEARCH(\"9\",#REF!)),\"1\",\"0\")","v":"0"},{"$f":"IF(ISNUMBER(SEARCH(\"9\",#REF!)),\"1\",\"0\")","v":"0"},{"$f":"IF(ISNUMBER(SEARCH(\"10\",#REF!)),\"1\",\"0\")","v":"0"},{"$f":"IF(ISNUMBER(SEARCH(\"11\",#REF!)),\"1\",\"0\")","v":"0"},{"$f":"IF(ISNUMBER(SEARCH(\"12\",#REF!)),\"1\",\"0\")","v":"0"},{"$f":"IF(ISNUMBER(SEARCH(\"13\",#REF!)),\"1\",\"0\")","v":"0"},{"$f":"IF(ISNUMBER(SEARCH(\"14\",#REF!)),\"1\",\"0\")","v":"0"},{"$f":"IF(ISNUMBER(SEARCH(\"15\",#REF!)),\"1\",\"0\")","v":"0"},{"$f":"IF(ISNUMBER(SEARCH(\"16\",#REF!)),\"1\",\"0\")","v":"0"},{"$f":"IF(ISNUMBER(SEARCH(\"17\",#REF!)),\"1\",\"0\")","v":"0"},{"$nulls":3},9,14,14,6,{"$nulls":3},2,4,2,8,{"$nulls":4},{"$f":"#REF!-#REF!","v":{"$error":"#REF!"}},{"$f":"#REF!-#REF!","v":{"$error":"#REF!"}}]
[2,21,null,29,2,30,null,3,3,1,2,3,2,3,"0","0","1","0","0","0","0","0","0","0","0","0","0","0","0","0","0","0",null,1,3,5,1,{"$f":"IF(ISNUMBER(SEARCH(\"1\",#REF!)),\"1\",\"0\")","v":"0"},{"$f":"IF(ISNUMBER(SEARCH(\"2\",#REF!)),\"1\",\"0\")","v":"0"},{"$f":"IF(ISNUMBER(SEARCH(\"3\",#REF!)),\"1\",\"0\")","v":"0"},{"$f":"IF(ISNUMBER(SEARCH(\"4\",#REF!)),\"1\",\"0\")","v":"0"},{"$f":"IF(ISNUMBER(SEARCH(\"5\",#REF!)),\"1\",\"0\")","v":"0"},{"$f":"IF(ISNUMBER(SEARCH(\"6\",#REF!)),\"1\",\"0\")","v":"0"},{"$f":"IF(ISNUMBER(SEARCH(\"7\",#REF!)),\"1\",\"0\")","v":"0"},{"$f":"IF(ISNUMBER(SEARCH(\"8\",#REF!)),\"1\",\"0\")","v":"0"},{"$f":"IF(ISNUMBER(SEARCH(\"9\",#REF!)),\"1\",\"0\")","v":"0"},{"$f":"IF(ISNUMBER(SEARCH(\"9\",#REF!)),\"1\",\"0\")","v":"0"},{"$f":"IF(ISNUMBER(SEARCH(\"10\",#REF!)),\"1\",\"0\")","v":"0"},{"$f":"IF(ISNUMBER(SEARCH(\"11\",#REF!)),\"1\",\"0\")","v":"0"},{"$f":"IF(ISNUMBER(SEARCH(\"12\",#REF!)),\"1\",\"0\")","v":"0"},{"$f":"IF(ISNUMBER(SEARCH(\"13\",#REF!)),\"1\",\"0\")","v":"0"},{"$f":"IF(ISNUMBER(SEARCH(\"14\",#REF!)),\"1\",\"0\")","v":"0"},{"$f":"IF(ISNUMBER(SEARCH(\"15\",#REF!)),\"1\",\"0\")","v":"0"},{"$f":"IF(ISNUMBER(SEARCH(\"16\",#REF!)),\"1\",\"0\")","v":"0"},{"$f":"IF(ISNUMBER(SEARCH(\"17\",#REF!)),\"1\",\"0\")","v":"0"},1,3,null,3,18,20,14,{"$nulls":3},0,4,2,6,{"$nulls":4},{"$f":"#REF!-#REF!","v":{"$error":"#REF!"}},{"$f":"#REF!-#REF!","v":{"$error":"#REF!"}}]
[2,21,null,27,2,36,null,3,2,1,null,5,1,2,"0","1","0","0","0","0","0","0","0","0","0","0","0","0","0","0","0","0",null,1,7,5,2,{"$f":"IF(ISNUMBER(SEARCH(\"1\",#REF!)),\"1\",\"0\")","v":"0"},{"$f":"IF(ISNUMBER(SEARCH(\"2\",#REF!)),\"1\",\"0\")","v":"0"},{"$f":"IF(ISNUMBER(SEARCH(\"3\",#REF!)),\"1\",\"0\")","v":"0"},{"$f":"IF(ISNUMBER(SEARCH(\"4\",#REF!)),\"1\",\"0\")","v":"0"},{"$f":"IF(ISNUMBER(SEARCH(\"5\",#REF!)),\"1\",\"0\")","v":"0"},{"$f":"IF(ISNUMBER(SEARCH(\"6\",#REF!)),\"1\",\"0\")","v":"0"},{"$f":"IF(ISNUMBER(SEARCH(\"7\",#REF!)),\"1\",\"0\")","v":"0"},{"$f":"IF(ISNUMBER(SEARCH(\"8\",#REF!)),\"1\",\"0\")","v":"0"},{"$f":"IF(ISNUMBER(SEARCH(\"9\",#REF!)),\"1\",\"0\")","v":"0"},{"$f":"IF(ISNUMBER(SEARCH(\"9\",#REF!)),\"1\",\"0\")","v":"0"},{"$f":"IF(ISNUMBER(SEARCH(\"10\",#REF!)),\"1\",\"0\")","v":"0"},{"$f":"IF(ISNUMBER(SEARCH(\"11\",#REF!)),\"1\",\"0\")","v":"0"},{"$f":"IF(ISNUMBER(SEARCH(\"12\",#REF!)),\"1\",\"0\")","v":"0"},{"$f":"IF(ISNUMBER(SEARCH(\"13\",#REF!)),\"1\",\"0\")","v":"0"},{"$f":"IF(ISNUMBER(SEARCH(\"14\",#REF!)),\"1\",\"0\")","v":"0"},{"$f":"IF(ISNUMBER(SEARCH(\"15\",#REF!)),\"1\",\"0\")","v":"0"},{"$f":"IF(ISNUMBER(SEARCH(\"16\",#REF!)),\"1\",\"0\")","v":"0"},{"$f":"IF(ISNUMBER(SEARCH(\"17\",#REF!)),\"1\",\"0\")","v":"0"},{"$nulls":3},9]
[2,21,null,27,2,25,null,3,3,1,4,5,2,2,"0","1","0","0","0","0","0","0","0","0","0","0","0","0","0","0","0","0",null,2,7,5,2,{"$f":"IF(ISNUMBER(SEARCH(\"1\",#REF!)),\"1\",\"0\")","v":"0"},{"$f":"IF(ISNUMBER(SEARCH(\"2\",#REF!)),\"1\",\"0\")","v":"0"},{"$f":"IF(ISNUMBER(SEARCH(\"3\",#REF!)),\"1\",\"0\")","v":"0"},{"$f":"IF(ISNUMBER(SEARCH(\"4\",#REF!)),\"1\",\"0\")","v":"0"},{"$f":"IF(ISNUMBER(SEARCH(\"5\",#REF!)),\"1\",\"0\")","v":"0"},{"$f":"IF(ISNUMBER(SEARCH(\"6\",#REF!)),\"1\",\"0\")","v":"0"},{"$f":"IF(ISNUMBER(SEARCH(\"7\",#REF!)),\"1\",\"0\")","v":"0"},{"$f":"IF(ISNUMBER(SEARCH(\"8\",#REF!)),\"1\",\"0\")","v":"0"},{"$f":"IF(ISNUMBER(SEARCH(\"9\",#REF!)),\"1\",\"0\")","v":"0"},{"$f":"IF(ISNUMBER(SEARCH(\"9\",#REF!)),\"1\",\"0\")","v":"0"},{"$f":"IF(ISNUMBER(SEARCH(\"10\",#REF!)),\"1\",\"0\")","v":"0"},{"$f":"IF(ISNUMBER(SEARCH(\"11\",#REF!)),\"1\",\"0\")","v":"0"},{"$f":"IF(ISNUMBER(SEARCH(\"12\",#REF!)),\"1\",\"0\")","v":"0"},{"$f":"IF(ISNUMBER(SEARCH(\"13\",#REF!)),\"1\",\"0\")","v":"0"},{"$f":"IF(ISNUMBER(SEARCH(\"14\",#REF!)),\"1\",\"0\")","v":"0"},{"$f":"IF(ISNUMBER(SEARCH(\"15\",#REF!)),\"1\",\"0\")","v":"0"},{"$f":"IF(ISNUMBER(SEARCH(\"16\",#REF!)),\"1\",\"0\")","v":"0"},{"$f":"IF(ISNUMBER(SEARCH(\"17\",#REF!)),\"1\",\"0\")","v":"0"},{"$nulls":3},9]
[2,21,null,27,1,33,null,2,3,1,6,8,2,3,"0","0","1","0","0","0","0","0","0","0","0","0","0","0","0","0","0","0",null,1,7,5,2,{"$f":"IF(ISNUMBER(SEARCH(\"1\",#REF!)),\"1\",\"0\")","v":"0"},{"$f":"IF(ISNUMBER(SEARCH(\"2\",#REF!)),\"1\",\"0\")","v":"0"},{"$f":"IF(ISNUMBER(SEARCH(\"3\",#REF!)),\"1\",\"0\")","v":"0"},{"$f":"IF(ISNUMBER(SEARCH(\"4\",#REF!)),\"1\",\"0\")","v":"0"},{"$f":"IF(ISNUMBER(SEARCH(\"5\",#REF!)),\"1\",\"0\")","v":"0"},{"$f":"IF(ISNUMBER(SEARCH(\"6\",#REF!)),\"1\",\"0\")","v":"0"},{"$f":"IF(ISNUMBER(SEARCH(\"7\",#REF!)),\"1\",\"0\")","v":"0"},{"$f":"IF(ISNUMBER(SEARCH(\"8\",#REF!)),\"1\",\"0\")","v":"0"},{"$f":"IF(ISNUMBER(SEARCH(\"9\",#REF!)),\"1\",\"0\")","v":"0"},{"$f":"IF(ISNUMBER(SEARCH(\"9\",#REF!)),\"1\",\"0\")","v":"0"},{"$f":"IF(ISNUMBER(SEARCH(\"10\",#REF!)),\"1\",\"0\")","v":"0"},{"$f":"IF(ISNUMBER(SEARCH(\"11\",#REF!)),\"1\",\"0\")","v":"0"},{"$f":"IF(ISNUMBER(SEARCH(\"12\",#REF!)),\"1\",\"0\")","v":"0"},{"$f":"IF(ISNUMBER(SEARCH(\"13\",#REF!)),\"1\",\"0\")","v":"0"},{"$f":"IF(ISNUMBER(SEARCH(\"14\",#REF!)),\"1\",\"0\")","v":"0"},{"$f":"IF(ISNUMBER(SEARCH(\"15\",#REF!)),\"1\",\"0\")","v":"0"},{"$f":"IF(ISNUMBER(SEARCH(\"16\",#REF!)),\"1\",\"0\")","v":"0"},{"$f":"IF(ISNUMBER(SEARCH(\"17\",#REF!)),\"1\",\"0\")","v":"0"},{"$nulls":3},9,16,10,16,{"$nulls":3},8,6,4,18,{"$nulls":4},{"$f":"#REF!-#REF!","v":{"$error":"#REF!"}},{"$f":"#REF!-#REF!","v":{"$error":"#REF!"}}]
[2,21,null,3,2,37,null,1,3,1,null,5,2,"4. Tentative de Viol","0","0","0","1","0","0","0","0","0","0","0","0","0","0","0","0","0","0",null,1,2,5,1,{"$f":"IF(ISNUMBER(SEARCH(\"1\",#REF!)),\"1\",\"0\")","v":"0"},{"$f":"IF(ISNUMBER(SEARCH(\"2\",#REF!)),\"1\",\"0\")","v":"0"},{"$f":"IF(ISNUMBER(SEARCH(\"3\",#REF!)),\"1\",\"0\")","v":"0"},{"$f":"IF(ISNUMBER(SEARCH(\"4\",#REF!)),\"1\",\"0\")","v":"0"},{"$f":"IF(ISNUMBER(SEARCH(\"5\",#REF!)),\"1\",\"0\")","v":"0"},{"$f":"IF(ISNUMBER(SEARCH(\"6\",#REF!)),\"1\",\"0\")","v":"0"},{"$f":"IF(ISNUMBER(SEARCH(\"7\",#REF!)),\"1\",\"0\")","v":"0"},{"$f":"IF(ISNUMBER(SEARCH(\"8\",#REF!)),\"1\",\"0\")","v":"0"},{"$f":"IF(ISNUMBER(SEARCH(\"9\",#REF!)),\"1\",\"0\")","v":"0"},{"$f":"IF(ISNUMBER(SEARCH(\"9\",#REF!)),\"1\",\"0\")","v":"0"},{"$f":"IF(ISNUMBER(SEARCH(\"10\",#REF!)),\"1\",\"0\")","v":"0"},{"$f":"IF(ISNUMBER(SEARCH(\"11\",#REF!)),\"1\",\"0\")","v":"0"},{"$f":"IF(ISNUMBER(SEARCH(\"12\",#REF!)),\"1\",\"0\")","v":"0"},{"$f":"IF(ISNUMBER(SEARCH(\"13\",#REF!)),\"1\",\"0\")","v":"0"},{"$f":"IF(ISNUMBER(SEARCH(\"14\",#REF!)),\"1\",\"0\")","v":"0"},{"$f":"IF(ISNUMBER(SEARCH(\"15\",#REF!)),\"1\",\"0\")","v":"0"},{"$f":"IF(ISNUMBER(SEARCH(\"16\",#REF!)),\"1\",\"0\")","v":"0"},{"$f":"IF(ISNUMBER(SEARCH(\"17\",#REF!)),\"1\",\"0\")","v":"0"},{"$nulls":3},9,12,20,8,{"$nulls":3},12,4,2,18,{"$nulls":4},{"$f":"#REF!-#REF!","v":{"$error":"#REF!"}},{"$f":"#REF!-#REF!","v":{"$error":"#REF!"}}]
[2,21,null,3,1,36,null,1,3,1,2,4,6,3,"0","0","1","0","0","0","0","0","0","0","0","0","0","0","0","0","0","0",null,1,2,5,2,{"$f":"IF(ISNUMBER(SEARCH(\"1\",#REF!)),\"1\",\"0\")","v":"0"},{"$f":"IF(ISNUMBER(SEARCH(\"2\",#REF!)),\"1\",\"0\")","v":"0"},{"$f":"IF(ISNUMBER(SEARCH(\"3\",#REF!)),\"1\",\"0\")","v":"0"},{"$f":"IF(ISNUMBER(SEARCH(\"4\",#REF!)),\"1\",\"0\")","v":"0"},{"$f":"IF(ISNUMBER(SEARCH(\"5\",#REF!)),\"1\",\"0\")","v":"0"},{"$f":"IF(ISNUMBER(SEARCH(\"6\",#REF!)),\"1\",\"0\")","v":"0"},{"$f":"IF(ISNUMBER(SEARCH(\"7\",#REF!)),\"1\",\"0\")","v":"0"},{"$f":"IF(ISNUMBER(SEARCH(\"8\",#REF!)),\"1\",\"0\")","v":"0"},{"$f":"IF(ISNUMBER(SEARCH(\"9\",#REF!)),\"1\",\"0\")","v":"0"},{"$f":"IF(ISNUMBER(SEARCH(\"9\",#REF!)),\"1\",\"0\")","v":"0"},{"$f":"IF(ISNUMBER(SEARCH(\"10\",#REF!)),\"1\",\"0\")","v":"0"},{"$f":"IF(ISNUMBER(SEARCH(\"11\",#REF!)),\"1\",\"0\")","v":"0"},{"$f":"IF(ISNUMBER(SEARCH(\"12\",#REF!)),\"1\",\"0\")","v":"0"},{"$f":"IF(ISNUMBER(SEARCH(\"13\",#REF!)),\"1\",\"0\")","v":"0"},{"$f":"IF(ISNUMBER(SEARCH(\"14\",#REF!)),\"1\",\"0\")","v":"0"},{"$f":"IF(ISNUMBER(SEARCH(\"15\",#REF!)),\"1\",\"0\")","v":"0"},{"$f":"IF(ISNUMBER(SEARCH(\"16\",#REF!)),\"1\",\"0\")","v":"0"},{"$f":"IF(ISNUMBER(SEARCH(\"17\",#REF!)),\"1\",\"0\")","v":"0"},{"$nulls":3},9,6,18,16,{"$nulls":3},2,4,6,12,{"$nulls":4},{"$f":"#REF!-#REF!","v":{"$error":"#REF!"}},{"$f":"#REF!-#REF!","v":{"$error":"#REF!"}}]
[2,21,null,3,2,22,null,2,3,1,6,3,2,3,"0","0","1","0","0","0","0","0","0","0","0","0","0","0","0","0","0","0",null,1,2,5,2,{"$f":"IF(ISNUMBER(SEARCH(\"1\",#REF!)),\"1\",\"0\")","v":"0"},0,{"$f":"IF(ISNUMBER(SEARCH(\"3\",#REF!)),\"1\",\"0\")","v":"0"},{"$f":"IF(ISNUMBER(SEARCH(\"4\",#REF!)),\"1\",\"0\")","v":"0"},{"$f":"IF(ISNUMBER(SEARCH(\"5\",#REF!)),\"1\",\"0\")","v":"0"},{"$f":"IF(ISNUMBER(SEARCH(\"6\",#REF!)),\"1\",\"0\")","v":"0"},{"$f":"IF(ISNUMBER(SEARCH(\"7\",#REF!)),\"1\",\"0\")","v":"0"},{"$f":"IF(ISNUMBER(SEARCH(\"8\",#REF!)),\"1\",\"0\")","v":"0"},{"$f":"IF(ISNUMBER(SEARCH(\"9\",#REF!)),\"1\",\"0\")","v":"0"},{"$f":"IF(ISNUMBER(SEARCH(\"9\",#REF!)),\"1\",\"0\")","v":"0"},{"$f":"IF(ISNUMBER(SEARCH(\"10\",#REF!)),\"1\",\"0\")","v":"0"},{"$f":"IF(ISNUMBER(SEARCH(\"11\",#REF!)),\"1\",\"0\")","v":"0"},{"$f":"IF(ISNUMBER(SEARCH(\"12\",#REF!)),\"1\",\"0\")","v":"0"},{"$f":"IF(ISNUMBER(SEARCH(\"13\",#REF!)),\"1\",\"0\")","v":"0"},{"$f":"IF(ISNUMBER(SEARCH(\"14\",#REF!)),\"1\",\"0\")","v":"0"},{"$f":"IF(ISNUMBER(SEARCH(\"15\",#REF!)),\"1\",\"0\")","v":"0"},{"$f":"IF(ISNUMBER(SEARCH(\"16\",#REF!)),\"1\",\"0\")","v":"0"},{"$f":"IF(ISNUMBER(SEARCH(\"17\",#REF!)),\"1\",\"0\")","v":"0"},{"$nulls":3},9,18,8,6,{"$nulls":3},2,2,4,8,{"$nulls":4},{"$f":"#REF!-#REF!","v":{"$error":"#REF!"}},{"$f":"#REF!-#REF!","v":{"$error":"#REF!"}}]
[2,21,null,35,2,40,null,2,3,1,4,5,2,14,"1","0","0","1","0","0","0","0","0","0","0","0","0","1","0","0","0","0",null,1,2,4,2,{"$f":"IF(ISNUMBER(SEARCH(\"1\",#REF!)),\"1\",\"0\")","v":"0"},0,{"$f":"IF(ISNUMBER(SEARCH(\"3\",#REF!)),\"1\",\"0\")","v":"0"},{"$f":"IF(ISNUMBER(SEARCH(\"4\",#REF!)),\"1\",\"0\")","v":"0"},{"$f":"IF(ISNUMBER(SEARCH(\"5\",#REF!)),\"1\",\"0\")","v":"0"},{"$f":"IF(ISNUMBER(SEARCH(\"6\",#REF!)),\"1\",\"0\")","v":"0"},{"$f":"IF(ISNUMBER(SEARCH(\"7\",#REF!)),\"1\",\"0\")","v":"0"},{"$f":"IF(ISNUMBER(SEARCH(\"8\",#REF!)),\"1\",\"0\")","v":"0"},{"$f":"IF(ISNUMBER(SEARCH(\"9\",#REF!)),\"1\",\"0\")","v":"0"},{"$f":"IF(ISNUMBER(SEARCH(\"9\",#REF!)),\"1\",\"0\")","v":"0"},{"$f":"IF(ISNUMBER(SEARCH(\"10\",#REF!)),\"1\",\"0\")","v":"0"},{"$f":"IF(ISNUMBER(SEARCH(\"11\",#REF!)),\"1\",\"0\")","v":"0"},{"$f":"IF(ISNUMBER(SEARCH(\"12\",#REF!)),\"1\",\"0\")","v":"0"},{"$f":"IF(ISNUMBER(SEARCH(\"13\",#REF!)),\"1\",\"0\")","v":"0"},{"$f":"IF(ISNUMBER(SEARCH(\"14\",#REF!)),\"1\",\"0\")","v":"0"},{"$f":"IF(ISNUMBER(SEARCH(\"15\",#REF!)),\"1\",\"0\")","v":"0"},{"$f":"IF(ISNUMBER(SEARCH(\"16\",#REF!)),\"1\",\"0\")","v":"0"},{"$f":"IF(ISNUMBER(SEARCH(\"17\",#REF!)),\"1\",\"0\")","v":"0"},{"$nulls":3},9,18,16,20,{"$nulls":3},10,10,14,34,{"$nulls":4},{"$f":"#REF!-#REF!","v":{"$error":"#REF!"}},{"$f":"#REF!-#REF!","v":{"$error":"#REF!"}}]
[2,21,null,35,1,20,null,1,3,1,4,5,2,3,"0","0","1","0","0","0","0","0","0","0","0","0","0","0","0","0","0","0",null,1,3,5,2,{"$f":"IF(ISNUMBER(SEARCH(\"1\",#REF!)),\"1\",\"0\")","v":"0"},0,{"$f":"IF(ISNUMBER(SEARCH(\"3\",#REF!)),\"1\",\"0\")","v":"0"},{"$f":"IF(ISNUMBER(SEARCH(\"4\",#REF!)),\"1\",\"0\")","v":"0"},{"$f":"IF(ISNUMBER(SEARCH(\"5\",#REF!)),\"1\",\"0\")","v":"0"},{"$f":"IF(ISNUMBER(SEARCH(\"6\",#REF!)),\"1\",\"0\")","v":"0"},{"$f":"IF(ISNUMBER(SEARCH(\"7\",#REF!)),\"1\",\"0\")","v":"0"},{"$f":"IF(ISNUMBER(SEARCH(\"8\",#REF!)),\"1\",\"0\")","v":"0"},{"$f":"IF(ISNUMBER(SEARCH(\"9\",#REF!)),\"1\",\"0\")","v":"0"},{"$f":"IF(ISNUMBER(SEARCH(\"9\",#REF!)),\"1\",\"0\")","v":"0"},{"$f":"IF(ISNUMBER(SEARCH(\"10\",#REF!)),\"1\",\"0\")","v":"0"},{"$f":"IF(ISNUMBER(SEARCH(\"11\",#REF!)),\"1\",\"0\")","v":"0"},{"$f":"IF(ISNUMBER(SEARCH(\"12\",#REF!)),\"1\",\"0\")","v":"0"},{"$f":"IF(ISNUMBER(SEARCH(\"13\",#REF!)),\"1\",\"0\")","v":"0"},{"$f":"IF(ISNUMBER(SEARCH(\"14\",#REF!)),\"1\",\"0\")","v":"0"},{"$f":"IF(ISNUMBER(SEARCH(\"15\",#REF!)),\"1\",\"0\")","v":"0"},{"$f":"IF(ISNUMBER(SEARCH(\"16\",#REF!)),\"1\",\"0\")","v":"0"},{"$f":"IF(ISNUMBER(SEARCH(\"17\",#REF!)),\"1\",\"0\")","v":"0"},{"$nulls":3},3,16,12,14,{"$nulls":3},8,10,10,28,{"$nulls":4},{"$f":"#REF!-#REF!","v":{"$error":"#REF!"}},{"$f":"#REF!-#REF!","v":{"$error":"#REF!"}}]
[2,21,null,35,2,27,null,3,3,1,8,5,2,3,"0","0","1","0","0","0","0","0","0","0","0","0","0","0","0","0","0","0",null,1,2,3,1,{"$f":"IF(ISNUMBER(SEARCH(\"1\",#REF!)),\"1\",\"0\")","v":"0"},{"$f":"IF(ISNUMBER(SEARCH(\"2\",#REF!)),\"1\",\"0\")","v":"0"},{"$f":"IF(ISNUMBER(SEARCH(\"3\",#REF!)),\"1\",\"0\")","v":"0"},{"$f":"IF(ISNUMBER(SEARCH(\"4\",#REF!)),\"1\",\"0\")","v":"0"},{"$f":"IF(ISNUMBER(SEARCH(\"5\",#REF!)),\"1\",\"0\")","v":"0"},{"$f":"IF(ISNUMBER(SEARCH(\"6\",#REF!)),\"1\",\"0\")","v":"0"},{"$f":"IF(ISNUMBER(SEARCH(\"7\",#REF!)),\"1\",\"0\")","v":"0"},{"$f":"IF(ISNUMBER(SEARCH(\"8\",#REF!)),\"1\",\"0\")","v":"0"},{"$f":"IF(ISNUMBER(SEARCH(\"9\",#REF!)),\"1\",\"0\")","v":"0"},{"$f":"IF(ISNUMBER(SEARCH(\"9\",#REF!)),\"1\",\"0\")","v":"0"},{"$f":"IF(ISNUMBER(SEARCH(\"10\",#REF!)),\"1\",\"0\")","v":"0"},{"$f":"IF(ISNUMBER(SEARCH(\"11\",#REF!)),\"1\",\"0\")","v":"0"},{"$f":"IF(ISNUMBER(SEARCH(\"12\",#REF!)),\"1\",\"0\")","v":"0"},{"$f":"IF(ISNUMBER(SEARCH(\"13\",#REF!)),\"1\",\"0\")","v":"0"},{"$f":"IF(ISNUMBER(SEARCH(\"14\",#REF!)),\"1\",\"0\")","v":"0"},{"$f":"IF(ISNUMBER(SEARCH(\"15\",#REF!)),\"1\",\"0\")","v":"0"},{"$f":"IF(ISNUMBER(SEARCH(\"16\",#REF!)),\"1\",\"0\")","v":"0"},{"$f":"IF(ISNUMBER(SEARCH(\"17\",#REF!)),\"1\",\"0\")","v":"0"},{"$nulls":3},9]
[2,21,null,35,2,28,null,2,3,1,6,5,2,"11. Membre de famille / personne proche assassinée","1","0","0","0","0","0","0","0","0","0","1","0","0","0","0","0","0","0",null,1,2,5,2,{"$f":"IF(ISNUMBER(SEARCH(\"1\",#REF!)),\"1\",\"0\")","v":"0"},{"$f":"IF(ISNUMBER(SEARCH(\"2\",#REF!)),\"1\",\"0\")","v":"0"},{"$f":"IF(ISNUMBER(SEARCH(\"3\",#REF!)),\"1\",\"0\")","v":"0"},{"$f":"IF(ISNUMBER(SEARCH(\"4\",#REF!)),\"1\",\"0\")","v":"0"},{"$f":"IF(ISNUMBER(SEARCH(\"5\",#REF!)),\"1\",\"0\")","v":"0"},{"$f":"IF(ISNUMBER(SEARCH(\"6\",#REF!)),\"1\",\"0\")","v":"0"},{"$f":"IF(ISNUMBER(SEARCH(\"7\",#REF!)),\"1\",\"0\")","v":"0"},{"$f":"IF(ISNUMBER(SEARCH(\"8\",#REF!)),\"1\",\"0\")","v":"0"},{"$f":"IF(ISNUMBER(SEARCH(\"9\",#REF!)),\"1\",\"0\")","v":"0"},{"$f":"IF(ISNUMBER(SEARCH(\"9\",#REF!)),\"1\",\"0\")","v":"0"},{"$f":"IF(ISNUMBER(SEARCH(\"10\",#REF!)),\"1\",\"0\")","v":"0"},{"$f":"IF(ISNUMBER(SEARCH(\"11\",#REF!)),\"1\",\"0\")","v":"0"},{"$f":"IF(ISNUMBER(SEARCH(\"12\",#REF!)),\"1\",\"0\")","v":"0"},{"$f":"IF(ISNUMBER(SEARCH(\"13\",#REF!)),\"1\",\"0\")","v":"0"},{"$f":"IF(ISNUMBER(SEARCH(\"14\",#REF!)),\"1\",\"0\")","v":"0"},{"$f":"IF(ISNUMBER(SEARCH(\"15\",#REF!)),\"1\",\"0\")","v":"0"},{"$f":"IF(ISNUMBER(SEARCH(\"16\",#REF!)),\"1\",\"0\")","v":"0"},{"$f":"IF(ISNUMBER(SEARCH(\"17\",#REF!)),\"1\",\"0\")","v":"0"},{"$nulls":3},9,20,18,18,{"$nulls":3},10,12,10,32,{"$nulls":4},{"$f":"#REF!-#REF!","v":{"$error":"#REF!"}}]
[2,21,null,35,1,31,null,1,3,1,3,5,1,3,"0","0","1","0","0","0","0","0","0","0","0","0","0","0","0","0","0","0",null,1,3,5,2,{"$f":"IF(ISNUMBER(SEARCH(\"1\",#REF!)),\"1\",\"0\")","v":"0"},{"$f":"IF(ISNUMBER(SEARCH(\"2\",#REF!)),\"1\",\"0\")","v":"0"},{"$f":"IF(ISNUMBER(SEARCH(\"3\",#REF!)),\"1\",\"0\")","v":"0"},{"$f":"IF(ISNUMBER(SEARCH(\"4\",#REF!)),\"1\",\"0\")","v":"0"},{"$f":"IF(ISNUMBER(SEARCH(\"5\",#REF!)),\"1\",\"0\")","v":"0"},{"$f":"IF(ISNUMBER(SEARCH(\"6\",#REF!)),\"1\",\"0\")","v":"0"},{"$f":"IF(ISNUMBER(SEARCH(\"7\",#REF!)),\"1\",\"0\")","v":"0"},{"$f":"IF(ISNUMBER(SEARCH(\"8\",#REF!)),\"1\",\"0\")","v":"0"},{"$f":"IF(ISNUMBER(SEARCH(\"9\",#REF!)),\"1\",\"0\")","v":"0"},{"$f":"IF(ISNUMBER(SEARCH(\"9\",#REF!)),\"1\",\"0\")","v":"0"},{"$f":"IF(ISNUMBER(SEARCH(\"10\",#REF!)),\"1\",\"0\")","v":"0"},{"$f":"IF(ISNUMBER(SEARCH(\"11\",#REF!)),\"1\",\"0\")","v":"0"},{"$f":"IF(ISNUMBER(SEARCH(\"12\",#REF!)),\"1\",\"0\")","v":"0"},{"$f":"IF(ISNUMBER(SEARCH(\"13\",#REF!)),\"1\",\"0\")","v":"0"},{"$f":"IF(ISNUMBER(SEARCH(\"14\",#REF!)),\"1\",\"0\")","v":"0"},{"$f":"IF(ISNUMBER(SEARCH(\"15\",#REF!)),\"1\",\"0\")","v":"0"},{"$f":"IF(ISNUMBER(SEARCH(\"16\",#REF!)),\"1\",\"0\")","v":"0"},{"$f":"IF(ISNUMBER(SEARCH(\"17\",#REF!)),\"1\",\"0\")","v":"0"},{"$nulls":3},9]
[2,21,null,36,1,35,null,2,7,1,0,5,2,14,"1","0","0","1","0","0","0","0","0","0","0","0","0","1","0","0","0","0",null,1,1,5,2,{"$f":"IF(ISNUMBER(SEARCH(\"1\",#REF!)),\"1\",\"0\")","v":"0"},{"$f":"IF(ISNUMBER(SEARCH(\"2\",#REF!)),\"1\",\"0\")","v":"0"},{"$f":"IF(ISNUMBER(SEARCH(\"3\",#REF!)),\"1\",\"0\")","v":"0"},{"$f":"IF(ISNUMBER(SEARCH(\"4\",#REF!)),\"1\",\"0\")","v":"0"},{"$f":"IF(ISNUMBER(SEARCH(\"5\",#REF!)),\"1\",\"0\")","v":"0"},{"$f":"IF(ISNUMBER(SEARCH(\"6\",#REF!)),\"1\",\"0\")","v":"0"},{"$f":"IF(ISNUMBER(SEARCH(\"7\",#REF!)),\"1\",\"0\")","v":"0"},{"$f":"IF(ISNUMBER(SEARCH(\"8\",#REF!)),\"1\",\"0\")","v":"0"},{"$f":"IF(ISNUMBER(SEARCH(\"9\",#REF!)),\"1\",\"0\")","v":"0"},{"$f":"IF(ISNUMBER(SEARCH(\"9\",#REF!)),\"1\",\"0\")","v":"0"},{"$f":"IF(ISNUMBER(SEARCH(\"10\",#REF!)),\"1\",\"0\")","v":"0"},{"$f":"IF(ISNUMBER(SEARCH(\"11\",#REF!)),\"1\",\"0\")","v":"0"},{"$f":"IF(ISNUMBER(SEARCH(\"12\",#REF!)),\"1\",\"0\")","v":"0"},{"$f":"IF(ISNUMBER(SEARCH(\"13\",#REF!)),\"1\",\"0\")","v":"0"},{"$f":"IF(ISNUMBER(SEARCH(\"14\",#REF!)),\"1\",\"0\")","v":"0"},{"$f":"IF(ISNUMBER(SEARCH(\"15\",#REF!)),\"1\",\"0\")","v":"0"},{"$f":"IF(ISNUMBER(SEARCH(\"16\",#REF!)),\"1\",\"0\")","v":"0"},{"$f":"IF(ISNUMBER(SEARCH(\"17\",#REF!)),\"1\",\"0\")","v":"0"},{"$nulls":3},9,30,16,22,{"$nulls":3},2,0,0,2,{"$nulls":4},{"$f":"#REF!-#REF!","v":{"$error":"#REF!"}},{"$f":"#REF!-#REF!","v":{"$error":"#REF!"}}]
[2,21,null,36,2,27,null,2,3,1,8,5,2,3,"0","0","1","0","0","0","0","0","0","0","0","0","0","0","0","0","0","0",null,1,3,5,2,{"$f":"IF(ISNUMBER(SEARCH(\"1\",#REF!)),\"1\",\"0\")","v":"0"},{"$f":"IF(ISNUMBER(SEARCH(\"2\",#REF!)),\"1\",\"0\")","v":"0"},{"$f":"IF(ISNUMBER(SEARCH(\"3\",#REF!)),\"1\",\"0\")","v":"0"},{"$f":"IF(ISNUMBER(SEARCH(\"4\",#REF!)),\"1\",\"0\")","v":"0"},{"$f":"IF(ISNUMBER(SEARCH(\"5\",#REF!)),\"1\",\"0\")","v":"0"},{"$f":"IF(ISNUMBER(SEARCH(\"6\",#REF!)),\"1\",\"0\")","v":"0"},{"$f":"IF(ISNUMBER(SEARCH(\"7\",#REF!)),\"1\",\"0\")","v":"0"},{"$f":"IF(ISNUMBER(SEARCH(\"8\",#REF!)),\"1\",\"0\")","v":"0"},{"$f":"IF(ISNUMBER(SEARCH(\"9\",#REF!)),\"1\",\"0\")","v":"0"},{"$f":"IF(ISNUMBER(SEARCH(\"9\",#REF!)),\"1\",\"0\")","v":"0"},{"$f":"IF(ISNUMBER(SEARCH(\"10\",#REF!)),\"1\",\"0\")","v":"0"},{"$f":"IF(ISNUMBER(SEARCH(\"11\",#REF!)),\"1\",\"0\")","v":"0"},{"$f":"IF(ISNUMBER(SEARCH(\"12\",#REF!)),\"1\",\"0\")","v":"0"},{"$f":"IF(ISNUMBER(SEARCH(\"13\",#REF!)),\"1\",\"0\")","v":"0"},{"$f":"IF(ISNUMBER(SEARCH(\"14\",#REF!)),\"1\",\"0\")","v":"0"},{"$f":"IF(ISNUMBER(SEARCH(\"15\",#REF!)),\"1\",\"0\")","v":"0"},{"$f":"IF(ISNUMBER(SEARCH(\"16\",#REF!)),\"1\",\"0\")","v":"0"},{"$f":"IF(ISNUMBER(SEARCH(\"17\",#REF!)),\"1\",\"0\")","v":"0"},{"$nulls":3},3,34,26,26,{"$nulls":11},{"$f":"#REF!-#REF!","v":{"$error":"#REF!"}}]
[2,21,null,36,2,25,null,3,3,1,6,5,2,"14, 16. Autre (SVP dans 20 case suivante) ","1","1","0","1","0","1","0","0","0","0","0","0","0","1","0","1","0","0",null,1,7,5,2,{"$f":"IF(ISNUMBER(SEARCH(\"1\",#REF!)),\"1\",\"0\")","v":"0"},{"$f":"IF(ISNUMBER(SEARCH(\"2\",#REF!)),\"1\",\"0\")","v":"0"},{"$f":"IF(ISNUMBER(SEARCH(\"3\",#REF!)),\"1\",\"0\")","v":"0"},{"$f":"IF(ISNUMBER(SEARCH(\"4\",#REF!)),\"1\",\"0\")","v":"0"},{"$f":"IF(ISNUMBER(SEARCH(\"5\",#REF!)),\"1\",\"0\")","v":"0"},{"$f":"IF(ISNUMBER(SEARCH(\"6\",#REF!)),\"1\",\"0\")","v":"0"},{"$f":"IF(ISNUMBER(SEARCH(\"7\",#REF!)),\"1\",\"0\")","v":"0"},{"$f":"IF(ISNUMBER(SEARCH(\"8\",#REF!)),\"1\",\"0\")","v":"0"},{"$f":"IF(ISNUMBER(SEARCH(\"9\",#REF!)),\"1\",\"0\")","v":"0"},{"$f":"IF(ISNUMBER(SEARCH(\"9\",#REF!)),\"1\",\"0\")","v":"0"},{"$f":"IF(ISNUMBER(SEARCH(\"10\",#REF!)),\"1\",\"0\")","v":"0"},{"$f":"IF(ISNUMBER(SEARCH(\"11\",#REF!)),\"1\",\"0\")","v":"0"},{"$f":"IF(ISNUMBER(SEARCH(\"12\",#REF!)),\"1\",\"0\")","v":"0"},{"$f":"IF(ISNUMBER(SEARCH(\"13\",#REF!)),\"1\",\"0\")","v":"0"},{"$f":"IF(ISNUMBER(SEARCH(\"14\",#REF!)),\"1\",\"0\")","v":"0"},{"$f":"IF(ISNUMBER(SEARCH(\"15\",#REF!)),\"1\",\"0\")","v":"0"},{"$f":"IF(ISNUMBER(SEARCH(\"16\",#REF!)),\"1\",\"0\")","v":"0"},{"$f":"IF(ISNUMBER(SEARCH(\"17\",#REF!)),\"1\",\"0\")","v":"0"},{"$nulls":3},9,26,12,26,{"$nulls":11},{"$f":"#REF!-#REF!","v":{"$error":"#REF!"}}]
[2,21,null,31,2,41,null,2,3,1,7,5,1,3,"0","0","1","0","0","0","0","0","0","0","0","0","0","0","0","0","0","0",null,1,2,5,1,{"$f":"IF(ISNUMBER(SEARCH(\"1\",#REF!)),\"1\",\"0\")","v":"0"},{"$f":"IF(ISNUMBER(SEARCH(\"2\",#REF!)),\"1\",\"0\")","v":"0"},{"$f":"IF(ISNUMBER(SEARCH(\"3\",#REF!)),\"1\",\"0\")","v":"0"},{"$f":"IF(ISNUMBER(SEARCH(\"4\",#REF!)),\"1\",\"0\")","v":"0"},{"$f":"IF(ISNUMBER(SEARCH(\"5\",#REF!)),\"1\",\"0\")","v":"0"},{"$f":"IF(ISNUMBER(SEARCH(\"6\",#REF!)),\"1\",\"0\")","v":"0"},{"$f":"IF(ISNUMBER(SEARCH(\"7\",#REF!)),\"1\",\"0\")","v":"0"},{"$f":"IF(ISNUMBER(SEARCH(\"8\",#REF!)),\"1\",\"0\")","v":"0"},{"$f":"IF(ISNUMBER(SEARCH(\"9\",#REF!)),\"1\",\"0\")","v":"0"},{"$f":"IF(ISNUMBER(SEARCH(\"9\",#REF!)),\"1\",\"0\")","v":"0"},{"$f":"IF(ISNUMBER(SEARCH(\"10\",#REF!)),\"1\",\"0\")","v":"0"},{"$f":"IF(ISNUMBER(SEARCH(\"11\",#REF!)),\"1\",\"0\")","v":"0"},{"$f":"IF(ISNUMBER(SEARCH(\"12\",#REF!)),\"1\",\"0\")","v":"0"},{"$f":"IF(ISNUMBER(SEARCH(\"13\",#REF!)),\"1\",\"0\")","v":"0"},{"$f":"IF(ISNUMBER(SEARCH(\"14\",#REF!)),\"1\",\"0\")","v":"0"},{"$f":"IF(ISNUMBER(SEARCH(\"15\",#REF!)),\"1\",\"0\")","v":"0"},{"$f":"IF(ISNUMBER(SEARCH(\"16\",#REF!)),\"1\",\"0\")","v":"0"},{"$f":"IF(ISNUMBER(SEARCH(\"17\",#REF!)),\"1\",\"0\")","v":"0"},1,null,null,3]
[2,21,null,33,2,37,null,2,8,1,5,5,2,1,"1","0","0","0","0","0","0","0","0","0","0","0","0","0","0","0","0","0",null,1,3,5,2,{"$f":"IF(ISNUMBER(SEARCH(\"1\",#REF!)),\"1\",\"0\")","v":"0"},{"$f":"IF(ISNUMBER(SEARCH(\"2\",#REF!)),\"1\",\"0\")","v":"0"},{"$f":"IF(ISNUMBER(SEARCH(\"3\",#REF!)),\"1\",\"0\")","v":"0"},{"$f":"IF(ISNUMBER(SEARCH(\"4\",#REF!)),\"1\",\"0\")","v":"0"},{"$f":"IF(ISNUMBER(SEARCH(\"5\",#REF!)),\"1\",\"0\")","v":"0"},{"$f":"IF(ISNUMBER(SEARCH(\"6\",#REF!)),\"1\",\"0\")","v":"0"},{"$f":"IF(ISNUMBER(SEARCH(\"7\",#REF!)),\"1\",\"0\")","v":"0"},{"$f":"IF(ISNUMBER(SEARCH(\"8\",#REF!)),\"1\",\"0\")","v":"0"},{"$f":"IF(ISNUMBER(SEARCH(\"9\",#REF!)),\"1\",\"0\")","v":"0"},{"$f":"IF(ISNUMBER(SEARCH(\"9\",#REF!)),\"1\",\"0\")","v":"0"},{"$f":"IF(ISNUMBER(SEARCH(\"10\",#REF!)),\"1\",\"0\")","v":"0"},{"$f":"IF(ISNUMBER(SEARCH(\"11\",#REF!)),\"1\",\"0\")","v":"0"},{"$f":"IF(ISNUMBER(SEARCH(\"12\",#REF!)),\"1\",\"0\")","v":"0"},{"$f":"IF(ISNUMBER(SEARCH(\"13\",#REF!)),\"1\",\"0\")","v":"0"},{"$f":"IF(ISNUMBER(SEARCH(\"14\",#REF!)),\"1\",\"0\")","v":"0"},{"$f":"IF(ISNUMBER(SEARCH(\"15\",#REF!)),\"1\",\"0\")","v":"0"},{"$f":"IF(ISNUMBER(SEARCH(\"16\",#REF!)),\"1\",\"0\")","v":"0"},{"$f":"IF(ISNUMBER(SEARCH(\"17\",#REF!)),\"1\",\"0\")","v":"0"},{"$nulls":3},9]
[2,21,null,30,1,25,null,3,7,1,6,8,6,"3, 15. Insultes / a reçu des menaces","1","0","1","0","1","0","0","0","0","0","0","0","0","0","1","0","0","0",null,2,3,5,2,{"$f":"IF(ISNUMBER(SEARCH(\"1\",#REF!)),\"1\",\"0\")","v":"0"},0,{"$f":"IF(ISNUMBER(SEARCH(\"3\",#REF!)),\"1\",\"0\")","v":"0"},{"$f":"IF(ISNUMBER(SEARCH(\"4\",#REF!)),\"1\",\"0\")","v":"0"},{"$f":"IF(ISNUMBER(SEARCH(\"5\",#REF!)),\"1\",\"0\")","v":"0"},{"$f":"IF(ISNUMBER(SEARCH(\"6\",#REF!)),\"1\",\"0\")","v":"0"},{"$f":"IF(ISNUMBER(SEARCH(\"7\",#REF!)),\"1\",\"0\")","v":"0"},{"$f":"IF(ISNUMBER(SEARCH(\"8\",#REF!)),\"1\",\"0\")","v":"0"},{"$f":"IF(ISNUMBER(SEARCH(\"9\",#REF!)),\"1\",\"0\")","v":"0"},{"$f":"IF(ISNUMBER(SEARCH(\"9\",#REF!)),\"1\",\"0\")","v":"0"},{"$f":"IF(ISNUMBER(SEARCH(\"10\",#REF!)),\"1\",\"0\")","v":"0"},{"$f":"IF(ISNUMBER(SEARCH(\"11\",#REF!)),\"1\",\"0\")","v":"0"},{"$f":"IF(ISNUMBER(SEARCH(\"12\",#REF!)),\"1\",\"0\")","v":"0"},{"$f":"IF(ISNUMBER(SEARCH(\"13\",#REF!)),\"1\",\"0\")","v":"0"},{"$f":"IF(ISNUMBER(SEARCH(\"14\",#REF!)),\"1\",\"0\")","v":"0"},{"$f":"IF(ISNUMBER(SEARCH(\"15\",#REF!)),\"1\",\"0\")","v":"0"},{"$f":"IF(ISNUMBER(SEARCH(\"16\",#REF!)),\"1\",\"0\")","v":"0"},{"$f":"IF(ISNUMBER(SEARCH(\"17\",#REF!)),\"1\",\"0\")","v":"0"},1,3,null,3,28,20,32,{"$nulls":3},12,6,10,28,{"$nulls":4},{"$f":"#REF!-#REF!","v":{"$error":"#REF!"}},{"$f":"#REF!-#REF!","v":{"$error":"#REF!"}}]
[2,21,null,30,1,16,null,3,3,1,3,5,2,14,"1","0","0","1","0","0","0","0","0","0","0","0","0","1","0","0","0","0",null,1,3,5,2,{"$f":"IF(ISNUMBER(SEARCH(\"1\",#REF!)),\"1\",\"0\")","v":"0"},{"$f":"IF(ISNUMBER(SEARCH(\"2\",#REF!)),\"1\",\"0\")","v":"0"},{"$f":"IF(ISNUMBER(SEARCH(\"3\",#REF!)),\"1\",\"0\")","v":"0"},{"$f":"IF(ISNUMBER(SEARCH(\"4\",#REF!)),\"1\",\"0\")","v":"0"},{"$f":"IF(ISNUMBER(SEARCH(\"5\",#REF!)),\"1\",\"0\")","v":"0"},{"$f":"IF(ISNUMBER(SEARCH(\"6\",#REF!)),\"1\",\"0\")","v":"0"},{"$f":"IF(ISNUMBER(SEARCH(\"7\",#REF!)),\"1\",\"0\")","v":"0"},{"$f":"IF(ISNUMBER(SEARCH(\"8\",#REF!)),\"1\",\"0\")","v":"0"},{"$f":"IF(ISNUMBER(SEARCH(\"9\",#REF!)),\"1\",\"0\")","v":"0"},{"$f":"IF(ISNUMBER(SEARCH(\"9\",#REF!)),\"1\",\"0\")","v":"0"},{"$f":"IF(ISNUMBER(SEARCH(\"10\",#REF!)),\"1\",\"0\")","v":"0"},{"$f":"IF(ISNUMBER(SEARCH(\"11\",#REF!)),\"1\",\"0\")","v":"0"},{"$f":"IF(ISNUMBER(SEARCH(\"12\",#REF!)),\"1\",\"0\")","v":"0"},{"$f":"IF(ISNUMBER(SEARCH(\"13\",#REF!)),\"1\",\"0\")","v":"0"},{"$f":"IF(ISNUMBER(SEARCH(\"14\",#REF!)),\"1\",\"0\")","v":"0"},{"$f":"IF(ISNUMBER(SEARCH(\"15\",#REF!)),\"1\",\"0\")","v":"0"},{"$f":"IF(ISNUMBER(SEARCH(\"16\",#REF!)),\"1\",\"0\")","v":"0"},{"$f":"IF(ISNUMBER(SEARCH(\"17\",#REF!)),\"1\",\"0\")","v":"0"},{"$nulls":3},3,26,14,24,{"$nulls":3},10,2,10,22,{"$nulls":4},{"$f":"#REF!-#REF!","v":{"$error":"#REF!"}},{"$f":"#REF!-#REF!","v":{"$error":"#REF!"}}]
[2,21,"LS",24,1,47,null,2,3,1,5,8,2,3,"0","0","1","0","0","0","0","0","0","0","0","0","0","0","0","0","0","0",null,1,7,5,1,{"$f":"IF(ISNUMBER(SEARCH(\"1\",#REF!)),\"1\",\"0\")","v":"0"},{"$f":"IF(ISNUMBER(SEARCH(\"2\",#REF!)),\"1\",\"0\")","v":"0"},{"$f":"IF(ISNUMBER(SEARCH(\"3\",#REF!)),\"1\",\"0\")","v":"0"},{"$f":"IF(ISNUMBER(SEARCH(\"4\",#REF!)),\"1\",\"0\")","v":"0"},{"$f":"IF(ISNUMBER(SEARCH(\"5\",#REF!)),\"1\",\"0\")","v":"0"},{"$f":"IF(ISNUMBER(SEARCH(\"6\",#REF!)),\"1\",\"0\")","v":"0"},{"$f":"IF(ISNUMBER(SEARCH(\"7\",#REF!)),\"1\",\"0\")","v":"0"},{"$f":"IF(ISNUMBER(SEARCH(\"8\",#REF!)),\"1\",\"0\")","v":"0"},{"$f":"IF(ISNUMBER(SEARCH(\"9\",#REF!)),\"1\",\"0\")","v":"0"},{"$f":"IF(ISNUMBER(SEARCH(\"9\",#REF!)),\"1\",\"0\")","v":"0"},{"$f":"IF(ISNUMBER(SEARCH(\"10\",#REF!)),\"1\",\"0\")","v":"0"},{"$f":"IF(ISNUMBER(SEARCH(\"11\",#REF!)),\"1\",\"0\")","v":"0"},{"$f":"IF(ISNUMBER(SEARCH(\"12\",#REF!)),\"1\",\"0\")","v":"0"},{"$f":"IF(ISNUMBER(SEARCH(\"13\",#REF!)),\"1\",\"0\")","v":"0"},{"$f":"IF(ISNUMBER(SEARCH(\"14\",#REF!)),\"1\",\"0\")","v":"0"},{"$f":"IF(ISNUMBER(SEARCH(\"15\",#REF!)),\"1\",\"0\")","v":"0"},{"$f":"IF(ISNUMBER(SEARCH(\"16\",#REF!)),\"1\",\"0\")","v":"0"},{"$f":"IF(ISNUMBER(SEARCH(\"17\",#REF!)),\"1\",\"0\")","v":"0"},{"$nulls":3},9,24,6,10,{"$nulls":11},{"$f":"#REF!-#REF!","v":{"$error":"#REF!"}},{"$f":"#REF!-#REF!","v":{"$error":"#REF!"}}]
[2,21,"LS",24,2,53,null,3,8,1,null,3,1,"1, 16. Autre (SVP dans 20 case suivante) ","1","1","0","0","0","1","0","0","0","0","0","0","0","0","0","1","0","0",null,1,3,5,2,{"$f":"IF(ISNUMBER(SEARCH(\"1\",#REF!)),\"1\",\"0\")","v":"0"},0,{"$f":"IF(ISNUMBER(SEARCH(\"3\",#REF!)),\"1\",\"0\")","v":"0"},{"$f":"IF(ISNUMBER(SEARCH(\"4\",#REF!)),\"1\",\"0\")","v":"0"},{"$f":"IF(ISNUMBER(SEARCH(\"5\",#REF!)),\"1\",\"0\")","v":"0"},{"$f":"IF(ISNUMBER(SEARCH(\"6\",#REF!)),\"1\",\"0\")","v":"0"},{"$f":"IF(ISNUMBER(SEARCH(\"7\",#REF!)),\"1\",\"0\")","v":"0"},{"$f":"IF(ISNUMBER(SEARCH(\"8\",#REF!)),\"1\",\"0\")","v":"0"},{"$f":"IF(ISNUMBER(SEARCH(\"9\",#REF!)),\"1\",\"0\")","v":"0"},{"$f":"IF(ISNUMBER(SEARCH(\"9\",#REF!)),\"1\",\"0\")","v":"0"},{"$f":"IF(ISNUMBER(SEARCH(\"10\",#REF!)),\"1\",\"0\")","v":"0"},{"$f":"IF(ISNUMBER(SEARCH(\"11\",#REF!)),\"1\",\"0\")","v":"0"},{"$f":"IF(ISNUMBER(SEARCH(\"12\",#REF!)),\"1\",\"0\")","v":"0"},{"$f":"IF(ISNUMBER(SEARCH(\"13\",#REF!)),\"1\",\"0\")","v":"0"},{"$f":"IF(ISNUMBER(SEARCH(\"14\",#REF!)),\"1\",\"0\")","v":"0"},{"$f":"IF(ISNUMBER(SEARCH(\"15\",#REF!)),\"1\",\"0\")","v":"0"},{"$f":"IF(ISNUMBER(SEARCH(\"16\",#REF!)),\"1\",\"0\")","v":"0"},{"$f":"IF(ISNUMBER(SEARCH(\"17\",#REF!)),\"1\",\"0\")","v":"0"},{"$nulls":3},9]
[2,21,"LS",25,2,22,null,2,3,1,9,3,2,2,{"$f":"IF(ISNUMBER(SEARCH(\"1\",$N4995)),\"1\",\"0\")","v":"0"},{"$f":"IF(ISNUMBER(SEARCH(\"2\",$N4995)),\"1\",\"0\")","v":"1"},{"$f":"IF(ISNUMBER(SEARCH(\"3\",$N4995)),\"1\",\"0\")","v":"0"},{"$f":"IF(ISNUMBER(SEARCH(\"4\",$N4995)),\"1\",\"0\")","v":"0"},{"$f":"IF(ISNUMBER(SEARCH(\"5\",$N4995)),\"1\",\"0\")","v":"0"},{"$f":"IF(ISNUMBER(SEARCH(\"6\",$N4995)),\"1\",\"0\")","v":"0"},{"$f":"IF(ISNUMBER(SEARCH(\"7\",$N4995)),\"1\",\"0\")","v":"0"},{"$f":"IF(ISNUMBER(SEARCH(\"8\",$N4995)),\"1\",\"0\")","v":"0"},{"$f":"IF(ISNUMBER(SEARCH(\"9\",$N4995)),\"1\",\"0\")","v":"0"},{"$f":"IF(ISNUMBER(SEARCH(\"10\",$N4995)),\"1\",\"0\")","v":"0"},{"$f":"IF(ISNUMBER(SEARCH(\"11\",$N4995)),\"1\",\"0\")","v":"0"},{"$f":"IF(ISNUMBER(SEARCH(\"12\",$N4995)),\"1\",\"0\")","v":"0"},{"$f":"IF(ISNUMBER(SEARCH(\"13\",$N4995)),\"1\",\"0\")","v":"0"},{"$f":"IF(ISNUMBER(SEARCH(\"14\",$N4995)),\"1\",\"0\")","v":"0"},{"$f":"IF(ISNUMBER(SEARCH(\"15\",$N4995)),\"1\",\"0\")","v":"0"},{"$f":"IF(ISNUMBER(SEARCH(\"16\",$N4995)),\"1\",\"0\")","v":"0"},{"$f":"IF(ISNUMBER(SEARCH(\"17\",$N4995)),\"1\",\"0\")","v":"0"},{"$f":"IF(ISNUMBER(SEARCH(\"18\",$N4995)),\"1\",\"0\")","v":"0"},null,1,3,4,1,{"$f":"IF(ISNUMBER(SEARCH(\"1\",#REF!)),\"1\",\"0\")","v":"0"},{"$f":"IF(ISNUMBER(SEARCH(\"2\",#REF!)),\"1\",\"0\")","v":"0"},{"$f":"IF(ISNUMBER(SEARCH(\"3\",#REF!)),\"1\",\"0\")","v":"0"},{"$f":"IF(ISNUMBER(SEARCH(\"4\",#REF!)),\"1\",\"0\")","v":"0"},{"$f":"IF(ISNUMBER(SEARCH(\"5\",#REF!)),\"1\",\"0\")","v":"0"},{"$f":"IF(ISNUMBER(SEARCH(\"6\",#REF!)),\"1\",\"0\")","v":"0"},{"$f":"IF(ISNUMBER(SEARCH(\"7\",#REF!)),\"1\",\"0\")","v":"0"},{"$f":"IF(ISNUMBER(SEARCH(\"8\",#REF!)),\"1\",\"0\")","v":"0"},{"$f":"IF(ISNUMBER(SEARCH(\"9\",#REF!)),\"1\",\"0\")","v":"0"},{"$f":"IF(ISNUMBER(SEARCH(\"9\",#REF!)),\"1\",\"0\")","v":"0"},{"$f":"IF(ISNUMBER(SEARCH(\"10\",#REF!)),\"1\",\"0\")","v":"0"},{"$f":"IF(ISNUMBER(SEARCH(\"11\",#REF!)),\"1\",\"0\")","v":"0"},{"$f":"IF(ISNUMBER(SEARCH(\"12\",#REF!)),\"1\",\"0\")","v":"0"},{"$f":"IF(ISNUMBER(SEARCH(\"13\",#REF!)),\"1\",\"0\")","v":"0"},{"$f":"IF(ISNUMBER(SEARCH(\"14\",#REF!)),\"1\",\"0\")","v":"0"},{"$f":"IF(ISNUMBER(SEARCH(\"15\",#REF!)),\"1\",\"0\")","v":"0"},{"$f":"IF(ISNUMBER(SEARCH(\"16\",#REF!)),\"1\",\"0\")","v":"0"},{"$f":"IF(ISNUMBER(SEARCH(\"17\",#REF!)),\"1\",\"0\")","v":"0"},{"$nulls":3},9]
[2,21,"LS",26,1,48,null,3,3,1,3,3,2,1,"1","0","0","0","0","0","0","0","0","0","0","0","0","0","0","0","0","0",null,1,3,5,2,{"$f":"IF(ISNUMBER(SEARCH(\"1\",#REF!)),\"1\",\"0\")","v":"0"},{"$f":"IF(ISNUMBER(SEARCH(\"2\",#REF!)),\"1\",\"0\")","v":"0"},{"$f":"IF(ISNUMBER(SEARCH(\"3\",#REF!)),\"1\",\"0\")","v":"0"},{"$f":"IF(ISNUMBER(SEARCH(\"4\",#REF!)),\"1\",\"0\")","v":"0"},{"$f":"IF(ISNUMBER(SEARCH(\"5\",#REF!)),\"1\",\"0\")","v":"0"},{"$f":"IF(ISNUMBER(SEARCH(\"6\",#REF!)),\"1\",\"0\")","v":"0"},{"$f":"IF(ISNUMBER(SEARCH(\"7\",#REF!)),\"1\",\"0\")","v":"0"},{"$f":"IF(ISNUMBER(SEARCH(\"8\",#REF!)),\"1\",\"0\")","v":"0"},{"$f":"IF(ISNUMBER(SEARCH(\"9\",#REF!)),\"1\",\"0\")","v":"0"},{"$f":"IF(ISNUMBER(SEARCH(\"9\",#REF!)),\"1\",\"0\")","v":"0"},{"$f":"IF(ISNUMBER(SEARCH(\"10\",#REF!)),\"1\",\"0\")","v":"0"},{"$f":"IF(ISNUMBER(SEARCH(\"11\",#REF!)),\"1\",\"0\")","v":"0"},{"$f":"IF(ISNUMBER(SEARCH(\"12\",#REF!)),\"1\",\"0\")","v":"0"},{"$f":"IF(ISNUMBER(SEARCH(\"13\",#REF!)),\"1\",\"0\")","v":"0"},{"$f":"IF(ISNUMBER(SEARCH(\"14\",#REF!)),\"1\",\"0\")","v":"0"},{"$f":"IF(ISNUMBER(SEARCH(\"15\",#REF!)),\"1\",\"0\")","v":"0"},{"$f":"IF(ISNUMBER(SEARCH(\"16\",#REF!)),\"1\",\"0\")","v":"0"},{"$f":"IF(ISNUMBER(SEARCH(\"17\",#REF!)),\"1\",\"0\")","v":"0"},{"$nulls":3},9,36,12,26,{"$nulls":3},14,0,8,22,{"$nulls":4},{"$f":"#REF!-#REF!","v":{"$error":"#REF!"}},{"$f":"#REF!-#REF!","v":{"$error":"#REF!"}}]
[2,21,15,31,2,32,null,1,3,1,7,5,2,1,"1","0","0","0","0","0","0","0","0","0","0","0","0","0","0","0","0","0",null,2,3,5,2,{"$f":"IF(ISNUMBER(SEARCH(\"1\",#REF!)),\"1\",\"0\")","v":"0"},{"$f":"IF(ISNUMBER(SEARCH(\"2\",#REF!)),\"1\",\"0\")","v":"0"},{"$f":"IF(ISNUMBER(SEARCH(\"3\",#REF!)),\"1\",\"0\")","v":"0"},{"$f":"IF(ISNUMBER(SEARCH(\"4\",#REF!)),\"1\",\"0\")","v":"0"},{"$f":"IF(ISNUMBER(SEARCH(\"5\",#REF!)),\"1\",\"0\")","v":"0"},{"$f":"IF(ISNUMBER(SEARCH(\"6\",#REF!)),\"1\",\"0\")","v":"0"},{"$f":"IF(ISNUMBER(SEARCH(\"7\",#REF!)),\"1\",\"0\")","v":"0"},{"$f":"IF(ISNUMBER(SEARCH(\"8\",#REF!)),\"1\",\"0\")","v":"0"},{"$f":"IF(ISNUMBER(SEARCH(\"9\",#REF!)),\"1\",\"0\")","v":"0"},{"$f":"IF(ISNUMBER(SEARCH(\"9\",#REF!)),\"1\",\"0\")","v":"0"},{"$f":"IF(ISNUMBER(SEARCH(\"10\",#REF!)),\"1\",\"0\")","v":"0"},{"$f":"IF(ISNUMBER(SEARCH(\"11\",#REF!)),\"1\",\"0\")","v":"0"},{"$f":"IF(ISNUMBER(SEARCH(\"12\",#REF!)),\"1\",\"0\")","v":"0"},{"$f":"IF(ISNUMBER(SEARCH(\"13\",#REF!)),\"1\",\"0\")","v":"0"},{"$f":"IF(ISNUMBER(SEARCH(\"14\",#REF!)),\"1\",\"0\")","v":"0"},{"$f":"IF(ISNUMBER(SEARCH(\"15\",#REF!)),\"1\",\"0\")","v":"0"},{"$f":"IF(ISNUMBER(SEARCH(\"16\",#REF!)),\"1\",\"0\")","v":"0"},{"$f":"IF(ISNUMBER(SEARCH(\"17\",#REF!)),\"1\",\"0\")","v":"0"},{"$nulls":3},9]
[2,21,"LS",24,1,54,null,2,3,1,5,5,1,"1, 16. Autre (SVP dans 20 case suivante) ","1","1","0","0","0","1","0","0","0","0","0","0","0","0","0","1","0","0",null,1,1,5,1,{"$f":"IF(ISNUMBER(SEARCH(\"1\",#REF!)),\"1\",\"0\")","v":"0"},{"$f":"IF(ISNUMBER(SEARCH(\"2\",#REF!)),\"1\",\"0\")","v":"0"},{"$f":"IF(ISNUMBER(SEARCH(\"3\",#REF!)),\"1\",\"0\")","v":"0"},{"$f":"IF(ISNUMBER(SEARCH(\"4\",#REF!)),\"1\",\"0\")","v":"0"},{"$f":"IF(ISNUMBER(SEARCH(\"5\",#REF!)),\"1\",\"0\")","v":"0"},{"$f":"IF(ISNUMBER(SEARCH(\"6\",#REF!)),\"1\",\"0\")","v":"0"},{"$f":"IF(ISNUMBER(SEARCH(\"7\",#REF!)),\"1\",\"0\")","v":"0"},{"$f":"IF(ISNUMBER(SEARCH(\"8\",#REF!)),\"1\",\"0\")","v":"0"},{"$f":"IF(ISNUMBER(SEARCH(\"9\",#REF!)),\"1\",\"0\")","v":"0"},{"$f":"IF(ISNUMBER(SEARCH(\"9\",#REF!)),\"1\",\"0\")","v":"0"},{"$f":"IF(ISNUMBER(SEARCH(\"10\",#REF!)),\"1\",\"0\")","v":"0"},{"$f":"IF(ISNUMBER(SEARCH(\"11\",#REF!)),\"1\",\"0\")","v":"0"},{"$f":"IF(ISNUMBER(SEARCH(\"12\",#REF!)),\"1\",\"0\")","v":"0"},{"$f":"IF(ISNUMBER(SEARCH(\"13\",#REF!)),\"1\",\"0\")","v":"0"},{"$f":"IF(ISNUMBER(SEARCH(\"14\",#REF!)),\"1\",\"0\")","v":"0"},{"$f":"IF(ISNUMBER(SEARCH(\"15\",#REF!)),\"1\",\"0\")","v":"0"},{"$f":"IF(ISNUMBER(SEARCH(\"16\",#REF!)),\"1\",\"0\")","v":"0"},{"$f":"IF(ISNUMBER(SEARCH(\"17\",#REF!)),\"1\",\"0\")","v":"0"},{"$nulls":3},10]
[2,21,"LS",26,2,32,null,3,8,2,3,5,1,"4. Tentative de Viol","0","0","0","1","0","0","0","0","0","0","0","0","0","0","0","0","0","0",null,1,3,5,2,{"$f":"IF(ISNUMBER(SEARCH(\"1\",#REF!)),\"1\",\"0\")","v":"0"},{"$f":"IF(ISNUMBER(SEARCH(\"2\",#REF!)),\"1\",\"0\")","v":"0"},{"$f":"IF(ISNUMBER(SEARCH(\"3\",#REF!)),\"1\",\"0\")","v":"0"},{"$f":"IF(ISNUMBER(SEARCH(\"4\",#REF!)),\"1\",\"0\")","v":"0"},{"$f":"IF(ISNUMBER(SEARCH(\"5\",#REF!)),\"1\",\"0\")","v":"0"},{"$f":"IF(ISNUMBER(SEARCH(\"6\",#REF!)),\"1\",\"0\")","v":"0"},{"$f":"IF(ISNUMBER(SEARCH(\"7\",#REF!)),\"1\",\"0\")","v":"0"},{"$f":"IF(ISNUMBER(SEARCH(\"8\",#REF!)),\"1\",\"0\")","v":"0"},{"$f":"IF(ISNUMBER(SEARCH(\"9\",#REF!)),\"1\",\"0\")","v":"0"},{"$f":"IF(ISNUMBER(SEARCH(\"9\",#REF!)),\"1\",\"0\")","v":"0"},{"$f":"IF(ISNUMBER(SEARCH(\"10\",#REF!)),\"1\",\"0\")","v":"0"},{"$f":"IF(ISNUMBER(SEARCH(\"11\",#REF!)),\"1\",\"0\")","v":"0"},{"$f":"IF(ISNUMBER(SEARCH(\"12\",#REF!)),\"1\",\"0\")","v":"0"},{"$f":"IF(ISNUMBER(SEARCH(\"13\",#REF!)),\"1\",\"0\")","v":"0"},{"$f":"IF(ISNUMBER(SEARCH(\"14\",#REF!)),\"1\",\"0\")","v":"0"},{"$f":"IF(ISNUMBER(SEARCH(\"15\",#REF!)),\"1\",\"0\")","v":"0"},{"$f":"IF(ISNUMBER(SEARCH(\"16\",#REF!)),\"1\",\"0\")","v":"0"},{"$f":"IF(ISNUMBER(SEARCH(\"17\",#REF!)),\"1\",\"0\")","v":"0"},{"$nulls":3},9,24,12,16,{"$nulls":3},4,0,4,8,{"$nulls":4},{"$f":"#REF!-#REF!","v":{"$error":"#REF!"}},{"$f":"#REF!-#REF!","v":{"$error":"#REF!"}}]
[2,21,18,30,2,48,null,3,2,1,0,5,1,"9. Kidnapping/  Enlèvement/ Otage (SANS violence sexuelle)","0","0","0","0","0","0","0","0","1","0","0","0","0","0","0","0","0","0",null,1,4,5,2,{"$f":"IF(ISNUMBER(SEARCH(\"1\",#REF!)),\"1\",\"0\")","v":"0"},0,{"$f":"IF(ISNUMBER(SEARCH(\"3\",#REF!)),\"1\",\"0\")","v":"0"},{"$f":"IF(ISNUMBER(SEARCH(\"4\",#REF!)),\"1\",\"0\")","v":"0"},{"$f":"IF(ISNUMBER(SEARCH(\"5\",#REF!)),\"1\",\"0\")","v":"0"},{"$f":"IF(ISNUMBER(SEARCH(\"6\",#REF!)),\"1\",\"0\")","v":"0"},{"$f":"IF(ISNUMBER(SEARCH(\"7\",#REF!)),\"1\",\"0\")","v":"0"},{"$f":"IF(ISNUMBER(SEARCH(\"8\",#REF!)),\"1\",\"0\")","v":"0"},{"$f":"IF(ISNUMBER(SEARCH(\"9\",#REF!)),\"1\",\"0\")","v":"0"},{"$f":"IF(ISNUMBER(SEARCH(\"9\",#REF!)),\"1\",\"0\")","v":"0"},{"$f":"IF(ISNUMBER(SEARCH(\"10\",#REF!)),\"1\",\"0\")","v":"0"},{"$f":"IF(ISNUMBER(SEARCH(\"11\",#REF!)),\"1\",\"0\")","v":"0"},{"$f":"IF(ISNUMBER(SEARCH(\"12\",#REF!)),\"1\",\"0\")","v":"0"},{"$f":"IF(ISNUMBER(SEARCH(\"13\",#REF!)),\"1\",\"0\")","v":"0"},{"$f":"IF(ISNUMBER(SEARCH(\"14\",#REF!)),\"1\",\"0\")","v":"0"},{"$f":"IF(ISNUMBER(SEARCH(\"15\",#REF!)),\"1\",\"0\")","v":"0"},{"$f":"IF(ISNUMBER(SEARCH(\"16\",#REF!)),\"1\",\"0\")","v":"0"},{"$f":"IF(ISNUMBER(SEARCH(\"17\",#REF!)),\"1\",\"0\")","v":"0"},{"$nulls":3},3,26,16,26,{"$nulls":3},12,2,10,24,{"$nulls":4},{"$f":"#REF!-#REF!","v":{"$error":"#REF!"}},{"$f":"#REF!-#REF!","v":{"$error":"#REF!"}}]
[2,21,18,30,1,35,null,3,3,1,2,3,6,"1, 9. Kidnapping/  Enlèvement/ Otage (SANS violence sexuelle), 13. Recrutement Forcé (par Groupe Armé)","1","0","1","0","0","0","0","0","1","0","0","0","1","0","0","0","0","0",null,1,3,5,2,{"$f":"IF(ISNUMBER(SEARCH(\"1\",#REF!)),\"1\",\"0\")","v":"0"},0,{"$f":"IF(ISNUMBER(SEARCH(\"3\",#REF!)),\"1\",\"0\")","v":"0"},{"$f":"IF(ISNUMBER(SEARCH(\"4\",#REF!)),\"1\",\"0\")","v":"0"},{"$f":"IF(ISNUMBER(SEARCH(\"5\",#REF!)),\"1\",\"0\")","v":"0"},{"$f":"IF(ISNUMBER(SEARCH(\"6\",#REF!)),\"1\",\"0\")","v":"0"},{"$f":"IF(ISNUMBER(SEARCH(\"7\",#REF!)),\"1\",\"0\")","v":"0"},{"$f":"IF(ISNUMBER(SEARCH(\"8\",#REF!)),\"1\",\"0\")","v":"0"},{"$f":"IF(ISNUMBER(SEARCH(\"9\",#REF!)),\"1\",\"0\")","v":"0"},{"$f":"IF(ISNUMBER(SEARCH(\"9\",#REF!)),\"1\",\"0\")","v":"0"},{"$f":"IF(ISNUMBER(SEARCH(\"10\",#REF!)),\"1\",\"0\")","v":"0"},{"$f":"IF(ISNUMBER(SEARCH(\"11\",#REF!)),\"1\",\"0\")","v":"0"},{"$f":"IF(ISNUMBER(SEARCH(\"12\",#REF!)),\"1\",\"0\")","v":"0"},{"$f":"IF(ISNUMBER(SEARCH(\"13\",#REF!)),\"1\",\"0\")","v":"0"},{"$f":"IF(ISNUMBER(SEARCH(\"14\",#REF!)),\"1\",\"0\")","v":"0"},{"$f":"IF(ISNUMBER(SEARCH(\"15\",#REF!)),\"1\",\"0\")","v":"0"},{"$f":"IF(ISNUMBER(SEARCH(\"16\",#REF!)),\"1\",\"0\")","v":"0"},{"$f":"IF(ISNUMBER(SEARCH(\"17\",#REF!)),\"1\",\"0\")","v":"0"},{"$nulls":3},3,24,14,26,{"$nulls":3},8,2,10,20]
[2,21,18,29,2,21,null,3,2,1,null,5,1,3,"0","0","1","0","0","0","0","0","0","0","0","0","0","0","0","0","0","0",null,1,3,5,2,{"$f":"IF(ISNUMBER(SEARCH(\"1\",#REF!)),\"1\",\"0\")","v":"0"},{"$f":"IF(ISNUMBER(SEARCH(\"2\",#REF!)),\"1\",\"0\")","v":"0"},{"$f":"IF(ISNUMBER(SEARCH(\"3\",#REF!)),\"1\",\"0\")","v":"0"},{"$f":"IF(ISNUMBER(SEARCH(\"4\",#REF!)),\"1\",\"0\")","v":"0"},{"$f":"IF(ISNUMBER(SEARCH(\"5\",#REF!)),\"1\",\"0\")","v":"0"},{"$f":"IF(ISNUMBER(SEARCH(\"6\",#REF!)),\"1\",\"0\")","v":"0"},{"$f":"IF(ISNUMBER(SEARCH(\"7\",#REF!)),\"1\",\"0\")","v":"0"},{"$f":"IF(ISNUMBER(SEARCH(\"8\",#REF!)),\"1\",\"0\")","v":"0"},{"$f":"IF(ISNUMBER(SEARCH(\"9\",#REF!)),\"1\",\"0\")","v":"0"},{"$f":"IF(ISNUMBER(SEARCH(\"9\",#REF!)),\"1\",\"0\")","v":"0"},{"$f":"IF(ISNUMBER(SEARCH(\"10\",#REF!)),\"1\",\"0\")","v":"0"},{"$f":"IF(ISNUMBER(SEARCH(\"11\",#REF!)),\"1\",\"0\")","v":"0"},{"$f":"IF(ISNUMBER(SEARCH(\"12\",#REF!)),\"1\",\"0\")","v":"0"},{"$f":"IF(ISNUMBER(SEARCH(\"13\",#REF!)),\"1\",\"0\")","v":"0"},{"$f":"IF(ISNUMBER(SEARCH(\"14\",#REF!)),\"1\",\"0\")","v":"0"},{"$f":"IF(ISNUMBER(SEARCH(\"15\",#REF!)),\"1\",\"0\")","v":"0"},{"$f":"IF(ISNUMBER(SEARCH(\"16\",#REF!)),\"1\",\"0\")","v":"0"},{"$f":"IF(ISNUMBER(SEARCH(\"17\",#REF!)),\"1\",\"0\")","v":"0"},1,3,null,3]
[2,21,18,27,1,34,null,2,7,1,4,5,2,3,"0","0","1","0","0","0","0","0","0","0","0","0","0","0","0","0","0","0",null,1,7,5,2,{"$f":"IF(ISNUMBER(SEARCH(\"1\",#REF!)),\"1\",\"0\")","v":"0"},{"$f":"IF(ISNUMBER(SEARCH(\"2\",#REF!)),\"1\",\"0\")","v":"0"},{"$f":"IF(ISNUMBER(SEARCH(\"3\",#REF!)),\"1\",\"0\")","v":"0"},{"$f":"IF(ISNUMBER(SEARCH(\"4\",#REF!)),\"1\",\"0\")","v":"0"},{"$f":"IF(ISNUMBER(SEARCH(\"5\",#REF!)),\"1\",\"0\")","v":"0"},{"$f":"IF(ISNUMBER(SEARCH(\"6\",#REF!)),\"1\",\"0\")","v":"0"},{"$f":"IF(ISNUMBER(SEARCH(\"7\",#REF!)),\"1\",\"0\")","v":"0"},{"$f":"IF(ISNUMBER(SEARCH(\"8\",#REF!)),\"1\",\"0\")","v":"0"},{"$f":"IF(ISNUMBER(SEARCH(\"9\",#REF!)),\"1\",\"0\")","v":"0"},{"$f":"IF(ISNUMBER(SEARCH(\"9\",#REF!)),\"1\",\"0\")","v":"0"},{"$f":"IF(ISNUMBER(SEARCH(\"10\",#REF!)),\"1\",\"0\")","v":"0"},{"$f":"IF(ISNUMBER(SEARCH(\"11\",#REF!)),\"1\",\"0\")","v":"0"},{"$f":"IF(ISNUMBER(SEARCH(\"12\",#REF!)),\"1\",\"0\")","v":"0"},{"$f":"IF(ISNUMBER(SEARCH(\"13\",#REF!)),\"1\",\"0\")","v":"0"},{"$f":"IF(ISNUMBER(SEARCH(\"14\",#REF!)),\"1\",\"0\")","v":"0"},{"$f":"IF(ISNUMBER(SEARCH(\"15\",#REF!)),\"1\",\"0\")","v":"0"},{"$f":"IF(ISNUMBER(SEARCH(\"16\",#REF!)),\"1\",\"0\")","v":"0"},{"$f":"IF(ISNUMBER(SEARCH(\"17\",#REF!)),\"1\",\"0\")","v":"0"},1,null,null,9]
[2,21,15,31,2,24,null,2,3,1,7,5,1,1,"1","0","0","0","0","0","0","0","0","0","0","0","0","0","0","0","0","0",null,1,3,5,2,{"$f":"IF(ISNUMBER(SEARCH(\"1\",#REF!)),\"1\",\"0\")","v":"0"},{"$f":"IF(ISNUMBER(SEARCH(\"2\",#REF!)),\"1\",\"0\")","v":"0"},{"$f":"IF(ISNUMBER(SEARCH(\"3\",#REF!)),\"1\",\"0\")","v":"0"},{"$f":"IF(ISNUMBER(SEARCH(\"4\",#REF!)),\"1\",\"0\")","v":"0"},{"$f":"IF(ISNUMBER(SEARCH(\"5\",#REF!)),\"1\",\"0\")","v":"0"},{"$f":"IF(ISNUMBER(SEARCH(\"6\",#REF!)),\"1\",\"0\")","v":"0"},{"$f":"IF(ISNUMBER(SEARCH(\"7\",#REF!)),\"1\",\"0\")","v":"0"},{"$f":"IF(ISNUMBER(SEARCH(\"8\",#REF!)),\"1\",\"0\")","v":"0"},{"$f":"IF(ISNUMBER(SEARCH(\"9\",#REF!)),\"1\",\"0\")","v":"0"},{"$f":"IF(ISNUMBER(SEARCH(\"9\",#REF!)),\"1\",\"0\")","v":"0"},{"$f":"IF(ISNUMBER(SEARCH(\"10\",#REF!)),\"1\",\"0\")","v":"0"},{"$f":"IF(ISNUMBER(SEARCH(\"11\",#REF!)),\"1\",\"0\")","v":"0"},{"$f":"IF(ISNUMBER(SEARCH(\"12\",#REF!)),\"1\",\"0\")","v":"0"},{"$f":"IF(ISNUMBER(SEARCH(\"13\",#REF!)),\"1\",\"0\")","v":"0"},{"$f":"IF(ISNUMBER(SEARCH(\"14\",#REF!)),\"1\",\"0\")","v":"0"},{"$f":"IF(ISNUMBER(SEARCH(\"15\",#REF!)),\"1\",\"0\")","v":"0"},{"$f":"IF(ISNUMBER(SEARCH(\"16\",#REF!)),\"1\",\"0\")","v":"0"},{"$f":"IF(ISNUMBER(SEARCH(\"17\",#REF!)),\"1\",\"0\")","v":"0"},{"$nulls":3},3]
[2,21,15,32,1,16,null,2,3,1,3,5,1,1,"1","0","0","0","0","0","0","0","0","0","0","0","0","0","0","0","0","0",null,1,3,5,2,{"$f":"IF(ISNUMBER(SEARCH(\"1\",#REF!)),\"1\",\"0\")","v":"0"},{"$f":"IF(ISNUMBER(SEARCH(\"2\",#REF!)),\"1\",\"0\")","v":"0"},{"$f":"IF(ISNUMBER(SEARCH(\"3\",#REF!)),\"1\",\"0\")","v":"0"},{"$f":"IF(ISNUMBER(SEARCH(\"4\",#REF!)),\"1\",\"0\")","v":"0"},{"$f":"IF(ISNUMBER(SEARCH(\"5\",#REF!)),\"1\",\"0\")","v":"0"},{"$f":"IF(ISNUMBER(SEARCH(\"6\",#REF!)),\"1\",\"0\")","v":"0"},{"$f":"IF(ISNUMBER(SEARCH(\"7\",#REF!)),\"1\",\"0\")","v":"0"},{"$f":"IF(ISNUMBER(SEARCH(\"8\",#REF!)),\"1\",\"0\")","v":"0"},{"$f":"IF(ISNUMBER(SEARCH(\"9\",#REF!)),\"1\",\"0\")","v":"0"},{"$f":"IF(ISNUMBER(SEARCH(\"9\",#REF!)),\"1\",\"0\")","v":"0"},{"$f":"IF(ISNUMBER(SEARCH(\"10\",#REF!)),\"1\",\"0\")","v":"0"},{"$f":"IF(ISNUMBER(SEARCH(\"11\",#REF!)),\"1\",\"0\")","v":"0"},{"$f":"IF(ISNUMBER(SEARCH(\"12\",#REF!)),\"1\",\"0\")","v":"0"},{"$f":"IF(ISNUMBER(SEARCH(\"13\",#REF!)),\"1\",\"0\")","v":"0"},{"$f":"IF(ISNUMBER(SEARCH(\"14\",#REF!)),\"1\",\"0\")","v":"0"},{"$f":"IF(ISNUMBER(SEARCH(\"15\",#REF!)),\"1\",\"0\")","v":"0"},{"$f":"IF(ISNUMBER(SEARCH(\"16\",#REF!)),\"1\",\"0\")","v":"0"},{"$f":"IF(ISNUMBER(SEARCH(\"17\",#REF!)),\"1\",\"0\")","v":"0"},{"$nulls":3},9]
[2,21,15,33,2,16,null,3,3,1,5,5,2,1,"1","0","0","0","0","0","0","0","0","0","0","0","0","0","0","0","0","0",null,1,3,5,2,{"$f":"IF(ISNUMBER(SEARCH(\"1\",#REF!)),\"1\",\"0\")","v":"0"},{"$f":"IF(ISNUMBER(SEARCH(\"2\",#REF!)),\"1\",\"0\")","v":"0"},{"$f":"IF(ISNUMBER(SEARCH(\"3\",#REF!)),\"1\",\"0\")","v":"0"},{"$f":"IF(ISNUMBER(SEARCH(\"4\",#REF!)),\"1\",\"0\")","v":"0"},{"$f":"IF(ISNUMBER(SEARCH(\"5\",#REF!)),\"1\",\"0\")","v":"0"},{"$f":"IF(ISNUMBER(SEARCH(\"6\",#REF!)),\"1\",\"0\")","v":"0"},{"$f":"IF(ISNUMBER(SEARCH(\"7\",#REF!)),\"1\",\"0\")","v":"0"},{"$f":"IF(ISNUMBER(SEARCH(\"8\",#REF!)),\"1\",\"0\")","v":"0"},{"$f":"IF(ISNUMBER(SEARCH(\"9\",#REF!)),\"1\",\"0\")","v":"0"},{"$f":"IF(ISNUMBER(SEARCH(\"9\",#REF!)),\"1\",\"0\")","v":"0"},{"$f":"IF(ISNUMBER(SEARCH(\"10\",#REF!)),\"1\",\"0\")","v":"0"},{"$f":"IF(ISNUMBER(SEARCH(\"11\",#REF!)),\"1\",\"0\")","v":"0"},{"$f":"IF(ISNUMBER(SEARCH(\"12\",#REF!)),\"1\",\"0\")","v":"0"},{"$f":"IF(ISNUMBER(SEARCH(\"13\",#REF!)),\"1\",\"0\")","v":"0"},{"$f":"IF(ISNUMBER(SEARCH(\"14\",#REF!)),\"1\",\"0\")","v":"0"},{"$f":"IF(ISNUMBER(SEARCH(\"15\",#REF!)),\"1\",\"0\")","v":"0"},{"$f":"IF(ISNUMBER(SEARCH(\"16\",#REF!)),\"1\",\"0\")","v":"0"},{"$f":"IF(ISNUMBER(SEARCH(\"17\",#REF!)),\"1\",\"0\")","v":"0"},{"$nulls":3},9]
[2,21,"LS",24,1,27,null,1,3,1,5,8,6,3,"0","0","1","0","0","0","0","0","0","0","0","0","0","0","0","0","0","0",null,1,7,5,1,{"$f":"IF(ISNUMBER(SEARCH(\"1\",#REF!)),\"1\",\"0\")","v":"0"},{"$f":"IF(ISNUMBER(SEARCH(\"2\",#REF!)),\"1\",\"0\")","v":"0"},{"$f":"IF(ISNUMBER(SEARCH(\"3\",#REF!)),\"1\",\"0\")","v":"0"},{"$f":"IF(ISNUMBER(SEARCH(\"4\",#REF!)),\"1\",\"0\")","v":"0"},{"$f":"IF(ISNUMBER(SEARCH(\"5\",#REF!)),\"1\",\"0\")","v":"0"},{"$f":"IF(ISNUMBER(SEARCH(\"6\",#REF!)),\"1\",\"0\")","v":"0"},{"$f":"IF(ISNUMBER(SEARCH(\"7\",#REF!)),\"1\",\"0\")","v":"0"},{"$f":"IF(ISNUMBER(SEARCH(\"8\",#REF!)),\"1\",\"0\")","v":"0"},{"$f":"IF(ISNUMBER(SEARCH(\"9\",#REF!)),\"1\",\"0\")","v":"0"},{"$f":"IF(ISNUMBER(SEARCH(\"9\",#REF!)),\"1\",\"0\")","v":"0"},{"$f":"IF(ISNUMBER(SEARCH(\"10\",#REF!)),\"1\",\"0\")","v":"0"},{"$f":"IF(ISNUMBER(SEARCH(\"11\",#REF!)),\"1\",\"0\")","v":"0"},{"$f":"IF(ISNUMBER(SEARCH(\"12\",#REF!)),\"1\",\"0\")","v":"0"},{"$f":"IF(ISNUMBER(SEARCH(\"13\",#REF!)),\"1\",\"0\")","v":"0"},{"$f":"IF(ISNUMBER(SEARCH(\"14\",#REF!)),\"1\",\"0\")","v":"0"},{"$f":"IF(ISNUMBER(SEARCH(\"15\",#REF!)),\"1\",\"0\")","v":"0"},{"$f":"IF(ISNUMBER(SEARCH(\"16\",#REF!)),\"1\",\"0\")","v":"0"},{"$f":"IF(ISNUMBER(SEARCH(\"17\",#REF!)),\"1\",\"0\")","v":"0"},1,null,null,9]
[2,21,"KK",3,2,40,null,3,3,1,3,1,6,3,"0","0","1","0","0","0","0","0","0","0","0","0","0","0","0","0","0","0",null,1,2,5,2,{"$f":"IF(ISNUMBER(SEARCH(\"1\",#REF!)),\"1\",\"0\")","v":"0"},{"$f":"IF(ISNUMBER(SEARCH(\"2\",#REF!)),\"1\",\"0\")","v":"0"},{"$f":"IF(ISNUMBER(SEARCH(\"3\",#REF!)),\"1\",\"0\")","v":"0"},{"$f":"IF(ISNUMBER(SEARCH(\"4\",#REF!)),\"1\",\"0\")","v":"0"},{"$f":"IF(ISNUMBER(SEARCH(\"5\",#REF!)),\"1\",\"0\")","v":"0"},{"$f":"IF(ISNUMBER(SEARCH(\"6\",#REF!)),\"1\",\"0\")","v":"0"},{"$f":"IF(ISNUMBER(SEARCH(\"7\",#REF!)),\"1\",\"0\")","v":"0"},{"$f":"IF(ISNUMBER(SEARCH(\"8\",#REF!)),\"1\",\"0\")","v":"0"},{"$f":"IF(ISNUMBER(SEARCH(\"9\",#REF!)),\"1\",\"0\")","v":"0"},{"$f":"IF(ISNUMBER(SEARCH(\"9\",#REF!)),\"1\",\"0\")","v":"0"},{"$f":"IF(ISNUMBER(SEARCH(\"10\",#REF!)),\"1\",\"0\")","v":"0"},{"$f":"IF(ISNUMBER(SEARCH(\"11\",#REF!)),\"1\",\"0\")","v":"0"},{"$f":"IF(ISNUMBER(SEARCH(\"12\",#REF!)),\"1\",\"0\")","v":"0"},{"$f":"IF(ISNUMBER(SEARCH(\"13\",#REF!)),\"1\",\"0\")","v":"0"},{"$f":"IF(ISNUMBER(SEARCH(\"14\",#REF!)),\"1\",\"0\")","v":"0"},{"$f":"IF(ISNUMBER(SEARCH(\"15\",#REF!)),\"1\",\"0\")","v":"0"},{"$f":"IF(ISNUMBER(SEARCH(\"16\",#REF!)),\"1\",\"0\")","v":"0"},{"$f":"IF(ISNUMBER(SEARCH(\"17\",#REF!)),\"1\",\"0\")","v":"0"},1,2,null,3,14,10,18,{"$nulls":3},14,4,12,30,{"$nulls":4},{"$f":"#REF!-#REF!","v":{"$error":"#REF!"}}]
[2,21,"KK",3,1,29,null,1,3,1,6,3,2,3,"0","0","1","0","0","0","0","0","0","0","0","0","0","0","0","0","0","0",null,1,2,5,1,{"$f":"IF(ISNUMBER(SEARCH(\"1\",#REF!)),\"1\",\"0\")","v":"0"},{"$f":"IF(ISNUMBER(SEARCH(\"2\",#REF!)),\"1\",\"0\")","v":"0"},{"$f":"IF(ISNUMBER(SEARCH(\"3\",#REF!)),\"1\",\"0\")","v":"0"},{"$f":"IF(ISNUMBER(SEARCH(\"4\",#REF!)),\"1\",\"0\")","v":"0"},{"$f":"IF(ISNUMBER(SEARCH(\"5\",#REF!)),\"1\",\"0\")","v":"0"},{"$f":"IF(ISNUMBER(SEARCH(\"6\",#REF!)),\"1\",\"0\")","v":"0"},{"$f":"IF(ISNUMBER(SEARCH(\"7\",#REF!)),\"1\",\"0\")","v":"0"},{"$f":"IF(ISNUMBER(SEARCH(\"8\",#REF!)),\"1\",\"0\")","v":"0"},{"$f":"IF(ISNUMBER(SEARCH(\"9\",#REF!)),\"1\",\"0\")","v":"0"},{"$f":"IF(ISNUMBER(SEARCH(\"9\",#REF!)),\"1\",\"0\")","v":"0"},{"$f":"IF(ISNUMBER(SEARCH(\"10\",#REF!)),\"1\",\"0\")","v":"0"},{"$f":"IF(ISNUMBER(SEARCH(\"11\",#REF!)),\"1\",\"0\")","v":"0"},{"$f":"IF(ISNUMBER(SEARCH(\"12\",#REF!)),\"1\",\"0\")","v":"0"},{"$f":"IF(ISNUMBER(SEARCH(\"13\",#REF!)),\"1\",\"0\")","v":"0"},{"$f":"IF(ISNUMBER(SEARCH(\"14\",#REF!)),\"1\",\"0\")","v":"0"},{"$f":"IF(ISNUMBER(SEARCH(\"15\",#REF!)),\"1\",\"0\")","v":"0"},{"$f":"IF(ISNUMBER(SEARCH(\"16\",#REF!)),\"1\",\"0\")","v":"0"},{"$f":"IF(ISNUMBER(SEARCH(\"17\",#REF!)),\"1\",\"0\")","v":"0"},1,2,null,9,14,14,14,{"$nulls":3},10,8,12,30,{"$nulls":4},{"$f":"#REF!-#REF!","v":{"$error":"#REF!"}}]
[2,21,"KK",3,2,52,null,2,3,1,8,1,2,"16. Autre (SVP dans la case suivante) ","1","0","0","0","0","1","0","0","0","0","0","0","0","0","0","1","0","0",null,1,1,3,2,{"$f":"IF(ISNUMBER(SEARCH(\"1\",#REF!)),\"1\",\"0\")","v":"0"},{"$f":"IF(ISNUMBER(SEARCH(\"2\",#REF!)),\"1\",\"0\")","v":"0"},{"$f":"IF(ISNUMBER(SEARCH(\"3\",#REF!)),\"1\",\"0\")","v":"0"},{"$f":"IF(ISNUMBER(SEARCH(\"4\",#REF!)),\"1\",\"0\")","v":"0"},{"$f":"IF(ISNUMBER(SEARCH(\"5\",#REF!)),\"1\",\"0\")","v":"0"},{"$f":"IF(ISNUMBER(SEARCH(\"6\",#REF!)),\"1\",\"0\")","v":"0"},{"$f":"IF(ISNUMBER(SEARCH(\"7\",#REF!)),\"1\",\"0\")","v":"0"},{"$f":"IF(ISNUMBER(SEARCH(\"8\",#REF!)),\"1\",\"0\")","v":"0"},{"$f":"IF(ISNUMBER(SEARCH(\"9\",#REF!)),\"1\",\"0\")","v":"0"},{"$f":"IF(ISNUMBER(SEARCH(\"9\",#REF!)),\"1\",\"0\")","v":"0"},{"$f":"IF(ISNUMBER(SEARCH(\"10\",#REF!)),\"1\",\"0\")","v":"0"},{"$f":"IF(ISNUMBER(SEARCH(\"11\",#REF!)),\"1\",\"0\")","v":"0"},{"$f":"IF(ISNUMBER(SEARCH(\"12\",#REF!)),\"1\",\"0\")","v":"0"},{"$f":"IF(ISNUMBER(SEARCH(\"13\",#REF!)),\"1\",\"0\")","v":"0"},{"$f":"IF(ISNUMBER(SEARCH(\"14\",#REF!)),\"1\",\"0\")","v":"0"},{"$f":"IF(ISNUMBER(SEARCH(\"15\",#REF!)),\"1\",\"0\")","v":"0"},{"$f":"IF(ISNUMBER(SEARCH(\"16\",#REF!)),\"1\",\"0\")","v":"0"},{"$f":"IF(ISNUMBER(SEARCH(\"17\",#REF!)),\"1\",\"0\")","v":"0"},{"$nulls":3},9,10,14,18,{"$nulls":3},0,12,2,14,{"$nulls":4},{"$f":"#REF!-#REF!","v":{"$error":"#REF!"}}]
[2,21,"KK",3,2,48,null,1,3,1,4,1,2,"4. Tentative de Viol","0","0","0","1","0","0","0","0","0","0","0","0","0","0","0","0","0","0",null,1,2,5,1,{"$f":"IF(ISNUMBER(SEARCH(\"1\",#REF!)),\"1\",\"0\")","v":"0"},{"$f":"IF(ISNUMBER(SEARCH(\"2\",#REF!)),\"1\",\"0\")","v":"0"},{"$f":"IF(ISNUMBER(SEARCH(\"3\",#REF!)),\"1\",\"0\")","v":"0"},{"$f":"IF(ISNUMBER(SEARCH(\"4\",#REF!)),\"1\",\"0\")","v":"0"},{"$f":"IF(ISNUMBER(SEARCH(\"5\",#REF!)),\"1\",\"0\")","v":"0"},{"$f":"IF(ISNUMBER(SEARCH(\"6\",#REF!)),\"1\",\"0\")","v":"0"},{"$f":"IF(ISNUMBER(SEARCH(\"7\",#REF!)),\"1\",\"0\")","v":"0"},{"$f":"IF(ISNUMBER(SEARCH(\"8\",#REF!)),\"1\",\"0\")","v":"0"},{"$f":"IF(ISNUMBER(SEARCH(\"9\",#REF!)),\"1\",\"0\")","v":"0"},{"$f":"IF(ISNUMBER(SEARCH(\"9\",#REF!)),\"1\",\"0\")","v":"0"},{"$f":"IF(ISNUMBER(SEARCH(\"10\",#REF!)),\"1\",\"0\")","v":"0"},{"$f":"IF(ISNUMBER(SEARCH(\"11\",#REF!)),\"1\",\"0\")","v":"0"},{"$f":"IF(ISNUMBER(SEARCH(\"12\",#REF!)),\"1\",\"0\")","v":"0"},{"$f":"IF(ISNUMBER(SEARCH(\"13\",#REF!)),\"1\",\"0\")","v":"0"},{"$f":"IF(ISNUMBER(SEARCH(\"14\",#REF!)),\"1\",\"0\")","v":"0"},{"$f":"IF(ISNUMBER(SEARCH(\"15\",#REF!)),\"1\",\"0\")","v":"0"},{"$f":"IF(ISNUMBER(SEARCH(\"16\",#REF!)),\"1\",\"0\")","v":"0"},{"$f":"IF(ISNUMBER(SEARCH(\"17\",#REF!)),\"1\",\"0\")","v":"0"},{"$nulls":3},9,14,10,16,{"$nulls":11},{"$f":"#REF!-#REF!","v":{"$error":"#REF!"}}]
[2,21,6,35,2,50,1970,1,3,1,8,5,2,"9. Kidnapping/  Enlèvement/ Otage (SANS violence sexuelle)","0","0","0","0","0","0","0","0","1","0","0","0","0","0","0","0","0","0",null,1,5,5,2,{"$f":"IF(ISNUMBER(SEARCH(\"1\",#REF!)),\"1\",\"0\")","v":"0"},0,{"$f":"IF(ISNUMBER(SEARCH(\"3\",#REF!)),\"1\",\"0\")","v":"0"},{"$f":"IF(ISNUMBER(SEARCH(\"4\",#REF!)),\"1\",\"0\")","v":"0"},{"$f":"IF(ISNUMBER(SEARCH(\"5\",#REF!)),\"1\",\"0\")","v":"0"},{"$f":"IF(ISNUMBER(SEARCH(\"6\",#REF!)),\"1\",\"0\")","v":"0"},{"$f":"IF(ISNUMBER(SEARCH(\"7\",#REF!)),\"1\",\"0\")","v":"0"},{"$f":"IF(ISNUMBER(SEARCH(\"8\",#REF!)),\"1\",\"0\")","v":"0"},{"$f":"IF(ISNUMBER(SEARCH(\"9\",#REF!)),\"1\",\"0\")","v":"0"},{"$f":"IF(ISNUMBER(SEARCH(\"9\",#REF!)),\"1\",\"0\")","v":"0"},{"$f":"IF(ISNUMBER(SEARCH(\"10\",#REF!)),\"1\",\"0\")","v":"0"},{"$f":"IF(ISNUMBER(SEARCH(\"11\",#REF!)),\"1\",\"0\")","v":"0"},{"$f":"IF(ISNUMBER(SEARCH(\"12\",#REF!)),\"1\",\"0\")","v":"0"},{"$f":"IF(ISNUMBER(SEARCH(\"13\",#REF!)),\"1\",\"0\")","v":"0"},{"$f":"IF(ISNUMBER(SEARCH(\"14\",#REF!)),\"1\",\"0\")","v":"0"},{"$f":"IF(ISNUMBER(SEARCH(\"15\",#REF!)),\"1\",\"0\")","v":"0"},{"$f":"IF(ISNUMBER(SEARCH(\"16\",#REF!)),\"1\",\"0\")","v":"0"},{"$f":"IF(ISNUMBER(SEARCH(\"17\",#REF!)),\"1\",\"0\")","v":"0"},{"$nulls":3},9,22,18,16,{"$nulls":3},8,4,12,24,{"$nulls":4},{"$f":"#REF!-#REF!","v":{"$error":"#REF!"}}]
[2,21,6,35,2,24,1996,2,3,1,6,5,2,"4. Tentative de Viol","0","0","0","1","0","0","0","0","0","0","0","0","0","0","0","0","0","0",null,1,2,5,2,{"$f":"IF(ISNUMBER(SEARCH(\"1\",#REF!)),\"1\",\"0\")","v":"0"},0,{"$f":"IF(ISNUMBER(SEARCH(\"3\",#REF!)),\"1\",\"0\")","v":"0"},{"$f":"IF(ISNUMBER(SEARCH(\"4\",#REF!)),\"1\",\"0\")","v":"0"},{"$f":"IF(ISNUMBER(SEARCH(\"5\",#REF!)),\"1\",\"0\")","v":"0"},{"$f":"IF(ISNUMBER(SEARCH(\"6\",#REF!)),\"1\",\"0\")","v":"0"},{"$f":"IF(ISNUMBER(SEARCH(\"7\",#REF!)),\"1\",\"0\")","v":"0"},{"$f":"IF(ISNUMBER(SEARCH(\"8\",#REF!)),\"1\",\"0\")","v":"0"},{"$f":"IF(ISNUMBER(SEARCH(\"9\",#REF!)),\"1\",\"0\")","v":"0"},{"$f":"IF(ISNUMBER(SEARCH(\"9\",#REF!)),\"1\",\"0\")","v":"0"},{"$f":"IF(ISNUMBER(SEARCH(\"10\",#REF!)),\"1\",\"0\")","v":"0"},{"$f":"IF(ISNUMBER(SEARCH(\"11\",#REF!)),\"1\",\"0\")","v":"0"},{"$f":"IF(ISNUMBER(SEARCH(\"12\",#REF!)),\"1\",\"0\")","v":"0"},{"$f":"IF(ISNUMBER(SEARCH(\"13\",#REF!)),\"1\",\"0\")","v":"0"},{"$f":"IF(ISNUMBER(SEARCH(\"14\",#REF!)),\"1\",\"0\")","v":"0"},{"$f":"IF(ISNUMBER(SEARCH(\"15\",#REF!)),\"1\",\"0\")","v":"0"},{"$f":"IF(ISNUMBER(SEARCH(\"16\",#REF!)),\"1\",\"0\")","v":"0"},{"$f":"IF(ISNUMBER(SEARCH(\"17\",#REF!)),\"1\",\"0\")","v":"0"},{"$nulls":3},9,16,16,18,{"$nulls":3},24,20,12,56,{"$nulls":4},{"$f":"#REF!-#REF!","v":{"$error":"#REF!"}}]
[2,21,6,35,1,54,{"$f":"2020-F5214","v":1966},3,3,1,7,5,2,"7. Prostitution forcée","0","0","0","0","0","0","1","0","0","0","0","0","0","0","0","0","0","0",null,1,1,3,1,{"$f":"IF(ISNUMBER(SEARCH(\"1\",#REF!)),\"1\",\"0\")","v":"0"},{"$f":"IF(ISNUMBER(SEARCH(\"2\",#REF!)),\"1\",\"0\")","v":"0"},{"$f":"IF(ISNUMBER(SEARCH(\"3\",#REF!)),\"1\",\"0\")","v":"0"},{"$f":"IF(ISNUMBER(SEARCH(\"4\",#REF!)),\"1\",\"0\")","v":"0"},{"$f":"IF(ISNUMBER(SEARCH(\"5\",#REF!)),\"1\",\"0\")","v":"0"},{"$f":"IF(ISNUMBER(SEARCH(\"6\",#REF!)),\"1\",\"0\")","v":"0"},{"$f":"IF(ISNUMBER(SEARCH(\"7\",#REF!)),\"1\",\"0\")","v":"0"},{"$f":"IF(ISNUMBER(SEARCH(\"8\",#REF!)),\"1\",\"0\")","v":"0"},{"$f":"IF(ISNUMBER(SEARCH(\"9\",#REF!)),\"1\",\"0\")","v":"0"},{"$f":"IF(ISNUMBER(SEARCH(\"9\",#REF!)),\"1\",\"0\")","v":"0"},{"$f":"IF(ISNUMBER(SEARCH(\"10\",#REF!)),\"1\",\"0\")","v":"0"},{"$f":"IF(ISNUMBER(SEARCH(\"11\",#REF!)),\"1\",\"0\")","v":"0"},{"$f":"IF(ISNUMBER(SEARCH(\"12\",#REF!)),\"1\",\"0\")","v":"0"},{"$f":"IF(ISNUMBER(SEARCH(\"13\",#REF!)),\"1\",\"0\")","v":"0"},{"$f":"IF(ISNUMBER(SEARCH(\"14\",#REF!)),\"1\",\"0\")","v":"0"},{"$f":"IF(ISNUMBER(SEARCH(\"15\",#REF!)),\"1\",\"0\")","v":"0"},{"$f":"IF(ISNUMBER(SEARCH(\"16\",#REF!)),\"1\",\"0\")","v":"0"},{"$f":"IF(ISNUMBER(SEARCH(\"17\",#REF!)),\"1\",\"0\")","v":"0"},{"$nulls":3},9,22,14,18,{"$nulls":11},{"$f":"#REF!-#REF!","v":{"$error":"#REF!"}}]
[2,21,6,36,2,28,1992,4,7,1,5,5,2,14,"1","0","0","1","0","0","0","0","0","0","0","0","0","1","0","0","0","0",null,1,3,5,2,{"$f":"IF(ISNUMBER(SEARCH(\"1\",#REF!)),\"1\",\"0\")","v":"0"},{"$f":"IF(ISNUMBER(SEARCH(\"2\",#REF!)),\"1\",\"0\")","v":"0"},{"$f":"IF(ISNUMBER(SEARCH(\"3\",#REF!)),\"1\",\"0\")","v":"0"},{"$f":"IF(ISNUMBER(SEARCH(\"4\",#REF!)),\"1\",\"0\")","v":"0"},{"$f":"IF(ISNUMBER(SEARCH(\"5\",#REF!)),\"1\",\"0\")","v":"0"},{"$f":"IF(ISNUMBER(SEARCH(\"6\",#REF!)),\"1\",\"0\")","v":"0"},{"$f":"IF(ISNUMBER(SEARCH(\"7\",#REF!)),\"1\",\"0\")","v":"0"},{"$f":"IF(ISNUMBER(SEARCH(\"8\",#REF!)),\"1\",\"0\")","v":"0"},{"$f":"IF(ISNUMBER(SEARCH(\"9\",#REF!)),\"1\",\"0\")","v":"0"},{"$f":"IF(ISNUMBER(SEARCH(\"9\",#REF!)),\"1\",\"0\")","v":"0"},{"$f":"IF(ISNUMBER(SEARCH(\"10\",#REF!)),\"1\",\"0\")","v":"0"},{"$f":"IF(ISNUMBER(SEARCH(\"11\",#REF!)),\"1\",\"0\")","v":"0"},{"$f":"IF(ISNUMBER(SEARCH(\"12\",#REF!)),\"1\",\"0\")","v":"0"},{"$f":"IF(ISNUMBER(SEARCH(\"13\",#REF!)),\"1\",\"0\")","v":"0"},{"$f":"IF(ISNUMBER(SEARCH(\"14\",#REF!)),\"1\",\"0\")","v":"0"},{"$f":"IF(ISNUMBER(SEARCH(\"15\",#REF!)),\"1\",\"0\")","v":"0"},{"$f":"IF(ISNUMBER(SEARCH(\"16\",#REF!)),\"1\",\"0\")","v":"0"},{"$f":"IF(ISNUMBER(SEARCH(\"17\",#REF!)),\"1\",\"0\")","v":"0"},{"$nulls":3},9,32,28,28,{"$nulls":3},4,6,8,18,{"$nulls":4},{"$f":"#REF!-#REF!","v":{"$error":"#REF!"}}]
[2,21,6,36,1,28,1992,3,3,1,0,5,1,"16. Autre (SVP dans 20 case suivante) ","1","1","0","0","0","1","0","0","0","0","0","0","0","0","0","1","0","0",null,1,1,2,2,{"$f":"IF(ISNUMBER(SEARCH(\"1\",#REF!)),\"1\",\"0\")","v":"0"},{"$f":"IF(ISNUMBER(SEARCH(\"2\",#REF!)),\"1\",\"0\")","v":"0"},{"$f":"IF(ISNUMBER(SEARCH(\"3\",#REF!)),\"1\",\"0\")","v":"0"},{"$f":"IF(ISNUMBER(SEARCH(\"4\",#REF!)),\"1\",\"0\")","v":"0"},{"$f":"IF(ISNUMBER(SEARCH(\"5\",#REF!)),\"1\",\"0\")","v":"0"},{"$f":"IF(ISNUMBER(SEARCH(\"6\",#REF!)),\"1\",\"0\")","v":"0"},{"$f":"IF(ISNUMBER(SEARCH(\"7\",#REF!)),\"1\",\"0\")","v":"0"},{"$f":"IF(ISNUMBER(SEARCH(\"8\",#REF!)),\"1\",\"0\")","v":"0"},{"$f":"IF(ISNUMBER(SEARCH(\"9\",#REF!)),\"1\",\"0\")","v":"0"},{"$f":"IF(ISNUMBER(SEARCH(\"9\",#REF!)),\"1\",\"0\")","v":"0"},{"$f":"IF(ISNUMBER(SEARCH(\"10\",#REF!)),\"1\",\"0\")","v":"0"},{"$f":"IF(ISNUMBER(SEARCH(\"11\",#REF!)),\"1\",\"0\")","v":"0"},{"$f":"IF(ISNUMBER(SEARCH(\"12\",#REF!)),\"1\",\"0\")","v":"0"},{"$f":"IF(ISNUMBER(SEARCH(\"13\",#REF!)),\"1\",\"0\")","v":"0"},{"$f":"IF(ISNUMBER(SEARCH(\"14\",#REF!)),\"1\",\"0\")","v":"0"},{"$f":"IF(ISNUMBER(SEARCH(\"15\",#REF!)),\"1\",\"0\")","v":"0"},{"$f":"IF(ISNUMBER(SEARCH(\"16\",#REF!)),\"1\",\"0\")","v":"0"},{"$f":"IF(ISNUMBER(SEARCH(\"17\",#REF!)),\"1\",\"0\")","v":"0"},{"$nulls":3},9,26,6,16,{"$nulls":11},{"$f":"#REF!-#REF!","v":{"$error":"#REF!"}}]
[2,21,6,36,2,31,1989,2,3,1,8,5,2,3,"0","0","1","0","0","0","0","0","0","0","0","0","0","0","0","0","0","0",null,1,7,5,1,{"$f":"IF(ISNUMBER(SEARCH(\"1\",#REF!)),\"1\",\"0\")","v":"0"},{"$f":"IF(ISNUMBER(SEARCH(\"2\",#REF!)),\"1\",\"0\")","v":"0"},{"$f":"IF(ISNUMBER(SEARCH(\"3\",#REF!)),\"1\",\"0\")","v":"0"},{"$f":"IF(ISNUMBER(SEARCH(\"4\",#REF!)),\"1\",\"0\")","v":"0"},{"$f":"IF(ISNUMBER(SEARCH(\"5\",#REF!)),\"1\",\"0\")","v":"0"},{"$f":"IF(ISNUMBER(SEARCH(\"6\",#REF!)),\"1\",\"0\")","v":"0"},{"$f":"IF(ISNUMBER(SEARCH(\"7\",#REF!)),\"1\",\"0\")","v":"0"},{"$f":"IF(ISNUMBER(SEARCH(\"8\",#REF!)),\"1\",\"0\")","v":"0"},{"$f":"IF(ISNUMBER(SEARCH(\"9\",#REF!)),\"1\",\"0\")","v":"0"},{"$f":"IF(ISNUMBER(SEARCH(\"9\",#REF!)),\"1\",\"0\")","v":"0"},{"$f":"IF(ISNUMBER(SEARCH(\"10\",#REF!)),\"1\",\"0\")","v":"0"},{"$f":"IF(ISNUMBER(SEARCH(\"11\",#REF!)),\"1\",\"0\")","v":"0"},{"$f":"IF(ISNUMBER(SEARCH(\"12\",#REF!)),\"1\",\"0\")","v":"0"},{"$f":"IF(ISNUMBER(SEARCH(\"13\",#REF!)),\"1\",\"0\")","v":"0"},{"$f":"IF(ISNUMBER(SEARCH(\"14\",#REF!)),\"1\",\"0\")","v":"0"},{"$f":"IF(ISNUMBER(SEARCH(\"15\",#REF!)),\"1\",\"0\")","v":"0"},{"$f":"IF(ISNUMBER(SEARCH(\"16\",#REF!)),\"1\",\"0\")","v":"0"},{"$f":"IF(ISNUMBER(SEARCH(\"17\",#REF!)),\"1\",\"0\")","v":"0"},1,null,null,3,24,26,20,{"$nulls":11},{"$f":"#REF!-#REF!","v":{"$error":"#REF!"}}]
[2,21,6,36,2,30,1990,1,3,1,5,5,2,3,"0","0","1","0","0","0","0","0","0","0","0","0","0","0","0","0","0","0",null,1,7,3,1,{"$f":"IF(ISNUMBER(SEARCH(\"1\",#REF!)),\"1\",\"0\")","v":"0"},{"$f":"IF(ISNUMBER(SEARCH(\"2\",#REF!)),\"1\",\"0\")","v":"0"},{"$f":"IF(ISNUMBER(SEARCH(\"3\",#REF!)),\"1\",\"0\")","v":"0"},{"$f":"IF(ISNUMBER(SEARCH(\"4\",#REF!)),\"1\",\"0\")","v":"0"},{"$f":"IF(ISNUMBER(SEARCH(\"5\",#REF!)),\"1\",\"0\")","v":"0"},{"$f":"IF(ISNUMBER(SEARCH(\"6\",#REF!)),\"1\",\"0\")","v":"0"},{"$f":"IF(ISNUMBER(SEARCH(\"7\",#REF!)),\"1\",\"0\")","v":"0"},{"$f":"IF(ISNUMBER(SEARCH(\"8\",#REF!)),\"1\",\"0\")","v":"0"},{"$f":"IF(ISNUMBER(SEARCH(\"9\",#REF!)),\"1\",\"0\")","v":"0"},{"$f":"IF(ISNUMBER(SEARCH(\"9\",#REF!)),\"1\",\"0\")","v":"0"},{"$f":"IF(ISNUMBER(SEARCH(\"10\",#REF!)),\"1\",\"0\")","v":"0"},{"$f":"IF(ISNUMBER(SEARCH(\"11\",#REF!)),\"1\",\"0\")","v":"0"},{"$f":"IF(ISNUMBER(SEARCH(\"12\",#REF!)),\"1\",\"0\")","v":"0"},{"$f":"IF(ISNUMBER(SEARCH(\"13\",#REF!)),\"1\",\"0\")","v":"0"},{"$f":"IF(ISNUMBER(SEARCH(\"14\",#REF!)),\"1\",\"0\")","v":"0"},{"$f":"IF(ISNUMBER(SEARCH(\"15\",#REF!)),\"1\",\"0\")","v":"0"},{"$f":"IF(ISNUMBER(SEARCH(\"16\",#REF!)),\"1\",\"0\")","v":"0"},{"$f":"IF(ISNUMBER(SEARCH(\"17\",#REF!)),\"1\",\"0\")","v":"0"},1,null,null,9]
[2,21,18,30,null,30,{"$f":"2020-F5276","v":1990},2,7,2,5,5,2,3,"0","0","1","0","0","0","0","0","0","0","0","0","0","0","0","0","0","0",null,1,3,5,2,{"$f":"IF(ISNUMBER(SEARCH(\"1\",#REF!)),\"1\",\"0\")","v":"0"},0,{"$f":"IF(ISNUMBER(SEARCH(\"3\",#REF!)),\"1\",\"0\")","v":"0"},{"$f":"IF(ISNUMBER(SEARCH(\"4\",#REF!)),\"1\",\"0\")","v":"0"},{"$f":"IF(ISNUMBER(SEARCH(\"5\",#REF!)),\"1\",\"0\")","v":"0"},{"$f":"IF(ISNUMBER(SEARCH(\"6\",#REF!)),\"1\",\"0\")","v":"0"},{"$f":"IF(ISNUMBER(SEARCH(\"7\",#REF!)),\"1\",\"0\")","v":"0"},{"$f":"IF(ISNUMBER(SEARCH(\"8\",#REF!)),\"1\",\"0\")","v":"0"},{"$f":"IF(ISNUMBER(SEARCH(\"9\",#REF!)),\"1\",\"0\")","v":"0"},{"$f":"IF(ISNUMBER(SEARCH(\"9\",#REF!)),\"1\",\"0\")","v":"0"},{"$f":"IF(ISNUMBER(SEARCH(\"10\",#REF!)),\"1\",\"0\")","v":"0"},{"$f":"IF(ISNUMBER(SEARCH(\"11\",#REF!)),\"1\",\"0\")","v":"0"},{"$f":"IF(ISNUMBER(SEARCH(\"12\",#REF!)),\"1\",\"0\")","v":"0"},{"$f":"IF(ISNUMBER(SEARCH(\"13\",#REF!)),\"1\",\"0\")","v":"0"},{"$f":"IF(ISNUMBER(SEARCH(\"14\",#REF!)),\"1\",\"0\")","v":"0"},{"$f":"IF(ISNUMBER(SEARCH(\"15\",#REF!)),\"1\",\"0\")","v":"0"},{"$f":"IF(ISNUMBER(SEARCH(\"16\",#REF!)),\"1\",\"0\")","v":"0"},{"$f":"IF(ISNUMBER(SEARCH(\"17\",#REF!)),\"1\",\"0\")","v":"0"},1,3,null,3]
[2,21,18,29,null,47,1973,3,8,1,1,3,2,null,"0","0","0","0","0","0","0","0","0","0","0","0","0","0","0","0","0","0",null,1,3,5,2,{"$f":"IF(ISNUMBER(SEARCH(\"1\",#REF!)),\"1\",\"0\")","v":"0"},{"$f":"IF(ISNUMBER(SEARCH(\"2\",#REF!)),\"1\",\"0\")","v":"0"},{"$f":"IF(ISNUMBER(SEARCH(\"3\",#REF!)),\"1\",\"0\")","v":"0"},{"$f":"IF(ISNUMBER(SEARCH(\"4\",#REF!)),\"1\",\"0\")","v":"0"},{"$f":"IF(ISNUMBER(SEARCH(\"5\",#REF!)),\"1\",\"0\")","v":"0"},{"$f":"IF(ISNUMBER(SEARCH(\"6\",#REF!)),\"1\",\"0\")","v":"0"},{"$f":"IF(ISNUMBER(SEARCH(\"7\",#REF!)),\"1\",\"0\")","v":"0"},{"$f":"IF(ISNUMBER(SEARCH(\"8\",#REF!)),\"1\",\"0\")","v":"0"},{"$f":"IF(ISNUMBER(SEARCH(\"9\",#REF!)),\"1\",\"0\")","v":"0"},{"$f":"IF(ISNUMBER(SEARCH(\"9\",#REF!)),\"1\",\"0\")","v":"0"},{"$f":"IF(ISNUMBER(SEARCH(\"10\",#REF!)),\"1\",\"0\")","v":"0"},{"$f":"IF(ISNUMBER(SEARCH(\"11\",#REF!)),\"1\",\"0\")","v":"0"},{"$f":"IF(ISNUMBER(SEARCH(\"12\",#REF!)),\"1\",\"0\")","v":"0"},{"$f":"IF(ISNUMBER(SEARCH(\"13\",#REF!)),\"1\",\"0\")","v":"0"},{"$f":"IF(ISNUMBER(SEARCH(\"14\",#REF!)),\"1\",\"0\")","v":"0"},{"$f":"IF(ISNUMBER(SEARCH(\"15\",#REF!)),\"1\",\"0\")","v":"0"},{"$f":"IF(ISNUMBER(SEARCH(\"16\",#REF!)),\"1\",\"0\")","v":"0"},{"$f":"IF(ISNUMBER(SEARCH(\"17\",#REF!)),\"1\",\"0\")","v":"0"},{"$nulls":3},9]
[2,21,"LS",25,null,49,1971,1,3,1,6,5,2,"1, 16. Autre (SVP dans 20 case suivante) ","1","1","0","0","0","1","0","0","0","0","0","0","0","0","0","1","0","0",null,1,1,5,2,{"$f":"IF(ISNUMBER(SEARCH(\"1\",#REF!)),\"1\",\"0\")","v":"0"},{"$f":"IF(ISNUMBER(SEARCH(\"2\",#REF!)),\"1\",\"0\")","v":"0"},{"$f":"IF(ISNUMBER(SEARCH(\"3\",#REF!)),\"1\",\"0\")","v":"0"},{"$f":"IF(ISNUMBER(SEARCH(\"4\",#REF!)),\"1\",\"0\")","v":"0"},{"$f":"IF(ISNUMBER(SEARCH(\"5\",#REF!)),\"1\",\"0\")","v":"0"},{"$f":"IF(ISNUMBER(SEARCH(\"6\",#REF!)),\"1\",\"0\")","v":"0"},{"$f":"IF(ISNUMBER(SEARCH(\"7\",#REF!)),\"1\",\"0\")","v":"0"},{"$f":"IF(ISNUMBER(SEARCH(\"8\",#REF!)),\"1\",\"0\")","v":"0"},{"$f":"IF(ISNUMBER(SEARCH(\"9\",#REF!)),\"1\",\"0\")","v":"0"},{"$f":"IF(ISNUMBER(SEARCH(\"9\",#REF!)),\"1\",\"0\")","v":"0"},{"$f":"IF(ISNUMBER(SEARCH(\"10\",#REF!)),\"1\",\"0\")","v":"0"},{"$f":"IF(ISNUMBER(SEARCH(\"11\",#REF!)),\"1\",\"0\")","v":"0"},{"$f":"IF(ISNUMBER(SEARCH(\"12\",#REF!)),\"1\",\"0\")","v":"0"},{"$f":"IF(ISNUMBER(SEARCH(\"13\",#REF!)),\"1\",\"0\")","v":"0"},{"$f":"IF(ISNUMBER(SEARCH(\"14\",#REF!)),\"1\",\"0\")","v":"0"},{"$f":"IF(ISNUMBER(SEARCH(\"15\",#REF!)),\"1\",\"0\")","v":"0"},{"$f":"IF(ISNUMBER(SEARCH(\"16\",#REF!)),\"1\",\"0\")","v":"0"},{"$f":"IF(ISNUMBER(SEARCH(\"17\",#REF!)),\"1\",\"0\")","v":"0"},{"$nulls":3},9]
[2,21,"LS",25,null,51,1969,2,3,1,8,11,5,"3, 14","1","0","1","1","0","0","0","0","0","0","0","0","0","1","0","0","0","0",null,1,7,5,1,{"$f":"IF(ISNUMBER(SEARCH(\"1\",#REF!)),\"1\",\"0\")","v":"0"},{"$f":"IF(ISNUMBER(SEARCH(\"2\",#REF!)),\"1\",\"0\")","v":"0"},{"$f":"IF(ISNUMBER(SEARCH(\"3\",#REF!)),\"1\",\"0\")","v":"0"},{"$f":"IF(ISNUMBER(SEARCH(\"4\",#REF!)),\"1\",\"0\")","v":"0"},{"$f":"IF(ISNUMBER(SEARCH(\"5\",#REF!)),\"1\",\"0\")","v":"0"},{"$f":"IF(ISNUMBER(SEARCH(\"6\",#REF!)),\"1\",\"0\")","v":"0"},{"$f":"IF(ISNUMBER(SEARCH(\"7\",#REF!)),\"1\",\"0\")","v":"0"},{"$f":"IF(ISNUMBER(SEARCH(\"8\",#REF!)),\"1\",\"0\")","v":"0"},{"$f":"IF(ISNUMBER(SEARCH(\"9\",#REF!)),\"1\",\"0\")","v":"0"},{"$f":"IF(ISNUMBER(SEARCH(\"9\",#REF!)),\"1\",\"0\")","v":"0"},{"$f":"IF(ISNUMBER(SEARCH(\"10\",#REF!)),\"1\",\"0\")","v":"0"},{"$f":"IF(ISNUMBER(SEARCH(\"11\",#REF!)),\"1\",\"0\")","v":"0"},{"$f":"IF(ISNUMBER(SEARCH(\"12\",#REF!)),\"1\",\"0\")","v":"0"},{"$f":"IF(ISNUMBER(SEARCH(\"13\",#REF!)),\"1\",\"0\")","v":"0"},{"$f":"IF(ISNUMBER(SEARCH(\"14\",#REF!)),\"1\",\"0\")","v":"0"},{"$f":"IF(ISNUMBER(SEARCH(\"15\",#REF!)),\"1\",\"0\")","v":"0"},{"$f":"IF(ISNUMBER(SEARCH(\"16\",#REF!)),\"1\",\"0\")","v":"0"},{"$f":"IF(ISNUMBER(SEARCH(\"17\",#REF!)),\"1\",\"0\")","v":"0"},1,null,null,3]
[2,21,15,31,null,29,1991,3,3,1,2,5,1,3,"0","0","1","0","0","0","0","0","0","0","0","0","0","0","0","0","0","0",null,1,3,5,2,{"$f":"IF(ISNUMBER(SEARCH(\"1\",#REF!)),\"1\",\"0\")","v":"0"},{"$f":"IF(ISNUMBER(SEARCH(\"2\",#REF!)),\"1\",\"0\")","v":"0"},{"$f":"IF(ISNUMBER(SEARCH(\"3\",#REF!)),\"1\",\"0\")","v":"0"},{"$f":"IF(ISNUMBER(SEARCH(\"4\",#REF!)),\"1\",\"0\")","v":"0"},{"$f":"IF(ISNUMBER(SEARCH(\"5\",#REF!)),\"1\",\"0\")","v":"0"},{"$f":"IF(ISNUMBER(SEARCH(\"6\",#REF!)),\"1\",\"0\")","v":"0"},{"$f":"IF(ISNUMBER(SEARCH(\"7\",#REF!)),\"1\",\"0\")","v":"0"},{"$f":"IF(ISNUMBER(SEARCH(\"8\",#REF!)),\"1\",\"0\")","v":"0"},{"$f":"IF(ISNUMBER(SEARCH(\"9\",#REF!)),\"1\",\"0\")","v":"0"},{"$f":"IF(ISNUMBER(SEARCH(\"9\",#REF!)),\"1\",\"0\")","v":"0"},{"$f":"IF(ISNUMBER(SEARCH(\"10\",#REF!)),\"1\",\"0\")","v":"0"},{"$f":"IF(ISNUMBER(SEARCH(\"11\",#REF!)),\"1\",\"0\")","v":"0"},{"$f":"IF(ISNUMBER(SEARCH(\"12\",#REF!)),\"1\",\"0\")","v":"0"},{"$f":"IF(ISNUMBER(SEARCH(\"13\",#REF!)),\"1\",\"0\")","v":"0"},{"$f":"IF(ISNUMBER(SEARCH(\"14\",#REF!)),\"1\",\"0\")","v":"0"},{"$f":"IF(ISNUMBER(SEARCH(\"15\",#REF!)),\"1\",\"0\")","v":"0"},{"$f":"IF(ISNUMBER(SEARCH(\"16\",#REF!)),\"1\",\"0\")","v":"0"},{"$f":"IF(ISNUMBER(SEARCH(\"17\",#REF!)),\"1\",\"0\")","v":"0"},1,null,null,3]
[2,21,15,33,null,28,null,3,3,1,1,5,2,1,"1","0","0","0","0","0","0","0","0","0","0","0","0","0","0","0","0","0",null,1,{"$nulls":3},{"$f":"IF(ISNUMBER(SEARCH(\"1\",#REF!)),\"1\",\"0\")","v":"0"},{"$f":"IF(ISNUMBER(SEARCH(\"2\",#REF!)),\"1\",\"0\")","v":"0"},{"$f":"IF(ISNUMBER(SEARCH(\"3\",#REF!)),\"1\",\"0\")","v":"0"},{"$f":"IF(ISNUMBER(SEARCH(\"4\",#REF!)),\"1\",\"0\")","v":"0"},{"$f":"IF(ISNUMBER(SEARCH(\"5\",#REF!)),\"1\",\"0\")","v":"0"},{"$f":"IF(ISNUMBER(SEARCH(\"6\",#REF!)),\"1\",\"0\")","v":"0"},{"$f":"IF(ISNUMBER(SEARCH(\"7\",#REF!)),\"1\",\"0\")","v":"0"},{"$f":"IF(ISNUMBER(SEARCH(\"8\",#REF!)),\"1\",\"0\")","v":"0"},{"$f":"IF(ISNUMBER(SEARCH(\"9\",#REF!)),\"1\",\"0\")","v":"0"},{"$f":"IF(ISNUMBER(SEARCH(\"9\",#REF!)),\"1\",\"0\")","v":"0"},{"$f":"IF(ISNUMBER(SEARCH(\"10\",#REF!)),\"1\",\"0\")","v":"0"},{"$f":"IF(ISNUMBER(SEARCH(\"11\",#REF!)),\"1\",\"0\")","v":"0"},{"$f":"IF(ISNUMBER(SEARCH(\"12\",#REF!)),\"1\",\"0\")","v":"0"},{"$f":"IF(ISNUMBER(SEARCH(\"13\",#REF!)),\"1\",\"0\")","v":"0"},{"$f":"IF(ISNUMBER(SEARCH(\"14\",#REF!)),\"1\",\"0\")","v":"0"},{"$f":"IF(ISNUMBER(SEARCH(\"15\",#REF!)),\"1\",\"0\")","v":"0"},{"$f":"IF(ISNUMBER(SEARCH(\"16\",#REF!)),\"1\",\"0\")","v":"0"},{"$f":"IF(ISNUMBER(SEARCH(\"17\",#REF!)),\"1\",\"0\")","v":"0"},{"$nulls":3},3]
[2,21,"KK",3,null,27,{"$f":"2020-F5348","v":1993},2,3,1,2,5,2,"4. Tentative de Viol","0","0","0","1","0","0","0","0","0","0","0","0","0","0","0","0","0","0",null,1,2,5,2,{"$f":"IF(ISNUMBER(SEARCH(\"1\",#REF!)),\"1\",\"0\")","v":"0"},0,{"$f":"IF(ISNUMBER(SEARCH(\"3\",#REF!)),\"1\",\"0\")","v":"0"},{"$f":"IF(ISNUMBER(SEARCH(\"4\",#REF!)),\"1\",\"0\")","v":"0"},{"$f":"IF(ISNUMBER(SEARCH(\"5\",#REF!)),\"1\",\"0\")","v":"0"},{"$f":"IF(ISNUMBER(SEARCH(\"6\",#REF!)),\"1\",\"0\")","v":"0"},{"$f":"IF(ISNUMBER(SEARCH(\"7\",#REF!)),\"1\",\"0\")","v":"0"},{"$f":"IF(ISNUMBER(SEARCH(\"8\",#REF!)),\"1\",\"0\")","v":"0"},{"$f":"IF(ISNUMBER(SEARCH(\"9\",#REF!)),\"1\",\"0\")","v":"0"},{"$f":"IF(ISNUMBER(SEARCH(\"9\",#REF!)),\"1\",\"0\")","v":"0"},{"$f":"IF(ISNUMBER(SEARCH(\"10\",#REF!)),\"1\",\"0\")","v":"0"},{"$f":"IF(ISNUMBER(SEARCH(\"11\",#REF!)),\"1\",\"0\")","v":"0"},{"$f":"IF(ISNUMBER(SEARCH(\"12\",#REF!)),\"1\",\"0\")","v":"0"},{"$f":"IF(ISNUMBER(SEARCH(\"13\",#REF!)),\"1\",\"0\")","v":"0"},{"$f":"IF(ISNUMBER(SEARCH(\"14\",#REF!)),\"1\",\"0\")","v":"0"},{"$f":"IF(ISNUMBER(SEARCH(\"15\",#REF!)),\"1\",\"0\")","v":"0"},{"$f":"IF(ISNUMBER(SEARCH(\"16\",#REF!)),\"1\",\"0\")","v":"0"},{"$f":"IF(ISNUMBER(SEARCH(\"17\",#REF!)),\"1\",\"0\")","v":"0"},{"$nulls":3},9,12,12,10,{"$nulls":11},{"$f":"#REF!-#REF!","v":{"$error":"#REF!"}}]
[2,21,6,35,null,35,1985,1,3,1,8,5,2,2,"0","1","0","0","0","0","0","0","0","0","0","0","0","0","0","0","0","0",null,1,3,5,2,{"$f":"IF(ISNUMBER(SEARCH(\"1\",#REF!)),\"1\",\"0\")","v":"0"},{"$f":"IF(ISNUMBER(SEARCH(\"2\",#REF!)),\"1\",\"0\")","v":"0"},{"$f":"IF(ISNUMBER(SEARCH(\"3\",#REF!)),\"1\",\"0\")","v":"0"},{"$f":"IF(ISNUMBER(SEARCH(\"4\",#REF!)),\"1\",\"0\")","v":"0"},{"$f":"IF(ISNUMBER(SEARCH(\"5\",#REF!)),\"1\",\"0\")","v":"0"},{"$f":"IF(ISNUMBER(SEARCH(\"6\",#REF!)),\"1\",\"0\")","v":"0"},{"$f":"IF(ISNUMBER(SEARCH(\"7\",#REF!)),\"1\",\"0\")","v":"0"},{"$f":"IF(ISNUMBER(SEARCH(\"8\",#REF!)),\"1\",\"0\")","v":"0"},{"$f":"IF(ISNUMBER(SEARCH(\"9\",#REF!)),\"1\",\"0\")","v":"0"},{"$f":"IF(ISNUMBER(SEARCH(\"9\",#REF!)),\"1\",\"0\")","v":"0"},{"$f":"IF(ISNUMBER(SEARCH(\"10\",#REF!)),\"1\",\"0\")","v":"0"},{"$f":"IF(ISNUMBER(SEARCH(\"11\",#REF!)),\"1\",\"0\")","v":"0"},{"$f":"IF(ISNUMBER(SEARCH(\"12\",#REF!)),\"1\",\"0\")","v":"0"},{"$f":"IF(ISNUMBER(SEARCH(\"13\",#REF!)),\"1\",\"0\")","v":"0"},{"$f":"IF(ISNUMBER(SEARCH(\"14\",#REF!)),\"1\",\"0\")","v":"0"},{"$f":"IF(ISNUMBER(SEARCH(\"15\",#REF!)),\"1\",\"0\")","v":"0"},{"$f":"IF(ISNUMBER(SEARCH(\"16\",#REF!)),\"1\",\"0\")","v":"0"},{"$f":"IF(ISNUMBER(SEARCH(\"17\",#REF!)),\"1\",\"0\")","v":"0"},{"$nulls":3},9,18,14,16,{"$nulls":11},{"$f":"#REF!-#REF!","v":{"$error":"#REF!"}}]
[2,21,6,36,null,28,1992,2,3,4,7,5,2,"16. Autre (SVP dans 20 case suivante) ","1","1","0","0","0","1","0","0","0","0","0","0","0","0","0","1","0","0",null,1,1,2,1,{"$f":"IF(ISNUMBER(SEARCH(\"1\",#REF!)),\"1\",\"0\")","v":"0"},{"$f":"IF(ISNUMBER(SEARCH(\"2\",#REF!)),\"1\",\"0\")","v":"0"},{"$f":"IF(ISNUMBER(SEARCH(\"3\",#REF!)),\"1\",\"0\")","v":"0"},{"$f":"IF(ISNUMBER(SEARCH(\"4\",#REF!)),\"1\",\"0\")","v":"0"},{"$f":"IF(ISNUMBER(SEARCH(\"5\",#REF!)),\"1\",\"0\")","v":"0"},{"$f":"IF(ISNUMBER(SEARCH(\"6\",#REF!)),\"1\",\"0\")","v":"0"},{"$f":"IF(ISNUMBER(SEARCH(\"7\",#REF!)),\"1\",\"0\")","v":"0"},{"$f":"IF(ISNUMBER(SEARCH(\"8\",#REF!)),\"1\",\"0\")","v":"0"},{"$f":"IF(ISNUMBER(SEARCH(\"9\",#REF!)),\"1\",\"0\")","v":"0"},{"$f":"IF(ISNUMBER(SEARCH(\"9\",#REF!)),\"1\",\"0\")","v":"0"},{"$f":"IF(ISNUMBER(SEARCH(\"10\",#REF!)),\"1\",\"0\")","v":"0"},{"$f":"IF(ISNUMBER(SEARCH(\"11\",#REF!)),\"1\",\"0\")","v":"0"},{"$f":"IF(ISNUMBER(SEARCH(\"12\",#REF!)),\"1\",\"0\")","v":"0"},{"$f":"IF(ISNUMBER(SEARCH(\"13\",#REF!)),\"1\",\"0\")","v":"0"},{"$f":"IF(ISNUMBER(SEARCH(\"14\",#REF!)),\"1\",\"0\")","v":"0"},{"$f":"IF(ISNUMBER(SEARCH(\"15\",#REF!)),\"1\",\"0\")","v":"0"},{"$f":"IF(ISNUMBER(SEARCH(\"16\",#REF!)),\"1\",\"0\")","v":"0"},{"$f":"IF(ISNUMBER(SEARCH(\"17\",#REF!)),\"1\",\"0\")","v":"0"},{"$nulls":3},9,20,0,24,{"$nulls":11},{"$f":"#REF!-#REF!","v":{"$error":"#REF!"}}]
[4,41,411,null,2,44,null,2,8,2,6,10,2,"2. Witness of violence (physical, threats, killings/death, torture, ill treatment, sexual, family/domestic), 10. Kidnapping/hostage (without sexual violence), 11. Killing of family member/loved one, 15. Insults / received threats","1","1","0","0","1","0","0","0","0","1","1","0","0","0","1","0","0","0",null,2,1,4,null,{"$f":"IF(ISNUMBER(SEARCH(\"1\",#REF!)),\"1\",\"0\")","v":"0"},{"$f":"IF(ISNUMBER(SEARCH(\"2\",#REF!)),\"1\",\"0\")","v":"0"},{"$f":"IF(ISNUMBER(SEARCH(\"3\",#REF!)),\"1\",\"0\")","v":"0"},{"$f":"IF(ISNUMBER(SEARCH(\"4\",#REF!)),\"1\",\"0\")","v":"0"},{"$f":"IF(ISNUMBER(SEARCH(\"5\",#REF!)),\"1\",\"0\")","v":"0"},{"$f":"IF(ISNUMBER(SEARCH(\"6\",#REF!)),\"1\",\"0\")","v":"0"},{"$f":"IF(ISNUMBER(SEARCH(\"7\",#REF!)),\"1\",\"0\")","v":"0"},{"$f":"IF(ISNUMBER(SEARCH(\"8\",#REF!)),\"1\",\"0\")","v":"0"},{"$f":"IF(ISNUMBER(SEARCH(\"9\",#REF!)),\"1\",\"0\")","v":"0"},{"$f":"IF(ISNUMBER(SEARCH(\"9\",#REF!)),\"1\",\"0\")","v":"0"},{"$f":"IF(ISNUMBER(SEARCH(\"10\",#REF!)),\"1\",\"0\")","v":"0"},{"$f":"IF(ISNUMBER(SEARCH(\"11\",#REF!)),\"1\",\"0\")","v":"0"},{"$f":"IF(ISNUMBER(SEARCH(\"12\",#REF!)),\"1\",\"0\")","v":"0"},{"$f":"IF(ISNUMBER(SEARCH(\"13\",#REF!)),\"1\",\"0\")","v":"0"},{"$f":"IF(ISNUMBER(SEARCH(\"14\",#REF!)),\"1\",\"0\")","v":"0"},{"$f":"IF(ISNUMBER(SEARCH(\"15\",#REF!)),\"1\",\"0\")","v":"0"},{"$f":"IF(ISNUMBER(SEARCH(\"16\",#REF!)),\"1\",\"0\")","v":"0"},{"$f":"IF(ISNUMBER(SEARCH(\"17\",#REF!)),\"1\",\"0\")","v":"0"},{"$nulls":9},62,{"$nulls":4},28,null,null,7,null,{"$f":"#REF!-#REF!","v":{"$error":"#REF!"}}]
[4,41,411,null,2,40,null,1,3,2,7,10,6,"1. Victim of violence (physical, incl. torture, ill treatment; family/domestic), 9. Kidnapping/hostage and/for sexual violence, 11. Killing of family member/loved one","1","0","0","0","0","0","0","0","1","0","1","0","0","0","0","0","0","0",null,2,1,4,null,{"$f":"IF(ISNUMBER(SEARCH(\"1\",#REF!)),\"1\",\"0\")","v":"0"},{"$f":"IF(ISNUMBER(SEARCH(\"2\",#REF!)),\"1\",\"0\")","v":"0"},{"$f":"IF(ISNUMBER(SEARCH(\"3\",#REF!)),\"1\",\"0\")","v":"0"},{"$f":"IF(ISNUMBER(SEARCH(\"4\",#REF!)),\"1\",\"0\")","v":"0"},{"$f":"IF(ISNUMBER(SEARCH(\"5\",#REF!)),\"1\",\"0\")","v":"0"},{"$f":"IF(ISNUMBER(SEARCH(\"6\",#REF!)),\"1\",\"0\")","v":"0"},{"$f":"IF(ISNUMBER(SEARCH(\"7\",#REF!)),\"1\",\"0\")","v":"0"},{"$f":"IF(ISNUMBER(SEARCH(\"8\",#REF!)),\"1\",\"0\")","v":"0"},{"$f":"IF(ISNUMBER(SEARCH(\"9\",#REF!)),\"1\",\"0\")","v":"0"},{"$f":"IF(ISNUMBER(SEARCH(\"9\",#REF!)),\"1\",\"0\")","v":"0"},{"$f":"IF(ISNUMBER(SEARCH(\"10\",#REF!)),\"1\",\"0\")","v":"0"},{"$f":"IF(ISNUMBER(SEARCH(\"11\",#REF!)),\"1\",\"0\")","v":"0"},{"$f":"IF(ISNUMBER(SEARCH(\"12\",#REF!)),\"1\",\"0\")","v":"0"},{"$f":"IF(ISNUMBER(SEARCH(\"13\",#REF!)),\"1\",\"0\")","v":"0"},{"$f":"IF(ISNUMBER(SEARCH(\"14\",#REF!)),\"1\",\"0\")","v":"0"},{"$f":"IF(ISNUMBER(SEARCH(\"15\",#REF!)),\"1\",\"0\")","v":"0"},{"$f":"IF(ISNUMBER(SEARCH(\"16\",#REF!)),\"1\",\"0\")","v":"0"},{"$f":"IF(ISNUMBER(SEARCH(\"17\",#REF!)),\"1\",\"0\")","v":"0"},{"$nulls":9},64,{"$nulls":4},22,null,null,9,null,{"$f":"#REF!-#REF!","v":{"$error":"#REF!"}}]
[4,41,411,null,2,30,null,1,7,2,4,10,1,"2. Witness of violence (physical, threats, killings/death, torture, ill treatment, sexual, family/domestic), 10. Kidnapping/hostage (without sexual violence), 11. Killing of family member/loved one","1","1","0","0","0","0","0","0","0","1","1","0","0","0","0","0","0","0",null,1,1,3,2,{"$f":"IF(ISNUMBER(SEARCH(\"1\",#REF!)),\"1\",\"0\")","v":"0"},{"$f":"IF(ISNUMBER(SEARCH(\"2\",#REF!)),\"1\",\"0\")","v":"0"},{"$f":"IF(ISNUMBER(SEARCH(\"3\",#REF!)),\"1\",\"0\")","v":"0"},{"$f":"IF(ISNUMBER(SEARCH(\"4\",#REF!)),\"1\",\"0\")","v":"0"},{"$f":"IF(ISNUMBER(SEARCH(\"5\",#REF!)),\"1\",\"0\")","v":"0"},{"$f":"IF(ISNUMBER(SEARCH(\"6\",#REF!)),\"1\",\"0\")","v":"0"},{"$f":"IF(ISNUMBER(SEARCH(\"7\",#REF!)),\"1\",\"0\")","v":"0"},{"$f":"IF(ISNUMBER(SEARCH(\"8\",#REF!)),\"1\",\"0\")","v":"0"},{"$f":"IF(ISNUMBER(SEARCH(\"9\",#REF!)),\"1\",\"0\")","v":"0"},{"$f":"IF(ISNUMBER(SEARCH(\"9\",#REF!)),\"1\",\"0\")","v":"0"},{"$f":"IF(ISNUMBER(SEARCH(\"10\",#REF!)),\"1\",\"0\")","v":"0"},{"$f":"IF(ISNUMBER(SEARCH(\"11\",#REF!)),\"1\",\"0\")","v":"0"},{"$f":"IF(ISNUMBER(SEARCH(\"12\",#REF!)),\"1\",\"0\")","v":"0"},{"$f":"IF(ISNUMBER(SEARCH(\"13\",#REF!)),\"1\",\"0\")","v":"0"},{"$f":"IF(ISNUMBER(SEARCH(\"14\",#REF!)),\"1\",\"0\")","v":"0"},{"$f":"IF(ISNUMBER(SEARCH(\"15\",#REF!)),\"1\",\"0\")","v":"0"},{"$f":"IF(ISNUMBER(SEARCH(\"16\",#REF!)),\"1\",\"0\")","v":"0"},{"$f":"IF(ISNUMBER(SEARCH(\"17\",#REF!)),\"1\",\"0\")","v":"0"},{"$nulls":9},59,{"$nulls":4},59,null,null,9,{"$f":"#REF!-#REF!","v":{"$error":"#REF!"}},{"$f":"#REF!-#REF!","v":{"$error":"#REF!"}}]
[4,41,411,null,2,25,null,1,8,2,4,10,5,"2. Witness of violence (physical, threats, killings/death, torture, ill treatment, sexual, family/domestic), 11. Killing of family member/loved one, 12. Disappearance of family member/loved one","1","1","0","0","0","0","0","0","0","0","1","1","0","0","0","0","0","0",null,2,5,5,null,{"$f":"IF(ISNUMBER(SEARCH(\"1\",#REF!)),\"1\",\"0\")","v":"0"},{"$f":"IF(ISNUMBER(SEARCH(\"2\",#REF!)),\"1\",\"0\")","v":"0"},{"$f":"IF(ISNUMBER(SEARCH(\"3\",#REF!)),\"1\",\"0\")","v":"0"},{"$f":"IF(ISNUMBER(SEARCH(\"4\",#REF!)),\"1\",\"0\")","v":"0"},{"$f":"IF(ISNUMBER(SEARCH(\"5\",#REF!)),\"1\",\"0\")","v":"0"},{"$f":"IF(ISNUMBER(SEARCH(\"6\",#REF!)),\"1\",\"0\")","v":"0"},{"$f":"IF(ISNUMBER(SEARCH(\"7\",#REF!)),\"1\",\"0\")","v":"0"},{"$f":"IF(ISNUMBER(SEARCH(\"8\",#REF!)),\"1\",\"0\")","v":"0"},{"$f":"IF(ISNUMBER(SEARCH(\"9\",#REF!)),\"1\",\"0\")","v":"0"},{"$f":"IF(ISNUMBER(SEARCH(\"9\",#REF!)),\"1\",\"0\")","v":"0"},{"$f":"IF(ISNUMBER(SEARCH(\"10\",#REF!)),\"1\",\"0\")","v":"0"},{"$f":"IF(ISNUMBER(SEARCH(\"11\",#REF!)),\"1\",\"0\")","v":"0"},{"$f":"IF(ISNUMBER(SEARCH(\"12\",#REF!)),\"1\",\"0\")","v":"0"},{"$f":"IF(ISNUMBER(SEARCH(\"13\",#REF!)),\"1\",\"0\")","v":"0"},{"$f":"IF(ISNUMBER(SEARCH(\"14\",#REF!)),\"1\",\"0\")","v":"0"},{"$f":"IF(ISNUMBER(SEARCH(\"15\",#REF!)),\"1\",\"0\")","v":"0"},{"$f":"IF(ISNUMBER(SEARCH(\"16\",#REF!)),\"1\",\"0\")","v":"0"},{"$f":"IF(ISNUMBER(SEARCH(\"17\",#REF!)),\"1\",\"0\")","v":"0"},{"$nulls":9},46,{"$nulls":4},0,null,null,2,{"$f":"#REF!-#REF!","v":{"$error":"#REF!"}}]
[4,41,411,null,2,50,null,1,7,2,6,10,4,"2. Witness of violence (physical, threats, killings/death, torture, ill treatment, sexual, family/domestic), 2. Witness of violence (physical, threats, killings/death, torture, ill treatment, sexual, family/domestic)","0","1","0","0","0","0","0","0","0","0","0","0","0","0","0","0","0","0",null,2,1,5,null,{"$f":"IF(ISNUMBER(SEARCH(\"1\",#REF!)),\"1\",\"0\")","v":"0"},{"$f":"IF(ISNUMBER(SEARCH(\"2\",#REF!)),\"1\",\"0\")","v":"0"},{"$f":"IF(ISNUMBER(SEARCH(\"3\",#REF!)),\"1\",\"0\")","v":"0"},{"$f":"IF(ISNUMBER(SEARCH(\"4\",#REF!)),\"1\",\"0\")","v":"0"},{"$f":"IF(ISNUMBER(SEARCH(\"5\",#REF!)),\"1\",\"0\")","v":"0"},{"$f":"IF(ISNUMBER(SEARCH(\"6\",#REF!)),\"1\",\"0\")","v":"0"},{"$f":"IF(ISNUMBER(SEARCH(\"7\",#REF!)),\"1\",\"0\")","v":"0"},{"$f":"IF(ISNUMBER(SEARCH(\"8\",#REF!)),\"1\",\"0\")","v":"0"},{"$f":"IF(ISNUMBER(SEARCH(\"9\",#REF!)),\"1\",\"0\")","v":"0"},{"$f":"IF(ISNUMBER(SEARCH(\"9\",#REF!)),\"1\",\"0\")","v":"0"},{"$f":"IF(ISNUMBER(SEARCH(\"10\",#REF!)),\"1\",\"0\")","v":"0"},{"$f":"IF(ISNUMBER(SEARCH(\"11\",#REF!)),\"1\",\"0\")","v":"0"},{"$f":"IF(ISNUMBER(SEARCH(\"12\",#REF!)),\"1\",\"0\")","v":"0"},{"$f":"IF(ISNUMBER(SEARCH(\"13\",#REF!)),\"1\",\"0\")","v":"0"},{"$f":"IF(ISNUMBER(SEARCH(\"14\",#REF!)),\"1\",\"0\")","v":"0"},{"$f":"IF(ISNUMBER(SEARCH(\"15\",#REF!)),\"1\",\"0\")","v":"0"},{"$f":"IF(ISNUMBER(SEARCH(\"16\",#REF!)),\"1\",\"0\")","v":"0"},{"$f":"IF(ISNUMBER(SEARCH(\"17\",#REF!)),\"1\",\"0\")","v":"0"},{"$nulls":9},62,{"$nulls":4},23,null,null,7,{"$f":"#REF!-#REF!","v":{"$error":"#REF!"}},{"$f":"#REF!-#REF!","v":{"$error":"#REF!"}}]
[4,41,411,null,2,25,null,3,7,2,5,10,6,"2. Witness of violence (physical, threats, killings/death, torture, ill treatment, sexual, family/domestic), 6. Forced marriage, 9. Kidnapping/hostage and/for sexual violence, 11. Killing of family member/loved one, 15. Insults / received threats","1","1","0","0","1","1","0","0","1","0","1","0","0","0","1","0","0","0",null,2,1,5,null,{"$f":"IF(ISNUMBER(SEARCH(\"1\",#REF!)),\"1\",\"0\")","v":"0"},{"$f":"IF(ISNUMBER(SEARCH(\"2\",#REF!)),\"1\",\"0\")","v":"0"},{"$f":"IF(ISNUMBER(SEARCH(\"3\",#REF!)),\"1\",\"0\")","v":"0"},{"$f":"IF(ISNUMBER(SEARCH(\"4\",#REF!)),\"1\",\"0\")","v":"0"},{"$f":"IF(ISNUMBER(SEARCH(\"5\",#REF!)),\"1\",\"0\")","v":"0"},{"$f":"IF(ISNUMBER(SEARCH(\"6\",#REF!)),\"1\",\"0\")","v":"0"},{"$f":"IF(ISNUMBER(SEARCH(\"7\",#REF!)),\"1\",\"0\")","v":"0"},{"$f":"IF(ISNUMBER(SEARCH(\"8\",#REF!)),\"1\",\"0\")","v":"0"},{"$f":"IF(ISNUMBER(SEARCH(\"9\",#REF!)),\"1\",\"0\")","v":"0"},{"$f":"IF(ISNUMBER(SEARCH(\"9\",#REF!)),\"1\",\"0\")","v":"0"},{"$f":"IF(ISNUMBER(SEARCH(\"10\",#REF!)),\"1\",\"0\")","v":"0"},{"$f":"IF(ISNUMBER(SEARCH(\"11\",#REF!)),\"1\",\"0\")","v":"0"},{"$f":"IF(ISNUMBER(SEARCH(\"12\",#REF!)),\"1\",\"0\")","v":"0"},{"$f":"IF(ISNUMBER(SEARCH(\"13\",#REF!)),\"1\",\"0\")","v":"0"},{"$f":"IF(ISNUMBER(SEARCH(\"14\",#REF!)),\"1\",\"0\")","v":"0"},{"$f":"IF(ISNUMBER(SEARCH(\"15\",#REF!)),\"1\",\"0\")","v":"0"},{"$f":"IF(ISNUMBER(SEARCH(\"16\",#REF!)),\"1\",\"0\")","v":"0"},{"$f":"IF(ISNUMBER(SEARCH(\"17\",#REF!)),\"1\",\"0\")","v":"0"},{"$nulls":9},70,{"$nulls":4},0,null,null,0,{"$f":"#REF!-#REF!","v":{"$error":"#REF!"}}]
[4,41,411,null,2,42,null,1,3,2,10,10,6,"1. Victim of violence (physical, incl. torture, ill treatment; family/domestic), 2. Witness of violence (physical, threats, killings/death, torture, ill treatment, sexual, family/domestic), 6. Forced marriage, 10. Kidnapping/hostage (without sexual violence), 11. Killing of family member/loved one","1","1","0","0","0","1","0","0","0","1","1","0","0","0","0","0","0","0",null,2,1,5,null,{"$f":"IF(ISNUMBER(SEARCH(\"1\",#REF!)),\"1\",\"0\")","v":"0"},0,{"$f":"IF(ISNUMBER(SEARCH(\"3\",#REF!)),\"1\",\"0\")","v":"0"},{"$f":"IF(ISNUMBER(SEARCH(\"4\",#REF!)),\"1\",\"0\")","v":"0"},{"$f":"IF(ISNUMBER(SEARCH(\"5\",#REF!)),\"1\",\"0\")","v":"0"},{"$f":"IF(ISNUMBER(SEARCH(\"6\",#REF!)),\"1\",\"0\")","v":"0"},{"$f":"IF(ISNUMBER(SEARCH(\"7\",#REF!)),\"1\",\"0\")","v":"0"},{"$f":"IF(ISNUMBER(SEARCH(\"8\",#REF!)),\"1\",\"0\")","v":"0"},{"$f":"IF(ISNUMBER(SEARCH(\"9\",#REF!)),\"1\",\"0\")","v":"0"},{"$f":"IF(ISNUMBER(SEARCH(\"9\",#REF!)),\"1\",\"0\")","v":"0"},{"$f":"IF(ISNUMBER(SEARCH(\"10\",#REF!)),\"1\",\"0\")","v":"0"},{"$f":"IF(ISNUMBER(SEARCH(\"11\",#REF!)),\"1\",\"0\")","v":"0"},{"$f":"IF(ISNUMBER(SEARCH(\"12\",#REF!)),\"1\",\"0\")","v":"0"},{"$f":"IF(ISNUMBER(SEARCH(\"13\",#REF!)),\"1\",\"0\")","v":"0"},{"$f":"IF(ISNUMBER(SEARCH(\"14\",#REF!)),\"1\",\"0\")","v":"0"},{"$f":"IF(ISNUMBER(SEARCH(\"15\",#REF!)),\"1\",\"0\")","v":"0"},{"$f":"IF(ISNUMBER(SEARCH(\"16\",#REF!)),\"1\",\"0\")","v":"0"},{"$f":"IF(ISNUMBER(SEARCH(\"17\",#REF!)),\"1\",\"0\")","v":"0"},{"$nulls":9},61,{"$nulls":4},55,null,null,6,{"$f":"#REF!-#REF!","v":{"$error":"#REF!"}},{"$f":"#REF!-#REF!","v":{"$error":"#REF!"}}]
[4,41,411,null,2,30,null,3,7,2,2,10,6,"2. Witness of violence (physical, threats, killings/death, torture, ill treatment, sexual, family/domestic), 10. Kidnapping/hostage (without sexual violence), 11. Killing of family member/loved one","1","1","0","0","0","0","0","0","0","1","1","0","0","0","0","0","0","0",null,2,4,5,null,{"$f":"IF(ISNUMBER(SEARCH(\"1\",#REF!)),\"1\",\"0\")","v":"0"},{"$f":"IF(ISNUMBER(SEARCH(\"2\",#REF!)),\"1\",\"0\")","v":"0"},{"$f":"IF(ISNUMBER(SEARCH(\"3\",#REF!)),\"1\",\"0\")","v":"0"},{"$f":"IF(ISNUMBER(SEARCH(\"4\",#REF!)),\"1\",\"0\")","v":"0"},{"$f":"IF(ISNUMBER(SEARCH(\"5\",#REF!)),\"1\",\"0\")","v":"0"},{"$f":"IF(ISNUMBER(SEARCH(\"6\",#REF!)),\"1\",\"0\")","v":"0"},{"$f":"IF(ISNUMBER(SEARCH(\"7\",#REF!)),\"1\",\"0\")","v":"0"},{"$f":"IF(ISNUMBER(SEARCH(\"8\",#REF!)),\"1\",\"0\")","v":"0"},{"$f":"IF(ISNUMBER(SEARCH(\"9\",#REF!)),\"1\",\"0\")","v":"0"},{"$f":"IF(ISNUMBER(SEARCH(\"9\",#REF!)),\"1\",\"0\")","v":"0"},{"$f":"IF(ISNUMBER(SEARCH(\"10\",#REF!)),\"1\",\"0\")","v":"0"},{"$f":"IF(ISNUMBER(SEARCH(\"11\",#REF!)),\"1\",\"0\")","v":"0"},{"$f":"IF(ISNUMBER(SEARCH(\"12\",#REF!)),\"1\",\"0\")","v":"0"},{"$f":"IF(ISNUMBER(SEARCH(\"13\",#REF!)),\"1\",\"0\")","v":"0"},{"$f":"IF(ISNUMBER(SEARCH(\"14\",#REF!)),\"1\",\"0\")","v":"0"},{"$f":"IF(ISNUMBER(SEARCH(\"15\",#REF!)),\"1\",\"0\")","v":"0"},{"$f":"IF(ISNUMBER(SEARCH(\"16\",#REF!)),\"1\",\"0\")","v":"0"},{"$f":"IF(ISNUMBER(SEARCH(\"17\",#REF!)),\"1\",\"0\")","v":"0"},{"$nulls":9},64,{"$nulls":4},4,null,null,6,{"$f":"#REF!-#REF!","v":{"$error":"#REF!"}},{"$f":"#REF!-#REF!","v":{"$error":"#REF!"}}]
[4,41,411,null,2,65,null,1,7,2,4,10,4,"1. Victim of violence (physical, incl. torture, ill treatment; family/domestic), 2. Witness of violence (physical, threats, killings/death, torture, ill treatment, sexual, family/domestic), 10. Kidnapping/hostage (without sexual violence), 11. Killing of family member/loved one","1","1","0","0","0","0","0","0","0","1","1","0","0","0","0","0","0","0",null,2,1,5,null,{"$f":"IF(ISNUMBER(SEARCH(\"1\",#REF!)),\"1\",\"0\")","v":"0"},{"$f":"IF(ISNUMBER(SEARCH(\"2\",#REF!)),\"1\",\"0\")","v":"0"},{"$f":"IF(ISNUMBER(SEARCH(\"3\",#REF!)),\"1\",\"0\")","v":"0"},{"$f":"IF(ISNUMBER(SEARCH(\"4\",#REF!)),\"1\",\"0\")","v":"0"},{"$f":"IF(ISNUMBER(SEARCH(\"5\",#REF!)),\"1\",\"0\")","v":"0"},{"$f":"IF(ISNUMBER(SEARCH(\"6\",#REF!)),\"1\",\"0\")","v":"0"},{"$f":"IF(ISNUMBER(SEARCH(\"7\",#REF!)),\"1\",\"0\")","v":"0"},{"$f":"IF(ISNUMBER(SEARCH(\"8\",#REF!)),\"1\",\"0\")","v":"0"},{"$f":"IF(ISNUMBER(SEARCH(\"9\",#REF!)),\"1\",\"0\")","v":"0"},{"$f":"IF(ISNUMBER(SEARCH(\"9\",#REF!)),\"1\",\"0\")","v":"0"},{"$f":"IF(ISNUMBER(SEARCH(\"10\",#REF!)),\"1\",\"0\")","v":"0"},{"$f":"IF(ISNUMBER(SEARCH(\"11\",#REF!)),\"1\",\"0\")","v":"0"},{"$f":"IF(ISNUMBER(SEARCH(\"12\",#REF!)),\"1\",\"0\")","v":"0"},{"$f":"IF(ISNUMBER(SEARCH(\"13\",#REF!)),\"1\",\"0\")","v":"0"},{"$f":"IF(ISNUMBER(SEARCH(\"14\",#REF!)),\"1\",\"0\")","v":"0"},{"$f":"IF(ISNUMBER(SEARCH(\"15\",#REF!)),\"1\",\"0\")","v":"0"},{"$f":"IF(ISNUMBER(SEARCH(\"16\",#REF!)),\"1\",\"0\")","v":"0"},{"$f":"IF(ISNUMBER(SEARCH(\"17\",#REF!)),\"1\",\"0\")","v":"0"},{"$nulls":9},65,{"$nulls":4},0,null,null,0,{"$f":"#REF!-#REF!","v":{"$error":"#REF!"}}]
[4,41,411,null,2,50,null,1,8,2,7,10,6,"2. Witness of violence (physical, threats, killings/death, torture, ill treatment, sexual, family/domestic), 10. Kidnapping/hostage (without sexual violence), 11. Killing of family member/loved one","1","1","0","0","0","0","0","0","0","1","1","0","0","0","0","0","0","0",null,2,1,5,null,{"$f":"IF(ISNUMBER(SEARCH(\"1\",#REF!)),\"1\",\"0\")","v":"0"},{"$f":"IF(ISNUMBER(SEARCH(\"2\",#REF!)),\"1\",\"0\")","v":"0"},{"$f":"IF(ISNUMBER(SEARCH(\"3\",#REF!)),\"1\",\"0\")","v":"0"},{"$f":"IF(ISNUMBER(SEARCH(\"4\",#REF!)),\"1\",\"0\")","v":"0"},{"$f":"IF(ISNUMBER(SEARCH(\"5\",#REF!)),\"1\",\"0\")","v":"0"},{"$f":"IF(ISNUMBER(SEARCH(\"6\",#REF!)),\"1\",\"0\")","v":"0"},{"$f":"IF(ISNUMBER(SEARCH(\"7\",#REF!)),\"1\",\"0\")","v":"0"},{"$f":"IF(ISNUMBER(SEARCH(\"8\",#REF!)),\"1\",\"0\")","v":"0"},{"$f":"IF(ISNUMBER(SEARCH(\"9\",#REF!)),\"1\",\"0\")","v":"0"},{"$f":"IF(ISNUMBER(SEARCH(\"9\",#REF!)),\"1\",\"0\")","v":"0"},{"$f":"IF(ISNUMBER(SEARCH(\"10\",#REF!)),\"1\",\"0\")","v":"0"},{"$f":"IF(ISNUMBER(SEARCH(\"11\",#REF!)),\"1\",\"0\")","v":"0"},{"$f":"IF(ISNUMBER(SEARCH(\"12\",#REF!)),\"1\",\"0\")","v":"0"},{"$f":"IF(ISNUMBER(SEARCH(\"13\",#REF!)),\"1\",\"0\")","v":"0"},{"$f":"IF(ISNUMBER(SEARCH(\"14\",#REF!)),\"1\",\"0\")","v":"0"},{"$f":"IF(ISNUMBER(SEARCH(\"15\",#REF!)),\"1\",\"0\")","v":"0"},{"$f":"IF(ISNUMBER(SEARCH(\"16\",#REF!)),\"1\",\"0\")","v":"0"},{"$f":"IF(ISNUMBER(SEARCH(\"17\",#REF!)),\"1\",\"0\")","v":"0"},{"$nulls":9},58,{"$nulls":4},0,null,null,0,{"$f":"#REF!-#REF!","v":{"$error":"#REF!"}}]
[4,41,411,null,2,55,null,1,7,2,5,10,6,"11. Killing of family member/loved one","1","0","0","0","0","0","0","0","0","0","1","0","0","0","0","0","0","0",null,2,1,3,null,{"$f":"IF(ISNUMBER(SEARCH(\"1\",#REF!)),\"1\",\"0\")","v":"0"},{"$f":"IF(ISNUMBER(SEARCH(\"2\",#REF!)),\"1\",\"0\")","v":"0"},{"$f":"IF(ISNUMBER(SEARCH(\"3\",#REF!)),\"1\",\"0\")","v":"0"},{"$f":"IF(ISNUMBER(SEARCH(\"4\",#REF!)),\"1\",\"0\")","v":"0"},{"$f":"IF(ISNUMBER(SEARCH(\"5\",#REF!)),\"1\",\"0\")","v":"0"},{"$f":"IF(ISNUMBER(SEARCH(\"6\",#REF!)),\"1\",\"0\")","v":"0"},{"$f":"IF(ISNUMBER(SEARCH(\"7\",#REF!)),\"1\",\"0\")","v":"0"},{"$f":"IF(ISNUMBER(SEARCH(\"8\",#REF!)),\"1\",\"0\")","v":"0"},{"$f":"IF(ISNUMBER(SEARCH(\"9\",#REF!)),\"1\",\"0\")","v":"0"},{"$f":"IF(ISNUMBER(SEARCH(\"9\",#REF!)),\"1\",\"0\")","v":"0"},{"$f":"IF(ISNUMBER(SEARCH(\"10\",#REF!)),\"1\",\"0\")","v":"0"},{"$f":"IF(ISNUMBER(SEARCH(\"11\",#REF!)),\"1\",\"0\")","v":"0"},{"$f":"IF(ISNUMBER(SEARCH(\"12\",#REF!)),\"1\",\"0\")","v":"0"},{"$f":"IF(ISNUMBER(SEARCH(\"13\",#REF!)),\"1\",\"0\")","v":"0"},{"$f":"IF(ISNUMBER(SEARCH(\"14\",#REF!)),\"1\",\"0\")","v":"0"},{"$f":"IF(ISNUMBER(SEARCH(\"15\",#REF!)),\"1\",\"0\")","v":"0"},{"$f":"IF(ISNUMBER(SEARCH(\"16\",#REF!)),\"1\",\"0\")","v":"0"},{"$f":"IF(ISNUMBER(SEARCH(\"17\",#REF!)),\"1\",\"0\")","v":"0"},{"$nulls":9},43,{"$nulls":4},0,null,null,0,{"$f":"#REF!-#REF!","v":{"$error":"#REF!"}}]
[4,41,411,null,2,24,null,1,7,2,3,10,2,"2. Witness of violence (physical, threats, killings/death, torture, ill treatment, sexual, family/domestic), 11. Killing of family member/loved one","1","1","0","0","0","0","0","0","0","0","1","0","0","0","0","0","0","0",null,2,1,5,null,{"$f":"IF(ISNUMBER(SEARCH(\"1\",#REF!)),\"1\",\"0\")","v":"0"},{"$f":"IF(ISNUMBER(SEARCH(\"2\",#REF!)),\"1\",\"0\")","v":"0"},{"$f":"IF(ISNUMBER(SEARCH(\"3\",#REF!)),\"1\",\"0\")","v":"0"},{"$f":"IF(ISNUMBER(SEARCH(\"4\",#REF!)),\"1\",\"0\")","v":"0"},{"$f":"IF(ISNUMBER(SEARCH(\"5\",#REF!)),\"1\",\"0\")","v":"0"},{"$f":"IF(ISNUMBER(SEARCH(\"6\",#REF!)),\"1\",\"0\")","v":"0"},{"$f":"IF(ISNUMBER(SEARCH(\"7\",#REF!)),\"1\",\"0\")","v":"0"},{"$f":"IF(ISNUMBER(SEARCH(\"8\",#REF!)),\"1\",\"0\")","v":"0"},{"$f":"IF(ISNUMBER(SEARCH(\"9\",#REF!)),\"1\",\"0\")","v":"0"},{"$f":"IF(ISNUMBER(SEARCH(\"9\",#REF!)),\"1\",\"0\")","v":"0"},{"$f":"IF(ISNUMBER(SEARCH(\"10\",#REF!)),\"1\",\"0\")","v":"0"},{"$f":"IF(ISNUMBER(SEARCH(\"11\",#REF!)),\"1\",\"0\")","v":"0"},{"$f":"IF(ISNUMBER(SEARCH(\"12\",#REF!)),\"1\",\"0\")","v":"0"},{"$f":"IF(ISNUMBER(SEARCH(\"13\",#REF!)),\"1\",\"0\")","v":"0"},{"$f":"IF(ISNUMBER(SEARCH(\"14\",#REF!)),\"1\",\"0\")","v":"0"},{"$f":"IF(ISNUMBER(SEARCH(\"15\",#REF!)),\"1\",\"0\")","v":"0"},{"$f":"IF(ISNUMBER(SEARCH(\"16\",#REF!)),\"1\",\"0\")","v":"0"},{"$f":"IF(ISNUMBER(SEARCH(\"17\",#REF!)),\"1\",\"0\")","v":"0"},{"$nulls":9},60,{"$nulls":7},1,{"$f":"#REF!-#REF!","v":{"$error":"#REF!"}}]
[4,41,411,null,2,38,null,1,7,2,7,10,6,"2. Witness of violence (physical, threats, killings/death, torture, ill treatment, sexual, family/domestic), 11. Killing of family member/loved one, 12. Disappearance of family member/loved one","1","1","0","0","0","0","0","0","0","0","1","1","0","0","0","0","0","0",null,2,1,5,null,{"$f":"IF(ISNUMBER(SEARCH(\"1\",#REF!)),\"1\",\"0\")","v":"0"},{"$f":"IF(ISNUMBER(SEARCH(\"2\",#REF!)),\"1\",\"0\")","v":"0"},{"$f":"IF(ISNUMBER(SEARCH(\"3\",#REF!)),\"1\",\"0\")","v":"0"},{"$f":"IF(ISNUMBER(SEARCH(\"4\",#REF!)),\"1\",\"0\")","v":"0"},{"$f":"IF(ISNUMBER(SEARCH(\"5\",#REF!)),\"1\",\"0\")","v":"0"},{"$f":"IF(ISNUMBER(SEARCH(\"6\",#REF!)),\"1\",\"0\")","v":"0"},{"$f":"IF(ISNUMBER(SEARCH(\"7\",#REF!)),\"1\",\"0\")","v":"0"},{"$f":"IF(ISNUMBER(SEARCH(\"8\",#REF!)),\"1\",\"0\")","v":"0"},{"$f":"IF(ISNUMBER(SEARCH(\"9\",#REF!)),\"1\",\"0\")","v":"0"},{"$f":"IF(ISNUMBER(SEARCH(\"9\",#REF!)),\"1\",\"0\")","v":"0"},{"$f":"IF(ISNUMBER(SEARCH(\"10\",#REF!)),\"1\",\"0\")","v":"0"},{"$f":"IF(ISNUMBER(SEARCH(\"11\",#REF!)),\"1\",\"0\")","v":"0"},{"$f":"IF(ISNUMBER(SEARCH(\"12\",#REF!)),\"1\",\"0\")","v":"0"},{"$f":"IF(ISNUMBER(SEARCH(\"13\",#REF!)),\"1\",\"0\")","v":"0"},{"$f":"IF(ISNUMBER(SEARCH(\"14\",#REF!)),\"1\",\"0\")","v":"0"},{"$f":"IF(ISNUMBER(SEARCH(\"15\",#REF!)),\"1\",\"0\")","v":"0"},{"$f":"IF(ISNUMBER(SEARCH(\"16\",#REF!)),\"1\",\"0\")","v":"0"},{"$f":"IF(ISNUMBER(SEARCH(\"17\",#REF!)),\"1\",\"0\")","v":"0"},{"$nulls":9},59,{"$nulls":7},0]
[4,41,411,null,2,40,null,2,7,2,4,10,2,"2. Witness of violence (physical, threats, killings/death, torture, ill treatment, sexual, family/domestic), 11. Killing of family member/loved one","1","1","0","0","0","0","0","0","0","0","1","0","0","0","0","0","0","0",null,2,1,5,null,{"$f":"IF(ISNUMBER(SEARCH(\"1\",#REF!)),\"1\",\"0\")","v":"0"},{"$f":"IF(ISNUMBER(SEARCH(\"2\",#REF!)),\"1\",\"0\")","v":"0"},{"$f":"IF(ISNUMBER(SEARCH(\"3\",#REF!)),\"1\",\"0\")","v":"0"},{"$f":"IF(ISNUMBER(SEARCH(\"4\",#REF!)),\"1\",\"0\")","v":"0"},{"$f":"IF(ISNUMBER(SEARCH(\"5\",#REF!)),\"1\",\"0\")","v":"0"},{"$f":"IF(ISNUMBER(SEARCH(\"6\",#REF!)),\"1\",\"0\")","v":"0"},{"$f":"IF(ISNUMBER(SEARCH(\"7\",#REF!)),\"1\",\"0\")","v":"0"},{"$f":"IF(ISNUMBER(SEARCH(\"8\",#REF!)),\"1\",\"0\")","v":"0"},{"$f":"IF(ISNUMBER(SEARCH(\"9\",#REF!)),\"1\",\"0\")","v":"0"},{"$f":"IF(ISNUMBER(SEARCH(\"9\",#REF!)),\"1\",\"0\")","v":"0"},{"$f":"IF(ISNUMBER(SEARCH(\"10\",#REF!)),\"1\",\"0\")","v":"0"},{"$f":"IF(ISNUMBER(SEARCH(\"11\",#REF!)),\"1\",\"0\")","v":"0"},{"$f":"IF(ISNUMBER(SEARCH(\"12\",#REF!)),\"1\",\"0\")","v":"0"},{"$f":"IF(ISNUMBER(SEARCH(\"13\",#REF!)),\"1\",\"0\")","v":"0"},{"$f":"IF(ISNUMBER(SEARCH(\"14\",#REF!)),\"1\",\"0\")","v":"0"},{"$f":"IF(ISNUMBER(SEARCH(\"15\",#REF!)),\"1\",\"0\")","v":"0"},{"$f":"IF(ISNUMBER(SEARCH(\"16\",#REF!)),\"1\",\"0\")","v":"0"},{"$f":"IF(ISNUMBER(SEARCH(\"17\",#REF!)),\"1\",\"0\")","v":"0"},{"$nulls":9},67,{"$nulls":7},4]
[4,41,411,null,2,40,null,1,7,2,2,10,2,"2. Witness of violence (physical, threats, killings/death, torture, ill treatment, sexual, family/domestic), 10. Kidnapping/hostage (without sexual violence), 11. Killing of family member/loved one, 12. Disappearance of family member/loved one","1","1","0","0","0","0","0","0","0","1","1","1","0","0","0","0","0","0",null,2,1,5,null,{"$f":"IF(ISNUMBER(SEARCH(\"1\",#REF!)),\"1\",\"0\")","v":"0"},{"$f":"IF(ISNUMBER(SEARCH(\"2\",#REF!)),\"1\",\"0\")","v":"0"},{"$f":"IF(ISNUMBER(SEARCH(\"3\",#REF!)),\"1\",\"0\")","v":"0"},{"$f":"IF(ISNUMBER(SEARCH(\"4\",#REF!)),\"1\",\"0\")","v":"0"},{"$f":"IF(ISNUMBER(SEARCH(\"5\",#REF!)),\"1\",\"0\")","v":"0"},{"$f":"IF(ISNUMBER(SEARCH(\"6\",#REF!)),\"1\",\"0\")","v":"0"},{"$f":"IF(ISNUMBER(SEARCH(\"7\",#REF!)),\"1\",\"0\")","v":"0"},{"$f":"IF(ISNUMBER(SEARCH(\"8\",#REF!)),\"1\",\"0\")","v":"0"},{"$f":"IF(ISNUMBER(SEARCH(\"9\",#REF!)),\"1\",\"0\")","v":"0"},{"$f":"IF(ISNUMBER(SEARCH(\"9\",#REF!)),\"1\",\"0\")","v":"0"},{"$f":"IF(ISNUMBER(SEARCH(\"10\",#REF!)),\"1\",\"0\")","v":"0"},{"$f":"IF(ISNUMBER(SEARCH(\"11\",#REF!)),\"1\",\"0\")","v":"0"},{"$f":"IF(ISNUMBER(SEARCH(\"12\",#REF!)),\"1\",\"0\")","v":"0"},{"$f":"IF(ISNUMBER(SEARCH(\"13\",#REF!)),\"1\",\"0\")","v":"0"},{"$f":"IF(ISNUMBER(SEARCH(\"14\",#REF!)),\"1\",\"0\")","v":"0"},{"$f":"IF(ISNUMBER(SEARCH(\"15\",#REF!)),\"1\",\"0\")","v":"0"},{"$f":"IF(ISNUMBER(SEARCH(\"16\",#REF!)),\"1\",\"0\")","v":"0"},{"$f":"IF(ISNUMBER(SEARCH(\"17\",#REF!)),\"1\",\"0\")","v":"0"},{"$nulls":9},67,{"$nulls":7},0]
[4,41,411,null,2,35,null,1,7,2,6,10,4,"2. Witness of violence (physical, threats, killings/death, torture, ill treatment, sexual, family/domestic), 11. Killing of family member/loved one, 12. Disappearance of family member/loved one","1","1","0","0","0","0","0","0","0","0","1","1","0","0","0","0","0","0",null,2,3,5,null,{"$f":"IF(ISNUMBER(SEARCH(\"1\",#REF!)),\"1\",\"0\")","v":"0"},{"$f":"IF(ISNUMBER(SEARCH(\"2\",#REF!)),\"1\",\"0\")","v":"0"},{"$f":"IF(ISNUMBER(SEARCH(\"3\",#REF!)),\"1\",\"0\")","v":"0"},{"$f":"IF(ISNUMBER(SEARCH(\"4\",#REF!)),\"1\",\"0\")","v":"0"},{"$f":"IF(ISNUMBER(SEARCH(\"5\",#REF!)),\"1\",\"0\")","v":"0"},{"$f":"IF(ISNUMBER(SEARCH(\"6\",#REF!)),\"1\",\"0\")","v":"0"},{"$f":"IF(ISNUMBER(SEARCH(\"7\",#REF!)),\"1\",\"0\")","v":"0"},{"$f":"IF(ISNUMBER(SEARCH(\"8\",#REF!)),\"1\",\"0\")","v":"0"},{"$f":"IF(ISNUMBER(SEARCH(\"9\",#REF!)),\"1\",\"0\")","v":"0"},{"$f":"IF(ISNUMBER(SEARCH(\"9\",#REF!)),\"1\",\"0\")","v":"0"},{"$f":"IF(ISNUMBER(SEARCH(\"10\",#REF!)),\"1\",\"0\")","v":"0"},{"$f":"IF(ISNUMBER(SEARCH(\"11\",#REF!)),\"1\",\"0\")","v":"0"},{"$f":"IF(ISNUMBER(SEARCH(\"12\",#REF!)),\"1\",\"0\")","v":"0"},{"$f":"IF(ISNUMBER(SEARCH(\"13\",#REF!)),\"1\",\"0\")","v":"0"},{"$f":"IF(ISNUMBER(SEARCH(\"14\",#REF!)),\"1\",\"0\")","v":"0"},{"$f":"IF(ISNUMBER(SEARCH(\"15\",#REF!)),\"1\",\"0\")","v":"0"},{"$f":"IF(ISNUMBER(SEARCH(\"16\",#REF!)),\"1\",\"0\")","v":"0"},{"$f":"IF(ISNUMBER(SEARCH(\"17\",#REF!)),\"1\",\"0\")","v":"0"},{"$nulls":9},58,{"$nulls":7},0]
[4,41,411,null,2,50,null,1,7,2,7,10,2,"12. Disappearance of family member/loved one","1","1","0","0","0","0","0","0","0","0","0","1","0","0","0","0","0","0",null,1,1,5,null,{"$f":"IF(ISNUMBER(SEARCH(\"1\",#REF!)),\"1\",\"0\")","v":"0"},{"$f":"IF(ISNUMBER(SEARCH(\"2\",#REF!)),\"1\",\"0\")","v":"0"},{"$f":"IF(ISNUMBER(SEARCH(\"3\",#REF!)),\"1\",\"0\")","v":"0"},{"$f":"IF(ISNUMBER(SEARCH(\"4\",#REF!)),\"1\",\"0\")","v":"0"},{"$f":"IF(ISNUMBER(SEARCH(\"5\",#REF!)),\"1\",\"0\")","v":"0"},{"$f":"IF(ISNUMBER(SEARCH(\"6\",#REF!)),\"1\",\"0\")","v":"0"},{"$f":"IF(ISNUMBER(SEARCH(\"7\",#REF!)),\"1\",\"0\")","v":"0"},{"$f":"IF(ISNUMBER(SEARCH(\"8\",#REF!)),\"1\",\"0\")","v":"0"},{"$f":"IF(ISNUMBER(SEARCH(\"9\",#REF!)),\"1\",\"0\")","v":"0"},{"$f":"IF(ISNUMBER(SEARCH(\"9\",#REF!)),\"1\",\"0\")","v":"0"},{"$f":"IF(ISNUMBER(SEARCH(\"10\",#REF!)),\"1\",\"0\")","v":"0"},{"$f":"IF(ISNUMBER(SEARCH(\"11\",#REF!)),\"1\",\"0\")","v":"0"},{"$f":"IF(ISNUMBER(SEARCH(\"12\",#REF!)),\"1\",\"0\")","v":"0"},{"$f":"IF(ISNUMBER(SEARCH(\"13\",#REF!)),\"1\",\"0\")","v":"0"},{"$f":"IF(ISNUMBER(SEARCH(\"14\",#REF!)),\"1\",\"0\")","v":"0"},{"$f":"IF(ISNUMBER(SEARCH(\"15\",#REF!)),\"1\",\"0\")","v":"0"},{"$f":"IF(ISNUMBER(SEARCH(\"16\",#REF!)),\"1\",\"0\")","v":"0"},{"$f":"IF(ISNUMBER(SEARCH(\"17\",#REF!)),\"1\",\"0\")","v":"0"},{"$nulls":9},51,{"$nulls":7},0]
[4,41,412,null,1,43,null,2,3,2,8,5,2,"2. Witness of violence (physical, threats, killings/death, torture, ill treatment, sexual, family/domestic), 14. Victim of/experienced torture/ill-treatment","1","1","0","1","0","0","0","0","0","0","0","0","0","1","0","0","0","0",null,2,1,4,2,{"$f":"IF(ISNUMBER(SEARCH(\"1\",#REF!)),\"1\",\"0\")","v":"0"},{"$f":"IF(ISNUMBER(SEARCH(\"2\",#REF!)),\"1\",\"0\")","v":"0"},{"$f":"IF(ISNUMBER(SEARCH(\"3\",#REF!)),\"1\",\"0\")","v":"0"},{"$f":"IF(ISNUMBER(SEARCH(\"4\",#REF!)),\"1\",\"0\")","v":"0"},{"$f":"IF(ISNUMBER(SEARCH(\"5\",#REF!)),\"1\",\"0\")","v":"0"},{"$f":"IF(ISNUMBER(SEARCH(\"6\",#REF!)),\"1\",\"0\")","v":"0"},{"$f":"IF(ISNUMBER(SEARCH(\"7\",#REF!)),\"1\",\"0\")","v":"0"},{"$f":"IF(ISNUMBER(SEARCH(\"8\",#REF!)),\"1\",\"0\")","v":"0"},{"$f":"IF(ISNUMBER(SEARCH(\"9\",#REF!)),\"1\",\"0\")","v":"0"},{"$f":"IF(ISNUMBER(SEARCH(\"9\",#REF!)),\"1\",\"0\")","v":"0"},{"$f":"IF(ISNUMBER(SEARCH(\"10\",#REF!)),\"1\",\"0\")","v":"0"},{"$f":"IF(ISNUMBER(SEARCH(\"11\",#REF!)),\"1\",\"0\")","v":"0"},{"$f":"IF(ISNUMBER(SEARCH(\"12\",#REF!)),\"1\",\"0\")","v":"0"},{"$f":"IF(ISNUMBER(SEARCH(\"13\",#REF!)),\"1\",\"0\")","v":"0"},{"$f":"IF(ISNUMBER(SEARCH(\"14\",#REF!)),\"1\",\"0\")","v":"0"},{"$f":"IF(ISNUMBER(SEARCH(\"15\",#REF!)),\"1\",\"0\")","v":"0"},{"$f":"IF(ISNUMBER(SEARCH(\"16\",#REF!)),\"1\",\"0\")","v":"0"},{"$f":"IF(ISNUMBER(SEARCH(\"17\",#REF!)),\"1\",\"0\")","v":"0"},{"$nulls":9},57,{"$nulls":4},39,null,null,10,{"$f":"#REF!-#REF!","v":{"$error":"#REF!"}},{"$f":"#REF!-#REF!","v":{"$error":"#REF!"}}]
[4,41,412,null,1,26,null,1,3,2,1,5,2,"11. Killing of family member/loved one","1","0","0","0","0","0","0","0","0","0","1","0","0","0","0","0","0","0",null,1,1,4,2,{"$f":"IF(ISNUMBER(SEARCH(\"1\",#REF!)),\"1\",\"0\")","v":"0"},{"$f":"IF(ISNUMBER(SEARCH(\"2\",#REF!)),\"1\",\"0\")","v":"0"},{"$f":"IF(ISNUMBER(SEARCH(\"3\",#REF!)),\"1\",\"0\")","v":"0"},{"$f":"IF(ISNUMBER(SEARCH(\"4\",#REF!)),\"1\",\"0\")","v":"0"},{"$f":"IF(ISNUMBER(SEARCH(\"5\",#REF!)),\"1\",\"0\")","v":"0"},{"$f":"IF(ISNUMBER(SEARCH(\"6\",#REF!)),\"1\",\"0\")","v":"0"},{"$f":"IF(ISNUMBER(SEARCH(\"7\",#REF!)),\"1\",\"0\")","v":"0"},{"$f":"IF(ISNUMBER(SEARCH(\"8\",#REF!)),\"1\",\"0\")","v":"0"},{"$f":"IF(ISNUMBER(SEARCH(\"9\",#REF!)),\"1\",\"0\")","v":"0"},{"$f":"IF(ISNUMBER(SEARCH(\"9\",#REF!)),\"1\",\"0\")","v":"0"},{"$f":"IF(ISNUMBER(SEARCH(\"10\",#REF!)),\"1\",\"0\")","v":"0"},{"$f":"IF(ISNUMBER(SEARCH(\"11\",#REF!)),\"1\",\"0\")","v":"0"},{"$f":"IF(ISNUMBER(SEARCH(\"12\",#REF!)),\"1\",\"0\")","v":"0"},{"$f":"IF(ISNUMBER(SEARCH(\"13\",#REF!)),\"1\",\"0\")","v":"0"},{"$f":"IF(ISNUMBER(SEARCH(\"14\",#REF!)),\"1\",\"0\")","v":"0"},{"$f":"IF(ISNUMBER(SEARCH(\"15\",#REF!)),\"1\",\"0\")","v":"0"},{"$f":"IF(ISNUMBER(SEARCH(\"16\",#REF!)),\"1\",\"0\")","v":"0"},{"$f":"IF(ISNUMBER(SEARCH(\"17\",#REF!)),\"1\",\"0\")","v":"0"},{"$nulls":9},62,{"$nulls":4},0,{"$nulls":3},{"$f":"#REF!-#REF!","v":{"$error":"#REF!"}}]
[4,41,412,null,2,48,null,2,3,2,13,5,6,"2. Witness of violence (physical, threats, killings/death, torture, ill treatment, sexual, family/domestic)","0","1","0","0","0","0","0","0","0","0","0","0","0","0","0","0","0","0",null,1,1,3,2,{"$f":"IF(ISNUMBER(SEARCH(\"1\",#REF!)),\"1\",\"0\")","v":"0"},{"$f":"IF(ISNUMBER(SEARCH(\"2\",#REF!)),\"1\",\"0\")","v":"0"},{"$f":"IF(ISNUMBER(SEARCH(\"3\",#REF!)),\"1\",\"0\")","v":"0"},{"$f":"IF(ISNUMBER(SEARCH(\"4\",#REF!)),\"1\",\"0\")","v":"0"},{"$f":"IF(ISNUMBER(SEARCH(\"5\",#REF!)),\"1\",\"0\")","v":"0"},{"$f":"IF(ISNUMBER(SEARCH(\"6\",#REF!)),\"1\",\"0\")","v":"0"},{"$f":"IF(ISNUMBER(SEARCH(\"7\",#REF!)),\"1\",\"0\")","v":"0"},{"$f":"IF(ISNUMBER(SEARCH(\"8\",#REF!)),\"1\",\"0\")","v":"0"},{"$f":"IF(ISNUMBER(SEARCH(\"9\",#REF!)),\"1\",\"0\")","v":"0"},{"$f":"IF(ISNUMBER(SEARCH(\"9\",#REF!)),\"1\",\"0\")","v":"0"},{"$f":"IF(ISNUMBER(SEARCH(\"10\",#REF!)),\"1\",\"0\")","v":"0"},{"$f":"IF(ISNUMBER(SEARCH(\"11\",#REF!)),\"1\",\"0\")","v":"0"},{"$f":"IF(ISNUMBER(SEARCH(\"12\",#REF!)),\"1\",\"0\")","v":"0"},{"$f":"IF(ISNUMBER(SEARCH(\"13\",#REF!)),\"1\",\"0\")","v":"0"},{"$f":"IF(ISNUMBER(SEARCH(\"14\",#REF!)),\"1\",\"0\")","v":"0"},{"$f":"IF(ISNUMBER(SEARCH(\"15\",#REF!)),\"1\",\"0\")","v":"0"},{"$f":"IF(ISNUMBER(SEARCH(\"16\",#REF!)),\"1\",\"0\")","v":"0"},{"$f":"IF(ISNUMBER(SEARCH(\"17\",#REF!)),\"1\",\"0\")","v":"0"},{"$nulls":9},18,{"$nulls":4},26,null,null,9,{"$f":"#REF!-#REF!","v":{"$error":"#REF!"}},{"$f":"#REF!-#REF!","v":{"$error":"#REF!"}}]
[4,41,412,null,2,28,null,3,7,2,11,5,2,"2. Witness of violence (physical, threats, killings/death, torture, ill treatment, sexual, family/domestic), 12. Disappearance of family member/loved one","1","1","0","0","0","0","0","0","0","0","0","1","0","0","0","0","0","0",null,2,1,3,2,{"$f":"IF(ISNUMBER(SEARCH(\"1\",#REF!)),\"1\",\"0\")","v":"0"},{"$f":"IF(ISNUMBER(SEARCH(\"2\",#REF!)),\"1\",\"0\")","v":"0"},{"$f":"IF(ISNUMBER(SEARCH(\"3\",#REF!)),\"1\",\"0\")","v":"0"},{"$f":"IF(ISNUMBER(SEARCH(\"4\",#REF!)),\"1\",\"0\")","v":"0"},{"$f":"IF(ISNUMBER(SEARCH(\"5\",#REF!)),\"1\",\"0\")","v":"0"},{"$f":"IF(ISNUMBER(SEARCH(\"6\",#REF!)),\"1\",\"0\")","v":"0"},{"$f":"IF(ISNUMBER(SEARCH(\"7\",#REF!)),\"1\",\"0\")","v":"0"},{"$f":"IF(ISNUMBER(SEARCH(\"8\",#REF!)),\"1\",\"0\")","v":"0"},{"$f":"IF(ISNUMBER(SEARCH(\"9\",#REF!)),\"1\",\"0\")","v":"0"},{"$f":"IF(ISNUMBER(SEARCH(\"9\",#REF!)),\"1\",\"0\")","v":"0"},{"$f":"IF(ISNUMBER(SEARCH(\"10\",#REF!)),\"1\",\"0\")","v":"0"},{"$f":"IF(ISNUMBER(SEARCH(\"11\",#REF!)),\"1\",\"0\")","v":"0"},{"$f":"IF(ISNUMBER(SEARCH(\"12\",#REF!)),\"1\",\"0\")","v":"0"},{"$f":"IF(ISNUMBER(SEARCH(\"13\",#REF!)),\"1\",\"0\")","v":"0"},{"$f":"IF(ISNUMBER(SEARCH(\"14\",#REF!)),\"1\",\"0\")","v":"0"},{"$f":"IF(ISNUMBER(SEARCH(\"15\",#REF!)),\"1\",\"0\")","v":"0"},{"$f":"IF(ISNUMBER(SEARCH(\"16\",#REF!)),\"1\",\"0\")","v":"0"},{"$f":"IF(ISNUMBER(SEARCH(\"17\",#REF!)),\"1\",\"0\")","v":"0"},{"$nulls":9},49,{"$nulls":4},32,null,null,7,{"$f":"#REF!-#REF!","v":{"$error":"#REF!"}},{"$f":"#REF!-#REF!","v":{"$error":"#REF!"}}]
[4,41,412,null,2,23,null,2,3,2,1,5,2,"2. Witness of violence (physical, threats, killings/death, torture, ill treatment, sexual, family/domestic), 11. Killing of family member/loved one","1","1","0","0","0","0","0","0","0","0","1","0","0","0","0","0","0","0",null,1,1,4,2,{"$f":"IF(ISNUMBER(SEARCH(\"1\",#REF!)),\"1\",\"0\")","v":"0"},{"$f":"IF(ISNUMBER(SEARCH(\"2\",#REF!)),\"1\",\"0\")","v":"0"},{"$f":"IF(ISNUMBER(SEARCH(\"3\",#REF!)),\"1\",\"0\")","v":"0"},{"$f":"IF(ISNUMBER(SEARCH(\"4\",#REF!)),\"1\",\"0\")","v":"0"},{"$f":"IF(ISNUMBER(SEARCH(\"5\",#REF!)),\"1\",\"0\")","v":"0"},{"$f":"IF(ISNUMBER(SEARCH(\"6\",#REF!)),\"1\",\"0\")","v":"0"},{"$f":"IF(ISNUMBER(SEARCH(\"7\",#REF!)),\"1\",\"0\")","v":"0"},{"$f":"IF(ISNUMBER(SEARCH(\"8\",#REF!)),\"1\",\"0\")","v":"0"},{"$f":"IF(ISNUMBER(SEARCH(\"9\",#REF!)),\"1\",\"0\")","v":"0"},{"$f":"IF(ISNUMBER(SEARCH(\"9\",#REF!)),\"1\",\"0\")","v":"0"},{"$f":"IF(ISNUMBER(SEARCH(\"10\",#REF!)),\"1\",\"0\")","v":"0"},{"$f":"IF(ISNUMBER(SEARCH(\"11\",#REF!)),\"1\",\"0\")","v":"0"},{"$f":"IF(ISNUMBER(SEARCH(\"12\",#REF!)),\"1\",\"0\")","v":"0"},{"$f":"IF(ISNUMBER(SEARCH(\"13\",#REF!)),\"1\",\"0\")","v":"0"},{"$f":"IF(ISNUMBER(SEARCH(\"14\",#REF!)),\"1\",\"0\")","v":"0"},{"$f":"IF(ISNUMBER(SEARCH(\"15\",#REF!)),\"1\",\"0\")","v":"0"},{"$f":"IF(ISNUMBER(SEARCH(\"16\",#REF!)),\"1\",\"0\")","v":"0"},{"$f":"IF(ISNUMBER(SEARCH(\"17\",#REF!)),\"1\",\"0\")","v":"0"},{"$nulls":9},46,{"$nulls":4},25,null,null,9,{"$f":"#REF!-#REF!","v":{"$error":"#REF!"}},{"$f":"#REF!-#REF!","v":{"$error":"#REF!"}}]
[4,41,412,null,2,20,null,1,7,2,3,5,4,"10. Kidnapping/hostage (without sexual violence), 11. Killing of family member/loved one","1","0","0","0","0","0","0","0","0","1","1","0","0","0","0","0","0","0",null,1,1,5,2,{"$f":"IF(ISNUMBER(SEARCH(\"1\",#REF!)),\"1\",\"0\")","v":"0"},{"$f":"IF(ISNUMBER(SEARCH(\"2\",#REF!)),\"1\",\"0\")","v":"0"},{"$f":"IF(ISNUMBER(SEARCH(\"3\",#REF!)),\"1\",\"0\")","v":"0"},{"$f":"IF(ISNUMBER(SEARCH(\"4\",#REF!)),\"1\",\"0\")","v":"0"},{"$f":"IF(ISNUMBER(SEARCH(\"5\",#REF!)),\"1\",\"0\")","v":"0"},{"$f":"IF(ISNUMBER(SEARCH(\"6\",#REF!)),\"1\",\"0\")","v":"0"},{"$f":"IF(ISNUMBER(SEARCH(\"7\",#REF!)),\"1\",\"0\")","v":"0"},{"$f":"IF(ISNUMBER(SEARCH(\"8\",#REF!)),\"1\",\"0\")","v":"0"},{"$f":"IF(ISNUMBER(SEARCH(\"9\",#REF!)),\"1\",\"0\")","v":"0"},{"$f":"IF(ISNUMBER(SEARCH(\"9\",#REF!)),\"1\",\"0\")","v":"0"},{"$f":"IF(ISNUMBER(SEARCH(\"10\",#REF!)),\"1\",\"0\")","v":"0"},{"$f":"IF(ISNUMBER(SEARCH(\"11\",#REF!)),\"1\",\"0\")","v":"0"},{"$f":"IF(ISNUMBER(SEARCH(\"12\",#REF!)),\"1\",\"0\")","v":"0"},{"$f":"IF(ISNUMBER(SEARCH(\"13\",#REF!)),\"1\",\"0\")","v":"0"},{"$f":"IF(ISNUMBER(SEARCH(\"14\",#REF!)),\"1\",\"0\")","v":"0"},{"$f":"IF(ISNUMBER(SEARCH(\"15\",#REF!)),\"1\",\"0\")","v":"0"},{"$f":"IF(ISNUMBER(SEARCH(\"16\",#REF!)),\"1\",\"0\")","v":"0"},{"$f":"IF(ISNUMBER(SEARCH(\"17\",#REF!)),\"1\",\"0\")","v":"0"},{"$nulls":9},58,{"$nulls":4},36,null,null,9,{"$f":"#REF!-#REF!","v":{"$error":"#REF!"}},{"$f":"#REF!-#REF!","v":{"$error":"#REF!"}}]
[4,41,412,null,2,32,null,2,3,2,6,5,2,"2. Witness of violence (physical, threats, killings/death, torture, ill treatment, sexual, family/domestic), 11. Killing of family member/loved one","1","1","0","0","0","0","0","0","0","0","1","0","0","0","0","0","0","0",null,1,1,8,2,{"$f":"IF(ISNUMBER(SEARCH(\"1\",#REF!)),\"1\",\"0\")","v":"0"},{"$f":"IF(ISNUMBER(SEARCH(\"2\",#REF!)),\"1\",\"0\")","v":"0"},{"$f":"IF(ISNUMBER(SEARCH(\"3\",#REF!)),\"1\",\"0\")","v":"0"},{"$f":"IF(ISNUMBER(SEARCH(\"4\",#REF!)),\"1\",\"0\")","v":"0"},{"$f":"IF(ISNUMBER(SEARCH(\"5\",#REF!)),\"1\",\"0\")","v":"0"},{"$f":"IF(ISNUMBER(SEARCH(\"6\",#REF!)),\"1\",\"0\")","v":"0"},{"$f":"IF(ISNUMBER(SEARCH(\"7\",#REF!)),\"1\",\"0\")","v":"0"},{"$f":"IF(ISNUMBER(SEARCH(\"8\",#REF!)),\"1\",\"0\")","v":"0"},{"$f":"IF(ISNUMBER(SEARCH(\"9\",#REF!)),\"1\",\"0\")","v":"0"},{"$f":"IF(ISNUMBER(SEARCH(\"9\",#REF!)),\"1\",\"0\")","v":"0"},{"$f":"IF(ISNUMBER(SEARCH(\"10\",#REF!)),\"1\",\"0\")","v":"0"},{"$f":"IF(ISNUMBER(SEARCH(\"11\",#REF!)),\"1\",\"0\")","v":"0"},{"$f":"IF(ISNUMBER(SEARCH(\"12\",#REF!)),\"1\",\"0\")","v":"0"},{"$f":"IF(ISNUMBER(SEARCH(\"13\",#REF!)),\"1\",\"0\")","v":"0"},{"$f":"IF(ISNUMBER(SEARCH(\"14\",#REF!)),\"1\",\"0\")","v":"0"},{"$f":"IF(ISNUMBER(SEARCH(\"15\",#REF!)),\"1\",\"0\")","v":"0"},{"$f":"IF(ISNUMBER(SEARCH(\"16\",#REF!)),\"1\",\"0\")","v":"0"},{"$f":"IF(ISNUMBER(SEARCH(\"17\",#REF!)),\"1\",\"0\")","v":"0"},{"$nulls":9},45,{"$nulls":4},18,null,null,7,{"$f":"#REF!-#REF!","v":{"$error":"#REF!"}},{"$f":"#REF!-#REF!","v":{"$error":"#REF!"}}]
[4,41,412,null,2,30,null,2,3,2,8,5,2,"2. Witness of violence (physical, threats, killings/death, torture, ill treatment, sexual, family/domestic)","0","1","0","0","0","0","0","0","0","0","0","0","0","0","0","0","0","0",null,2,1,3,2,{"$f":"IF(ISNUMBER(SEARCH(\"1\",#REF!)),\"1\",\"0\")","v":"0"},{"$f":"IF(ISNUMBER(SEARCH(\"2\",#REF!)),\"1\",\"0\")","v":"0"},{"$f":"IF(ISNUMBER(SEARCH(\"3\",#REF!)),\"1\",\"0\")","v":"0"},{"$f":"IF(ISNUMBER(SEARCH(\"4\",#REF!)),\"1\",\"0\")","v":"0"},{"$f":"IF(ISNUMBER(SEARCH(\"5\",#REF!)),\"1\",\"0\")","v":"0"},{"$f":"IF(ISNUMBER(SEARCH(\"6\",#REF!)),\"1\",\"0\")","v":"0"},{"$f":"IF(ISNUMBER(SEARCH(\"7\",#REF!)),\"1\",\"0\")","v":"0"},{"$f":"IF(ISNUMBER(SEARCH(\"8\",#REF!)),\"1\",\"0\")","v":"0"},{"$f":"IF(ISNUMBER(SEARCH(\"9\",#REF!)),\"1\",\"0\")","v":"0"},{"$f":"IF(ISNUMBER(SEARCH(\"9\",#REF!)),\"1\",\"0\")","v":"0"},{"$f":"IF(ISNUMBER(SEARCH(\"10\",#REF!)),\"1\",\"0\")","v":"0"},{"$f":"IF(ISNUMBER(SEARCH(\"11\",#REF!)),\"1\",\"0\")","v":"0"},{"$f":"IF(ISNUMBER(SEARCH(\"12\",#REF!)),\"1\",\"0\")","v":"0"},{"$f":"IF(ISNUMBER(SEARCH(\"13\",#REF!)),\"1\",\"0\")","v":"0"},{"$f":"IF(ISNUMBER(SEARCH(\"14\",#REF!)),\"1\",\"0\")","v":"0"},{"$f":"IF(ISNUMBER(SEARCH(\"15\",#REF!)),\"1\",\"0\")","v":"0"},{"$f":"IF(ISNUMBER(SEARCH(\"16\",#REF!)),\"1\",\"0\")","v":"0"},{"$f":"IF(ISNUMBER(SEARCH(\"17\",#REF!)),\"1\",\"0\")","v":"0"},{"$nulls":9},27,{"$nulls":4},0,null,null,0,{"$f":"#REF!-#REF!","v":{"$error":"#REF!"}}]
[4,41,412,null,2,50,null,1,7,2,3,5,2,"2. Witness of violence (physical, threats, killings/death, torture, ill treatment, sexual, family/domestic), 11. Killing of family member/loved one","1","1","0","0","0","0","0","0","0","0","1","0","0","0","0","0","0","0",null,2,2,4,2,{"$f":"IF(ISNUMBER(SEARCH(\"1\",#REF!)),\"1\",\"0\")","v":"0"},{"$f":"IF(ISNUMBER(SEARCH(\"2\",#REF!)),\"1\",\"0\")","v":"0"},{"$f":"IF(ISNUMBER(SEARCH(\"3\",#REF!)),\"1\",\"0\")","v":"0"},{"$f":"IF(ISNUMBER(SEARCH(\"4\",#REF!)),\"1\",\"0\")","v":"0"},{"$f":"IF(ISNUMBER(SEARCH(\"5\",#REF!)),\"1\",\"0\")","v":"0"},{"$f":"IF(ISNUMBER(SEARCH(\"6\",#REF!)),\"1\",\"0\")","v":"0"},{"$f":"IF(ISNUMBER(SEARCH(\"7\",#REF!)),\"1\",\"0\")","v":"0"},{"$f":"IF(ISNUMBER(SEARCH(\"8\",#REF!)),\"1\",\"0\")","v":"0"},{"$f":"IF(ISNUMBER(SEARCH(\"9\",#REF!)),\"1\",\"0\")","v":"0"},{"$f":"IF(ISNUMBER(SEARCH(\"9\",#REF!)),\"1\",\"0\")","v":"0"},{"$f":"IF(ISNUMBER(SEARCH(\"10\",#REF!)),\"1\",\"0\")","v":"0"},{"$f":"IF(ISNUMBER(SEARCH(\"11\",#REF!)),\"1\",\"0\")","v":"0"},{"$f":"IF(ISNUMBER(SEARCH(\"12\",#REF!)),\"1\",\"0\")","v":"0"},{"$f":"IF(ISNUMBER(SEARCH(\"13\",#REF!)),\"1\",\"0\")","v":"0"},{"$f":"IF(ISNUMBER(SEARCH(\"14\",#REF!)),\"1\",\"0\")","v":"0"},{"$f":"IF(ISNUMBER(SEARCH(\"15\",#REF!)),\"1\",\"0\")","v":"0"},{"$f":"IF(ISNUMBER(SEARCH(\"16\",#REF!)),\"1\",\"0\")","v":"0"},{"$f":"IF(ISNUMBER(SEARCH(\"17\",#REF!)),\"1\",\"0\")","v":"0"},{"$nulls":9},46,{"$nulls":4},32,null,null,0,{"$f":"#REF!-#REF!","v":{"$error":"#REF!"}},{"$f":"#REF!-#REF!","v":{"$error":"#REF!"}}]
[4,41,412,null,2,20,null,2,7,2,1,5,2,"2. Witness of violence (physical, threats, killings/death, torture, ill treatment, sexual, family/domestic)","0","1","0","0","0","0","0","0","0","0","0","0","0","0","0","0","0","0",null,1,1,8,2,{"$f":"IF(ISNUMBER(SEARCH(\"1\",#REF!)),\"1\",\"0\")","v":"0"},{"$f":"IF(ISNUMBER(SEARCH(\"2\",#REF!)),\"1\",\"0\")","v":"0"},{"$f":"IF(ISNUMBER(SEARCH(\"3\",#REF!)),\"1\",\"0\")","v":"0"},{"$f":"IF(ISNUMBER(SEARCH(\"4\",#REF!)),\"1\",\"0\")","v":"0"},{"$f":"IF(ISNUMBER(SEARCH(\"5\",#REF!)),\"1\",\"0\")","v":"0"},{"$f":"IF(ISNUMBER(SEARCH(\"6\",#REF!)),\"1\",\"0\")","v":"0"},{"$f":"IF(ISNUMBER(SEARCH(\"7\",#REF!)),\"1\",\"0\")","v":"0"},{"$f":"IF(ISNUMBER(SEARCH(\"8\",#REF!)),\"1\",\"0\")","v":"0"},{"$f":"IF(ISNUMBER(SEARCH(\"9\",#REF!)),\"1\",\"0\")","v":"0"},{"$f":"IF(ISNUMBER(SEARCH(\"9\",#REF!)),\"1\",\"0\")","v":"0"},{"$f":"IF(ISNUMBER(SEARCH(\"10\",#REF!)),\"1\",\"0\")","v":"0"},{"$f":"IF(ISNUMBER(SEARCH(\"11\",#REF!)),\"1\",\"0\")","v":"0"},{"$f":"IF(ISNUMBER(SEARCH(\"12\",#REF!)),\"1\",\"0\")","v":"0"},{"$f":"IF(ISNUMBER(SEARCH(\"13\",#REF!)),\"1\",\"0\")","v":"0"},{"$f":"IF(ISNUMBER(SEARCH(\"14\",#REF!)),\"1\",\"0\")","v":"0"},{"$f":"IF(ISNUMBER(SEARCH(\"15\",#REF!)),\"1\",\"0\")","v":"0"},{"$f":"IF(ISNUMBER(SEARCH(\"16\",#REF!)),\"1\",\"0\")","v":"0"},{"$f":"IF(ISNUMBER(SEARCH(\"17\",#REF!)),\"1\",\"0\")","v":"0"},{"$nulls":9},39,{"$nulls":4},0,null,null,0,{"$f":"#REF!-#REF!","v":{"$error":"#REF!"}}]
[4,41,412,null,2,55,null,1,3,2,7,5,2,"2. Witness of violence (physical, threats, killings/death, torture, ill treatment, sexual, family/domestic), 11. Killing of family member/loved one","1","1","0","0","0","0","0","0","0","0","1","0","0","0","0","0","0","0",null,1,1,5,2,{"$f":"IF(ISNUMBER(SEARCH(\"1\",#REF!)),\"1\",\"0\")","v":"0"},{"$f":"IF(ISNUMBER(SEARCH(\"2\",#REF!)),\"1\",\"0\")","v":"0"},{"$f":"IF(ISNUMBER(SEARCH(\"3\",#REF!)),\"1\",\"0\")","v":"0"},{"$f":"IF(ISNUMBER(SEARCH(\"4\",#REF!)),\"1\",\"0\")","v":"0"},{"$f":"IF(ISNUMBER(SEARCH(\"5\",#REF!)),\"1\",\"0\")","v":"0"},{"$f":"IF(ISNUMBER(SEARCH(\"6\",#REF!)),\"1\",\"0\")","v":"0"},{"$f":"IF(ISNUMBER(SEARCH(\"7\",#REF!)),\"1\",\"0\")","v":"0"},{"$f":"IF(ISNUMBER(SEARCH(\"8\",#REF!)),\"1\",\"0\")","v":"0"},{"$f":"IF(ISNUMBER(SEARCH(\"9\",#REF!)),\"1\",\"0\")","v":"0"},{"$f":"IF(ISNUMBER(SEARCH(\"9\",#REF!)),\"1\",\"0\")","v":"0"},{"$f":"IF(ISNUMBER(SEARCH(\"10\",#REF!)),\"1\",\"0\")","v":"0"},{"$f":"IF(ISNUMBER(SEARCH(\"11\",#REF!)),\"1\",\"0\")","v":"0"},{"$f":"IF(ISNUMBER(SEARCH(\"12\",#REF!)),\"1\",\"0\")","v":"0"},{"$f":"IF(ISNUMBER(SEARCH(\"13\",#REF!)),\"1\",\"0\")","v":"0"},{"$f":"IF(ISNUMBER(SEARCH(\"14\",#REF!)),\"1\",\"0\")","v":"0"},{"$f":"IF(ISNUMBER(SEARCH(\"15\",#REF!)),\"1\",\"0\")","v":"0"},{"$f":"IF(ISNUMBER(SEARCH(\"16\",#REF!)),\"1\",\"0\")","v":"0"},{"$f":"IF(ISNUMBER(SEARCH(\"17\",#REF!)),\"1\",\"0\")","v":"0"},{"$nulls":9},50,{"$nulls":4},16,null,null,0,{"$f":"#REF!-#REF!","v":{"$error":"#REF!"}},{"$f":"#REF!-#REF!","v":{"$error":"#REF!"}}]
[4,41,412,null,2,40,null,1,7,2,5,5,2,"1. Victim of violence (physical, incl. torture, ill treatment; family/domestic), 11. Killing of family member/loved one","1","0","0","0","0","0","0","0","0","0","1","0","0","0","0","0","0","0",null,1,1,4,2,{"$f":"IF(ISNUMBER(SEARCH(\"1\",#REF!)),\"1\",\"0\")","v":"0"},{"$f":"IF(ISNUMBER(SEARCH(\"2\",#REF!)),\"1\",\"0\")","v":"0"},{"$f":"IF(ISNUMBER(SEARCH(\"3\",#REF!)),\"1\",\"0\")","v":"0"},{"$f":"IF(ISNUMBER(SEARCH(\"4\",#REF!)),\"1\",\"0\")","v":"0"},{"$f":"IF(ISNUMBER(SEARCH(\"5\",#REF!)),\"1\",\"0\")","v":"0"},{"$f":"IF(ISNUMBER(SEARCH(\"6\",#REF!)),\"1\",\"0\")","v":"0"},{"$f":"IF(ISNUMBER(SEARCH(\"7\",#REF!)),\"1\",\"0\")","v":"0"},{"$f":"IF(ISNUMBER(SEARCH(\"8\",#REF!)),\"1\",\"0\")","v":"0"},{"$f":"IF(ISNUMBER(SEARCH(\"9\",#REF!)),\"1\",\"0\")","v":"0"},{"$f":"IF(ISNUMBER(SEARCH(\"9\",#REF!)),\"1\",\"0\")","v":"0"},{"$f":"IF(ISNUMBER(SEARCH(\"10\",#REF!)),\"1\",\"0\")","v":"0"},{"$f":"IF(ISNUMBER(SEARCH(\"11\",#REF!)),\"1\",\"0\")","v":"0"},{"$f":"IF(ISNUMBER(SEARCH(\"12\",#REF!)),\"1\",\"0\")","v":"0"},{"$f":"IF(ISNUMBER(SEARCH(\"13\",#REF!)),\"1\",\"0\")","v":"0"},{"$f":"IF(ISNUMBER(SEARCH(\"14\",#REF!)),\"1\",\"0\")","v":"0"},{"$f":"IF(ISNUMBER(SEARCH(\"15\",#REF!)),\"1\",\"0\")","v":"0"},{"$f":"IF(ISNUMBER(SEARCH(\"16\",#REF!)),\"1\",\"0\")","v":"0"},{"$f":"IF(ISNUMBER(SEARCH(\"17\",#REF!)),\"1\",\"0\")","v":"0"},{"$nulls":9},77,{"$nulls":4},13,null,null,6,{"$f":"#REF!-#REF!","v":{"$error":"#REF!"}},{"$f":"#REF!-#REF!","v":{"$error":"#REF!"}}]
[4,41,412,null,2,37,null,3,7,1,10,5,2,"15. Insults / received threats","1","0","0","0","1","0","0","0","0","0","0","0","0","0","1","0","0","0",null,1,6,4,2,{"$f":"IF(ISNUMBER(SEARCH(\"1\",#REF!)),\"1\",\"0\")","v":"0"},{"$f":"IF(ISNUMBER(SEARCH(\"2\",#REF!)),\"1\",\"0\")","v":"0"},{"$f":"IF(ISNUMBER(SEARCH(\"3\",#REF!)),\"1\",\"0\")","v":"0"},{"$f":"IF(ISNUMBER(SEARCH(\"4\",#REF!)),\"1\",\"0\")","v":"0"},{"$f":"IF(ISNUMBER(SEARCH(\"5\",#REF!)),\"1\",\"0\")","v":"0"},{"$f":"IF(ISNUMBER(SEARCH(\"6\",#REF!)),\"1\",\"0\")","v":"0"},{"$f":"IF(ISNUMBER(SEARCH(\"7\",#REF!)),\"1\",\"0\")","v":"0"},{"$f":"IF(ISNUMBER(SEARCH(\"8\",#REF!)),\"1\",\"0\")","v":"0"},{"$f":"IF(ISNUMBER(SEARCH(\"9\",#REF!)),\"1\",\"0\")","v":"0"},{"$f":"IF(ISNUMBER(SEARCH(\"9\",#REF!)),\"1\",\"0\")","v":"0"},{"$f":"IF(ISNUMBER(SEARCH(\"10\",#REF!)),\"1\",\"0\")","v":"0"},{"$f":"IF(ISNUMBER(SEARCH(\"11\",#REF!)),\"1\",\"0\")","v":"0"},{"$f":"IF(ISNUMBER(SEARCH(\"12\",#REF!)),\"1\",\"0\")","v":"0"},{"$f":"IF(ISNUMBER(SEARCH(\"13\",#REF!)),\"1\",\"0\")","v":"0"},{"$f":"IF(ISNUMBER(SEARCH(\"14\",#REF!)),\"1\",\"0\")","v":"0"},{"$f":"IF(ISNUMBER(SEARCH(\"15\",#REF!)),\"1\",\"0\")","v":"0"},{"$f":"IF(ISNUMBER(SEARCH(\"16\",#REF!)),\"1\",\"0\")","v":"0"},{"$f":"IF(ISNUMBER(SEARCH(\"17\",#REF!)),\"1\",\"0\")","v":"0"},{"$nulls":9},58,{"$nulls":4},23,null,null,10,{"$f":"#REF!-#REF!","v":{"$error":"#REF!"}},{"$f":"#REF!-#REF!","v":{"$error":"#REF!"}}]
[4,41,412,null,2,55,null,1,3,2,5,5,6,"2. Witness of violence (physical, threats, killings/death, torture, ill treatment, sexual, family/domestic), 11. Killing of family member/loved one, 12. Disappearance of family member/loved one","1","1","0","0","0","0","0","0","0","0","1","1","0","0","0","0","0","0",null,2,1,5,2,{"$f":"IF(ISNUMBER(SEARCH(\"1\",#REF!)),\"1\",\"0\")","v":"0"},{"$f":"IF(ISNUMBER(SEARCH(\"2\",#REF!)),\"1\",\"0\")","v":"0"},{"$f":"IF(ISNUMBER(SEARCH(\"3\",#REF!)),\"1\",\"0\")","v":"0"},{"$f":"IF(ISNUMBER(SEARCH(\"4\",#REF!)),\"1\",\"0\")","v":"0"},{"$f":"IF(ISNUMBER(SEARCH(\"5\",#REF!)),\"1\",\"0\")","v":"0"},{"$f":"IF(ISNUMBER(SEARCH(\"6\",#REF!)),\"1\",\"0\")","v":"0"},{"$f":"IF(ISNUMBER(SEARCH(\"7\",#REF!)),\"1\",\"0\")","v":"0"},{"$f":"IF(ISNUMBER(SEARCH(\"8\",#REF!)),\"1\",\"0\")","v":"0"},{"$f":"IF(ISNUMBER(SEARCH(\"9\",#REF!)),\"1\",\"0\")","v":"0"},{"$f":"IF(ISNUMBER(SEARCH(\"9\",#REF!)),\"1\",\"0\")","v":"0"},{"$f":"IF(ISNUMBER(SEARCH(\"10\",#REF!)),\"1\",\"0\")","v":"0"},{"$f":"IF(ISNUMBER(SEARCH(\"11\",#REF!)),\"1\",\"0\")","v":"0"},{"$f":"IF(ISNUMBER(SEARCH(\"12\",#REF!)),\"1\",\"0\")","v":"0"},{"$f":"IF(ISNUMBER(SEARCH(\"13\",#REF!)),\"1\",\"0\")","v":"0"},{"$f":"IF(ISNUMBER(SEARCH(\"14\",#REF!)),\"1\",\"0\")","v":"0"},{"$f":"IF(ISNUMBER(SEARCH(\"15\",#REF!)),\"1\",\"0\")","v":"0"},{"$f":"IF(ISNUMBER(SEARCH(\"16\",#REF!)),\"1\",\"0\")","v":"0"},{"$f":"IF(ISNUMBER(SEARCH(\"17\",#REF!)),\"1\",\"0\")","v":"0"},{"$nulls":9},41,{"$nulls":4},18,null,null,7,{"$f":"#REF!-#REF!","v":{"$error":"#REF!"}},{"$f":"#REF!-#REF!","v":{"$error":"#REF!"}}]
[4,41,412,null,2,30,null,1,7,2,8,5,2,"1. Victim of violence (physical, incl. torture, ill treatment; family/domestic)","1","0","0","0","0","0","0","0","0","0","0","0","0","0","0","0","0","0",null,1,1,5,2,{"$f":"IF(ISNUMBER(SEARCH(\"1\",#REF!)),\"1\",\"0\")","v":"0"},{"$f":"IF(ISNUMBER(SEARCH(\"2\",#REF!)),\"1\",\"0\")","v":"0"},{"$f":"IF(ISNUMBER(SEARCH(\"3\",#REF!)),\"1\",\"0\")","v":"0"},{"$f":"IF(ISNUMBER(SEARCH(\"4\",#REF!)),\"1\",\"0\")","v":"0"},{"$f":"IF(ISNUMBER(SEARCH(\"5\",#REF!)),\"1\",\"0\")","v":"0"},{"$f":"IF(ISNUMBER(SEARCH(\"6\",#REF!)),\"1\",\"0\")","v":"0"},{"$f":"IF(ISNUMBER(SEARCH(\"7\",#REF!)),\"1\",\"0\")","v":"0"},{"$f":"IF(ISNUMBER(SEARCH(\"8\",#REF!)),\"1\",\"0\")","v":"0"},{"$f":"IF(ISNUMBER(SEARCH(\"9\",#REF!)),\"1\",\"0\")","v":"0"},{"$f":"IF(ISNUMBER(SEARCH(\"9\",#REF!)),\"1\",\"0\")","v":"0"},{"$f":"IF(ISNUMBER(SEARCH(\"10\",#REF!)),\"1\",\"0\")","v":"0"},{"$f":"IF(ISNUMBER(SEARCH(\"11\",#REF!)),\"1\",\"0\")","v":"0"},{"$f":"IF(ISNUMBER(SEARCH(\"12\",#REF!)),\"1\",\"0\")","v":"0"},{"$f":"IF(ISNUMBER(SEARCH(\"13\",#REF!)),\"1\",\"0\")","v":"0"},{"$f":"IF(ISNUMBER(SEARCH(\"14\",#REF!)),\"1\",\"0\")","v":"0"},{"$f":"IF(ISNUMBER(SEARCH(\"15\",#REF!)),\"1\",\"0\")","v":"0"},{"$f":"IF(ISNUMBER(SEARCH(\"16\",#REF!)),\"1\",\"0\")","v":"0"},{"$f":"IF(ISNUMBER(SEARCH(\"17\",#REF!)),\"1\",\"0\")","v":"0"},{"$nulls":9},45,{"$nulls":4},28,null,null,8,{"$f":"#REF!-#REF!","v":{"$error":"#REF!"}},{"$f":"#REF!-#REF!","v":{"$error":"#REF!"}}]
[4,41,412,"PSV010",2,45,null,1,7,2,12,5,2,"11. Killing of family member/loved one, 12. Disappearance of family member/loved one, 14. Victim of/experienced torture/ill-treatment, 15. Insults / received threats","1","1","0","1","1","0","0","0","0","0","1","1","0","1","1","0","0","0",null,1,1,5,null,{"$f":"IF(ISNUMBER(SEARCH(\"1\",#REF!)),\"1\",\"0\")","v":"0"},{"$f":"IF(ISNUMBER(SEARCH(\"2\",#REF!)),\"1\",\"0\")","v":"0"},{"$f":"IF(ISNUMBER(SEARCH(\"3\",#REF!)),\"1\",\"0\")","v":"0"},{"$f":"IF(ISNUMBER(SEARCH(\"4\",#REF!)),\"1\",\"0\")","v":"0"},{"$f":"IF(ISNUMBER(SEARCH(\"5\",#REF!)),\"1\",\"0\")","v":"0"},{"$f":"IF(ISNUMBER(SEARCH(\"6\",#REF!)),\"1\",\"0\")","v":"0"},{"$f":"IF(ISNUMBER(SEARCH(\"7\",#REF!)),\"1\",\"0\")","v":"0"},{"$f":"IF(ISNUMBER(SEARCH(\"8\",#REF!)),\"1\",\"0\")","v":"0"},{"$f":"IF(ISNUMBER(SEARCH(\"9\",#REF!)),\"1\",\"0\")","v":"0"},{"$f":"IF(ISNUMBER(SEARCH(\"9\",#REF!)),\"1\",\"0\")","v":"0"},{"$f":"IF(ISNUMBER(SEARCH(\"10\",#REF!)),\"1\",\"0\")","v":"0"},{"$f":"IF(ISNUMBER(SEARCH(\"11\",#REF!)),\"1\",\"0\")","v":"0"},{"$f":"IF(ISNUMBER(SEARCH(\"12\",#REF!)),\"1\",\"0\")","v":"0"},{"$f":"IF(ISNUMBER(SEARCH(\"13\",#REF!)),\"1\",\"0\")","v":"0"},{"$f":"IF(ISNUMBER(SEARCH(\"14\",#REF!)),\"1\",\"0\")","v":"0"},{"$f":"IF(ISNUMBER(SEARCH(\"15\",#REF!)),\"1\",\"0\")","v":"0"},{"$f":"IF(ISNUMBER(SEARCH(\"16\",#REF!)),\"1\",\"0\")","v":"0"},{"$f":"IF(ISNUMBER(SEARCH(\"17\",#REF!)),\"1\",\"0\")","v":"0"},{"$nulls":9},44,{"$nulls":4},24,null,null,10,{"$f":"#REF!-#REF!","v":{"$error":"#REF!"}},{"$f":"#REF!-#REF!","v":{"$error":"#REF!"}}]
[4,41,412,"PSV012",2,50,null,1,3,2,8,5,2,"1. Victim of violence (physical, incl. torture, ill treatment; family/domestic), 10. Kidnapping/hostage (without sexual violence), 11. Killing of family member/loved one","1","0","0","0","0","0","0","0","0","1","1","0","0","0","0","0","0","0",null,1,1,5,2,{"$f":"IF(ISNUMBER(SEARCH(\"1\",#REF!)),\"1\",\"0\")","v":"0"},{"$f":"IF(ISNUMBER(SEARCH(\"2\",#REF!)),\"1\",\"0\")","v":"0"},{"$f":"IF(ISNUMBER(SEARCH(\"3\",#REF!)),\"1\",\"0\")","v":"0"},{"$f":"IF(ISNUMBER(SEARCH(\"4\",#REF!)),\"1\",\"0\")","v":"0"},{"$f":"IF(ISNUMBER(SEARCH(\"5\",#REF!)),\"1\",\"0\")","v":"0"},{"$f":"IF(ISNUMBER(SEARCH(\"6\",#REF!)),\"1\",\"0\")","v":"0"},{"$f":"IF(ISNUMBER(SEARCH(\"7\",#REF!)),\"1\",\"0\")","v":"0"},{"$f":"IF(ISNUMBER(SEARCH(\"8\",#REF!)),\"1\",\"0\")","v":"0"},{"$f":"IF(ISNUMBER(SEARCH(\"9\",#REF!)),\"1\",\"0\")","v":"0"},{"$f":"IF(ISNUMBER(SEARCH(\"9\",#REF!)),\"1\",\"0\")","v":"0"},{"$f":"IF(ISNUMBER(SEARCH(\"10\",#REF!)),\"1\",\"0\")","v":"0"},{"$f":"IF(ISNUMBER(SEARCH(\"11\",#REF!)),\"1\",\"0\")","v":"0"},{"$f":"IF(ISNUMBER(SEARCH(\"12\",#REF!)),\"1\",\"0\")","v":"0"},{"$f":"IF(ISNUMBER(SEARCH(\"13\",#REF!)),\"1\",\"0\")","v":"0"},{"$f":"IF(ISNUMBER(SEARCH(\"14\",#REF!)),\"1\",\"0\")","v":"0"},{"$f":"IF(ISNUMBER(SEARCH(\"15\",#REF!)),\"1\",\"0\")","v":"0"},{"$f":"IF(ISNUMBER(SEARCH(\"16\",#REF!)),\"1\",\"0\")","v":"0"},{"$f":"IF(ISNUMBER(SEARCH(\"17\",#REF!)),\"1\",\"0\")","v":"0"},{"$nulls":9},54,{"$nulls":4},26,null,null,7,{"$f":"#REF!-#REF!","v":{"$error":"#REF!"}},{"$f":"#REF!-#REF!","v":{"$error":"#REF!"}}]
[4,41,412,"PSV017",1,50,null,1,3,2,null,5,2,"11. Killing of family member/loved one, 14. Victim of/experienced torture/ill-treatment, 15. Insults / received threats","1","0","0","1","1","0","0","0","0","0","1","0","0","1","1","0","0","0",null,1,1,4,2,{"$f":"IF(ISNUMBER(SEARCH(\"1\",#REF!)),\"1\",\"0\")","v":"0"},{"$f":"IF(ISNUMBER(SEARCH(\"2\",#REF!)),\"1\",\"0\")","v":"0"},{"$f":"IF(ISNUMBER(SEARCH(\"3\",#REF!)),\"1\",\"0\")","v":"0"},{"$f":"IF(ISNUMBER(SEARCH(\"4\",#REF!)),\"1\",\"0\")","v":"0"},{"$f":"IF(ISNUMBER(SEARCH(\"5\",#REF!)),\"1\",\"0\")","v":"0"},{"$f":"IF(ISNUMBER(SEARCH(\"6\",#REF!)),\"1\",\"0\")","v":"0"},{"$f":"IF(ISNUMBER(SEARCH(\"7\",#REF!)),\"1\",\"0\")","v":"0"},{"$f":"IF(ISNUMBER(SEARCH(\"8\",#REF!)),\"1\",\"0\")","v":"0"},{"$f":"IF(ISNUMBER(SEARCH(\"9\",#REF!)),\"1\",\"0\")","v":"0"},{"$f":"IF(ISNUMBER(SEARCH(\"9\",#REF!)),\"1\",\"0\")","v":"0"},{"$f":"IF(ISNUMBER(SEARCH(\"10\",#REF!)),\"1\",\"0\")","v":"0"},{"$f":"IF(ISNUMBER(SEARCH(\"11\",#REF!)),\"1\",\"0\")","v":"0"},{"$f":"IF(ISNUMBER(SEARCH(\"12\",#REF!)),\"1\",\"0\")","v":"0"},{"$f":"IF(ISNUMBER(SEARCH(\"13\",#REF!)),\"1\",\"0\")","v":"0"},{"$f":"IF(ISNUMBER(SEARCH(\"14\",#REF!)),\"1\",\"0\")","v":"0"},{"$f":"IF(ISNUMBER(SEARCH(\"15\",#REF!)),\"1\",\"0\")","v":"0"},{"$f":"IF(ISNUMBER(SEARCH(\"16\",#REF!)),\"1\",\"0\")","v":"0"},{"$f":"IF(ISNUMBER(SEARCH(\"17\",#REF!)),\"1\",\"0\")","v":"0"},{"$nulls":9},47,{"$nulls":4},0,null,null,0,{"$f":"#REF!-#REF!","v":{"$error":"#REF!"}}]
[4,41,412,"PSV007",2,26,null,1,7,2,2,5,2,"10. Kidnapping/hostage (without sexual violence)","1","0","0","0","0","0","0","0","0","1","0","0","0","0","0","0","0","0",null,1,1,5,2,{"$f":"IF(ISNUMBER(SEARCH(\"1\",#REF!)),\"1\",\"0\")","v":"0"},{"$f":"IF(ISNUMBER(SEARCH(\"2\",#REF!)),\"1\",\"0\")","v":"0"},{"$f":"IF(ISNUMBER(SEARCH(\"3\",#REF!)),\"1\",\"0\")","v":"0"},{"$f":"IF(ISNUMBER(SEARCH(\"4\",#REF!)),\"1\",\"0\")","v":"0"},{"$f":"IF(ISNUMBER(SEARCH(\"5\",#REF!)),\"1\",\"0\")","v":"0"},{"$f":"IF(ISNUMBER(SEARCH(\"6\",#REF!)),\"1\",\"0\")","v":"0"},{"$f":"IF(ISNUMBER(SEARCH(\"7\",#REF!)),\"1\",\"0\")","v":"0"},{"$f":"IF(ISNUMBER(SEARCH(\"8\",#REF!)),\"1\",\"0\")","v":"0"},{"$f":"IF(ISNUMBER(SEARCH(\"9\",#REF!)),\"1\",\"0\")","v":"0"},{"$f":"IF(ISNUMBER(SEARCH(\"9\",#REF!)),\"1\",\"0\")","v":"0"},{"$f":"IF(ISNUMBER(SEARCH(\"10\",#REF!)),\"1\",\"0\")","v":"0"},{"$f":"IF(ISNUMBER(SEARCH(\"11\",#REF!)),\"1\",\"0\")","v":"0"},{"$f":"IF(ISNUMBER(SEARCH(\"12\",#REF!)),\"1\",\"0\")","v":"0"},{"$f":"IF(ISNUMBER(SEARCH(\"13\",#REF!)),\"1\",\"0\")","v":"0"},{"$f":"IF(ISNUMBER(SEARCH(\"14\",#REF!)),\"1\",\"0\")","v":"0"},{"$f":"IF(ISNUMBER(SEARCH(\"15\",#REF!)),\"1\",\"0\")","v":"0"},{"$f":"IF(ISNUMBER(SEARCH(\"16\",#REF!)),\"1\",\"0\")","v":"0"},{"$f":"IF(ISNUMBER(SEARCH(\"17\",#REF!)),\"1\",\"0\")","v":"0"},{"$nulls":9},46,{"$nulls":4},0,null,null,0,{"$f":"#REF!-#REF!","v":{"$error":"#REF!"}}]
[4,41,412,"PSV017",2,35,null,2,3,2,null,5,2,"1. Victim of violence (physical, incl. torture, ill treatment; family/domestic), 6. Forced marriage, 13. Forced recruitment (by armed groups), 14. Victim of/experienced torture/ill-treatment, 16. Other (please specify in the next cell)","1","0","1","1","0","1","0","0","0","0","0","0","1","1","0","1","0","0",null,2,7,4,2,{"$f":"IF(ISNUMBER(SEARCH(\"1\",#REF!)),\"1\",\"0\")","v":"0"},{"$f":"IF(ISNUMBER(SEARCH(\"2\",#REF!)),\"1\",\"0\")","v":"0"},{"$f":"IF(ISNUMBER(SEARCH(\"3\",#REF!)),\"1\",\"0\")","v":"0"},{"$f":"IF(ISNUMBER(SEARCH(\"4\",#REF!)),\"1\",\"0\")","v":"0"},{"$f":"IF(ISNUMBER(SEARCH(\"5\",#REF!)),\"1\",\"0\")","v":"0"},{"$f":"IF(ISNUMBER(SEARCH(\"6\",#REF!)),\"1\",\"0\")","v":"0"},{"$f":"IF(ISNUMBER(SEARCH(\"7\",#REF!)),\"1\",\"0\")","v":"0"},{"$f":"IF(ISNUMBER(SEARCH(\"8\",#REF!)),\"1\",\"0\")","v":"0"},{"$f":"IF(ISNUMBER(SEARCH(\"9\",#REF!)),\"1\",\"0\")","v":"0"},{"$f":"IF(ISNUMBER(SEARCH(\"9\",#REF!)),\"1\",\"0\")","v":"0"},{"$f":"IF(ISNUMBER(SEARCH(\"10\",#REF!)),\"1\",\"0\")","v":"0"},{"$f":"IF(ISNUMBER(SEARCH(\"11\",#REF!)),\"1\",\"0\")","v":"0"},{"$f":"IF(ISNUMBER(SEARCH(\"12\",#REF!)),\"1\",\"0\")","v":"0"},{"$f":"IF(ISNUMBER(SEARCH(\"13\",#REF!)),\"1\",\"0\")","v":"0"},{"$f":"IF(ISNUMBER(SEARCH(\"14\",#REF!)),\"1\",\"0\")","v":"0"},{"$f":"IF(ISNUMBER(SEARCH(\"15\",#REF!)),\"1\",\"0\")","v":"0"},{"$f":"IF(ISNUMBER(SEARCH(\"16\",#REF!)),\"1\",\"0\")","v":"0"},{"$f":"IF(ISNUMBER(SEARCH(\"17\",#REF!)),\"1\",\"0\")","v":"0"},{"$nulls":9},48,{"$nulls":4},15,null,null,8,{"$f":"#REF!-#REF!","v":{"$error":"#REF!"}},{"$f":"#REF!-#REF!","v":{"$error":"#REF!"}}]
[4,41,412,"PSV014",1,25,null,2,3,2,0,5,1,"1. Victim of violence (physical, incl. torture, ill treatment; family/domestic), 15. Insults / received threats","1","0","0","0","1","0","0","0","0","0","0","0","0","0","1","0","0","0",null,1,3,5,null,{"$f":"IF(ISNUMBER(SEARCH(\"1\",#REF!)),\"1\",\"0\")","v":"0"},{"$f":"IF(ISNUMBER(SEARCH(\"2\",#REF!)),\"1\",\"0\")","v":"0"},{"$f":"IF(ISNUMBER(SEARCH(\"3\",#REF!)),\"1\",\"0\")","v":"0"},{"$f":"IF(ISNUMBER(SEARCH(\"4\",#REF!)),\"1\",\"0\")","v":"0"},{"$f":"IF(ISNUMBER(SEARCH(\"5\",#REF!)),\"1\",\"0\")","v":"0"},{"$f":"IF(ISNUMBER(SEARCH(\"6\",#REF!)),\"1\",\"0\")","v":"0"},{"$f":"IF(ISNUMBER(SEARCH(\"7\",#REF!)),\"1\",\"0\")","v":"0"},{"$f":"IF(ISNUMBER(SEARCH(\"8\",#REF!)),\"1\",\"0\")","v":"0"},{"$f":"IF(ISNUMBER(SEARCH(\"9\",#REF!)),\"1\",\"0\")","v":"0"},{"$f":"IF(ISNUMBER(SEARCH(\"9\",#REF!)),\"1\",\"0\")","v":"0"},{"$f":"IF(ISNUMBER(SEARCH(\"10\",#REF!)),\"1\",\"0\")","v":"0"},{"$f":"IF(ISNUMBER(SEARCH(\"11\",#REF!)),\"1\",\"0\")","v":"0"},{"$f":"IF(ISNUMBER(SEARCH(\"12\",#REF!)),\"1\",\"0\")","v":"0"},{"$f":"IF(ISNUMBER(SEARCH(\"13\",#REF!)),\"1\",\"0\")","v":"0"},{"$f":"IF(ISNUMBER(SEARCH(\"14\",#REF!)),\"1\",\"0\")","v":"0"},{"$f":"IF(ISNUMBER(SEARCH(\"15\",#REF!)),\"1\",\"0\")","v":"0"},{"$f":"IF(ISNUMBER(SEARCH(\"16\",#REF!)),\"1\",\"0\")","v":"0"},{"$f":"IF(ISNUMBER(SEARCH(\"17\",#REF!)),\"1\",\"0\")","v":"0"},{"$nulls":9},40,{"$nulls":4},16,null,null,1,{"$f":"#REF!-#REF!","v":{"$error":"#REF!"}},{"$f":"#REF!-#REF!","v":{"$error":"#REF!"}}]
[4,41,412,"PSV016",2,33,null,2,7,2,8,5,2,"2. Witness of violence (physical, threats, killings/death, torture, ill treatment, sexual, family/domestic), 15. Insults / received threats","1","1","0","0","1","0","0","0","0","0","0","0","0","0","1","0","0","0",null,1,1,5,2,{"$f":"IF(ISNUMBER(SEARCH(\"1\",#REF!)),\"1\",\"0\")","v":"0"},{"$f":"IF(ISNUMBER(SEARCH(\"2\",#REF!)),\"1\",\"0\")","v":"0"},{"$f":"IF(ISNUMBER(SEARCH(\"3\",#REF!)),\"1\",\"0\")","v":"0"},{"$f":"IF(ISNUMBER(SEARCH(\"4\",#REF!)),\"1\",\"0\")","v":"0"},{"$f":"IF(ISNUMBER(SEARCH(\"5\",#REF!)),\"1\",\"0\")","v":"0"},{"$f":"IF(ISNUMBER(SEARCH(\"6\",#REF!)),\"1\",\"0\")","v":"0"},{"$f":"IF(ISNUMBER(SEARCH(\"7\",#REF!)),\"1\",\"0\")","v":"0"},{"$f":"IF(ISNUMBER(SEARCH(\"8\",#REF!)),\"1\",\"0\")","v":"0"},{"$f":"IF(ISNUMBER(SEARCH(\"9\",#REF!)),\"1\",\"0\")","v":"0"},{"$f":"IF(ISNUMBER(SEARCH(\"9\",#REF!)),\"1\",\"0\")","v":"0"},{"$f":"IF(ISNUMBER(SEARCH(\"10\",#REF!)),\"1\",\"0\")","v":"0"},{"$f":"IF(ISNUMBER(SEARCH(\"11\",#REF!)),\"1\",\"0\")","v":"0"},{"$f":"IF(ISNUMBER(SEARCH(\"12\",#REF!)),\"1\",\"0\")","v":"0"},{"$f":"IF(ISNUMBER(SEARCH(\"13\",#REF!)),\"1\",\"0\")","v":"0"},{"$f":"IF(ISNUMBER(SEARCH(\"14\",#REF!)),\"1\",\"0\")","v":"0"},{"$f":"IF(ISNUMBER(SEARCH(\"15\",#REF!)),\"1\",\"0\")","v":"0"},{"$f":"IF(ISNUMBER(SEARCH(\"16\",#REF!)),\"1\",\"0\")","v":"0"},{"$f":"IF(ISNUMBER(SEARCH(\"17\",#REF!)),\"1\",\"0\")","v":"0"},{"$nulls":9},37,{"$nulls":4},15,null,null,8,{"$f":"#REF!-#REF!","v":{"$error":"#REF!"}},{"$f":"#REF!-#REF!","v":{"$error":"#REF!"}}]
[4,41,412,"PSV013",2,25,null,1,7,2,4,5,6,"11. Killing of family member/loved one","1","0","0","0","0","0","0","0","0","0","1","0","0","0","0","0","0","0",null,1,1,5,2,{"$f":"IF(ISNUMBER(SEARCH(\"1\",#REF!)),\"1\",\"0\")","v":"0"},{"$f":"IF(ISNUMBER(SEARCH(\"2\",#REF!)),\"1\",\"0\")","v":"0"},{"$f":"IF(ISNUMBER(SEARCH(\"3\",#REF!)),\"1\",\"0\")","v":"0"},{"$f":"IF(ISNUMBER(SEARCH(\"4\",#REF!)),\"1\",\"0\")","v":"0"},{"$f":"IF(ISNUMBER(SEARCH(\"5\",#REF!)),\"1\",\"0\")","v":"0"},{"$f":"IF(ISNUMBER(SEARCH(\"6\",#REF!)),\"1\",\"0\")","v":"0"},{"$f":"IF(ISNUMBER(SEARCH(\"7\",#REF!)),\"1\",\"0\")","v":"0"},{"$f":"IF(ISNUMBER(SEARCH(\"8\",#REF!)),\"1\",\"0\")","v":"0"},{"$f":"IF(ISNUMBER(SEARCH(\"9\",#REF!)),\"1\",\"0\")","v":"0"},{"$f":"IF(ISNUMBER(SEARCH(\"9\",#REF!)),\"1\",\"0\")","v":"0"},{"$f":"IF(ISNUMBER(SEARCH(\"10\",#REF!)),\"1\",\"0\")","v":"0"},{"$f":"IF(ISNUMBER(SEARCH(\"11\",#REF!)),\"1\",\"0\")","v":"0"},{"$f":"IF(ISNUMBER(SEARCH(\"12\",#REF!)),\"1\",\"0\")","v":"0"},{"$f":"IF(ISNUMBER(SEARCH(\"13\",#REF!)),\"1\",\"0\")","v":"0"},{"$f":"IF(ISNUMBER(SEARCH(\"14\",#REF!)),\"1\",\"0\")","v":"0"},{"$f":"IF(ISNUMBER(SEARCH(\"15\",#REF!)),\"1\",\"0\")","v":"0"},{"$f":"IF(ISNUMBER(SEARCH(\"16\",#REF!)),\"1\",\"0\")","v":"0"},{"$f":"IF(ISNUMBER(SEARCH(\"17\",#REF!)),\"1\",\"0\")","v":"0"},{"$nulls":9},47,{"$nulls":4},0,null,null,1,{"$f":"#REF!-#REF!","v":{"$error":"#REF!"}}]
[4,41,412,"PSV016",2,45,null,1,3,2,10,5,6,"9. Kidnapping/hostage and/for sexual violence","0","0","0","0","0","0","0","0","1","0","0","0","0","0","0","0","0","0",null,2,1,5,2,{"$f":"IF(ISNUMBER(SEARCH(\"1\",#REF!)),\"1\",\"0\")","v":"0"},0,{"$f":"IF(ISNUMBER(SEARCH(\"3\",#REF!)),\"1\",\"0\")","v":"0"},{"$f":"IF(ISNUMBER(SEARCH(\"4\",#REF!)),\"1\",\"0\")","v":"0"},{"$f":"IF(ISNUMBER(SEARCH(\"5\",#REF!)),\"1\",\"0\")","v":"0"},{"$f":"IF(ISNUMBER(SEARCH(\"6\",#REF!)),\"1\",\"0\")","v":"0"},{"$f":"IF(ISNUMBER(SEARCH(\"7\",#REF!)),\"1\",\"0\")","v":"0"},{"$f":"IF(ISNUMBER(SEARCH(\"8\",#REF!)),\"1\",\"0\")","v":"0"},{"$f":"IF(ISNUMBER(SEARCH(\"9\",#REF!)),\"1\",\"0\")","v":"0"},{"$f":"IF(ISNUMBER(SEARCH(\"9\",#REF!)),\"1\",\"0\")","v":"0"},{"$f":"IF(ISNUMBER(SEARCH(\"10\",#REF!)),\"1\",\"0\")","v":"0"},{"$f":"IF(ISNUMBER(SEARCH(\"11\",#REF!)),\"1\",\"0\")","v":"0"},{"$f":"IF(ISNUMBER(SEARCH(\"12\",#REF!)),\"1\",\"0\")","v":"0"},{"$f":"IF(ISNUMBER(SEARCH(\"13\",#REF!)),\"1\",\"0\")","v":"0"},{"$f":"IF(ISNUMBER(SEARCH(\"14\",#REF!)),\"1\",\"0\")","v":"0"},{"$f":"IF(ISNUMBER(SEARCH(\"15\",#REF!)),\"1\",\"0\")","v":"0"},{"$f":"IF(ISNUMBER(SEARCH(\"16\",#REF!)),\"1\",\"0\")","v":"0"},{"$f":"IF(ISNUMBER(SEARCH(\"17\",#REF!)),\"1\",\"0\")","v":"0"},{"$nulls":9},55,{"$nulls":4},33,null,null,6,{"$f":"#REF!-#REF!","v":{"$error":"#REF!"}},{"$f":"#REF!-#REF!","v":{"$error":"#REF!"}}]
[4,41,412,"PSV010",2,35,null,1,7,2,3,5,2,null,"0","0","0","0","0","0","0","0","0","0","0","0","0","0","0","0","0","0",{"$nulls":5},{"$f":"IF(ISNUMBER(SEARCH(\"1\",#REF!)),\"1\",\"0\")","v":"0"},{"$f":"IF(ISNUMBER(SEARCH(\"2\",#REF!)),\"1\",\"0\")","v":"0"},{"$f":"IF(ISNUMBER(SEARCH(\"3\",#REF!)),\"1\",\"0\")","v":"0"},{"$f":"IF(ISNUMBER(SEARCH(\"4\",#REF!)),\"1\",\"0\")","v":"0"},{"$f":"IF(ISNUMBER(SEARCH(\"5\",#REF!)),\"1\",\"0\")","v":"0"},{"$f":"IF(ISNUMBER(SEARCH(\"6\",#REF!)),\"1\",\"0\")","v":"0"},{"$f":"IF(ISNUMBER(SEARCH(\"7\",#REF!)),\"1\",\"0\")","v":"0"},{"$f":"IF(ISNUMBER(SEARCH(\"8\",#REF!)),\"1\",\"0\")","v":"0"},{"$f":"IF(ISNUMBER(SEARCH(\"9\",#REF!)),\"1\",\"0\")","v":"0"},{"$f":"IF(ISNUMBER(SEARCH(\"9\",#REF!)),\"1\",\"0\")","v":"0"},{"$f":"IF(ISNUMBER(SEARCH(\"10\",#REF!)),\"1\",\"0\")","v":"0"},{"$f":"IF(ISNUMBER(SEARCH(\"11\",#REF!)),\"1\",\"0\")","v":"0"},{"$f":"IF(ISNUMBER(SEARCH(\"12\",#REF!)),\"1\",\"0\")","v":"0"},{"$f":"IF(ISNUMBER(SEARCH(\"13\",#REF!)),\"1\",\"0\")","v":"0"},{"$f":"IF(ISNUMBER(SEARCH(\"14\",#REF!)),\"1\",\"0\")","v":"0"},{"$f":"IF(ISNUMBER(SEARCH(\"15\",#REF!)),\"1\",\"0\")","v":"0"},{"$f":"IF(ISNUMBER(SEARCH(\"16\",#REF!)),\"1\",\"0\")","v":"0"},{"$f":"IF(ISNUMBER(SEARCH(\"17\",#REF!)),\"1\",\"0\")","v":"0"},{"$nulls":9},0,{"$nulls":4},0,null,null,0]
[4,41,412,"PSV011",2,30,null,2,7,2,6,5,2,"1. Victim of violence (physical, incl. torture, ill treatment; family/domestic)","1","0","0","0","0","0","0","0","0","0","0","0","0","0","0","0","0","0",null,2,1,5,2,{"$f":"IF(ISNUMBER(SEARCH(\"1\",#REF!)),\"1\",\"0\")","v":"0"},{"$f":"IF(ISNUMBER(SEARCH(\"2\",#REF!)),\"1\",\"0\")","v":"0"},{"$f":"IF(ISNUMBER(SEARCH(\"3\",#REF!)),\"1\",\"0\")","v":"0"},{"$f":"IF(ISNUMBER(SEARCH(\"4\",#REF!)),\"1\",\"0\")","v":"0"},{"$f":"IF(ISNUMBER(SEARCH(\"5\",#REF!)),\"1\",\"0\")","v":"0"},{"$f":"IF(ISNUMBER(SEARCH(\"6\",#REF!)),\"1\",\"0\")","v":"0"},{"$f":"IF(ISNUMBER(SEARCH(\"7\",#REF!)),\"1\",\"0\")","v":"0"},{"$f":"IF(ISNUMBER(SEARCH(\"8\",#REF!)),\"1\",\"0\")","v":"0"},{"$f":"IF(ISNUMBER(SEARCH(\"9\",#REF!)),\"1\",\"0\")","v":"0"},{"$f":"IF(ISNUMBER(SEARCH(\"9\",#REF!)),\"1\",\"0\")","v":"0"},{"$f":"IF(ISNUMBER(SEARCH(\"10\",#REF!)),\"1\",\"0\")","v":"0"},{"$f":"IF(ISNUMBER(SEARCH(\"11\",#REF!)),\"1\",\"0\")","v":"0"},{"$f":"IF(ISNUMBER(SEARCH(\"12\",#REF!)),\"1\",\"0\")","v":"0"},{"$f":"IF(ISNUMBER(SEARCH(\"13\",#REF!)),\"1\",\"0\")","v":"0"},{"$f":"IF(ISNUMBER(SEARCH(\"14\",#REF!)),\"1\",\"0\")","v":"0"},{"$f":"IF(ISNUMBER(SEARCH(\"15\",#REF!)),\"1\",\"0\")","v":"0"},{"$f":"IF(ISNUMBER(SEARCH(\"16\",#REF!)),\"1\",\"0\")","v":"0"},{"$f":"IF(ISNUMBER(SEARCH(\"17\",#REF!)),\"1\",\"0\")","v":"0"},{"$nulls":9},29,{"$nulls":4},23,null,null,6,{"$f":"#REF!-#REF!","v":{"$error":"#REF!"}},{"$f":"#REF!-#REF!","v":{"$error":"#REF!"}}]
[4,41,412,"PSV011",2,30,null,1,7,2,8,5,2,"2. Witness of violence (physical, threats, killings/death, torture, ill treatment, sexual, family/domestic)","0","1","0","0","0","0","0","0","0","0","0","0","0","0","0","0","0","0",null,2,1,5,2,{"$f":"IF(ISNUMBER(SEARCH(\"1\",#REF!)),\"1\",\"0\")","v":"0"},{"$f":"IF(ISNUMBER(SEARCH(\"2\",#REF!)),\"1\",\"0\")","v":"0"},{"$f":"IF(ISNUMBER(SEARCH(\"3\",#REF!)),\"1\",\"0\")","v":"0"},{"$f":"IF(ISNUMBER(SEARCH(\"4\",#REF!)),\"1\",\"0\")","v":"0"},{"$f":"IF(ISNUMBER(SEARCH(\"5\",#REF!)),\"1\",\"0\")","v":"0"},{"$f":"IF(ISNUMBER(SEARCH(\"6\",#REF!)),\"1\",\"0\")","v":"0"},{"$f":"IF(ISNUMBER(SEARCH(\"7\",#REF!)),\"1\",\"0\")","v":"0"},{"$f":"IF(ISNUMBER(SEARCH(\"8\",#REF!)),\"1\",\"0\")","v":"0"},{"$f":"IF(ISNUMBER(SEARCH(\"9\",#REF!)),\"1\",\"0\")","v":"0"},{"$f":"IF(ISNUMBER(SEARCH(\"9\",#REF!)),\"1\",\"0\")","v":"0"},{"$f":"IF(ISNUMBER(SEARCH(\"10\",#REF!)),\"1\",\"0\")","v":"0"},{"$f":"IF(ISNUMBER(SEARCH(\"11\",#REF!)),\"1\",\"0\")","v":"0"},{"$f":"IF(ISNUMBER(SEARCH(\"12\",#REF!)),\"1\",\"0\")","v":"0"},{"$f":"IF(ISNUMBER(SEARCH(\"13\",#REF!)),\"1\",\"0\")","v":"0"},{"$f":"IF(ISNUMBER(SEARCH(\"14\",#REF!)),\"1\",\"0\")","v":"0"},{"$f":"IF(ISNUMBER(SEARCH(\"15\",#REF!)),\"1\",\"0\")","v":"0"},{"$f":"IF(ISNUMBER(SEARCH(\"16\",#REF!)),\"1\",\"0\")","v":"0"},{"$f":"IF(ISNUMBER(SEARCH(\"17\",#REF!)),\"1\",\"0\")","v":"0"},{"$nulls":9},55,{"$nulls":4},0,null,null,2,{"$f":"#REF!-#REF!","v":{"$error":"#REF!"}}]
[4,41,412,"PSV014",2,30,null,2,7,2,7,5,2,"2. Witness of violence (physical, threats, killings/death, torture, ill treatment, sexual, family/domestic), 14. Victim of/experienced torture/ill-treatment","1","1","0","1","0","0","0","0","0","0","0","0","0","1","0","0","0","0",null,1,1,5,2,{"$f":"IF(ISNUMBER(SEARCH(\"1\",#REF!)),\"1\",\"0\")","v":"0"},{"$f":"IF(ISNUMBER(SEARCH(\"2\",#REF!)),\"1\",\"0\")","v":"0"},{"$f":"IF(ISNUMBER(SEARCH(\"3\",#REF!)),\"1\",\"0\")","v":"0"},{"$f":"IF(ISNUMBER(SEARCH(\"4\",#REF!)),\"1\",\"0\")","v":"0"},{"$f":"IF(ISNUMBER(SEARCH(\"5\",#REF!)),\"1\",\"0\")","v":"0"},{"$f":"IF(ISNUMBER(SEARCH(\"6\",#REF!)),\"1\",\"0\")","v":"0"},{"$f":"IF(ISNUMBER(SEARCH(\"7\",#REF!)),\"1\",\"0\")","v":"0"},{"$f":"IF(ISNUMBER(SEARCH(\"8\",#REF!)),\"1\",\"0\")","v":"0"},{"$f":"IF(ISNUMBER(SEARCH(\"9\",#REF!)),\"1\",\"0\")","v":"0"},{"$f":"IF(ISNUMBER(SEARCH(\"9\",#REF!)),\"1\",\"0\")","v":"0"},{"$f":"IF(ISNUMBER(SEARCH(\"10\",#REF!)),\"1\",\"0\")","v":"0"},{"$f":"IF(ISNUMBER(SEARCH(\"11\",#REF!)),\"1\",\"0\")","v":"0"},{"$f":"IF(ISNUMBER(SEARCH(\"12\",#REF!)),\"1\",\"0\")","v":"0"},{"$f":"IF(ISNUMBER(SEARCH(\"13\",#REF!)),\"1\",\"0\")","v":"0"},{"$f":"IF(ISNUMBER(SEARCH(\"14\",#REF!)),\"1\",\"0\")","v":"0"},{"$f":"IF(ISNUMBER(SEARCH(\"15\",#REF!)),\"1\",\"0\")","v":"0"},{"$f":"IF(ISNUMBER(SEARCH(\"16\",#REF!)),\"1\",\"0\")","v":"0"},{"$f":"IF(ISNUMBER(SEARCH(\"17\",#REF!)),\"1\",\"0\")","v":"0"},{"$nulls":9},59,{"$nulls":4},0,null,null,2,{"$f":"#REF!-#REF!","v":{"$error":"#REF!"}}]
[4,41,412,"PSV007",2,30,null,1,7,2,5,5,2,"1. Victim of violence (physical, incl. torture, ill treatment; family/domestic), 10. Kidnapping/hostage (without sexual violence), 11. Killing of family member/loved one","1","0","0","0","0","0","0","0","0","1","1","0","0","0","0","0","0","0",null,1,1,5,2,{"$f":"IF(ISNUMBER(SEARCH(\"1\",#REF!)),\"1\",\"0\")","v":"0"},{"$f":"IF(ISNUMBER(SEARCH(\"2\",#REF!)),\"1\",\"0\")","v":"0"},{"$f":"IF(ISNUMBER(SEARCH(\"3\",#REF!)),\"1\",\"0\")","v":"0"},{"$f":"IF(ISNUMBER(SEARCH(\"4\",#REF!)),\"1\",\"0\")","v":"0"},{"$f":"IF(ISNUMBER(SEARCH(\"5\",#REF!)),\"1\",\"0\")","v":"0"},{"$f":"IF(ISNUMBER(SEARCH(\"6\",#REF!)),\"1\",\"0\")","v":"0"},{"$f":"IF(ISNUMBER(SEARCH(\"7\",#REF!)),\"1\",\"0\")","v":"0"},{"$f":"IF(ISNUMBER(SEARCH(\"8\",#REF!)),\"1\",\"0\")","v":"0"},{"$f":"IF(ISNUMBER(SEARCH(\"9\",#REF!)),\"1\",\"0\")","v":"0"},{"$f":"IF(ISNUMBER(SEARCH(\"9\",#REF!)),\"1\",\"0\")","v":"0"},{"$f":"IF(ISNUMBER(SEARCH(\"10\",#REF!)),\"1\",\"0\")","v":"0"},{"$f":"IF(ISNUMBER(SEARCH(\"11\",#REF!)),\"1\",\"0\")","v":"0"},{"$f":"IF(ISNUMBER(SEARCH(\"12\",#REF!)),\"1\",\"0\")","v":"0"},{"$f":"IF(ISNUMBER(SEARCH(\"13\",#REF!)),\"1\",\"0\")","v":"0"},{"$f":"IF(ISNUMBER(SEARCH(\"14\",#REF!)),\"1\",\"0\")","v":"0"},{"$f":"IF(ISNUMBER(SEARCH(\"15\",#REF!)),\"1\",\"0\")","v":"0"},{"$f":"IF(ISNUMBER(SEARCH(\"16\",#REF!)),\"1\",\"0\")","v":"0"},{"$f":"IF(ISNUMBER(SEARCH(\"17\",#REF!)),\"1\",\"0\")","v":"0"},{"$nulls":9},47,{"$nulls":4},0,null,null,0,{"$f":"#REF!-#REF!","v":{"$error":"#REF!"}}]
[4,41,412,null,2,35,null,null,7,null,null,5,2,"1. Victim of violence (physical, incl. torture, ill treatment; family/domestic), 11. Killing of family member/loved one","1","0","0","0","0","0","0","0","0","0","1","0","0","0","0","0","0","0",{"$nulls":5},{"$f":"IF(ISNUMBER(SEARCH(\"1\",#REF!)),\"1\",\"0\")","v":"0"},{"$f":"IF(ISNUMBER(SEARCH(\"2\",#REF!)),\"1\",\"0\")","v":"0"},{"$f":"IF(ISNUMBER(SEARCH(\"3\",#REF!)),\"1\",\"0\")","v":"0"},{"$f":"IF(ISNUMBER(SEARCH(\"4\",#REF!)),\"1\",\"0\")","v":"0"},{"$f":"IF(ISNUMBER(SEARCH(\"5\",#REF!)),\"1\",\"0\")","v":"0"},{"$f":"IF(ISNUMBER(SEARCH(\"6\",#REF!)),\"1\",\"0\")","v":"0"},{"$f":"IF(ISNUMBER(SEARCH(\"7\",#REF!)),\"1\",\"0\")","v":"0"},{"$f":"IF(ISNUMBER(SEARCH(\"8\",#REF!)),\"1\",\"0\")","v":"0"},{"$f":"IF(ISNUMBER(SEARCH(\"9\",#REF!)),\"1\",\"0\")","v":"0"},{"$f":"IF(ISNUMBER(SEARCH(\"9\",#REF!)),\"1\",\"0\")","v":"0"},{"$f":"IF(ISNUMBER(SEARCH(\"10\",#REF!)),\"1\",\"0\")","v":"0"},{"$f":"IF(ISNUMBER(SEARCH(\"11\",#REF!)),\"1\",\"0\")","v":"0"},{"$f":"IF(ISNUMBER(SEARCH(\"12\",#REF!)),\"1\",\"0\")","v":"0"},{"$f":"IF(ISNUMBER(SEARCH(\"13\",#REF!)),\"1\",\"0\")","v":"0"},{"$f":"IF(ISNUMBER(SEARCH(\"14\",#REF!)),\"1\",\"0\")","v":"0"},{"$f":"IF(ISNUMBER(SEARCH(\"15\",#REF!)),\"1\",\"0\")","v":"0"},{"$f":"IF(ISNUMBER(SEARCH(\"16\",#REF!)),\"1\",\"0\")","v":"0"},{"$f":"IF(ISNUMBER(SEARCH(\"17\",#REF!)),\"1\",\"0\")","v":"0"},{"$nulls":9},0,{"$nulls":4},0,null,null,0]
[4,41,412,null,1,50,null,null,7,null,null,5,2,"1. Victim of violence (physical, incl. torture, ill treatment; family/domestic)","1","0","0","0","0","0","0","0","0","0","0","0","0","0","0","0","0","0",{"$nulls":5},{"$f":"IF(ISNUMBER(SEARCH(\"1\",#REF!)),\"1\",\"0\")","v":"0"},{"$f":"IF(ISNUMBER(SEARCH(\"2\",#REF!)),\"1\",\"0\")","v":"0"},{"$f":"IF(ISNUMBER(SEARCH(\"3\",#REF!)),\"1\",\"0\")","v":"0"},{"$f":"IF(ISNUMBER(SEARCH(\"4\",#REF!)),\"1\",\"0\")","v":"0"},{"$f":"IF(ISNUMBER(SEARCH(\"5\",#REF!)),\"1\",\"0\")","v":"0"},{"$f":"IF(ISNUMBER(SEARCH(\"6\",#REF!)),\"1\",\"0\")","v":"0"},{"$f":"IF(ISNUMBER(SEARCH(\"7\",#REF!)),\"1\",\"0\")","v":"0"},{"$f":"IF(ISNUMBER(SEARCH(\"8\",#REF!)),\"1\",\"0\")","v":"0"},{"$f":"IF(ISNUMBER(SEARCH(\"9\",#REF!)),\"1\",\"0\")","v":"0"},{"$f":"IF(ISNUMBER(SEARCH(\"9\",#REF!)),\"1\",\"0\")","v":"0"},{"$f":"IF(ISNUMBER(SEARCH(\"10\",#REF!)),\"1\",\"0\")","v":"0"},{"$f":"IF(ISNUMBER(SEARCH(\"11\",#REF!)),\"1\",\"0\")","v":"0"},{"$f":"IF(ISNUMBER(SEARCH(\"12\",#REF!)),\"1\",\"0\")","v":"0"},{"$f":"IF(ISNUMBER(SEARCH(\"13\",#REF!)),\"1\",\"0\")","v":"0"},{"$f":"IF(ISNUMBER(SEARCH(\"14\",#REF!)),\"1\",\"0\")","v":"0"},{"$f":"IF(ISNUMBER(SEARCH(\"15\",#REF!)),\"1\",\"0\")","v":"0"},{"$f":"IF(ISNUMBER(SEARCH(\"16\",#REF!)),\"1\",\"0\")","v":"0"},{"$f":"IF(ISNUMBER(SEARCH(\"17\",#REF!)),\"1\",\"0\")","v":"0"},{"$nulls":9},0,{"$nulls":4},0,null,null,0]
[4,41,412,null,2,30,null,null,7,null,null,5,2,"1. Victim of violence (physical, incl. torture, ill treatment; family/domestic), 11. Killing of family member/loved one","1","0","0","0","0","0","0","0","0","0","1","0","0","0","0","0","0","0",{"$nulls":5},{"$f":"IF(ISNUMBER(SEARCH(\"1\",#REF!)),\"1\",\"0\")","v":"0"},{"$f":"IF(ISNUMBER(SEARCH(\"2\",#REF!)),\"1\",\"0\")","v":"0"},{"$f":"IF(ISNUMBER(SEARCH(\"3\",#REF!)),\"1\",\"0\")","v":"0"},{"$f":"IF(ISNUMBER(SEARCH(\"4\",#REF!)),\"1\",\"0\")","v":"0"},{"$f":"IF(ISNUMBER(SEARCH(\"5\",#REF!)),\"1\",\"0\")","v":"0"},{"$f":"IF(ISNUMBER(SEARCH(\"6\",#REF!)),\"1\",\"0\")","v":"0"},{"$f":"IF(ISNUMBER(SEARCH(\"7\",#REF!)),\"1\",\"0\")","v":"0"},{"$f":"IF(ISNUMBER(SEARCH(\"8\",#REF!)),\"1\",\"0\")","v":"0"},{"$f":"IF(ISNUMBER(SEARCH(\"9\",#REF!)),\"1\",\"0\")","v":"0"},{"$f":"IF(ISNUMBER(SEARCH(\"9\",#REF!)),\"1\",\"0\")","v":"0"},{"$f":"IF(ISNUMBER(SEARCH(\"10\",#REF!)),\"1\",\"0\")","v":"0"},{"$f":"IF(ISNUMBER(SEARCH(\"11\",#REF!)),\"1\",\"0\")","v":"0"},{"$f":"IF(ISNUMBER(SEARCH(\"12\",#REF!)),\"1\",\"0\")","v":"0"},{"$f":"IF(ISNUMBER(SEARCH(\"13\",#REF!)),\"1\",\"0\")","v":"0"},{"$f":"IF(ISNUMBER(SEARCH(\"14\",#REF!)),\"1\",\"0\")","v":"0"},{"$f":"IF(ISNUMBER(SEARCH(\"15\",#REF!)),\"1\",\"0\")","v":"0"},{"$f":"IF(ISNUMBER(SEARCH(\"16\",#REF!)),\"1\",\"0\")","v":"0"},{"$f":"IF(ISNUMBER(SEARCH(\"17\",#REF!)),\"1\",\"0\")","v":"0"},{"$nulls":9},0,{"$nulls":4},0,null,null,0]
[4,41,412,null,2,42,null,null,7,null,null,5,2,"11. Killing of family member/loved one, 12. Disappearance of family member/loved one","1","1","0","0","0","0","0","0","0","0","1","1","0","0","0","0","0","0",{"$nulls":5},{"$f":"IF(ISNUMBER(SEARCH(\"1\",#REF!)),\"1\",\"0\")","v":"0"},{"$f":"IF(ISNUMBER(SEARCH(\"2\",#REF!)),\"1\",\"0\")","v":"0"},{"$f":"IF(ISNUMBER(SEARCH(\"3\",#REF!)),\"1\",\"0\")","v":"0"},{"$f":"IF(ISNUMBER(SEARCH(\"4\",#REF!)),\"1\",\"0\")","v":"0"},{"$f":"IF(ISNUMBER(SEARCH(\"5\",#REF!)),\"1\",\"0\")","v":"0"},{"$f":"IF(ISNUMBER(SEARCH(\"6\",#REF!)),\"1\",\"0\")","v":"0"},{"$f":"IF(ISNUMBER(SEARCH(\"7\",#REF!)),\"1\",\"0\")","v":"0"},{"$f":"IF(ISNUMBER(SEARCH(\"8\",#REF!)),\"1\",\"0\")","v":"0"},{"$f":"IF(ISNUMBER(SEARCH(\"9\",#REF!)),\"1\",\"0\")","v":"0"},{"$f":"IF(ISNUMBER(SEARCH(\"9\",#REF!)),\"1\",\"0\")","v":"0"},{"$f":"IF(ISNUMBER(SEARCH(\"10\",#REF!)),\"1\",\"0\")","v":"0"},{"$f":"IF(ISNUMBER(SEARCH(\"11\",#REF!)),\"1\",\"0\")","v":"0"},{"$f":"IF(ISNUMBER(SEARCH(\"12\",#REF!)),\"1\",\"0\")","v":"0"},{"$f":"IF(ISNUMBER(SEARCH(\"13\",#REF!)),\"1\",\"0\")","v":"0"},{"$f":"IF(ISNUMBER(SEARCH(\"14\",#REF!)),\"1\",\"0\")","v":"0"},{"$f":"IF(ISNUMBER(SEARCH(\"15\",#REF!)),\"1\",\"0\")","v":"0"},{"$f":"IF(ISNUMBER(SEARCH(\"16\",#REF!)),\"1\",\"0\")","v":"0"},{"$f":"IF(ISNUMBER(SEARCH(\"17\",#REF!)),\"1\",\"0\")","v":"0"},{"$nulls":9},0,{"$nulls":4},0,null,null,0]
[4,41,412,null,2,40,null,1,7,2,5,5,2,"2. Witness of violence (physical, threats, killings/death, torture, ill treatment, sexual, family/domestic), 11. Killing of family member/loved one, 12. Disappearance of family member/loved one","1","1","0","0","0","0","0","0","0","0","1","1","0","0","0","0","0","0",null,2,1,4,null,{"$f":"IF(ISNUMBER(SEARCH(\"1\",#REF!)),\"1\",\"0\")","v":"0"},{"$f":"IF(ISNUMBER(SEARCH(\"2\",#REF!)),\"1\",\"0\")","v":"0"},{"$f":"IF(ISNUMBER(SEARCH(\"3\",#REF!)),\"1\",\"0\")","v":"0"},{"$f":"IF(ISNUMBER(SEARCH(\"4\",#REF!)),\"1\",\"0\")","v":"0"},{"$f":"IF(ISNUMBER(SEARCH(\"5\",#REF!)),\"1\",\"0\")","v":"0"},{"$f":"IF(ISNUMBER(SEARCH(\"6\",#REF!)),\"1\",\"0\")","v":"0"},{"$f":"IF(ISNUMBER(SEARCH(\"7\",#REF!)),\"1\",\"0\")","v":"0"},{"$f":"IF(ISNUMBER(SEARCH(\"8\",#REF!)),\"1\",\"0\")","v":"0"},{"$f":"IF(ISNUMBER(SEARCH(\"9\",#REF!)),\"1\",\"0\")","v":"0"},{"$f":"IF(ISNUMBER(SEARCH(\"9\",#REF!)),\"1\",\"0\")","v":"0"},{"$f":"IF(ISNUMBER(SEARCH(\"10\",#REF!)),\"1\",\"0\")","v":"0"},{"$f":"IF(ISNUMBER(SEARCH(\"11\",#REF!)),\"1\",\"0\")","v":"0"},{"$f":"IF(ISNUMBER(SEARCH(\"12\",#REF!)),\"1\",\"0\")","v":"0"},{"$f":"IF(ISNUMBER(SEARCH(\"13\",#REF!)),\"1\",\"0\")","v":"0"},{"$f":"IF(ISNUMBER(SEARCH(\"14\",#REF!)),\"1\",\"0\")","v":"0"},{"$f":"IF(ISNUMBER(SEARCH(\"15\",#REF!)),\"1\",\"0\")","v":"0"},{"$f":"IF(ISNUMBER(SEARCH(\"16\",#REF!)),\"1\",\"0\")","v":"0"},{"$f":"IF(ISNUMBER(SEARCH(\"17\",#REF!)),\"1\",\"0\")","v":"0"},{"$nulls":9},55,{"$nulls":4},0,null,null,0]
[4,41,412,null,2,50,null,1,7,2,6,5,2,"2. Witness of violence (physical, threats, killings/death, torture, ill treatment, sexual, family/domestic), 11. Killing of family member/loved one","1","1","0","0","0","0","0","0","0","0","1","0","0","0","0","0","0","0",null,2,1,5,2,{"$f":"IF(ISNUMBER(SEARCH(\"1\",#REF!)),\"1\",\"0\")","v":"0"},{"$f":"IF(ISNUMBER(SEARCH(\"2\",#REF!)),\"1\",\"0\")","v":"0"},{"$f":"IF(ISNUMBER(SEARCH(\"3\",#REF!)),\"1\",\"0\")","v":"0"},{"$f":"IF(ISNUMBER(SEARCH(\"4\",#REF!)),\"1\",\"0\")","v":"0"},{"$f":"IF(ISNUMBER(SEARCH(\"5\",#REF!)),\"1\",\"0\")","v":"0"},{"$f":"IF(ISNUMBER(SEARCH(\"6\",#REF!)),\"1\",\"0\")","v":"0"},{"$f":"IF(ISNUMBER(SEARCH(\"7\",#REF!)),\"1\",\"0\")","v":"0"},{"$f":"IF(ISNUMBER(SEARCH(\"8\",#REF!)),\"1\",\"0\")","v":"0"},{"$f":"IF(ISNUMBER(SEARCH(\"9\",#REF!)),\"1\",\"0\")","v":"0"},{"$f":"IF(ISNUMBER(SEARCH(\"9\",#REF!)),\"1\",\"0\")","v":"0"},{"$f":"IF(ISNUMBER(SEARCH(\"10\",#REF!)),\"1\",\"0\")","v":"0"},{"$f":"IF(ISNUMBER(SEARCH(\"11\",#REF!)),\"1\",\"0\")","v":"0"},{"$f":"IF(ISNUMBER(SEARCH(\"12\",#REF!)),\"1\",\"0\")","v":"0"},{"$f":"IF(ISNUMBER(SEARCH(\"13\",#REF!)),\"1\",\"0\")","v":"0"},{"$f":"IF(ISNUMBER(SEARCH(\"14\",#REF!)),\"1\",\"0\")","v":"0"},{"$f":"IF(ISNUMBER(SEARCH(\"15\",#REF!)),\"1\",\"0\")","v":"0"},{"$f":"IF(ISNUMBER(SEARCH(\"16\",#REF!)),\"1\",\"0\")","v":"0"},{"$f":"IF(ISNUMBER(SEARCH(\"17\",#REF!)),\"1\",\"0\")","v":"0"},{"$nulls":9},43,{"$nulls":4},0,null,null,0]
[4,41,412,"PSV012",2,30,null,1,7,2,4,5,2,"11. Killing of family member/loved one, 1. Victim of violence (physical, incl. torture, ill treatment; family/domestic), 2. Witness of violence (physical, threats, killings/death, torture, ill treatment, sexual, family/domestic)","1","1","0","0","0","0","0","0","0","0","1","0","0","0","0","0","0","0",null,2,1,5,2,{"$f":"IF(ISNUMBER(SEARCH(\"1\",#REF!)),\"1\",\"0\")","v":"0"},{"$f":"IF(ISNUMBER(SEARCH(\"2\",#REF!)),\"1\",\"0\")","v":"0"},{"$f":"IF(ISNUMBER(SEARCH(\"3\",#REF!)),\"1\",\"0\")","v":"0"},{"$f":"IF(ISNUMBER(SEARCH(\"4\",#REF!)),\"1\",\"0\")","v":"0"},{"$f":"IF(ISNUMBER(SEARCH(\"5\",#REF!)),\"1\",\"0\")","v":"0"},{"$f":"IF(ISNUMBER(SEARCH(\"6\",#REF!)),\"1\",\"0\")","v":"0"},{"$f":"IF(ISNUMBER(SEARCH(\"7\",#REF!)),\"1\",\"0\")","v":"0"},{"$f":"IF(ISNUMBER(SEARCH(\"8\",#REF!)),\"1\",\"0\")","v":"0"},{"$f":"IF(ISNUMBER(SEARCH(\"9\",#REF!)),\"1\",\"0\")","v":"0"},{"$f":"IF(ISNUMBER(SEARCH(\"9\",#REF!)),\"1\",\"0\")","v":"0"},{"$f":"IF(ISNUMBER(SEARCH(\"10\",#REF!)),\"1\",\"0\")","v":"0"},{"$f":"IF(ISNUMBER(SEARCH(\"11\",#REF!)),\"1\",\"0\")","v":"0"},{"$f":"IF(ISNUMBER(SEARCH(\"12\",#REF!)),\"1\",\"0\")","v":"0"},{"$f":"IF(ISNUMBER(SEARCH(\"13\",#REF!)),\"1\",\"0\")","v":"0"},{"$f":"IF(ISNUMBER(SEARCH(\"14\",#REF!)),\"1\",\"0\")","v":"0"},{"$f":"IF(ISNUMBER(SEARCH(\"15\",#REF!)),\"1\",\"0\")","v":"0"},{"$f":"IF(ISNUMBER(SEARCH(\"16\",#REF!)),\"1\",\"0\")","v":"0"},{"$f":"IF(ISNUMBER(SEARCH(\"17\",#REF!)),\"1\",\"0\")","v":"0"},{"$nulls":9},59,{"$nulls":4},0,null,null,0,{"$f":"#REF!-#REF!","v":{"$error":"#REF!"}}]
[4,41,413,"PSV009",2,40,null,1,7,2,5,5,4,"12. Disappearance of family member/loved one, 12. Disappearance of family member/loved one","1","1","0","0","0","0","0","0","0","0","0","1","0","0","0","0","0","0",null,2,5,5,null,{"$f":"IF(ISNUMBER(SEARCH(\"1\",#REF!)),\"1\",\"0\")","v":"0"},{"$f":"IF(ISNUMBER(SEARCH(\"2\",#REF!)),\"1\",\"0\")","v":"0"},{"$f":"IF(ISNUMBER(SEARCH(\"3\",#REF!)),\"1\",\"0\")","v":"0"},{"$f":"IF(ISNUMBER(SEARCH(\"4\",#REF!)),\"1\",\"0\")","v":"0"},{"$f":"IF(ISNUMBER(SEARCH(\"5\",#REF!)),\"1\",\"0\")","v":"0"},{"$f":"IF(ISNUMBER(SEARCH(\"6\",#REF!)),\"1\",\"0\")","v":"0"},{"$f":"IF(ISNUMBER(SEARCH(\"7\",#REF!)),\"1\",\"0\")","v":"0"},{"$f":"IF(ISNUMBER(SEARCH(\"8\",#REF!)),\"1\",\"0\")","v":"0"},{"$f":"IF(ISNUMBER(SEARCH(\"9\",#REF!)),\"1\",\"0\")","v":"0"},{"$f":"IF(ISNUMBER(SEARCH(\"9\",#REF!)),\"1\",\"0\")","v":"0"},{"$f":"IF(ISNUMBER(SEARCH(\"10\",#REF!)),\"1\",\"0\")","v":"0"},{"$f":"IF(ISNUMBER(SEARCH(\"11\",#REF!)),\"1\",\"0\")","v":"0"},{"$f":"IF(ISNUMBER(SEARCH(\"12\",#REF!)),\"1\",\"0\")","v":"0"},{"$f":"IF(ISNUMBER(SEARCH(\"13\",#REF!)),\"1\",\"0\")","v":"0"},{"$f":"IF(ISNUMBER(SEARCH(\"14\",#REF!)),\"1\",\"0\")","v":"0"},{"$f":"IF(ISNUMBER(SEARCH(\"15\",#REF!)),\"1\",\"0\")","v":"0"},{"$f":"IF(ISNUMBER(SEARCH(\"16\",#REF!)),\"1\",\"0\")","v":"0"},{"$f":"IF(ISNUMBER(SEARCH(\"17\",#REF!)),\"1\",\"0\")","v":"0"},{"$nulls":9},52,{"$nulls":4},0,null,null,0,{"$f":"#REF!-#REF!","v":{"$error":"#REF!"}}]
[4,41,413,"PSV013",2,40,null,1,7,2,4,5,2,"10. Kidnapping/hostage (without sexual violence), 10. Kidnapping/hostage (without sexual violence)","1","0","0","0","0","0","0","0","0","1","0","0","0","0","0","0","0","0",null,1,1,5,2,{"$f":"IF(ISNUMBER(SEARCH(\"1\",#REF!)),\"1\",\"0\")","v":"0"},{"$f":"IF(ISNUMBER(SEARCH(\"2\",#REF!)),\"1\",\"0\")","v":"0"},{"$f":"IF(ISNUMBER(SEARCH(\"3\",#REF!)),\"1\",\"0\")","v":"0"},{"$f":"IF(ISNUMBER(SEARCH(\"4\",#REF!)),\"1\",\"0\")","v":"0"},{"$f":"IF(ISNUMBER(SEARCH(\"5\",#REF!)),\"1\",\"0\")","v":"0"},{"$f":"IF(ISNUMBER(SEARCH(\"6\",#REF!)),\"1\",\"0\")","v":"0"},{"$f":"IF(ISNUMBER(SEARCH(\"7\",#REF!)),\"1\",\"0\")","v":"0"},{"$f":"IF(ISNUMBER(SEARCH(\"8\",#REF!)),\"1\",\"0\")","v":"0"},{"$f":"IF(ISNUMBER(SEARCH(\"9\",#REF!)),\"1\",\"0\")","v":"0"},{"$f":"IF(ISNUMBER(SEARCH(\"9\",#REF!)),\"1\",\"0\")","v":"0"},{"$f":"IF(ISNUMBER(SEARCH(\"10\",#REF!)),\"1\",\"0\")","v":"0"},{"$f":"IF(ISNUMBER(SEARCH(\"11\",#REF!)),\"1\",\"0\")","v":"0"},{"$f":"IF(ISNUMBER(SEARCH(\"12\",#REF!)),\"1\",\"0\")","v":"0"},{"$f":"IF(ISNUMBER(SEARCH(\"13\",#REF!)),\"1\",\"0\")","v":"0"},{"$f":"IF(ISNUMBER(SEARCH(\"14\",#REF!)),\"1\",\"0\")","v":"0"},{"$f":"IF(ISNUMBER(SEARCH(\"15\",#REF!)),\"1\",\"0\")","v":"0"},{"$f":"IF(ISNUMBER(SEARCH(\"16\",#REF!)),\"1\",\"0\")","v":"0"},{"$f":"IF(ISNUMBER(SEARCH(\"17\",#REF!)),\"1\",\"0\")","v":"0"},{"$nulls":9},45,{"$nulls":4},0,null,null,0,{"$f":"#REF!-#REF!","v":{"$error":"#REF!"}}]
[4,41,413,"PSV007",1,70,null,1,7,2,5,5,2,"1. Victim of violence (physical, incl. torture, ill treatment; family/domestic), 11. Killing of family member/loved one, 1. Victim of violence (physical, incl. torture, ill treatment; family/domestic), 11. Killing of family member/loved one","1","0","0","0","0","0","0","0","0","0","1","0","0","0","0","0","0","0",null,2,1,5,null,{"$f":"IF(ISNUMBER(SEARCH(\"1\",#REF!)),\"1\",\"0\")","v":"0"},{"$f":"IF(ISNUMBER(SEARCH(\"2\",#REF!)),\"1\",\"0\")","v":"0"},{"$f":"IF(ISNUMBER(SEARCH(\"3\",#REF!)),\"1\",\"0\")","v":"0"},{"$f":"IF(ISNUMBER(SEARCH(\"4\",#REF!)),\"1\",\"0\")","v":"0"},{"$f":"IF(ISNUMBER(SEARCH(\"5\",#REF!)),\"1\",\"0\")","v":"0"},{"$f":"IF(ISNUMBER(SEARCH(\"6\",#REF!)),\"1\",\"0\")","v":"0"},{"$f":"IF(ISNUMBER(SEARCH(\"7\",#REF!)),\"1\",\"0\")","v":"0"},{"$f":"IF(ISNUMBER(SEARCH(\"8\",#REF!)),\"1\",\"0\")","v":"0"},{"$f":"IF(ISNUMBER(SEARCH(\"9\",#REF!)),\"1\",\"0\")","v":"0"},{"$f":"IF(ISNUMBER(SEARCH(\"9\",#REF!)),\"1\",\"0\")","v":"0"},{"$f":"IF(ISNUMBER(SEARCH(\"10\",#REF!)),\"1\",\"0\")","v":"0"},{"$f":"IF(ISNUMBER(SEARCH(\"11\",#REF!)),\"1\",\"0\")","v":"0"},{"$f":"IF(ISNUMBER(SEARCH(\"12\",#REF!)),\"1\",\"0\")","v":"0"},{"$f":"IF(ISNUMBER(SEARCH(\"13\",#REF!)),\"1\",\"0\")","v":"0"},{"$f":"IF(ISNUMBER(SEARCH(\"14\",#REF!)),\"1\",\"0\")","v":"0"},{"$f":"IF(ISNUMBER(SEARCH(\"15\",#REF!)),\"1\",\"0\")","v":"0"},{"$f":"IF(ISNUMBER(SEARCH(\"16\",#REF!)),\"1\",\"0\")","v":"0"},{"$f":"IF(ISNUMBER(SEARCH(\"17\",#REF!)),\"1\",\"0\")","v":"0"},{"$nulls":9},53,{"$nulls":4},42,null,null,9,{"$f":"#REF!-#REF!","v":{"$error":"#REF!"}},{"$f":"#REF!-#REF!","v":{"$error":"#REF!"}}]
[4,41,413,"PSV006",2,40,null,1,7,2,5,5,4,"1. Victim of violence (physical, incl. torture, ill treatment; family/domestic), 11. Killing of family member/loved one, 12. Disappearance of family member/loved one, 14. Victim of/experienced torture/ill-treatment, 1. Victim of violence (physical, incl. torture, ill treatment; family/domestic), 11. Killing of family member/loved one, 12. Disappearance of family member/loved one, 14. Victim of/experienced torture/ill-treatment","1","1","0","1","0","0","0","0","0","0","1","1","0","1","0","0","0","0",null,2,1,5,2,{"$f":"IF(ISNUMBER(SEARCH(\"1\",#REF!)),\"1\",\"0\")","v":"0"},{"$f":"IF(ISNUMBER(SEARCH(\"2\",#REF!)),\"1\",\"0\")","v":"0"},{"$f":"IF(ISNUMBER(SEARCH(\"3\",#REF!)),\"1\",\"0\")","v":"0"},{"$f":"IF(ISNUMBER(SEARCH(\"4\",#REF!)),\"1\",\"0\")","v":"0"},{"$f":"IF(ISNUMBER(SEARCH(\"5\",#REF!)),\"1\",\"0\")","v":"0"},{"$f":"IF(ISNUMBER(SEARCH(\"6\",#REF!)),\"1\",\"0\")","v":"0"},{"$f":"IF(ISNUMBER(SEARCH(\"7\",#REF!)),\"1\",\"0\")","v":"0"},{"$f":"IF(ISNUMBER(SEARCH(\"8\",#REF!)),\"1\",\"0\")","v":"0"},{"$f":"IF(ISNUMBER(SEARCH(\"9\",#REF!)),\"1\",\"0\")","v":"0"},{"$f":"IF(ISNUMBER(SEARCH(\"9\",#REF!)),\"1\",\"0\")","v":"0"},{"$f":"IF(ISNUMBER(SEARCH(\"10\",#REF!)),\"1\",\"0\")","v":"0"},{"$f":"IF(ISNUMBER(SEARCH(\"11\",#REF!)),\"1\",\"0\")","v":"0"},{"$f":"IF(ISNUMBER(SEARCH(\"12\",#REF!)),\"1\",\"0\")","v":"0"},{"$f":"IF(ISNUMBER(SEARCH(\"13\",#REF!)),\"1\",\"0\")","v":"0"},{"$f":"IF(ISNUMBER(SEARCH(\"14\",#REF!)),\"1\",\"0\")","v":"0"},{"$f":"IF(ISNUMBER(SEARCH(\"15\",#REF!)),\"1\",\"0\")","v":"0"},{"$f":"IF(ISNUMBER(SEARCH(\"16\",#REF!)),\"1\",\"0\")","v":"0"},{"$f":"IF(ISNUMBER(SEARCH(\"17\",#REF!)),\"1\",\"0\")","v":"0"},{"$nulls":9},53,{"$nulls":4},25,null,null,3,{"$f":"#REF!-#REF!","v":{"$error":"#REF!"}},{"$f":"#REF!-#REF!","v":{"$error":"#REF!"}}]
[4,41,413,"PSV009",2,18,null,2,1,2,0,5,1,"2. Witness of violence (physical, threats, killings/death, torture, ill treatment, sexual, family/domestic), 2. Witness of violence (physical, threats, killings/death, torture, ill treatment, sexual, family/domestic)","0","1","0","0","0","0","0","0","0","0","0","0","0","0","0","0","0","0",null,1,{"$nulls":3},{"$f":"IF(ISNUMBER(SEARCH(\"1\",#REF!)),\"1\",\"0\")","v":"0"},{"$f":"IF(ISNUMBER(SEARCH(\"2\",#REF!)),\"1\",\"0\")","v":"0"},{"$f":"IF(ISNUMBER(SEARCH(\"3\",#REF!)),\"1\",\"0\")","v":"0"},{"$f":"IF(ISNUMBER(SEARCH(\"4\",#REF!)),\"1\",\"0\")","v":"0"},{"$f":"IF(ISNUMBER(SEARCH(\"5\",#REF!)),\"1\",\"0\")","v":"0"},{"$f":"IF(ISNUMBER(SEARCH(\"6\",#REF!)),\"1\",\"0\")","v":"0"},{"$f":"IF(ISNUMBER(SEARCH(\"7\",#REF!)),\"1\",\"0\")","v":"0"},{"$f":"IF(ISNUMBER(SEARCH(\"8\",#REF!)),\"1\",\"0\")","v":"0"},{"$f":"IF(ISNUMBER(SEARCH(\"9\",#REF!)),\"1\",\"0\")","v":"0"},{"$f":"IF(ISNUMBER(SEARCH(\"9\",#REF!)),\"1\",\"0\")","v":"0"},{"$f":"IF(ISNUMBER(SEARCH(\"10\",#REF!)),\"1\",\"0\")","v":"0"},{"$f":"IF(ISNUMBER(SEARCH(\"11\",#REF!)),\"1\",\"0\")","v":"0"},{"$f":"IF(ISNUMBER(SEARCH(\"12\",#REF!)),\"1\",\"0\")","v":"0"},{"$f":"IF(ISNUMBER(SEARCH(\"13\",#REF!)),\"1\",\"0\")","v":"0"},{"$f":"IF(ISNUMBER(SEARCH(\"14\",#REF!)),\"1\",\"0\")","v":"0"},{"$f":"IF(ISNUMBER(SEARCH(\"15\",#REF!)),\"1\",\"0\")","v":"0"},{"$f":"IF(ISNUMBER(SEARCH(\"16\",#REF!)),\"1\",\"0\")","v":"0"},{"$f":"IF(ISNUMBER(SEARCH(\"17\",#REF!)),\"1\",\"0\")","v":"0"},{"$nulls":9},51,{"$nulls":4},28,null,null,3,null,{"$f":"#REF!-#REF!","v":{"$error":"#REF!"}}]
[4,41,413,"PSV016",2,50,null,2,3,2,2,5,6,"10. Kidnapping/hostage (without sexual violence), 11. Killing of family member/loved one, 10. Kidnapping/hostage (without sexual violence), 11. Killing of family member/loved one","1","0","0","0","0","0","0","0","0","1","1","0","0","0","0","0","0","0",null,2,1,5,null,{"$f":"IF(ISNUMBER(SEARCH(\"1\",#REF!)),\"1\",\"0\")","v":"0"},{"$f":"IF(ISNUMBER(SEARCH(\"2\",#REF!)),\"1\",\"0\")","v":"0"},{"$f":"IF(ISNUMBER(SEARCH(\"3\",#REF!)),\"1\",\"0\")","v":"0"},{"$f":"IF(ISNUMBER(SEARCH(\"4\",#REF!)),\"1\",\"0\")","v":"0"},{"$f":"IF(ISNUMBER(SEARCH(\"5\",#REF!)),\"1\",\"0\")","v":"0"},{"$f":"IF(ISNUMBER(SEARCH(\"6\",#REF!)),\"1\",\"0\")","v":"0"},{"$f":"IF(ISNUMBER(SEARCH(\"7\",#REF!)),\"1\",\"0\")","v":"0"},{"$f":"IF(ISNUMBER(SEARCH(\"8\",#REF!)),\"1\",\"0\")","v":"0"},{"$f":"IF(ISNUMBER(SEARCH(\"9\",#REF!)),\"1\",\"0\")","v":"0"},{"$f":"IF(ISNUMBER(SEARCH(\"9\",#REF!)),\"1\",\"0\")","v":"0"},{"$f":"IF(ISNUMBER(SEARCH(\"10\",#REF!)),\"1\",\"0\")","v":"0"},{"$f":"IF(ISNUMBER(SEARCH(\"11\",#REF!)),\"1\",\"0\")","v":"0"},{"$f":"IF(ISNUMBER(SEARCH(\"12\",#REF!)),\"1\",\"0\")","v":"0"},{"$f":"IF(ISNUMBER(SEARCH(\"13\",#REF!)),\"1\",\"0\")","v":"0"},{"$f":"IF(ISNUMBER(SEARCH(\"14\",#REF!)),\"1\",\"0\")","v":"0"},{"$f":"IF(ISNUMBER(SEARCH(\"15\",#REF!)),\"1\",\"0\")","v":"0"},{"$f":"IF(ISNUMBER(SEARCH(\"16\",#REF!)),\"1\",\"0\")","v":"0"},{"$f":"IF(ISNUMBER(SEARCH(\"17\",#REF!)),\"1\",\"0\")","v":"0"},{"$nulls":9},53,{"$nulls":4},0,null,null,0]
[4,41,413,"PSV009",2,60,null,1,7,2,4,5,5,null,"0","0","0","0","0","0","0","0","0","0","0","0","0","0","0","0","0","0",{"$nulls":5},{"$f":"IF(ISNUMBER(SEARCH(\"1\",#REF!)),\"1\",\"0\")","v":"0"},{"$f":"IF(ISNUMBER(SEARCH(\"2\",#REF!)),\"1\",\"0\")","v":"0"},{"$f":"IF(ISNUMBER(SEARCH(\"3\",#REF!)),\"1\",\"0\")","v":"0"},{"$f":"IF(ISNUMBER(SEARCH(\"4\",#REF!)),\"1\",\"0\")","v":"0"},{"$f":"IF(ISNUMBER(SEARCH(\"5\",#REF!)),\"1\",\"0\")","v":"0"},{"$f":"IF(ISNUMBER(SEARCH(\"6\",#REF!)),\"1\",\"0\")","v":"0"},{"$f":"IF(ISNUMBER(SEARCH(\"7\",#REF!)),\"1\",\"0\")","v":"0"},{"$f":"IF(ISNUMBER(SEARCH(\"8\",#REF!)),\"1\",\"0\")","v":"0"},{"$f":"IF(ISNUMBER(SEARCH(\"9\",#REF!)),\"1\",\"0\")","v":"0"},{"$f":"IF(ISNUMBER(SEARCH(\"9\",#REF!)),\"1\",\"0\")","v":"0"},{"$f":"IF(ISNUMBER(SEARCH(\"10\",#REF!)),\"1\",\"0\")","v":"0"},{"$f":"IF(ISNUMBER(SEARCH(\"11\",#REF!)),\"1\",\"0\")","v":"0"},{"$f":"IF(ISNUMBER(SEARCH(\"12\",#REF!)),\"1\",\"0\")","v":"0"},{"$f":"IF(ISNUMBER(SEARCH(\"13\",#REF!)),\"1\",\"0\")","v":"0"},{"$f":"IF(ISNUMBER(SEARCH(\"14\",#REF!)),\"1\",\"0\")","v":"0"},{"$f":"IF(ISNUMBER(SEARCH(\"15\",#REF!)),\"1\",\"0\")","v":"0"},{"$f":"IF(ISNUMBER(SEARCH(\"16\",#REF!)),\"1\",\"0\")","v":"0"},{"$f":"IF(ISNUMBER(SEARCH(\"17\",#REF!)),\"1\",\"0\")","v":"0"},{"$nulls":9},54,{"$nulls":4},0,null,null,0]
[4,41,413,null,2,40,null,2,7,2,6,5,2,"1. Victim of violence (physical, incl. torture, ill treatment; family/domestic), 11. Killing of family member/loved one, 1. Victim of violence (physical, incl. torture, ill treatment; family/domestic), 11. Killing of family member/loved one","1","0","0","0","0","0","0","0","0","0","1","0","0","0","0","0","0","0",null,2,1,5,null,{"$f":"IF(ISNUMBER(SEARCH(\"1\",#REF!)),\"1\",\"0\")","v":"0"},{"$f":"IF(ISNUMBER(SEARCH(\"2\",#REF!)),\"1\",\"0\")","v":"0"},{"$f":"IF(ISNUMBER(SEARCH(\"3\",#REF!)),\"1\",\"0\")","v":"0"},{"$f":"IF(ISNUMBER(SEARCH(\"4\",#REF!)),\"1\",\"0\")","v":"0"},{"$f":"IF(ISNUMBER(SEARCH(\"5\",#REF!)),\"1\",\"0\")","v":"0"},{"$f":"IF(ISNUMBER(SEARCH(\"6\",#REF!)),\"1\",\"0\")","v":"0"},{"$f":"IF(ISNUMBER(SEARCH(\"7\",#REF!)),\"1\",\"0\")","v":"0"},{"$f":"IF(ISNUMBER(SEARCH(\"8\",#REF!)),\"1\",\"0\")","v":"0"},{"$f":"IF(ISNUMBER(SEARCH(\"9\",#REF!)),\"1\",\"0\")","v":"0"},{"$f":"IF(ISNUMBER(SEARCH(\"9\",#REF!)),\"1\",\"0\")","v":"0"},{"$f":"IF(ISNUMBER(SEARCH(\"10\",#REF!)),\"1\",\"0\")","v":"0"},{"$f":"IF(ISNUMBER(SEARCH(\"11\",#REF!)),\"1\",\"0\")","v":"0"},{"$f":"IF(ISNUMBER(SEARCH(\"12\",#REF!)),\"1\",\"0\")","v":"0"},{"$f":"IF(ISNUMBER(SEARCH(\"13\",#REF!)),\"1\",\"0\")","v":"0"},{"$f":"IF(ISNUMBER(SEARCH(\"14\",#REF!)),\"1\",\"0\")","v":"0"},{"$f":"IF(ISNUMBER(SEARCH(\"15\",#REF!)),\"1\",\"0\")","v":"0"},{"$f":"IF(ISNUMBER(SEARCH(\"16\",#REF!)),\"1\",\"0\")","v":"0"},{"$f":"IF(ISNUMBER(SEARCH(\"17\",#REF!)),\"1\",\"0\")","v":"0"},{"$nulls":9},68,{"$nulls":4},0,null,null,9,{"$f":"#REF!-#REF!","v":{"$error":"#REF!"}}]
[4,41,413,null,2,30,null,2,7,2,5,5,2,"11. Killing of family member/loved one, 12. Disappearance of family member/loved one, 11. Killing of family member/loved one, 12. Disappearance of family member/loved one","1","1","0","0","0","0","0","0","0","0","1","1","0","0","0","0","0","0",null,2,1,5,2,{"$f":"IF(ISNUMBER(SEARCH(\"1\",#REF!)),\"1\",\"0\")","v":"0"},0,{"$f":"IF(ISNUMBER(SEARCH(\"3\",#REF!)),\"1\",\"0\")","v":"0"},{"$f":"IF(ISNUMBER(SEARCH(\"4\",#REF!)),\"1\",\"0\")","v":"0"},{"$f":"IF(ISNUMBER(SEARCH(\"5\",#REF!)),\"1\",\"0\")","v":"0"},{"$f":"IF(ISNUMBER(SEARCH(\"6\",#REF!)),\"1\",\"0\")","v":"0"},{"$f":"IF(ISNUMBER(SEARCH(\"7\",#REF!)),\"1\",\"0\")","v":"0"},{"$f":"IF(ISNUMBER(SEARCH(\"8\",#REF!)),\"1\",\"0\")","v":"0"},{"$f":"IF(ISNUMBER(SEARCH(\"9\",#REF!)),\"1\",\"0\")","v":"0"},{"$f":"IF(ISNUMBER(SEARCH(\"9\",#REF!)),\"1\",\"0\")","v":"0"},{"$f":"IF(ISNUMBER(SEARCH(\"10\",#REF!)),\"1\",\"0\")","v":"0"},{"$f":"IF(ISNUMBER(SEARCH(\"11\",#REF!)),\"1\",\"0\")","v":"0"},{"$f":"IF(ISNUMBER(SEARCH(\"12\",#REF!)),\"1\",\"0\")","v":"0"},{"$f":"IF(ISNUMBER(SEARCH(\"13\",#REF!)),\"1\",\"0\")","v":"0"},{"$f":"IF(ISNUMBER(SEARCH(\"14\",#REF!)),\"1\",\"0\")","v":"0"},{"$f":"IF(ISNUMBER(SEARCH(\"15\",#REF!)),\"1\",\"0\")","v":"0"},{"$f":"IF(ISNUMBER(SEARCH(\"16\",#REF!)),\"1\",\"0\")","v":"0"},{"$f":"IF(ISNUMBER(SEARCH(\"17\",#REF!)),\"1\",\"0\")","v":"0"},{"$nulls":9},67,{"$nulls":4},0,null,null,2,{"$f":"#REF!-#REF!","v":{"$error":"#REF!"}}]
[4,41,413,null,2,30,null,1,7,2,3,5,2,"1. Victim of violence (physical, incl. torture, ill treatment; family/domestic), 11. Killing of family member/loved one, 1. Victim of violence (physical, incl. torture, ill treatment; family/domestic), 11. Killing of family member/loved one","1","0","0","0","0","0","0","0","0","0","1","0","0","0","0","0","0","0",null,2,1,5,2,{"$f":"IF(ISNUMBER(SEARCH(\"1\",#REF!)),\"1\",\"0\")","v":"0"},{"$f":"IF(ISNUMBER(SEARCH(\"2\",#REF!)),\"1\",\"0\")","v":"0"},{"$f":"IF(ISNUMBER(SEARCH(\"3\",#REF!)),\"1\",\"0\")","v":"0"},{"$f":"IF(ISNUMBER(SEARCH(\"4\",#REF!)),\"1\",\"0\")","v":"0"},{"$f":"IF(ISNUMBER(SEARCH(\"5\",#REF!)),\"1\",\"0\")","v":"0"},{"$f":"IF(ISNUMBER(SEARCH(\"6\",#REF!)),\"1\",\"0\")","v":"0"},{"$f":"IF(ISNUMBER(SEARCH(\"7\",#REF!)),\"1\",\"0\")","v":"0"},{"$f":"IF(ISNUMBER(SEARCH(\"8\",#REF!)),\"1\",\"0\")","v":"0"},{"$f":"IF(ISNUMBER(SEARCH(\"9\",#REF!)),\"1\",\"0\")","v":"0"},{"$f":"IF(ISNUMBER(SEARCH(\"9\",#REF!)),\"1\",\"0\")","v":"0"},{"$f":"IF(ISNUMBER(SEARCH(\"10\",#REF!)),\"1\",\"0\")","v":"0"},{"$f":"IF(ISNUMBER(SEARCH(\"11\",#REF!)),\"1\",\"0\")","v":"0"},{"$f":"IF(ISNUMBER(SEARCH(\"12\",#REF!)),\"1\",\"0\")","v":"0"},{"$f":"IF(ISNUMBER(SEARCH(\"13\",#REF!)),\"1\",\"0\")","v":"0"},{"$f":"IF(ISNUMBER(SEARCH(\"14\",#REF!)),\"1\",\"0\")","v":"0"},{"$f":"IF(ISNUMBER(SEARCH(\"15\",#REF!)),\"1\",\"0\")","v":"0"},{"$f":"IF(ISNUMBER(SEARCH(\"16\",#REF!)),\"1\",\"0\")","v":"0"},{"$f":"IF(ISNUMBER(SEARCH(\"17\",#REF!)),\"1\",\"0\")","v":"0"},{"$nulls":9},58,{"$nulls":4},0,null,null,6,{"$f":"#REF!-#REF!","v":{"$error":"#REF!"}}]
[4,41,413,null,1,23,null,1,7,2,null,5,1,"2. Witness of violence (physical, threats, killings/death, torture, ill treatment, sexual, family/domestic), 11. Killing of family member/loved one, 12. Disappearance of family member/loved one, 2. Witness of violence (physical, threats, killings/death, torture, ill treatment, sexual, family/domestic), 11. Killing of family member/loved one, 12. Disappearance of family member/loved one","1","1","0","0","0","0","0","0","0","0","1","1","0","0","0","0","0","0",null,1,5,5,null,{"$f":"IF(ISNUMBER(SEARCH(\"1\",#REF!)),\"1\",\"0\")","v":"0"},{"$f":"IF(ISNUMBER(SEARCH(\"2\",#REF!)),\"1\",\"0\")","v":"0"},{"$f":"IF(ISNUMBER(SEARCH(\"3\",#REF!)),\"1\",\"0\")","v":"0"},{"$f":"IF(ISNUMBER(SEARCH(\"4\",#REF!)),\"1\",\"0\")","v":"0"},{"$f":"IF(ISNUMBER(SEARCH(\"5\",#REF!)),\"1\",\"0\")","v":"0"},{"$f":"IF(ISNUMBER(SEARCH(\"6\",#REF!)),\"1\",\"0\")","v":"0"},{"$f":"IF(ISNUMBER(SEARCH(\"7\",#REF!)),\"1\",\"0\")","v":"0"},{"$f":"IF(ISNUMBER(SEARCH(\"8\",#REF!)),\"1\",\"0\")","v":"0"},{"$f":"IF(ISNUMBER(SEARCH(\"9\",#REF!)),\"1\",\"0\")","v":"0"},{"$f":"IF(ISNUMBER(SEARCH(\"9\",#REF!)),\"1\",\"0\")","v":"0"},{"$f":"IF(ISNUMBER(SEARCH(\"10\",#REF!)),\"1\",\"0\")","v":"0"},{"$f":"IF(ISNUMBER(SEARCH(\"11\",#REF!)),\"1\",\"0\")","v":"0"},{"$f":"IF(ISNUMBER(SEARCH(\"12\",#REF!)),\"1\",\"0\")","v":"0"},{"$f":"IF(ISNUMBER(SEARCH(\"13\",#REF!)),\"1\",\"0\")","v":"0"},{"$f":"IF(ISNUMBER(SEARCH(\"14\",#REF!)),\"1\",\"0\")","v":"0"},{"$f":"IF(ISNUMBER(SEARCH(\"15\",#REF!)),\"1\",\"0\")","v":"0"},{"$f":"IF(ISNUMBER(SEARCH(\"16\",#REF!)),\"1\",\"0\")","v":"0"},{"$f":"IF(ISNUMBER(SEARCH(\"17\",#REF!)),\"1\",\"0\")","v":"0"},{"$nulls":9},36,{"$nulls":4},0,null,null,7,{"$f":"#REF!-#REF!","v":{"$error":"#REF!"}}]
[4,41,413,null,2,19,null,null,7,null,null,5,6,"11. Killing of family member/loved one, 12. Disappearance of family member/loved one, 11. Killing of family member/loved one, 12. Disappearance of family member/loved one","1","1","0","0","0","0","0","0","0","0","1","1","0","0","0","0","0","0",{"$nulls":5},{"$f":"IF(ISNUMBER(SEARCH(\"1\",#REF!)),\"1\",\"0\")","v":"0"},{"$f":"IF(ISNUMBER(SEARCH(\"2\",#REF!)),\"1\",\"0\")","v":"0"},{"$f":"IF(ISNUMBER(SEARCH(\"3\",#REF!)),\"1\",\"0\")","v":"0"},{"$f":"IF(ISNUMBER(SEARCH(\"4\",#REF!)),\"1\",\"0\")","v":"0"},{"$f":"IF(ISNUMBER(SEARCH(\"5\",#REF!)),\"1\",\"0\")","v":"0"},{"$f":"IF(ISNUMBER(SEARCH(\"6\",#REF!)),\"1\",\"0\")","v":"0"},{"$f":"IF(ISNUMBER(SEARCH(\"7\",#REF!)),\"1\",\"0\")","v":"0"},{"$f":"IF(ISNUMBER(SEARCH(\"8\",#REF!)),\"1\",\"0\")","v":"0"},{"$f":"IF(ISNUMBER(SEARCH(\"9\",#REF!)),\"1\",\"0\")","v":"0"},{"$f":"IF(ISNUMBER(SEARCH(\"9\",#REF!)),\"1\",\"0\")","v":"0"},{"$f":"IF(ISNUMBER(SEARCH(\"10\",#REF!)),\"1\",\"0\")","v":"0"},{"$f":"IF(ISNUMBER(SEARCH(\"11\",#REF!)),\"1\",\"0\")","v":"0"},{"$f":"IF(ISNUMBER(SEARCH(\"12\",#REF!)),\"1\",\"0\")","v":"0"},{"$f":"IF(ISNUMBER(SEARCH(\"13\",#REF!)),\"1\",\"0\")","v":"0"},{"$f":"IF(ISNUMBER(SEARCH(\"14\",#REF!)),\"1\",\"0\")","v":"0"},{"$f":"IF(ISNUMBER(SEARCH(\"15\",#REF!)),\"1\",\"0\")","v":"0"},{"$f":"IF(ISNUMBER(SEARCH(\"16\",#REF!)),\"1\",\"0\")","v":"0"},{"$f":"IF(ISNUMBER(SEARCH(\"17\",#REF!)),\"1\",\"0\")","v":"0"},{"$nulls":9},0,{"$nulls":4},0,null,null,0]
[4,41,413,null,2,25,null,1,7,2,1,5,2,"2. Witness of violence (physical, threats, killings/death, torture, ill treatment, sexual, family/domestic), 11. Killing of family member/loved one, 10. Kidnapping/hostage (without sexual violence), 2. Witness of violence (physical, threats, killings/death, torture, ill treatment, sexual, family/domestic), 11. Killing of family member/loved one, 10. Kidnapping/hostage (without sexual violence)","1","1","0","0","0","0","0","0","0","1","1","0","0","0","0","0","0","0",null,2,1,4,2,{"$f":"IF(ISNUMBER(SEARCH(\"1\",#REF!)),\"1\",\"0\")","v":"0"},0,{"$f":"IF(ISNUMBER(SEARCH(\"3\",#REF!)),\"1\",\"0\")","v":"0"},{"$f":"IF(ISNUMBER(SEARCH(\"4\",#REF!)),\"1\",\"0\")","v":"0"},{"$f":"IF(ISNUMBER(SEARCH(\"5\",#REF!)),\"1\",\"0\")","v":"0"},{"$f":"IF(ISNUMBER(SEARCH(\"6\",#REF!)),\"1\",\"0\")","v":"0"},{"$f":"IF(ISNUMBER(SEARCH(\"7\",#REF!)),\"1\",\"0\")","v":"0"},{"$f":"IF(ISNUMBER(SEARCH(\"8\",#REF!)),\"1\",\"0\")","v":"0"},{"$f":"IF(ISNUMBER(SEARCH(\"9\",#REF!)),\"1\",\"0\")","v":"0"},{"$f":"IF(ISNUMBER(SEARCH(\"9\",#REF!)),\"1\",\"0\")","v":"0"},{"$f":"IF(ISNUMBER(SEARCH(\"10\",#REF!)),\"1\",\"0\")","v":"0"},{"$f":"IF(ISNUMBER(SEARCH(\"11\",#REF!)),\"1\",\"0\")","v":"0"},{"$f":"IF(ISNUMBER(SEARCH(\"12\",#REF!)),\"1\",\"0\")","v":"0"},{"$f":"IF(ISNUMBER(SEARCH(\"13\",#REF!)),\"1\",\"0\")","v":"0"},{"$f":"IF(ISNUMBER(SEARCH(\"14\",#REF!)),\"1\",\"0\")","v":"0"},{"$f":"IF(ISNUMBER(SEARCH(\"15\",#REF!)),\"1\",\"0\")","v":"0"},{"$f":"IF(ISNUMBER(SEARCH(\"16\",#REF!)),\"1\",\"0\")","v":"0"},{"$f":"IF(ISNUMBER(SEARCH(\"17\",#REF!)),\"1\",\"0\")","v":"0"},{"$nulls":9},47,{"$nulls":4},0,null,null,0,{"$f":"#REF!-#REF!","v":{"$error":"#REF!"}}]
[4,41,413,"PSV007",1,70,null,1,7,2,4,5,2,"1. Victim of violence (physical, incl. torture, ill treatment; family/domestic), 2. Witness of violence (physical, threats, killings/death, torture, ill treatment, sexual, family/domestic), 10. Kidnapping/hostage (without sexual violence), 10. Kidnapping/hostage (without sexual violence), 12. Disappearance of family member/loved one, 1. Victim of violence (physical, incl. torture, ill treatment; family/domestic), 2. Witness of violence (physical, threats, killings/death, torture, ill treatment, sexual, family/domestic), 10. Kidnapping/hostage (without sexual violence), 10. Kidnapping/hostage (without sexual violence), 12. Disappearance of family member/loved one","1","1","0","0","0","0","0","0","0","1","0","1","0","0","0","0","0","0",null,2,1,5,2,{"$f":"IF(ISNUMBER(SEARCH(\"1\",#REF!)),\"1\",\"0\")","v":"0"},{"$f":"IF(ISNUMBER(SEARCH(\"2\",#REF!)),\"1\",\"0\")","v":"0"},{"$f":"IF(ISNUMBER(SEARCH(\"3\",#REF!)),\"1\",\"0\")","v":"0"},{"$f":"IF(ISNUMBER(SEARCH(\"4\",#REF!)),\"1\",\"0\")","v":"0"},{"$f":"IF(ISNUMBER(SEARCH(\"5\",#REF!)),\"1\",\"0\")","v":"0"},{"$f":"IF(ISNUMBER(SEARCH(\"6\",#REF!)),\"1\",\"0\")","v":"0"},{"$f":"IF(ISNUMBER(SEARCH(\"7\",#REF!)),\"1\",\"0\")","v":"0"},{"$f":"IF(ISNUMBER(SEARCH(\"8\",#REF!)),\"1\",\"0\")","v":"0"},{"$f":"IF(ISNUMBER(SEARCH(\"9\",#REF!)),\"1\",\"0\")","v":"0"},{"$f":"IF(ISNUMBER(SEARCH(\"9\",#REF!)),\"1\",\"0\")","v":"0"},{"$f":"IF(ISNUMBER(SEARCH(\"10\",#REF!)),\"1\",\"0\")","v":"0"},{"$f":"IF(ISNUMBER(SEARCH(\"11\",#REF!)),\"1\",\"0\")","v":"0"},{"$f":"IF(ISNUMBER(SEARCH(\"12\",#REF!)),\"1\",\"0\")","v":"0"},{"$f":"IF(ISNUMBER(SEARCH(\"13\",#REF!)),\"1\",\"0\")","v":"0"},{"$f":"IF(ISNUMBER(SEARCH(\"14\",#REF!)),\"1\",\"0\")","v":"0"},{"$f":"IF(ISNUMBER(SEARCH(\"15\",#REF!)),\"1\",\"0\")","v":"0"},{"$f":"IF(ISNUMBER(SEARCH(\"16\",#REF!)),\"1\",\"0\")","v":"0"},{"$f":"IF(ISNUMBER(SEARCH(\"17\",#REF!)),\"1\",\"0\")","v":"0"},{"$nulls":9},43,{"$nulls":7},0,{"$f":"#REF!-#REF!","v":{"$error":"#REF!"}}]
[4,41,413,"PSV022",2,40,null,1,7,2,6,5,4,"1. Victim of violence (physical, incl. torture, ill treatment; family/domestic), 10. Kidnapping/hostage (without sexual violence), 11. Killing of family member/loved one, 12. Disappearance of family member/loved one, 15. Insults / received threats, 1. Victim of violence (physical, incl. torture, ill treatment; family/domestic), 10. Kidnapping/hostage (without sexual violence), 11. Killing of family member/loved one, 12. Disappearance of family member/loved one, 15. Insults / received threats","1","1","0","0","1","0","0","0","0","1","1","1","0","0","1","0","0","0",null,2,1,3,null,{"$f":"IF(ISNUMBER(SEARCH(\"1\",#REF!)),\"1\",\"0\")","v":"0"},0,{"$f":"IF(ISNUMBER(SEARCH(\"3\",#REF!)),\"1\",\"0\")","v":"0"},{"$f":"IF(ISNUMBER(SEARCH(\"4\",#REF!)),\"1\",\"0\")","v":"0"},{"$f":"IF(ISNUMBER(SEARCH(\"5\",#REF!)),\"1\",\"0\")","v":"0"},{"$f":"IF(ISNUMBER(SEARCH(\"6\",#REF!)),\"1\",\"0\")","v":"0"},{"$f":"IF(ISNUMBER(SEARCH(\"7\",#REF!)),\"1\",\"0\")","v":"0"},{"$f":"IF(ISNUMBER(SEARCH(\"8\",#REF!)),\"1\",\"0\")","v":"0"},{"$f":"IF(ISNUMBER(SEARCH(\"9\",#REF!)),\"1\",\"0\")","v":"0"},{"$f":"IF(ISNUMBER(SEARCH(\"9\",#REF!)),\"1\",\"0\")","v":"0"},{"$f":"IF(ISNUMBER(SEARCH(\"10\",#REF!)),\"1\",\"0\")","v":"0"},{"$f":"IF(ISNUMBER(SEARCH(\"11\",#REF!)),\"1\",\"0\")","v":"0"},{"$f":"IF(ISNUMBER(SEARCH(\"12\",#REF!)),\"1\",\"0\")","v":"0"},{"$f":"IF(ISNUMBER(SEARCH(\"13\",#REF!)),\"1\",\"0\")","v":"0"},{"$f":"IF(ISNUMBER(SEARCH(\"14\",#REF!)),\"1\",\"0\")","v":"0"},{"$f":"IF(ISNUMBER(SEARCH(\"15\",#REF!)),\"1\",\"0\")","v":"0"},{"$f":"IF(ISNUMBER(SEARCH(\"16\",#REF!)),\"1\",\"0\")","v":"0"},{"$f":"IF(ISNUMBER(SEARCH(\"17\",#REF!)),\"1\",\"0\")","v":"0"},{"$nulls":9},73,{"$nulls":7},0,{"$f":"#REF!-#REF!","v":{"$error":"#REF!"}}]
[4,41,413,"PSv014",2,20,null,1,7,2,null,5,2,"11. Killing of family member/loved one, 14. Victim of/experienced torture/ill-treatment, 11. Killing of family member/loved one, 14. Victim of/experienced torture/ill-treatment","1","0","0","1","0","0","0","0","0","0","1","0","0","1","0","0","0","0",null,2,1,5,null,{"$f":"IF(ISNUMBER(SEARCH(\"1\",#REF!)),\"1\",\"0\")","v":"0"},{"$f":"IF(ISNUMBER(SEARCH(\"2\",#REF!)),\"1\",\"0\")","v":"0"},{"$f":"IF(ISNUMBER(SEARCH(\"3\",#REF!)),\"1\",\"0\")","v":"0"},{"$f":"IF(ISNUMBER(SEARCH(\"4\",#REF!)),\"1\",\"0\")","v":"0"},{"$f":"IF(ISNUMBER(SEARCH(\"5\",#REF!)),\"1\",\"0\")","v":"0"},{"$f":"IF(ISNUMBER(SEARCH(\"6\",#REF!)),\"1\",\"0\")","v":"0"},{"$f":"IF(ISNUMBER(SEARCH(\"7\",#REF!)),\"1\",\"0\")","v":"0"},{"$f":"IF(ISNUMBER(SEARCH(\"8\",#REF!)),\"1\",\"0\")","v":"0"},{"$f":"IF(ISNUMBER(SEARCH(\"9\",#REF!)),\"1\",\"0\")","v":"0"},{"$f":"IF(ISNUMBER(SEARCH(\"9\",#REF!)),\"1\",\"0\")","v":"0"},{"$f":"IF(ISNUMBER(SEARCH(\"10\",#REF!)),\"1\",\"0\")","v":"0"},{"$f":"IF(ISNUMBER(SEARCH(\"11\",#REF!)),\"1\",\"0\")","v":"0"},{"$f":"IF(ISNUMBER(SEARCH(\"12\",#REF!)),\"1\",\"0\")","v":"0"},{"$f":"IF(ISNUMBER(SEARCH(\"13\",#REF!)),\"1\",\"0\")","v":"0"},{"$f":"IF(ISNUMBER(SEARCH(\"14\",#REF!)),\"1\",\"0\")","v":"0"},{"$f":"IF(ISNUMBER(SEARCH(\"15\",#REF!)),\"1\",\"0\")","v":"0"},{"$f":"IF(ISNUMBER(SEARCH(\"16\",#REF!)),\"1\",\"0\")","v":"0"},{"$f":"IF(ISNUMBER(SEARCH(\"17\",#REF!)),\"1\",\"0\")","v":"0"},{"$nulls":9},41,{"$nulls":7},0,{"$f":"#REF!-#REF!","v":{"$error":"#REF!"}}]
[4,41,413,"PSV007",2,60,null,1,7,2,4,5,6,"2. Witness of violence (physical, threats, killings/death, torture, ill treatment, sexual, family/domestic), 11. Killing of family member/loved one, 2. Witness of violence (physical, threats, killings/death, torture, ill treatment, sexual, family/domestic), 11. Killing of family member/loved one","1","1","0","0","0","0","0","0","0","0","1","0","0","0","0","0","0","0",null,2,1,5,2,{"$f":"IF(ISNUMBER(SEARCH(\"1\",#REF!)),\"1\",\"0\")","v":"0"},{"$f":"IF(ISNUMBER(SEARCH(\"2\",#REF!)),\"1\",\"0\")","v":"0"},{"$f":"IF(ISNUMBER(SEARCH(\"3\",#REF!)),\"1\",\"0\")","v":"0"},{"$f":"IF(ISNUMBER(SEARCH(\"4\",#REF!)),\"1\",\"0\")","v":"0"},{"$f":"IF(ISNUMBER(SEARCH(\"5\",#REF!)),\"1\",\"0\")","v":"0"},{"$f":"IF(ISNUMBER(SEARCH(\"6\",#REF!)),\"1\",\"0\")","v":"0"},{"$f":"IF(ISNUMBER(SEARCH(\"7\",#REF!)),\"1\",\"0\")","v":"0"},{"$f":"IF(ISNUMBER(SEARCH(\"8\",#REF!)),\"1\",\"0\")","v":"0"},{"$f":"IF(ISNUMBER(SEARCH(\"9\",#REF!)),\"1\",\"0\")","v":"0"},{"$f":"IF(ISNUMBER(SEARCH(\"9\",#REF!)),\"1\",\"0\")","v":"0"},{"$f":"IF(ISNUMBER(SEARCH(\"10\",#REF!)),\"1\",\"0\")","v":"0"},{"$f":"IF(ISNUMBER(SEARCH(\"11\",#REF!)),\"1\",\"0\")","v":"0"},{"$f":"IF(ISNUMBER(SEARCH(\"12\",#REF!)),\"1\",\"0\")","v":"0"},{"$f":"IF(ISNUMBER(SEARCH(\"13\",#REF!)),\"1\",\"0\")","v":"0"},{"$f":"IF(ISNUMBER(SEARCH(\"14\",#REF!)),\"1\",\"0\")","v":"0"},{"$f":"IF(ISNUMBER(SEARCH(\"15\",#REF!)),\"1\",\"0\")","v":"0"},{"$f":"IF(ISNUMBER(SEARCH(\"16\",#REF!)),\"1\",\"0\")","v":"0"},{"$f":"IF(ISNUMBER(SEARCH(\"17\",#REF!)),\"1\",\"0\")","v":"0"},{"$nulls":9},42,{"$nulls":8},{"$f":"#REF!-#REF!","v":{"$error":"#REF!"}}]
[4,42,421,6,2,20,1998,1,3,2,1,5,2,"1. Victim of violence (physical, incl. torture, ill treatment; family/domestic), 11. Killing of family member/loved one, 15. Insults / received threats","1","0","0","0","1","0","0","0","0","0","1","0","0","0","1","0","0","0",null,1,1,4,2,{"$f":"IF(ISNUMBER(SEARCH(\"1\",#REF!)),\"1\",\"0\")","v":"0"},{"$f":"IF(ISNUMBER(SEARCH(\"2\",#REF!)),\"1\",\"0\")","v":"0"},{"$f":"IF(ISNUMBER(SEARCH(\"3\",#REF!)),\"1\",\"0\")","v":"0"},{"$f":"IF(ISNUMBER(SEARCH(\"4\",#REF!)),\"1\",\"0\")","v":"0"},{"$f":"IF(ISNUMBER(SEARCH(\"5\",#REF!)),\"1\",\"0\")","v":"0"},{"$f":"IF(ISNUMBER(SEARCH(\"6\",#REF!)),\"1\",\"0\")","v":"0"},{"$f":"IF(ISNUMBER(SEARCH(\"7\",#REF!)),\"1\",\"0\")","v":"0"},{"$f":"IF(ISNUMBER(SEARCH(\"8\",#REF!)),\"1\",\"0\")","v":"0"},{"$f":"IF(ISNUMBER(SEARCH(\"9\",#REF!)),\"1\",\"0\")","v":"0"},{"$f":"IF(ISNUMBER(SEARCH(\"9\",#REF!)),\"1\",\"0\")","v":"0"},{"$f":"IF(ISNUMBER(SEARCH(\"10\",#REF!)),\"1\",\"0\")","v":"0"},{"$f":"IF(ISNUMBER(SEARCH(\"11\",#REF!)),\"1\",\"0\")","v":"0"},{"$f":"IF(ISNUMBER(SEARCH(\"12\",#REF!)),\"1\",\"0\")","v":"0"},{"$f":"IF(ISNUMBER(SEARCH(\"13\",#REF!)),\"1\",\"0\")","v":"0"},{"$f":"IF(ISNUMBER(SEARCH(\"14\",#REF!)),\"1\",\"0\")","v":"0"},{"$f":"IF(ISNUMBER(SEARCH(\"15\",#REF!)),\"1\",\"0\")","v":"0"},{"$f":"IF(ISNUMBER(SEARCH(\"16\",#REF!)),\"1\",\"0\")","v":"0"},{"$f":"IF(ISNUMBER(SEARCH(\"17\",#REF!)),\"1\",\"0\")","v":"0"},{"$nulls":9},45,{"$nulls":4},14,null,null,6,{"$f":"#REF!-#REF!","v":{"$error":"#REF!"}},{"$f":"#REF!-#REF!","v":{"$error":"#REF!"}}]
[4,42,421,11,2,28,1990,2,8,2,3,5,2,"2. Witness of violence (physical, threats, killings/death, torture, ill treatment, sexual, family/domestic), 11. Killing of family member/loved one, 12. Disappearance of family member/loved one","1","1","0","0","0","0","0","0","0","0","1","1","0","0","0","0","0","0",null,2,1,5,2,{"$f":"IF(ISNUMBER(SEARCH(\"1\",#REF!)),\"1\",\"0\")","v":"0"},{"$f":"IF(ISNUMBER(SEARCH(\"2\",#REF!)),\"1\",\"0\")","v":"0"},{"$f":"IF(ISNUMBER(SEARCH(\"3\",#REF!)),\"1\",\"0\")","v":"0"},{"$f":"IF(ISNUMBER(SEARCH(\"4\",#REF!)),\"1\",\"0\")","v":"0"},{"$f":"IF(ISNUMBER(SEARCH(\"5\",#REF!)),\"1\",\"0\")","v":"0"},{"$f":"IF(ISNUMBER(SEARCH(\"6\",#REF!)),\"1\",\"0\")","v":"0"},{"$f":"IF(ISNUMBER(SEARCH(\"7\",#REF!)),\"1\",\"0\")","v":"0"},{"$f":"IF(ISNUMBER(SEARCH(\"8\",#REF!)),\"1\",\"0\")","v":"0"},{"$f":"IF(ISNUMBER(SEARCH(\"9\",#REF!)),\"1\",\"0\")","v":"0"},{"$f":"IF(ISNUMBER(SEARCH(\"9\",#REF!)),\"1\",\"0\")","v":"0"},{"$f":"IF(ISNUMBER(SEARCH(\"10\",#REF!)),\"1\",\"0\")","v":"0"},{"$f":"IF(ISNUMBER(SEARCH(\"11\",#REF!)),\"1\",\"0\")","v":"0"},{"$f":"IF(ISNUMBER(SEARCH(\"12\",#REF!)),\"1\",\"0\")","v":"0"},{"$f":"IF(ISNUMBER(SEARCH(\"13\",#REF!)),\"1\",\"0\")","v":"0"},{"$f":"IF(ISNUMBER(SEARCH(\"14\",#REF!)),\"1\",\"0\")","v":"0"},{"$f":"IF(ISNUMBER(SEARCH(\"15\",#REF!)),\"1\",\"0\")","v":"0"},{"$f":"IF(ISNUMBER(SEARCH(\"16\",#REF!)),\"1\",\"0\")","v":"0"},{"$f":"IF(ISNUMBER(SEARCH(\"17\",#REF!)),\"1\",\"0\")","v":"0"},{"$nulls":9},63,{"$nulls":7},6,{"$f":"#REF!-#REF!","v":{"$error":"#REF!"}},{"$f":"#REF!-#REF!","v":{"$error":"#REF!"}}]
[4,42,423,1,1,55,1963,2,8,2,8,5,2,"1. Victim of violence (physical, incl. torture, ill treatment; family/domestic), 11. Killing of family member/loved one, 12. Disappearance of family member/loved one","1","1","0","0","0","0","0","0","0","0","1","1","0","0","0","0","0","0",null,1,1,5,2,{"$f":"IF(ISNUMBER(SEARCH(\"1\",#REF!)),\"1\",\"0\")","v":"0"},{"$f":"IF(ISNUMBER(SEARCH(\"2\",#REF!)),\"1\",\"0\")","v":"0"},{"$f":"IF(ISNUMBER(SEARCH(\"3\",#REF!)),\"1\",\"0\")","v":"0"},{"$f":"IF(ISNUMBER(SEARCH(\"4\",#REF!)),\"1\",\"0\")","v":"0"},{"$f":"IF(ISNUMBER(SEARCH(\"5\",#REF!)),\"1\",\"0\")","v":"0"},{"$f":"IF(ISNUMBER(SEARCH(\"6\",#REF!)),\"1\",\"0\")","v":"0"},{"$f":"IF(ISNUMBER(SEARCH(\"7\",#REF!)),\"1\",\"0\")","v":"0"},{"$f":"IF(ISNUMBER(SEARCH(\"8\",#REF!)),\"1\",\"0\")","v":"0"},{"$f":"IF(ISNUMBER(SEARCH(\"9\",#REF!)),\"1\",\"0\")","v":"0"},{"$f":"IF(ISNUMBER(SEARCH(\"9\",#REF!)),\"1\",\"0\")","v":"0"},{"$f":"IF(ISNUMBER(SEARCH(\"10\",#REF!)),\"1\",\"0\")","v":"0"},{"$f":"IF(ISNUMBER(SEARCH(\"11\",#REF!)),\"1\",\"0\")","v":"0"},{"$f":"IF(ISNUMBER(SEARCH(\"12\",#REF!)),\"1\",\"0\")","v":"0"},{"$f":"IF(ISNUMBER(SEARCH(\"13\",#REF!)),\"1\",\"0\")","v":"0"},{"$f":"IF(ISNUMBER(SEARCH(\"14\",#REF!)),\"1\",\"0\")","v":"0"},{"$f":"IF(ISNUMBER(SEARCH(\"15\",#REF!)),\"1\",\"0\")","v":"0"},{"$f":"IF(ISNUMBER(SEARCH(\"16\",#REF!)),\"1\",\"0\")","v":"0"},{"$f":"IF(ISNUMBER(SEARCH(\"17\",#REF!)),\"1\",\"0\")","v":"0"},{"$nulls":9},53,{"$nulls":4},19,null,null,12,{"$f":"#REF!-#REF!","v":{"$error":"#REF!"}},{"$f":"#REF!-#REF!","v":{"$error":"#REF!"}}]
[4,42,423,7,1,42,1976,4,7,2,16,5,2,"2. Witness of violence (physical, threats, killings/death, torture, ill treatment, sexual, family/domestic)","0","1","0","0","0","0","0","0","0","0","0","0","0","0","0","0","0","0",null,1,1,5,2,{"$f":"IF(ISNUMBER(SEARCH(\"1\",#REF!)),\"1\",\"0\")","v":"0"},{"$f":"IF(ISNUMBER(SEARCH(\"2\",#REF!)),\"1\",\"0\")","v":"0"},{"$f":"IF(ISNUMBER(SEARCH(\"3\",#REF!)),\"1\",\"0\")","v":"0"},{"$f":"IF(ISNUMBER(SEARCH(\"4\",#REF!)),\"1\",\"0\")","v":"0"},{"$f":"IF(ISNUMBER(SEARCH(\"5\",#REF!)),\"1\",\"0\")","v":"0"},{"$f":"IF(ISNUMBER(SEARCH(\"6\",#REF!)),\"1\",\"0\")","v":"0"},{"$f":"IF(ISNUMBER(SEARCH(\"7\",#REF!)),\"1\",\"0\")","v":"0"},{"$f":"IF(ISNUMBER(SEARCH(\"8\",#REF!)),\"1\",\"0\")","v":"0"},{"$f":"IF(ISNUMBER(SEARCH(\"9\",#REF!)),\"1\",\"0\")","v":"0"},{"$f":"IF(ISNUMBER(SEARCH(\"9\",#REF!)),\"1\",\"0\")","v":"0"},{"$f":"IF(ISNUMBER(SEARCH(\"10\",#REF!)),\"1\",\"0\")","v":"0"},{"$f":"IF(ISNUMBER(SEARCH(\"11\",#REF!)),\"1\",\"0\")","v":"0"},{"$f":"IF(ISNUMBER(SEARCH(\"12\",#REF!)),\"1\",\"0\")","v":"0"},{"$f":"IF(ISNUMBER(SEARCH(\"13\",#REF!)),\"1\",\"0\")","v":"0"},{"$f":"IF(ISNUMBER(SEARCH(\"14\",#REF!)),\"1\",\"0\")","v":"0"},{"$f":"IF(ISNUMBER(SEARCH(\"15\",#REF!)),\"1\",\"0\")","v":"0"},{"$f":"IF(ISNUMBER(SEARCH(\"16\",#REF!)),\"1\",\"0\")","v":"0"},{"$f":"IF(ISNUMBER(SEARCH(\"17\",#REF!)),\"1\",\"0\")","v":"0"},{"$nulls":9},49,{"$nulls":4},27,null,null,12,{"$f":"#REF!-#REF!","v":{"$error":"#REF!"}},{"$f":"#REF!-#REF!","v":{"$error":"#REF!"}}]
[4,42,424,5,2,32,1986,2,8,2,5,5,1,"16. Other (please specify in the next cell), 16. Other (please specify in the next cell)","1","0","0","0","0","1","0","0","0","0","0","0","0","0","0","1","0","0",null,1,7,5,2,{"$f":"IF(ISNUMBER(SEARCH(\"1\",#REF!)),\"1\",\"0\")","v":"0"},{"$f":"IF(ISNUMBER(SEARCH(\"2\",#REF!)),\"1\",\"0\")","v":"0"},{"$f":"IF(ISNUMBER(SEARCH(\"3\",#REF!)),\"1\",\"0\")","v":"0"},{"$f":"IF(ISNUMBER(SEARCH(\"4\",#REF!)),\"1\",\"0\")","v":"0"},{"$f":"IF(ISNUMBER(SEARCH(\"5\",#REF!)),\"1\",\"0\")","v":"0"},{"$f":"IF(ISNUMBER(SEARCH(\"6\",#REF!)),\"1\",\"0\")","v":"0"},{"$f":"IF(ISNUMBER(SEARCH(\"7\",#REF!)),\"1\",\"0\")","v":"0"},{"$f":"IF(ISNUMBER(SEARCH(\"8\",#REF!)),\"1\",\"0\")","v":"0"},{"$f":"IF(ISNUMBER(SEARCH(\"9\",#REF!)),\"1\",\"0\")","v":"0"},{"$f":"IF(ISNUMBER(SEARCH(\"9\",#REF!)),\"1\",\"0\")","v":"0"},{"$f":"IF(ISNUMBER(SEARCH(\"10\",#REF!)),\"1\",\"0\")","v":"0"},{"$f":"IF(ISNUMBER(SEARCH(\"11\",#REF!)),\"1\",\"0\")","v":"0"},{"$f":"IF(ISNUMBER(SEARCH(\"12\",#REF!)),\"1\",\"0\")","v":"0"},{"$f":"IF(ISNUMBER(SEARCH(\"13\",#REF!)),\"1\",\"0\")","v":"0"},{"$f":"IF(ISNUMBER(SEARCH(\"14\",#REF!)),\"1\",\"0\")","v":"0"},{"$f":"IF(ISNUMBER(SEARCH(\"15\",#REF!)),\"1\",\"0\")","v":"0"},{"$f":"IF(ISNUMBER(SEARCH(\"16\",#REF!)),\"1\",\"0\")","v":"0"},{"$f":"IF(ISNUMBER(SEARCH(\"17\",#REF!)),\"1\",\"0\")","v":"0"},{"$nulls":9},48,{"$nulls":4},21,null,null,8,{"$f":"#REF!-#REF!","v":{"$error":"#REF!"}},{"$f":"#REF!-#REF!","v":{"$error":"#REF!"}}]
[4,42,425,11,2,25,1993,4,8,2,3,5,2,"2. Witness of violence (physical, threats, killings/death, torture, ill treatment, sexual, family/domestic), 11. Killing of family member/loved one","1","1","0","0","0","0","0","0","0","0","1","0","0","0","0","0","0","0",null,1,1,5,2,{"$f":"IF(ISNUMBER(SEARCH(\"1\",#REF!)),\"1\",\"0\")","v":"0"},{"$f":"IF(ISNUMBER(SEARCH(\"2\",#REF!)),\"1\",\"0\")","v":"0"},{"$f":"IF(ISNUMBER(SEARCH(\"3\",#REF!)),\"1\",\"0\")","v":"0"},{"$f":"IF(ISNUMBER(SEARCH(\"4\",#REF!)),\"1\",\"0\")","v":"0"},{"$f":"IF(ISNUMBER(SEARCH(\"5\",#REF!)),\"1\",\"0\")","v":"0"},{"$f":"IF(ISNUMBER(SEARCH(\"6\",#REF!)),\"1\",\"0\")","v":"0"},{"$f":"IF(ISNUMBER(SEARCH(\"7\",#REF!)),\"1\",\"0\")","v":"0"},{"$f":"IF(ISNUMBER(SEARCH(\"8\",#REF!)),\"1\",\"0\")","v":"0"},{"$f":"IF(ISNUMBER(SEARCH(\"9\",#REF!)),\"1\",\"0\")","v":"0"},{"$f":"IF(ISNUMBER(SEARCH(\"9\",#REF!)),\"1\",\"0\")","v":"0"},{"$f":"IF(ISNUMBER(SEARCH(\"10\",#REF!)),\"1\",\"0\")","v":"0"},{"$f":"IF(ISNUMBER(SEARCH(\"11\",#REF!)),\"1\",\"0\")","v":"0"},{"$f":"IF(ISNUMBER(SEARCH(\"12\",#REF!)),\"1\",\"0\")","v":"0"},{"$f":"IF(ISNUMBER(SEARCH(\"13\",#REF!)),\"1\",\"0\")","v":"0"},{"$f":"IF(ISNUMBER(SEARCH(\"14\",#REF!)),\"1\",\"0\")","v":"0"},{"$f":"IF(ISNUMBER(SEARCH(\"15\",#REF!)),\"1\",\"0\")","v":"0"},{"$f":"IF(ISNUMBER(SEARCH(\"16\",#REF!)),\"1\",\"0\")","v":"0"},{"$f":"IF(ISNUMBER(SEARCH(\"17\",#REF!)),\"1\",\"0\")","v":"0"},{"$nulls":9},68,{"$nulls":4},34,null,null,8,{"$f":"#REF!-#REF!","v":{"$error":"#REF!"}},{"$f":"#REF!-#REF!","v":{"$error":"#REF!"}}]
[4,42,425,9,1,57,1961,2,8,2,4,5,2,"2. Witness of violence (physical, threats, killings/death, torture, ill treatment, sexual, family/domestic)","0","1","0","0","0","0","0","0","0","0","0","0","0","0","0","0","0","0",null,1,5,5,2,{"$f":"IF(ISNUMBER(SEARCH(\"1\",#REF!)),\"1\",\"0\")","v":"0"},{"$f":"IF(ISNUMBER(SEARCH(\"2\",#REF!)),\"1\",\"0\")","v":"0"},{"$f":"IF(ISNUMBER(SEARCH(\"3\",#REF!)),\"1\",\"0\")","v":"0"},{"$f":"IF(ISNUMBER(SEARCH(\"4\",#REF!)),\"1\",\"0\")","v":"0"},{"$f":"IF(ISNUMBER(SEARCH(\"5\",#REF!)),\"1\",\"0\")","v":"0"},{"$f":"IF(ISNUMBER(SEARCH(\"6\",#REF!)),\"1\",\"0\")","v":"0"},{"$f":"IF(ISNUMBER(SEARCH(\"7\",#REF!)),\"1\",\"0\")","v":"0"},{"$f":"IF(ISNUMBER(SEARCH(\"8\",#REF!)),\"1\",\"0\")","v":"0"},{"$f":"IF(ISNUMBER(SEARCH(\"9\",#REF!)),\"1\",\"0\")","v":"0"},{"$f":"IF(ISNUMBER(SEARCH(\"9\",#REF!)),\"1\",\"0\")","v":"0"},{"$f":"IF(ISNUMBER(SEARCH(\"10\",#REF!)),\"1\",\"0\")","v":"0"},{"$f":"IF(ISNUMBER(SEARCH(\"11\",#REF!)),\"1\",\"0\")","v":"0"},{"$f":"IF(ISNUMBER(SEARCH(\"12\",#REF!)),\"1\",\"0\")","v":"0"},{"$f":"IF(ISNUMBER(SEARCH(\"13\",#REF!)),\"1\",\"0\")","v":"0"},{"$f":"IF(ISNUMBER(SEARCH(\"14\",#REF!)),\"1\",\"0\")","v":"0"},{"$f":"IF(ISNUMBER(SEARCH(\"15\",#REF!)),\"1\",\"0\")","v":"0"},{"$f":"IF(ISNUMBER(SEARCH(\"16\",#REF!)),\"1\",\"0\")","v":"0"},{"$f":"IF(ISNUMBER(SEARCH(\"17\",#REF!)),\"1\",\"0\")","v":"0"},{"$nulls":9},67,{"$nulls":7},10,{"$f":"#REF!-#REF!","v":{"$error":"#REF!"}},{"$f":"#REF!-#REF!","v":{"$error":"#REF!"}}]
[4,42,425,2,2,45,1973,2,3,2,8,5,2,"1. Victim of violence (physical, incl. torture, ill treatment; family/domestic), 2. Witness of violence (physical, threats, killings/death, torture, ill treatment, sexual, family/domestic), 11. Killing of family member/loved one","1","1","0","0","0","0","0","0","0","0","1","0","0","0","0","0","0","0",null,1,1,5,2,{"$f":"IF(ISNUMBER(SEARCH(\"1\",#REF!)),\"1\",\"0\")","v":"0"},{"$f":"IF(ISNUMBER(SEARCH(\"2\",#REF!)),\"1\",\"0\")","v":"0"},{"$f":"IF(ISNUMBER(SEARCH(\"3\",#REF!)),\"1\",\"0\")","v":"0"},{"$f":"IF(ISNUMBER(SEARCH(\"4\",#REF!)),\"1\",\"0\")","v":"0"},{"$f":"IF(ISNUMBER(SEARCH(\"5\",#REF!)),\"1\",\"0\")","v":"0"},{"$f":"IF(ISNUMBER(SEARCH(\"6\",#REF!)),\"1\",\"0\")","v":"0"},{"$f":"IF(ISNUMBER(SEARCH(\"7\",#REF!)),\"1\",\"0\")","v":"0"},{"$f":"IF(ISNUMBER(SEARCH(\"8\",#REF!)),\"1\",\"0\")","v":"0"},{"$f":"IF(ISNUMBER(SEARCH(\"9\",#REF!)),\"1\",\"0\")","v":"0"},{"$f":"IF(ISNUMBER(SEARCH(\"9\",#REF!)),\"1\",\"0\")","v":"0"},{"$f":"IF(ISNUMBER(SEARCH(\"10\",#REF!)),\"1\",\"0\")","v":"0"},{"$f":"IF(ISNUMBER(SEARCH(\"11\",#REF!)),\"1\",\"0\")","v":"0"},{"$f":"IF(ISNUMBER(SEARCH(\"12\",#REF!)),\"1\",\"0\")","v":"0"},{"$f":"IF(ISNUMBER(SEARCH(\"13\",#REF!)),\"1\",\"0\")","v":"0"},{"$f":"IF(ISNUMBER(SEARCH(\"14\",#REF!)),\"1\",\"0\")","v":"0"},{"$f":"IF(ISNUMBER(SEARCH(\"15\",#REF!)),\"1\",\"0\")","v":"0"},{"$f":"IF(ISNUMBER(SEARCH(\"16\",#REF!)),\"1\",\"0\")","v":"0"},{"$f":"IF(ISNUMBER(SEARCH(\"17\",#REF!)),\"1\",\"0\")","v":"0"},{"$nulls":9},71,{"$nulls":4},36,null,null,10,{"$f":"#REF!-#REF!","v":{"$error":"#REF!"}},{"$f":"#REF!-#REF!","v":{"$error":"#REF!"}}]
[4,42,425,3,2,39,1979,1,1,2,8,5,2,"1. Victim of violence (physical, incl. torture, ill treatment; family/domestic), 2. Witness of violence (physical, threats, killings/death, torture, ill treatment, sexual, family/domestic), 10. Kidnapping/hostage (without sexual violence), 11. Killing of family member/loved one, 12. Disappearance of family member/loved one, 13. Forced recruitment (by armed groups)","1","1","1","0","0","0","0","0","0","1","1","1","1","0","0","0","0","0",null,1,1,5,2,{"$f":"IF(ISNUMBER(SEARCH(\"1\",#REF!)),\"1\",\"0\")","v":"0"},0,{"$f":"IF(ISNUMBER(SEARCH(\"3\",#REF!)),\"1\",\"0\")","v":"0"},{"$f":"IF(ISNUMBER(SEARCH(\"4\",#REF!)),\"1\",\"0\")","v":"0"},{"$f":"IF(ISNUMBER(SEARCH(\"5\",#REF!)),\"1\",\"0\")","v":"0"},{"$f":"IF(ISNUMBER(SEARCH(\"6\",#REF!)),\"1\",\"0\")","v":"0"},{"$f":"IF(ISNUMBER(SEARCH(\"7\",#REF!)),\"1\",\"0\")","v":"0"},{"$f":"IF(ISNUMBER(SEARCH(\"8\",#REF!)),\"1\",\"0\")","v":"0"},{"$f":"IF(ISNUMBER(SEARCH(\"9\",#REF!)),\"1\",\"0\")","v":"0"},{"$f":"IF(ISNUMBER(SEARCH(\"9\",#REF!)),\"1\",\"0\")","v":"0"},{"$f":"IF(ISNUMBER(SEARCH(\"10\",#REF!)),\"1\",\"0\")","v":"0"},{"$f":"IF(ISNUMBER(SEARCH(\"11\",#REF!)),\"1\",\"0\")","v":"0"},{"$f":"IF(ISNUMBER(SEARCH(\"12\",#REF!)),\"1\",\"0\")","v":"0"},{"$f":"IF(ISNUMBER(SEARCH(\"13\",#REF!)),\"1\",\"0\")","v":"0"},{"$f":"IF(ISNUMBER(SEARCH(\"14\",#REF!)),\"1\",\"0\")","v":"0"},{"$f":"IF(ISNUMBER(SEARCH(\"15\",#REF!)),\"1\",\"0\")","v":"0"},{"$f":"IF(ISNUMBER(SEARCH(\"16\",#REF!)),\"1\",\"0\")","v":"0"},{"$f":"IF(ISNUMBER(SEARCH(\"17\",#REF!)),\"1\",\"0\")","v":"0"},{"$nulls":9},75,{"$nulls":4},30,null,null,12,{"$f":"#REF!-#REF!","v":{"$error":"#REF!"}},{"$f":"#REF!-#REF!","v":{"$error":"#REF!"}}]
[4,42,425,null,2,35,1983,1,8,2,6,5,6,"2. Witness of violence (physical, threats, killings/death, torture, ill treatment, sexual, family/domestic)","0","1","0","0","0","0","0","0","0","0","0","0","0","0","0","0","0","0",null,1,1,4,2,{"$f":"IF(ISNUMBER(SEARCH(\"1\",#REF!)),\"1\",\"0\")","v":"0"},{"$f":"IF(ISNUMBER(SEARCH(\"2\",#REF!)),\"1\",\"0\")","v":"0"},{"$f":"IF(ISNUMBER(SEARCH(\"3\",#REF!)),\"1\",\"0\")","v":"0"},{"$f":"IF(ISNUMBER(SEARCH(\"4\",#REF!)),\"1\",\"0\")","v":"0"},{"$f":"IF(ISNUMBER(SEARCH(\"5\",#REF!)),\"1\",\"0\")","v":"0"},{"$f":"IF(ISNUMBER(SEARCH(\"6\",#REF!)),\"1\",\"0\")","v":"0"},{"$f":"IF(ISNUMBER(SEARCH(\"7\",#REF!)),\"1\",\"0\")","v":"0"},{"$f":"IF(ISNUMBER(SEARCH(\"8\",#REF!)),\"1\",\"0\")","v":"0"},{"$f":"IF(ISNUMBER(SEARCH(\"9\",#REF!)),\"1\",\"0\")","v":"0"},{"$f":"IF(ISNUMBER(SEARCH(\"9\",#REF!)),\"1\",\"0\")","v":"0"},{"$f":"IF(ISNUMBER(SEARCH(\"10\",#REF!)),\"1\",\"0\")","v":"0"},{"$f":"IF(ISNUMBER(SEARCH(\"11\",#REF!)),\"1\",\"0\")","v":"0"},{"$f":"IF(ISNUMBER(SEARCH(\"12\",#REF!)),\"1\",\"0\")","v":"0"},{"$f":"IF(ISNUMBER(SEARCH(\"13\",#REF!)),\"1\",\"0\")","v":"0"},{"$f":"IF(ISNUMBER(SEARCH(\"14\",#REF!)),\"1\",\"0\")","v":"0"},{"$f":"IF(ISNUMBER(SEARCH(\"15\",#REF!)),\"1\",\"0\")","v":"0"},{"$f":"IF(ISNUMBER(SEARCH(\"16\",#REF!)),\"1\",\"0\")","v":"0"},{"$f":"IF(ISNUMBER(SEARCH(\"17\",#REF!)),\"1\",\"0\")","v":"0"},{"$nulls":9},61,{"$nulls":4},33,null,null,12,{"$f":"#REF!-#REF!","v":{"$error":"#REF!"}},{"$f":"#REF!-#REF!","v":{"$error":"#REF!"}}]
[4,42,425,6,2,40,1978,1,1,2,6,5,2,"1. Victim of violence (physical, incl. torture, ill treatment; family/domestic), 6. Forced marriage, 11. Killing of family member/loved one","1","0","0","0","0","1","0","0","0","0","1","0","0","0","0","0","0","0",null,2,1,4,2,{"$f":"IF(ISNUMBER(SEARCH(\"1\",#REF!)),\"1\",\"0\")","v":"0"},0,{"$f":"IF(ISNUMBER(SEARCH(\"3\",#REF!)),\"1\",\"0\")","v":"0"},{"$f":"IF(ISNUMBER(SEARCH(\"4\",#REF!)),\"1\",\"0\")","v":"0"},{"$f":"IF(ISNUMBER(SEARCH(\"5\",#REF!)),\"1\",\"0\")","v":"0"},{"$f":"IF(ISNUMBER(SEARCH(\"6\",#REF!)),\"1\",\"0\")","v":"0"},{"$f":"IF(ISNUMBER(SEARCH(\"7\",#REF!)),\"1\",\"0\")","v":"0"},{"$f":"IF(ISNUMBER(SEARCH(\"8\",#REF!)),\"1\",\"0\")","v":"0"},{"$f":"IF(ISNUMBER(SEARCH(\"9\",#REF!)),\"1\",\"0\")","v":"0"},{"$f":"IF(ISNUMBER(SEARCH(\"9\",#REF!)),\"1\",\"0\")","v":"0"},{"$f":"IF(ISNUMBER(SEARCH(\"10\",#REF!)),\"1\",\"0\")","v":"0"},{"$f":"IF(ISNUMBER(SEARCH(\"11\",#REF!)),\"1\",\"0\")","v":"0"},{"$f":"IF(ISNUMBER(SEARCH(\"12\",#REF!)),\"1\",\"0\")","v":"0"},{"$f":"IF(ISNUMBER(SEARCH(\"13\",#REF!)),\"1\",\"0\")","v":"0"},{"$f":"IF(ISNUMBER(SEARCH(\"14\",#REF!)),\"1\",\"0\")","v":"0"},{"$f":"IF(ISNUMBER(SEARCH(\"15\",#REF!)),\"1\",\"0\")","v":"0"},{"$f":"IF(ISNUMBER(SEARCH(\"16\",#REF!)),\"1\",\"0\")","v":"0"},{"$f":"IF(ISNUMBER(SEARCH(\"17\",#REF!)),\"1\",\"0\")","v":"0"},{"$nulls":9},59,{"$nulls":4},16,null,null,12,{"$f":"#REF!-#REF!","v":{"$error":"#REF!"}},{"$f":"#REF!-#REF!","v":{"$error":"#REF!"}}]
[4,42,425,1,2,35,1983,4,3,2,6,5,2,"2. Witness of violence (physical, threats, killings/death, torture, ill treatment, sexual, family/domestic), 11. Killing of family member/loved one","1","1","0","0","0","0","0","0","0","0","1","0","0","0","0","0","0","0",null,1,1,4,2,{"$f":"IF(ISNUMBER(SEARCH(\"1\",#REF!)),\"1\",\"0\")","v":"0"},{"$f":"IF(ISNUMBER(SEARCH(\"2\",#REF!)),\"1\",\"0\")","v":"0"},{"$f":"IF(ISNUMBER(SEARCH(\"3\",#REF!)),\"1\",\"0\")","v":"0"},{"$f":"IF(ISNUMBER(SEARCH(\"4\",#REF!)),\"1\",\"0\")","v":"0"},{"$f":"IF(ISNUMBER(SEARCH(\"5\",#REF!)),\"1\",\"0\")","v":"0"},{"$f":"IF(ISNUMBER(SEARCH(\"6\",#REF!)),\"1\",\"0\")","v":"0"},{"$f":"IF(ISNUMBER(SEARCH(\"7\",#REF!)),\"1\",\"0\")","v":"0"},{"$f":"IF(ISNUMBER(SEARCH(\"8\",#REF!)),\"1\",\"0\")","v":"0"},{"$f":"IF(ISNUMBER(SEARCH(\"9\",#REF!)),\"1\",\"0\")","v":"0"},{"$f":"IF(ISNUMBER(SEARCH(\"9\",#REF!)),\"1\",\"0\")","v":"0"},{"$f":"IF(ISNUMBER(SEARCH(\"10\",#REF!)),\"1\",\"0\")","v":"0"},{"$f":"IF(ISNUMBER(SEARCH(\"11\",#REF!)),\"1\",\"0\")","v":"0"},{"$f":"IF(ISNUMBER(SEARCH(\"12\",#REF!)),\"1\",\"0\")","v":"0"},{"$f":"IF(ISNUMBER(SEARCH(\"13\",#REF!)),\"1\",\"0\")","v":"0"},{"$f":"IF(ISNUMBER(SEARCH(\"14\",#REF!)),\"1\",\"0\")","v":"0"},{"$f":"IF(ISNUMBER(SEARCH(\"15\",#REF!)),\"1\",\"0\")","v":"0"},{"$f":"IF(ISNUMBER(SEARCH(\"16\",#REF!)),\"1\",\"0\")","v":"0"},{"$f":"IF(ISNUMBER(SEARCH(\"17\",#REF!)),\"1\",\"0\")","v":"0"},{"$nulls":9},61,{"$nulls":4},44,null,null,12,{"$f":"#REF!-#REF!","v":{"$error":"#REF!"}},{"$f":"#REF!-#REF!","v":{"$error":"#REF!"}}]
[4,42,425,7,2,33,1985,1,2,2,7,5,2,"2. Witness of violence (physical, threats, killings/death, torture, ill treatment, sexual, family/domestic)","0","1","0","0","0","0","0","0","0","0","0","0","0","0","0","0","0","0",null,1,1,5,2,{"$f":"IF(ISNUMBER(SEARCH(\"1\",#REF!)),\"1\",\"0\")","v":"0"},{"$f":"IF(ISNUMBER(SEARCH(\"2\",#REF!)),\"1\",\"0\")","v":"0"},{"$f":"IF(ISNUMBER(SEARCH(\"3\",#REF!)),\"1\",\"0\")","v":"0"},{"$f":"IF(ISNUMBER(SEARCH(\"4\",#REF!)),\"1\",\"0\")","v":"0"},{"$f":"IF(ISNUMBER(SEARCH(\"5\",#REF!)),\"1\",\"0\")","v":"0"},{"$f":"IF(ISNUMBER(SEARCH(\"6\",#REF!)),\"1\",\"0\")","v":"0"},{"$f":"IF(ISNUMBER(SEARCH(\"7\",#REF!)),\"1\",\"0\")","v":"0"},{"$f":"IF(ISNUMBER(SEARCH(\"8\",#REF!)),\"1\",\"0\")","v":"0"},{"$f":"IF(ISNUMBER(SEARCH(\"9\",#REF!)),\"1\",\"0\")","v":"0"},{"$f":"IF(ISNUMBER(SEARCH(\"9\",#REF!)),\"1\",\"0\")","v":"0"},{"$f":"IF(ISNUMBER(SEARCH(\"10\",#REF!)),\"1\",\"0\")","v":"0"},{"$f":"IF(ISNUMBER(SEARCH(\"11\",#REF!)),\"1\",\"0\")","v":"0"},{"$f":"IF(ISNUMBER(SEARCH(\"12\",#REF!)),\"1\",\"0\")","v":"0"},{"$f":"IF(ISNUMBER(SEARCH(\"13\",#REF!)),\"1\",\"0\")","v":"0"},{"$f":"IF(ISNUMBER(SEARCH(\"14\",#REF!)),\"1\",\"0\")","v":"0"},{"$f":"IF(ISNUMBER(SEARCH(\"15\",#REF!)),\"1\",\"0\")","v":"0"},{"$f":"IF(ISNUMBER(SEARCH(\"16\",#REF!)),\"1\",\"0\")","v":"0"},{"$f":"IF(ISNUMBER(SEARCH(\"17\",#REF!)),\"1\",\"0\")","v":"0"},{"$nulls":9},64,{"$nulls":4},28,null,null,12,{"$f":"#REF!-#REF!","v":{"$error":"#REF!"}},{"$f":"#REF!-#REF!","v":{"$error":"#REF!"}}]
[4,42,425,1,2,33,1985,1,3,2,6,5,2,"2. Witness of violence (physical, threats, killings/death, torture, ill treatment, sexual, family/domestic), 6. Forced marriage, 10. Kidnapping/hostage (without sexual violence), 11. Killing of family member/loved one, 12. Disappearance of family member/loved one","1","1","0","0","0","1","0","0","0","1","1","1","0","0","0","0","0","0",null,2,1,4,2,{"$f":"IF(ISNUMBER(SEARCH(\"1\",#REF!)),\"1\",\"0\")","v":"0"},{"$f":"IF(ISNUMBER(SEARCH(\"2\",#REF!)),\"1\",\"0\")","v":"0"},{"$f":"IF(ISNUMBER(SEARCH(\"3\",#REF!)),\"1\",\"0\")","v":"0"},{"$f":"IF(ISNUMBER(SEARCH(\"4\",#REF!)),\"1\",\"0\")","v":"0"},{"$f":"IF(ISNUMBER(SEARCH(\"5\",#REF!)),\"1\",\"0\")","v":"0"},{"$f":"IF(ISNUMBER(SEARCH(\"6\",#REF!)),\"1\",\"0\")","v":"0"},{"$f":"IF(ISNUMBER(SEARCH(\"7\",#REF!)),\"1\",\"0\")","v":"0"},{"$f":"IF(ISNUMBER(SEARCH(\"8\",#REF!)),\"1\",\"0\")","v":"0"},{"$f":"IF(ISNUMBER(SEARCH(\"9\",#REF!)),\"1\",\"0\")","v":"0"},{"$f":"IF(ISNUMBER(SEARCH(\"9\",#REF!)),\"1\",\"0\")","v":"0"},{"$f":"IF(ISNUMBER(SEARCH(\"10\",#REF!)),\"1\",\"0\")","v":"0"},{"$f":"IF(ISNUMBER(SEARCH(\"11\",#REF!)),\"1\",\"0\")","v":"0"},{"$f":"IF(ISNUMBER(SEARCH(\"12\",#REF!)),\"1\",\"0\")","v":"0"},{"$f":"IF(ISNUMBER(SEARCH(\"13\",#REF!)),\"1\",\"0\")","v":"0"},{"$f":"IF(ISNUMBER(SEARCH(\"14\",#REF!)),\"1\",\"0\")","v":"0"},{"$f":"IF(ISNUMBER(SEARCH(\"15\",#REF!)),\"1\",\"0\")","v":"0"},{"$f":"IF(ISNUMBER(SEARCH(\"16\",#REF!)),\"1\",\"0\")","v":"0"},{"$f":"IF(ISNUMBER(SEARCH(\"17\",#REF!)),\"1\",\"0\")","v":"0"},{"$nulls":9},58,{"$nulls":4},15,null,null,12,{"$f":"#REF!-#REF!","v":{"$error":"#REF!"}},{"$f":"#REF!-#REF!","v":{"$error":"#REF!"}}]
[4,42,425,5,2,30,1988,2,1,2,5,5,2,"1. Victim of violence (physical, incl. torture, ill treatment; family/domestic), 11. Killing of family member/loved one, 12. Disappearance of family member/loved one","1","1","0","0","0","0","0","0","0","0","1","1","0","0","0","0","0","0",null,1,1,5,2,{"$f":"IF(ISNUMBER(SEARCH(\"1\",#REF!)),\"1\",\"0\")","v":"0"},{"$f":"IF(ISNUMBER(SEARCH(\"2\",#REF!)),\"1\",\"0\")","v":"0"},{"$f":"IF(ISNUMBER(SEARCH(\"3\",#REF!)),\"1\",\"0\")","v":"0"},{"$f":"IF(ISNUMBER(SEARCH(\"4\",#REF!)),\"1\",\"0\")","v":"0"},{"$f":"IF(ISNUMBER(SEARCH(\"5\",#REF!)),\"1\",\"0\")","v":"0"},{"$f":"IF(ISNUMBER(SEARCH(\"6\",#REF!)),\"1\",\"0\")","v":"0"},{"$f":"IF(ISNUMBER(SEARCH(\"7\",#REF!)),\"1\",\"0\")","v":"0"},{"$f":"IF(ISNUMBER(SEARCH(\"8\",#REF!)),\"1\",\"0\")","v":"0"},{"$f":"IF(ISNUMBER(SEARCH(\"9\",#REF!)),\"1\",\"0\")","v":"0"},{"$f":"IF(ISNUMBER(SEARCH(\"9\",#REF!)),\"1\",\"0\")","v":"0"},{"$f":"IF(ISNUMBER(SEARCH(\"10\",#REF!)),\"1\",\"0\")","v":"0"},{"$f":"IF(ISNUMBER(SEARCH(\"11\",#REF!)),\"1\",\"0\")","v":"0"},{"$f":"IF(ISNUMBER(SEARCH(\"12\",#REF!)),\"1\",\"0\")","v":"0"},{"$f":"IF(ISNUMBER(SEARCH(\"13\",#REF!)),\"1\",\"0\")","v":"0"},{"$f":"IF(ISNUMBER(SEARCH(\"14\",#REF!)),\"1\",\"0\")","v":"0"},{"$f":"IF(ISNUMBER(SEARCH(\"15\",#REF!)),\"1\",\"0\")","v":"0"},{"$f":"IF(ISNUMBER(SEARCH(\"16\",#REF!)),\"1\",\"0\")","v":"0"},{"$f":"IF(ISNUMBER(SEARCH(\"17\",#REF!)),\"1\",\"0\")","v":"0"},{"$nulls":9},56,{"$nulls":4},13,null,null,12,{"$f":"#REF!-#REF!","v":{"$error":"#REF!"}},{"$f":"#REF!-#REF!","v":{"$error":"#REF!"}}]
[4,42,425,12,2,26,1992,4,8,2,7,5,2,"2. Witness of violence (physical, threats, killings/death, torture, ill treatment, sexual, family/domestic), 15. Insults / received threats","1","1","0","0","1","0","0","0","0","0","0","0","0","0","1","0","0","0",null,2,1,5,2,{"$f":"IF(ISNUMBER(SEARCH(\"1\",#REF!)),\"1\",\"0\")","v":"0"},{"$f":"IF(ISNUMBER(SEARCH(\"2\",#REF!)),\"1\",\"0\")","v":"0"},{"$f":"IF(ISNUMBER(SEARCH(\"3\",#REF!)),\"1\",\"0\")","v":"0"},{"$f":"IF(ISNUMBER(SEARCH(\"4\",#REF!)),\"1\",\"0\")","v":"0"},{"$f":"IF(ISNUMBER(SEARCH(\"5\",#REF!)),\"1\",\"0\")","v":"0"},{"$f":"IF(ISNUMBER(SEARCH(\"6\",#REF!)),\"1\",\"0\")","v":"0"},{"$f":"IF(ISNUMBER(SEARCH(\"7\",#REF!)),\"1\",\"0\")","v":"0"},{"$f":"IF(ISNUMBER(SEARCH(\"8\",#REF!)),\"1\",\"0\")","v":"0"},{"$f":"IF(ISNUMBER(SEARCH(\"9\",#REF!)),\"1\",\"0\")","v":"0"},{"$f":"IF(ISNUMBER(SEARCH(\"9\",#REF!)),\"1\",\"0\")","v":"0"},{"$f":"IF(ISNUMBER(SEARCH(\"10\",#REF!)),\"1\",\"0\")","v":"0"},{"$f":"IF(ISNUMBER(SEARCH(\"11\",#REF!)),\"1\",\"0\")","v":"0"},{"$f":"IF(ISNUMBER(SEARCH(\"12\",#REF!)),\"1\",\"0\")","v":"0"},{"$f":"IF(ISNUMBER(SEARCH(\"13\",#REF!)),\"1\",\"0\")","v":"0"},{"$f":"IF(ISNUMBER(SEARCH(\"14\",#REF!)),\"1\",\"0\")","v":"0"},{"$f":"IF(ISNUMBER(SEARCH(\"15\",#REF!)),\"1\",\"0\")","v":"0"},{"$f":"IF(ISNUMBER(SEARCH(\"16\",#REF!)),\"1\",\"0\")","v":"0"},{"$f":"IF(ISNUMBER(SEARCH(\"17\",#REF!)),\"1\",\"0\")","v":"0"},{"$nulls":9},70,{"$nulls":4},30,null,null,12,{"$f":"#REF!-#REF!","v":{"$error":"#REF!"}},{"$f":"#REF!-#REF!","v":{"$error":"#REF!"}}]
[4,42,425,12,2,29,1989,2,8,2,5,5,2,"2. Witness of violence (physical, threats, killings/death, torture, ill treatment, sexual, family/domestic)","0","1","0","0","0","0","0","0","0","0","0","0","0","0","0","0","0","0",null,1,1,5,2,{"$f":"IF(ISNUMBER(SEARCH(\"1\",#REF!)),\"1\",\"0\")","v":"0"},{"$f":"IF(ISNUMBER(SEARCH(\"2\",#REF!)),\"1\",\"0\")","v":"0"},{"$f":"IF(ISNUMBER(SEARCH(\"3\",#REF!)),\"1\",\"0\")","v":"0"},{"$f":"IF(ISNUMBER(SEARCH(\"4\",#REF!)),\"1\",\"0\")","v":"0"},{"$f":"IF(ISNUMBER(SEARCH(\"5\",#REF!)),\"1\",\"0\")","v":"0"},{"$f":"IF(ISNUMBER(SEARCH(\"6\",#REF!)),\"1\",\"0\")","v":"0"},{"$f":"IF(ISNUMBER(SEARCH(\"7\",#REF!)),\"1\",\"0\")","v":"0"},{"$f":"IF(ISNUMBER(SEARCH(\"8\",#REF!)),\"1\",\"0\")","v":"0"},{"$f":"IF(ISNUMBER(SEARCH(\"9\",#REF!)),\"1\",\"0\")","v":"0"},{"$f":"IF(ISNUMBER(SEARCH(\"9\",#REF!)),\"1\",\"0\")","v":"0"},{"$f":"IF(ISNUMBER(SEARCH(\"10\",#REF!)),\"1\",\"0\")","v":"0"},{"$f":"IF(ISNUMBER(SEARCH(\"11\",#REF!)),\"1\",\"0\")","v":"0"},{"$f":"IF(ISNUMBER(SEARCH(\"12\",#REF!)),\"1\",\"0\")","v":"0"},{"$f":"IF(ISNUMBER(SEARCH(\"13\",#REF!)),\"1\",\"0\")","v":"0"},{"$f":"IF(ISNUMBER(SEARCH(\"14\",#REF!)),\"1\",\"0\")","v":"0"},{"$f":"IF(ISNUMBER(SEARCH(\"15\",#REF!)),\"1\",\"0\")","v":"0"},{"$f":"IF(ISNUMBER(SEARCH(\"16\",#REF!)),\"1\",\"0\")","v":"0"},{"$f":"IF(ISNUMBER(SEARCH(\"17\",#REF!)),\"1\",\"0\")","v":"0"},{"$nulls":9},65,{"$nulls":4},34,null,null,12,null,{"$f":"#REF!-#REF!","v":{"$error":"#REF!"}}]
[4,42,425,2,2,31,1987,1,8,2,7,5,2,"1. Victim of violence (physical, incl. torture, ill treatment; family/domestic), 2. Witness of violence (physical, threats, killings/death, torture, ill treatment, sexual, family/domestic), 11. Killing of family member/loved one, 12. Disappearance of family member/loved one, 14. Victim of/experienced torture/ill-treatment","1","1","0","1","0","0","0","0","0","0","1","1","0","1","0","0","0","0",null,1,1,5,2,{"$f":"IF(ISNUMBER(SEARCH(\"1\",#REF!)),\"1\",\"0\")","v":"0"},{"$f":"IF(ISNUMBER(SEARCH(\"2\",#REF!)),\"1\",\"0\")","v":"0"},{"$f":"IF(ISNUMBER(SEARCH(\"3\",#REF!)),\"1\",\"0\")","v":"0"},{"$f":"IF(ISNUMBER(SEARCH(\"4\",#REF!)),\"1\",\"0\")","v":"0"},{"$f":"IF(ISNUMBER(SEARCH(\"5\",#REF!)),\"1\",\"0\")","v":"0"},{"$f":"IF(ISNUMBER(SEARCH(\"6\",#REF!)),\"1\",\"0\")","v":"0"},{"$f":"IF(ISNUMBER(SEARCH(\"7\",#REF!)),\"1\",\"0\")","v":"0"},{"$f":"IF(ISNUMBER(SEARCH(\"8\",#REF!)),\"1\",\"0\")","v":"0"},{"$f":"IF(ISNUMBER(SEARCH(\"9\",#REF!)),\"1\",\"0\")","v":"0"},{"$f":"IF(ISNUMBER(SEARCH(\"9\",#REF!)),\"1\",\"0\")","v":"0"},{"$f":"IF(ISNUMBER(SEARCH(\"10\",#REF!)),\"1\",\"0\")","v":"0"},{"$f":"IF(ISNUMBER(SEARCH(\"11\",#REF!)),\"1\",\"0\")","v":"0"},{"$f":"IF(ISNUMBER(SEARCH(\"12\",#REF!)),\"1\",\"0\")","v":"0"},{"$f":"IF(ISNUMBER(SEARCH(\"13\",#REF!)),\"1\",\"0\")","v":"0"},{"$f":"IF(ISNUMBER(SEARCH(\"14\",#REF!)),\"1\",\"0\")","v":"0"},{"$f":"IF(ISNUMBER(SEARCH(\"15\",#REF!)),\"1\",\"0\")","v":"0"},{"$f":"IF(ISNUMBER(SEARCH(\"16\",#REF!)),\"1\",\"0\")","v":"0"},{"$f":"IF(ISNUMBER(SEARCH(\"17\",#REF!)),\"1\",\"0\")","v":"0"},{"$nulls":9},62,{"$nulls":4},27,null,null,12,{"$f":"#REF!-#REF!","v":{"$error":"#REF!"}},{"$f":"#REF!-#REF!","v":{"$error":"#REF!"}}]
[4,42,425,1,1,27,1991,1,3,2,2,5,2,"2. Witness of violence (physical, threats, killings/death, torture, ill treatment, sexual, family/domestic), 11. Killing of family member/loved one","1","1","0","0","0","0","0","0","0","0","1","0","0","0","0","0","0","0",null,1,3,5,2,{"$f":"IF(ISNUMBER(SEARCH(\"1\",#REF!)),\"1\",\"0\")","v":"0"},{"$f":"IF(ISNUMBER(SEARCH(\"2\",#REF!)),\"1\",\"0\")","v":"0"},{"$f":"IF(ISNUMBER(SEARCH(\"3\",#REF!)),\"1\",\"0\")","v":"0"},{"$f":"IF(ISNUMBER(SEARCH(\"4\",#REF!)),\"1\",\"0\")","v":"0"},{"$f":"IF(ISNUMBER(SEARCH(\"5\",#REF!)),\"1\",\"0\")","v":"0"},{"$f":"IF(ISNUMBER(SEARCH(\"6\",#REF!)),\"1\",\"0\")","v":"0"},{"$f":"IF(ISNUMBER(SEARCH(\"7\",#REF!)),\"1\",\"0\")","v":"0"},{"$f":"IF(ISNUMBER(SEARCH(\"8\",#REF!)),\"1\",\"0\")","v":"0"},{"$f":"IF(ISNUMBER(SEARCH(\"9\",#REF!)),\"1\",\"0\")","v":"0"},{"$f":"IF(ISNUMBER(SEARCH(\"9\",#REF!)),\"1\",\"0\")","v":"0"},{"$f":"IF(ISNUMBER(SEARCH(\"10\",#REF!)),\"1\",\"0\")","v":"0"},{"$f":"IF(ISNUMBER(SEARCH(\"11\",#REF!)),\"1\",\"0\")","v":"0"},{"$f":"IF(ISNUMBER(SEARCH(\"12\",#REF!)),\"1\",\"0\")","v":"0"},{"$f":"IF(ISNUMBER(SEARCH(\"13\",#REF!)),\"1\",\"0\")","v":"0"},{"$f":"IF(ISNUMBER(SEARCH(\"14\",#REF!)),\"1\",\"0\")","v":"0"},{"$f":"IF(ISNUMBER(SEARCH(\"15\",#REF!)),\"1\",\"0\")","v":"0"},{"$f":"IF(ISNUMBER(SEARCH(\"16\",#REF!)),\"1\",\"0\")","v":"0"},{"$f":"IF(ISNUMBER(SEARCH(\"17\",#REF!)),\"1\",\"0\")","v":"0"},{"$nulls":9},56,{"$nulls":4},12,null,null,12,{"$f":"#REF!-#REF!","v":{"$error":"#REF!"}},{"$f":"#REF!-#REF!","v":{"$error":"#REF!"}}]
[4,42,425,11,1,29,1989,4,7,2,1,5,2,"2. Witness of violence (physical, threats, killings/death, torture, ill treatment, sexual, family/domestic), 12. Disappearance of family member/loved one","1","1","0","0","0","0","0","0","0","0","0","1","0","0","0","0","0","0",null,1,1,5,2,{"$f":"IF(ISNUMBER(SEARCH(\"1\",#REF!)),\"1\",\"0\")","v":"0"},{"$f":"IF(ISNUMBER(SEARCH(\"2\",#REF!)),\"1\",\"0\")","v":"0"},{"$f":"IF(ISNUMBER(SEARCH(\"3\",#REF!)),\"1\",\"0\")","v":"0"},{"$f":"IF(ISNUMBER(SEARCH(\"4\",#REF!)),\"1\",\"0\")","v":"0"},{"$f":"IF(ISNUMBER(SEARCH(\"5\",#REF!)),\"1\",\"0\")","v":"0"},{"$f":"IF(ISNUMBER(SEARCH(\"6\",#REF!)),\"1\",\"0\")","v":"0"},{"$f":"IF(ISNUMBER(SEARCH(\"7\",#REF!)),\"1\",\"0\")","v":"0"},{"$f":"IF(ISNUMBER(SEARCH(\"8\",#REF!)),\"1\",\"0\")","v":"0"},{"$f":"IF(ISNUMBER(SEARCH(\"9\",#REF!)),\"1\",\"0\")","v":"0"},{"$f":"IF(ISNUMBER(SEARCH(\"9\",#REF!)),\"1\",\"0\")","v":"0"},{"$f":"IF(ISNUMBER(SEARCH(\"10\",#REF!)),\"1\",\"0\")","v":"0"},{"$f":"IF(ISNUMBER(SEARCH(\"11\",#REF!)),\"1\",\"0\")","v":"0"},{"$f":"IF(ISNUMBER(SEARCH(\"12\",#REF!)),\"1\",\"0\")","v":"0"},{"$f":"IF(ISNUMBER(SEARCH(\"13\",#REF!)),\"1\",\"0\")","v":"0"},{"$f":"IF(ISNUMBER(SEARCH(\"14\",#REF!)),\"1\",\"0\")","v":"0"},{"$f":"IF(ISNUMBER(SEARCH(\"15\",#REF!)),\"1\",\"0\")","v":"0"},{"$f":"IF(ISNUMBER(SEARCH(\"16\",#REF!)),\"1\",\"0\")","v":"0"},{"$f":"IF(ISNUMBER(SEARCH(\"17\",#REF!)),\"1\",\"0\")","v":"0"},{"$nulls":9},64,{"$nulls":4},22,null,null,12,{"$f":"#REF!-#REF!","v":{"$error":"#REF!"}},{"$f":"#REF!-#REF!","v":{"$error":"#REF!"}}]
[4,42,425,9,1,28,1990,4,7,2,1,5,2,"2. Witness of violence (physical, threats, killings/death, torture, ill treatment, sexual, family/domestic), 11. Killing of family member/loved one","1","1","0","0","0","0","0","0","0","0","1","0","0","0","0","0","0","0",null,1,1,4,2,{"$f":"IF(ISNUMBER(SEARCH(\"1\",#REF!)),\"1\",\"0\")","v":"0"},{"$f":"IF(ISNUMBER(SEARCH(\"2\",#REF!)),\"1\",\"0\")","v":"0"},{"$f":"IF(ISNUMBER(SEARCH(\"3\",#REF!)),\"1\",\"0\")","v":"0"},{"$f":"IF(ISNUMBER(SEARCH(\"4\",#REF!)),\"1\",\"0\")","v":"0"},{"$f":"IF(ISNUMBER(SEARCH(\"5\",#REF!)),\"1\",\"0\")","v":"0"},{"$f":"IF(ISNUMBER(SEARCH(\"6\",#REF!)),\"1\",\"0\")","v":"0"},{"$f":"IF(ISNUMBER(SEARCH(\"7\",#REF!)),\"1\",\"0\")","v":"0"},{"$f":"IF(ISNUMBER(SEARCH(\"8\",#REF!)),\"1\",\"0\")","v":"0"},{"$f":"IF(ISNUMBER(SEARCH(\"9\",#REF!)),\"1\",\"0\")","v":"0"},{"$f":"IF(ISNUMBER(SEARCH(\"9\",#REF!)),\"1\",\"0\")","v":"0"},{"$f":"IF(ISNUMBER(SEARCH(\"10\",#REF!)),\"1\",\"0\")","v":"0"},{"$f":"IF(ISNUMBER(SEARCH(\"11\",#REF!)),\"1\",\"0\")","v":"0"},{"$f":"IF(ISNUMBER(SEARCH(\"12\",#REF!)),\"1\",\"0\")","v":"0"},{"$f":"IF(ISNUMBER(SEARCH(\"13\",#REF!)),\"1\",\"0\")","v":"0"},{"$f":"IF(ISNUMBER(SEARCH(\"14\",#REF!)),\"1\",\"0\")","v":"0"},{"$f":"IF(ISNUMBER(SEARCH(\"15\",#REF!)),\"1\",\"0\")","v":"0"},{"$f":"IF(ISNUMBER(SEARCH(\"16\",#REF!)),\"1\",\"0\")","v":"0"},{"$f":"IF(ISNUMBER(SEARCH(\"17\",#REF!)),\"1\",\"0\")","v":"0"},{"$nulls":9},52,{"$nulls":4},23,null,null,12,{"$f":"#REF!-#REF!","v":{"$error":"#REF!"}},{"$f":"#REF!-#REF!","v":{"$error":"#REF!"}}]
[4,42,425,9,1,30,1988,1,3,2,1,5,2,"1. Victim of violence (physical, incl. torture, ill treatment; family/domestic)","1","0","0","0","0","0","0","0","0","0","0","0","0","0","0","0","0","0",null,1,1,5,2,{"$f":"IF(ISNUMBER(SEARCH(\"1\",#REF!)),\"1\",\"0\")","v":"0"},{"$f":"IF(ISNUMBER(SEARCH(\"2\",#REF!)),\"1\",\"0\")","v":"0"},{"$f":"IF(ISNUMBER(SEARCH(\"3\",#REF!)),\"1\",\"0\")","v":"0"},{"$f":"IF(ISNUMBER(SEARCH(\"4\",#REF!)),\"1\",\"0\")","v":"0"},{"$f":"IF(ISNUMBER(SEARCH(\"5\",#REF!)),\"1\",\"0\")","v":"0"},{"$f":"IF(ISNUMBER(SEARCH(\"6\",#REF!)),\"1\",\"0\")","v":"0"},{"$f":"IF(ISNUMBER(SEARCH(\"7\",#REF!)),\"1\",\"0\")","v":"0"},{"$f":"IF(ISNUMBER(SEARCH(\"8\",#REF!)),\"1\",\"0\")","v":"0"},{"$f":"IF(ISNUMBER(SEARCH(\"9\",#REF!)),\"1\",\"0\")","v":"0"},{"$f":"IF(ISNUMBER(SEARCH(\"9\",#REF!)),\"1\",\"0\")","v":"0"},{"$f":"IF(ISNUMBER(SEARCH(\"10\",#REF!)),\"1\",\"0\")","v":"0"},{"$f":"IF(ISNUMBER(SEARCH(\"11\",#REF!)),\"1\",\"0\")","v":"0"},{"$f":"IF(ISNUMBER(SEARCH(\"12\",#REF!)),\"1\",\"0\")","v":"0"},{"$f":"IF(ISNUMBER(SEARCH(\"13\",#REF!)),\"1\",\"0\")","v":"0"},{"$f":"IF(ISNUMBER(SEARCH(\"14\",#REF!)),\"1\",\"0\")","v":"0"},{"$f":"IF(ISNUMBER(SEARCH(\"15\",#REF!)),\"1\",\"0\")","v":"0"},{"$f":"IF(ISNUMBER(SEARCH(\"16\",#REF!)),\"1\",\"0\")","v":"0"},{"$f":"IF(ISNUMBER(SEARCH(\"17\",#REF!)),\"1\",\"0\")","v":"0"},{"$nulls":9},64,{"$nulls":4},25,null,null,12,{"$f":"#REF!-#REF!","v":{"$error":"#REF!"}},{"$f":"#REF!-#REF!","v":{"$error":"#REF!"}}]
[4,42,425,6,1,30,1988,4,7,2,3,5,2,"11. Killing of family member/loved one, 12. Disappearance of family member/loved one","1","1","0","0","0","0","0","0","0","0","1","1","0","0","0","0","0","0",null,1,1,4,2,{"$f":"IF(ISNUMBER(SEARCH(\"1\",#REF!)),\"1\",\"0\")","v":"0"},{"$f":"IF(ISNUMBER(SEARCH(\"2\",#REF!)),\"1\",\"0\")","v":"0"},{"$f":"IF(ISNUMBER(SEARCH(\"3\",#REF!)),\"1\",\"0\")","v":"0"},{"$f":"IF(ISNUMBER(SEARCH(\"4\",#REF!)),\"1\",\"0\")","v":"0"},{"$f":"IF(ISNUMBER(SEARCH(\"5\",#REF!)),\"1\",\"0\")","v":"0"},{"$f":"IF(ISNUMBER(SEARCH(\"6\",#REF!)),\"1\",\"0\")","v":"0"},{"$f":"IF(ISNUMBER(SEARCH(\"7\",#REF!)),\"1\",\"0\")","v":"0"},{"$f":"IF(ISNUMBER(SEARCH(\"8\",#REF!)),\"1\",\"0\")","v":"0"},{"$f":"IF(ISNUMBER(SEARCH(\"9\",#REF!)),\"1\",\"0\")","v":"0"},{"$f":"IF(ISNUMBER(SEARCH(\"9\",#REF!)),\"1\",\"0\")","v":"0"},{"$f":"IF(ISNUMBER(SEARCH(\"10\",#REF!)),\"1\",\"0\")","v":"0"},{"$f":"IF(ISNUMBER(SEARCH(\"11\",#REF!)),\"1\",\"0\")","v":"0"},{"$f":"IF(ISNUMBER(SEARCH(\"12\",#REF!)),\"1\",\"0\")","v":"0"},{"$f":"IF(ISNUMBER(SEARCH(\"13\",#REF!)),\"1\",\"0\")","v":"0"},{"$f":"IF(ISNUMBER(SEARCH(\"14\",#REF!)),\"1\",\"0\")","v":"0"},{"$f":"IF(ISNUMBER(SEARCH(\"15\",#REF!)),\"1\",\"0\")","v":"0"},{"$f":"IF(ISNUMBER(SEARCH(\"16\",#REF!)),\"1\",\"0\")","v":"0"},{"$f":"IF(ISNUMBER(SEARCH(\"17\",#REF!)),\"1\",\"0\")","v":"0"},{"$nulls":9},48,{"$nulls":4},14,null,null,12,{"$f":"#REF!-#REF!","v":{"$error":"#REF!"}},{"$f":"#REF!-#REF!","v":{"$error":"#REF!"}}]
[4,42,425,7,1,30,1988,2,8,2,2,5,2,"2. Witness of violence (physical, threats, killings/death, torture, ill treatment, sexual, family/domestic)","0","1","0","0","0","0","0","0","0","0","0","0","0","0","0","0","0","0",null,1,1,4,2,{"$f":"IF(ISNUMBER(SEARCH(\"1\",#REF!)),\"1\",\"0\")","v":"0"},{"$f":"IF(ISNUMBER(SEARCH(\"2\",#REF!)),\"1\",\"0\")","v":"0"},{"$f":"IF(ISNUMBER(SEARCH(\"3\",#REF!)),\"1\",\"0\")","v":"0"},{"$f":"IF(ISNUMBER(SEARCH(\"4\",#REF!)),\"1\",\"0\")","v":"0"},{"$f":"IF(ISNUMBER(SEARCH(\"5\",#REF!)),\"1\",\"0\")","v":"0"},{"$f":"IF(ISNUMBER(SEARCH(\"6\",#REF!)),\"1\",\"0\")","v":"0"},{"$f":"IF(ISNUMBER(SEARCH(\"7\",#REF!)),\"1\",\"0\")","v":"0"},{"$f":"IF(ISNUMBER(SEARCH(\"8\",#REF!)),\"1\",\"0\")","v":"0"},{"$f":"IF(ISNUMBER(SEARCH(\"9\",#REF!)),\"1\",\"0\")","v":"0"},{"$f":"IF(ISNUMBER(SEARCH(\"9\",#REF!)),\"1\",\"0\")","v":"0"},{"$f":"IF(ISNUMBER(SEARCH(\"10\",#REF!)),\"1\",\"0\")","v":"0"},{"$f":"IF(ISNUMBER(SEARCH(\"11\",#REF!)),\"1\",\"0\")","v":"0"},{"$f":"IF(ISNUMBER(SEARCH(\"12\",#REF!)),\"1\",\"0\")","v":"0"},{"$f":"IF(ISNUMBER(SEARCH(\"13\",#REF!)),\"1\",\"0\")","v":"0"},{"$f":"IF(ISNUMBER(SEARCH(\"14\",#REF!)),\"1\",\"0\")","v":"0"},{"$f":"IF(ISNUMBER(SEARCH(\"15\",#REF!)),\"1\",\"0\")","v":"0"},{"$f":"IF(ISNUMBER(SEARCH(\"16\",#REF!)),\"1\",\"0\")","v":"0"},{"$f":"IF(ISNUMBER(SEARCH(\"17\",#REF!)),\"1\",\"0\")","v":"0"},{"$nulls":9},53,{"$nulls":4},34,null,null,12,{"$f":"#REF!-#REF!","v":{"$error":"#REF!"}},{"$f":"#REF!-#REF!","v":{"$error":"#REF!"}}]
[4,42,425,11,1,27,1991,3,7,2,4,5,2,"1. Victim of violence (physical, incl. torture, ill treatment; family/domestic), 2. Witness of violence (physical, threats, killings/death, torture, ill treatment, sexual, family/domestic)","1","1","0","0","0","0","0","0","0","0","0","0","0","0","0","0","0","0",null,2,1,5,2,{"$f":"IF(ISNUMBER(SEARCH(\"1\",#REF!)),\"1\",\"0\")","v":"0"},{"$f":"IF(ISNUMBER(SEARCH(\"2\",#REF!)),\"1\",\"0\")","v":"0"},{"$f":"IF(ISNUMBER(SEARCH(\"3\",#REF!)),\"1\",\"0\")","v":"0"},{"$f":"IF(ISNUMBER(SEARCH(\"4\",#REF!)),\"1\",\"0\")","v":"0"},{"$f":"IF(ISNUMBER(SEARCH(\"5\",#REF!)),\"1\",\"0\")","v":"0"},{"$f":"IF(ISNUMBER(SEARCH(\"6\",#REF!)),\"1\",\"0\")","v":"0"},{"$f":"IF(ISNUMBER(SEARCH(\"7\",#REF!)),\"1\",\"0\")","v":"0"},{"$f":"IF(ISNUMBER(SEARCH(\"8\",#REF!)),\"1\",\"0\")","v":"0"},{"$f":"IF(ISNUMBER(SEARCH(\"9\",#REF!)),\"1\",\"0\")","v":"0"},{"$f":"IF(ISNUMBER(SEARCH(\"9\",#REF!)),\"1\",\"0\")","v":"0"},{"$f":"IF(ISNUMBER(SEARCH(\"10\",#REF!)),\"1\",\"0\")","v":"0"},{"$f":"IF(ISNUMBER(SEARCH(\"11\",#REF!)),\"1\",\"0\")","v":"0"},{"$f":"IF(ISNUMBER(SEARCH(\"12\",#REF!)),\"1\",\"0\")","v":"0"},{"$f":"IF(ISNUMBER(SEARCH(\"13\",#REF!)),\"1\",\"0\")","v":"0"},{"$f":"IF(ISNUMBER(SEARCH(\"14\",#REF!)),\"1\",\"0\")","v":"0"},{"$f":"IF(ISNUMBER(SEARCH(\"15\",#REF!)),\"1\",\"0\")","v":"0"},{"$f":"IF(ISNUMBER(SEARCH(\"16\",#REF!)),\"1\",\"0\")","v":"0"},{"$f":"IF(ISNUMBER(SEARCH(\"17\",#REF!)),\"1\",\"0\")","v":"0"},{"$nulls":9},69,{"$nulls":4},29,null,null,12,{"$f":"#REF!-#REF!","v":{"$error":"#REF!"}},{"$f":"#REF!-#REF!","v":{"$error":"#REF!"}}]
[4,42,425,5,1,28,1990,4,7,2,4,5,2,"1. Victim of violence (physical, incl. torture, ill treatment; family/domestic), 11. Killing of family member/loved one","1","0","0","0","0","0","0","0","0","0","1","0","0","0","0","0","0","0",null,1,2,5,2,{"$f":"IF(ISNUMBER(SEARCH(\"1\",#REF!)),\"1\",\"0\")","v":"0"},{"$f":"IF(ISNUMBER(SEARCH(\"2\",#REF!)),\"1\",\"0\")","v":"0"},{"$f":"IF(ISNUMBER(SEARCH(\"3\",#REF!)),\"1\",\"0\")","v":"0"},{"$f":"IF(ISNUMBER(SEARCH(\"4\",#REF!)),\"1\",\"0\")","v":"0"},{"$f":"IF(ISNUMBER(SEARCH(\"5\",#REF!)),\"1\",\"0\")","v":"0"},{"$f":"IF(ISNUMBER(SEARCH(\"6\",#REF!)),\"1\",\"0\")","v":"0"},{"$f":"IF(ISNUMBER(SEARCH(\"7\",#REF!)),\"1\",\"0\")","v":"0"},{"$f":"IF(ISNUMBER(SEARCH(\"8\",#REF!)),\"1\",\"0\")","v":"0"},{"$f":"IF(ISNUMBER(SEARCH(\"9\",#REF!)),\"1\",\"0\")","v":"0"},{"$f":"IF(ISNUMBER(SEARCH(\"9\",#REF!)),\"1\",\"0\")","v":"0"},{"$f":"IF(ISNUMBER(SEARCH(\"10\",#REF!)),\"1\",\"0\")","v":"0"},{"$f":"IF(ISNUMBER(SEARCH(\"11\",#REF!)),\"1\",\"0\")","v":"0"},{"$f":"IF(ISNUMBER(SEARCH(\"12\",#REF!)),\"1\",\"0\")","v":"0"},{"$f":"IF(ISNUMBER(SEARCH(\"13\",#REF!)),\"1\",\"0\")","v":"0"},{"$f":"IF(ISNUMBER(SEARCH(\"14\",#REF!)),\"1\",\"0\")","v":"0"},{"$f":"IF(ISNUMBER(SEARCH(\"15\",#REF!)),\"1\",\"0\")","v":"0"},{"$f":"IF(ISNUMBER(SEARCH(\"16\",#REF!)),\"1\",\"0\")","v":"0"},{"$f":"IF(ISNUMBER(SEARCH(\"17\",#REF!)),\"1\",\"0\")","v":"0"},{"$nulls":9},41,{"$nulls":4},0,null,null,12,{"$f":"#REF!-#REF!","v":{"$error":"#REF!"}}]
[4,42,425,7,1,30,1988,2,null,2,3,5,2,"2. Witness of violence (physical, threats, killings/death, torture, ill treatment, sexual, family/domestic)","0","1","0","0","0","0","0","0","0","0","0","0","0","0","0","0","0","0",null,1,1,5,2,{"$f":"IF(ISNUMBER(SEARCH(\"1\",#REF!)),\"1\",\"0\")","v":"0"},0,{"$f":"IF(ISNUMBER(SEARCH(\"3\",#REF!)),\"1\",\"0\")","v":"0"},{"$f":"IF(ISNUMBER(SEARCH(\"4\",#REF!)),\"1\",\"0\")","v":"0"},{"$f":"IF(ISNUMBER(SEARCH(\"5\",#REF!)),\"1\",\"0\")","v":"0"},{"$f":"IF(ISNUMBER(SEARCH(\"6\",#REF!)),\"1\",\"0\")","v":"0"},{"$f":"IF(ISNUMBER(SEARCH(\"7\",#REF!)),\"1\",\"0\")","v":"0"},{"$f":"IF(ISNUMBER(SEARCH(\"8\",#REF!)),\"1\",\"0\")","v":"0"},{"$f":"IF(ISNUMBER(SEARCH(\"9\",#REF!)),\"1\",\"0\")","v":"0"},{"$f":"IF(ISNUMBER(SEARCH(\"9\",#REF!)),\"1\",\"0\")","v":"0"},{"$f":"IF(ISNUMBER(SEARCH(\"10\",#REF!)),\"1\",\"0\")","v":"0"},{"$f":"IF(ISNUMBER(SEARCH(\"11\",#REF!)),\"1\",\"0\")","v":"0"},{"$f":"IF(ISNUMBER(SEARCH(\"12\",#REF!)),\"1\",\"0\")","v":"0"},{"$f":"IF(ISNUMBER(SEARCH(\"13\",#REF!)),\"1\",\"0\")","v":"0"},{"$f":"IF(ISNUMBER(SEARCH(\"14\",#REF!)),\"1\",\"0\")","v":"0"},{"$f":"IF(ISNUMBER(SEARCH(\"15\",#REF!)),\"1\",\"0\")","v":"0"},{"$f":"IF(ISNUMBER(SEARCH(\"16\",#REF!)),\"1\",\"0\")","v":"0"},{"$f":"IF(ISNUMBER(SEARCH(\"17\",#REF!)),\"1\",\"0\")","v":"0"},{"$nulls":9},60,{"$nulls":4},7,null,null,12,{"$f":"#REF!-#REF!","v":{"$error":"#REF!"}},{"$f":"#REF!-#REF!","v":{"$error":"#REF!"}}]
[4,42,425,3,1,30,1988,3,2,2,2,5,2,"1. Victim of violence (physical, incl. torture, ill treatment; family/domestic), 2. Witness of violence (physical, threats, killings/death, torture, ill treatment, sexual, family/domestic), 10. Kidnapping/hostage (without sexual violence), 11. Killing of family member/loved one, 12. Disappearance of family member/loved one","1","1","0","0","0","0","0","0","0","1","1","1","0","0","0","0","0","0",null,1,2,5,2,{"$f":"IF(ISNUMBER(SEARCH(\"1\",#REF!)),\"1\",\"0\")","v":"0"},0,{"$f":"IF(ISNUMBER(SEARCH(\"3\",#REF!)),\"1\",\"0\")","v":"0"},{"$f":"IF(ISNUMBER(SEARCH(\"4\",#REF!)),\"1\",\"0\")","v":"0"},{"$f":"IF(ISNUMBER(SEARCH(\"5\",#REF!)),\"1\",\"0\")","v":"0"},{"$f":"IF(ISNUMBER(SEARCH(\"6\",#REF!)),\"1\",\"0\")","v":"0"},{"$f":"IF(ISNUMBER(SEARCH(\"7\",#REF!)),\"1\",\"0\")","v":"0"},{"$f":"IF(ISNUMBER(SEARCH(\"8\",#REF!)),\"1\",\"0\")","v":"0"},{"$f":"IF(ISNUMBER(SEARCH(\"9\",#REF!)),\"1\",\"0\")","v":"0"},{"$f":"IF(ISNUMBER(SEARCH(\"9\",#REF!)),\"1\",\"0\")","v":"0"},{"$f":"IF(ISNUMBER(SEARCH(\"10\",#REF!)),\"1\",\"0\")","v":"0"},{"$f":"IF(ISNUMBER(SEARCH(\"11\",#REF!)),\"1\",\"0\")","v":"0"},{"$f":"IF(ISNUMBER(SEARCH(\"12\",#REF!)),\"1\",\"0\")","v":"0"},{"$f":"IF(ISNUMBER(SEARCH(\"13\",#REF!)),\"1\",\"0\")","v":"0"},{"$f":"IF(ISNUMBER(SEARCH(\"14\",#REF!)),\"1\",\"0\")","v":"0"},{"$f":"IF(ISNUMBER(SEARCH(\"15\",#REF!)),\"1\",\"0\")","v":"0"},{"$f":"IF(ISNUMBER(SEARCH(\"16\",#REF!)),\"1\",\"0\")","v":"0"},{"$f":"IF(ISNUMBER(SEARCH(\"17\",#REF!)),\"1\",\"0\")","v":"0"},{"$nulls":9},55,{"$nulls":4},35,null,null,12,{"$f":"#REF!-#REF!","v":{"$error":"#REF!"}},{"$f":"#REF!-#REF!","v":{"$error":"#REF!"}}]
[4,42,425,3,1,30,1988,3,3,2,3,5,2,"2. Witness of violence (physical, threats, killings/death, torture, ill treatment, sexual, family/domestic)","0","1","0","0","0","0","0","0","0","0","0","0","0","0","0","0","0","0",null,1,2,4,2,{"$f":"IF(ISNUMBER(SEARCH(\"1\",#REF!)),\"1\",\"0\")","v":"0"},{"$f":"IF(ISNUMBER(SEARCH(\"2\",#REF!)),\"1\",\"0\")","v":"0"},{"$f":"IF(ISNUMBER(SEARCH(\"3\",#REF!)),\"1\",\"0\")","v":"0"},{"$f":"IF(ISNUMBER(SEARCH(\"4\",#REF!)),\"1\",\"0\")","v":"0"},{"$f":"IF(ISNUMBER(SEARCH(\"5\",#REF!)),\"1\",\"0\")","v":"0"},{"$f":"IF(ISNUMBER(SEARCH(\"6\",#REF!)),\"1\",\"0\")","v":"0"},{"$f":"IF(ISNUMBER(SEARCH(\"7\",#REF!)),\"1\",\"0\")","v":"0"},{"$f":"IF(ISNUMBER(SEARCH(\"8\",#REF!)),\"1\",\"0\")","v":"0"},{"$f":"IF(ISNUMBER(SEARCH(\"9\",#REF!)),\"1\",\"0\")","v":"0"},{"$f":"IF(ISNUMBER(SEARCH(\"9\",#REF!)),\"1\",\"0\")","v":"0"},{"$f":"IF(ISNUMBER(SEARCH(\"10\",#REF!)),\"1\",\"0\")","v":"0"},{"$f":"IF(ISNUMBER(SEARCH(\"11\",#REF!)),\"1\",\"0\")","v":"0"},{"$f":"IF(ISNUMBER(SEARCH(\"12\",#REF!)),\"1\",\"0\")","v":"0"},{"$f":"IF(ISNUMBER(SEARCH(\"13\",#REF!)),\"1\",\"0\")","v":"0"},{"$f":"IF(ISNUMBER(SEARCH(\"14\",#REF!)),\"1\",\"0\")","v":"0"},{"$f":"IF(ISNUMBER(SEARCH(\"15\",#REF!)),\"1\",\"0\")","v":"0"},{"$f":"IF(ISNUMBER(SEARCH(\"16\",#REF!)),\"1\",\"0\")","v":"0"},{"$f":"IF(ISNUMBER(SEARCH(\"17\",#REF!)),\"1\",\"0\")","v":"0"},{"$nulls":9},57,{"$nulls":4},17,null,null,12,{"$f":"#REF!-#REF!","v":{"$error":"#REF!"}},{"$f":"#REF!-#REF!","v":{"$error":"#REF!"}}]
[4,42,425,3,1,27,1991,3,2,2,1,5,2,"1. Victim of violence (physical, incl. torture, ill treatment; family/domestic), 2. Witness of violence (physical, threats, killings/death, torture, ill treatment, sexual, family/domestic), 10. Kidnapping/hostage (without sexual violence), 11. Killing of family member/loved one, 13. Forced recruitment (by armed groups)","1","1","1","0","0","0","0","0","0","1","1","0","1","0","0","0","0","0",null,1,2,5,2,{"$f":"IF(ISNUMBER(SEARCH(\"1\",#REF!)),\"1\",\"0\")","v":"0"},0,{"$f":"IF(ISNUMBER(SEARCH(\"3\",#REF!)),\"1\",\"0\")","v":"0"},{"$f":"IF(ISNUMBER(SEARCH(\"4\",#REF!)),\"1\",\"0\")","v":"0"},{"$f":"IF(ISNUMBER(SEARCH(\"5\",#REF!)),\"1\",\"0\")","v":"0"},{"$f":"IF(ISNUMBER(SEARCH(\"6\",#REF!)),\"1\",\"0\")","v":"0"},{"$f":"IF(ISNUMBER(SEARCH(\"7\",#REF!)),\"1\",\"0\")","v":"0"},{"$f":"IF(ISNUMBER(SEARCH(\"8\",#REF!)),\"1\",\"0\")","v":"0"},{"$f":"IF(ISNUMBER(SEARCH(\"9\",#REF!)),\"1\",\"0\")","v":"0"},{"$f":"IF(ISNUMBER(SEARCH(\"9\",#REF!)),\"1\",\"0\")","v":"0"},{"$f":"IF(ISNUMBER(SEARCH(\"10\",#REF!)),\"1\",\"0\")","v":"0"},{"$f":"IF(ISNUMBER(SEARCH(\"11\",#REF!)),\"1\",\"0\")","v":"0"},{"$f":"IF(ISNUMBER(SEARCH(\"12\",#REF!)),\"1\",\"0\")","v":"0"},{"$f":"IF(ISNUMBER(SEARCH(\"13\",#REF!)),\"1\",\"0\")","v":"0"},{"$f":"IF(ISNUMBER(SEARCH(\"14\",#REF!)),\"1\",\"0\")","v":"0"},{"$f":"IF(ISNUMBER(SEARCH(\"15\",#REF!)),\"1\",\"0\")","v":"0"},{"$f":"IF(ISNUMBER(SEARCH(\"16\",#REF!)),\"1\",\"0\")","v":"0"},{"$f":"IF(ISNUMBER(SEARCH(\"17\",#REF!)),\"1\",\"0\")","v":"0"},{"$nulls":9},60,{"$nulls":4},49,null,null,12,{"$f":"#REF!-#REF!","v":{"$error":"#REF!"}},{"$f":"#REF!-#REF!","v":{"$error":"#REF!"}}]
[4,42,425,3,1,48,{"$f":"2019-F6312","v":1971},4,3,2,1,5,2,"2. Witness of violence (physical, threats, killings/death, torture, ill treatment, sexual, family/domestic)","0","1","0","0","0","0","0","0","0","0","0","0","0","0","0","0","0","0",null,1,2,4,2,{"$f":"IF(ISNUMBER(SEARCH(\"1\",#REF!)),\"1\",\"0\")","v":"0"},{"$f":"IF(ISNUMBER(SEARCH(\"2\",#REF!)),\"1\",\"0\")","v":"0"},{"$f":"IF(ISNUMBER(SEARCH(\"3\",#REF!)),\"1\",\"0\")","v":"0"},{"$f":"IF(ISNUMBER(SEARCH(\"4\",#REF!)),\"1\",\"0\")","v":"0"},{"$f":"IF(ISNUMBER(SEARCH(\"5\",#REF!)),\"1\",\"0\")","v":"0"},{"$f":"IF(ISNUMBER(SEARCH(\"6\",#REF!)),\"1\",\"0\")","v":"0"},{"$f":"IF(ISNUMBER(SEARCH(\"7\",#REF!)),\"1\",\"0\")","v":"0"},{"$f":"IF(ISNUMBER(SEARCH(\"8\",#REF!)),\"1\",\"0\")","v":"0"},{"$f":"IF(ISNUMBER(SEARCH(\"9\",#REF!)),\"1\",\"0\")","v":"0"},{"$f":"IF(ISNUMBER(SEARCH(\"9\",#REF!)),\"1\",\"0\")","v":"0"},{"$f":"IF(ISNUMBER(SEARCH(\"10\",#REF!)),\"1\",\"0\")","v":"0"},{"$f":"IF(ISNUMBER(SEARCH(\"11\",#REF!)),\"1\",\"0\")","v":"0"},{"$f":"IF(ISNUMBER(SEARCH(\"12\",#REF!)),\"1\",\"0\")","v":"0"},{"$f":"IF(ISNUMBER(SEARCH(\"13\",#REF!)),\"1\",\"0\")","v":"0"},{"$f":"IF(ISNUMBER(SEARCH(\"14\",#REF!)),\"1\",\"0\")","v":"0"},{"$f":"IF(ISNUMBER(SEARCH(\"15\",#REF!)),\"1\",\"0\")","v":"0"},{"$f":"IF(ISNUMBER(SEARCH(\"16\",#REF!)),\"1\",\"0\")","v":"0"},{"$f":"IF(ISNUMBER(SEARCH(\"17\",#REF!)),\"1\",\"0\")","v":"0"},{"$nulls":9},45,{"$nulls":4},0,null,null,1,{"$f":"#REF!-#REF!","v":{"$error":"#REF!"}}]
[4,42,425,"07&08",1,64,{"$f":"2019-F6313","v":1955},1,3,2,5,5,2,"2. Witness of violence (physical, threats, killings/death, torture, ill treatment, sexual, family/domestic)","0","1","0","0","0","0","0","0","0","0","0","0","0","0","0","0","0","0",null,1,7,4,2,{"$f":"IF(ISNUMBER(SEARCH(\"1\",#REF!)),\"1\",\"0\")","v":"0"},{"$f":"IF(ISNUMBER(SEARCH(\"2\",#REF!)),\"1\",\"0\")","v":"0"},{"$f":"IF(ISNUMBER(SEARCH(\"3\",#REF!)),\"1\",\"0\")","v":"0"},{"$f":"IF(ISNUMBER(SEARCH(\"4\",#REF!)),\"1\",\"0\")","v":"0"},{"$f":"IF(ISNUMBER(SEARCH(\"5\",#REF!)),\"1\",\"0\")","v":"0"},{"$f":"IF(ISNUMBER(SEARCH(\"6\",#REF!)),\"1\",\"0\")","v":"0"},{"$f":"IF(ISNUMBER(SEARCH(\"7\",#REF!)),\"1\",\"0\")","v":"0"},{"$f":"IF(ISNUMBER(SEARCH(\"8\",#REF!)),\"1\",\"0\")","v":"0"},{"$f":"IF(ISNUMBER(SEARCH(\"9\",#REF!)),\"1\",\"0\")","v":"0"},{"$f":"IF(ISNUMBER(SEARCH(\"9\",#REF!)),\"1\",\"0\")","v":"0"},{"$f":"IF(ISNUMBER(SEARCH(\"10\",#REF!)),\"1\",\"0\")","v":"0"},{"$f":"IF(ISNUMBER(SEARCH(\"11\",#REF!)),\"1\",\"0\")","v":"0"},{"$f":"IF(ISNUMBER(SEARCH(\"12\",#REF!)),\"1\",\"0\")","v":"0"},{"$f":"IF(ISNUMBER(SEARCH(\"13\",#REF!)),\"1\",\"0\")","v":"0"},{"$f":"IF(ISNUMBER(SEARCH(\"14\",#REF!)),\"1\",\"0\")","v":"0"},{"$f":"IF(ISNUMBER(SEARCH(\"15\",#REF!)),\"1\",\"0\")","v":"0"},{"$f":"IF(ISNUMBER(SEARCH(\"16\",#REF!)),\"1\",\"0\")","v":"0"},{"$f":"IF(ISNUMBER(SEARCH(\"17\",#REF!)),\"1\",\"0\")","v":"0"},{"$nulls":9},28,{"$nulls":4},36,null,null,11,{"$f":"#REF!-#REF!","v":{"$error":"#REF!"}},{"$f":"#REF!-#REF!","v":{"$error":"#REF!"}}]
[4,42,425,3,1,65,1954,2,3,2,11,5,2,"2. Witness of violence (physical, threats, killings/death, torture, ill treatment, sexual, family/domestic)","0","1","0","0","0","0","0","0","0","0","0","0","0","0","0","0","0","0",null,1,3,4,2,{"$f":"IF(ISNUMBER(SEARCH(\"1\",#REF!)),\"1\",\"0\")","v":"0"},{"$f":"IF(ISNUMBER(SEARCH(\"2\",#REF!)),\"1\",\"0\")","v":"0"},{"$f":"IF(ISNUMBER(SEARCH(\"3\",#REF!)),\"1\",\"0\")","v":"0"},{"$f":"IF(ISNUMBER(SEARCH(\"4\",#REF!)),\"1\",\"0\")","v":"0"},{"$f":"IF(ISNUMBER(SEARCH(\"5\",#REF!)),\"1\",\"0\")","v":"0"},{"$f":"IF(ISNUMBER(SEARCH(\"6\",#REF!)),\"1\",\"0\")","v":"0"},{"$f":"IF(ISNUMBER(SEARCH(\"7\",#REF!)),\"1\",\"0\")","v":"0"},{"$f":"IF(ISNUMBER(SEARCH(\"8\",#REF!)),\"1\",\"0\")","v":"0"},{"$f":"IF(ISNUMBER(SEARCH(\"9\",#REF!)),\"1\",\"0\")","v":"0"},{"$f":"IF(ISNUMBER(SEARCH(\"9\",#REF!)),\"1\",\"0\")","v":"0"},{"$f":"IF(ISNUMBER(SEARCH(\"10\",#REF!)),\"1\",\"0\")","v":"0"},{"$f":"IF(ISNUMBER(SEARCH(\"11\",#REF!)),\"1\",\"0\")","v":"0"},{"$f":"IF(ISNUMBER(SEARCH(\"12\",#REF!)),\"1\",\"0\")","v":"0"},{"$f":"IF(ISNUMBER(SEARCH(\"13\",#REF!)),\"1\",\"0\")","v":"0"},{"$f":"IF(ISNUMBER(SEARCH(\"14\",#REF!)),\"1\",\"0\")","v":"0"},{"$f":"IF(ISNUMBER(SEARCH(\"15\",#REF!)),\"1\",\"0\")","v":"0"},{"$f":"IF(ISNUMBER(SEARCH(\"16\",#REF!)),\"1\",\"0\")","v":"0"},{"$f":"IF(ISNUMBER(SEARCH(\"17\",#REF!)),\"1\",\"0\")","v":"0"},{"$nulls":9},46,{"$nulls":4},0,null,null,1,{"$f":"#REF!-#REF!","v":{"$error":"#REF!"}}]
[4,42,425,"08&09",1,35,1984,3,8,2,3,5,2,"1. Victim of violence (physical, incl. torture, ill treatment; family/domestic), 2. Witness of violence (physical, threats, killings/death, torture, ill treatment, sexual, family/domestic), 11. Killing of family member/loved one","1","1","0","0","0","0","0","0","0","0","1","0","0","0","0","0","0","0",null,1,1,4,2,{"$f":"IF(ISNUMBER(SEARCH(\"1\",#REF!)),\"1\",\"0\")","v":"0"},{"$f":"IF(ISNUMBER(SEARCH(\"2\",#REF!)),\"1\",\"0\")","v":"0"},{"$f":"IF(ISNUMBER(SEARCH(\"3\",#REF!)),\"1\",\"0\")","v":"0"},{"$f":"IF(ISNUMBER(SEARCH(\"4\",#REF!)),\"1\",\"0\")","v":"0"},{"$f":"IF(ISNUMBER(SEARCH(\"5\",#REF!)),\"1\",\"0\")","v":"0"},{"$f":"IF(ISNUMBER(SEARCH(\"6\",#REF!)),\"1\",\"0\")","v":"0"},{"$f":"IF(ISNUMBER(SEARCH(\"7\",#REF!)),\"1\",\"0\")","v":"0"},{"$f":"IF(ISNUMBER(SEARCH(\"8\",#REF!)),\"1\",\"0\")","v":"0"},{"$f":"IF(ISNUMBER(SEARCH(\"9\",#REF!)),\"1\",\"0\")","v":"0"},{"$f":"IF(ISNUMBER(SEARCH(\"9\",#REF!)),\"1\",\"0\")","v":"0"},{"$f":"IF(ISNUMBER(SEARCH(\"10\",#REF!)),\"1\",\"0\")","v":"0"},{"$f":"IF(ISNUMBER(SEARCH(\"11\",#REF!)),\"1\",\"0\")","v":"0"},{"$f":"IF(ISNUMBER(SEARCH(\"12\",#REF!)),\"1\",\"0\")","v":"0"},{"$f":"IF(ISNUMBER(SEARCH(\"13\",#REF!)),\"1\",\"0\")","v":"0"},{"$f":"IF(ISNUMBER(SEARCH(\"14\",#REF!)),\"1\",\"0\")","v":"0"},{"$f":"IF(ISNUMBER(SEARCH(\"15\",#REF!)),\"1\",\"0\")","v":"0"},{"$f":"IF(ISNUMBER(SEARCH(\"16\",#REF!)),\"1\",\"0\")","v":"0"},{"$f":"IF(ISNUMBER(SEARCH(\"17\",#REF!)),\"1\",\"0\")","v":"0"},{"$nulls":9},55,{"$nulls":4},23,null,null,8,{"$f":"#REF!-#REF!","v":{"$error":"#REF!"}},{"$f":"#REF!-#REF!","v":{"$error":"#REF!"}}]
[4,42,425,"8&9",1,42,1977,4,3,2,6,5,2,"2. Witness of violence (physical, threats, killings/death, torture, ill treatment, sexual, family/domestic), 11. Killing of family member/loved one","1","1","0","0","0","0","0","0","0","0","1","0","0","0","0","0","0","0",null,1,1,4,2,{"$f":"IF(ISNUMBER(SEARCH(\"1\",#REF!)),\"1\",\"0\")","v":"0"},{"$f":"IF(ISNUMBER(SEARCH(\"2\",#REF!)),\"1\",\"0\")","v":"0"},{"$f":"IF(ISNUMBER(SEARCH(\"3\",#REF!)),\"1\",\"0\")","v":"0"},{"$f":"IF(ISNUMBER(SEARCH(\"4\",#REF!)),\"1\",\"0\")","v":"0"},{"$f":"IF(ISNUMBER(SEARCH(\"5\",#REF!)),\"1\",\"0\")","v":"0"},{"$f":"IF(ISNUMBER(SEARCH(\"6\",#REF!)),\"1\",\"0\")","v":"0"},{"$f":"IF(ISNUMBER(SEARCH(\"7\",#REF!)),\"1\",\"0\")","v":"0"},{"$f":"IF(ISNUMBER(SEARCH(\"8\",#REF!)),\"1\",\"0\")","v":"0"},{"$f":"IF(ISNUMBER(SEARCH(\"9\",#REF!)),\"1\",\"0\")","v":"0"},{"$f":"IF(ISNUMBER(SEARCH(\"9\",#REF!)),\"1\",\"0\")","v":"0"},{"$f":"IF(ISNUMBER(SEARCH(\"10\",#REF!)),\"1\",\"0\")","v":"0"},{"$f":"IF(ISNUMBER(SEARCH(\"11\",#REF!)),\"1\",\"0\")","v":"0"},{"$f":"IF(ISNUMBER(SEARCH(\"12\",#REF!)),\"1\",\"0\")","v":"0"},{"$f":"IF(ISNUMBER(SEARCH(\"13\",#REF!)),\"1\",\"0\")","v":"0"},{"$f":"IF(ISNUMBER(SEARCH(\"14\",#REF!)),\"1\",\"0\")","v":"0"},{"$f":"IF(ISNUMBER(SEARCH(\"15\",#REF!)),\"1\",\"0\")","v":"0"},{"$f":"IF(ISNUMBER(SEARCH(\"16\",#REF!)),\"1\",\"0\")","v":"0"},{"$f":"IF(ISNUMBER(SEARCH(\"17\",#REF!)),\"1\",\"0\")","v":"0"},{"$nulls":9},25,{"$nulls":4},34,null,null,9,{"$f":"#REF!-#REF!","v":{"$error":"#REF!"}},{"$f":"#REF!-#REF!","v":{"$error":"#REF!"}}]
[4,42,425,5,1,44,1975,null,3,2,7,5,2,"2. Witness of violence (physical, threats, killings/death, torture, ill treatment, sexual, family/domestic), 11. Killing of family member/loved one, 12. Disappearance of family member/loved one","1","1","0","0","0","0","0","0","0","0","1","1","0","0","0","0","0","0",null,2,1,4,2,{"$f":"IF(ISNUMBER(SEARCH(\"1\",#REF!)),\"1\",\"0\")","v":"0"},{"$f":"IF(ISNUMBER(SEARCH(\"2\",#REF!)),\"1\",\"0\")","v":"0"},{"$f":"IF(ISNUMBER(SEARCH(\"3\",#REF!)),\"1\",\"0\")","v":"0"},{"$f":"IF(ISNUMBER(SEARCH(\"4\",#REF!)),\"1\",\"0\")","v":"0"},{"$f":"IF(ISNUMBER(SEARCH(\"5\",#REF!)),\"1\",\"0\")","v":"0"},{"$f":"IF(ISNUMBER(SEARCH(\"6\",#REF!)),\"1\",\"0\")","v":"0"},{"$f":"IF(ISNUMBER(SEARCH(\"7\",#REF!)),\"1\",\"0\")","v":"0"},{"$f":"IF(ISNUMBER(SEARCH(\"8\",#REF!)),\"1\",\"0\")","v":"0"},{"$f":"IF(ISNUMBER(SEARCH(\"9\",#REF!)),\"1\",\"0\")","v":"0"},{"$f":"IF(ISNUMBER(SEARCH(\"9\",#REF!)),\"1\",\"0\")","v":"0"},{"$f":"IF(ISNUMBER(SEARCH(\"10\",#REF!)),\"1\",\"0\")","v":"0"},{"$f":"IF(ISNUMBER(SEARCH(\"11\",#REF!)),\"1\",\"0\")","v":"0"},{"$f":"IF(ISNUMBER(SEARCH(\"12\",#REF!)),\"1\",\"0\")","v":"0"},{"$f":"IF(ISNUMBER(SEARCH(\"13\",#REF!)),\"1\",\"0\")","v":"0"},{"$f":"IF(ISNUMBER(SEARCH(\"14\",#REF!)),\"1\",\"0\")","v":"0"},{"$f":"IF(ISNUMBER(SEARCH(\"15\",#REF!)),\"1\",\"0\")","v":"0"},{"$f":"IF(ISNUMBER(SEARCH(\"16\",#REF!)),\"1\",\"0\")","v":"0"},{"$f":"IF(ISNUMBER(SEARCH(\"17\",#REF!)),\"1\",\"0\")","v":"0"},{"$nulls":9},40,{"$nulls":4},19,null,null,10,{"$f":"#REF!-#REF!","v":{"$error":"#REF!"}},{"$f":"#REF!-#REF!","v":{"$error":"#REF!"}}]
[4,42,425,2,1,38,1981,4,8,2,11,5,2,"1. Victim of violence (physical, incl. torture, ill treatment; family/domestic), 2. Witness of violence (physical, threats, killings/death, torture, ill treatment, sexual, family/domestic), 11. Killing of family member/loved one","1","1","0","0","0","0","0","0","0","0","1","0","0","0","0","0","0","0",null,1,1,4,2,{"$f":"IF(ISNUMBER(SEARCH(\"1\",#REF!)),\"1\",\"0\")","v":"0"},{"$f":"IF(ISNUMBER(SEARCH(\"2\",#REF!)),\"1\",\"0\")","v":"0"},{"$f":"IF(ISNUMBER(SEARCH(\"3\",#REF!)),\"1\",\"0\")","v":"0"},{"$f":"IF(ISNUMBER(SEARCH(\"4\",#REF!)),\"1\",\"0\")","v":"0"},{"$f":"IF(ISNUMBER(SEARCH(\"5\",#REF!)),\"1\",\"0\")","v":"0"},{"$f":"IF(ISNUMBER(SEARCH(\"6\",#REF!)),\"1\",\"0\")","v":"0"},{"$f":"IF(ISNUMBER(SEARCH(\"7\",#REF!)),\"1\",\"0\")","v":"0"},{"$f":"IF(ISNUMBER(SEARCH(\"8\",#REF!)),\"1\",\"0\")","v":"0"},{"$f":"IF(ISNUMBER(SEARCH(\"9\",#REF!)),\"1\",\"0\")","v":"0"},{"$f":"IF(ISNUMBER(SEARCH(\"9\",#REF!)),\"1\",\"0\")","v":"0"},{"$f":"IF(ISNUMBER(SEARCH(\"10\",#REF!)),\"1\",\"0\")","v":"0"},{"$f":"IF(ISNUMBER(SEARCH(\"11\",#REF!)),\"1\",\"0\")","v":"0"},{"$f":"IF(ISNUMBER(SEARCH(\"12\",#REF!)),\"1\",\"0\")","v":"0"},{"$f":"IF(ISNUMBER(SEARCH(\"13\",#REF!)),\"1\",\"0\")","v":"0"},{"$f":"IF(ISNUMBER(SEARCH(\"14\",#REF!)),\"1\",\"0\")","v":"0"},{"$f":"IF(ISNUMBER(SEARCH(\"15\",#REF!)),\"1\",\"0\")","v":"0"},{"$f":"IF(ISNUMBER(SEARCH(\"16\",#REF!)),\"1\",\"0\")","v":"0"},{"$f":"IF(ISNUMBER(SEARCH(\"17\",#REF!)),\"1\",\"0\")","v":"0"},{"$nulls":9},63,{"$nulls":4},20,null,null,10,{"$f":"#REF!-#REF!","v":{"$error":"#REF!"}},{"$f":"#REF!-#REF!","v":{"$error":"#REF!"}}]
[4,42,425,2,1,55,1964,3,3,2,5,5,2,"1. Victim of violence (physical, incl. torture, ill treatment; family/domestic), 2. Witness of violence (physical, threats, killings/death, torture, ill treatment, sexual, family/domestic), 11. Killing of family member/loved one, 12. Disappearance of family member/loved one","1","1","0","0","0","0","0","0","0","0","1","1","0","0","0","0","0","0",null,1,1,4,2,{"$f":"IF(ISNUMBER(SEARCH(\"1\",#REF!)),\"1\",\"0\")","v":"0"},{"$f":"IF(ISNUMBER(SEARCH(\"2\",#REF!)),\"1\",\"0\")","v":"0"},{"$f":"IF(ISNUMBER(SEARCH(\"3\",#REF!)),\"1\",\"0\")","v":"0"},{"$f":"IF(ISNUMBER(SEARCH(\"4\",#REF!)),\"1\",\"0\")","v":"0"},{"$f":"IF(ISNUMBER(SEARCH(\"5\",#REF!)),\"1\",\"0\")","v":"0"},{"$f":"IF(ISNUMBER(SEARCH(\"6\",#REF!)),\"1\",\"0\")","v":"0"},{"$f":"IF(ISNUMBER(SEARCH(\"7\",#REF!)),\"1\",\"0\")","v":"0"},{"$f":"IF(ISNUMBER(SEARCH(\"8\",#REF!)),\"1\",\"0\")","v":"0"},{"$f":"IF(ISNUMBER(SEARCH(\"9\",#REF!)),\"1\",\"0\")","v":"0"},{"$f":"IF(ISNUMBER(SEARCH(\"9\",#REF!)),\"1\",\"0\")","v":"0"},{"$f":"IF(ISNUMBER(SEARCH(\"10\",#REF!)),\"1\",\"0\")","v":"0"},{"$f":"IF(ISNUMBER(SEARCH(\"11\",#REF!)),\"1\",\"0\")","v":"0"},{"$f":"IF(ISNUMBER(SEARCH(\"12\",#REF!)),\"1\",\"0\")","v":"0"},{"$f":"IF(ISNUMBER(SEARCH(\"13\",#REF!)),\"1\",\"0\")","v":"0"},{"$f":"IF(ISNUMBER(SEARCH(\"14\",#REF!)),\"1\",\"0\")","v":"0"},{"$f":"IF(ISNUMBER(SEARCH(\"15\",#REF!)),\"1\",\"0\")","v":"0"},{"$f":"IF(ISNUMBER(SEARCH(\"16\",#REF!)),\"1\",\"0\")","v":"0"},{"$f":"IF(ISNUMBER(SEARCH(\"17\",#REF!)),\"1\",\"0\")","v":"0"},{"$nulls":9},60,{"$nulls":4},24,null,null,11,{"$f":"#REF!-#REF!","v":{"$error":"#REF!"}}]
[4,42,425,"06&07",1,50,1969,2,8,2,18,5,2,"2. Witness of violence (physical, threats, killings/death, torture, ill treatment, sexual, family/domestic)","0","1","0","0","0","0","0","0","0","0","0","0","0","0","0","0","0","0",null,1,1,5,2,{"$f":"IF(ISNUMBER(SEARCH(\"1\",#REF!)),\"1\",\"0\")","v":"0"},0,{"$f":"IF(ISNUMBER(SEARCH(\"3\",#REF!)),\"1\",\"0\")","v":"0"},{"$f":"IF(ISNUMBER(SEARCH(\"4\",#REF!)),\"1\",\"0\")","v":"0"},{"$f":"IF(ISNUMBER(SEARCH(\"5\",#REF!)),\"1\",\"0\")","v":"0"},{"$f":"IF(ISNUMBER(SEARCH(\"6\",#REF!)),\"1\",\"0\")","v":"0"},{"$f":"IF(ISNUMBER(SEARCH(\"7\",#REF!)),\"1\",\"0\")","v":"0"},{"$f":"IF(ISNUMBER(SEARCH(\"8\",#REF!)),\"1\",\"0\")","v":"0"},{"$f":"IF(ISNUMBER(SEARCH(\"9\",#REF!)),\"1\",\"0\")","v":"0"},{"$f":"IF(ISNUMBER(SEARCH(\"9\",#REF!)),\"1\",\"0\")","v":"0"},{"$f":"IF(ISNUMBER(SEARCH(\"10\",#REF!)),\"1\",\"0\")","v":"0"},{"$f":"IF(ISNUMBER(SEARCH(\"11\",#REF!)),\"1\",\"0\")","v":"0"},{"$f":"IF(ISNUMBER(SEARCH(\"12\",#REF!)),\"1\",\"0\")","v":"0"},{"$f":"IF(ISNUMBER(SEARCH(\"13\",#REF!)),\"1\",\"0\")","v":"0"},{"$f":"IF(ISNUMBER(SEARCH(\"14\",#REF!)),\"1\",\"0\")","v":"0"},{"$f":"IF(ISNUMBER(SEARCH(\"15\",#REF!)),\"1\",\"0\")","v":"0"},{"$f":"IF(ISNUMBER(SEARCH(\"16\",#REF!)),\"1\",\"0\")","v":"0"},{"$f":"IF(ISNUMBER(SEARCH(\"17\",#REF!)),\"1\",\"0\")","v":"0"},{"$nulls":9},43,{"$nulls":4},12,null,null,10,{"$f":"#REF!-#REF!","v":{"$error":"#REF!"}},{"$f":"#REF!-#REF!","v":{"$error":"#REF!"}}]
[4,42,425,3,1,64,1955,2,3,2,10,5,2,"2. Witness of violence (physical, threats, killings/death, torture, ill treatment, sexual, family/domestic)","0","1","0","0","0","0","0","0","0","0","0","0","0","0","0","0","0","0",null,1,1,4,2,{"$f":"IF(ISNUMBER(SEARCH(\"1\",#REF!)),\"1\",\"0\")","v":"0"},{"$f":"IF(ISNUMBER(SEARCH(\"2\",#REF!)),\"1\",\"0\")","v":"0"},{"$f":"IF(ISNUMBER(SEARCH(\"3\",#REF!)),\"1\",\"0\")","v":"0"},{"$f":"IF(ISNUMBER(SEARCH(\"4\",#REF!)),\"1\",\"0\")","v":"0"},{"$f":"IF(ISNUMBER(SEARCH(\"5\",#REF!)),\"1\",\"0\")","v":"0"},{"$f":"IF(ISNUMBER(SEARCH(\"6\",#REF!)),\"1\",\"0\")","v":"0"},{"$f":"IF(ISNUMBER(SEARCH(\"7\",#REF!)),\"1\",\"0\")","v":"0"},{"$f":"IF(ISNUMBER(SEARCH(\"8\",#REF!)),\"1\",\"0\")","v":"0"},{"$f":"IF(ISNUMBER(SEARCH(\"9\",#REF!)),\"1\",\"0\")","v":"0"},{"$f":"IF(ISNUMBER(SEARCH(\"9\",#REF!)),\"1\",\"0\")","v":"0"},{"$f":"IF(ISNUMBER(SEARCH(\"10\",#REF!)),\"1\",\"0\")","v":"0"},{"$f":"IF(ISNUMBER(SEARCH(\"11\",#REF!)),\"1\",\"0\")","v":"0"},{"$f":"IF(ISNUMBER(SEARCH(\"12\",#REF!)),\"1\",\"0\")","v":"0"},{"$f":"IF(ISNUMBER(SEARCH(\"13\",#REF!)),\"1\",\"0\")","v":"0"},{"$f":"IF(ISNUMBER(SEARCH(\"14\",#REF!)),\"1\",\"0\")","v":"0"},{"$f":"IF(ISNUMBER(SEARCH(\"15\",#REF!)),\"1\",\"0\")","v":"0"},{"$f":"IF(ISNUMBER(SEARCH(\"16\",#REF!)),\"1\",\"0\")","v":"0"},{"$f":"IF(ISNUMBER(SEARCH(\"17\",#REF!)),\"1\",\"0\")","v":"0"},{"$nulls":9},46,{"$nulls":4},21,null,null,10,{"$f":"#REF!-#REF!","v":{"$error":"#REF!"}},{"$f":"#REF!-#REF!","v":{"$error":"#REF!"}}]
[4,42,425,"6&10",1,44,1975,4,3,2,7,5,2,"2. Witness of violence (physical, threats, killings/death, torture, ill treatment, sexual, family/domestic), 9. Kidnapping/hostage and/for sexual violence","0","1","0","0","0","0","0","0","1","0","0","0","0","0","0","0","0","0",null,1,3,5,2,{"$f":"IF(ISNUMBER(SEARCH(\"1\",#REF!)),\"1\",\"0\")","v":"0"},{"$f":"IF(ISNUMBER(SEARCH(\"2\",#REF!)),\"1\",\"0\")","v":"0"},{"$f":"IF(ISNUMBER(SEARCH(\"3\",#REF!)),\"1\",\"0\")","v":"0"},{"$f":"IF(ISNUMBER(SEARCH(\"4\",#REF!)),\"1\",\"0\")","v":"0"},{"$f":"IF(ISNUMBER(SEARCH(\"5\",#REF!)),\"1\",\"0\")","v":"0"},{"$f":"IF(ISNUMBER(SEARCH(\"6\",#REF!)),\"1\",\"0\")","v":"0"},{"$f":"IF(ISNUMBER(SEARCH(\"7\",#REF!)),\"1\",\"0\")","v":"0"},{"$f":"IF(ISNUMBER(SEARCH(\"8\",#REF!)),\"1\",\"0\")","v":"0"},{"$f":"IF(ISNUMBER(SEARCH(\"9\",#REF!)),\"1\",\"0\")","v":"0"},{"$f":"IF(ISNUMBER(SEARCH(\"9\",#REF!)),\"1\",\"0\")","v":"0"},{"$f":"IF(ISNUMBER(SEARCH(\"10\",#REF!)),\"1\",\"0\")","v":"0"},{"$f":"IF(ISNUMBER(SEARCH(\"11\",#REF!)),\"1\",\"0\")","v":"0"},{"$f":"IF(ISNUMBER(SEARCH(\"12\",#REF!)),\"1\",\"0\")","v":"0"},{"$f":"IF(ISNUMBER(SEARCH(\"13\",#REF!)),\"1\",\"0\")","v":"0"},{"$f":"IF(ISNUMBER(SEARCH(\"14\",#REF!)),\"1\",\"0\")","v":"0"},{"$f":"IF(ISNUMBER(SEARCH(\"15\",#REF!)),\"1\",\"0\")","v":"0"},{"$f":"IF(ISNUMBER(SEARCH(\"16\",#REF!)),\"1\",\"0\")","v":"0"},{"$f":"IF(ISNUMBER(SEARCH(\"17\",#REF!)),\"1\",\"0\")","v":"0"},{"$nulls":9},33,{"$nulls":4},20,null,null,10,{"$f":"#REF!-#REF!","v":{"$error":"#REF!"}},{"$f":"#REF!-#REF!","v":{"$error":"#REF!"}}]
[4,42,425,1,1,45,1974,3,3,2,8,5,2,"2. Witness of violence (physical, threats, killings/death, torture, ill treatment, sexual, family/domestic)","0","1","0","0","0","0","0","0","0","0","0","0","0","0","0","0","0","0",null,1,7,5,2,{"$f":"IF(ISNUMBER(SEARCH(\"1\",#REF!)),\"1\",\"0\")","v":"0"},{"$f":"IF(ISNUMBER(SEARCH(\"2\",#REF!)),\"1\",\"0\")","v":"0"},{"$f":"IF(ISNUMBER(SEARCH(\"3\",#REF!)),\"1\",\"0\")","v":"0"},{"$f":"IF(ISNUMBER(SEARCH(\"4\",#REF!)),\"1\",\"0\")","v":"0"},{"$f":"IF(ISNUMBER(SEARCH(\"5\",#REF!)),\"1\",\"0\")","v":"0"},{"$f":"IF(ISNUMBER(SEARCH(\"6\",#REF!)),\"1\",\"0\")","v":"0"},{"$f":"IF(ISNUMBER(SEARCH(\"7\",#REF!)),\"1\",\"0\")","v":"0"},{"$f":"IF(ISNUMBER(SEARCH(\"8\",#REF!)),\"1\",\"0\")","v":"0"},{"$f":"IF(ISNUMBER(SEARCH(\"9\",#REF!)),\"1\",\"0\")","v":"0"},{"$f":"IF(ISNUMBER(SEARCH(\"9\",#REF!)),\"1\",\"0\")","v":"0"},{"$f":"IF(ISNUMBER(SEARCH(\"10\",#REF!)),\"1\",\"0\")","v":"0"},{"$f":"IF(ISNUMBER(SEARCH(\"11\",#REF!)),\"1\",\"0\")","v":"0"},{"$f":"IF(ISNUMBER(SEARCH(\"12\",#REF!)),\"1\",\"0\")","v":"0"},{"$f":"IF(ISNUMBER(SEARCH(\"13\",#REF!)),\"1\",\"0\")","v":"0"},{"$f":"IF(ISNUMBER(SEARCH(\"14\",#REF!)),\"1\",\"0\")","v":"0"},{"$f":"IF(ISNUMBER(SEARCH(\"15\",#REF!)),\"1\",\"0\")","v":"0"},{"$f":"IF(ISNUMBER(SEARCH(\"16\",#REF!)),\"1\",\"0\")","v":"0"},{"$f":"IF(ISNUMBER(SEARCH(\"17\",#REF!)),\"1\",\"0\")","v":"0"},{"$nulls":9},62,{"$nulls":4},24,null,null,1,{"$f":"#REF!-#REF!","v":{"$error":"#REF!"}},{"$f":"#REF!-#REF!","v":{"$error":"#REF!"}}]
[4,42,425,"04&10",1,44,1975,4,3,2,6,5,2,"1. Victim of violence (physical, incl. torture, ill treatment; family/domestic)","1","0","0","0","0","0","0","0","0","0","0","0","0","0","0","0","0","0",null,1,1,5,2,{"$f":"IF(ISNUMBER(SEARCH(\"1\",#REF!)),\"1\",\"0\")","v":"0"},{"$f":"IF(ISNUMBER(SEARCH(\"2\",#REF!)),\"1\",\"0\")","v":"0"},{"$f":"IF(ISNUMBER(SEARCH(\"3\",#REF!)),\"1\",\"0\")","v":"0"},{"$f":"IF(ISNUMBER(SEARCH(\"4\",#REF!)),\"1\",\"0\")","v":"0"},{"$f":"IF(ISNUMBER(SEARCH(\"5\",#REF!)),\"1\",\"0\")","v":"0"},{"$f":"IF(ISNUMBER(SEARCH(\"6\",#REF!)),\"1\",\"0\")","v":"0"},{"$f":"IF(ISNUMBER(SEARCH(\"7\",#REF!)),\"1\",\"0\")","v":"0"},{"$f":"IF(ISNUMBER(SEARCH(\"8\",#REF!)),\"1\",\"0\")","v":"0"},{"$f":"IF(ISNUMBER(SEARCH(\"9\",#REF!)),\"1\",\"0\")","v":"0"},{"$f":"IF(ISNUMBER(SEARCH(\"9\",#REF!)),\"1\",\"0\")","v":"0"},{"$f":"IF(ISNUMBER(SEARCH(\"10\",#REF!)),\"1\",\"0\")","v":"0"},{"$f":"IF(ISNUMBER(SEARCH(\"11\",#REF!)),\"1\",\"0\")","v":"0"},{"$f":"IF(ISNUMBER(SEARCH(\"12\",#REF!)),\"1\",\"0\")","v":"0"},{"$f":"IF(ISNUMBER(SEARCH(\"13\",#REF!)),\"1\",\"0\")","v":"0"},{"$f":"IF(ISNUMBER(SEARCH(\"14\",#REF!)),\"1\",\"0\")","v":"0"},{"$f":"IF(ISNUMBER(SEARCH(\"15\",#REF!)),\"1\",\"0\")","v":"0"},{"$f":"IF(ISNUMBER(SEARCH(\"16\",#REF!)),\"1\",\"0\")","v":"0"},{"$f":"IF(ISNUMBER(SEARCH(\"17\",#REF!)),\"1\",\"0\")","v":"0"},{"$nulls":9},0,{"$nulls":4},0,null,null,0,{"$f":"#REF!-#REF!","v":{"$error":"#REF!"}}]
[4,42,425,"6&7",1,26,1993,4,2,2,2,5,2,"2. Witness of violence (physical, threats, killings/death, torture, ill treatment, sexual, family/domestic), 11. Killing of family member/loved one","1","1","0","0","0","0","0","0","0","0","1","0","0","0","0","0","0","0",null,2,1,5,2,{"$f":"IF(ISNUMBER(SEARCH(\"1\",#REF!)),\"1\",\"0\")","v":"0"},{"$f":"IF(ISNUMBER(SEARCH(\"2\",#REF!)),\"1\",\"0\")","v":"0"},{"$f":"IF(ISNUMBER(SEARCH(\"3\",#REF!)),\"1\",\"0\")","v":"0"},{"$f":"IF(ISNUMBER(SEARCH(\"4\",#REF!)),\"1\",\"0\")","v":"0"},{"$f":"IF(ISNUMBER(SEARCH(\"5\",#REF!)),\"1\",\"0\")","v":"0"},{"$f":"IF(ISNUMBER(SEARCH(\"6\",#REF!)),\"1\",\"0\")","v":"0"},{"$f":"IF(ISNUMBER(SEARCH(\"7\",#REF!)),\"1\",\"0\")","v":"0"},{"$f":"IF(ISNUMBER(SEARCH(\"8\",#REF!)),\"1\",\"0\")","v":"0"},{"$f":"IF(ISNUMBER(SEARCH(\"9\",#REF!)),\"1\",\"0\")","v":"0"},{"$f":"IF(ISNUMBER(SEARCH(\"9\",#REF!)),\"1\",\"0\")","v":"0"},{"$f":"IF(ISNUMBER(SEARCH(\"10\",#REF!)),\"1\",\"0\")","v":"0"},{"$f":"IF(ISNUMBER(SEARCH(\"11\",#REF!)),\"1\",\"0\")","v":"0"},{"$f":"IF(ISNUMBER(SEARCH(\"12\",#REF!)),\"1\",\"0\")","v":"0"},{"$f":"IF(ISNUMBER(SEARCH(\"13\",#REF!)),\"1\",\"0\")","v":"0"},{"$f":"IF(ISNUMBER(SEARCH(\"14\",#REF!)),\"1\",\"0\")","v":"0"},{"$f":"IF(ISNUMBER(SEARCH(\"15\",#REF!)),\"1\",\"0\")","v":"0"},{"$f":"IF(ISNUMBER(SEARCH(\"16\",#REF!)),\"1\",\"0\")","v":"0"},{"$f":"IF(ISNUMBER(SEARCH(\"17\",#REF!)),\"1\",\"0\")","v":"0"},{"$nulls":9},26,{"$nulls":4},0,null,null,0,{"$f":"#REF!-#REF!","v":{"$error":"#REF!"}}]
[4,42,425,"8&7",1,39,1980,4,2,2,5,5,2,"2. Witness of violence (physical, threats, killings/death, torture, ill treatment, sexual, family/domestic)","0","1","0","0","0","0","0","0","0","0","0","0","0","0","0","0","0","0",null,2,1,3,2,{"$f":"IF(ISNUMBER(SEARCH(\"1\",#REF!)),\"1\",\"0\")","v":"0"},0,{"$f":"IF(ISNUMBER(SEARCH(\"3\",#REF!)),\"1\",\"0\")","v":"0"},{"$f":"IF(ISNUMBER(SEARCH(\"4\",#REF!)),\"1\",\"0\")","v":"0"},{"$f":"IF(ISNUMBER(SEARCH(\"5\",#REF!)),\"1\",\"0\")","v":"0"},{"$f":"IF(ISNUMBER(SEARCH(\"6\",#REF!)),\"1\",\"0\")","v":"0"},{"$f":"IF(ISNUMBER(SEARCH(\"7\",#REF!)),\"1\",\"0\")","v":"0"},{"$f":"IF(ISNUMBER(SEARCH(\"8\",#REF!)),\"1\",\"0\")","v":"0"},{"$f":"IF(ISNUMBER(SEARCH(\"9\",#REF!)),\"1\",\"0\")","v":"0"},{"$f":"IF(ISNUMBER(SEARCH(\"9\",#REF!)),\"1\",\"0\")","v":"0"},{"$f":"IF(ISNUMBER(SEARCH(\"10\",#REF!)),\"1\",\"0\")","v":"0"},{"$f":"IF(ISNUMBER(SEARCH(\"11\",#REF!)),\"1\",\"0\")","v":"0"},{"$f":"IF(ISNUMBER(SEARCH(\"12\",#REF!)),\"1\",\"0\")","v":"0"},{"$f":"IF(ISNUMBER(SEARCH(\"13\",#REF!)),\"1\",\"0\")","v":"0"},{"$f":"IF(ISNUMBER(SEARCH(\"14\",#REF!)),\"1\",\"0\")","v":"0"},{"$f":"IF(ISNUMBER(SEARCH(\"15\",#REF!)),\"1\",\"0\")","v":"0"},{"$f":"IF(ISNUMBER(SEARCH(\"16\",#REF!)),\"1\",\"0\")","v":"0"},{"$f":"IF(ISNUMBER(SEARCH(\"17\",#REF!)),\"1\",\"0\")","v":"0"},{"$nulls":9},32,{"$nulls":4},1,null,null,6,{"$f":"#REF!-#REF!","v":{"$error":"#REF!"}}]
[4,42,426,"7&10",1,42,1977,4,2,2,17,5,2,"2. Witness of violence (physical, threats, killings/death, torture, ill treatment, sexual, family/domestic)","0","1","0","0","0","0","0","0","0","0","0","0","0","0","0","0","0","0",null,1,1,4,2,{"$f":"IF(ISNUMBER(SEARCH(\"1\",#REF!)),\"1\",\"0\")","v":"0"},{"$f":"IF(ISNUMBER(SEARCH(\"2\",#REF!)),\"1\",\"0\")","v":"0"},{"$f":"IF(ISNUMBER(SEARCH(\"3\",#REF!)),\"1\",\"0\")","v":"0"},{"$f":"IF(ISNUMBER(SEARCH(\"4\",#REF!)),\"1\",\"0\")","v":"0"},{"$f":"IF(ISNUMBER(SEARCH(\"5\",#REF!)),\"1\",\"0\")","v":"0"},{"$f":"IF(ISNUMBER(SEARCH(\"6\",#REF!)),\"1\",\"0\")","v":"0"},{"$f":"IF(ISNUMBER(SEARCH(\"7\",#REF!)),\"1\",\"0\")","v":"0"},{"$f":"IF(ISNUMBER(SEARCH(\"8\",#REF!)),\"1\",\"0\")","v":"0"},{"$f":"IF(ISNUMBER(SEARCH(\"9\",#REF!)),\"1\",\"0\")","v":"0"},{"$f":"IF(ISNUMBER(SEARCH(\"9\",#REF!)),\"1\",\"0\")","v":"0"},{"$f":"IF(ISNUMBER(SEARCH(\"10\",#REF!)),\"1\",\"0\")","v":"0"},{"$f":"IF(ISNUMBER(SEARCH(\"11\",#REF!)),\"1\",\"0\")","v":"0"},{"$f":"IF(ISNUMBER(SEARCH(\"12\",#REF!)),\"1\",\"0\")","v":"0"},{"$f":"IF(ISNUMBER(SEARCH(\"13\",#REF!)),\"1\",\"0\")","v":"0"},{"$f":"IF(ISNUMBER(SEARCH(\"14\",#REF!)),\"1\",\"0\")","v":"0"},{"$f":"IF(ISNUMBER(SEARCH(\"15\",#REF!)),\"1\",\"0\")","v":"0"},{"$f":"IF(ISNUMBER(SEARCH(\"16\",#REF!)),\"1\",\"0\")","v":"0"},{"$f":"IF(ISNUMBER(SEARCH(\"17\",#REF!)),\"1\",\"0\")","v":"0"},{"$nulls":9},51,{"$nulls":4},31,null,null,12,{"$f":"#REF!-#REF!","v":{"$error":"#REF!"}},{"$f":"#REF!-#REF!","v":{"$error":"#REF!"}}]
[4,42,426,2,1,46,1973,3,3,2,8,5,2,"2. Witness of violence (physical, threats, killings/death, torture, ill treatment, sexual, family/domestic), 1. Victim of violence (physical, incl. torture, ill treatment; family/domestic), 11. Killing of family member/loved one, 12. Disappearance of family member/loved one","1","1","0","0","0","0","0","0","0","0","1","1","0","0","0","0","0","0",null,1,1,4,2,{"$f":"IF(ISNUMBER(SEARCH(\"1\",#REF!)),\"1\",\"0\")","v":"0"},{"$f":"IF(ISNUMBER(SEARCH(\"2\",#REF!)),\"1\",\"0\")","v":"0"},{"$f":"IF(ISNUMBER(SEARCH(\"3\",#REF!)),\"1\",\"0\")","v":"0"},{"$f":"IF(ISNUMBER(SEARCH(\"4\",#REF!)),\"1\",\"0\")","v":"0"},{"$f":"IF(ISNUMBER(SEARCH(\"5\",#REF!)),\"1\",\"0\")","v":"0"},{"$f":"IF(ISNUMBER(SEARCH(\"6\",#REF!)),\"1\",\"0\")","v":"0"},{"$f":"IF(ISNUMBER(SEARCH(\"7\",#REF!)),\"1\",\"0\")","v":"0"},{"$f":"IF(ISNUMBER(SEARCH(\"8\",#REF!)),\"1\",\"0\")","v":"0"},{"$f":"IF(ISNUMBER(SEARCH(\"9\",#REF!)),\"1\",\"0\")","v":"0"},{"$f":"IF(ISNUMBER(SEARCH(\"9\",#REF!)),\"1\",\"0\")","v":"0"},{"$f":"IF(ISNUMBER(SEARCH(\"10\",#REF!)),\"1\",\"0\")","v":"0"},{"$f":"IF(ISNUMBER(SEARCH(\"11\",#REF!)),\"1\",\"0\")","v":"0"},{"$f":"IF(ISNUMBER(SEARCH(\"12\",#REF!)),\"1\",\"0\")","v":"0"},{"$f":"IF(ISNUMBER(SEARCH(\"13\",#REF!)),\"1\",\"0\")","v":"0"},{"$f":"IF(ISNUMBER(SEARCH(\"14\",#REF!)),\"1\",\"0\")","v":"0"},{"$f":"IF(ISNUMBER(SEARCH(\"15\",#REF!)),\"1\",\"0\")","v":"0"},{"$f":"IF(ISNUMBER(SEARCH(\"16\",#REF!)),\"1\",\"0\")","v":"0"},{"$f":"IF(ISNUMBER(SEARCH(\"17\",#REF!)),\"1\",\"0\")","v":"0"},{"$nulls":9},56,{"$nulls":4},9,null,null,10,{"$f":"#REF!-#REF!","v":{"$error":"#REF!"}},{"$f":"#REF!-#REF!","v":{"$error":"#REF!"}}]
[4,42,426,7,1,35,1984,4,7,2,1,5,2,"2. Witness of violence (physical, threats, killings/death, torture, ill treatment, sexual, family/domestic), 11. Killing of family member/loved one, 12. Disappearance of family member/loved one","1","1","0","0","0","0","0","0","0","0","1","1","0","0","0","0","0","0",null,1,1,4,2,{"$f":"IF(ISNUMBER(SEARCH(\"1\",#REF!)),\"1\",\"0\")","v":"0"},0,{"$f":"IF(ISNUMBER(SEARCH(\"3\",#REF!)),\"1\",\"0\")","v":"0"},{"$f":"IF(ISNUMBER(SEARCH(\"4\",#REF!)),\"1\",\"0\")","v":"0"},{"$f":"IF(ISNUMBER(SEARCH(\"5\",#REF!)),\"1\",\"0\")","v":"0"},{"$f":"IF(ISNUMBER(SEARCH(\"6\",#REF!)),\"1\",\"0\")","v":"0"},{"$f":"IF(ISNUMBER(SEARCH(\"7\",#REF!)),\"1\",\"0\")","v":"0"},{"$f":"IF(ISNUMBER(SEARCH(\"8\",#REF!)),\"1\",\"0\")","v":"0"},{"$f":"IF(ISNUMBER(SEARCH(\"9\",#REF!)),\"1\",\"0\")","v":"0"},{"$f":"IF(ISNUMBER(SEARCH(\"9\",#REF!)),\"1\",\"0\")","v":"0"},{"$f":"IF(ISNUMBER(SEARCH(\"10\",#REF!)),\"1\",\"0\")","v":"0"},{"$f":"IF(ISNUMBER(SEARCH(\"11\",#REF!)),\"1\",\"0\")","v":"0"},{"$f":"IF(ISNUMBER(SEARCH(\"12\",#REF!)),\"1\",\"0\")","v":"0"},{"$f":"IF(ISNUMBER(SEARCH(\"13\",#REF!)),\"1\",\"0\")","v":"0"},{"$f":"IF(ISNUMBER(SEARCH(\"14\",#REF!)),\"1\",\"0\")","v":"0"},{"$f":"IF(ISNUMBER(SEARCH(\"15\",#REF!)),\"1\",\"0\")","v":"0"},{"$f":"IF(ISNUMBER(SEARCH(\"16\",#REF!)),\"1\",\"0\")","v":"0"},{"$f":"IF(ISNUMBER(SEARCH(\"17\",#REF!)),\"1\",\"0\")","v":"0"},{"$nulls":9},23,{"$nulls":4},11,null,null,10,{"$f":"#REF!-#REF!","v":{"$error":"#REF!"}},{"$f":"#REF!-#REF!","v":{"$error":"#REF!"}}]
[4,42,426,3,1,45,1974,3,8,2,6,5,2,"2. Witness of violence (physical, threats, killings/death, torture, ill treatment, sexual, family/domestic)","0","1","0","0","0","0","0","0","0","0","0","0","0","0","0","0","0","0",null,1,2,4,2,{"$f":"IF(ISNUMBER(SEARCH(\"1\",#REF!)),\"1\",\"0\")","v":"0"},{"$f":"IF(ISNUMBER(SEARCH(\"2\",#REF!)),\"1\",\"0\")","v":"0"},{"$f":"IF(ISNUMBER(SEARCH(\"3\",#REF!)),\"1\",\"0\")","v":"0"},{"$f":"IF(ISNUMBER(SEARCH(\"4\",#REF!)),\"1\",\"0\")","v":"0"},{"$f":"IF(ISNUMBER(SEARCH(\"5\",#REF!)),\"1\",\"0\")","v":"0"},{"$f":"IF(ISNUMBER(SEARCH(\"6\",#REF!)),\"1\",\"0\")","v":"0"},{"$f":"IF(ISNUMBER(SEARCH(\"7\",#REF!)),\"1\",\"0\")","v":"0"},{"$f":"IF(ISNUMBER(SEARCH(\"8\",#REF!)),\"1\",\"0\")","v":"0"},{"$f":"IF(ISNUMBER(SEARCH(\"9\",#REF!)),\"1\",\"0\")","v":"0"},{"$f":"IF(ISNUMBER(SEARCH(\"9\",#REF!)),\"1\",\"0\")","v":"0"},{"$f":"IF(ISNUMBER(SEARCH(\"10\",#REF!)),\"1\",\"0\")","v":"0"},{"$f":"IF(ISNUMBER(SEARCH(\"11\",#REF!)),\"1\",\"0\")","v":"0"},{"$f":"IF(ISNUMBER(SEARCH(\"12\",#REF!)),\"1\",\"0\")","v":"0"},{"$f":"IF(ISNUMBER(SEARCH(\"13\",#REF!)),\"1\",\"0\")","v":"0"},{"$f":"IF(ISNUMBER(SEARCH(\"14\",#REF!)),\"1\",\"0\")","v":"0"},{"$f":"IF(ISNUMBER(SEARCH(\"15\",#REF!)),\"1\",\"0\")","v":"0"},{"$f":"IF(ISNUMBER(SEARCH(\"16\",#REF!)),\"1\",\"0\")","v":"0"},{"$f":"IF(ISNUMBER(SEARCH(\"17\",#REF!)),\"1\",\"0\")","v":"0"},{"$nulls":9},46,{"$nulls":4},11,null,null,12,{"$f":"#REF!-#REF!","v":{"$error":"#REF!"}},{"$f":"#REF!-#REF!","v":{"$error":"#REF!"}}]
[4,42,426,5,1,46,1973,2,8,2,4,5,2,"1. Victim of violence (physical, incl. torture, ill treatment; family/domestic), 11. Killing of family member/loved one, 12. Disappearance of family member/loved one","1","1","0","0","0","0","0","0","0","0","1","1","0","0","0","0","0","0",null,1,3,4,2,{"$f":"IF(ISNUMBER(SEARCH(\"1\",#REF!)),\"1\",\"0\")","v":"0"},{"$f":"IF(ISNUMBER(SEARCH(\"2\",#REF!)),\"1\",\"0\")","v":"0"},{"$f":"IF(ISNUMBER(SEARCH(\"3\",#REF!)),\"1\",\"0\")","v":"0"},{"$f":"IF(ISNUMBER(SEARCH(\"4\",#REF!)),\"1\",\"0\")","v":"0"},{"$f":"IF(ISNUMBER(SEARCH(\"5\",#REF!)),\"1\",\"0\")","v":"0"},{"$f":"IF(ISNUMBER(SEARCH(\"6\",#REF!)),\"1\",\"0\")","v":"0"},{"$f":"IF(ISNUMBER(SEARCH(\"7\",#REF!)),\"1\",\"0\")","v":"0"},{"$f":"IF(ISNUMBER(SEARCH(\"8\",#REF!)),\"1\",\"0\")","v":"0"},{"$f":"IF(ISNUMBER(SEARCH(\"9\",#REF!)),\"1\",\"0\")","v":"0"},{"$f":"IF(ISNUMBER(SEARCH(\"9\",#REF!)),\"1\",\"0\")","v":"0"},{"$f":"IF(ISNUMBER(SEARCH(\"10\",#REF!)),\"1\",\"0\")","v":"0"},{"$f":"IF(ISNUMBER(SEARCH(\"11\",#REF!)),\"1\",\"0\")","v":"0"},{"$f":"IF(ISNUMBER(SEARCH(\"12\",#REF!)),\"1\",\"0\")","v":"0"},{"$f":"IF(ISNUMBER(SEARCH(\"13\",#REF!)),\"1\",\"0\")","v":"0"},{"$f":"IF(ISNUMBER(SEARCH(\"14\",#REF!)),\"1\",\"0\")","v":"0"},{"$f":"IF(ISNUMBER(SEARCH(\"15\",#REF!)),\"1\",\"0\")","v":"0"},{"$f":"IF(ISNUMBER(SEARCH(\"16\",#REF!)),\"1\",\"0\")","v":"0"},{"$f":"IF(ISNUMBER(SEARCH(\"17\",#REF!)),\"1\",\"0\")","v":"0"},{"$nulls":9},49,{"$nulls":4},31,null,null,10,{"$f":"#REF!-#REF!","v":{"$error":"#REF!"}},{"$f":"#REF!-#REF!","v":{"$error":"#REF!"}}]
[4,42,426,5,1,75,1944,2,8,2,15,5,2,"1. Victim of violence (physical, incl. torture, ill treatment; family/domestic), 2. Witness of violence (physical, threats, killings/death, torture, ill treatment, sexual, family/domestic), 11. Killing of family member/loved one","1","1","0","0","0","0","0","0","0","0","1","0","0","0","0","0","0","0",null,1,1,4,2,{"$f":"IF(ISNUMBER(SEARCH(\"1\",#REF!)),\"1\",\"0\")","v":"0"},{"$f":"IF(ISNUMBER(SEARCH(\"2\",#REF!)),\"1\",\"0\")","v":"0"},{"$f":"IF(ISNUMBER(SEARCH(\"3\",#REF!)),\"1\",\"0\")","v":"0"},{"$f":"IF(ISNUMBER(SEARCH(\"4\",#REF!)),\"1\",\"0\")","v":"0"},{"$f":"IF(ISNUMBER(SEARCH(\"5\",#REF!)),\"1\",\"0\")","v":"0"},{"$f":"IF(ISNUMBER(SEARCH(\"6\",#REF!)),\"1\",\"0\")","v":"0"},{"$f":"IF(ISNUMBER(SEARCH(\"7\",#REF!)),\"1\",\"0\")","v":"0"},{"$f":"IF(ISNUMBER(SEARCH(\"8\",#REF!)),\"1\",\"0\")","v":"0"},{"$f":"IF(ISNUMBER(SEARCH(\"9\",#REF!)),\"1\",\"0\")","v":"0"},{"$f":"IF(ISNUMBER(SEARCH(\"9\",#REF!)),\"1\",\"0\")","v":"0"},{"$f":"IF(ISNUMBER(SEARCH(\"10\",#REF!)),\"1\",\"0\")","v":"0"},{"$f":"IF(ISNUMBER(SEARCH(\"11\",#REF!)),\"1\",\"0\")","v":"0"},{"$f":"IF(ISNUMBER(SEARCH(\"12\",#REF!)),\"1\",\"0\")","v":"0"},{"$f":"IF(ISNUMBER(SEARCH(\"13\",#REF!)),\"1\",\"0\")","v":"0"},{"$f":"IF(ISNUMBER(SEARCH(\"14\",#REF!)),\"1\",\"0\")","v":"0"},{"$f":"IF(ISNUMBER(SEARCH(\"15\",#REF!)),\"1\",\"0\")","v":"0"},{"$f":"IF(ISNUMBER(SEARCH(\"16\",#REF!)),\"1\",\"0\")","v":"0"},{"$f":"IF(ISNUMBER(SEARCH(\"17\",#REF!)),\"1\",\"0\")","v":"0"},{"$nulls":9},40,{"$nulls":4},12,null,null,9,{"$f":"#REF!-#REF!","v":{"$error":"#REF!"}},{"$f":"#REF!-#REF!","v":{"$error":"#REF!"}}]
[4,42,426,3,1,43,1976,2,8,2,6,5,2,"2. Witness of violence (physical, threats, killings/death, torture, ill treatment, sexual, family/domestic)","0","1","0","0","0","0","0","0","0","0","0","0","0","0","0","0","0","0",null,1,7,4,2,{"$f":"IF(ISNUMBER(SEARCH(\"1\",#REF!)),\"1\",\"0\")","v":"0"},{"$f":"IF(ISNUMBER(SEARCH(\"2\",#REF!)),\"1\",\"0\")","v":"0"},{"$f":"IF(ISNUMBER(SEARCH(\"3\",#REF!)),\"1\",\"0\")","v":"0"},{"$f":"IF(ISNUMBER(SEARCH(\"4\",#REF!)),\"1\",\"0\")","v":"0"},{"$f":"IF(ISNUMBER(SEARCH(\"5\",#REF!)),\"1\",\"0\")","v":"0"},{"$f":"IF(ISNUMBER(SEARCH(\"6\",#REF!)),\"1\",\"0\")","v":"0"},{"$f":"IF(ISNUMBER(SEARCH(\"7\",#REF!)),\"1\",\"0\")","v":"0"},{"$f":"IF(ISNUMBER(SEARCH(\"8\",#REF!)),\"1\",\"0\")","v":"0"},{"$f":"IF(ISNUMBER(SEARCH(\"9\",#REF!)),\"1\",\"0\")","v":"0"},{"$f":"IF(ISNUMBER(SEARCH(\"9\",#REF!)),\"1\",\"0\")","v":"0"},{"$f":"IF(ISNUMBER(SEARCH(\"10\",#REF!)),\"1\",\"0\")","v":"0"},{"$f":"IF(ISNUMBER(SEARCH(\"11\",#REF!)),\"1\",\"0\")","v":"0"},{"$f":"IF(ISNUMBER(SEARCH(\"12\",#REF!)),\"1\",\"0\")","v":"0"},{"$f":"IF(ISNUMBER(SEARCH(\"13\",#REF!)),\"1\",\"0\")","v":"0"},{"$f":"IF(ISNUMBER(SEARCH(\"14\",#REF!)),\"1\",\"0\")","v":"0"},{"$f":"IF(ISNUMBER(SEARCH(\"15\",#REF!)),\"1\",\"0\")","v":"0"},{"$f":"IF(ISNUMBER(SEARCH(\"16\",#REF!)),\"1\",\"0\")","v":"0"},{"$f":"IF(ISNUMBER(SEARCH(\"17\",#REF!)),\"1\",\"0\")","v":"0"},{"$nulls":9},0,{"$nulls":4},0,null,null,2]
[4,42,426,"06&08",1,35,1984,2,8,2,2,5,2,"2. Witness of violence (physical, threats, killings/death, torture, ill treatment, sexual, family/domestic), 11. Killing of family member/loved one","1","1","0","0","0","0","0","0","0","0","1","0","0","0","0","0","0","0",null,2,1,5,2,{"$f":"IF(ISNUMBER(SEARCH(\"1\",#REF!)),\"1\",\"0\")","v":"0"},{"$f":"IF(ISNUMBER(SEARCH(\"2\",#REF!)),\"1\",\"0\")","v":"0"},{"$f":"IF(ISNUMBER(SEARCH(\"3\",#REF!)),\"1\",\"0\")","v":"0"},{"$f":"IF(ISNUMBER(SEARCH(\"4\",#REF!)),\"1\",\"0\")","v":"0"},{"$f":"IF(ISNUMBER(SEARCH(\"5\",#REF!)),\"1\",\"0\")","v":"0"},{"$f":"IF(ISNUMBER(SEARCH(\"6\",#REF!)),\"1\",\"0\")","v":"0"},{"$f":"IF(ISNUMBER(SEARCH(\"7\",#REF!)),\"1\",\"0\")","v":"0"},{"$f":"IF(ISNUMBER(SEARCH(\"8\",#REF!)),\"1\",\"0\")","v":"0"},{"$f":"IF(ISNUMBER(SEARCH(\"9\",#REF!)),\"1\",\"0\")","v":"0"},{"$f":"IF(ISNUMBER(SEARCH(\"9\",#REF!)),\"1\",\"0\")","v":"0"},{"$f":"IF(ISNUMBER(SEARCH(\"10\",#REF!)),\"1\",\"0\")","v":"0"},{"$f":"IF(ISNUMBER(SEARCH(\"11\",#REF!)),\"1\",\"0\")","v":"0"},{"$f":"IF(ISNUMBER(SEARCH(\"12\",#REF!)),\"1\",\"0\")","v":"0"},{"$f":"IF(ISNUMBER(SEARCH(\"13\",#REF!)),\"1\",\"0\")","v":"0"},{"$f":"IF(ISNUMBER(SEARCH(\"14\",#REF!)),\"1\",\"0\")","v":"0"},{"$f":"IF(ISNUMBER(SEARCH(\"15\",#REF!)),\"1\",\"0\")","v":"0"},{"$f":"IF(ISNUMBER(SEARCH(\"16\",#REF!)),\"1\",\"0\")","v":"0"},{"$f":"IF(ISNUMBER(SEARCH(\"17\",#REF!)),\"1\",\"0\")","v":"0"},{"$nulls":9},42,{"$nulls":4},18,null,null,10,{"$f":"#REF!-#REF!","v":{"$error":"#REF!"}},{"$f":"#REF!-#REF!","v":{"$error":"#REF!"}}]
[4,42,426,1,1,72,1947,2,7,2,10,5,2,"2. Witness of violence (physical, threats, killings/death, torture, ill treatment, sexual, family/domestic)","0","1","0","0","0","0","0","0","0","0","0","0","0","0","0","0","0","0",null,1,7,5,2,{"$f":"IF(ISNUMBER(SEARCH(\"1\",#REF!)),\"1\",\"0\")","v":"0"},{"$f":"IF(ISNUMBER(SEARCH(\"2\",#REF!)),\"1\",\"0\")","v":"0"},{"$f":"IF(ISNUMBER(SEARCH(\"3\",#REF!)),\"1\",\"0\")","v":"0"},{"$f":"IF(ISNUMBER(SEARCH(\"4\",#REF!)),\"1\",\"0\")","v":"0"},{"$f":"IF(ISNUMBER(SEARCH(\"5\",#REF!)),\"1\",\"0\")","v":"0"},{"$f":"IF(ISNUMBER(SEARCH(\"6\",#REF!)),\"1\",\"0\")","v":"0"},{"$f":"IF(ISNUMBER(SEARCH(\"7\",#REF!)),\"1\",\"0\")","v":"0"},{"$f":"IF(ISNUMBER(SEARCH(\"8\",#REF!)),\"1\",\"0\")","v":"0"},{"$f":"IF(ISNUMBER(SEARCH(\"9\",#REF!)),\"1\",\"0\")","v":"0"},{"$f":"IF(ISNUMBER(SEARCH(\"9\",#REF!)),\"1\",\"0\")","v":"0"},{"$f":"IF(ISNUMBER(SEARCH(\"10\",#REF!)),\"1\",\"0\")","v":"0"},{"$f":"IF(ISNUMBER(SEARCH(\"11\",#REF!)),\"1\",\"0\")","v":"0"},{"$f":"IF(ISNUMBER(SEARCH(\"12\",#REF!)),\"1\",\"0\")","v":"0"},{"$f":"IF(ISNUMBER(SEARCH(\"13\",#REF!)),\"1\",\"0\")","v":"0"},{"$f":"IF(ISNUMBER(SEARCH(\"14\",#REF!)),\"1\",\"0\")","v":"0"},{"$f":"IF(ISNUMBER(SEARCH(\"15\",#REF!)),\"1\",\"0\")","v":"0"},{"$f":"IF(ISNUMBER(SEARCH(\"16\",#REF!)),\"1\",\"0\")","v":"0"},{"$f":"IF(ISNUMBER(SEARCH(\"17\",#REF!)),\"1\",\"0\")","v":"0"},{"$nulls":9},71,{"$nulls":4},18,null,null,11,{"$f":"#REF!-#REF!","v":{"$error":"#REF!"}},{"$f":"#REF!-#REF!","v":{"$error":"#REF!"}}]
[4,42,426,"04&09",1,56,1963,2,7,2,16,5,2,"2. Witness of violence (physical, threats, killings/death, torture, ill treatment, sexual, family/domestic), 11. Killing of family member/loved one","1","1","0","0","0","0","0","0","0","0","1","0","0","0","0","0","0","0",null,1,1,5,2,{"$f":"IF(ISNUMBER(SEARCH(\"1\",#REF!)),\"1\",\"0\")","v":"0"},{"$f":"IF(ISNUMBER(SEARCH(\"2\",#REF!)),\"1\",\"0\")","v":"0"},{"$f":"IF(ISNUMBER(SEARCH(\"3\",#REF!)),\"1\",\"0\")","v":"0"},{"$f":"IF(ISNUMBER(SEARCH(\"4\",#REF!)),\"1\",\"0\")","v":"0"},{"$f":"IF(ISNUMBER(SEARCH(\"5\",#REF!)),\"1\",\"0\")","v":"0"},{"$f":"IF(ISNUMBER(SEARCH(\"6\",#REF!)),\"1\",\"0\")","v":"0"},{"$f":"IF(ISNUMBER(SEARCH(\"7\",#REF!)),\"1\",\"0\")","v":"0"},{"$f":"IF(ISNUMBER(SEARCH(\"8\",#REF!)),\"1\",\"0\")","v":"0"},{"$f":"IF(ISNUMBER(SEARCH(\"9\",#REF!)),\"1\",\"0\")","v":"0"},{"$f":"IF(ISNUMBER(SEARCH(\"9\",#REF!)),\"1\",\"0\")","v":"0"},{"$f":"IF(ISNUMBER(SEARCH(\"10\",#REF!)),\"1\",\"0\")","v":"0"},{"$f":"IF(ISNUMBER(SEARCH(\"11\",#REF!)),\"1\",\"0\")","v":"0"},{"$f":"IF(ISNUMBER(SEARCH(\"12\",#REF!)),\"1\",\"0\")","v":"0"},{"$f":"IF(ISNUMBER(SEARCH(\"13\",#REF!)),\"1\",\"0\")","v":"0"},{"$f":"IF(ISNUMBER(SEARCH(\"14\",#REF!)),\"1\",\"0\")","v":"0"},{"$f":"IF(ISNUMBER(SEARCH(\"15\",#REF!)),\"1\",\"0\")","v":"0"},{"$f":"IF(ISNUMBER(SEARCH(\"16\",#REF!)),\"1\",\"0\")","v":"0"},{"$f":"IF(ISNUMBER(SEARCH(\"17\",#REF!)),\"1\",\"0\")","v":"0"},{"$nulls":9},29,{"$nulls":4},16,null,null,10,{"$f":"#REF!-#REF!","v":{"$error":"#REF!"}},{"$f":"#REF!-#REF!","v":{"$error":"#REF!"}}]
[4,42,426,"08&06",1,75,1944,2,8,2,8,5,2,"2. Witness of violence (physical, threats, killings/death, torture, ill treatment, sexual, family/domestic), 11. Killing of family member/loved one","1","1","0","0","0","0","0","0","0","0","1","0","0","0","0","0","0","0",null,2,7,4,2,{"$f":"IF(ISNUMBER(SEARCH(\"1\",#REF!)),\"1\",\"0\")","v":"0"},{"$f":"IF(ISNUMBER(SEARCH(\"2\",#REF!)),\"1\",\"0\")","v":"0"},{"$f":"IF(ISNUMBER(SEARCH(\"3\",#REF!)),\"1\",\"0\")","v":"0"},{"$f":"IF(ISNUMBER(SEARCH(\"4\",#REF!)),\"1\",\"0\")","v":"0"},{"$f":"IF(ISNUMBER(SEARCH(\"5\",#REF!)),\"1\",\"0\")","v":"0"},{"$f":"IF(ISNUMBER(SEARCH(\"6\",#REF!)),\"1\",\"0\")","v":"0"},{"$f":"IF(ISNUMBER(SEARCH(\"7\",#REF!)),\"1\",\"0\")","v":"0"},{"$f":"IF(ISNUMBER(SEARCH(\"8\",#REF!)),\"1\",\"0\")","v":"0"},{"$f":"IF(ISNUMBER(SEARCH(\"9\",#REF!)),\"1\",\"0\")","v":"0"},{"$f":"IF(ISNUMBER(SEARCH(\"9\",#REF!)),\"1\",\"0\")","v":"0"},{"$f":"IF(ISNUMBER(SEARCH(\"10\",#REF!)),\"1\",\"0\")","v":"0"},{"$f":"IF(ISNUMBER(SEARCH(\"11\",#REF!)),\"1\",\"0\")","v":"0"},{"$f":"IF(ISNUMBER(SEARCH(\"12\",#REF!)),\"1\",\"0\")","v":"0"},{"$f":"IF(ISNUMBER(SEARCH(\"13\",#REF!)),\"1\",\"0\")","v":"0"},{"$f":"IF(ISNUMBER(SEARCH(\"14\",#REF!)),\"1\",\"0\")","v":"0"},{"$f":"IF(ISNUMBER(SEARCH(\"15\",#REF!)),\"1\",\"0\")","v":"0"},{"$f":"IF(ISNUMBER(SEARCH(\"16\",#REF!)),\"1\",\"0\")","v":"0"},{"$f":"IF(ISNUMBER(SEARCH(\"17\",#REF!)),\"1\",\"0\")","v":"0"},{"$nulls":9},35,{"$nulls":4},0,null,null,3,{"$f":"#REF!-#REF!","v":{"$error":"#REF!"}}]
[4,42,426,1,1,55,1964,2,8,2,11,5,2,"2. Witness of violence (physical, threats, killings/death, torture, ill treatment, sexual, family/domestic)","0","1","0","0","0","0","0","0","0","0","0","0","0","0","0","0","0","0",null,1,1,5,2,{"$f":"IF(ISNUMBER(SEARCH(\"1\",#REF!)),\"1\",\"0\")","v":"0"},{"$f":"IF(ISNUMBER(SEARCH(\"2\",#REF!)),\"1\",\"0\")","v":"0"},{"$f":"IF(ISNUMBER(SEARCH(\"3\",#REF!)),\"1\",\"0\")","v":"0"},{"$f":"IF(ISNUMBER(SEARCH(\"4\",#REF!)),\"1\",\"0\")","v":"0"},{"$f":"IF(ISNUMBER(SEARCH(\"5\",#REF!)),\"1\",\"0\")","v":"0"},{"$f":"IF(ISNUMBER(SEARCH(\"6\",#REF!)),\"1\",\"0\")","v":"0"},{"$f":"IF(ISNUMBER(SEARCH(\"7\",#REF!)),\"1\",\"0\")","v":"0"},{"$f":"IF(ISNUMBER(SEARCH(\"8\",#REF!)),\"1\",\"0\")","v":"0"},{"$f":"IF(ISNUMBER(SEARCH(\"9\",#REF!)),\"1\",\"0\")","v":"0"},{"$f":"IF(ISNUMBER(SEARCH(\"9\",#REF!)),\"1\",\"0\")","v":"0"},{"$f":"IF(ISNUMBER(SEARCH(\"10\",#REF!)),\"1\",\"0\")","v":"0"},{"$f":"IF(ISNUMBER(SEARCH(\"11\",#REF!)),\"1\",\"0\")","v":"0"},{"$f":"IF(ISNUMBER(SEARCH(\"12\",#REF!)),\"1\",\"0\")","v":"0"},{"$f":"IF(ISNUMBER(SEARCH(\"13\",#REF!)),\"1\",\"0\")","v":"0"},{"$f":"IF(ISNUMBER(SEARCH(\"14\",#REF!)),\"1\",\"0\")","v":"0"},{"$f":"IF(ISNUMBER(SEARCH(\"15\",#REF!)),\"1\",\"0\")","v":"0"},{"$f":"IF(ISNUMBER(SEARCH(\"16\",#REF!)),\"1\",\"0\")","v":"0"},{"$f":"IF(ISNUMBER(SEARCH(\"17\",#REF!)),\"1\",\"0\")","v":"0"},{"$nulls":9},63,{"$nulls":4},12,null,null,11,{"$f":"#REF!-#REF!","v":{"$error":"#REF!"}},{"$f":"#REF!-#REF!","v":{"$error":"#REF!"}}]
[4,42,426,"7&10",1,35,1984,2,3,2,7,5,2,"2. Witness of violence (physical, threats, killings/death, torture, ill treatment, sexual, family/domestic)",{"$f":"IF(ISNUMBER(SEARCH(\"1\",$N6339)),\"1\",\"0\")","v":"0"},{"$f":"IF(ISNUMBER(SEARCH(\"2\",$N6339)),\"1\",\"0\")","v":"1"},{"$f":"IF(ISNUMBER(SEARCH(\"3\",$N6339)),\"1\",\"0\")","v":"0"},{"$f":"IF(ISNUMBER(SEARCH(\"4\",$N6339)),\"1\",\"0\")","v":"0"},{"$f":"IF(ISNUMBER(SEARCH(\"5\",$N6339)),\"1\",\"0\")","v":"0"},{"$f":"IF(ISNUMBER(SEARCH(\"6\",$N6339)),\"1\",\"0\")","v":"0"},{"$f":"IF(ISNUMBER(SEARCH(\"7\",$N6339)),\"1\",\"0\")","v":"0"},{"$f":"IF(ISNUMBER(SEARCH(\"8\",$N6339)),\"1\",\"0\")","v":"0"},{"$f":"IF(ISNUMBER(SEARCH(\"9\",$N6339)),\"1\",\"0\")","v":"0"},{"$f":"IF(ISNUMBER(SEARCH(\"10\",$N6339)),\"1\",\"0\")","v":"0"},{"$f":"IF(ISNUMBER(SEARCH(\"11\",$N6339)),\"1\",\"0\")","v":"0"},{"$f":"IF(ISNUMBER(SEARCH(\"12\",$N6339)),\"1\",\"0\")","v":"0"},{"$f":"IF(ISNUMBER(SEARCH(\"13\",$N6339)),\"1\",\"0\")","v":"0"},{"$f":"IF(ISNUMBER(SEARCH(\"14\",$N6339)),\"1\",\"0\")","v":"0"},{"$f":"IF(ISNUMBER(SEARCH(\"15\",$N6339)),\"1\",\"0\")","v":"0"},{"$f":"IF(ISNUMBER(SEARCH(\"16\",$N6339)),\"1\",\"0\")","v":"0"},{"$f":"IF(ISNUMBER(SEARCH(\"17\",$N6339)),\"1\",\"0\")","v":"0"},{"$f":"IF(ISNUMBER(SEARCH(\"18\",$N6339)),\"1\",\"0\")","v":"0"},null,1,7,4,2,{"$f":"IF(ISNUMBER(SEARCH(\"1\",#REF!)),\"1\",\"0\")","v":"0"},0,{"$f":"IF(ISNUMBER(SEARCH(\"3\",#REF!)),\"1\",\"0\")","v":"0"},{"$f":"IF(ISNUMBER(SEARCH(\"4\",#REF!)),\"1\",\"0\")","v":"0"},{"$f":"IF(ISNUMBER(SEARCH(\"5\",#REF!)),\"1\",\"0\")","v":"0"},{"$f":"IF(ISNUMBER(SEARCH(\"6\",#REF!)),\"1\",\"0\")","v":"0"},{"$f":"IF(ISNUMBER(SEARCH(\"7\",#REF!)),\"1\",\"0\")","v":"0"},{"$f":"IF(ISNUMBER(SEARCH(\"8\",#REF!)),\"1\",\"0\")","v":"0"},{"$f":"IF(ISNUMBER(SEARCH(\"9\",#REF!)),\"1\",\"0\")","v":"0"},{"$f":"IF(ISNUMBER(SEARCH(\"9\",#REF!)),\"1\",\"0\")","v":"0"},{"$f":"IF(ISNUMBER(SEARCH(\"10\",#REF!)),\"1\",\"0\")","v":"0"},{"$f":"IF(ISNUMBER(SEARCH(\"11\",#REF!)),\"1\",\"0\")","v":"0"},{"$f":"IF(ISNUMBER(SEARCH(\"12\",#REF!)),\"1\",\"0\")","v":"0"},{"$f":"IF(ISNUMBER(SEARCH(\"13\",#REF!)),\"1\",\"0\")","v":"0"},{"$f":"IF(ISNUMBER(SEARCH(\"14\",#REF!)),\"1\",\"0\")","v":"0"},{"$f":"IF(ISNUMBER(SEARCH(\"15\",#REF!)),\"1\",\"0\")","v":"0"},{"$f":"IF(ISNUMBER(SEARCH(\"16\",#REF!)),\"1\",\"0\")","v":"0"},{"$f":"IF(ISNUMBER(SEARCH(\"17\",#REF!)),\"1\",\"0\")","v":"0"},{"$nulls":9},47,{"$nulls":4},16,null,null,12,{"$f":"#REF!-#REF!","v":{"$error":"#REF!"}},{"$f":"#REF!-#REF!","v":{"$error":"#REF!"}}]
[4,42,426,2,1,37,1982,4,3,2,null,5,2,"1. Victim of violence (physical, incl. torture, ill treatment; family/domestic), 2. Witness of violence (physical, threats, killings/death, torture, ill treatment, sexual, family/domestic), 11. Killing of family member/loved one, 12. Disappearance of family member/loved one","1","1","0","0","0","0","0","0","0","0","1","1","0","0","0","0","0","0",null,1,1,5,2,{"$f":"IF(ISNUMBER(SEARCH(\"1\",#REF!)),\"1\",\"0\")","v":"0"},{"$f":"IF(ISNUMBER(SEARCH(\"2\",#REF!)),\"1\",\"0\")","v":"0"},{"$f":"IF(ISNUMBER(SEARCH(\"3\",#REF!)),\"1\",\"0\")","v":"0"},{"$f":"IF(ISNUMBER(SEARCH(\"4\",#REF!)),\"1\",\"0\")","v":"0"},{"$f":"IF(ISNUMBER(SEARCH(\"5\",#REF!)),\"1\",\"0\")","v":"0"},{"$f":"IF(ISNUMBER(SEARCH(\"6\",#REF!)),\"1\",\"0\")","v":"0"},{"$f":"IF(ISNUMBER(SEARCH(\"7\",#REF!)),\"1\",\"0\")","v":"0"},{"$f":"IF(ISNUMBER(SEARCH(\"8\",#REF!)),\"1\",\"0\")","v":"0"},{"$f":"IF(ISNUMBER(SEARCH(\"9\",#REF!)),\"1\",\"0\")","v":"0"},{"$f":"IF(ISNUMBER(SEARCH(\"9\",#REF!)),\"1\",\"0\")","v":"0"},{"$f":"IF(ISNUMBER(SEARCH(\"10\",#REF!)),\"1\",\"0\")","v":"0"},{"$f":"IF(ISNUMBER(SEARCH(\"11\",#REF!)),\"1\",\"0\")","v":"0"},{"$f":"IF(ISNUMBER(SEARCH(\"12\",#REF!)),\"1\",\"0\")","v":"0"},{"$f":"IF(ISNUMBER(SEARCH(\"13\",#REF!)),\"1\",\"0\")","v":"0"},{"$f":"IF(ISNUMBER(SEARCH(\"14\",#REF!)),\"1\",\"0\")","v":"0"},{"$f":"IF(ISNUMBER(SEARCH(\"15\",#REF!)),\"1\",\"0\")","v":"0"},{"$f":"IF(ISNUMBER(SEARCH(\"16\",#REF!)),\"1\",\"0\")","v":"0"},{"$f":"IF(ISNUMBER(SEARCH(\"17\",#REF!)),\"1\",\"0\")","v":"0"},{"$nulls":9},33,{"$nulls":4},12,null,null,10,{"$f":"#REF!-#REF!","v":{"$error":"#REF!"}},{"$f":"#REF!-#REF!","v":{"$error":"#REF!"}}]
[4,42,426,3,1,50,1969,4,3,2,5,5,2,"1. Victim of violence (physical, incl. torture, ill treatment; family/domestic), 2. Witness of violence (physical, threats, killings/death, torture, ill treatment, sexual, family/domestic), 11. Killing of family member/loved one, 12. Disappearance of family member/loved one","1","1","0","0","0","0","0","0","0","0","1","1","0","0","0","0","0","0",null,1,1,5,2,{"$f":"IF(ISNUMBER(SEARCH(\"1\",#REF!)),\"1\",\"0\")","v":"0"},{"$f":"IF(ISNUMBER(SEARCH(\"2\",#REF!)),\"1\",\"0\")","v":"0"},{"$f":"IF(ISNUMBER(SEARCH(\"3\",#REF!)),\"1\",\"0\")","v":"0"},{"$f":"IF(ISNUMBER(SEARCH(\"4\",#REF!)),\"1\",\"0\")","v":"0"},{"$f":"IF(ISNUMBER(SEARCH(\"5\",#REF!)),\"1\",\"0\")","v":"0"},{"$f":"IF(ISNUMBER(SEARCH(\"6\",#REF!)),\"1\",\"0\")","v":"0"},{"$f":"IF(ISNUMBER(SEARCH(\"7\",#REF!)),\"1\",\"0\")","v":"0"},{"$f":"IF(ISNUMBER(SEARCH(\"8\",#REF!)),\"1\",\"0\")","v":"0"},{"$f":"IF(ISNUMBER(SEARCH(\"9\",#REF!)),\"1\",\"0\")","v":"0"},{"$f":"IF(ISNUMBER(SEARCH(\"9\",#REF!)),\"1\",\"0\")","v":"0"},{"$f":"IF(ISNUMBER(SEARCH(\"10\",#REF!)),\"1\",\"0\")","v":"0"},{"$f":"IF(ISNUMBER(SEARCH(\"11\",#REF!)),\"1\",\"0\")","v":"0"},{"$f":"IF(ISNUMBER(SEARCH(\"12\",#REF!)),\"1\",\"0\")","v":"0"},{"$f":"IF(ISNUMBER(SEARCH(\"13\",#REF!)),\"1\",\"0\")","v":"0"},{"$f":"IF(ISNUMBER(SEARCH(\"14\",#REF!)),\"1\",\"0\")","v":"0"},{"$f":"IF(ISNUMBER(SEARCH(\"15\",#REF!)),\"1\",\"0\")","v":"0"},{"$f":"IF(ISNUMBER(SEARCH(\"16\",#REF!)),\"1\",\"0\")","v":"0"},{"$f":"IF(ISNUMBER(SEARCH(\"17\",#REF!)),\"1\",\"0\")","v":"0"},{"$nulls":9},32,{"$nulls":4},29,null,null,10,{"$f":"#REF!-#REF!","v":{"$error":"#REF!"}},{"$f":"#REF!-#REF!","v":{"$error":"#REF!"}}]
[4,42,427,8,2,41,1978,2,8,2,6,5,6,"1. Victim of violence (physical, incl. torture, ill treatment; family/domestic), 2. Witness of violence (physical, threats, killings/death, torture, ill treatment, sexual, family/domestic), 16. Other (please specify in the next cell)","1","1","0","0","0","1","0","0","0","0","0","0","0","0","0","1","0","0",null,1,1,4,2,{"$f":"IF(ISNUMBER(SEARCH(\"1\",#REF!)),\"1\",\"0\")","v":"0"},0,{"$f":"IF(ISNUMBER(SEARCH(\"3\",#REF!)),\"1\",\"0\")","v":"0"},{"$f":"IF(ISNUMBER(SEARCH(\"4\",#REF!)),\"1\",\"0\")","v":"0"},{"$f":"IF(ISNUMBER(SEARCH(\"5\",#REF!)),\"1\",\"0\")","v":"0"},{"$f":"IF(ISNUMBER(SEARCH(\"6\",#REF!)),\"1\",\"0\")","v":"0"},{"$f":"IF(ISNUMBER(SEARCH(\"7\",#REF!)),\"1\",\"0\")","v":"0"},{"$f":"IF(ISNUMBER(SEARCH(\"8\",#REF!)),\"1\",\"0\")","v":"0"},{"$f":"IF(ISNUMBER(SEARCH(\"9\",#REF!)),\"1\",\"0\")","v":"0"},{"$f":"IF(ISNUMBER(SEARCH(\"9\",#REF!)),\"1\",\"0\")","v":"0"},{"$f":"IF(ISNUMBER(SEARCH(\"10\",#REF!)),\"1\",\"0\")","v":"0"},{"$f":"IF(ISNUMBER(SEARCH(\"11\",#REF!)),\"1\",\"0\")","v":"0"},{"$f":"IF(ISNUMBER(SEARCH(\"12\",#REF!)),\"1\",\"0\")","v":"0"},{"$f":"IF(ISNUMBER(SEARCH(\"13\",#REF!)),\"1\",\"0\")","v":"0"},{"$f":"IF(ISNUMBER(SEARCH(\"14\",#REF!)),\"1\",\"0\")","v":"0"},{"$f":"IF(ISNUMBER(SEARCH(\"15\",#REF!)),\"1\",\"0\")","v":"0"},{"$f":"IF(ISNUMBER(SEARCH(\"16\",#REF!)),\"1\",\"0\")","v":"0"},{"$f":"IF(ISNUMBER(SEARCH(\"17\",#REF!)),\"1\",\"0\")","v":"0"},{"$nulls":9},43,{"$nulls":4},32,null,null,11,{"$f":"#REF!-#REF!","v":{"$error":"#REF!"}},{"$f":"#REF!-#REF!","v":{"$error":"#REF!"}}]
[4,42,427,"04&07",2,51,1968,3,8,2,9,5,6,"2. Witness of violence (physical, threats, killings/death, torture, ill treatment, sexual, family/domestic), 11. Killing of family member/loved one","1","1","0","0","0","0","0","0","0","0","1","0","0","0","0","0","0","0",null,1,1,5,2,{"$f":"IF(ISNUMBER(SEARCH(\"1\",#REF!)),\"1\",\"0\")","v":"0"},0,{"$f":"IF(ISNUMBER(SEARCH(\"3\",#REF!)),\"1\",\"0\")","v":"0"},{"$f":"IF(ISNUMBER(SEARCH(\"4\",#REF!)),\"1\",\"0\")","v":"0"},{"$f":"IF(ISNUMBER(SEARCH(\"5\",#REF!)),\"1\",\"0\")","v":"0"},{"$f":"IF(ISNUMBER(SEARCH(\"6\",#REF!)),\"1\",\"0\")","v":"0"},{"$f":"IF(ISNUMBER(SEARCH(\"7\",#REF!)),\"1\",\"0\")","v":"0"},{"$f":"IF(ISNUMBER(SEARCH(\"8\",#REF!)),\"1\",\"0\")","v":"0"},{"$f":"IF(ISNUMBER(SEARCH(\"9\",#REF!)),\"1\",\"0\")","v":"0"},{"$f":"IF(ISNUMBER(SEARCH(\"9\",#REF!)),\"1\",\"0\")","v":"0"},{"$f":"IF(ISNUMBER(SEARCH(\"10\",#REF!)),\"1\",\"0\")","v":"0"},{"$f":"IF(ISNUMBER(SEARCH(\"11\",#REF!)),\"1\",\"0\")","v":"0"},{"$f":"IF(ISNUMBER(SEARCH(\"12\",#REF!)),\"1\",\"0\")","v":"0"},{"$f":"IF(ISNUMBER(SEARCH(\"13\",#REF!)),\"1\",\"0\")","v":"0"},{"$f":"IF(ISNUMBER(SEARCH(\"14\",#REF!)),\"1\",\"0\")","v":"0"},{"$f":"IF(ISNUMBER(SEARCH(\"15\",#REF!)),\"1\",\"0\")","v":"0"},{"$f":"IF(ISNUMBER(SEARCH(\"16\",#REF!)),\"1\",\"0\")","v":"0"},{"$f":"IF(ISNUMBER(SEARCH(\"17\",#REF!)),\"1\",\"0\")","v":"0"},{"$nulls":9},47,{"$nulls":4},12,null,null,12,{"$f":"#REF!-#REF!","v":{"$error":"#REF!"}},{"$f":"#REF!-#REF!","v":{"$error":"#REF!"}}]
[4,42,427,3,2,45,1974,3,8,2,10,5,6,"2. Witness of violence (physical, threats, killings/death, torture, ill treatment, sexual, family/domestic)","0","1","0","0","0","0","0","0","0","0","0","0","0","0","0","0","0","0",null,1,3,4,2,{"$f":"IF(ISNUMBER(SEARCH(\"1\",#REF!)),\"1\",\"0\")","v":"0"},{"$f":"IF(ISNUMBER(SEARCH(\"2\",#REF!)),\"1\",\"0\")","v":"0"},{"$f":"IF(ISNUMBER(SEARCH(\"3\",#REF!)),\"1\",\"0\")","v":"0"},{"$f":"IF(ISNUMBER(SEARCH(\"4\",#REF!)),\"1\",\"0\")","v":"0"},{"$f":"IF(ISNUMBER(SEARCH(\"5\",#REF!)),\"1\",\"0\")","v":"0"},{"$f":"IF(ISNUMBER(SEARCH(\"6\",#REF!)),\"1\",\"0\")","v":"0"},{"$f":"IF(ISNUMBER(SEARCH(\"7\",#REF!)),\"1\",\"0\")","v":"0"},{"$f":"IF(ISNUMBER(SEARCH(\"8\",#REF!)),\"1\",\"0\")","v":"0"},{"$f":"IF(ISNUMBER(SEARCH(\"9\",#REF!)),\"1\",\"0\")","v":"0"},{"$f":"IF(ISNUMBER(SEARCH(\"9\",#REF!)),\"1\",\"0\")","v":"0"},{"$f":"IF(ISNUMBER(SEARCH(\"10\",#REF!)),\"1\",\"0\")","v":"0"},{"$f":"IF(ISNUMBER(SEARCH(\"11\",#REF!)),\"1\",\"0\")","v":"0"},{"$f":"IF(ISNUMBER(SEARCH(\"12\",#REF!)),\"1\",\"0\")","v":"0"},{"$f":"IF(ISNUMBER(SEARCH(\"13\",#REF!)),\"1\",\"0\")","v":"0"},{"$f":"IF(ISNUMBER(SEARCH(\"14\",#REF!)),\"1\",\"0\")","v":"0"},{"$f":"IF(ISNUMBER(SEARCH(\"15\",#REF!)),\"1\",\"0\")","v":"0"},{"$f":"IF(ISNUMBER(SEARCH(\"16\",#REF!)),\"1\",\"0\")","v":"0"},{"$f":"IF(ISNUMBER(SEARCH(\"17\",#REF!)),\"1\",\"0\")","v":"0"},{"$nulls":9},42,{"$nulls":4},12,null,null,10,{"$f":"#REF!-#REF!","v":{"$error":"#REF!"}},{"$f":"#REF!-#REF!","v":{"$error":"#REF!"}}]
[4,42,427,3,2,29,1990,3,8,2,3,5,6,"1. Victim of violence (physical, incl. torture, ill treatment; family/domestic), 2. Witness of violence (physical, threats, killings/death, torture, ill treatment, sexual, family/domestic), 11. Killing of family member/loved one","1","1","0","0","0","0","0","0","0","0","1","0","0","0","0","0","0","0",null,2,7,5,2,{"$f":"IF(ISNUMBER(SEARCH(\"1\",#REF!)),\"1\",\"0\")","v":"0"},{"$f":"IF(ISNUMBER(SEARCH(\"2\",#REF!)),\"1\",\"0\")","v":"0"},{"$f":"IF(ISNUMBER(SEARCH(\"3\",#REF!)),\"1\",\"0\")","v":"0"},{"$f":"IF(ISNUMBER(SEARCH(\"4\",#REF!)),\"1\",\"0\")","v":"0"},{"$f":"IF(ISNUMBER(SEARCH(\"5\",#REF!)),\"1\",\"0\")","v":"0"},{"$f":"IF(ISNUMBER(SEARCH(\"6\",#REF!)),\"1\",\"0\")","v":"0"},{"$f":"IF(ISNUMBER(SEARCH(\"7\",#REF!)),\"1\",\"0\")","v":"0"},{"$f":"IF(ISNUMBER(SEARCH(\"8\",#REF!)),\"1\",\"0\")","v":"0"},{"$f":"IF(ISNUMBER(SEARCH(\"9\",#REF!)),\"1\",\"0\")","v":"0"},{"$f":"IF(ISNUMBER(SEARCH(\"9\",#REF!)),\"1\",\"0\")","v":"0"},{"$f":"IF(ISNUMBER(SEARCH(\"10\",#REF!)),\"1\",\"0\")","v":"0"},{"$f":"IF(ISNUMBER(SEARCH(\"11\",#REF!)),\"1\",\"0\")","v":"0"},{"$f":"IF(ISNUMBER(SEARCH(\"12\",#REF!)),\"1\",\"0\")","v":"0"},{"$f":"IF(ISNUMBER(SEARCH(\"13\",#REF!)),\"1\",\"0\")","v":"0"},{"$f":"IF(ISNUMBER(SEARCH(\"14\",#REF!)),\"1\",\"0\")","v":"0"},{"$f":"IF(ISNUMBER(SEARCH(\"15\",#REF!)),\"1\",\"0\")","v":"0"},{"$f":"IF(ISNUMBER(SEARCH(\"16\",#REF!)),\"1\",\"0\")","v":"0"},{"$f":"IF(ISNUMBER(SEARCH(\"17\",#REF!)),\"1\",\"0\")","v":"0"},{"$nulls":9},67,{"$nulls":4},21,null,null,8,{"$f":"#REF!-#REF!","v":{"$error":"#REF!"}},{"$f":"#REF!-#REF!","v":{"$error":"#REF!"}}]
[4,42,427,"6&9",2,31,1988,2,8,2,5,5,6,"2. Witness of violence (physical, threats, killings/death, torture, ill treatment, sexual, family/domestic)","0","1","0","0","0","0","0","0","0","0","0","0","0","0","0","0","0","0",null,1,1,5,2,{"$f":"IF(ISNUMBER(SEARCH(\"1\",#REF!)),\"1\",\"0\")","v":"0"},{"$f":"IF(ISNUMBER(SEARCH(\"2\",#REF!)),\"1\",\"0\")","v":"0"},{"$f":"IF(ISNUMBER(SEARCH(\"3\",#REF!)),\"1\",\"0\")","v":"0"},{"$f":"IF(ISNUMBER(SEARCH(\"4\",#REF!)),\"1\",\"0\")","v":"0"},{"$f":"IF(ISNUMBER(SEARCH(\"5\",#REF!)),\"1\",\"0\")","v":"0"},{"$f":"IF(ISNUMBER(SEARCH(\"6\",#REF!)),\"1\",\"0\")","v":"0"},{"$f":"IF(ISNUMBER(SEARCH(\"7\",#REF!)),\"1\",\"0\")","v":"0"},{"$f":"IF(ISNUMBER(SEARCH(\"8\",#REF!)),\"1\",\"0\")","v":"0"},{"$f":"IF(ISNUMBER(SEARCH(\"9\",#REF!)),\"1\",\"0\")","v":"0"},{"$f":"IF(ISNUMBER(SEARCH(\"9\",#REF!)),\"1\",\"0\")","v":"0"},{"$f":"IF(ISNUMBER(SEARCH(\"10\",#REF!)),\"1\",\"0\")","v":"0"},{"$f":"IF(ISNUMBER(SEARCH(\"11\",#REF!)),\"1\",\"0\")","v":"0"},{"$f":"IF(ISNUMBER(SEARCH(\"12\",#REF!)),\"1\",\"0\")","v":"0"},{"$f":"IF(ISNUMBER(SEARCH(\"13\",#REF!)),\"1\",\"0\")","v":"0"},{"$f":"IF(ISNUMBER(SEARCH(\"14\",#REF!)),\"1\",\"0\")","v":"0"},{"$f":"IF(ISNUMBER(SEARCH(\"15\",#REF!)),\"1\",\"0\")","v":"0"},{"$f":"IF(ISNUMBER(SEARCH(\"16\",#REF!)),\"1\",\"0\")","v":"0"},{"$f":"IF(ISNUMBER(SEARCH(\"17\",#REF!)),\"1\",\"0\")","v":"0"},{"$nulls":9},38,{"$nulls":4},16,null,null,9,{"$f":"#REF!-#REF!","v":{"$error":"#REF!"}},{"$f":"#REF!-#REF!","v":{"$error":"#REF!"}}]
[4,42,427,1,2,60,1959,2,8,2,7,5,6,"2. Witness of violence (physical, threats, killings/death, torture, ill treatment, sexual, family/domestic)","0","1","0","0","0","0","0","0","0","0","0","0","0","0","0","0","0","0",null,1,1,4,null,{"$f":"IF(ISNUMBER(SEARCH(\"1\",#REF!)),\"1\",\"0\")","v":"0"},{"$f":"IF(ISNUMBER(SEARCH(\"2\",#REF!)),\"1\",\"0\")","v":"0"},{"$f":"IF(ISNUMBER(SEARCH(\"3\",#REF!)),\"1\",\"0\")","v":"0"},{"$f":"IF(ISNUMBER(SEARCH(\"4\",#REF!)),\"1\",\"0\")","v":"0"},{"$f":"IF(ISNUMBER(SEARCH(\"5\",#REF!)),\"1\",\"0\")","v":"0"},{"$f":"IF(ISNUMBER(SEARCH(\"6\",#REF!)),\"1\",\"0\")","v":"0"},{"$f":"IF(ISNUMBER(SEARCH(\"7\",#REF!)),\"1\",\"0\")","v":"0"},{"$f":"IF(ISNUMBER(SEARCH(\"8\",#REF!)),\"1\",\"0\")","v":"0"},{"$f":"IF(ISNUMBER(SEARCH(\"9\",#REF!)),\"1\",\"0\")","v":"0"},{"$f":"IF(ISNUMBER(SEARCH(\"9\",#REF!)),\"1\",\"0\")","v":"0"},{"$f":"IF(ISNUMBER(SEARCH(\"10\",#REF!)),\"1\",\"0\")","v":"0"},{"$f":"IF(ISNUMBER(SEARCH(\"11\",#REF!)),\"1\",\"0\")","v":"0"},{"$f":"IF(ISNUMBER(SEARCH(\"12\",#REF!)),\"1\",\"0\")","v":"0"},{"$f":"IF(ISNUMBER(SEARCH(\"13\",#REF!)),\"1\",\"0\")","v":"0"},{"$f":"IF(ISNUMBER(SEARCH(\"14\",#REF!)),\"1\",\"0\")","v":"0"},{"$f":"IF(ISNUMBER(SEARCH(\"15\",#REF!)),\"1\",\"0\")","v":"0"},{"$f":"IF(ISNUMBER(SEARCH(\"16\",#REF!)),\"1\",\"0\")","v":"0"},{"$f":"IF(ISNUMBER(SEARCH(\"17\",#REF!)),\"1\",\"0\")","v":"0"},{"$nulls":9},54,{"$nulls":4},11,null,null,11,{"$f":"#REF!-#REF!","v":{"$error":"#REF!"}},{"$f":"#REF!-#REF!","v":{"$error":"#REF!"}}]
[4,42,427,11,2,33,1986,3,8,2,9,5,6,"2. Witness of violence (physical, threats, killings/death, torture, ill treatment, sexual, family/domestic)","0","1","0","0","0","0","0","0","0","0","0","0","0","0","0","0","0","0",null,1,1,5,null,{"$f":"IF(ISNUMBER(SEARCH(\"1\",#REF!)),\"1\",\"0\")","v":"0"},{"$f":"IF(ISNUMBER(SEARCH(\"2\",#REF!)),\"1\",\"0\")","v":"0"},{"$f":"IF(ISNUMBER(SEARCH(\"3\",#REF!)),\"1\",\"0\")","v":"0"},{"$f":"IF(ISNUMBER(SEARCH(\"4\",#REF!)),\"1\",\"0\")","v":"0"},{"$f":"IF(ISNUMBER(SEARCH(\"5\",#REF!)),\"1\",\"0\")","v":"0"},{"$f":"IF(ISNUMBER(SEARCH(\"6\",#REF!)),\"1\",\"0\")","v":"0"},{"$f":"IF(ISNUMBER(SEARCH(\"7\",#REF!)),\"1\",\"0\")","v":"0"},{"$f":"IF(ISNUMBER(SEARCH(\"8\",#REF!)),\"1\",\"0\")","v":"0"},{"$f":"IF(ISNUMBER(SEARCH(\"9\",#REF!)),\"1\",\"0\")","v":"0"},{"$f":"IF(ISNUMBER(SEARCH(\"9\",#REF!)),\"1\",\"0\")","v":"0"},{"$f":"IF(ISNUMBER(SEARCH(\"10\",#REF!)),\"1\",\"0\")","v":"0"},{"$f":"IF(ISNUMBER(SEARCH(\"11\",#REF!)),\"1\",\"0\")","v":"0"},{"$f":"IF(ISNUMBER(SEARCH(\"12\",#REF!)),\"1\",\"0\")","v":"0"},{"$f":"IF(ISNUMBER(SEARCH(\"13\",#REF!)),\"1\",\"0\")","v":"0"},{"$f":"IF(ISNUMBER(SEARCH(\"14\",#REF!)),\"1\",\"0\")","v":"0"},{"$f":"IF(ISNUMBER(SEARCH(\"15\",#REF!)),\"1\",\"0\")","v":"0"},{"$f":"IF(ISNUMBER(SEARCH(\"16\",#REF!)),\"1\",\"0\")","v":"0"},{"$f":"IF(ISNUMBER(SEARCH(\"17\",#REF!)),\"1\",\"0\")","v":"0"},{"$nulls":9},64,{"$nulls":4},18,null,null,11,{"$f":"#REF!-#REF!","v":{"$error":"#REF!"}},{"$f":"#REF!-#REF!","v":{"$error":"#REF!"}}]
[4,42,427,"6&9",2,41,1978,4,7,2,3,5,6,"1. Victim of violence (physical, incl. torture, ill treatment; family/domestic), 2. Witness of violence (physical, threats, killings/death, torture, ill treatment, sexual, family/domestic), 11. Killing of family member/loved one","1","1","0","0","0","0","0","0","0","0","1","0","0","0","0","0","0","0",null,2,1,5,null,{"$f":"IF(ISNUMBER(SEARCH(\"1\",#REF!)),\"1\",\"0\")","v":"0"},{"$f":"IF(ISNUMBER(SEARCH(\"2\",#REF!)),\"1\",\"0\")","v":"0"},{"$f":"IF(ISNUMBER(SEARCH(\"3\",#REF!)),\"1\",\"0\")","v":"0"},{"$f":"IF(ISNUMBER(SEARCH(\"4\",#REF!)),\"1\",\"0\")","v":"0"},{"$f":"IF(ISNUMBER(SEARCH(\"5\",#REF!)),\"1\",\"0\")","v":"0"},{"$f":"IF(ISNUMBER(SEARCH(\"6\",#REF!)),\"1\",\"0\")","v":"0"},{"$f":"IF(ISNUMBER(SEARCH(\"7\",#REF!)),\"1\",\"0\")","v":"0"},{"$f":"IF(ISNUMBER(SEARCH(\"8\",#REF!)),\"1\",\"0\")","v":"0"},{"$f":"IF(ISNUMBER(SEARCH(\"9\",#REF!)),\"1\",\"0\")","v":"0"},{"$f":"IF(ISNUMBER(SEARCH(\"9\",#REF!)),\"1\",\"0\")","v":"0"},{"$f":"IF(ISNUMBER(SEARCH(\"10\",#REF!)),\"1\",\"0\")","v":"0"},{"$f":"IF(ISNUMBER(SEARCH(\"11\",#REF!)),\"1\",\"0\")","v":"0"},{"$f":"IF(ISNUMBER(SEARCH(\"12\",#REF!)),\"1\",\"0\")","v":"0"},{"$f":"IF(ISNUMBER(SEARCH(\"13\",#REF!)),\"1\",\"0\")","v":"0"},{"$f":"IF(ISNUMBER(SEARCH(\"14\",#REF!)),\"1\",\"0\")","v":"0"},{"$f":"IF(ISNUMBER(SEARCH(\"15\",#REF!)),\"1\",\"0\")","v":"0"},{"$f":"IF(ISNUMBER(SEARCH(\"16\",#REF!)),\"1\",\"0\")","v":"0"},{"$f":"IF(ISNUMBER(SEARCH(\"17\",#REF!)),\"1\",\"0\")","v":"0"},{"$nulls":9},52,{"$nulls":4},50,null,null,11,{"$f":"#REF!-#REF!","v":{"$error":"#REF!"}},{"$f":"#REF!-#REF!","v":{"$error":"#REF!"}}]
[4,42,427,2,2,23,1996,4,8,2,3,5,6,"1. Victim of violence (physical, incl. torture, ill treatment; family/domestic), 2. Witness of violence (physical, threats, killings/death, torture, ill treatment, sexual, family/domestic), 11. Killing of family member/loved one","1","1","0","0","0","0","0","0","0","0","1","0","0","0","0","0","0","0",null,2,1,5,null,{"$f":"IF(ISNUMBER(SEARCH(\"1\",#REF!)),\"1\",\"0\")","v":"0"},{"$f":"IF(ISNUMBER(SEARCH(\"2\",#REF!)),\"1\",\"0\")","v":"0"},{"$f":"IF(ISNUMBER(SEARCH(\"3\",#REF!)),\"1\",\"0\")","v":"0"},{"$f":"IF(ISNUMBER(SEARCH(\"4\",#REF!)),\"1\",\"0\")","v":"0"},{"$f":"IF(ISNUMBER(SEARCH(\"5\",#REF!)),\"1\",\"0\")","v":"0"},{"$f":"IF(ISNUMBER(SEARCH(\"6\",#REF!)),\"1\",\"0\")","v":"0"},{"$f":"IF(ISNUMBER(SEARCH(\"7\",#REF!)),\"1\",\"0\")","v":"0"},{"$f":"IF(ISNUMBER(SEARCH(\"8\",#REF!)),\"1\",\"0\")","v":"0"},{"$f":"IF(ISNUMBER(SEARCH(\"9\",#REF!)),\"1\",\"0\")","v":"0"},{"$f":"IF(ISNUMBER(SEARCH(\"9\",#REF!)),\"1\",\"0\")","v":"0"},{"$f":"IF(ISNUMBER(SEARCH(\"10\",#REF!)),\"1\",\"0\")","v":"0"},{"$f":"IF(ISNUMBER(SEARCH(\"11\",#REF!)),\"1\",\"0\")","v":"0"},{"$f":"IF(ISNUMBER(SEARCH(\"12\",#REF!)),\"1\",\"0\")","v":"0"},{"$f":"IF(ISNUMBER(SEARCH(\"13\",#REF!)),\"1\",\"0\")","v":"0"},{"$f":"IF(ISNUMBER(SEARCH(\"14\",#REF!)),\"1\",\"0\")","v":"0"},{"$f":"IF(ISNUMBER(SEARCH(\"15\",#REF!)),\"1\",\"0\")","v":"0"},{"$f":"IF(ISNUMBER(SEARCH(\"16\",#REF!)),\"1\",\"0\")","v":"0"},{"$f":"IF(ISNUMBER(SEARCH(\"17\",#REF!)),\"1\",\"0\")","v":"0"},{"$nulls":9},58,{"$nulls":4},41,null,null,11,{"$f":"#REF!-#REF!","v":{"$error":"#REF!"}},{"$f":"#REF!-#REF!","v":{"$error":"#REF!"}}]
[4,42,427,2,2,28,1991,4,8,2,3,5,6,"2. Witness of violence (physical, threats, killings/death, torture, ill treatment, sexual, family/domestic), 11. Killing of family member/loved one","1","1","0","0","0","0","0","0","0","0","1","0","0","0","0","0","0","0",null,1,1,5,null,{"$f":"IF(ISNUMBER(SEARCH(\"1\",#REF!)),\"1\",\"0\")","v":"0"},{"$f":"IF(ISNUMBER(SEARCH(\"2\",#REF!)),\"1\",\"0\")","v":"0"},{"$f":"IF(ISNUMBER(SEARCH(\"3\",#REF!)),\"1\",\"0\")","v":"0"},{"$f":"IF(ISNUMBER(SEARCH(\"4\",#REF!)),\"1\",\"0\")","v":"0"},{"$f":"IF(ISNUMBER(SEARCH(\"5\",#REF!)),\"1\",\"0\")","v":"0"},{"$f":"IF(ISNUMBER(SEARCH(\"6\",#REF!)),\"1\",\"0\")","v":"0"},{"$f":"IF(ISNUMBER(SEARCH(\"7\",#REF!)),\"1\",\"0\")","v":"0"},{"$f":"IF(ISNUMBER(SEARCH(\"8\",#REF!)),\"1\",\"0\")","v":"0"},{"$f":"IF(ISNUMBER(SEARCH(\"9\",#REF!)),\"1\",\"0\")","v":"0"},{"$f":"IF(ISNUMBER(SEARCH(\"9\",#REF!)),\"1\",\"0\")","v":"0"},{"$f":"IF(ISNUMBER(SEARCH(\"10\",#REF!)),\"1\",\"0\")","v":"0"},{"$f":"IF(ISNUMBER(SEARCH(\"11\",#REF!)),\"1\",\"0\")","v":"0"},{"$f":"IF(ISNUMBER(SEARCH(\"12\",#REF!)),\"1\",\"0\")","v":"0"},{"$f":"IF(ISNUMBER(SEARCH(\"13\",#REF!)),\"1\",\"0\")","v":"0"},{"$f":"IF(ISNUMBER(SEARCH(\"14\",#REF!)),\"1\",\"0\")","v":"0"},{"$f":"IF(ISNUMBER(SEARCH(\"15\",#REF!)),\"1\",\"0\")","v":"0"},{"$f":"IF(ISNUMBER(SEARCH(\"16\",#REF!)),\"1\",\"0\")","v":"0"},{"$f":"IF(ISNUMBER(SEARCH(\"17\",#REF!)),\"1\",\"0\")","v":"0"},{"$nulls":9},28,{"$nulls":4},25,null,null,11,{"$f":"#REF!-#REF!","v":{"$error":"#REF!"}},{"$f":"#REF!-#REF!","v":{"$error":"#REF!"}}]
[4,42,427,2,2,37,1982,3,8,2,6,5,6,"2. Witness of violence (physical, threats, killings/death, torture, ill treatment, sexual, family/domestic), 11. Killing of family member/loved one","1","1","0","0","0","0","0","0","0","0","1","0","0","0","0","0","0","0",null,1,1,5,null,{"$f":"IF(ISNUMBER(SEARCH(\"1\",#REF!)),\"1\",\"0\")","v":"0"},{"$f":"IF(ISNUMBER(SEARCH(\"2\",#REF!)),\"1\",\"0\")","v":"0"},{"$f":"IF(ISNUMBER(SEARCH(\"3\",#REF!)),\"1\",\"0\")","v":"0"},{"$f":"IF(ISNUMBER(SEARCH(\"4\",#REF!)),\"1\",\"0\")","v":"0"},{"$f":"IF(ISNUMBER(SEARCH(\"5\",#REF!)),\"1\",\"0\")","v":"0"},{"$f":"IF(ISNUMBER(SEARCH(\"6\",#REF!)),\"1\",\"0\")","v":"0"},{"$f":"IF(ISNUMBER(SEARCH(\"7\",#REF!)),\"1\",\"0\")","v":"0"},{"$f":"IF(ISNUMBER(SEARCH(\"8\",#REF!)),\"1\",\"0\")","v":"0"},{"$f":"IF(ISNUMBER(SEARCH(\"9\",#REF!)),\"1\",\"0\")","v":"0"},{"$f":"IF(ISNUMBER(SEARCH(\"9\",#REF!)),\"1\",\"0\")","v":"0"},{"$f":"IF(ISNUMBER(SEARCH(\"10\",#REF!)),\"1\",\"0\")","v":"0"},{"$f":"IF(ISNUMBER(SEARCH(\"11\",#REF!)),\"1\",\"0\")","v":"0"},{"$f":"IF(ISNUMBER(SEARCH(\"12\",#REF!)),\"1\",\"0\")","v":"0"},{"$f":"IF(ISNUMBER(SEARCH(\"13\",#REF!)),\"1\",\"0\")","v":"0"},{"$f":"IF(ISNUMBER(SEARCH(\"14\",#REF!)),\"1\",\"0\")","v":"0"},{"$f":"IF(ISNUMBER(SEARCH(\"15\",#REF!)),\"1\",\"0\")","v":"0"},{"$f":"IF(ISNUMBER(SEARCH(\"16\",#REF!)),\"1\",\"0\")","v":"0"},{"$f":"IF(ISNUMBER(SEARCH(\"17\",#REF!)),\"1\",\"0\")","v":"0"},{"$nulls":9},38,{"$nulls":4},19,null,null,11,{"$f":"#REF!-#REF!","v":{"$error":"#REF!"}},{"$f":"#REF!-#REF!","v":{"$error":"#REF!"}}]
[4,42,427,3,2,31,1988,1,8,2,4,5,6,"2. Witness of violence (physical, threats, killings/death, torture, ill treatment, sexual, family/domestic)","0","1","0","0","0","0","0","0","0","0","0","0","0","0","0","0","0","0",null,1,1,4,2,{"$f":"IF(ISNUMBER(SEARCH(\"1\",#REF!)),\"1\",\"0\")","v":"0"},{"$f":"IF(ISNUMBER(SEARCH(\"2\",#REF!)),\"1\",\"0\")","v":"0"},{"$f":"IF(ISNUMBER(SEARCH(\"3\",#REF!)),\"1\",\"0\")","v":"0"},{"$f":"IF(ISNUMBER(SEARCH(\"4\",#REF!)),\"1\",\"0\")","v":"0"},{"$f":"IF(ISNUMBER(SEARCH(\"5\",#REF!)),\"1\",\"0\")","v":"0"},{"$f":"IF(ISNUMBER(SEARCH(\"6\",#REF!)),\"1\",\"0\")","v":"0"},{"$f":"IF(ISNUMBER(SEARCH(\"7\",#REF!)),\"1\",\"0\")","v":"0"},{"$f":"IF(ISNUMBER(SEARCH(\"8\",#REF!)),\"1\",\"0\")","v":"0"},{"$f":"IF(ISNUMBER(SEARCH(\"9\",#REF!)),\"1\",\"0\")","v":"0"},{"$f":"IF(ISNUMBER(SEARCH(\"9\",#REF!)),\"1\",\"0\")","v":"0"},{"$f":"IF(ISNUMBER(SEARCH(\"10\",#REF!)),\"1\",\"0\")","v":"0"},{"$f":"IF(ISNUMBER(SEARCH(\"11\",#REF!)),\"1\",\"0\")","v":"0"},{"$f":"IF(ISNUMBER(SEARCH(\"12\",#REF!)),\"1\",\"0\")","v":"0"},{"$f":"IF(ISNUMBER(SEARCH(\"13\",#REF!)),\"1\",\"0\")","v":"0"},{"$f":"IF(ISNUMBER(SEARCH(\"14\",#REF!)),\"1\",\"0\")","v":"0"},{"$f":"IF(ISNUMBER(SEARCH(\"15\",#REF!)),\"1\",\"0\")","v":"0"},{"$f":"IF(ISNUMBER(SEARCH(\"16\",#REF!)),\"1\",\"0\")","v":"0"},{"$f":"IF(ISNUMBER(SEARCH(\"17\",#REF!)),\"1\",\"0\")","v":"0"},{"$nulls":9},55,{"$nulls":4},17,null,null,12,{"$f":"#REF!-#REF!","v":{"$error":"#REF!"}},{"$f":"#REF!-#REF!","v":{"$error":"#REF!"}}]
[4,42,427,"04&07",2,28,1991,3,8,2,7,5,6,"2. Witness of violence (physical, threats, killings/death, torture, ill treatment, sexual, family/domestic), 11. Killing of family member/loved one","1","1","0","0","0","0","0","0","0","0","1","0","0","0","0","0","0","0",null,1,1,5,2,{"$f":"IF(ISNUMBER(SEARCH(\"1\",#REF!)),\"1\",\"0\")","v":"0"},{"$f":"IF(ISNUMBER(SEARCH(\"2\",#REF!)),\"1\",\"0\")","v":"0"},{"$f":"IF(ISNUMBER(SEARCH(\"3\",#REF!)),\"1\",\"0\")","v":"0"},{"$f":"IF(ISNUMBER(SEARCH(\"4\",#REF!)),\"1\",\"0\")","v":"0"},{"$f":"IF(ISNUMBER(SEARCH(\"5\",#REF!)),\"1\",\"0\")","v":"0"},{"$f":"IF(ISNUMBER(SEARCH(\"6\",#REF!)),\"1\",\"0\")","v":"0"},{"$f":"IF(ISNUMBER(SEARCH(\"7\",#REF!)),\"1\",\"0\")","v":"0"},{"$f":"IF(ISNUMBER(SEARCH(\"8\",#REF!)),\"1\",\"0\")","v":"0"},{"$f":"IF(ISNUMBER(SEARCH(\"9\",#REF!)),\"1\",\"0\")","v":"0"},{"$f":"IF(ISNUMBER(SEARCH(\"9\",#REF!)),\"1\",\"0\")","v":"0"},{"$f":"IF(ISNUMBER(SEARCH(\"10\",#REF!)),\"1\",\"0\")","v":"0"},{"$f":"IF(ISNUMBER(SEARCH(\"11\",#REF!)),\"1\",\"0\")","v":"0"},{"$f":"IF(ISNUMBER(SEARCH(\"12\",#REF!)),\"1\",\"0\")","v":"0"},{"$f":"IF(ISNUMBER(SEARCH(\"13\",#REF!)),\"1\",\"0\")","v":"0"},{"$f":"IF(ISNUMBER(SEARCH(\"14\",#REF!)),\"1\",\"0\")","v":"0"},{"$f":"IF(ISNUMBER(SEARCH(\"15\",#REF!)),\"1\",\"0\")","v":"0"},{"$f":"IF(ISNUMBER(SEARCH(\"16\",#REF!)),\"1\",\"0\")","v":"0"},{"$f":"IF(ISNUMBER(SEARCH(\"17\",#REF!)),\"1\",\"0\")","v":"0"},{"$nulls":9},51,{"$nulls":4},18,null,null,12,{"$f":"#REF!-#REF!","v":{"$error":"#REF!"}},{"$f":"#REF!-#REF!","v":{"$error":"#REF!"}}]
[4,42,427,4,2,37,1982,3,8,2,9,5,6,"2. Witness of violence (physical, threats, killings/death, torture, ill treatment, sexual, family/domestic), 12. Disappearance of family member/loved one","1","1","0","0","0","0","0","0","0","0","0","1","0","0","0","0","0","0",null,1,1,5,2,{"$f":"IF(ISNUMBER(SEARCH(\"1\",#REF!)),\"1\",\"0\")","v":"0"},0,{"$f":"IF(ISNUMBER(SEARCH(\"3\",#REF!)),\"1\",\"0\")","v":"0"},{"$f":"IF(ISNUMBER(SEARCH(\"4\",#REF!)),\"1\",\"0\")","v":"0"},{"$f":"IF(ISNUMBER(SEARCH(\"5\",#REF!)),\"1\",\"0\")","v":"0"},{"$f":"IF(ISNUMBER(SEARCH(\"6\",#REF!)),\"1\",\"0\")","v":"0"},{"$f":"IF(ISNUMBER(SEARCH(\"7\",#REF!)),\"1\",\"0\")","v":"0"},{"$f":"IF(ISNUMBER(SEARCH(\"8\",#REF!)),\"1\",\"0\")","v":"0"},{"$f":"IF(ISNUMBER(SEARCH(\"9\",#REF!)),\"1\",\"0\")","v":"0"},{"$f":"IF(ISNUMBER(SEARCH(\"9\",#REF!)),\"1\",\"0\")","v":"0"},{"$f":"IF(ISNUMBER(SEARCH(\"10\",#REF!)),\"1\",\"0\")","v":"0"},{"$f":"IF(ISNUMBER(SEARCH(\"11\",#REF!)),\"1\",\"0\")","v":"0"},{"$f":"IF(ISNUMBER(SEARCH(\"12\",#REF!)),\"1\",\"0\")","v":"0"},{"$f":"IF(ISNUMBER(SEARCH(\"13\",#REF!)),\"1\",\"0\")","v":"0"},{"$f":"IF(ISNUMBER(SEARCH(\"14\",#REF!)),\"1\",\"0\")","v":"0"},{"$f":"IF(ISNUMBER(SEARCH(\"15\",#REF!)),\"1\",\"0\")","v":"0"},{"$f":"IF(ISNUMBER(SEARCH(\"16\",#REF!)),\"1\",\"0\")","v":"0"},{"$f":"IF(ISNUMBER(SEARCH(\"17\",#REF!)),\"1\",\"0\")","v":"0"},{"$nulls":9},55,{"$nulls":4},18,null,null,11,{"$f":"#REF!-#REF!","v":{"$error":"#REF!"}},{"$f":"#REF!-#REF!","v":{"$error":"#REF!"}}]
[4,42,428,6,2,37,1982,1,3,2,9,5,2,"2. Witness of violence (physical, threats, killings/death, torture, ill treatment, sexual, family/domestic)","0","1","0","0","0","0","0","0","0","0","0","0","0","0","0","0","0","0",null,2,7,5,2,{"$f":"IF(ISNUMBER(SEARCH(\"1\",#REF!)),\"1\",\"0\")","v":"0"},{"$f":"IF(ISNUMBER(SEARCH(\"2\",#REF!)),\"1\",\"0\")","v":"0"},{"$f":"IF(ISNUMBER(SEARCH(\"3\",#REF!)),\"1\",\"0\")","v":"0"},{"$f":"IF(ISNUMBER(SEARCH(\"4\",#REF!)),\"1\",\"0\")","v":"0"},{"$f":"IF(ISNUMBER(SEARCH(\"5\",#REF!)),\"1\",\"0\")","v":"0"},{"$f":"IF(ISNUMBER(SEARCH(\"6\",#REF!)),\"1\",\"0\")","v":"0"},{"$f":"IF(ISNUMBER(SEARCH(\"7\",#REF!)),\"1\",\"0\")","v":"0"},{"$f":"IF(ISNUMBER(SEARCH(\"8\",#REF!)),\"1\",\"0\")","v":"0"},{"$f":"IF(ISNUMBER(SEARCH(\"9\",#REF!)),\"1\",\"0\")","v":"0"},{"$f":"IF(ISNUMBER(SEARCH(\"9\",#REF!)),\"1\",\"0\")","v":"0"},{"$f":"IF(ISNUMBER(SEARCH(\"10\",#REF!)),\"1\",\"0\")","v":"0"},{"$f":"IF(ISNUMBER(SEARCH(\"11\",#REF!)),\"1\",\"0\")","v":"0"},{"$f":"IF(ISNUMBER(SEARCH(\"12\",#REF!)),\"1\",\"0\")","v":"0"},{"$f":"IF(ISNUMBER(SEARCH(\"13\",#REF!)),\"1\",\"0\")","v":"0"},{"$f":"IF(ISNUMBER(SEARCH(\"14\",#REF!)),\"1\",\"0\")","v":"0"},{"$f":"IF(ISNUMBER(SEARCH(\"15\",#REF!)),\"1\",\"0\")","v":"0"},{"$f":"IF(ISNUMBER(SEARCH(\"16\",#REF!)),\"1\",\"0\")","v":"0"},{"$f":"IF(ISNUMBER(SEARCH(\"17\",#REF!)),\"1\",\"0\")","v":"0"},{"$nulls":9},32,{"$nulls":7},5,{"$f":"#REF!-#REF!","v":{"$error":"#REF!"}}]
[4,42,428,8,2,32,1987,2,1,2,4,5,2,"2. Witness of violence (physical, threats, killings/death, torture, ill treatment, sexual, family/domestic)","0","1","0","0","0","0","0","0","0","0","0","0","0","0","0","0","0","0",null,1,1,4,2,{"$f":"IF(ISNUMBER(SEARCH(\"1\",#REF!)),\"1\",\"0\")","v":"0"},{"$f":"IF(ISNUMBER(SEARCH(\"2\",#REF!)),\"1\",\"0\")","v":"0"},{"$f":"IF(ISNUMBER(SEARCH(\"3\",#REF!)),\"1\",\"0\")","v":"0"},{"$f":"IF(ISNUMBER(SEARCH(\"4\",#REF!)),\"1\",\"0\")","v":"0"},{"$f":"IF(ISNUMBER(SEARCH(\"5\",#REF!)),\"1\",\"0\")","v":"0"},{"$f":"IF(ISNUMBER(SEARCH(\"6\",#REF!)),\"1\",\"0\")","v":"0"},{"$f":"IF(ISNUMBER(SEARCH(\"7\",#REF!)),\"1\",\"0\")","v":"0"},{"$f":"IF(ISNUMBER(SEARCH(\"8\",#REF!)),\"1\",\"0\")","v":"0"},{"$f":"IF(ISNUMBER(SEARCH(\"9\",#REF!)),\"1\",\"0\")","v":"0"},{"$f":"IF(ISNUMBER(SEARCH(\"9\",#REF!)),\"1\",\"0\")","v":"0"},{"$f":"IF(ISNUMBER(SEARCH(\"10\",#REF!)),\"1\",\"0\")","v":"0"},{"$f":"IF(ISNUMBER(SEARCH(\"11\",#REF!)),\"1\",\"0\")","v":"0"},{"$f":"IF(ISNUMBER(SEARCH(\"12\",#REF!)),\"1\",\"0\")","v":"0"},{"$f":"IF(ISNUMBER(SEARCH(\"13\",#REF!)),\"1\",\"0\")","v":"0"},{"$f":"IF(ISNUMBER(SEARCH(\"14\",#REF!)),\"1\",\"0\")","v":"0"},{"$f":"IF(ISNUMBER(SEARCH(\"15\",#REF!)),\"1\",\"0\")","v":"0"},{"$f":"IF(ISNUMBER(SEARCH(\"16\",#REF!)),\"1\",\"0\")","v":"0"},{"$f":"IF(ISNUMBER(SEARCH(\"17\",#REF!)),\"1\",\"0\")","v":"0"},{"$nulls":9},62,{"$nulls":7},5,{"$f":"#REF!-#REF!","v":{"$error":"#REF!"}}]
[4,42,428,null,2,30,1989,2,3,2,6,5,2,"2. Witness of violence (physical, threats, killings/death, torture, ill treatment, sexual, family/domestic)","0","1","0","0","0","0","0","0","0","0","0","0","0","0","0","0","0","0",null,1,1,4,2,{"$f":"IF(ISNUMBER(SEARCH(\"1\",#REF!)),\"1\",\"0\")","v":"0"},{"$f":"IF(ISNUMBER(SEARCH(\"2\",#REF!)),\"1\",\"0\")","v":"0"},{"$f":"IF(ISNUMBER(SEARCH(\"3\",#REF!)),\"1\",\"0\")","v":"0"},{"$f":"IF(ISNUMBER(SEARCH(\"4\",#REF!)),\"1\",\"0\")","v":"0"},{"$f":"IF(ISNUMBER(SEARCH(\"5\",#REF!)),\"1\",\"0\")","v":"0"},{"$f":"IF(ISNUMBER(SEARCH(\"6\",#REF!)),\"1\",\"0\")","v":"0"},{"$f":"IF(ISNUMBER(SEARCH(\"7\",#REF!)),\"1\",\"0\")","v":"0"},{"$f":"IF(ISNUMBER(SEARCH(\"8\",#REF!)),\"1\",\"0\")","v":"0"},{"$f":"IF(ISNUMBER(SEARCH(\"9\",#REF!)),\"1\",\"0\")","v":"0"},{"$f":"IF(ISNUMBER(SEARCH(\"9\",#REF!)),\"1\",\"0\")","v":"0"},{"$f":"IF(ISNUMBER(SEARCH(\"10\",#REF!)),\"1\",\"0\")","v":"0"},{"$f":"IF(ISNUMBER(SEARCH(\"11\",#REF!)),\"1\",\"0\")","v":"0"},{"$f":"IF(ISNUMBER(SEARCH(\"12\",#REF!)),\"1\",\"0\")","v":"0"},{"$f":"IF(ISNUMBER(SEARCH(\"13\",#REF!)),\"1\",\"0\")","v":"0"},{"$f":"IF(ISNUMBER(SEARCH(\"14\",#REF!)),\"1\",\"0\")","v":"0"},{"$f":"IF(ISNUMBER(SEARCH(\"15\",#REF!)),\"1\",\"0\")","v":"0"},{"$f":"IF(ISNUMBER(SEARCH(\"16\",#REF!)),\"1\",\"0\")","v":"0"},{"$f":"IF(ISNUMBER(SEARCH(\"17\",#REF!)),\"1\",\"0\")","v":"0"},{"$nulls":9},63,{"$nulls":7},6,{"$f":"#REF!-#REF!","v":{"$error":"#REF!"}}]
[4,42,428,6,2,30,1989,3,8,2,4,5,2,"2. Witness of violence (physical, threats, killings/death, torture, ill treatment, sexual, family/domestic)","0","1","0","0","0","0","0","0","0","0","0","0","0","0","0","0","0","0",null,1,7,4,2,{"$f":"IF(ISNUMBER(SEARCH(\"1\",#REF!)),\"1\",\"0\")","v":"0"},{"$f":"IF(ISNUMBER(SEARCH(\"2\",#REF!)),\"1\",\"0\")","v":"0"},{"$f":"IF(ISNUMBER(SEARCH(\"3\",#REF!)),\"1\",\"0\")","v":"0"},{"$f":"IF(ISNUMBER(SEARCH(\"4\",#REF!)),\"1\",\"0\")","v":"0"},{"$f":"IF(ISNUMBER(SEARCH(\"5\",#REF!)),\"1\",\"0\")","v":"0"},{"$f":"IF(ISNUMBER(SEARCH(\"6\",#REF!)),\"1\",\"0\")","v":"0"},{"$f":"IF(ISNUMBER(SEARCH(\"7\",#REF!)),\"1\",\"0\")","v":"0"},{"$f":"IF(ISNUMBER(SEARCH(\"8\",#REF!)),\"1\",\"0\")","v":"0"},{"$f":"IF(ISNUMBER(SEARCH(\"9\",#REF!)),\"1\",\"0\")","v":"0"},{"$f":"IF(ISNUMBER(SEARCH(\"9\",#REF!)),\"1\",\"0\")","v":"0"},{"$f":"IF(ISNUMBER(SEARCH(\"10\",#REF!)),\"1\",\"0\")","v":"0"},{"$f":"IF(ISNUMBER(SEARCH(\"11\",#REF!)),\"1\",\"0\")","v":"0"},{"$f":"IF(ISNUMBER(SEARCH(\"12\",#REF!)),\"1\",\"0\")","v":"0"},{"$f":"IF(ISNUMBER(SEARCH(\"13\",#REF!)),\"1\",\"0\")","v":"0"},{"$f":"IF(ISNUMBER(SEARCH(\"14\",#REF!)),\"1\",\"0\")","v":"0"},{"$f":"IF(ISNUMBER(SEARCH(\"15\",#REF!)),\"1\",\"0\")","v":"0"},{"$f":"IF(ISNUMBER(SEARCH(\"16\",#REF!)),\"1\",\"0\")","v":"0"},{"$f":"IF(ISNUMBER(SEARCH(\"17\",#REF!)),\"1\",\"0\")","v":"0"},{"$nulls":9},56,{"$nulls":7},7,{"$f":"#REF!-#REF!","v":{"$error":"#REF!"}}]
[4,42,428,6,2,35,1984,3,8,2,6,5,2,"2. Witness of violence (physical, threats, killings/death, torture, ill treatment, sexual, family/domestic)","0","1","0","0","0","0","0","0","0","0","0","0","0","0","0","0","0","0",null,1,1,5,2,{"$f":"IF(ISNUMBER(SEARCH(\"1\",#REF!)),\"1\",\"0\")","v":"0"},{"$f":"IF(ISNUMBER(SEARCH(\"2\",#REF!)),\"1\",\"0\")","v":"0"},{"$f":"IF(ISNUMBER(SEARCH(\"3\",#REF!)),\"1\",\"0\")","v":"0"},{"$f":"IF(ISNUMBER(SEARCH(\"4\",#REF!)),\"1\",\"0\")","v":"0"},{"$f":"IF(ISNUMBER(SEARCH(\"5\",#REF!)),\"1\",\"0\")","v":"0"},{"$f":"IF(ISNUMBER(SEARCH(\"6\",#REF!)),\"1\",\"0\")","v":"0"},{"$f":"IF(ISNUMBER(SEARCH(\"7\",#REF!)),\"1\",\"0\")","v":"0"},{"$f":"IF(ISNUMBER(SEARCH(\"8\",#REF!)),\"1\",\"0\")","v":"0"},{"$f":"IF(ISNUMBER(SEARCH(\"9\",#REF!)),\"1\",\"0\")","v":"0"},{"$f":"IF(ISNUMBER(SEARCH(\"9\",#REF!)),\"1\",\"0\")","v":"0"},{"$f":"IF(ISNUMBER(SEARCH(\"10\",#REF!)),\"1\",\"0\")","v":"0"},{"$f":"IF(ISNUMBER(SEARCH(\"11\",#REF!)),\"1\",\"0\")","v":"0"},{"$f":"IF(ISNUMBER(SEARCH(\"12\",#REF!)),\"1\",\"0\")","v":"0"},{"$f":"IF(ISNUMBER(SEARCH(\"13\",#REF!)),\"1\",\"0\")","v":"0"},{"$f":"IF(ISNUMBER(SEARCH(\"14\",#REF!)),\"1\",\"0\")","v":"0"},{"$f":"IF(ISNUMBER(SEARCH(\"15\",#REF!)),\"1\",\"0\")","v":"0"},{"$f":"IF(ISNUMBER(SEARCH(\"16\",#REF!)),\"1\",\"0\")","v":"0"},{"$f":"IF(ISNUMBER(SEARCH(\"17\",#REF!)),\"1\",\"0\")","v":"0"},{"$nulls":9},60,{"$nulls":7},6,{"$f":"#REF!-#REF!","v":{"$error":"#REF!"}}]
[4,42,428,2,2,30,1989,1,3,2,5,5,2,"2. Witness of violence (physical, threats, killings/death, torture, ill treatment, sexual, family/domestic)","0","1","0","0","0","0","0","0","0","0","0","0","0","0","0","0","0","0",null,2,1,4,2,{"$f":"IF(ISNUMBER(SEARCH(\"1\",#REF!)),\"1\",\"0\")","v":"0"},{"$f":"IF(ISNUMBER(SEARCH(\"2\",#REF!)),\"1\",\"0\")","v":"0"},{"$f":"IF(ISNUMBER(SEARCH(\"3\",#REF!)),\"1\",\"0\")","v":"0"},{"$f":"IF(ISNUMBER(SEARCH(\"4\",#REF!)),\"1\",\"0\")","v":"0"},{"$f":"IF(ISNUMBER(SEARCH(\"5\",#REF!)),\"1\",\"0\")","v":"0"},{"$f":"IF(ISNUMBER(SEARCH(\"6\",#REF!)),\"1\",\"0\")","v":"0"},{"$f":"IF(ISNUMBER(SEARCH(\"7\",#REF!)),\"1\",\"0\")","v":"0"},{"$f":"IF(ISNUMBER(SEARCH(\"8\",#REF!)),\"1\",\"0\")","v":"0"},{"$f":"IF(ISNUMBER(SEARCH(\"9\",#REF!)),\"1\",\"0\")","v":"0"},{"$f":"IF(ISNUMBER(SEARCH(\"9\",#REF!)),\"1\",\"0\")","v":"0"},{"$f":"IF(ISNUMBER(SEARCH(\"10\",#REF!)),\"1\",\"0\")","v":"0"},{"$f":"IF(ISNUMBER(SEARCH(\"11\",#REF!)),\"1\",\"0\")","v":"0"},{"$f":"IF(ISNUMBER(SEARCH(\"12\",#REF!)),\"1\",\"0\")","v":"0"},{"$f":"IF(ISNUMBER(SEARCH(\"13\",#REF!)),\"1\",\"0\")","v":"0"},{"$f":"IF(ISNUMBER(SEARCH(\"14\",#REF!)),\"1\",\"0\")","v":"0"},{"$f":"IF(ISNUMBER(SEARCH(\"15\",#REF!)),\"1\",\"0\")","v":"0"},{"$f":"IF(ISNUMBER(SEARCH(\"16\",#REF!)),\"1\",\"0\")","v":"0"},{"$f":"IF(ISNUMBER(SEARCH(\"17\",#REF!)),\"1\",\"0\")","v":"0"},{"$nulls":9},61,{"$nulls":7},7,{"$f":"#REF!-#REF!","v":{"$error":"#REF!"}}]
[4,42,428,2,2,25,1994,1,3,2,5,5,2,"2. Witness of violence (physical, threats, killings/death, torture, ill treatment, sexual, family/domestic)","0","1","0","0","0","0","0","0","0","0","0","0","0","0","0","0","0","0",null,2,1,5,2,{"$f":"IF(ISNUMBER(SEARCH(\"1\",#REF!)),\"1\",\"0\")","v":"0"},{"$f":"IF(ISNUMBER(SEARCH(\"2\",#REF!)),\"1\",\"0\")","v":"0"},{"$f":"IF(ISNUMBER(SEARCH(\"3\",#REF!)),\"1\",\"0\")","v":"0"},{"$f":"IF(ISNUMBER(SEARCH(\"4\",#REF!)),\"1\",\"0\")","v":"0"},{"$f":"IF(ISNUMBER(SEARCH(\"5\",#REF!)),\"1\",\"0\")","v":"0"},{"$f":"IF(ISNUMBER(SEARCH(\"6\",#REF!)),\"1\",\"0\")","v":"0"},{"$f":"IF(ISNUMBER(SEARCH(\"7\",#REF!)),\"1\",\"0\")","v":"0"},{"$f":"IF(ISNUMBER(SEARCH(\"8\",#REF!)),\"1\",\"0\")","v":"0"},{"$f":"IF(ISNUMBER(SEARCH(\"9\",#REF!)),\"1\",\"0\")","v":"0"},{"$f":"IF(ISNUMBER(SEARCH(\"9\",#REF!)),\"1\",\"0\")","v":"0"},{"$f":"IF(ISNUMBER(SEARCH(\"10\",#REF!)),\"1\",\"0\")","v":"0"},{"$f":"IF(ISNUMBER(SEARCH(\"11\",#REF!)),\"1\",\"0\")","v":"0"},{"$f":"IF(ISNUMBER(SEARCH(\"12\",#REF!)),\"1\",\"0\")","v":"0"},{"$f":"IF(ISNUMBER(SEARCH(\"13\",#REF!)),\"1\",\"0\")","v":"0"},{"$f":"IF(ISNUMBER(SEARCH(\"14\",#REF!)),\"1\",\"0\")","v":"0"},{"$f":"IF(ISNUMBER(SEARCH(\"15\",#REF!)),\"1\",\"0\")","v":"0"},{"$f":"IF(ISNUMBER(SEARCH(\"16\",#REF!)),\"1\",\"0\")","v":"0"},{"$f":"IF(ISNUMBER(SEARCH(\"17\",#REF!)),\"1\",\"0\")","v":"0"},{"$nulls":9},59,{"$nulls":7},7,{"$f":"#REF!-#REF!","v":{"$error":"#REF!"}}]
[4,42,428,2,2,31,1988,2,3,2,null,5,2,"2. Witness of violence (physical, threats, killings/death, torture, ill treatment, sexual, family/domestic)","0","1","0","0","0","0","0","0","0","0","0","0","0","0","0","0","0","0",null,1,1,4,2,{"$f":"IF(ISNUMBER(SEARCH(\"1\",#REF!)),\"1\",\"0\")","v":"0"},{"$f":"IF(ISNUMBER(SEARCH(\"2\",#REF!)),\"1\",\"0\")","v":"0"},{"$f":"IF(ISNUMBER(SEARCH(\"3\",#REF!)),\"1\",\"0\")","v":"0"},{"$f":"IF(ISNUMBER(SEARCH(\"4\",#REF!)),\"1\",\"0\")","v":"0"},{"$f":"IF(ISNUMBER(SEARCH(\"5\",#REF!)),\"1\",\"0\")","v":"0"},{"$f":"IF(ISNUMBER(SEARCH(\"6\",#REF!)),\"1\",\"0\")","v":"0"},{"$f":"IF(ISNUMBER(SEARCH(\"7\",#REF!)),\"1\",\"0\")","v":"0"},{"$f":"IF(ISNUMBER(SEARCH(\"8\",#REF!)),\"1\",\"0\")","v":"0"},{"$f":"IF(ISNUMBER(SEARCH(\"9\",#REF!)),\"1\",\"0\")","v":"0"},{"$f":"IF(ISNUMBER(SEARCH(\"9\",#REF!)),\"1\",\"0\")","v":"0"},{"$f":"IF(ISNUMBER(SEARCH(\"10\",#REF!)),\"1\",\"0\")","v":"0"},{"$f":"IF(ISNUMBER(SEARCH(\"11\",#REF!)),\"1\",\"0\")","v":"0"},{"$f":"IF(ISNUMBER(SEARCH(\"12\",#REF!)),\"1\",\"0\")","v":"0"},{"$f":"IF(ISNUMBER(SEARCH(\"13\",#REF!)),\"1\",\"0\")","v":"0"},{"$f":"IF(ISNUMBER(SEARCH(\"14\",#REF!)),\"1\",\"0\")","v":"0"},{"$f":"IF(ISNUMBER(SEARCH(\"15\",#REF!)),\"1\",\"0\")","v":"0"},{"$f":"IF(ISNUMBER(SEARCH(\"16\",#REF!)),\"1\",\"0\")","v":"0"},{"$f":"IF(ISNUMBER(SEARCH(\"17\",#REF!)),\"1\",\"0\")","v":"0"},{"$nulls":9},58,{"$nulls":7},1,{"$f":"#REF!-#REF!","v":{"$error":"#REF!"}}]
[4,42,428,3,2,35,1984,3,8,2,4,5,2,"1. Victim of violence (physical, incl. torture, ill treatment; family/domestic), 2. Witness of violence (physical, threats, killings/death, torture, ill treatment, sexual, family/domestic), 11. Killing of family member/loved one, 12. Disappearance of family member/loved one","1","1","0","0","0","0","0","0","0","0","1","1","0","0","0","0","0","0",null,2,1,4,2,{"$f":"IF(ISNUMBER(SEARCH(\"1\",#REF!)),\"1\",\"0\")","v":"0"},{"$f":"IF(ISNUMBER(SEARCH(\"2\",#REF!)),\"1\",\"0\")","v":"0"},{"$f":"IF(ISNUMBER(SEARCH(\"3\",#REF!)),\"1\",\"0\")","v":"0"},{"$f":"IF(ISNUMBER(SEARCH(\"4\",#REF!)),\"1\",\"0\")","v":"0"},{"$f":"IF(ISNUMBER(SEARCH(\"5\",#REF!)),\"1\",\"0\")","v":"0"},{"$f":"IF(ISNUMBER(SEARCH(\"6\",#REF!)),\"1\",\"0\")","v":"0"},{"$f":"IF(ISNUMBER(SEARCH(\"7\",#REF!)),\"1\",\"0\")","v":"0"},{"$f":"IF(ISNUMBER(SEARCH(\"8\",#REF!)),\"1\",\"0\")","v":"0"},{"$f":"IF(ISNUMBER(SEARCH(\"9\",#REF!)),\"1\",\"0\")","v":"0"},{"$f":"IF(ISNUMBER(SEARCH(\"9\",#REF!)),\"1\",\"0\")","v":"0"},{"$f":"IF(ISNUMBER(SEARCH(\"10\",#REF!)),\"1\",\"0\")","v":"0"},{"$f":"IF(ISNUMBER(SEARCH(\"11\",#REF!)),\"1\",\"0\")","v":"0"},{"$f":"IF(ISNUMBER(SEARCH(\"12\",#REF!)),\"1\",\"0\")","v":"0"},{"$f":"IF(ISNUMBER(SEARCH(\"13\",#REF!)),\"1\",\"0\")","v":"0"},{"$f":"IF(ISNUMBER(SEARCH(\"14\",#REF!)),\"1\",\"0\")","v":"0"},{"$f":"IF(ISNUMBER(SEARCH(\"15\",#REF!)),\"1\",\"0\")","v":"0"},{"$f":"IF(ISNUMBER(SEARCH(\"16\",#REF!)),\"1\",\"0\")","v":"0"},{"$f":"IF(ISNUMBER(SEARCH(\"17\",#REF!)),\"1\",\"0\")","v":"0"},{"$nulls":9},55,{"$nulls":7},7,{"$f":"#REF!-#REF!","v":{"$error":"#REF!"}}]
[4,42,428,6,2,29,1990,3,3,2,2,5,2,"2. Witness of violence (physical, threats, killings/death, torture, ill treatment, sexual, family/domestic)","0","1","0","0","0","0","0","0","0","0","0","0","0","0","0","0","0","0",null,2,5,5,2,{"$f":"IF(ISNUMBER(SEARCH(\"1\",#REF!)),\"1\",\"0\")","v":"0"},{"$f":"IF(ISNUMBER(SEARCH(\"2\",#REF!)),\"1\",\"0\")","v":"0"},{"$f":"IF(ISNUMBER(SEARCH(\"3\",#REF!)),\"1\",\"0\")","v":"0"},{"$f":"IF(ISNUMBER(SEARCH(\"4\",#REF!)),\"1\",\"0\")","v":"0"},{"$f":"IF(ISNUMBER(SEARCH(\"5\",#REF!)),\"1\",\"0\")","v":"0"},{"$f":"IF(ISNUMBER(SEARCH(\"6\",#REF!)),\"1\",\"0\")","v":"0"},{"$f":"IF(ISNUMBER(SEARCH(\"7\",#REF!)),\"1\",\"0\")","v":"0"},{"$f":"IF(ISNUMBER(SEARCH(\"8\",#REF!)),\"1\",\"0\")","v":"0"},{"$f":"IF(ISNUMBER(SEARCH(\"9\",#REF!)),\"1\",\"0\")","v":"0"},{"$f":"IF(ISNUMBER(SEARCH(\"9\",#REF!)),\"1\",\"0\")","v":"0"},{"$f":"IF(ISNUMBER(SEARCH(\"10\",#REF!)),\"1\",\"0\")","v":"0"},{"$f":"IF(ISNUMBER(SEARCH(\"11\",#REF!)),\"1\",\"0\")","v":"0"},{"$f":"IF(ISNUMBER(SEARCH(\"12\",#REF!)),\"1\",\"0\")","v":"0"},{"$f":"IF(ISNUMBER(SEARCH(\"13\",#REF!)),\"1\",\"0\")","v":"0"},{"$f":"IF(ISNUMBER(SEARCH(\"14\",#REF!)),\"1\",\"0\")","v":"0"},{"$f":"IF(ISNUMBER(SEARCH(\"15\",#REF!)),\"1\",\"0\")","v":"0"},{"$f":"IF(ISNUMBER(SEARCH(\"16\",#REF!)),\"1\",\"0\")","v":"0"},{"$f":"IF(ISNUMBER(SEARCH(\"17\",#REF!)),\"1\",\"0\")","v":"0"},{"$nulls":9},74,{"$nulls":7},8,{"$f":"#REF!-#REF!","v":{"$error":"#REF!"}}]
[4,42,428,null,2,32,1987,3,3,2,8,5,2,"1. Victim of violence (physical, incl. torture, ill treatment; family/domestic), 2. Witness of violence (physical, threats, killings/death, torture, ill treatment, sexual, family/domestic), 10. Kidnapping/hostage (without sexual violence), 11. Killing of family member/loved one","1","1","0","0","0","0","0","0","0","1","1","0","0","0","0","0","0","0",null,2,1,4,2,{"$f":"IF(ISNUMBER(SEARCH(\"1\",#REF!)),\"1\",\"0\")","v":"0"},{"$f":"IF(ISNUMBER(SEARCH(\"2\",#REF!)),\"1\",\"0\")","v":"0"},{"$f":"IF(ISNUMBER(SEARCH(\"3\",#REF!)),\"1\",\"0\")","v":"0"},{"$f":"IF(ISNUMBER(SEARCH(\"4\",#REF!)),\"1\",\"0\")","v":"0"},{"$f":"IF(ISNUMBER(SEARCH(\"5\",#REF!)),\"1\",\"0\")","v":"0"},{"$f":"IF(ISNUMBER(SEARCH(\"6\",#REF!)),\"1\",\"0\")","v":"0"},{"$f":"IF(ISNUMBER(SEARCH(\"7\",#REF!)),\"1\",\"0\")","v":"0"},{"$f":"IF(ISNUMBER(SEARCH(\"8\",#REF!)),\"1\",\"0\")","v":"0"},{"$f":"IF(ISNUMBER(SEARCH(\"9\",#REF!)),\"1\",\"0\")","v":"0"},{"$f":"IF(ISNUMBER(SEARCH(\"9\",#REF!)),\"1\",\"0\")","v":"0"},{"$f":"IF(ISNUMBER(SEARCH(\"10\",#REF!)),\"1\",\"0\")","v":"0"},{"$f":"IF(ISNUMBER(SEARCH(\"11\",#REF!)),\"1\",\"0\")","v":"0"},{"$f":"IF(ISNUMBER(SEARCH(\"12\",#REF!)),\"1\",\"0\")","v":"0"},{"$f":"IF(ISNUMBER(SEARCH(\"13\",#REF!)),\"1\",\"0\")","v":"0"},{"$f":"IF(ISNUMBER(SEARCH(\"14\",#REF!)),\"1\",\"0\")","v":"0"},{"$f":"IF(ISNUMBER(SEARCH(\"15\",#REF!)),\"1\",\"0\")","v":"0"},{"$f":"IF(ISNUMBER(SEARCH(\"16\",#REF!)),\"1\",\"0\")","v":"0"},{"$f":"IF(ISNUMBER(SEARCH(\"17\",#REF!)),\"1\",\"0\")","v":"0"},{"$nulls":9},49,{"$nulls":7},8,{"$f":"#REF!-#REF!","v":{"$error":"#REF!"}}]
[4,42,428,null,2,38,1981,1,3,2,7,5,2,"1. Victim of violence (physical, incl. torture, ill treatment; family/domestic), 2. Witness of violence (physical, threats, killings/death, torture, ill treatment, sexual, family/domestic), 11. Killing of family member/loved one","1","1","0","0","0","0","0","0","0","0","1","0","0","0","0","0","0","0",null,2,1,5,2,{"$f":"IF(ISNUMBER(SEARCH(\"1\",#REF!)),\"1\",\"0\")","v":"0"},{"$f":"IF(ISNUMBER(SEARCH(\"2\",#REF!)),\"1\",\"0\")","v":"0"},{"$f":"IF(ISNUMBER(SEARCH(\"3\",#REF!)),\"1\",\"0\")","v":"0"},{"$f":"IF(ISNUMBER(SEARCH(\"4\",#REF!)),\"1\",\"0\")","v":"0"},{"$f":"IF(ISNUMBER(SEARCH(\"5\",#REF!)),\"1\",\"0\")","v":"0"},{"$f":"IF(ISNUMBER(SEARCH(\"6\",#REF!)),\"1\",\"0\")","v":"0"},{"$f":"IF(ISNUMBER(SEARCH(\"7\",#REF!)),\"1\",\"0\")","v":"0"},{"$f":"IF(ISNUMBER(SEARCH(\"8\",#REF!)),\"1\",\"0\")","v":"0"},{"$f":"IF(ISNUMBER(SEARCH(\"9\",#REF!)),\"1\",\"0\")","v":"0"},{"$f":"IF(ISNUMBER(SEARCH(\"9\",#REF!)),\"1\",\"0\")","v":"0"},{"$f":"IF(ISNUMBER(SEARCH(\"10\",#REF!)),\"1\",\"0\")","v":"0"},{"$f":"IF(ISNUMBER(SEARCH(\"11\",#REF!)),\"1\",\"0\")","v":"0"},{"$f":"IF(ISNUMBER(SEARCH(\"12\",#REF!)),\"1\",\"0\")","v":"0"},{"$f":"IF(ISNUMBER(SEARCH(\"13\",#REF!)),\"1\",\"0\")","v":"0"},{"$f":"IF(ISNUMBER(SEARCH(\"14\",#REF!)),\"1\",\"0\")","v":"0"},{"$f":"IF(ISNUMBER(SEARCH(\"15\",#REF!)),\"1\",\"0\")","v":"0"},{"$f":"IF(ISNUMBER(SEARCH(\"16\",#REF!)),\"1\",\"0\")","v":"0"},{"$f":"IF(ISNUMBER(SEARCH(\"17\",#REF!)),\"1\",\"0\")","v":"0"},{"$nulls":9},66,{"$nulls":7},8,{"$f":"#REF!-#REF!","v":{"$error":"#REF!"}}]
[4,42,428,null,2,35,1984,1,3,2,5,5,2,"2. Witness of violence (physical, threats, killings/death, torture, ill treatment, sexual, family/domestic), 11. Killing of family member/loved one","1","1","0","0","0","0","0","0","0","0","1","0","0","0","0","0","0","0",null,2,1,5,2,{"$f":"IF(ISNUMBER(SEARCH(\"1\",#REF!)),\"1\",\"0\")","v":"0"},{"$f":"IF(ISNUMBER(SEARCH(\"2\",#REF!)),\"1\",\"0\")","v":"0"},{"$f":"IF(ISNUMBER(SEARCH(\"3\",#REF!)),\"1\",\"0\")","v":"0"},{"$f":"IF(ISNUMBER(SEARCH(\"4\",#REF!)),\"1\",\"0\")","v":"0"},{"$f":"IF(ISNUMBER(SEARCH(\"5\",#REF!)),\"1\",\"0\")","v":"0"},{"$f":"IF(ISNUMBER(SEARCH(\"6\",#REF!)),\"1\",\"0\")","v":"0"},{"$f":"IF(ISNUMBER(SEARCH(\"7\",#REF!)),\"1\",\"0\")","v":"0"},{"$f":"IF(ISNUMBER(SEARCH(\"8\",#REF!)),\"1\",\"0\")","v":"0"},{"$f":"IF(ISNUMBER(SEARCH(\"9\",#REF!)),\"1\",\"0\")","v":"0"},{"$f":"IF(ISNUMBER(SEARCH(\"9\",#REF!)),\"1\",\"0\")","v":"0"},{"$f":"IF(ISNUMBER(SEARCH(\"10\",#REF!)),\"1\",\"0\")","v":"0"},{"$f":"IF(ISNUMBER(SEARCH(\"11\",#REF!)),\"1\",\"0\")","v":"0"},{"$f":"IF(ISNUMBER(SEARCH(\"12\",#REF!)),\"1\",\"0\")","v":"0"},{"$f":"IF(ISNUMBER(SEARCH(\"13\",#REF!)),\"1\",\"0\")","v":"0"},{"$f":"IF(ISNUMBER(SEARCH(\"14\",#REF!)),\"1\",\"0\")","v":"0"},{"$f":"IF(ISNUMBER(SEARCH(\"15\",#REF!)),\"1\",\"0\")","v":"0"},{"$f":"IF(ISNUMBER(SEARCH(\"16\",#REF!)),\"1\",\"0\")","v":"0"},{"$f":"IF(ISNUMBER(SEARCH(\"17\",#REF!)),\"1\",\"0\")","v":"0"},{"$nulls":9},45,{"$nulls":7},8,{"$f":"#REF!-#REF!","v":{"$error":"#REF!"}}]
[4,42,428,6,2,35,1984,3,3,2,6,5,2,"2. Witness of violence (physical, threats, killings/death, torture, ill treatment, sexual, family/domestic)","0","1","0","0","0","0","0","0","0","0","0","0","0","0","0","0","0","0",null,2,1,5,2,{"$f":"IF(ISNUMBER(SEARCH(\"1\",#REF!)),\"1\",\"0\")","v":"0"},{"$f":"IF(ISNUMBER(SEARCH(\"2\",#REF!)),\"1\",\"0\")","v":"0"},{"$f":"IF(ISNUMBER(SEARCH(\"3\",#REF!)),\"1\",\"0\")","v":"0"},{"$f":"IF(ISNUMBER(SEARCH(\"4\",#REF!)),\"1\",\"0\")","v":"0"},{"$f":"IF(ISNUMBER(SEARCH(\"5\",#REF!)),\"1\",\"0\")","v":"0"},{"$f":"IF(ISNUMBER(SEARCH(\"6\",#REF!)),\"1\",\"0\")","v":"0"},{"$f":"IF(ISNUMBER(SEARCH(\"7\",#REF!)),\"1\",\"0\")","v":"0"},{"$f":"IF(ISNUMBER(SEARCH(\"8\",#REF!)),\"1\",\"0\")","v":"0"},{"$f":"IF(ISNUMBER(SEARCH(\"9\",#REF!)),\"1\",\"0\")","v":"0"},{"$f":"IF(ISNUMBER(SEARCH(\"9\",#REF!)),\"1\",\"0\")","v":"0"},{"$f":"IF(ISNUMBER(SEARCH(\"10\",#REF!)),\"1\",\"0\")","v":"0"},{"$f":"IF(ISNUMBER(SEARCH(\"11\",#REF!)),\"1\",\"0\")","v":"0"},{"$f":"IF(ISNUMBER(SEARCH(\"12\",#REF!)),\"1\",\"0\")","v":"0"},{"$f":"IF(ISNUMBER(SEARCH(\"13\",#REF!)),\"1\",\"0\")","v":"0"},{"$f":"IF(ISNUMBER(SEARCH(\"14\",#REF!)),\"1\",\"0\")","v":"0"},{"$f":"IF(ISNUMBER(SEARCH(\"15\",#REF!)),\"1\",\"0\")","v":"0"},{"$f":"IF(ISNUMBER(SEARCH(\"16\",#REF!)),\"1\",\"0\")","v":"0"},{"$f":"IF(ISNUMBER(SEARCH(\"17\",#REF!)),\"1\",\"0\")","v":"0"},{"$nulls":9},62,{"$nulls":7},5,{"$f":"#REF!-#REF!","v":{"$error":"#REF!"}}]
[4,42,429,null,2,50,1969,3,3,2,5,null,2,"2. Witness of violence (physical, threats, killings/death, torture, ill treatment, sexual, family/domestic)","0","1","0","0","0","0","0","0","0","0","0","0","0","0","0","0","0","0",null,2,1,5,2,{"$f":"IF(ISNUMBER(SEARCH(\"1\",#REF!)),\"1\",\"0\")","v":"0"},{"$f":"IF(ISNUMBER(SEARCH(\"2\",#REF!)),\"1\",\"0\")","v":"0"},{"$f":"IF(ISNUMBER(SEARCH(\"3\",#REF!)),\"1\",\"0\")","v":"0"},{"$f":"IF(ISNUMBER(SEARCH(\"4\",#REF!)),\"1\",\"0\")","v":"0"},{"$f":"IF(ISNUMBER(SEARCH(\"5\",#REF!)),\"1\",\"0\")","v":"0"},{"$f":"IF(ISNUMBER(SEARCH(\"6\",#REF!)),\"1\",\"0\")","v":"0"},{"$f":"IF(ISNUMBER(SEARCH(\"7\",#REF!)),\"1\",\"0\")","v":"0"},{"$f":"IF(ISNUMBER(SEARCH(\"8\",#REF!)),\"1\",\"0\")","v":"0"},{"$f":"IF(ISNUMBER(SEARCH(\"9\",#REF!)),\"1\",\"0\")","v":"0"},{"$f":"IF(ISNUMBER(SEARCH(\"9\",#REF!)),\"1\",\"0\")","v":"0"},{"$f":"IF(ISNUMBER(SEARCH(\"10\",#REF!)),\"1\",\"0\")","v":"0"},{"$f":"IF(ISNUMBER(SEARCH(\"11\",#REF!)),\"1\",\"0\")","v":"0"},{"$f":"IF(ISNUMBER(SEARCH(\"12\",#REF!)),\"1\",\"0\")","v":"0"},{"$f":"IF(ISNUMBER(SEARCH(\"13\",#REF!)),\"1\",\"0\")","v":"0"},{"$f":"IF(ISNUMBER(SEARCH(\"14\",#REF!)),\"1\",\"0\")","v":"0"},{"$f":"IF(ISNUMBER(SEARCH(\"15\",#REF!)),\"1\",\"0\")","v":"0"},{"$f":"IF(ISNUMBER(SEARCH(\"16\",#REF!)),\"1\",\"0\")","v":"0"},{"$f":"IF(ISNUMBER(SEARCH(\"17\",#REF!)),\"1\",\"0\")","v":"0"},{"$nulls":9},67,{"$nulls":7},7,{"$f":"#REF!-#REF!","v":{"$error":"#REF!"}}]
[4,42,429,null,2,41,1978,3,3,2,5,5,2,"1. Victim of violence (physical, incl. torture, ill treatment; family/domestic), 2. Witness of violence (physical, threats, killings/death, torture, ill treatment, sexual, family/domestic), 9. Kidnapping/hostage and/for sexual violence, 11. Killing of family member/loved one, 12. Disappearance of family member/loved one","1","1","0","0","0","0","0","0","1","0","1","1","0","0","0","0","0","0",null,2,1,4,2,{"$f":"IF(ISNUMBER(SEARCH(\"1\",#REF!)),\"1\",\"0\")","v":"0"},{"$f":"IF(ISNUMBER(SEARCH(\"2\",#REF!)),\"1\",\"0\")","v":"0"},{"$f":"IF(ISNUMBER(SEARCH(\"3\",#REF!)),\"1\",\"0\")","v":"0"},{"$f":"IF(ISNUMBER(SEARCH(\"4\",#REF!)),\"1\",\"0\")","v":"0"},{"$f":"IF(ISNUMBER(SEARCH(\"5\",#REF!)),\"1\",\"0\")","v":"0"},{"$f":"IF(ISNUMBER(SEARCH(\"6\",#REF!)),\"1\",\"0\")","v":"0"},{"$f":"IF(ISNUMBER(SEARCH(\"7\",#REF!)),\"1\",\"0\")","v":"0"},{"$f":"IF(ISNUMBER(SEARCH(\"8\",#REF!)),\"1\",\"0\")","v":"0"},{"$f":"IF(ISNUMBER(SEARCH(\"9\",#REF!)),\"1\",\"0\")","v":"0"},{"$f":"IF(ISNUMBER(SEARCH(\"9\",#REF!)),\"1\",\"0\")","v":"0"},{"$f":"IF(ISNUMBER(SEARCH(\"10\",#REF!)),\"1\",\"0\")","v":"0"},{"$f":"IF(ISNUMBER(SEARCH(\"11\",#REF!)),\"1\",\"0\")","v":"0"},{"$f":"IF(ISNUMBER(SEARCH(\"12\",#REF!)),\"1\",\"0\")","v":"0"},{"$f":"IF(ISNUMBER(SEARCH(\"13\",#REF!)),\"1\",\"0\")","v":"0"},{"$f":"IF(ISNUMBER(SEARCH(\"14\",#REF!)),\"1\",\"0\")","v":"0"},{"$f":"IF(ISNUMBER(SEARCH(\"15\",#REF!)),\"1\",\"0\")","v":"0"},{"$f":"IF(ISNUMBER(SEARCH(\"16\",#REF!)),\"1\",\"0\")","v":"0"},{"$f":"IF(ISNUMBER(SEARCH(\"17\",#REF!)),\"1\",\"0\")","v":"0"},{"$nulls":9},43,{"$nulls":7},8,{"$f":"#REF!-#REF!","v":{"$error":"#REF!"}}]
[4,42,429,8,2,50,1969,1,8,2,8,5,2,"2. Witness of violence (physical, threats, killings/death, torture, ill treatment, sexual, family/domestic)","0","1","0","0","0","0","0","0","0","0","0","0","0","0","0","0","0","0",null,1,1,4,2,{"$f":"IF(ISNUMBER(SEARCH(\"1\",#REF!)),\"1\",\"0\")","v":"0"},{"$f":"IF(ISNUMBER(SEARCH(\"2\",#REF!)),\"1\",\"0\")","v":"0"},{"$f":"IF(ISNUMBER(SEARCH(\"3\",#REF!)),\"1\",\"0\")","v":"0"},{"$f":"IF(ISNUMBER(SEARCH(\"4\",#REF!)),\"1\",\"0\")","v":"0"},{"$f":"IF(ISNUMBER(SEARCH(\"5\",#REF!)),\"1\",\"0\")","v":"0"},{"$f":"IF(ISNUMBER(SEARCH(\"6\",#REF!)),\"1\",\"0\")","v":"0"},{"$f":"IF(ISNUMBER(SEARCH(\"7\",#REF!)),\"1\",\"0\")","v":"0"},{"$f":"IF(ISNUMBER(SEARCH(\"8\",#REF!)),\"1\",\"0\")","v":"0"},{"$f":"IF(ISNUMBER(SEARCH(\"9\",#REF!)),\"1\",\"0\")","v":"0"},{"$f":"IF(ISNUMBER(SEARCH(\"9\",#REF!)),\"1\",\"0\")","v":"0"},{"$f":"IF(ISNUMBER(SEARCH(\"10\",#REF!)),\"1\",\"0\")","v":"0"},{"$f":"IF(ISNUMBER(SEARCH(\"11\",#REF!)),\"1\",\"0\")","v":"0"},{"$f":"IF(ISNUMBER(SEARCH(\"12\",#REF!)),\"1\",\"0\")","v":"0"},{"$f":"IF(ISNUMBER(SEARCH(\"13\",#REF!)),\"1\",\"0\")","v":"0"},{"$f":"IF(ISNUMBER(SEARCH(\"14\",#REF!)),\"1\",\"0\")","v":"0"},{"$f":"IF(ISNUMBER(SEARCH(\"15\",#REF!)),\"1\",\"0\")","v":"0"},{"$f":"IF(ISNUMBER(SEARCH(\"16\",#REF!)),\"1\",\"0\")","v":"0"},{"$f":"IF(ISNUMBER(SEARCH(\"17\",#REF!)),\"1\",\"0\")","v":"0"},{"$nulls":9},49,{"$nulls":7},8,{"$f":"#REF!-#REF!","v":{"$error":"#REF!"}}]
[4,42,429,2,2,50,1969,1,3,2,8,5,2,"2. Witness of violence (physical, threats, killings/death, torture, ill treatment, sexual, family/domestic)","0","1","0","0","0","0","0","0","0","0","0","0","0","0","0","0","0","0",null,2,1,4,2,{"$f":"IF(ISNUMBER(SEARCH(\"1\",#REF!)),\"1\",\"0\")","v":"0"},{"$f":"IF(ISNUMBER(SEARCH(\"2\",#REF!)),\"1\",\"0\")","v":"0"},{"$f":"IF(ISNUMBER(SEARCH(\"3\",#REF!)),\"1\",\"0\")","v":"0"},{"$f":"IF(ISNUMBER(SEARCH(\"4\",#REF!)),\"1\",\"0\")","v":"0"},{"$f":"IF(ISNUMBER(SEARCH(\"5\",#REF!)),\"1\",\"0\")","v":"0"},{"$f":"IF(ISNUMBER(SEARCH(\"6\",#REF!)),\"1\",\"0\")","v":"0"},{"$f":"IF(ISNUMBER(SEARCH(\"7\",#REF!)),\"1\",\"0\")","v":"0"},{"$f":"IF(ISNUMBER(SEARCH(\"8\",#REF!)),\"1\",\"0\")","v":"0"},{"$f":"IF(ISNUMBER(SEARCH(\"9\",#REF!)),\"1\",\"0\")","v":"0"},{"$f":"IF(ISNUMBER(SEARCH(\"9\",#REF!)),\"1\",\"0\")","v":"0"},{"$f":"IF(ISNUMBER(SEARCH(\"10\",#REF!)),\"1\",\"0\")","v":"0"},{"$f":"IF(ISNUMBER(SEARCH(\"11\",#REF!)),\"1\",\"0\")","v":"0"},{"$f":"IF(ISNUMBER(SEARCH(\"12\",#REF!)),\"1\",\"0\")","v":"0"},{"$f":"IF(ISNUMBER(SEARCH(\"13\",#REF!)),\"1\",\"0\")","v":"0"},{"$f":"IF(ISNUMBER(SEARCH(\"14\",#REF!)),\"1\",\"0\")","v":"0"},{"$f":"IF(ISNUMBER(SEARCH(\"15\",#REF!)),\"1\",\"0\")","v":"0"},{"$f":"IF(ISNUMBER(SEARCH(\"16\",#REF!)),\"1\",\"0\")","v":"0"},{"$f":"IF(ISNUMBER(SEARCH(\"17\",#REF!)),\"1\",\"0\")","v":"0"},{"$nulls":9},43,{"$nulls":7},7,{"$f":"#REF!-#REF!","v":{"$error":"#REF!"}}]
[4,42,429,null,2,41,1978,2,8,2,6,5,2,"1. Victim of violence (physical, incl. torture, ill treatment; family/domestic), 2. Witness of violence (physical, threats, killings/death, torture, ill treatment, sexual, family/domestic), 11. Killing of family member/loved one","1","1","0","0","0","0","0","0","0","0","1","0","0","0","0","0","0","0",null,2,1,4,2,{"$f":"IF(ISNUMBER(SEARCH(\"1\",#REF!)),\"1\",\"0\")","v":"0"},{"$f":"IF(ISNUMBER(SEARCH(\"2\",#REF!)),\"1\",\"0\")","v":"0"},{"$f":"IF(ISNUMBER(SEARCH(\"3\",#REF!)),\"1\",\"0\")","v":"0"},{"$f":"IF(ISNUMBER(SEARCH(\"4\",#REF!)),\"1\",\"0\")","v":"0"},{"$f":"IF(ISNUMBER(SEARCH(\"5\",#REF!)),\"1\",\"0\")","v":"0"},{"$f":"IF(ISNUMBER(SEARCH(\"6\",#REF!)),\"1\",\"0\")","v":"0"},{"$f":"IF(ISNUMBER(SEARCH(\"7\",#REF!)),\"1\",\"0\")","v":"0"},{"$f":"IF(ISNUMBER(SEARCH(\"8\",#REF!)),\"1\",\"0\")","v":"0"},{"$f":"IF(ISNUMBER(SEARCH(\"9\",#REF!)),\"1\",\"0\")","v":"0"},{"$f":"IF(ISNUMBER(SEARCH(\"9\",#REF!)),\"1\",\"0\")","v":"0"},{"$f":"IF(ISNUMBER(SEARCH(\"10\",#REF!)),\"1\",\"0\")","v":"0"},{"$f":"IF(ISNUMBER(SEARCH(\"11\",#REF!)),\"1\",\"0\")","v":"0"},{"$f":"IF(ISNUMBER(SEARCH(\"12\",#REF!)),\"1\",\"0\")","v":"0"},{"$f":"IF(ISNUMBER(SEARCH(\"13\",#REF!)),\"1\",\"0\")","v":"0"},{"$f":"IF(ISNUMBER(SEARCH(\"14\",#REF!)),\"1\",\"0\")","v":"0"},{"$f":"IF(ISNUMBER(SEARCH(\"15\",#REF!)),\"1\",\"0\")","v":"0"},{"$f":"IF(ISNUMBER(SEARCH(\"16\",#REF!)),\"1\",\"0\")","v":"0"},{"$f":"IF(ISNUMBER(SEARCH(\"17\",#REF!)),\"1\",\"0\")","v":"0"},{"$nulls":9},60,{"$nulls":7},8,{"$f":"#REF!-#REF!","v":{"$error":"#REF!"}}]
[4,42,429,2,2,50,1969,3,3,2,6,5,2,"2. Witness of violence (physical, threats, killings/death, torture, ill treatment, sexual, family/domestic)","0","1","0","0","0","0","0","0","0","0","0","0","0","0","0","0","0","0",null,2,1,4,2,{"$f":"IF(ISNUMBER(SEARCH(\"1\",#REF!)),\"1\",\"0\")","v":"0"},{"$f":"IF(ISNUMBER(SEARCH(\"2\",#REF!)),\"1\",\"0\")","v":"0"},{"$f":"IF(ISNUMBER(SEARCH(\"3\",#REF!)),\"1\",\"0\")","v":"0"},{"$f":"IF(ISNUMBER(SEARCH(\"4\",#REF!)),\"1\",\"0\")","v":"0"},{"$f":"IF(ISNUMBER(SEARCH(\"5\",#REF!)),\"1\",\"0\")","v":"0"},{"$f":"IF(ISNUMBER(SEARCH(\"6\",#REF!)),\"1\",\"0\")","v":"0"},{"$f":"IF(ISNUMBER(SEARCH(\"7\",#REF!)),\"1\",\"0\")","v":"0"},{"$f":"IF(ISNUMBER(SEARCH(\"8\",#REF!)),\"1\",\"0\")","v":"0"},{"$f":"IF(ISNUMBER(SEARCH(\"9\",#REF!)),\"1\",\"0\")","v":"0"},{"$f":"IF(ISNUMBER(SEARCH(\"9\",#REF!)),\"1\",\"0\")","v":"0"},{"$f":"IF(ISNUMBER(SEARCH(\"10\",#REF!)),\"1\",\"0\")","v":"0"},{"$f":"IF(ISNUMBER(SEARCH(\"11\",#REF!)),\"1\",\"0\")","v":"0"},{"$f":"IF(ISNUMBER(SEARCH(\"12\",#REF!)),\"1\",\"0\")","v":"0"},{"$f":"IF(ISNUMBER(SEARCH(\"13\",#REF!)),\"1\",\"0\")","v":"0"},{"$f":"IF(ISNUMBER(SEARCH(\"14\",#REF!)),\"1\",\"0\")","v":"0"},{"$f":"IF(ISNUMBER(SEARCH(\"15\",#REF!)),\"1\",\"0\")","v":"0"},{"$f":"IF(ISNUMBER(SEARCH(\"16\",#REF!)),\"1\",\"0\")","v":"0"},{"$f":"IF(ISNUMBER(SEARCH(\"17\",#REF!)),\"1\",\"0\")","v":"0"},{"$nulls":9},42,{"$nulls":7},6,{"$f":"#REF!-#REF!","v":{"$error":"#REF!"}}]
[4,42,429,"10&9",2,44,1975,3,8,2,2,5,2,"1. Victim of violence (physical, incl. torture, ill treatment; family/domestic), 2. Witness of violence (physical, threats, killings/death, torture, ill treatment, sexual, family/domestic), 11. Killing of family member/loved one, 12. Disappearance of family member/loved one","1","1","0","0","0","0","0","0","0","0","1","1","0","0","0","0","0","0",null,2,1,5,2,{"$f":"IF(ISNUMBER(SEARCH(\"1\",#REF!)),\"1\",\"0\")","v":"0"},{"$f":"IF(ISNUMBER(SEARCH(\"2\",#REF!)),\"1\",\"0\")","v":"0"},{"$f":"IF(ISNUMBER(SEARCH(\"3\",#REF!)),\"1\",\"0\")","v":"0"},{"$f":"IF(ISNUMBER(SEARCH(\"4\",#REF!)),\"1\",\"0\")","v":"0"},{"$f":"IF(ISNUMBER(SEARCH(\"5\",#REF!)),\"1\",\"0\")","v":"0"},{"$f":"IF(ISNUMBER(SEARCH(\"6\",#REF!)),\"1\",\"0\")","v":"0"},{"$f":"IF(ISNUMBER(SEARCH(\"7\",#REF!)),\"1\",\"0\")","v":"0"},{"$f":"IF(ISNUMBER(SEARCH(\"8\",#REF!)),\"1\",\"0\")","v":"0"},{"$f":"IF(ISNUMBER(SEARCH(\"9\",#REF!)),\"1\",\"0\")","v":"0"},{"$f":"IF(ISNUMBER(SEARCH(\"9\",#REF!)),\"1\",\"0\")","v":"0"},{"$f":"IF(ISNUMBER(SEARCH(\"10\",#REF!)),\"1\",\"0\")","v":"0"},{"$f":"IF(ISNUMBER(SEARCH(\"11\",#REF!)),\"1\",\"0\")","v":"0"},{"$f":"IF(ISNUMBER(SEARCH(\"12\",#REF!)),\"1\",\"0\")","v":"0"},{"$f":"IF(ISNUMBER(SEARCH(\"13\",#REF!)),\"1\",\"0\")","v":"0"},{"$f":"IF(ISNUMBER(SEARCH(\"14\",#REF!)),\"1\",\"0\")","v":"0"},{"$f":"IF(ISNUMBER(SEARCH(\"15\",#REF!)),\"1\",\"0\")","v":"0"},{"$f":"IF(ISNUMBER(SEARCH(\"16\",#REF!)),\"1\",\"0\")","v":"0"},{"$f":"IF(ISNUMBER(SEARCH(\"17\",#REF!)),\"1\",\"0\")","v":"0"},{"$nulls":9},42,{"$nulls":7},7,{"$f":"#REF!-#REF!","v":{"$error":"#REF!"}}]
[4,42,429,8,2,41,{"$f":"2019-F6377","v":1978},2,3,2,8,5,2,"2. Witness of violence (physical, threats, killings/death, torture, ill treatment, sexual, family/domestic), 10. Kidnapping/hostage (without sexual violence)","1","1","0","0","0","0","0","0","0","1","0","0","0","0","0","0","0","0",null,1,1,4,2,{"$f":"IF(ISNUMBER(SEARCH(\"1\",#REF!)),\"1\",\"0\")","v":"0"},{"$f":"IF(ISNUMBER(SEARCH(\"2\",#REF!)),\"1\",\"0\")","v":"0"},{"$f":"IF(ISNUMBER(SEARCH(\"3\",#REF!)),\"1\",\"0\")","v":"0"},{"$f":"IF(ISNUMBER(SEARCH(\"4\",#REF!)),\"1\",\"0\")","v":"0"},{"$f":"IF(ISNUMBER(SEARCH(\"5\",#REF!)),\"1\",\"0\")","v":"0"},{"$f":"IF(ISNUMBER(SEARCH(\"6\",#REF!)),\"1\",\"0\")","v":"0"},{"$f":"IF(ISNUMBER(SEARCH(\"7\",#REF!)),\"1\",\"0\")","v":"0"},{"$f":"IF(ISNUMBER(SEARCH(\"8\",#REF!)),\"1\",\"0\")","v":"0"},{"$f":"IF(ISNUMBER(SEARCH(\"9\",#REF!)),\"1\",\"0\")","v":"0"},{"$f":"IF(ISNUMBER(SEARCH(\"9\",#REF!)),\"1\",\"0\")","v":"0"},{"$f":"IF(ISNUMBER(SEARCH(\"10\",#REF!)),\"1\",\"0\")","v":"0"},{"$f":"IF(ISNUMBER(SEARCH(\"11\",#REF!)),\"1\",\"0\")","v":"0"},{"$f":"IF(ISNUMBER(SEARCH(\"12\",#REF!)),\"1\",\"0\")","v":"0"},{"$f":"IF(ISNUMBER(SEARCH(\"13\",#REF!)),\"1\",\"0\")","v":"0"},{"$f":"IF(ISNUMBER(SEARCH(\"14\",#REF!)),\"1\",\"0\")","v":"0"},{"$f":"IF(ISNUMBER(SEARCH(\"15\",#REF!)),\"1\",\"0\")","v":"0"},{"$f":"IF(ISNUMBER(SEARCH(\"16\",#REF!)),\"1\",\"0\")","v":"0"},{"$f":"IF(ISNUMBER(SEARCH(\"17\",#REF!)),\"1\",\"0\")","v":"0"},{"$nulls":9},39,{"$nulls":7},7,{"$f":"#REF!-#REF!","v":{"$error":"#REF!"}}]
[4,42,429,"10&9",2,47,1972,2,8,2,6,5,2,"1. Victim of violence (physical, incl. torture, ill treatment; family/domestic), 2. Witness of violence (physical, threats, killings/death, torture, ill treatment, sexual, family/domestic), 11. Killing of family member/loved one","1","1","0","0","0","0","0","0","0","0","1","0","0","0","0","0","0","0",null,2,null,5,2,{"$f":"IF(ISNUMBER(SEARCH(\"1\",#REF!)),\"1\",\"0\")","v":"0"},0,{"$f":"IF(ISNUMBER(SEARCH(\"3\",#REF!)),\"1\",\"0\")","v":"0"},{"$f":"IF(ISNUMBER(SEARCH(\"4\",#REF!)),\"1\",\"0\")","v":"0"},{"$f":"IF(ISNUMBER(SEARCH(\"5\",#REF!)),\"1\",\"0\")","v":"0"},{"$f":"IF(ISNUMBER(SEARCH(\"6\",#REF!)),\"1\",\"0\")","v":"0"},{"$f":"IF(ISNUMBER(SEARCH(\"7\",#REF!)),\"1\",\"0\")","v":"0"},{"$f":"IF(ISNUMBER(SEARCH(\"8\",#REF!)),\"1\",\"0\")","v":"0"},{"$f":"IF(ISNUMBER(SEARCH(\"9\",#REF!)),\"1\",\"0\")","v":"0"},{"$f":"IF(ISNUMBER(SEARCH(\"9\",#REF!)),\"1\",\"0\")","v":"0"},{"$f":"IF(ISNUMBER(SEARCH(\"10\",#REF!)),\"1\",\"0\")","v":"0"},{"$f":"IF(ISNUMBER(SEARCH(\"11\",#REF!)),\"1\",\"0\")","v":"0"},{"$f":"IF(ISNUMBER(SEARCH(\"12\",#REF!)),\"1\",\"0\")","v":"0"},{"$f":"IF(ISNUMBER(SEARCH(\"13\",#REF!)),\"1\",\"0\")","v":"0"},{"$f":"IF(ISNUMBER(SEARCH(\"14\",#REF!)),\"1\",\"0\")","v":"0"},{"$f":"IF(ISNUMBER(SEARCH(\"15\",#REF!)),\"1\",\"0\")","v":"0"},{"$f":"IF(ISNUMBER(SEARCH(\"16\",#REF!)),\"1\",\"0\")","v":"0"},{"$f":"IF(ISNUMBER(SEARCH(\"17\",#REF!)),\"1\",\"0\")","v":"0"},{"$nulls":9},62,{"$nulls":7},6,{"$f":"#REF!-#REF!","v":{"$error":"#REF!"}}]
[4,42,429,4,2,54,1965,2,3,2,null,5,2,"2. Witness of violence (physical, threats, killings/death, torture, ill treatment, sexual, family/domestic), 11. Killing of family member/loved one","1","1","0","0","0","0","0","0","0","0","1","0","0","0","0","0","0","0",null,2,1,5,2,{"$f":"IF(ISNUMBER(SEARCH(\"1\",#REF!)),\"1\",\"0\")","v":"0"},{"$f":"IF(ISNUMBER(SEARCH(\"2\",#REF!)),\"1\",\"0\")","v":"0"},{"$f":"IF(ISNUMBER(SEARCH(\"3\",#REF!)),\"1\",\"0\")","v":"0"},{"$f":"IF(ISNUMBER(SEARCH(\"4\",#REF!)),\"1\",\"0\")","v":"0"},{"$f":"IF(ISNUMBER(SEARCH(\"5\",#REF!)),\"1\",\"0\")","v":"0"},{"$f":"IF(ISNUMBER(SEARCH(\"6\",#REF!)),\"1\",\"0\")","v":"0"},{"$f":"IF(ISNUMBER(SEARCH(\"7\",#REF!)),\"1\",\"0\")","v":"0"},{"$f":"IF(ISNUMBER(SEARCH(\"8\",#REF!)),\"1\",\"0\")","v":"0"},{"$f":"IF(ISNUMBER(SEARCH(\"9\",#REF!)),\"1\",\"0\")","v":"0"},{"$f":"IF(ISNUMBER(SEARCH(\"9\",#REF!)),\"1\",\"0\")","v":"0"},{"$f":"IF(ISNUMBER(SEARCH(\"10\",#REF!)),\"1\",\"0\")","v":"0"},{"$f":"IF(ISNUMBER(SEARCH(\"11\",#REF!)),\"1\",\"0\")","v":"0"},{"$f":"IF(ISNUMBER(SEARCH(\"12\",#REF!)),\"1\",\"0\")","v":"0"},{"$f":"IF(ISNUMBER(SEARCH(\"13\",#REF!)),\"1\",\"0\")","v":"0"},{"$f":"IF(ISNUMBER(SEARCH(\"14\",#REF!)),\"1\",\"0\")","v":"0"},{"$f":"IF(ISNUMBER(SEARCH(\"15\",#REF!)),\"1\",\"0\")","v":"0"},{"$f":"IF(ISNUMBER(SEARCH(\"16\",#REF!)),\"1\",\"0\")","v":"0"},{"$f":"IF(ISNUMBER(SEARCH(\"17\",#REF!)),\"1\",\"0\")","v":"0"},{"$nulls":9},42,{"$nulls":7},7,{"$f":"#REF!-#REF!","v":{"$error":"#REF!"}}]
[4,42,430,6,2,70,1949,1,3,2,5,5,6,"2. Witness of violence (physical, threats, killings/death, torture, ill treatment, sexual, family/domestic)","0","1","0","0","0","0","0","0","0","0","0","0","0","0","0","0","0","0",null,1,5,5,2,{"$f":"IF(ISNUMBER(SEARCH(\"1\",#REF!)),\"1\",\"0\")","v":"0"},{"$f":"IF(ISNUMBER(SEARCH(\"2\",#REF!)),\"1\",\"0\")","v":"0"},{"$f":"IF(ISNUMBER(SEARCH(\"3\",#REF!)),\"1\",\"0\")","v":"0"},{"$f":"IF(ISNUMBER(SEARCH(\"4\",#REF!)),\"1\",\"0\")","v":"0"},{"$f":"IF(ISNUMBER(SEARCH(\"5\",#REF!)),\"1\",\"0\")","v":"0"},{"$f":"IF(ISNUMBER(SEARCH(\"6\",#REF!)),\"1\",\"0\")","v":"0"},{"$f":"IF(ISNUMBER(SEARCH(\"7\",#REF!)),\"1\",\"0\")","v":"0"},{"$f":"IF(ISNUMBER(SEARCH(\"8\",#REF!)),\"1\",\"0\")","v":"0"},{"$f":"IF(ISNUMBER(SEARCH(\"9\",#REF!)),\"1\",\"0\")","v":"0"},{"$f":"IF(ISNUMBER(SEARCH(\"9\",#REF!)),\"1\",\"0\")","v":"0"},{"$f":"IF(ISNUMBER(SEARCH(\"10\",#REF!)),\"1\",\"0\")","v":"0"},{"$f":"IF(ISNUMBER(SEARCH(\"11\",#REF!)),\"1\",\"0\")","v":"0"},{"$f":"IF(ISNUMBER(SEARCH(\"12\",#REF!)),\"1\",\"0\")","v":"0"},{"$f":"IF(ISNUMBER(SEARCH(\"13\",#REF!)),\"1\",\"0\")","v":"0"},{"$f":"IF(ISNUMBER(SEARCH(\"14\",#REF!)),\"1\",\"0\")","v":"0"},{"$f":"IF(ISNUMBER(SEARCH(\"15\",#REF!)),\"1\",\"0\")","v":"0"},{"$f":"IF(ISNUMBER(SEARCH(\"16\",#REF!)),\"1\",\"0\")","v":"0"},{"$f":"IF(ISNUMBER(SEARCH(\"17\",#REF!)),\"1\",\"0\")","v":"0"},{"$nulls":9},60,{"$nulls":7},8,{"$f":"#REF!-#REF!","v":{"$error":"#REF!"}}]
[4,42,430,3,2,40,1979,1,3,2,3,5,6,"2. Witness of violence (physical, threats, killings/death, torture, ill treatment, sexual, family/domestic), 11. Killing of family member/loved one, 15. Insults / received threats, 12. Disappearance of family member/loved one","1","1","0","0","1","0","0","0","0","0","1","1","0","0","1","0","0","0",null,2,7,4,2,{"$f":"IF(ISNUMBER(SEARCH(\"1\",#REF!)),\"1\",\"0\")","v":"0"},{"$f":"IF(ISNUMBER(SEARCH(\"2\",#REF!)),\"1\",\"0\")","v":"0"},{"$f":"IF(ISNUMBER(SEARCH(\"3\",#REF!)),\"1\",\"0\")","v":"0"},{"$f":"IF(ISNUMBER(SEARCH(\"4\",#REF!)),\"1\",\"0\")","v":"0"},{"$f":"IF(ISNUMBER(SEARCH(\"5\",#REF!)),\"1\",\"0\")","v":"0"},{"$f":"IF(ISNUMBER(SEARCH(\"6\",#REF!)),\"1\",\"0\")","v":"0"},{"$f":"IF(ISNUMBER(SEARCH(\"7\",#REF!)),\"1\",\"0\")","v":"0"},{"$f":"IF(ISNUMBER(SEARCH(\"8\",#REF!)),\"1\",\"0\")","v":"0"},{"$f":"IF(ISNUMBER(SEARCH(\"9\",#REF!)),\"1\",\"0\")","v":"0"},{"$f":"IF(ISNUMBER(SEARCH(\"9\",#REF!)),\"1\",\"0\")","v":"0"},{"$f":"IF(ISNUMBER(SEARCH(\"10\",#REF!)),\"1\",\"0\")","v":"0"},{"$f":"IF(ISNUMBER(SEARCH(\"11\",#REF!)),\"1\",\"0\")","v":"0"},{"$f":"IF(ISNUMBER(SEARCH(\"12\",#REF!)),\"1\",\"0\")","v":"0"},{"$f":"IF(ISNUMBER(SEARCH(\"13\",#REF!)),\"1\",\"0\")","v":"0"},{"$f":"IF(ISNUMBER(SEARCH(\"14\",#REF!)),\"1\",\"0\")","v":"0"},{"$f":"IF(ISNUMBER(SEARCH(\"15\",#REF!)),\"1\",\"0\")","v":"0"},{"$f":"IF(ISNUMBER(SEARCH(\"16\",#REF!)),\"1\",\"0\")","v":"0"},{"$f":"IF(ISNUMBER(SEARCH(\"17\",#REF!)),\"1\",\"0\")","v":"0"},{"$nulls":9},71,{"$nulls":7},6,{"$f":"#REF!-#REF!","v":{"$error":"#REF!"}}]
[4,42,430,null,2,57,1962,1,3,2,3,5,6,"2. Witness of violence (physical, threats, killings/death, torture, ill treatment, sexual, family/domestic), 10. Kidnapping/hostage (without sexual violence), 11. Killing of family member/loved one","1","1","0","0","0","0","0","0","0","1","1","0","0","0","0","0","0","0",null,2,1,4,2,{"$f":"IF(ISNUMBER(SEARCH(\"1\",#REF!)),\"1\",\"0\")","v":"0"},{"$f":"IF(ISNUMBER(SEARCH(\"2\",#REF!)),\"1\",\"0\")","v":"0"},{"$f":"IF(ISNUMBER(SEARCH(\"3\",#REF!)),\"1\",\"0\")","v":"0"},{"$f":"IF(ISNUMBER(SEARCH(\"4\",#REF!)),\"1\",\"0\")","v":"0"},{"$f":"IF(ISNUMBER(SEARCH(\"5\",#REF!)),\"1\",\"0\")","v":"0"},{"$f":"IF(ISNUMBER(SEARCH(\"6\",#REF!)),\"1\",\"0\")","v":"0"},{"$f":"IF(ISNUMBER(SEARCH(\"7\",#REF!)),\"1\",\"0\")","v":"0"},{"$f":"IF(ISNUMBER(SEARCH(\"8\",#REF!)),\"1\",\"0\")","v":"0"},{"$f":"IF(ISNUMBER(SEARCH(\"9\",#REF!)),\"1\",\"0\")","v":"0"},{"$f":"IF(ISNUMBER(SEARCH(\"9\",#REF!)),\"1\",\"0\")","v":"0"},{"$f":"IF(ISNUMBER(SEARCH(\"10\",#REF!)),\"1\",\"0\")","v":"0"},{"$f":"IF(ISNUMBER(SEARCH(\"11\",#REF!)),\"1\",\"0\")","v":"0"},{"$f":"IF(ISNUMBER(SEARCH(\"12\",#REF!)),\"1\",\"0\")","v":"0"},{"$f":"IF(ISNUMBER(SEARCH(\"13\",#REF!)),\"1\",\"0\")","v":"0"},{"$f":"IF(ISNUMBER(SEARCH(\"14\",#REF!)),\"1\",\"0\")","v":"0"},{"$f":"IF(ISNUMBER(SEARCH(\"15\",#REF!)),\"1\",\"0\")","v":"0"},{"$f":"IF(ISNUMBER(SEARCH(\"16\",#REF!)),\"1\",\"0\")","v":"0"},{"$f":"IF(ISNUMBER(SEARCH(\"17\",#REF!)),\"1\",\"0\")","v":"0"},{"$nulls":9},66,{"$nulls":7},8,{"$f":"#REF!-#REF!","v":{"$error":"#REF!"}}]
[4,42,430,4,2,40,1979,2,8,2,6,5,6,"2. Witness of violence (physical, threats, killings/death, torture, ill treatment, sexual, family/domestic), 11. Killing of family member/loved one, 12. Disappearance of family member/loved one, 15. Insults / received threats","1","1","0","0","1","0","0","0","0","0","1","1","0","0","1","0","0","0",null,2,1,5,2,{"$f":"IF(ISNUMBER(SEARCH(\"1\",#REF!)),\"1\",\"0\")","v":"0"},{"$f":"IF(ISNUMBER(SEARCH(\"2\",#REF!)),\"1\",\"0\")","v":"0"},{"$f":"IF(ISNUMBER(SEARCH(\"3\",#REF!)),\"1\",\"0\")","v":"0"},{"$f":"IF(ISNUMBER(SEARCH(\"4\",#REF!)),\"1\",\"0\")","v":"0"},{"$f":"IF(ISNUMBER(SEARCH(\"5\",#REF!)),\"1\",\"0\")","v":"0"},{"$f":"IF(ISNUMBER(SEARCH(\"6\",#REF!)),\"1\",\"0\")","v":"0"},{"$f":"IF(ISNUMBER(SEARCH(\"7\",#REF!)),\"1\",\"0\")","v":"0"},{"$f":"IF(ISNUMBER(SEARCH(\"8\",#REF!)),\"1\",\"0\")","v":"0"},{"$f":"IF(ISNUMBER(SEARCH(\"9\",#REF!)),\"1\",\"0\")","v":"0"},{"$f":"IF(ISNUMBER(SEARCH(\"9\",#REF!)),\"1\",\"0\")","v":"0"},{"$f":"IF(ISNUMBER(SEARCH(\"10\",#REF!)),\"1\",\"0\")","v":"0"},{"$f":"IF(ISNUMBER(SEARCH(\"11\",#REF!)),\"1\",\"0\")","v":"0"},{"$f":"IF(ISNUMBER(SEARCH(\"12\",#REF!)),\"1\",\"0\")","v":"0"},{"$f":"IF(ISNUMBER(SEARCH(\"13\",#REF!)),\"1\",\"0\")","v":"0"},{"$f":"IF(ISNUMBER(SEARCH(\"14\",#REF!)),\"1\",\"0\")","v":"0"},{"$f":"IF(ISNUMBER(SEARCH(\"15\",#REF!)),\"1\",\"0\")","v":"0"},{"$f":"IF(ISNUMBER(SEARCH(\"16\",#REF!)),\"1\",\"0\")","v":"0"},{"$f":"IF(ISNUMBER(SEARCH(\"17\",#REF!)),\"1\",\"0\")","v":"0"},{"$nulls":9},57,{"$nulls":7},8,{"$f":"#REF!-#REF!","v":{"$error":"#REF!"}}]
[4,42,430,3,2,48,1971,1,3,2,null,5,5,"1. Victim of violence (physical, incl. torture, ill treatment; family/domestic), 11. Killing of family member/loved one, 12. Disappearance of family member/loved one, 16. Other (please specify in the next cell)","1","1","0","0","0","1","0","0","0","0","1","1","0","0","0","1","0","0",null,2,1,4,2,{"$f":"IF(ISNUMBER(SEARCH(\"1\",#REF!)),\"1\",\"0\")","v":"0"},{"$f":"IF(ISNUMBER(SEARCH(\"2\",#REF!)),\"1\",\"0\")","v":"0"},{"$f":"IF(ISNUMBER(SEARCH(\"3\",#REF!)),\"1\",\"0\")","v":"0"},{"$f":"IF(ISNUMBER(SEARCH(\"4\",#REF!)),\"1\",\"0\")","v":"0"},{"$f":"IF(ISNUMBER(SEARCH(\"5\",#REF!)),\"1\",\"0\")","v":"0"},{"$f":"IF(ISNUMBER(SEARCH(\"6\",#REF!)),\"1\",\"0\")","v":"0"},{"$f":"IF(ISNUMBER(SEARCH(\"7\",#REF!)),\"1\",\"0\")","v":"0"},{"$f":"IF(ISNUMBER(SEARCH(\"8\",#REF!)),\"1\",\"0\")","v":"0"},{"$f":"IF(ISNUMBER(SEARCH(\"9\",#REF!)),\"1\",\"0\")","v":"0"},{"$f":"IF(ISNUMBER(SEARCH(\"9\",#REF!)),\"1\",\"0\")","v":"0"},{"$f":"IF(ISNUMBER(SEARCH(\"10\",#REF!)),\"1\",\"0\")","v":"0"},{"$f":"IF(ISNUMBER(SEARCH(\"11\",#REF!)),\"1\",\"0\")","v":"0"},{"$f":"IF(ISNUMBER(SEARCH(\"12\",#REF!)),\"1\",\"0\")","v":"0"},{"$f":"IF(ISNUMBER(SEARCH(\"13\",#REF!)),\"1\",\"0\")","v":"0"},{"$f":"IF(ISNUMBER(SEARCH(\"14\",#REF!)),\"1\",\"0\")","v":"0"},{"$f":"IF(ISNUMBER(SEARCH(\"15\",#REF!)),\"1\",\"0\")","v":"0"},{"$f":"IF(ISNUMBER(SEARCH(\"16\",#REF!)),\"1\",\"0\")","v":"0"},{"$f":"IF(ISNUMBER(SEARCH(\"17\",#REF!)),\"1\",\"0\")","v":"0"},{"$nulls":9},65,{"$nulls":7},7,{"$f":"#REF!-#REF!","v":{"$error":"#REF!"}}]
[4,42,430,3,2,58,1961,1,3,2,5,5,6,"2. Witness of violence (physical, threats, killings/death, torture, ill treatment, sexual, family/domestic), 11. Killing of family member/loved one, 15. Insults / received threats, 12. Disappearance of family member/loved one","1","1","0","0","1","0","0","0","0","0","1","1","0","0","1","0","0","0",null,2,1,4,2,{"$f":"IF(ISNUMBER(SEARCH(\"1\",#REF!)),\"1\",\"0\")","v":"0"},0,{"$f":"IF(ISNUMBER(SEARCH(\"3\",#REF!)),\"1\",\"0\")","v":"0"},{"$f":"IF(ISNUMBER(SEARCH(\"4\",#REF!)),\"1\",\"0\")","v":"0"},{"$f":"IF(ISNUMBER(SEARCH(\"5\",#REF!)),\"1\",\"0\")","v":"0"},{"$f":"IF(ISNUMBER(SEARCH(\"6\",#REF!)),\"1\",\"0\")","v":"0"},{"$f":"IF(ISNUMBER(SEARCH(\"7\",#REF!)),\"1\",\"0\")","v":"0"},{"$f":"IF(ISNUMBER(SEARCH(\"8\",#REF!)),\"1\",\"0\")","v":"0"},{"$f":"IF(ISNUMBER(SEARCH(\"9\",#REF!)),\"1\",\"0\")","v":"0"},{"$f":"IF(ISNUMBER(SEARCH(\"9\",#REF!)),\"1\",\"0\")","v":"0"},{"$f":"IF(ISNUMBER(SEARCH(\"10\",#REF!)),\"1\",\"0\")","v":"0"},{"$f":"IF(ISNUMBER(SEARCH(\"11\",#REF!)),\"1\",\"0\")","v":"0"},{"$f":"IF(ISNUMBER(SEARCH(\"12\",#REF!)),\"1\",\"0\")","v":"0"},{"$f":"IF(ISNUMBER(SEARCH(\"13\",#REF!)),\"1\",\"0\")","v":"0"},{"$f":"IF(ISNUMBER(SEARCH(\"14\",#REF!)),\"1\",\"0\")","v":"0"},{"$f":"IF(ISNUMBER(SEARCH(\"15\",#REF!)),\"1\",\"0\")","v":"0"},{"$f":"IF(ISNUMBER(SEARCH(\"16\",#REF!)),\"1\",\"0\")","v":"0"},{"$f":"IF(ISNUMBER(SEARCH(\"17\",#REF!)),\"1\",\"0\")","v":"0"},{"$nulls":9},57,{"$nulls":7},8,{"$f":"#REF!-#REF!","v":{"$error":"#REF!"}}]
[4,42,430,3,2,47,1972,2,3,2,null,5,1,"2. Witness of violence (physical, threats, killings/death, torture, ill treatment, sexual, family/domestic), 11. Killing of family member/loved one, 12. Disappearance of family member/loved one","1","1","0","0","0","0","0","0","0","0","1","1","0","0","0","0","0","0",null,2,1,4,2,{"$f":"IF(ISNUMBER(SEARCH(\"1\",#REF!)),\"1\",\"0\")","v":"0"},0,{"$f":"IF(ISNUMBER(SEARCH(\"3\",#REF!)),\"1\",\"0\")","v":"0"},{"$f":"IF(ISNUMBER(SEARCH(\"4\",#REF!)),\"1\",\"0\")","v":"0"},{"$f":"IF(ISNUMBER(SEARCH(\"5\",#REF!)),\"1\",\"0\")","v":"0"},{"$f":"IF(ISNUMBER(SEARCH(\"6\",#REF!)),\"1\",\"0\")","v":"0"},{"$f":"IF(ISNUMBER(SEARCH(\"7\",#REF!)),\"1\",\"0\")","v":"0"},{"$f":"IF(ISNUMBER(SEARCH(\"8\",#REF!)),\"1\",\"0\")","v":"0"},{"$f":"IF(ISNUMBER(SEARCH(\"9\",#REF!)),\"1\",\"0\")","v":"0"},{"$f":"IF(ISNUMBER(SEARCH(\"9\",#REF!)),\"1\",\"0\")","v":"0"},{"$f":"IF(ISNUMBER(SEARCH(\"10\",#REF!)),\"1\",\"0\")","v":"0"},{"$f":"IF(ISNUMBER(SEARCH(\"11\",#REF!)),\"1\",\"0\")","v":"0"},{"$f":"IF(ISNUMBER(SEARCH(\"12\",#REF!)),\"1\",\"0\")","v":"0"},{"$f":"IF(ISNUMBER(SEARCH(\"13\",#REF!)),\"1\",\"0\")","v":"0"},{"$f":"IF(ISNUMBER(SEARCH(\"14\",#REF!)),\"1\",\"0\")","v":"0"},{"$f":"IF(ISNUMBER(SEARCH(\"15\",#REF!)),\"1\",\"0\")","v":"0"},{"$f":"IF(ISNUMBER(SEARCH(\"16\",#REF!)),\"1\",\"0\")","v":"0"},{"$f":"IF(ISNUMBER(SEARCH(\"17\",#REF!)),\"1\",\"0\")","v":"0"},{"$nulls":9},66,{"$nulls":7},6,{"$f":"#REF!-#REF!","v":{"$error":"#REF!"}}]
[4,42,430,1,2,44,1975,1,3,2,4,5,6,"2. Witness of violence (physical, threats, killings/death, torture, ill treatment, sexual, family/domestic), 11. Killing of family member/loved one","1","1","0","0","0","0","0","0","0","0","1","0","0","0","0","0","0","0",null,1,1,5,2,{"$f":"IF(ISNUMBER(SEARCH(\"1\",#REF!)),\"1\",\"0\")","v":"0"},{"$f":"IF(ISNUMBER(SEARCH(\"2\",#REF!)),\"1\",\"0\")","v":"0"},{"$f":"IF(ISNUMBER(SEARCH(\"3\",#REF!)),\"1\",\"0\")","v":"0"},{"$f":"IF(ISNUMBER(SEARCH(\"4\",#REF!)),\"1\",\"0\")","v":"0"},{"$f":"IF(ISNUMBER(SEARCH(\"5\",#REF!)),\"1\",\"0\")","v":"0"},{"$f":"IF(ISNUMBER(SEARCH(\"6\",#REF!)),\"1\",\"0\")","v":"0"},{"$f":"IF(ISNUMBER(SEARCH(\"7\",#REF!)),\"1\",\"0\")","v":"0"},{"$f":"IF(ISNUMBER(SEARCH(\"8\",#REF!)),\"1\",\"0\")","v":"0"},{"$f":"IF(ISNUMBER(SEARCH(\"9\",#REF!)),\"1\",\"0\")","v":"0"},{"$f":"IF(ISNUMBER(SEARCH(\"9\",#REF!)),\"1\",\"0\")","v":"0"},{"$f":"IF(ISNUMBER(SEARCH(\"10\",#REF!)),\"1\",\"0\")","v":"0"},{"$f":"IF(ISNUMBER(SEARCH(\"11\",#REF!)),\"1\",\"0\")","v":"0"},{"$f":"IF(ISNUMBER(SEARCH(\"12\",#REF!)),\"1\",\"0\")","v":"0"},{"$f":"IF(ISNUMBER(SEARCH(\"13\",#REF!)),\"1\",\"0\")","v":"0"},{"$f":"IF(ISNUMBER(SEARCH(\"14\",#REF!)),\"1\",\"0\")","v":"0"},{"$f":"IF(ISNUMBER(SEARCH(\"15\",#REF!)),\"1\",\"0\")","v":"0"},{"$f":"IF(ISNUMBER(SEARCH(\"16\",#REF!)),\"1\",\"0\")","v":"0"},{"$f":"IF(ISNUMBER(SEARCH(\"17\",#REF!)),\"1\",\"0\")","v":"0"},{"$nulls":9},52,{"$nulls":7},8,{"$f":"#REF!-#REF!","v":{"$error":"#REF!"}}]
[4,42,430,3,2,51,1968,2,3,2,6,5,6,"1. Victim of violence (physical, incl. torture, ill treatment; family/domestic), 11. Killing of family member/loved one, 12. Disappearance of family member/loved one, 15. Insults / received threats","1","1","0","0","1","0","0","0","0","0","1","1","0","0","1","0","0","0",null,1,1,4,2,{"$f":"IF(ISNUMBER(SEARCH(\"1\",#REF!)),\"1\",\"0\")","v":"0"},{"$f":"IF(ISNUMBER(SEARCH(\"2\",#REF!)),\"1\",\"0\")","v":"0"},{"$f":"IF(ISNUMBER(SEARCH(\"3\",#REF!)),\"1\",\"0\")","v":"0"},{"$f":"IF(ISNUMBER(SEARCH(\"4\",#REF!)),\"1\",\"0\")","v":"0"},{"$f":"IF(ISNUMBER(SEARCH(\"5\",#REF!)),\"1\",\"0\")","v":"0"},{"$f":"IF(ISNUMBER(SEARCH(\"6\",#REF!)),\"1\",\"0\")","v":"0"},{"$f":"IF(ISNUMBER(SEARCH(\"7\",#REF!)),\"1\",\"0\")","v":"0"},{"$f":"IF(ISNUMBER(SEARCH(\"8\",#REF!)),\"1\",\"0\")","v":"0"},{"$f":"IF(ISNUMBER(SEARCH(\"9\",#REF!)),\"1\",\"0\")","v":"0"},{"$f":"IF(ISNUMBER(SEARCH(\"9\",#REF!)),\"1\",\"0\")","v":"0"},{"$f":"IF(ISNUMBER(SEARCH(\"10\",#REF!)),\"1\",\"0\")","v":"0"},{"$f":"IF(ISNUMBER(SEARCH(\"11\",#REF!)),\"1\",\"0\")","v":"0"},{"$f":"IF(ISNUMBER(SEARCH(\"12\",#REF!)),\"1\",\"0\")","v":"0"},{"$f":"IF(ISNUMBER(SEARCH(\"13\",#REF!)),\"1\",\"0\")","v":"0"},{"$f":"IF(ISNUMBER(SEARCH(\"14\",#REF!)),\"1\",\"0\")","v":"0"},{"$f":"IF(ISNUMBER(SEARCH(\"15\",#REF!)),\"1\",\"0\")","v":"0"},{"$f":"IF(ISNUMBER(SEARCH(\"16\",#REF!)),\"1\",\"0\")","v":"0"},{"$f":"IF(ISNUMBER(SEARCH(\"17\",#REF!)),\"1\",\"0\")","v":"0"},{"$nulls":9},63,{"$nulls":7},8,{"$f":"#REF!-#REF!","v":{"$error":"#REF!"}}]
[4,42,430,4,2,37,1982,2,3,2,5,5,6,"2. Witness of violence (physical, threats, killings/death, torture, ill treatment, sexual, family/domestic), 11. Killing of family member/loved one","1","1","0","0","0","0","0","0","0","0","1","0","0","0","0","0","0","0",null,2,1,5,2,{"$f":"IF(ISNUMBER(SEARCH(\"1\",#REF!)),\"1\",\"0\")","v":"0"},{"$f":"IF(ISNUMBER(SEARCH(\"2\",#REF!)),\"1\",\"0\")","v":"0"},{"$f":"IF(ISNUMBER(SEARCH(\"3\",#REF!)),\"1\",\"0\")","v":"0"},{"$f":"IF(ISNUMBER(SEARCH(\"4\",#REF!)),\"1\",\"0\")","v":"0"},{"$f":"IF(ISNUMBER(SEARCH(\"5\",#REF!)),\"1\",\"0\")","v":"0"},{"$f":"IF(ISNUMBER(SEARCH(\"6\",#REF!)),\"1\",\"0\")","v":"0"},{"$f":"IF(ISNUMBER(SEARCH(\"7\",#REF!)),\"1\",\"0\")","v":"0"},{"$f":"IF(ISNUMBER(SEARCH(\"8\",#REF!)),\"1\",\"0\")","v":"0"},{"$f":"IF(ISNUMBER(SEARCH(\"9\",#REF!)),\"1\",\"0\")","v":"0"},{"$f":"IF(ISNUMBER(SEARCH(\"9\",#REF!)),\"1\",\"0\")","v":"0"},{"$f":"IF(ISNUMBER(SEARCH(\"10\",#REF!)),\"1\",\"0\")","v":"0"},{"$f":"IF(ISNUMBER(SEARCH(\"11\",#REF!)),\"1\",\"0\")","v":"0"},{"$f":"IF(ISNUMBER(SEARCH(\"12\",#REF!)),\"1\",\"0\")","v":"0"},{"$f":"IF(ISNUMBER(SEARCH(\"13\",#REF!)),\"1\",\"0\")","v":"0"},{"$f":"IF(ISNUMBER(SEARCH(\"14\",#REF!)),\"1\",\"0\")","v":"0"},{"$f":"IF(ISNUMBER(SEARCH(\"15\",#REF!)),\"1\",\"0\")","v":"0"},{"$f":"IF(ISNUMBER(SEARCH(\"16\",#REF!)),\"1\",\"0\")","v":"0"},{"$f":"IF(ISNUMBER(SEARCH(\"17\",#REF!)),\"1\",\"0\")","v":"0"},{"$nulls":9},48,{"$nulls":7},7,{"$f":"#REF!-#REF!","v":{"$error":"#REF!"}}]
[4,42,430,3,2,61,1958,2,8,2,8,5,6,"2. Witness of violence (physical, threats, killings/death, torture, ill treatment, sexual, family/domestic), 12. Disappearance of family member/loved one, 15. Insults / received threats","1","1","0","0","1","0","0","0","0","0","0","1","0","0","1","0","0","0",null,1,1,9,2,{"$f":"IF(ISNUMBER(SEARCH(\"1\",#REF!)),\"1\",\"0\")","v":"0"},{"$f":"IF(ISNUMBER(SEARCH(\"2\",#REF!)),\"1\",\"0\")","v":"0"},{"$f":"IF(ISNUMBER(SEARCH(\"3\",#REF!)),\"1\",\"0\")","v":"0"},{"$f":"IF(ISNUMBER(SEARCH(\"4\",#REF!)),\"1\",\"0\")","v":"0"},{"$f":"IF(ISNUMBER(SEARCH(\"5\",#REF!)),\"1\",\"0\")","v":"0"},{"$f":"IF(ISNUMBER(SEARCH(\"6\",#REF!)),\"1\",\"0\")","v":"0"},{"$f":"IF(ISNUMBER(SEARCH(\"7\",#REF!)),\"1\",\"0\")","v":"0"},{"$f":"IF(ISNUMBER(SEARCH(\"8\",#REF!)),\"1\",\"0\")","v":"0"},{"$f":"IF(ISNUMBER(SEARCH(\"9\",#REF!)),\"1\",\"0\")","v":"0"},{"$f":"IF(ISNUMBER(SEARCH(\"9\",#REF!)),\"1\",\"0\")","v":"0"},{"$f":"IF(ISNUMBER(SEARCH(\"10\",#REF!)),\"1\",\"0\")","v":"0"},{"$f":"IF(ISNUMBER(SEARCH(\"11\",#REF!)),\"1\",\"0\")","v":"0"},{"$f":"IF(ISNUMBER(SEARCH(\"12\",#REF!)),\"1\",\"0\")","v":"0"},{"$f":"IF(ISNUMBER(SEARCH(\"13\",#REF!)),\"1\",\"0\")","v":"0"},{"$f":"IF(ISNUMBER(SEARCH(\"14\",#REF!)),\"1\",\"0\")","v":"0"},{"$f":"IF(ISNUMBER(SEARCH(\"15\",#REF!)),\"1\",\"0\")","v":"0"},{"$f":"IF(ISNUMBER(SEARCH(\"16\",#REF!)),\"1\",\"0\")","v":"0"},{"$f":"IF(ISNUMBER(SEARCH(\"17\",#REF!)),\"1\",\"0\")","v":"0"},{"$nulls":9},62,{"$nulls":7},7,{"$f":"#REF!-#REF!","v":{"$error":"#REF!"}}]
[4,42,430,2,2,39,1980,1,3,2,3,5,6,"2. Witness of violence (physical, threats, killings/death, torture, ill treatment, sexual, family/domestic)","0","1","0","0","0","0","0","0","0","0","0","0","0","0","0","0","0","0",null,1,1,4,2,{"$f":"IF(ISNUMBER(SEARCH(\"1\",#REF!)),\"1\",\"0\")","v":"0"},{"$f":"IF(ISNUMBER(SEARCH(\"2\",#REF!)),\"1\",\"0\")","v":"0"},{"$f":"IF(ISNUMBER(SEARCH(\"3\",#REF!)),\"1\",\"0\")","v":"0"},{"$f":"IF(ISNUMBER(SEARCH(\"4\",#REF!)),\"1\",\"0\")","v":"0"},{"$f":"IF(ISNUMBER(SEARCH(\"5\",#REF!)),\"1\",\"0\")","v":"0"},{"$f":"IF(ISNUMBER(SEARCH(\"6\",#REF!)),\"1\",\"0\")","v":"0"},{"$f":"IF(ISNUMBER(SEARCH(\"7\",#REF!)),\"1\",\"0\")","v":"0"},{"$f":"IF(ISNUMBER(SEARCH(\"8\",#REF!)),\"1\",\"0\")","v":"0"},{"$f":"IF(ISNUMBER(SEARCH(\"9\",#REF!)),\"1\",\"0\")","v":"0"},{"$f":"IF(ISNUMBER(SEARCH(\"9\",#REF!)),\"1\",\"0\")","v":"0"},{"$f":"IF(ISNUMBER(SEARCH(\"10\",#REF!)),\"1\",\"0\")","v":"0"},{"$f":"IF(ISNUMBER(SEARCH(\"11\",#REF!)),\"1\",\"0\")","v":"0"},{"$f":"IF(ISNUMBER(SEARCH(\"12\",#REF!)),\"1\",\"0\")","v":"0"},{"$f":"IF(ISNUMBER(SEARCH(\"13\",#REF!)),\"1\",\"0\")","v":"0"},{"$f":"IF(ISNUMBER(SEARCH(\"14\",#REF!)),\"1\",\"0\")","v":"0"},{"$f":"IF(ISNUMBER(SEARCH(\"15\",#REF!)),\"1\",\"0\")","v":"0"},{"$f":"IF(ISNUMBER(SEARCH(\"16\",#REF!)),\"1\",\"0\")","v":"0"},{"$f":"IF(ISNUMBER(SEARCH(\"17\",#REF!)),\"1\",\"0\")","v":"0"},{"$nulls":9},53,{"$nulls":7},8,{"$f":"#REF!-#REF!","v":{"$error":"#REF!"}}]
[4,42,430,2,2,51,1968,3,3,2,5,5,6,"1. Victim of violence (physical, incl. torture, ill treatment; family/domestic), 2. Witness of violence (physical, threats, killings/death, torture, ill treatment, sexual, family/domestic), 9. Kidnapping/hostage and/for sexual violence, 11. Killing of family member/loved one","1","1","0","0","0","0","0","0","1","0","1","0","0","0","0","0","0","0",null,2,1,4,2,{"$f":"IF(ISNUMBER(SEARCH(\"1\",#REF!)),\"1\",\"0\")","v":"0"},0,{"$f":"IF(ISNUMBER(SEARCH(\"3\",#REF!)),\"1\",\"0\")","v":"0"},{"$f":"IF(ISNUMBER(SEARCH(\"4\",#REF!)),\"1\",\"0\")","v":"0"},{"$f":"IF(ISNUMBER(SEARCH(\"5\",#REF!)),\"1\",\"0\")","v":"0"},{"$f":"IF(ISNUMBER(SEARCH(\"6\",#REF!)),\"1\",\"0\")","v":"0"},{"$f":"IF(ISNUMBER(SEARCH(\"7\",#REF!)),\"1\",\"0\")","v":"0"},{"$f":"IF(ISNUMBER(SEARCH(\"8\",#REF!)),\"1\",\"0\")","v":"0"},{"$f":"IF(ISNUMBER(SEARCH(\"9\",#REF!)),\"1\",\"0\")","v":"0"},{"$f":"IF(ISNUMBER(SEARCH(\"9\",#REF!)),\"1\",\"0\")","v":"0"},{"$f":"IF(ISNUMBER(SEARCH(\"10\",#REF!)),\"1\",\"0\")","v":"0"},{"$f":"IF(ISNUMBER(SEARCH(\"11\",#REF!)),\"1\",\"0\")","v":"0"},{"$f":"IF(ISNUMBER(SEARCH(\"12\",#REF!)),\"1\",\"0\")","v":"0"},{"$f":"IF(ISNUMBER(SEARCH(\"13\",#REF!)),\"1\",\"0\")","v":"0"},{"$f":"IF(ISNUMBER(SEARCH(\"14\",#REF!)),\"1\",\"0\")","v":"0"},{"$f":"IF(ISNUMBER(SEARCH(\"15\",#REF!)),\"1\",\"0\")","v":"0"},{"$f":"IF(ISNUMBER(SEARCH(\"16\",#REF!)),\"1\",\"0\")","v":"0"},{"$f":"IF(ISNUMBER(SEARCH(\"17\",#REF!)),\"1\",\"0\")","v":"0"},{"$nulls":9},61,{"$nulls":7},7,{"$f":"#REF!-#REF!","v":{"$error":"#REF!"}}]
[4,42,431,2,1,46,1973,2,3,2,3,5,2,"2. Witness of violence (physical, threats, killings/death, torture, ill treatment, sexual, family/domestic)","0","1","0","0","0","0","0","0","0","0","0","0","0","0","0","0","0","0",null,2,1,4,2,{"$f":"IF(ISNUMBER(SEARCH(\"1\",#REF!)),\"1\",\"0\")","v":"0"},{"$f":"IF(ISNUMBER(SEARCH(\"2\",#REF!)),\"1\",\"0\")","v":"0"},{"$f":"IF(ISNUMBER(SEARCH(\"3\",#REF!)),\"1\",\"0\")","v":"0"},{"$f":"IF(ISNUMBER(SEARCH(\"4\",#REF!)),\"1\",\"0\")","v":"0"},{"$f":"IF(ISNUMBER(SEARCH(\"5\",#REF!)),\"1\",\"0\")","v":"0"},{"$f":"IF(ISNUMBER(SEARCH(\"6\",#REF!)),\"1\",\"0\")","v":"0"},{"$f":"IF(ISNUMBER(SEARCH(\"7\",#REF!)),\"1\",\"0\")","v":"0"},{"$f":"IF(ISNUMBER(SEARCH(\"8\",#REF!)),\"1\",\"0\")","v":"0"},{"$f":"IF(ISNUMBER(SEARCH(\"9\",#REF!)),\"1\",\"0\")","v":"0"},{"$f":"IF(ISNUMBER(SEARCH(\"9\",#REF!)),\"1\",\"0\")","v":"0"},{"$f":"IF(ISNUMBER(SEARCH(\"10\",#REF!)),\"1\",\"0\")","v":"0"},{"$f":"IF(ISNUMBER(SEARCH(\"11\",#REF!)),\"1\",\"0\")","v":"0"},{"$f":"IF(ISNUMBER(SEARCH(\"12\",#REF!)),\"1\",\"0\")","v":"0"},{"$f":"IF(ISNUMBER(SEARCH(\"13\",#REF!)),\"1\",\"0\")","v":"0"},{"$f":"IF(ISNUMBER(SEARCH(\"14\",#REF!)),\"1\",\"0\")","v":"0"},{"$f":"IF(ISNUMBER(SEARCH(\"15\",#REF!)),\"1\",\"0\")","v":"0"},{"$f":"IF(ISNUMBER(SEARCH(\"16\",#REF!)),\"1\",\"0\")","v":"0"},{"$f":"IF(ISNUMBER(SEARCH(\"17\",#REF!)),\"1\",\"0\")","v":"0"},{"$nulls":9},37,{"$nulls":7},8,{"$f":"#REF!-#REF!","v":{"$error":"#REF!"}}]
[4,42,431,null,1,46,1973,2,3,2,5,5,2,"1. Victim of violence (physical, incl. torture, ill treatment; family/domestic), 2. Witness of violence (physical, threats, killings/death, torture, ill treatment, sexual, family/domestic), 11. Killing of family member/loved one","1","1","0","0","0","0","0","0","0","0","1","0","0","0","0","0","0","0",null,2,6,5,2,{"$f":"IF(ISNUMBER(SEARCH(\"1\",#REF!)),\"1\",\"0\")","v":"0"},{"$f":"IF(ISNUMBER(SEARCH(\"2\",#REF!)),\"1\",\"0\")","v":"0"},{"$f":"IF(ISNUMBER(SEARCH(\"3\",#REF!)),\"1\",\"0\")","v":"0"},{"$f":"IF(ISNUMBER(SEARCH(\"4\",#REF!)),\"1\",\"0\")","v":"0"},{"$f":"IF(ISNUMBER(SEARCH(\"5\",#REF!)),\"1\",\"0\")","v":"0"},{"$f":"IF(ISNUMBER(SEARCH(\"6\",#REF!)),\"1\",\"0\")","v":"0"},{"$f":"IF(ISNUMBER(SEARCH(\"7\",#REF!)),\"1\",\"0\")","v":"0"},{"$f":"IF(ISNUMBER(SEARCH(\"8\",#REF!)),\"1\",\"0\")","v":"0"},{"$f":"IF(ISNUMBER(SEARCH(\"9\",#REF!)),\"1\",\"0\")","v":"0"},{"$f":"IF(ISNUMBER(SEARCH(\"9\",#REF!)),\"1\",\"0\")","v":"0"},{"$f":"IF(ISNUMBER(SEARCH(\"10\",#REF!)),\"1\",\"0\")","v":"0"},{"$f":"IF(ISNUMBER(SEARCH(\"11\",#REF!)),\"1\",\"0\")","v":"0"},{"$f":"IF(ISNUMBER(SEARCH(\"12\",#REF!)),\"1\",\"0\")","v":"0"},{"$f":"IF(ISNUMBER(SEARCH(\"13\",#REF!)),\"1\",\"0\")","v":"0"},{"$f":"IF(ISNUMBER(SEARCH(\"14\",#REF!)),\"1\",\"0\")","v":"0"},{"$f":"IF(ISNUMBER(SEARCH(\"15\",#REF!)),\"1\",\"0\")","v":"0"},{"$f":"IF(ISNUMBER(SEARCH(\"16\",#REF!)),\"1\",\"0\")","v":"0"},{"$f":"IF(ISNUMBER(SEARCH(\"17\",#REF!)),\"1\",\"0\")","v":"0"},{"$nulls":9},65,{"$nulls":7},2,{"$f":"#REF!-#REF!","v":{"$error":"#REF!"}}]
[4,42,431,2,1,44,1975,3,8,2,6,5,2,"2. Witness of violence (physical, threats, killings/death, torture, ill treatment, sexual, family/domestic)","0","1","0","0","0","0","0","0","0","0","0","0","0","0","0","0","0","0",null,2,1,4,2,{"$f":"IF(ISNUMBER(SEARCH(\"1\",#REF!)),\"1\",\"0\")","v":"0"},{"$f":"IF(ISNUMBER(SEARCH(\"2\",#REF!)),\"1\",\"0\")","v":"0"},{"$f":"IF(ISNUMBER(SEARCH(\"3\",#REF!)),\"1\",\"0\")","v":"0"},{"$f":"IF(ISNUMBER(SEARCH(\"4\",#REF!)),\"1\",\"0\")","v":"0"},{"$f":"IF(ISNUMBER(SEARCH(\"5\",#REF!)),\"1\",\"0\")","v":"0"},{"$f":"IF(ISNUMBER(SEARCH(\"6\",#REF!)),\"1\",\"0\")","v":"0"},{"$f":"IF(ISNUMBER(SEARCH(\"7\",#REF!)),\"1\",\"0\")","v":"0"},{"$f":"IF(ISNUMBER(SEARCH(\"8\",#REF!)),\"1\",\"0\")","v":"0"},{"$f":"IF(ISNUMBER(SEARCH(\"9\",#REF!)),\"1\",\"0\")","v":"0"},{"$f":"IF(ISNUMBER(SEARCH(\"9\",#REF!)),\"1\",\"0\")","v":"0"},{"$f":"IF(ISNUMBER(SEARCH(\"10\",#REF!)),\"1\",\"0\")","v":"0"},{"$f":"IF(ISNUMBER(SEARCH(\"11\",#REF!)),\"1\",\"0\")","v":"0"},{"$f":"IF(ISNUMBER(SEARCH(\"12\",#REF!)),\"1\",\"0\")","v":"0"},{"$f":"IF(ISNUMBER(SEARCH(\"13\",#REF!)),\"1\",\"0\")","v":"0"},{"$f":"IF(ISNUMBER(SEARCH(\"14\",#REF!)),\"1\",\"0\")","v":"0"},{"$f":"IF(ISNUMBER(SEARCH(\"15\",#REF!)),\"1\",\"0\")","v":"0"},{"$f":"IF(ISNUMBER(SEARCH(\"16\",#REF!)),\"1\",\"0\")","v":"0"},{"$f":"IF(ISNUMBER(SEARCH(\"17\",#REF!)),\"1\",\"0\")","v":"0"},{"$nulls":9},71,{"$nulls":7},4,{"$f":"#REF!-#REF!","v":{"$error":"#REF!"}}]
[4,42,431,6,1,47,1972,2,7,2,3,5,2,"2. Witness of violence (physical, threats, killings/death, torture, ill treatment, sexual, family/domestic)","0","1","0","0","0","0","0","0","0","0","0","0","0","0","0","0","0","0",null,2,1,5,2,{"$f":"IF(ISNUMBER(SEARCH(\"1\",#REF!)),\"1\",\"0\")","v":"0"},{"$f":"IF(ISNUMBER(SEARCH(\"2\",#REF!)),\"1\",\"0\")","v":"0"},{"$f":"IF(ISNUMBER(SEARCH(\"3\",#REF!)),\"1\",\"0\")","v":"0"},{"$f":"IF(ISNUMBER(SEARCH(\"4\",#REF!)),\"1\",\"0\")","v":"0"},{"$f":"IF(ISNUMBER(SEARCH(\"5\",#REF!)),\"1\",\"0\")","v":"0"},{"$f":"IF(ISNUMBER(SEARCH(\"6\",#REF!)),\"1\",\"0\")","v":"0"},{"$f":"IF(ISNUMBER(SEARCH(\"7\",#REF!)),\"1\",\"0\")","v":"0"},{"$f":"IF(ISNUMBER(SEARCH(\"8\",#REF!)),\"1\",\"0\")","v":"0"},{"$f":"IF(ISNUMBER(SEARCH(\"9\",#REF!)),\"1\",\"0\")","v":"0"},{"$f":"IF(ISNUMBER(SEARCH(\"9\",#REF!)),\"1\",\"0\")","v":"0"},{"$f":"IF(ISNUMBER(SEARCH(\"10\",#REF!)),\"1\",\"0\")","v":"0"},{"$f":"IF(ISNUMBER(SEARCH(\"11\",#REF!)),\"1\",\"0\")","v":"0"},{"$f":"IF(ISNUMBER(SEARCH(\"12\",#REF!)),\"1\",\"0\")","v":"0"},{"$f":"IF(ISNUMBER(SEARCH(\"13\",#REF!)),\"1\",\"0\")","v":"0"},{"$f":"IF(ISNUMBER(SEARCH(\"14\",#REF!)),\"1\",\"0\")","v":"0"},{"$f":"IF(ISNUMBER(SEARCH(\"15\",#REF!)),\"1\",\"0\")","v":"0"},{"$f":"IF(ISNUMBER(SEARCH(\"16\",#REF!)),\"1\",\"0\")","v":"0"},{"$f":"IF(ISNUMBER(SEARCH(\"17\",#REF!)),\"1\",\"0\")","v":"0"},{"$nulls":9},57,{"$nulls":7},6,{"$f":"#REF!-#REF!","v":{"$error":"#REF!"}}]
[4,42,431,3,1,52,1967,2,3,2,null,5,2,"1. Victim of violence (physical, incl. torture, ill treatment; family/domestic), 11. Killing of family member/loved one, 12. Disappearance of family member/loved one, 9. Kidnapping/hostage and/for sexual violence","1","1","0","0","0","0","0","0","1","0","1","1","0","0","0","0","0","0",null,2,1,3,2,{"$f":"IF(ISNUMBER(SEARCH(\"1\",#REF!)),\"1\",\"0\")","v":"0"},0,{"$f":"IF(ISNUMBER(SEARCH(\"3\",#REF!)),\"1\",\"0\")","v":"0"},{"$f":"IF(ISNUMBER(SEARCH(\"4\",#REF!)),\"1\",\"0\")","v":"0"},{"$f":"IF(ISNUMBER(SEARCH(\"5\",#REF!)),\"1\",\"0\")","v":"0"},{"$f":"IF(ISNUMBER(SEARCH(\"6\",#REF!)),\"1\",\"0\")","v":"0"},{"$f":"IF(ISNUMBER(SEARCH(\"7\",#REF!)),\"1\",\"0\")","v":"0"},{"$f":"IF(ISNUMBER(SEARCH(\"8\",#REF!)),\"1\",\"0\")","v":"0"},{"$f":"IF(ISNUMBER(SEARCH(\"9\",#REF!)),\"1\",\"0\")","v":"0"},{"$f":"IF(ISNUMBER(SEARCH(\"9\",#REF!)),\"1\",\"0\")","v":"0"},{"$f":"IF(ISNUMBER(SEARCH(\"10\",#REF!)),\"1\",\"0\")","v":"0"},{"$f":"IF(ISNUMBER(SEARCH(\"11\",#REF!)),\"1\",\"0\")","v":"0"},{"$f":"IF(ISNUMBER(SEARCH(\"12\",#REF!)),\"1\",\"0\")","v":"0"},{"$f":"IF(ISNUMBER(SEARCH(\"13\",#REF!)),\"1\",\"0\")","v":"0"},{"$f":"IF(ISNUMBER(SEARCH(\"14\",#REF!)),\"1\",\"0\")","v":"0"},{"$f":"IF(ISNUMBER(SEARCH(\"15\",#REF!)),\"1\",\"0\")","v":"0"},{"$f":"IF(ISNUMBER(SEARCH(\"16\",#REF!)),\"1\",\"0\")","v":"0"},{"$f":"IF(ISNUMBER(SEARCH(\"17\",#REF!)),\"1\",\"0\")","v":"0"},{"$nulls":9},60,{"$nulls":7},8,{"$f":"#REF!-#REF!","v":{"$error":"#REF!"}}]
[4,42,431,4,1,40,1979,2,7,2,4,5,2,"2. Witness of violence (physical, threats, killings/death, torture, ill treatment, sexual, family/domestic), 11. Killing of family member/loved one","1","1","0","0","0","0","0","0","0","0","1","0","0","0","0","0","0","0",null,1,2,5,2,{"$f":"IF(ISNUMBER(SEARCH(\"1\",#REF!)),\"1\",\"0\")","v":"0"},{"$f":"IF(ISNUMBER(SEARCH(\"2\",#REF!)),\"1\",\"0\")","v":"0"},{"$f":"IF(ISNUMBER(SEARCH(\"3\",#REF!)),\"1\",\"0\")","v":"0"},{"$f":"IF(ISNUMBER(SEARCH(\"4\",#REF!)),\"1\",\"0\")","v":"0"},{"$f":"IF(ISNUMBER(SEARCH(\"5\",#REF!)),\"1\",\"0\")","v":"0"},{"$f":"IF(ISNUMBER(SEARCH(\"6\",#REF!)),\"1\",\"0\")","v":"0"},{"$f":"IF(ISNUMBER(SEARCH(\"7\",#REF!)),\"1\",\"0\")","v":"0"},{"$f":"IF(ISNUMBER(SEARCH(\"8\",#REF!)),\"1\",\"0\")","v":"0"},{"$f":"IF(ISNUMBER(SEARCH(\"9\",#REF!)),\"1\",\"0\")","v":"0"},{"$f":"IF(ISNUMBER(SEARCH(\"9\",#REF!)),\"1\",\"0\")","v":"0"},{"$f":"IF(ISNUMBER(SEARCH(\"10\",#REF!)),\"1\",\"0\")","v":"0"},{"$f":"IF(ISNUMBER(SEARCH(\"11\",#REF!)),\"1\",\"0\")","v":"0"},{"$f":"IF(ISNUMBER(SEARCH(\"12\",#REF!)),\"1\",\"0\")","v":"0"},{"$f":"IF(ISNUMBER(SEARCH(\"13\",#REF!)),\"1\",\"0\")","v":"0"},{"$f":"IF(ISNUMBER(SEARCH(\"14\",#REF!)),\"1\",\"0\")","v":"0"},{"$f":"IF(ISNUMBER(SEARCH(\"15\",#REF!)),\"1\",\"0\")","v":"0"},{"$f":"IF(ISNUMBER(SEARCH(\"16\",#REF!)),\"1\",\"0\")","v":"0"},{"$f":"IF(ISNUMBER(SEARCH(\"17\",#REF!)),\"1\",\"0\")","v":"0"},{"$nulls":9},58,{"$nulls":7},5,{"$f":"#REF!-#REF!","v":{"$error":"#REF!"}}]
[4,42,431,6,1,45,1974,2,8,2,13,5,2,"2. Witness of violence (physical, threats, killings/death, torture, ill treatment, sexual, family/domestic)","0","1","0","0","0","0","0","0","0","0","0","0","0","0","0","0","0","0",null,2,2,5,2,{"$f":"IF(ISNUMBER(SEARCH(\"1\",#REF!)),\"1\",\"0\")","v":"0"},{"$f":"IF(ISNUMBER(SEARCH(\"2\",#REF!)),\"1\",\"0\")","v":"0"},{"$f":"IF(ISNUMBER(SEARCH(\"3\",#REF!)),\"1\",\"0\")","v":"0"},{"$f":"IF(ISNUMBER(SEARCH(\"4\",#REF!)),\"1\",\"0\")","v":"0"},{"$f":"IF(ISNUMBER(SEARCH(\"5\",#REF!)),\"1\",\"0\")","v":"0"},{"$f":"IF(ISNUMBER(SEARCH(\"6\",#REF!)),\"1\",\"0\")","v":"0"},{"$f":"IF(ISNUMBER(SEARCH(\"7\",#REF!)),\"1\",\"0\")","v":"0"},{"$f":"IF(ISNUMBER(SEARCH(\"8\",#REF!)),\"1\",\"0\")","v":"0"},{"$f":"IF(ISNUMBER(SEARCH(\"9\",#REF!)),\"1\",\"0\")","v":"0"},{"$f":"IF(ISNUMBER(SEARCH(\"9\",#REF!)),\"1\",\"0\")","v":"0"},{"$f":"IF(ISNUMBER(SEARCH(\"10\",#REF!)),\"1\",\"0\")","v":"0"},{"$f":"IF(ISNUMBER(SEARCH(\"11\",#REF!)),\"1\",\"0\")","v":"0"},{"$f":"IF(ISNUMBER(SEARCH(\"12\",#REF!)),\"1\",\"0\")","v":"0"},{"$f":"IF(ISNUMBER(SEARCH(\"13\",#REF!)),\"1\",\"0\")","v":"0"},{"$f":"IF(ISNUMBER(SEARCH(\"14\",#REF!)),\"1\",\"0\")","v":"0"},{"$f":"IF(ISNUMBER(SEARCH(\"15\",#REF!)),\"1\",\"0\")","v":"0"},{"$f":"IF(ISNUMBER(SEARCH(\"16\",#REF!)),\"1\",\"0\")","v":"0"},{"$f":"IF(ISNUMBER(SEARCH(\"17\",#REF!)),\"1\",\"0\")","v":"0"},{"$nulls":9},29,{"$nulls":7},4,{"$f":"#REF!-#REF!","v":{"$error":"#REF!"}}]
[4,42,431,"10&9",1,57,1962,2,3,2,8,5,2,"1. Victim of violence (physical, incl. torture, ill treatment; family/domestic), 2. Witness of violence (physical, threats, killings/death, torture, ill treatment, sexual, family/domestic)","1","1","0","0","0","0","0","0","0","0","0","0","0","0","0","0","0","0",null,2,1,5,2,{"$f":"IF(ISNUMBER(SEARCH(\"1\",#REF!)),\"1\",\"0\")","v":"0"},{"$f":"IF(ISNUMBER(SEARCH(\"2\",#REF!)),\"1\",\"0\")","v":"0"},{"$f":"IF(ISNUMBER(SEARCH(\"3\",#REF!)),\"1\",\"0\")","v":"0"},{"$f":"IF(ISNUMBER(SEARCH(\"4\",#REF!)),\"1\",\"0\")","v":"0"},{"$f":"IF(ISNUMBER(SEARCH(\"5\",#REF!)),\"1\",\"0\")","v":"0"},{"$f":"IF(ISNUMBER(SEARCH(\"6\",#REF!)),\"1\",\"0\")","v":"0"},{"$f":"IF(ISNUMBER(SEARCH(\"7\",#REF!)),\"1\",\"0\")","v":"0"},{"$f":"IF(ISNUMBER(SEARCH(\"8\",#REF!)),\"1\",\"0\")","v":"0"},{"$f":"IF(ISNUMBER(SEARCH(\"9\",#REF!)),\"1\",\"0\")","v":"0"},{"$f":"IF(ISNUMBER(SEARCH(\"9\",#REF!)),\"1\",\"0\")","v":"0"},{"$f":"IF(ISNUMBER(SEARCH(\"10\",#REF!)),\"1\",\"0\")","v":"0"},{"$f":"IF(ISNUMBER(SEARCH(\"11\",#REF!)),\"1\",\"0\")","v":"0"},{"$f":"IF(ISNUMBER(SEARCH(\"12\",#REF!)),\"1\",\"0\")","v":"0"},{"$f":"IF(ISNUMBER(SEARCH(\"13\",#REF!)),\"1\",\"0\")","v":"0"},{"$f":"IF(ISNUMBER(SEARCH(\"14\",#REF!)),\"1\",\"0\")","v":"0"},{"$f":"IF(ISNUMBER(SEARCH(\"15\",#REF!)),\"1\",\"0\")","v":"0"},{"$f":"IF(ISNUMBER(SEARCH(\"16\",#REF!)),\"1\",\"0\")","v":"0"},{"$f":"IF(ISNUMBER(SEARCH(\"17\",#REF!)),\"1\",\"0\")","v":"0"},{"$nulls":9},59,{"$nulls":7},6,{"$f":"#REF!-#REF!","v":{"$error":"#REF!"}}]
[4,42,431,3,1,58,1961,2,3,2,4,5,2,"1. Victim of violence (physical, incl. torture, ill treatment; family/domestic), 6. Forced marriage, 2. Witness of violence (physical, threats, killings/death, torture, ill treatment, sexual, family/domestic), 12. Disappearance of family member/loved one, 15. Insults / received threats, 11. Killing of family member/loved one","1","1","0","0","1","1","0","0","0","0","1","1","0","0","1","0","0","0",null,2,1,4,2,{"$f":"IF(ISNUMBER(SEARCH(\"1\",#REF!)),\"1\",\"0\")","v":"0"},{"$f":"IF(ISNUMBER(SEARCH(\"2\",#REF!)),\"1\",\"0\")","v":"0"},{"$f":"IF(ISNUMBER(SEARCH(\"3\",#REF!)),\"1\",\"0\")","v":"0"},{"$f":"IF(ISNUMBER(SEARCH(\"4\",#REF!)),\"1\",\"0\")","v":"0"},{"$f":"IF(ISNUMBER(SEARCH(\"5\",#REF!)),\"1\",\"0\")","v":"0"},{"$f":"IF(ISNUMBER(SEARCH(\"6\",#REF!)),\"1\",\"0\")","v":"0"},{"$f":"IF(ISNUMBER(SEARCH(\"7\",#REF!)),\"1\",\"0\")","v":"0"},{"$f":"IF(ISNUMBER(SEARCH(\"8\",#REF!)),\"1\",\"0\")","v":"0"},{"$f":"IF(ISNUMBER(SEARCH(\"9\",#REF!)),\"1\",\"0\")","v":"0"},{"$f":"IF(ISNUMBER(SEARCH(\"9\",#REF!)),\"1\",\"0\")","v":"0"},{"$f":"IF(ISNUMBER(SEARCH(\"10\",#REF!)),\"1\",\"0\")","v":"0"},{"$f":"IF(ISNUMBER(SEARCH(\"11\",#REF!)),\"1\",\"0\")","v":"0"},{"$f":"IF(ISNUMBER(SEARCH(\"12\",#REF!)),\"1\",\"0\")","v":"0"},{"$f":"IF(ISNUMBER(SEARCH(\"13\",#REF!)),\"1\",\"0\")","v":"0"},{"$f":"IF(ISNUMBER(SEARCH(\"14\",#REF!)),\"1\",\"0\")","v":"0"},{"$f":"IF(ISNUMBER(SEARCH(\"15\",#REF!)),\"1\",\"0\")","v":"0"},{"$f":"IF(ISNUMBER(SEARCH(\"16\",#REF!)),\"1\",\"0\")","v":"0"},{"$f":"IF(ISNUMBER(SEARCH(\"17\",#REF!)),\"1\",\"0\")","v":"0"},{"$nulls":9},59,{"$nulls":7},8,{"$f":"#REF!-#REF!","v":{"$error":"#REF!"}}]
[4,42,431,4,1,81,1938,1,3,2,0,5,2,"12. Disappearance of family member/loved one, 15. Insults / received threats, 2. Witness of violence (physical, threats, killings/death, torture, ill treatment, sexual, family/domestic)","1","1","0","0","1","0","0","0","0","0","0","1","0","0","1","0","0","0",null,2,1,5,2,{"$f":"IF(ISNUMBER(SEARCH(\"1\",#REF!)),\"1\",\"0\")","v":"0"},{"$f":"IF(ISNUMBER(SEARCH(\"2\",#REF!)),\"1\",\"0\")","v":"0"},{"$f":"IF(ISNUMBER(SEARCH(\"3\",#REF!)),\"1\",\"0\")","v":"0"},{"$f":"IF(ISNUMBER(SEARCH(\"4\",#REF!)),\"1\",\"0\")","v":"0"},{"$f":"IF(ISNUMBER(SEARCH(\"5\",#REF!)),\"1\",\"0\")","v":"0"},{"$f":"IF(ISNUMBER(SEARCH(\"6\",#REF!)),\"1\",\"0\")","v":"0"},{"$f":"IF(ISNUMBER(SEARCH(\"7\",#REF!)),\"1\",\"0\")","v":"0"},{"$f":"IF(ISNUMBER(SEARCH(\"8\",#REF!)),\"1\",\"0\")","v":"0"},{"$f":"IF(ISNUMBER(SEARCH(\"9\",#REF!)),\"1\",\"0\")","v":"0"},{"$f":"IF(ISNUMBER(SEARCH(\"9\",#REF!)),\"1\",\"0\")","v":"0"},{"$f":"IF(ISNUMBER(SEARCH(\"10\",#REF!)),\"1\",\"0\")","v":"0"},{"$f":"IF(ISNUMBER(SEARCH(\"11\",#REF!)),\"1\",\"0\")","v":"0"},{"$f":"IF(ISNUMBER(SEARCH(\"12\",#REF!)),\"1\",\"0\")","v":"0"},{"$f":"IF(ISNUMBER(SEARCH(\"13\",#REF!)),\"1\",\"0\")","v":"0"},{"$f":"IF(ISNUMBER(SEARCH(\"14\",#REF!)),\"1\",\"0\")","v":"0"},{"$f":"IF(ISNUMBER(SEARCH(\"15\",#REF!)),\"1\",\"0\")","v":"0"},{"$f":"IF(ISNUMBER(SEARCH(\"16\",#REF!)),\"1\",\"0\")","v":"0"},{"$f":"IF(ISNUMBER(SEARCH(\"17\",#REF!)),\"1\",\"0\")","v":"0"},{"$nulls":9},67,{"$nulls":7},7,{"$f":"#REF!-#REF!","v":{"$error":"#REF!"}}]
[4,42,431,0,1,54,1965,2,3,2,8,5,2,"2. Witness of violence (physical, threats, killings/death, torture, ill treatment, sexual, family/domestic), 10. Kidnapping/hostage (without sexual violence), 11. Killing of family member/loved one",{"$f":"IF(ISNUMBER(SEARCH(\"1\",$N6403)),\"1\",\"0\")","v":"1"},{"$f":"IF(ISNUMBER(SEARCH(\"2\",$N6403)),\"1\",\"0\")","v":"1"},{"$f":"IF(ISNUMBER(SEARCH(\"3\",$N6403)),\"1\",\"0\")","v":"0"},{"$f":"IF(ISNUMBER(SEARCH(\"4\",$N6403)),\"1\",\"0\")","v":"0"},{"$f":"IF(ISNUMBER(SEARCH(\"5\",$N6403)),\"1\",\"0\")","v":"0"},{"$f":"IF(ISNUMBER(SEARCH(\"6\",$N6403)),\"1\",\"0\")","v":"0"},{"$f":"IF(ISNUMBER(SEARCH(\"7\",$N6403)),\"1\",\"0\")","v":"0"},{"$f":"IF(ISNUMBER(SEARCH(\"8\",$N6403)),\"1\",\"0\")","v":"0"},{"$f":"IF(ISNUMBER(SEARCH(\"9\",$N6403)),\"1\",\"0\")","v":"0"},{"$f":"IF(ISNUMBER(SEARCH(\"10\",$N6403)),\"1\",\"0\")","v":"1"},{"$f":"IF(ISNUMBER(SEARCH(\"11\",$N6403)),\"1\",\"0\")","v":"1"},{"$f":"IF(ISNUMBER(SEARCH(\"12\",$N6403)),\"1\",\"0\")","v":"0"},{"$f":"IF(ISNUMBER(SEARCH(\"13\",$N6403)),\"1\",\"0\")","v":"0"},{"$f":"IF(ISNUMBER(SEARCH(\"14\",$N6403)),\"1\",\"0\")","v":"0"},{"$f":"IF(ISNUMBER(SEARCH(\"15\",$N6403)),\"1\",\"0\")","v":"0"},{"$f":"IF(ISNUMBER(SEARCH(\"16\",$N6403)),\"1\",\"0\")","v":"0"},{"$f":"IF(ISNUMBER(SEARCH(\"17\",$N6403)),\"1\",\"0\")","v":"0"},{"$f":"IF(ISNUMBER(SEARCH(\"18\",$N6403)),\"1\",\"0\")","v":"0"},null,2,1,4,2,{"$f":"IF(ISNUMBER(SEARCH(\"1\",#REF!)),\"1\",\"0\")","v":"0"},{"$f":"IF(ISNUMBER(SEARCH(\"2\",#REF!)),\"1\",\"0\")","v":"0"},{"$f":"IF(ISNUMBER(SEARCH(\"3\",#REF!)),\"1\",\"0\")","v":"0"},{"$f":"IF(ISNUMBER(SEARCH(\"4\",#REF!)),\"1\",\"0\")","v":"0"},{"$f":"IF(ISNUMBER(SEARCH(\"5\",#REF!)),\"1\",\"0\")","v":"0"},{"$f":"IF(ISNUMBER(SEARCH(\"6\",#REF!)),\"1\",\"0\")","v":"0"},{"$f":"IF(ISNUMBER(SEARCH(\"7\",#REF!)),\"1\",\"0\")","v":"0"},{"$f":"IF(ISNUMBER(SEARCH(\"8\",#REF!)),\"1\",\"0\")","v":"0"},{"$f":"IF(ISNUMBER(SEARCH(\"9\",#REF!)),\"1\",\"0\")","v":"0"},{"$f":"IF(ISNUMBER(SEARCH(\"9\",#REF!)),\"1\",\"0\")","v":"0"},{"$f":"IF(ISNUMBER(SEARCH(\"10\",#REF!)),\"1\",\"0\")","v":"0"},{"$f":"IF(ISNUMBER(SEARCH(\"11\",#REF!)),\"1\",\"0\")","v":"0"},{"$f":"IF(ISNUMBER(SEARCH(\"12\",#REF!)),\"1\",\"0\")","v":"0"},{"$f":"IF(ISNUMBER(SEARCH(\"13\",#REF!)),\"1\",\"0\")","v":"0"},{"$f":"IF(ISNUMBER(SEARCH(\"14\",#REF!)),\"1\",\"0\")","v":"0"},{"$f":"IF(ISNUMBER(SEARCH(\"15\",#REF!)),\"1\",\"0\")","v":"0"},{"$f":"IF(ISNUMBER(SEARCH(\"16\",#REF!)),\"1\",\"0\")","v":"0"},{"$f":"IF(ISNUMBER(SEARCH(\"17\",#REF!)),\"1\",\"0\")","v":"0"},{"$nulls":9},57,{"$nulls":7},8,{"$f":"#REF!-#REF!","v":{"$error":"#REF!"}}]
[4,42,431,2,1,52,1967,3,3,2,26,5,2,"2. Witness of violence (physical, threats, killings/death, torture, ill treatment, sexual, family/domestic)","0","1","0","0","0","0","0","0","0","0","0","0","0","0","0","0","0","0",null,1,1,4,2,{"$f":"IF(ISNUMBER(SEARCH(\"1\",#REF!)),\"1\",\"0\")","v":"0"},{"$f":"IF(ISNUMBER(SEARCH(\"2\",#REF!)),\"1\",\"0\")","v":"0"},{"$f":"IF(ISNUMBER(SEARCH(\"3\",#REF!)),\"1\",\"0\")","v":"0"},{"$f":"IF(ISNUMBER(SEARCH(\"4\",#REF!)),\"1\",\"0\")","v":"0"},{"$f":"IF(ISNUMBER(SEARCH(\"5\",#REF!)),\"1\",\"0\")","v":"0"},{"$f":"IF(ISNUMBER(SEARCH(\"6\",#REF!)),\"1\",\"0\")","v":"0"},{"$f":"IF(ISNUMBER(SEARCH(\"7\",#REF!)),\"1\",\"0\")","v":"0"},{"$f":"IF(ISNUMBER(SEARCH(\"8\",#REF!)),\"1\",\"0\")","v":"0"},{"$f":"IF(ISNUMBER(SEARCH(\"9\",#REF!)),\"1\",\"0\")","v":"0"},{"$f":"IF(ISNUMBER(SEARCH(\"9\",#REF!)),\"1\",\"0\")","v":"0"},{"$f":"IF(ISNUMBER(SEARCH(\"10\",#REF!)),\"1\",\"0\")","v":"0"},{"$f":"IF(ISNUMBER(SEARCH(\"11\",#REF!)),\"1\",\"0\")","v":"0"},{"$f":"IF(ISNUMBER(SEARCH(\"12\",#REF!)),\"1\",\"0\")","v":"0"},{"$f":"IF(ISNUMBER(SEARCH(\"13\",#REF!)),\"1\",\"0\")","v":"0"},{"$f":"IF(ISNUMBER(SEARCH(\"14\",#REF!)),\"1\",\"0\")","v":"0"},{"$f":"IF(ISNUMBER(SEARCH(\"15\",#REF!)),\"1\",\"0\")","v":"0"},{"$f":"IF(ISNUMBER(SEARCH(\"16\",#REF!)),\"1\",\"0\")","v":"0"},{"$f":"IF(ISNUMBER(SEARCH(\"17\",#REF!)),\"1\",\"0\")","v":"0"},{"$nulls":9},54,{"$nulls":7},6,{"$f":"#REF!-#REF!","v":{"$error":"#REF!"}}]
[4,42,431,2,1,58,1961,2,3,2,4,5,2,"2. Witness of violence (physical, threats, killings/death, torture, ill treatment, sexual, family/domestic)","0","1","0","0","0","0","0","0","0","0","0","0","0","0","0","0","0","0",null,1,1,4,2,{"$f":"IF(ISNUMBER(SEARCH(\"1\",#REF!)),\"1\",\"0\")","v":"0"},{"$f":"IF(ISNUMBER(SEARCH(\"2\",#REF!)),\"1\",\"0\")","v":"0"},{"$f":"IF(ISNUMBER(SEARCH(\"3\",#REF!)),\"1\",\"0\")","v":"0"},{"$f":"IF(ISNUMBER(SEARCH(\"4\",#REF!)),\"1\",\"0\")","v":"0"},{"$f":"IF(ISNUMBER(SEARCH(\"5\",#REF!)),\"1\",\"0\")","v":"0"},{"$f":"IF(ISNUMBER(SEARCH(\"6\",#REF!)),\"1\",\"0\")","v":"0"},{"$f":"IF(ISNUMBER(SEARCH(\"7\",#REF!)),\"1\",\"0\")","v":"0"},{"$f":"IF(ISNUMBER(SEARCH(\"8\",#REF!)),\"1\",\"0\")","v":"0"},{"$f":"IF(ISNUMBER(SEARCH(\"9\",#REF!)),\"1\",\"0\")","v":"0"},{"$f":"IF(ISNUMBER(SEARCH(\"9\",#REF!)),\"1\",\"0\")","v":"0"},{"$f":"IF(ISNUMBER(SEARCH(\"10\",#REF!)),\"1\",\"0\")","v":"0"},{"$f":"IF(ISNUMBER(SEARCH(\"11\",#REF!)),\"1\",\"0\")","v":"0"},{"$f":"IF(ISNUMBER(SEARCH(\"12\",#REF!)),\"1\",\"0\")","v":"0"},{"$f":"IF(ISNUMBER(SEARCH(\"13\",#REF!)),\"1\",\"0\")","v":"0"},{"$f":"IF(ISNUMBER(SEARCH(\"14\",#REF!)),\"1\",\"0\")","v":"0"},{"$f":"IF(ISNUMBER(SEARCH(\"15\",#REF!)),\"1\",\"0\")","v":"0"},{"$f":"IF(ISNUMBER(SEARCH(\"16\",#REF!)),\"1\",\"0\")","v":"0"},{"$f":"IF(ISNUMBER(SEARCH(\"17\",#REF!)),\"1\",\"0\")","v":"0"},{"$nulls":9},57,{"$nulls":7},6,{"$f":"#REF!-#REF!","v":{"$error":"#REF!"}}]
[4,42,432,2,1,33,1986,3,3,2,null,5,2,"2. Witness of violence (physical, threats, killings/death, torture, ill treatment, sexual, family/domestic)","0","1","0","0","0","0","0","0","0","0","0","0","0","0","0","0","0","0",null,1,1,4,2,{"$f":"IF(ISNUMBER(SEARCH(\"1\",#REF!)),\"1\",\"0\")","v":"0"},{"$f":"IF(ISNUMBER(SEARCH(\"2\",#REF!)),\"1\",\"0\")","v":"0"},{"$f":"IF(ISNUMBER(SEARCH(\"3\",#REF!)),\"1\",\"0\")","v":"0"},{"$f":"IF(ISNUMBER(SEARCH(\"4\",#REF!)),\"1\",\"0\")","v":"0"},{"$f":"IF(ISNUMBER(SEARCH(\"5\",#REF!)),\"1\",\"0\")","v":"0"},{"$f":"IF(ISNUMBER(SEARCH(\"6\",#REF!)),\"1\",\"0\")","v":"0"},{"$f":"IF(ISNUMBER(SEARCH(\"7\",#REF!)),\"1\",\"0\")","v":"0"},{"$f":"IF(ISNUMBER(SEARCH(\"8\",#REF!)),\"1\",\"0\")","v":"0"},{"$f":"IF(ISNUMBER(SEARCH(\"9\",#REF!)),\"1\",\"0\")","v":"0"},{"$f":"IF(ISNUMBER(SEARCH(\"9\",#REF!)),\"1\",\"0\")","v":"0"},{"$f":"IF(ISNUMBER(SEARCH(\"10\",#REF!)),\"1\",\"0\")","v":"0"},{"$f":"IF(ISNUMBER(SEARCH(\"11\",#REF!)),\"1\",\"0\")","v":"0"},{"$f":"IF(ISNUMBER(SEARCH(\"12\",#REF!)),\"1\",\"0\")","v":"0"},{"$f":"IF(ISNUMBER(SEARCH(\"13\",#REF!)),\"1\",\"0\")","v":"0"},{"$f":"IF(ISNUMBER(SEARCH(\"14\",#REF!)),\"1\",\"0\")","v":"0"},{"$f":"IF(ISNUMBER(SEARCH(\"15\",#REF!)),\"1\",\"0\")","v":"0"},{"$f":"IF(ISNUMBER(SEARCH(\"16\",#REF!)),\"1\",\"0\")","v":"0"},{"$f":"IF(ISNUMBER(SEARCH(\"17\",#REF!)),\"1\",\"0\")","v":"0"},{"$nulls":9},62,{"$nulls":7},7,{"$f":"#REF!-#REF!","v":{"$error":"#REF!"}}]
[4,42,432,2,1,35,1984,2,3,2,5,5,2,"2. Witness of violence (physical, threats, killings/death, torture, ill treatment, sexual, family/domestic)","0","1","0","0","0","0","0","0","0","0","0","0","0","0","0","0","0","0",null,1,2,4,2,{"$f":"IF(ISNUMBER(SEARCH(\"1\",#REF!)),\"1\",\"0\")","v":"0"},{"$f":"IF(ISNUMBER(SEARCH(\"2\",#REF!)),\"1\",\"0\")","v":"0"},{"$f":"IF(ISNUMBER(SEARCH(\"3\",#REF!)),\"1\",\"0\")","v":"0"},{"$f":"IF(ISNUMBER(SEARCH(\"4\",#REF!)),\"1\",\"0\")","v":"0"},{"$f":"IF(ISNUMBER(SEARCH(\"5\",#REF!)),\"1\",\"0\")","v":"0"},{"$f":"IF(ISNUMBER(SEARCH(\"6\",#REF!)),\"1\",\"0\")","v":"0"},{"$f":"IF(ISNUMBER(SEARCH(\"7\",#REF!)),\"1\",\"0\")","v":"0"},{"$f":"IF(ISNUMBER(SEARCH(\"8\",#REF!)),\"1\",\"0\")","v":"0"},{"$f":"IF(ISNUMBER(SEARCH(\"9\",#REF!)),\"1\",\"0\")","v":"0"},{"$f":"IF(ISNUMBER(SEARCH(\"9\",#REF!)),\"1\",\"0\")","v":"0"},{"$f":"IF(ISNUMBER(SEARCH(\"10\",#REF!)),\"1\",\"0\")","v":"0"},{"$f":"IF(ISNUMBER(SEARCH(\"11\",#REF!)),\"1\",\"0\")","v":"0"},{"$f":"IF(ISNUMBER(SEARCH(\"12\",#REF!)),\"1\",\"0\")","v":"0"},{"$f":"IF(ISNUMBER(SEARCH(\"13\",#REF!)),\"1\",\"0\")","v":"0"},{"$f":"IF(ISNUMBER(SEARCH(\"14\",#REF!)),\"1\",\"0\")","v":"0"},{"$f":"IF(ISNUMBER(SEARCH(\"15\",#REF!)),\"1\",\"0\")","v":"0"},{"$f":"IF(ISNUMBER(SEARCH(\"16\",#REF!)),\"1\",\"0\")","v":"0"},{"$f":"IF(ISNUMBER(SEARCH(\"17\",#REF!)),\"1\",\"0\")","v":"0"},{"$nulls":9},69,{"$nulls":7},5,{"$f":"#REF!-#REF!","v":{"$error":"#REF!"}}]
[4,42,432,6,1,37,1982,2,3,2,9,5,2,"2. Witness of violence (physical, threats, killings/death, torture, ill treatment, sexual, family/domestic)","0","1","0","0","0","0","0","0","0","0","0","0","0","0","0","0","0","0",null,2,1,5,2,{"$f":"IF(ISNUMBER(SEARCH(\"1\",#REF!)),\"1\",\"0\")","v":"0"},{"$f":"IF(ISNUMBER(SEARCH(\"2\",#REF!)),\"1\",\"0\")","v":"0"},{"$f":"IF(ISNUMBER(SEARCH(\"3\",#REF!)),\"1\",\"0\")","v":"0"},{"$f":"IF(ISNUMBER(SEARCH(\"4\",#REF!)),\"1\",\"0\")","v":"0"},{"$f":"IF(ISNUMBER(SEARCH(\"5\",#REF!)),\"1\",\"0\")","v":"0"},{"$f":"IF(ISNUMBER(SEARCH(\"6\",#REF!)),\"1\",\"0\")","v":"0"},{"$f":"IF(ISNUMBER(SEARCH(\"7\",#REF!)),\"1\",\"0\")","v":"0"},{"$f":"IF(ISNUMBER(SEARCH(\"8\",#REF!)),\"1\",\"0\")","v":"0"},{"$f":"IF(ISNUMBER(SEARCH(\"9\",#REF!)),\"1\",\"0\")","v":"0"},{"$f":"IF(ISNUMBER(SEARCH(\"9\",#REF!)),\"1\",\"0\")","v":"0"},{"$f":"IF(ISNUMBER(SEARCH(\"10\",#REF!)),\"1\",\"0\")","v":"0"},{"$f":"IF(ISNUMBER(SEARCH(\"11\",#REF!)),\"1\",\"0\")","v":"0"},{"$f":"IF(ISNUMBER(SEARCH(\"12\",#REF!)),\"1\",\"0\")","v":"0"},{"$f":"IF(ISNUMBER(SEARCH(\"13\",#REF!)),\"1\",\"0\")","v":"0"},{"$f":"IF(ISNUMBER(SEARCH(\"14\",#REF!)),\"1\",\"0\")","v":"0"},{"$f":"IF(ISNUMBER(SEARCH(\"15\",#REF!)),\"1\",\"0\")","v":"0"},{"$f":"IF(ISNUMBER(SEARCH(\"16\",#REF!)),\"1\",\"0\")","v":"0"},{"$f":"IF(ISNUMBER(SEARCH(\"17\",#REF!)),\"1\",\"0\")","v":"0"},{"$nulls":9},62,{"$nulls":7},2,{"$f":"#REF!-#REF!","v":{"$error":"#REF!"}}]
[4,42,432,3,1,34,1985,1,3,2,3,5,2,"2. Witness of violence (physical, threats, killings/death, torture, ill treatment, sexual, family/domestic)","0","1","0","0","0","0","0","0","0","0","0","0","0","0","0","0","0","0",null,2,1,4,2,{"$f":"IF(ISNUMBER(SEARCH(\"1\",#REF!)),\"1\",\"0\")","v":"0"},{"$f":"IF(ISNUMBER(SEARCH(\"2\",#REF!)),\"1\",\"0\")","v":"0"},{"$f":"IF(ISNUMBER(SEARCH(\"3\",#REF!)),\"1\",\"0\")","v":"0"},{"$f":"IF(ISNUMBER(SEARCH(\"4\",#REF!)),\"1\",\"0\")","v":"0"},{"$f":"IF(ISNUMBER(SEARCH(\"5\",#REF!)),\"1\",\"0\")","v":"0"},{"$f":"IF(ISNUMBER(SEARCH(\"6\",#REF!)),\"1\",\"0\")","v":"0"},{"$f":"IF(ISNUMBER(SEARCH(\"7\",#REF!)),\"1\",\"0\")","v":"0"},{"$f":"IF(ISNUMBER(SEARCH(\"8\",#REF!)),\"1\",\"0\")","v":"0"},{"$f":"IF(ISNUMBER(SEARCH(\"9\",#REF!)),\"1\",\"0\")","v":"0"},{"$f":"IF(ISNUMBER(SEARCH(\"9\",#REF!)),\"1\",\"0\")","v":"0"},{"$f":"IF(ISNUMBER(SEARCH(\"10\",#REF!)),\"1\",\"0\")","v":"0"},{"$f":"IF(ISNUMBER(SEARCH(\"11\",#REF!)),\"1\",\"0\")","v":"0"},{"$f":"IF(ISNUMBER(SEARCH(\"12\",#REF!)),\"1\",\"0\")","v":"0"},{"$f":"IF(ISNUMBER(SEARCH(\"13\",#REF!)),\"1\",\"0\")","v":"0"},{"$f":"IF(ISNUMBER(SEARCH(\"14\",#REF!)),\"1\",\"0\")","v":"0"},{"$f":"IF(ISNUMBER(SEARCH(\"15\",#REF!)),\"1\",\"0\")","v":"0"},{"$f":"IF(ISNUMBER(SEARCH(\"16\",#REF!)),\"1\",\"0\")","v":"0"},{"$f":"IF(ISNUMBER(SEARCH(\"17\",#REF!)),\"1\",\"0\")","v":"0"},{"$nulls":9},62,{"$nulls":7},8,{"$f":"#REF!-#REF!","v":{"$error":"#REF!"}}]
[4,42,432,3,1,31,1988,3,3,2,1,5,2,"2. Witness of violence (physical, threats, killings/death, torture, ill treatment, sexual, family/domestic), 11. Killing of family member/loved one, 12. Disappearance of family member/loved one","1","1","0","0","0","0","0","0","0","0","1","1","0","0","0","0","0","0",null,2,1,4,2,{"$f":"IF(ISNUMBER(SEARCH(\"1\",#REF!)),\"1\",\"0\")","v":"0"},{"$f":"IF(ISNUMBER(SEARCH(\"2\",#REF!)),\"1\",\"0\")","v":"0"},{"$f":"IF(ISNUMBER(SEARCH(\"3\",#REF!)),\"1\",\"0\")","v":"0"},{"$f":"IF(ISNUMBER(SEARCH(\"4\",#REF!)),\"1\",\"0\")","v":"0"},{"$f":"IF(ISNUMBER(SEARCH(\"5\",#REF!)),\"1\",\"0\")","v":"0"},{"$f":"IF(ISNUMBER(SEARCH(\"6\",#REF!)),\"1\",\"0\")","v":"0"},{"$f":"IF(ISNUMBER(SEARCH(\"7\",#REF!)),\"1\",\"0\")","v":"0"},{"$f":"IF(ISNUMBER(SEARCH(\"8\",#REF!)),\"1\",\"0\")","v":"0"},{"$f":"IF(ISNUMBER(SEARCH(\"9\",#REF!)),\"1\",\"0\")","v":"0"},{"$f":"IF(ISNUMBER(SEARCH(\"9\",#REF!)),\"1\",\"0\")","v":"0"},{"$f":"IF(ISNUMBER(SEARCH(\"10\",#REF!)),\"1\",\"0\")","v":"0"},{"$f":"IF(ISNUMBER(SEARCH(\"11\",#REF!)),\"1\",\"0\")","v":"0"},{"$f":"IF(ISNUMBER(SEARCH(\"12\",#REF!)),\"1\",\"0\")","v":"0"},{"$f":"IF(ISNUMBER(SEARCH(\"13\",#REF!)),\"1\",\"0\")","v":"0"},{"$f":"IF(ISNUMBER(SEARCH(\"14\",#REF!)),\"1\",\"0\")","v":"0"},{"$f":"IF(ISNUMBER(SEARCH(\"15\",#REF!)),\"1\",\"0\")","v":"0"},{"$f":"IF(ISNUMBER(SEARCH(\"16\",#REF!)),\"1\",\"0\")","v":"0"},{"$f":"IF(ISNUMBER(SEARCH(\"17\",#REF!)),\"1\",\"0\")","v":"0"},{"$nulls":9},63,{"$nulls":7},7,{"$f":"#REF!-#REF!","v":{"$error":"#REF!"}}]
[4,42,432,3,1,37,1982,2,3,2,3,5,2,"2. Witness of violence (physical, threats, killings/death, torture, ill treatment, sexual, family/domestic), 11. Killing of family member/loved one, 15. Insults / received threats","1","1","0","0","1","0","0","0","0","0","1","0","0","0","1","0","0","0",null,2,1,4,2,{"$f":"IF(ISNUMBER(SEARCH(\"1\",#REF!)),\"1\",\"0\")","v":"0"},0,{"$f":"IF(ISNUMBER(SEARCH(\"3\",#REF!)),\"1\",\"0\")","v":"0"},{"$f":"IF(ISNUMBER(SEARCH(\"4\",#REF!)),\"1\",\"0\")","v":"0"},{"$f":"IF(ISNUMBER(SEARCH(\"5\",#REF!)),\"1\",\"0\")","v":"0"},{"$f":"IF(ISNUMBER(SEARCH(\"6\",#REF!)),\"1\",\"0\")","v":"0"},{"$f":"IF(ISNUMBER(SEARCH(\"7\",#REF!)),\"1\",\"0\")","v":"0"},{"$f":"IF(ISNUMBER(SEARCH(\"8\",#REF!)),\"1\",\"0\")","v":"0"},{"$f":"IF(ISNUMBER(SEARCH(\"9\",#REF!)),\"1\",\"0\")","v":"0"},{"$f":"IF(ISNUMBER(SEARCH(\"9\",#REF!)),\"1\",\"0\")","v":"0"},{"$f":"IF(ISNUMBER(SEARCH(\"10\",#REF!)),\"1\",\"0\")","v":"0"},{"$f":"IF(ISNUMBER(SEARCH(\"11\",#REF!)),\"1\",\"0\")","v":"0"},{"$f":"IF(ISNUMBER(SEARCH(\"12\",#REF!)),\"1\",\"0\")","v":"0"},{"$f":"IF(ISNUMBER(SEARCH(\"13\",#REF!)),\"1\",\"0\")","v":"0"},{"$f":"IF(ISNUMBER(SEARCH(\"14\",#REF!)),\"1\",\"0\")","v":"0"},{"$f":"IF(ISNUMBER(SEARCH(\"15\",#REF!)),\"1\",\"0\")","v":"0"},{"$f":"IF(ISNUMBER(SEARCH(\"16\",#REF!)),\"1\",\"0\")","v":"0"},{"$f":"IF(ISNUMBER(SEARCH(\"17\",#REF!)),\"1\",\"0\")","v":"0"},{"$nulls":9},56,{"$nulls":7},8,{"$f":"#REF!-#REF!","v":{"$error":"#REF!"}}]
[4,42,432,4,1,38,1981,3,1,2,5,5,2,"2. Witness of violence (physical, threats, killings/death, torture, ill treatment, sexual, family/domestic), 11. Killing of family member/loved one","1","1","0","0","0","0","0","0","0","0","1","0","0","0","0","0","0","0",null,2,1,5,2,{"$f":"IF(ISNUMBER(SEARCH(\"1\",#REF!)),\"1\",\"0\")","v":"0"},{"$f":"IF(ISNUMBER(SEARCH(\"2\",#REF!)),\"1\",\"0\")","v":"0"},{"$f":"IF(ISNUMBER(SEARCH(\"3\",#REF!)),\"1\",\"0\")","v":"0"},{"$f":"IF(ISNUMBER(SEARCH(\"4\",#REF!)),\"1\",\"0\")","v":"0"},{"$f":"IF(ISNUMBER(SEARCH(\"5\",#REF!)),\"1\",\"0\")","v":"0"},{"$f":"IF(ISNUMBER(SEARCH(\"6\",#REF!)),\"1\",\"0\")","v":"0"},{"$f":"IF(ISNUMBER(SEARCH(\"7\",#REF!)),\"1\",\"0\")","v":"0"},{"$f":"IF(ISNUMBER(SEARCH(\"8\",#REF!)),\"1\",\"0\")","v":"0"},{"$f":"IF(ISNUMBER(SEARCH(\"9\",#REF!)),\"1\",\"0\")","v":"0"},{"$f":"IF(ISNUMBER(SEARCH(\"9\",#REF!)),\"1\",\"0\")","v":"0"},{"$f":"IF(ISNUMBER(SEARCH(\"10\",#REF!)),\"1\",\"0\")","v":"0"},{"$f":"IF(ISNUMBER(SEARCH(\"11\",#REF!)),\"1\",\"0\")","v":"0"},{"$f":"IF(ISNUMBER(SEARCH(\"12\",#REF!)),\"1\",\"0\")","v":"0"},{"$f":"IF(ISNUMBER(SEARCH(\"13\",#REF!)),\"1\",\"0\")","v":"0"},{"$f":"IF(ISNUMBER(SEARCH(\"14\",#REF!)),\"1\",\"0\")","v":"0"},{"$f":"IF(ISNUMBER(SEARCH(\"15\",#REF!)),\"1\",\"0\")","v":"0"},{"$f":"IF(ISNUMBER(SEARCH(\"16\",#REF!)),\"1\",\"0\")","v":"0"},{"$f":"IF(ISNUMBER(SEARCH(\"17\",#REF!)),\"1\",\"0\")","v":"0"},{"$nulls":9},55,{"$nulls":7},0,{"$f":"#REF!-#REF!","v":{"$error":"#REF!"}}]
[4,42,432,2,1,37,1982,1,3,2,3,5,2,"2. Witness of violence (physical, threats, killings/death, torture, ill treatment, sexual, family/domestic)","0","1","0","0","0","0","0","0","0","0","0","0","0","0","0","0","0","0",null,1,1,4,2,{"$f":"IF(ISNUMBER(SEARCH(\"1\",#REF!)),\"1\",\"0\")","v":"0"},{"$f":"IF(ISNUMBER(SEARCH(\"2\",#REF!)),\"1\",\"0\")","v":"0"},{"$f":"IF(ISNUMBER(SEARCH(\"3\",#REF!)),\"1\",\"0\")","v":"0"},{"$f":"IF(ISNUMBER(SEARCH(\"4\",#REF!)),\"1\",\"0\")","v":"0"},{"$f":"IF(ISNUMBER(SEARCH(\"5\",#REF!)),\"1\",\"0\")","v":"0"},{"$f":"IF(ISNUMBER(SEARCH(\"6\",#REF!)),\"1\",\"0\")","v":"0"},{"$f":"IF(ISNUMBER(SEARCH(\"7\",#REF!)),\"1\",\"0\")","v":"0"},{"$f":"IF(ISNUMBER(SEARCH(\"8\",#REF!)),\"1\",\"0\")","v":"0"},{"$f":"IF(ISNUMBER(SEARCH(\"9\",#REF!)),\"1\",\"0\")","v":"0"},{"$f":"IF(ISNUMBER(SEARCH(\"9\",#REF!)),\"1\",\"0\")","v":"0"},{"$f":"IF(ISNUMBER(SEARCH(\"10\",#REF!)),\"1\",\"0\")","v":"0"},{"$f":"IF(ISNUMBER(SEARCH(\"11\",#REF!)),\"1\",\"0\")","v":"0"},{"$f":"IF(ISNUMBER(SEARCH(\"12\",#REF!)),\"1\",\"0\")","v":"0"},{"$f":"IF(ISNUMBER(SEARCH(\"13\",#REF!)),\"1\",\"0\")","v":"0"},{"$f":"IF(ISNUMBER(SEARCH(\"14\",#REF!)),\"1\",\"0\")","v":"0"},{"$f":"IF(ISNUMBER(SEARCH(\"15\",#REF!)),\"1\",\"0\")","v":"0"},{"$f":"IF(ISNUMBER(SEARCH(\"16\",#REF!)),\"1\",\"0\")","v":"0"},{"$f":"IF(ISNUMBER(SEARCH(\"17\",#REF!)),\"1\",\"0\")","v":"0"},{"$nulls":9},37,{"$nulls":7},5,{"$f":"#REF!-#REF!","v":{"$error":"#REF!"}}]
[4,42,432,null,1,46,1973,4,8,2,5,5,2,"2. Witness of violence (physical, threats, killings/death, torture, ill treatment, sexual, family/domestic), 1. Victim of violence (physical, incl. torture, ill treatment; family/domestic), 12. Disappearance of family member/loved one, 11. Killing of family member/loved one","1","1","0","0","0","0","0","0","0","0","1","1","0","0","0","0","0","0",null,2,3,5,2,{"$f":"IF(ISNUMBER(SEARCH(\"1\",#REF!)),\"1\",\"0\")","v":"0"},0,{"$f":"IF(ISNUMBER(SEARCH(\"3\",#REF!)),\"1\",\"0\")","v":"0"},{"$f":"IF(ISNUMBER(SEARCH(\"4\",#REF!)),\"1\",\"0\")","v":"0"},{"$f":"IF(ISNUMBER(SEARCH(\"5\",#REF!)),\"1\",\"0\")","v":"0"},{"$f":"IF(ISNUMBER(SEARCH(\"6\",#REF!)),\"1\",\"0\")","v":"0"},{"$f":"IF(ISNUMBER(SEARCH(\"7\",#REF!)),\"1\",\"0\")","v":"0"},{"$f":"IF(ISNUMBER(SEARCH(\"8\",#REF!)),\"1\",\"0\")","v":"0"},{"$f":"IF(ISNUMBER(SEARCH(\"9\",#REF!)),\"1\",\"0\")","v":"0"},{"$f":"IF(ISNUMBER(SEARCH(\"9\",#REF!)),\"1\",\"0\")","v":"0"},{"$f":"IF(ISNUMBER(SEARCH(\"10\",#REF!)),\"1\",\"0\")","v":"0"},{"$f":"IF(ISNUMBER(SEARCH(\"11\",#REF!)),\"1\",\"0\")","v":"0"},{"$f":"IF(ISNUMBER(SEARCH(\"12\",#REF!)),\"1\",\"0\")","v":"0"},{"$f":"IF(ISNUMBER(SEARCH(\"13\",#REF!)),\"1\",\"0\")","v":"0"},{"$f":"IF(ISNUMBER(SEARCH(\"14\",#REF!)),\"1\",\"0\")","v":"0"},{"$f":"IF(ISNUMBER(SEARCH(\"15\",#REF!)),\"1\",\"0\")","v":"0"},{"$f":"IF(ISNUMBER(SEARCH(\"16\",#REF!)),\"1\",\"0\")","v":"0"},{"$f":"IF(ISNUMBER(SEARCH(\"17\",#REF!)),\"1\",\"0\")","v":"0"},{"$nulls":17},3]
[{"$nulls":35},2]

{"sheet":"Coding","index":1,"n_rows":20,"n_cols":36,"rows_kept":20}
["id","ctry","prov","sex","age","educ","occu","csta","nchi","reby","remi","typv","noin","dlvio","plav","tyag","noag","ovul","hpsy","metr","refe",null,"disc"]
["ICRC ID","Country","Province","Gender","Year of birth","Education","Occupation","Civil status","Number of children","Referred by","Resident/ Migration status","Type of violence","One or several incidents","Date of latest violence","Plvio","Type of agressor","Number of agressors","Other vulnerability factors","History of psychiatric problems?","Medical treatment received or ongoing","Referred elsewhere yes/no","Date pre test","Distress Scale","Pre depression score","Pre anxiety score","Pre stress score","Pre IES","Pre fonction ICRC14","Date post test","Post depression","Post anxiety score","Post stress score","Post IES","Post Function ICRC14","No individual sessions","No group sessions"]
[{"$nulls":3},"1 Male",null,"1 Illiterate","1 Unemployed","1 Singe",null,"1 Self","1 Resident","1. Victim of violence (physical, incl. torture, ill treatment; family/domestic)","1 One",null,"1. Home","1. Partner","0 0","1. Destroyed/lost property and/or income","0 No","2 No","1. Other Psychological  (specialist)",null,"1 IES",{"$nulls":3},"0 0-23 Mild"]
[null,"2 DRC",null,"2 Female",null,"2 Basic","2 Student","2 Married / Cohabitation",null,"2 Active identification","2 Migrant","2. Witness of violence (physical, threats, killings/death, torture, ill treatment, sexual, family/domestic)","2 Several",null,"2. School/work","2. Family member","1 1","2. Mother head of household","1 Yes present","1 Yes","2. Other Psychosocial",null,"2 DASS",{"$nulls":3},"1 24-28 Mild"]
[null,"3 Mali","21 North Kivu",null,null,"3 Medium","3 Farming/cattle","3 Partner abroad",null,"3 Family or friends","3 Migrant","3. Rape",null,null,"3. On the road/while going somewhere","3. Known, non-family","2 2","3. Passing away/natural death of loved one (less than 2 years ago)","2 Yes past and present",null,"3. Health (PHC"," hospital"," etc.)",{"$nulls":3},"2 29-33 Moderate"]
[null,"4 Nigeria","22 South Kivu",null,null,"4 High","4 Prostitute","4 Partner Missing",null,"4 Community","4 Refugee","4. Attempted rape ",null,null,"4. During combat","4. Unknown civilian","3 3-5","4. Passing away/natural death of loved one (more than 2 years ago)","3 Past only",null,"4. Economic / employment support",{"$nulls":5},"3 34-38 Severe"]
[null,null,"31 Mopti",{"$nulls":3},"5 Fighter","5 Divorced / Separated",null,"5 Awareness raising","5 Other","5. Incest (child sexually abused by family member)",null,null,"5. While fleeing from violence/on the move","5. Armed person/military","4 6+","5. Missing a relative",null,null,"5. Protection (PPC/PCP)",{"$nulls":5},"4 39+ Extremely severe"]
[null,null,"32 Tombouctou",{"$nulls":3},"6 Religious","6 Widow/er",null,"6 Information activity",null,"6. Forced marriage",null,null,"6. Camp/IDP/refugee site","6. Inmate (detention)",null,"6. Caretaker neglect",null,null,"6. Legal support"]
[null,null,"41 Borno",{"$nulls":3},"7 Other jobs","7 Other",null,"7 ICRC health",null,"7. Forced prostitution",null,null,"7. If other, please specify:","7. Guard/staff (detention)",null,"7. Severe or chronic medical/physical condition",null,null,"7. Education / schooling"]
[null,null,"42 Adamawa",{"$nulls":3},"8 Business",null,null,"8 Local health structure",null,"8. Victim of trafficking / smuggling",{"$nulls":3},"8. No information/anonymous",null,"8. Severe or chronic mental health condition",null,null,"8. Social (local NGO..)"]
[{"$nulls":9},"9 ICRC Assistance",null,"9. Kidnapping/hostage and/for sexual violence",{"$nulls":3},"9. If other, please specify:",null,"9. Highly stigmatised disease(s) expl. HIV",null,null,"9. Not referred"]
[{"$nulls":9},"10 ICRC protection",null,"10. Kidnapping/hostage (without sexual violence)",{"$nulls":5},"10. Congenital (from birth) abnormality",null,null,"10. Other (please specify in the next cell)"]
[{"$nulls":9},"11 Other",null,"11. Killing of family member/loved one",{"$nulls":5},"11. Experience of discrimination/stigma/marginalization",null,null,"11. Shelter"]
[{"$nulls":11},"12. Disappearance of family member/loved one",{"$nulls":5},"12. Lack of social support/network"]
[{"$nulls":11},"13. Forced recruitment (by armed groups)",{"$nulls":5},"13. Detention / incarceration"]
[{"$nulls":11},"14. Victim of/experienced torture/ill-treatment",{"$nulls":5},"14. Solitary confinement (detention)"]
[{"$nulls":11},"15. Insults / received threats",{"$nulls":5},"15. Forced to flee (as IDP, refugee, migrant)"]
[{"$nulls":11},"16. Other (please specify in the next cell)",{"$nulls":5},"16. Deportation"]
[{"$nulls":17},"17. Accidents"]
[{"$nulls":17},"18. Other (please specify in the next cell)"]