Workbook

Sheet Corpus
A1: ID | B1: Category | C1: English colloquialism | D1: Meaning (English gloss) | E1: Arabic rendering (MSA) | F1: Country of origin | G1: Translation procedure | H1: Source table in article | I1: No. within table
A2: 1 | B2: Air Force | C2: Fly-boy | D2: Pilot | E2: طيار | F2: US | G2: Functional Equivalence | H2: 1 | I2: 1
A3: 2 | B3: Air Force | C3: Jet jockey | D3: Fighter pilot | E3: طيار مقاتلة | F3: US, Aus., NZ | G3: Paraphrase | H3: 1 | I3: 2
A4: 3 | B4: Air Force | C4: Fighter jock | D4: Fighter pilot | E4: طيار مقاتلة حربية | F4: US | G4: Paraphrase | H4: 1 | I4: 3
A5: 4 | B5: Air Force | C5: Throttle-jockey | D5: Jet pilot | E5: طيار مقاتلة نفاثة | F5: US | G5: Paraphrase | H5: 1 | I5: 4
A6: 5 | B6: Air Force | C6: Space cadet | D6: Young show-off pilot | E6: طيار شاب متهور | F6: US | G6: Paraphrase | H6: 1 | I6: 5
A7: 6 | B7: Air Force | C7: Sprog | D7: Student pilot | E7: طالب طيران | F7: US | G7: Functional Equivalence | H7: 1 | I7: 6
A8: 7 | B8: Air Force | C8: Grease monkey | D8: Aircraft mechanic | E8: ميكانيكي طائرات | F8: US | G8: Functional Equivalence | H8: 1 | I8: 7
A9: 8 | B9: Air Force | C9: Pigeon | D9: Air Force member | E9: فرد من سلاح الجو | F9: US | G9: Paraphrase | H9: 1 | I9: 8
A10: 9 | B10: Air Force | C10: Zoomie | D10: Air Force personnel | E10: فرد من سلاح الجو | F10: US | G10: Paraphrase | H10: 1 | I10: 9
A11: 10 | B11: Air Force | C11: Wing wiper | D11: Aviation crew member | E11: فرد طاقم طيران | F11: US | G11: Functional Equivalence | H11: 1 | I11: 10
A12: 11 | B12: Air Force | C12: Gunnie/Gunny | D12: Weapons operator / aviator | E12: مشغل أسلحة / طيار | F12: US | G12: Paraphrase | H12: 1 | I12: 11
A13: 12 | B13: Air Force | C13: Chair Force | D13: Desk-bound Air Force personnel (mocking) | E13: فرد إداري في القوات الجوية(سخرية او استهزاء) | F13: US | G13: Paraphrase | H13: 1 | I13: 12
... A78: 77 | B78: British | C78: Rock ape | D78: RAF Regiment member | E78: فرد من سلاح الجو الملكي للحماية الأرضية | F78: UK | G78: Paraphrase | H78: 5 | I78: 17

Sheet Procedure frequency
A1: Frequency of translation procedures across the full corpus (n = 77)
A3: Procedure | B3: Air Force | C3: Navy and Marine Corps | D3: Officers and NCOs | E3: Recruits and Young Soldiers | F3: British | G3: Total | H3: Overall %
A4: Compensation | B4: =COUNTIFS(Corpus!$B$2:$B$78,"Air Force",Corpus!$G$2:$G$78,$A4) -> 0 | C4: =COUNTIFS(Corpus!$B$2:$B$78,"Navy and Marine Corps",Corpus!$G$2:$G$78,$A4) -> 1 | D4: =COUNTIFS(Corpus!$B$2:$B$78,"Officers and NCOs",Corpus!$G$2:$G$78,$A4) -> 0 | E4: =COUNTIFS(Corpus!$B$2:$B$78,"Recruits and Young Soldiers",Corpus!$G$2:$G$78,$A4) -> 1 | F4: =COUNTIFS(Corpus!$B$2:$B$78,"British",Corpus!$G$2:$G$78,$A4) -> 0 | G4: =SUM(B4:F4) -> 2 | H4: =G4/G$8 -> 0.025974026
A5: Cultural Equivalence | B5: =COUNTIFS(Corpus!$B$2:$B$78,"Air Force",Corpus!$G$2:$G$78,$A5) -> 0 | C5: =COUNTIFS(Corpus!$B$2:$B$78,"Navy and Marine Corps",Corpus!$G$2:$G$78,$A5) -> 1 | D5: =COUNTIFS(Corpus!$B$2:$B$78,"Officers and NCOs",Corpus!$G$2:$G$78,$A5) -> 3 | E5: =COUNTIFS(Corpus!$B$2:$B$78,"Recruits and Young Soldiers",Corpus!$G$2:$G$78,$A5) -> 0 | F5: =COUNTIFS(Corpus!$B$2:$B$78,"British",Corpus!$G$2:$G$78,$A5) -> 4 | G5: =SUM(B5:F5) -> 8 | H5: =G5/G$8 -> 0.1038961
A6: Functional Equivalence | B6: =COUNTIFS(Corpus!$B$2:$B$78,"Air Force",Corpus!$G$2:$G$78,$A6) -> 6 | C6: =COUNTIFS(Corpus!$B$2:$B$78,"Navy and Marine Corps",Corpus!$G$2:$G$78,$A6) -> 10 | D6: =COUNTIFS(Corpus!$B$2:$B$78,"Officers and NCOs",Corpus!$G$2:$G$78,$A6) -> 9 | E6: =COUNTIFS(Corpus!$B$2:$B$78,"Recruits and Young Soldiers",Corpus!$G$2:$G$78,$A6) -> 8 | F6: =COUNTIFS(Corpus!$B$2:$B$78,"British",Corpus!$G$2:$G$78,$A6) -> 8 | G6: =SUM(B6:F6) -> 41 | H6: =G6/G$8 -> 0.53246753
A7: Paraphrase | B7: =COUNTIFS(Corpus!$B$2:$B$78,"Air Force",Corpus!$G$2:$G$78,$A7) -> 10 | C7: =COUNTIFS(Corpus!$B$2:$B$78,"Navy and Marine Corps",Corpus!$G$2:$G$78,$A7) -> 1 | D7: =COUNTIFS(Corpus!$B$2:$B$78,"Officers and NCOs",Corpus!$G$2:$G$78,$A7) -> 4 | E7: =COUNTIFS(Corpus!$B$2:$B$78,"Recruits and Young Soldiers",Corpus!$G$2:$G$78,$A7) -> 6 | F7: =COUNTIFS(Corpus!$B$2:$B$78,"British",Corpus!$G$2:$G$78,$A7) -> 5 | G7: =SUM(B7:F7) -> 26 | H7: =G7/G$8 -> 0.33766234
A8: Total | B8: =SUM(B4:B7) -> 16 | C8: =SUM(C4:C7) -> 13 | D8: =SUM(D4:D7) -> 16 | E8: =SUM(E4:E7) -> 15 | F8: =SUM(F4:F7) -> 17 | G8: =SUM(G4:G7) -> 77 | H8: =SUM(H4:H7) -> 1
A10: Counts are computed from the Corpus sheet with COUNTIFS; percentages are of the full corpus.

Sheet README
A1: Supplementary Data 1
A3: Article | B3: Register asymmetry in military translation: a corpus-based analysis of English colloquialisms rendered into Modern Standard Arabic
A4: Journal | B4: Humanities and Social Sciences Communications
A5: Contents | B5: Full corpus of 77 English military colloquialisms with English glosses, Modern Standard Arabic renderings, country of origin, and the Newmark (1988) translation procedure assigned to each pair.
A7: Sheet | B7: Description
A8: Corpus | B8: One row per colloquialism pair (n = 77). Corresponds to Tables 1-5 of the article.
A9: Procedure frequency | B9: Cross-tabulation of procedure by category. Corresponds to Table 6 of the article.
A11: Column | B11: Definition
A12: ID | B12: Sequential identifier across the whole corpus (1-77).
A13: Category | B13: Subcorpus: Air Force; Navy and Marine Corps; Officers and NCOs; Recruits and Young Soldiers; British.
A14: English colloquialism | B14: Source-language informal military expression.
A15: Meaning (English gloss) | B15: Denotational meaning of the source expression.
A16: Arabic rendering (MSA) | B16: Modern Standard Arabic rendering produced and validated by the author team.
... A22: Encoding note | B22: Arabic text is stored as UTF-8. Open the accompanying .csv with UTF-8 encoding to display Arabic script correctly.
