{"text_format":"3","workbook":"xlsx","n_sheets":4,"sheets":["SD vs SY0.15","SD vs SY0.30","SD vs SY0.45","SS0.45 vs SY0.45"],"not_rendered":{"external_links":1},"read":"whole","date_system":"1900"}

{"sheet":"SD vs SY0.15","index":0,"n_rows":1858,"n_cols":8,"rows_kept":1858}
["gene_id","baseMean","log2FoldChange","lfcSE","stat","pvalue","padj","gene"]
["ENSGALG00000044547",2.69135594827177,4.52138733422198,1.26016019913739,3.58794646689918,0.000333292698004416,1.56282635927799E-3,{"$f":"VLOOKUP(A2,'[1]SD vs SY0.15'!$A$2:$E$20133,5,FALSE)","v":"NA"}]
["ENSGALG00000000302",1.79786411600778,4.50297958880533,1.50916529527263,2.98375506176204,0.00284734606921484,0.0101116842535618,{"$f":"VLOOKUP(A3,'[1]SD vs SY0.15'!$A$2:$E$20133,5,FALSE)","v":"TNNT2"}]
["ENSGALG00000049486",1.64050684476009,4.39505418155436,1.64052996016034,2.67904536234426,0.00738323907629976,0.0228014880674288,{"$f":"VLOOKUP(A4,'[1]SD vs SY0.15'!$A$2:$E$20133,5,FALSE)","v":"NA"}]
["ENSGALG00000036484",2.03724581294451,4.27762174419032,1.33229899519682,3.21070702568412,1.32408853667403E-3,0.00523463560417268,{"$f":"VLOOKUP(A5,'[1]SD vs SY0.15'!$A$2:$E$20133,5,FALSE)","v":"NCAN"}]
["ENSGALG00000052141",1.86290727417172,4.02225430273871,1.43083489231347,2.81112399784663,0.00493687557833658,0.0162110397885813,{"$f":"VLOOKUP(A6,'[1]SD vs SY0.15'!$A$2:$E$20133,5,FALSE)","v":"NA"}]
["ENSGALG00000030255",2.67296211417896,4.00899267161309,1.27970073355991,3.13275796948303,0.00173172175393096,0.0066145531932332,{"$f":"VLOOKUP(A7,'[1]SD vs SY0.15'!$A$2:$E$20133,5,FALSE)","v":"AMBP"}]
["ENSGALG00000013101",195.957935162709,3.89328553039692,0.583631654938293,6.67079226675695,{"v":2.54426143806288e-11,"d":"2.54E-11"},{"v":4.9985393924971e-10,"d":"5.00E-10"},{"$f":"VLOOKUP(A8,'[1]SD vs SY0.15'!$A$2:$E$20133,5,FALSE)","v":"NA"}]
["ENSGALG00000046931",6.97147211120454,3.77191485443603,1.41480619487245,2.66602936013867,0.00767529895666659,0.0235570031702669,{"$f":"VLOOKUP(A9,'[1]SD vs SY0.15'!$A$2:$E$20133,5,FALSE)","v":"ACOT4"}]
["ENSGALG00000023819",12.3648576447027,3.7497982905877,0.956644357836581,3.91974118685834,{"v":8.86441112958378e-05,"d":"8.86E-05"},0.000480590945775096,{"$f":"VLOOKUP(A10,'[1]SD vs SY0.15'!$A$2:$E$20133,5,FALSE)","v":"NA"}]
["ENSGALG00000045469",2.71288838634085,3.6888810531489,1.41991883837743,2.59795204729043,0.00937815894695362,0.0278161121819656,{"$f":"VLOOKUP(A11,'[1]SD vs SY0.15'!$A$2:$E$20133,5,FALSE)","v":"BCAN"}]
["ENSGALG00000010469",142.580905294268,3.62933459410322,1.24375979180739,2.91803499197316,0.003522448189536,0.0121662309637391,{"$f":"VLOOKUP(A12,'[1]SD vs SY0.15'!$A$2:$E$20133,5,FALSE)","v":"CYP4B7"}]
["ENSGALG00000046204",2.54896398209769,3.55554396464433,1.49370517109282,2.38035191512596,0.0172961113072513,0.0465090453602194,{"$f":"VLOOKUP(A13,'[1]SD vs SY0.15'!$A$2:$E$20133,5,FALSE)","v":"R3HDML"}]
["ENSGALG00000047299",2.60682863356709,3.52911997855038,1.2091928739752,2.91857490604329,0.00351635381067318,0.0121475946167643,{"$f":"VLOOKUP(A14,'[1]SD vs SY0.15'!$A$2:$E$20133,5,FALSE)","v":"NA"}]
["ENSGALG00000029747",626.107579939598,3.52489869357488,0.712349915125412,4.94826856679601,{"v":7.48765490665373e-07,"d":"7.49E-07"},{"v":6.42585665656409e-06,"d":"6.43E-06"},{"$f":"VLOOKUP(A15,'[1]SD vs SY0.15'!$A$2:$E$20133,5,FALSE)","v":"ST3GAL4"}]
["ENSGALG00000050749",665.500875975305,3.45060641906935,1.22666049782578,2.81300850984069,0.00490803522572587,0.0161285217292942,{"$f":"VLOOKUP(A16,'[1]SD vs SY0.15'!$A$2:$E$20133,5,FALSE)","v":"NA"}]
["ENSGALG00000015730",176.734321202014,3.41284944071512,1.13407175571628,3.00937698475663,0.00261784066897229,0.00940032955626213,{"$f":"VLOOKUP(A17,'[1]SD vs SY0.15'!$A$2:$E$20133,5,FALSE)","v":"TMPRSS15"}]
["ENSGALG00000051370",12.1384335673858,3.29874874285825,0.904661991828523,3.64638812358055,0.000265952187338828,0.00127879167070249,{"$f":"VLOOKUP(A18,'[1]SD vs SY0.15'!$A$2:$E$20133,5,FALSE)","v":"NA"}]
["ENSGALG00000010926",22.5429213228753,3.20316891772336,0.827005077961347,3.87321553770806,1.07408757264837E-4,0.000570931232822903,{"$f":"VLOOKUP(A19,'[1]SD vs SY0.15'!$A$2:$E$20133,5,FALSE)","v":"SPP1"}]
["ENSGALG00000001348",1.43490273141321,3.19170073178982,1.34617714223994,2.37093665583941,0.0177430716598954,0.0475198377927607,{"$f":"VLOOKUP(A20,'[1]SD vs SY0.15'!$A$2:$E$20133,5,FALSE)","v":"TEKT3"}]
["ENSGALG00000030907",1.66581764120594,3.18463993967352,1.34833641450098,2.36190308696229,0.0181813944387558,0.0485367580387912,{"$f":"VLOOKUP(A21,'[1]SD vs SY0.15'!$A$2:$E$20133,5,FALSE)","v":"CSF3"}]
["ENSGALG00000012869",11.7402924915782,3.11103942962059,1.06673570391184,2.91641070811829,0.00354084058312903,0.0122224727454565,{"$f":"VLOOKUP(A22,'[1]SD vs SY0.15'!$A$2:$E$20133,5,FALSE)","v":"OVA,OVA"}]
["ENSGALG00000043529",2.16342934426452,3.05657840195154,1.24617822326887,2.45276184808765,0.0141764159786998,0.0394742072264187,{"$f":"VLOOKUP(A23,'[1]SD vs SY0.15'!$A$2:$E$20133,5,FALSE)","v":"NA"}]
["ENSGALG00000039385",2.58971471391497,3.0417627898155,1.22703891843459,2.4789456504738,0.0131771383170945,0.0371631636527691,{"$f":"VLOOKUP(A24,'[1]SD vs SY0.15'!$A$2:$E$20133,5,FALSE)","v":"LOC107054425"}]
["ENSGALG00000050829",626.994120921212,3.0387868333588,0.867797978431993,3.50172149380841,0.000462262557491679,0.00207737376249879,{"$f":"VLOOKUP(A25,'[1]SD vs SY0.15'!$A$2:$E$20133,5,FALSE)","v":"NA"}]
["ENSGALG00000007109",1620.45026444652,2.87128259215001,1.15831642734513,2.47884129445614,0.0131809940477579,0.03716800900233,{"$f":"VLOOKUP(A26,'[1]SD vs SY0.15'!$A$2:$E$20133,5,FALSE)","v":"APOA4"}]
["ENSGALG00000041066",3.35287725285426,2.84274417934036,1.0175737950238,2.79364916160589,0.0052116987200781,0.0169628988479966,{"$f":"VLOOKUP(A27,'[1]SD vs SY0.15'!$A$2:$E$20133,5,FALSE)","v":"DNASE1"}]
["ENSGALG00000015134",17.1540275058738,2.82677596173971,0.864178133941144,3.27105703178118,0.0010714630005464,0.00435574636205288,{"$f":"VLOOKUP(A28,'[1]SD vs SY0.15'!$A$2:$E$20133,5,FALSE)","v":"APOV1"}]
["ENSGALG00000050477",4.0644792819057,2.78448588241434,1.14207514992803,2.43809339743521,0.0147649586408063,0.0407942691701413,{"$f":"VLOOKUP(A29,'[1]SD vs SY0.15'!$A$2:$E$20133,5,FALSE)","v":"NA"}]
["ENSGALG00000010866",83.3611199854089,2.61558373454748,0.940178996531614,2.78200613308375,0.00540240191599563,0.0174951689538864,{"$f":"VLOOKUP(A30,'[1]SD vs SY0.15'!$A$2:$E$20133,5,FALSE)","v":"AREG"}]
["ENSGALG00000028318",393.573495728832,2.60035465371837,0.675044137593994,3.85212537803321,1.17097037431295E-4,0.000615653519751413,{"$f":"VLOOKUP(A31,'[1]SD vs SY0.15'!$A$2:$E$20133,5,FALSE)","v":"CDKN1A"}]
["ENSGALG00000040185",175.987933268106,2.58637986539517,0.819784169235553,3.15495219651163,0.00160524404618568,0.00619404754350432,{"$f":"VLOOKUP(A32,'[1]SD vs SY0.15'!$A$2:$E$20133,5,FALSE)","v":"NA"}]
["ENSGALG00000054980",20.4315874960056,2.54881034137544,0.659673088837236,3.86374764183282,0.000111660580446409,0.000590822432203807,{"$f":"VLOOKUP(A33,'[1]SD vs SY0.15'!$A$2:$E$20133,5,FALSE)","v":"NA"}]
["ENSGALG00000019061",126.137771688944,2.54349392280444,0.824231332966627,3.0858981223751,0.00202938341893035,0.00757348991305903,{"$f":"VLOOKUP(A34,'[1]SD vs SY0.15'!$A$2:$E$20133,5,FALSE)","v":"MMP1"}]
["ENSGALG00000029197",81.1526361338733,2.5346511451017,0.514614425004067,4.92534025854729,{"v":8.42136835905803e-07,"d":"8.42E-07"},{"v":7.14255276385083e-06,"d":"7.14E-06"},{"$f":"VLOOKUP(A35,'[1]SD vs SY0.15'!$A$2:$E$20133,5,FALSE)","v":"KIRREL3"}]
["ENSGALG00000047182",453.562199938406,2.52701848361703,0.501053388583133,5.0434116227871,{"v":4.57304032046369e-07,"d":"4.57E-07"},{"v":4.0951251313652e-06,"d":"4.10E-06"},{"$f":"VLOOKUP(A36,'[1]SD vs SY0.15'!$A$2:$E$20133,5,FALSE)","v":"ACHE"}]
["ENSGALG00000055047",15.7304382176518,2.5176912797275,0.720709630210148,3.49335040658937,0.000477000151323363,0.0021336767767068,{"$f":"VLOOKUP(A37,'[1]SD vs SY0.15'!$A$2:$E$20133,5,FALSE)","v":"NA"}]
["ENSGALG00000032545",6.64098633957181,2.50673239312674,0.847141348211028,2.9590485677749,0.00308590462330258,0.0108458911836187,{"$f":"VLOOKUP(A38,'[1]SD vs SY0.15'!$A$2:$E$20133,5,FALSE)","v":"NKX6-1"}]
["ENSGALG00000054083",28.4944236857314,2.47995748327426,0.401245031930645,6.18065592324372,{"v":6.38358115068558e-10,"d":"6.38E-10"},{"v":9.95907430617296E-9,"d":"9.96E-09"},{"$f":"VLOOKUP(A39,'[1]SD vs SY0.15'!$A$2:$E$20133,5,FALSE)","v":"H2A-VIII"}]
["ENSGALG00000042656",50.5733596356552,2.45134065887258,0.786636879589645,3.11622900282954,0.00183179959514544,0.00694411163089914,{"$f":"VLOOKUP(A40,'[1]SD vs SY0.15'!$A$2:$E$20133,5,FALSE)","v":"NA"}]
["ENSGALG00000038218",5.52929510711513,2.44706582086322,0.859436327838827,2.84729158123524,0.00440929557889512,0.0147346573573418,{"$f":"VLOOKUP(A41,'[1]SD vs SY0.15'!$A$2:$E$20133,5,FALSE)","v":"NA"}]
["ENSGALG00000029140",16.8125903281021,2.43551105956438,0.874569882040458,2.78481012161326,0.00535590766764928,0.0173802102682751,{"$f":"VLOOKUP(A42,'[1]SD vs SY0.15'!$A$2:$E$20133,5,FALSE)","v":"CRABP2"}]
["ENSGALG00000031624",4.16988844938443,2.41841077418127,1.01284942517878,2.38772981853091,0.0169527996595538,0.0457884496744083,{"$f":"VLOOKUP(A43,'[1]SD vs SY0.15'!$A$2:$E$20133,5,FALSE)","v":"NA"}]
["ENSGALG00000052105",10.7214835956123,2.34775000327243,0.739262554736308,3.17579997557141,1.49423942884267E-3,0.00581215681192114,{"$f":"VLOOKUP(A44,'[1]SD vs SY0.15'!$A$2:$E$20133,5,FALSE)","v":"NA"}]
["ENSGALG00000036327",362.558050521767,2.3272024284465,0.789091863941913,2.94921609864401,0.00318581126994987,0.0111609309995201,{"$f":"VLOOKUP(A45,'[1]SD vs SY0.15'!$A$2:$E$20133,5,FALSE)","v":"NGEF"}]
["ENSGALG00000051119",14.3493229400755,2.32429217197273,0.471961330503865,4.92475129157578,{"v":8.44677172083763e-07,"d":"8.45E-07"},{"v":7.15711598002943e-06,"d":"7.16E-06"},{"$f":"VLOOKUP(A46,'[1]SD vs SY0.15'!$A$2:$E$20133,5,FALSE)","v":"PCP4L1"}]
["ENSGALG00000036831",127.973909259321,2.29831212361677,0.868716171820481,2.64564215352458,0.0081536020179254,0.024767064690019,{"$f":"VLOOKUP(A47,'[1]SD vs SY0.15'!$A$2:$E$20133,5,FALSE)","v":"LOC101749846"}]
["ENSGALG00000005572",304.614419870262,2.28380981294641,0.500518617368455,4.56288684116059,{"v":5.04550119276184e-06,"d":"5.05E-06"},{"v":3.62205323032825e-05,"d":"3.62E-05"},{"$f":"VLOOKUP(A48,'[1]SD vs SY0.15'!$A$2:$E$20133,5,FALSE)","v":"NOXO1"}]
["ENSGALG00000029130",6.2201024611975,2.21516966556487,0.770093823393078,2.8764932249485,0.0040212082774096,0.0136236843958146,{"$f":"VLOOKUP(A49,'[1]SD vs SY0.15'!$A$2:$E$20133,5,FALSE)","v":"NA"}]
["ENSGALG00000050872",7.31507714721407,2.19803763900717,0.889457839885039,2.47121059643621,0.0134656493468833,0.0378418046216681,{"$f":"VLOOKUP(A50,'[1]SD vs SY0.15'!$A$2:$E$20133,5,FALSE)","v":"NA"}]
["ENSGALG00000037731",5.35385114679965,2.12196319342139,0.68868762679231,3.08116932970732,0.00206189354635274,0.00766847980544065,{"$f":"VLOOKUP(A51,'[1]SD vs SY0.15'!$A$2:$E$20133,5,FALSE)","v":"NA"}]
["ENSGALG00000012984",25.1429513980765,2.06548763078823,0.833714388369837,2.47745230213296,0.0132324094149078,0.0372942769798758,{"$f":"VLOOKUP(A52,'[1]SD vs SY0.15'!$A$2:$E$20133,5,FALSE)","v":"MYO5B"}]
["ENSGALG00000047425",5.1716450882072,2.05612166763155,0.668877327982598,3.07398917800521,0.00211217094289964,0.00782700685937684,{"$f":"VLOOKUP(A53,'[1]SD vs SY0.15'!$A$2:$E$20133,5,FALSE)","v":"CSNK2B"}]
["ENSGALG00000031301",6.8038330732396,2.05286673638448,0.826822907890937,2.48283727602679,0.0130340613233352,0.0368026503079842,{"$f":"VLOOKUP(A54,'[1]SD vs SY0.15'!$A$2:$E$20133,5,FALSE)","v":"TULP1"}]
["ENSGALG00000031520",16.6140025026412,2.04903590623698,0.68799817406867,2.97825776792317,0.00289892071422035,0.0102759499404993,{"$f":"VLOOKUP(A55,'[1]SD vs SY0.15'!$A$2:$E$20133,5,FALSE)","v":"LOC769223"}]
["ENSGALG00000053882",5.49380137348651,2.03860169375763,0.707209945736097,2.88259760209644,0.00394410926797857,0.0133990284959639,{"$f":"VLOOKUP(A56,'[1]SD vs SY0.15'!$A$2:$E$20133,5,FALSE)","v":"NA"}]
["ENSGALG00000026945",300.872682629031,1.99893193509224,0.819607681050587,2.43888872848284,0.014732503855941,0.0407304888763311,{"$f":"VLOOKUP(A57,'[1]SD vs SY0.15'!$A$2:$E$20133,5,FALSE)","v":"CIDEC"}]
["ENSGALG00000049660",9.0679830348254,1.99765125321301,0.773826603299463,2.58152310181037,0.00983654076421081,0.0289289469329048,{"$f":"VLOOKUP(A58,'[1]SD vs SY0.15'!$A$2:$E$20133,5,FALSE)","v":"NA"}]
["ENSGALG00000039447",72.4104228644704,1.98955939394249,0.648036946858249,3.07013265769503,0.00213963711979013,0.00790688004288864,{"$f":"VLOOKUP(A59,'[1]SD vs SY0.15'!$A$2:$E$20133,5,FALSE)","v":"KRT23"}]
["ENSGALG00000028153",17.0653550089942,1.98590353655268,0.705055418399652,2.81666303772308,0.00485254069464256,0.0159884641003885,{"$f":"VLOOKUP(A60,'[1]SD vs SY0.15'!$A$2:$E$20133,5,FALSE)","v":"FOXE3"}]
["ENSGALG00000029618",16.5893189265941,1.95104870076275,0.540529757206185,3.60951210317645,0.000306773460923766,1.45416307663073E-3,{"$f":"VLOOKUP(A61,'[1]SD vs SY0.15'!$A$2:$E$20133,5,FALSE)","v":"NA"}]
["ENSGALG00000028638",10.4661085903715,1.92593370993812,0.814570240918724,2.36435559905298,0.0180614668933956,0.0482677985341414,{"$f":"VLOOKUP(A62,'[1]SD vs SY0.15'!$A$2:$E$20133,5,FALSE)","v":"CNP1"}]
["ENSGALG00000004860",292.817396069543,1.89057026718801,0.552940292959715,3.41912190386485,0.000628235743314598,0.00272652308053537,{"$f":"VLOOKUP(A63,'[1]SD vs SY0.15'!$A$2:$E$20133,5,FALSE)","v":"RASD1"}]
["ENSGALG00000035350",9.64609154149563,1.8847068623281,0.692270446793183,2.72250082472633,0.00647898717226127,0.0204781221530825,{"$f":"VLOOKUP(A64,'[1]SD vs SY0.15'!$A$2:$E$20133,5,FALSE)","v":"PMEL"}]
["ENSGALG00000051595",51.0825532277123,1.88429368170067,0.556848458993511,3.3838536342661,7.14760952695111E-4,0.0030609725823916,{"$f":"VLOOKUP(A65,'[1]SD vs SY0.15'!$A$2:$E$20133,5,FALSE)","v":"NA"}]
["ENSGALG00000007114",16863.4895809153,1.87896544174154,0.709617630546958,2.64785619868727,0.0081003973686423,0.0246398896166172,{"$f":"VLOOKUP(A66,'[1]SD vs SY0.15'!$A$2:$E$20133,5,FALSE)","v":"APOA1"}]
["ENSGALG00000031425",1915.81055138425,1.87726125400081,0.59219951697639,3.16998106243921,0.00152448873033374,0.00591130364725975,{"$f":"VLOOKUP(A67,'[1]SD vs SY0.15'!$A$2:$E$20133,5,FALSE)","v":"PMP22"}]
["ENSGALG00000050023",33.5149765633827,1.87616875367493,0.798617849190368,2.34926974844974,0.0188102739757845,0.0499319440636587,{"$f":"VLOOKUP(A68,'[1]SD vs SY0.15'!$A$2:$E$20133,5,FALSE)","v":"NA"}]
["ENSGALG00000000507",68.7511061636346,1.87400004098937,0.592436795208734,3.16320670178681,1.56041496411056E-3,0.0060398341453674,{"$f":"VLOOKUP(A69,'[1]SD vs SY0.15'!$A$2:$E$20133,5,FALSE)","v":"CPNE7"}]
["ENSGALG00000004936",11.7849848676872,1.83845585534188,0.53487783661111,3.43715093336079,0.000587867916647203,2.57089429589931E-3,{"$f":"VLOOKUP(A70,'[1]SD vs SY0.15'!$A$2:$E$20133,5,FALSE)","v":"GLRA4"}]
["ENSGALG00000053404",272.395392907077,1.82822155221761,0.24030044878026,7.60806549258426,{"v":2.78228853447689E-14,"d":"2.78E-14"},{"v":9.00850107056792e-13,"d":"9.01E-13"},{"$f":"VLOOKUP(A71,'[1]SD vs SY0.15'!$A$2:$E$20133,5,FALSE)","v":"NA"}]
["ENSGALG00000043885",68.216097075893,1.80634285235328,0.450754486035058,4.0073763175211,{"v":6.13969951783605e-05,"d":"6.14E-05"},0.000346144473140777,{"$f":"VLOOKUP(A72,'[1]SD vs SY0.15'!$A$2:$E$20133,5,FALSE)","v":"CFAP45"}]
["ENSGALG00000039864",145.098146157301,1.79688975355792,0.187497305163213,9.58354975818856,{"v":9.37656273991924e-22,"d":"9.38E-22"},{"v":7.27813823031142e-20,"d":"7.28E-20"},{"$f":"VLOOKUP(A73,'[1]SD vs SY0.15'!$A$2:$E$20133,5,FALSE)","v":"NA"}]
["ENSGALG00000004243",2316.78478464969,1.7826519015983,0.573005602252099,3.11105492615063,1.86420260733085E-3,0.0070493455271121,{"$f":"VLOOKUP(A74,'[1]SD vs SY0.15'!$A$2:$E$20133,5,FALSE)","v":"IFITM1"}]
["ENSGALG00000014179",21.991911011438,1.77579910616302,0.416495106616672,4.26367339724211,{"v":2.01093314486559e-05,"d":"2.01E-05"},0.000126133097365722,{"$f":"VLOOKUP(A75,'[1]SD vs SY0.15'!$A$2:$E$20133,5,FALSE)","v":"SBK1"}]
["ENSGALG00000053555",14.2944488148544,1.77211282020023,0.571881331040055,3.09874221104117,1.9434404044548E-3,0.00731239954820507,{"$f":"VLOOKUP(A76,'[1]SD vs SY0.15'!$A$2:$E$20133,5,FALSE)","v":"NA"}]
["ENSGALG00000006821",8.03548838982291,1.75230131293623,0.682609663261204,2.56706197882479,0.0102564278323308,0.0299711782723925,{"$f":"VLOOKUP(A77,'[1]SD vs SY0.15'!$A$2:$E$20133,5,FALSE)","v":"TNMD"}]
["ENSGALG00000000497",1005.76413208066,1.75094880234377,0.441746228868425,3.96369835873641,{"v":7.37974898463919e-05,"d":"7.38E-05"},0.000407468071120742,{"$f":"VLOOKUP(A78,'[1]SD vs SY0.15'!$A$2:$E$20133,5,FALSE)","v":"C26H6ORF222"}]
["ENSGALG00000006629",5.42812571280969,1.74052821108071,0.698250213513078,2.49269986230818,0.0126775959290133,0.0359584601007755,{"$f":"VLOOKUP(A79,'[1]SD vs SY0.15'!$A$2:$E$20133,5,FALSE)","v":"RBP4A"}]
["ENSGALG00000050467",36.1404200031996,1.73660937802652,0.490333614705004,3.54168942521166,0.000397573281627693,0.00181673960104487,{"$f":"VLOOKUP(A80,'[1]SD vs SY0.15'!$A$2:$E$20133,5,FALSE)","v":"NA"}]
["ENSGALG00000053846",304.607997853229,1.73585178873094,0.2378633441086,7.29768512771943,{"v":2.92760765741809e-13,"d":"2.93E-13"},{"v":8.06692778756392e-12,"d":"8.07E-12"},{"$f":"VLOOKUP(A81,'[1]SD vs SY0.15'!$A$2:$E$20133,5,FALSE)","v":"NA"}]
["ENSGALG00000013740",1444.52624233766,1.72643883311616,0.445525913631621,3.8750581734818,1.06599230341683E-4,0.000566974860186861,{"$f":"VLOOKUP(A82,'[1]SD vs SY0.15'!$A$2:$E$20133,5,FALSE)","v":"SLC20A1"}]
["ENSGALG00000051765",3094.4738274459,1.72117949824761,0.189314202081846,9.09165545595725,{"v":9.75423733563915e-20,"d":"9.75E-20"},{"v":6.28136757610215e-18,"d":"6.28E-18"},{"$f":"VLOOKUP(A83,'[1]SD vs SY0.15'!$A$2:$E$20133,5,FALSE)","v":"NA"}]
["ENSGALG00000048024",12.1131683038162,1.69827972051888,0.653982888851054,2.5968259253732,0.0094089593955687,0.0278931930112111,{"$f":"VLOOKUP(A84,'[1]SD vs SY0.15'!$A$2:$E$20133,5,FALSE)","v":"NA"}]
["ENSGALG00000015020",160.117936060773,1.68007979120706,0.418680482784367,4.01279701416688,{"v":6.00035082381462e-05,"d":"6.00E-05"},0.000338727596667743,{"$f":"VLOOKUP(A85,'[1]SD vs SY0.15'!$A$2:$E$20133,5,FALSE)","v":"TMEM171"}]
["ENSGALG00000024272",58.6871645536801,1.67199670069607,0.698859427339486,2.39246497262154,0.0167356254549184,0.0452961269901412,{"$f":"VLOOKUP(A86,'[1]SD vs SY0.15'!$A$2:$E$20133,5,FALSE)","v":"S100A12"}]
["ENSGALG00000047262",11.4270512470841,1.66200775245292,0.64423885068981,2.57980056724823,0.00988573879818229,0.0290490688666546,{"$f":"VLOOKUP(A87,'[1]SD vs SY0.15'!$A$2:$E$20133,5,FALSE)","v":"CHIR-IG1-5"}]
["ENSGALG00000048648",23.4882465737246,1.65761965112158,0.492051156778569,3.36879535447882,0.000754974608094788,3.20712033006208E-3,{"$f":"VLOOKUP(A88,'[1]SD vs SY0.15'!$A$2:$E$20133,5,FALSE)","v":"NA"}]
["ENSGALG00000027983",857.622782361098,1.64861794903726,0.339238385628452,4.85976239387868,{"v":1.17526719903365E-6,"d":"1.18E-06"},{"v":9.72602131822854e-06,"d":"9.73E-06"},{"$f":"VLOOKUP(A89,'[1]SD vs SY0.15'!$A$2:$E$20133,5,FALSE)","v":"TNK2"}]
["ENSGALG00000037050",708.346226590902,1.64387598862474,0.318105516908926,5.16770662954387,{"v":2.36983903985138e-07,"d":"2.37E-07"},{"v":2.2479209703162e-06,"d":"2.25E-06"},{"$f":"VLOOKUP(A90,'[1]SD vs SY0.15'!$A$2:$E$20133,5,FALSE)","v":"FABP3"}]
["ENSGALG00000030153",83.5758550611047,1.63460473182817,0.359408593137233,4.54804020560529,{"v":5.41477925924841e-06,"d":"5.41E-06"},{"v":3.85373585675612e-05,"d":"3.85E-05"},{"$f":"VLOOKUP(A91,'[1]SD vs SY0.15'!$A$2:$E$20133,5,FALSE)","v":"NUDT8"}]
["ENSGALG00000003644",61.1689392612822,1.63178733413861,0.405154024821783,4.02757280976386,{"v":5.63556183325225e-05,"d":"5.64E-05"},0.000320423523854666,{"$f":"VLOOKUP(A92,'[1]SD vs SY0.15'!$A$2:$E$20133,5,FALSE)","v":"C2CD4A"}]
["ENSGALG00000049511",219.69599141199,1.62572167150976,0.437205294015792,3.71844004123848,0.000200456858049811,0.000994959574910668,{"$f":"VLOOKUP(A93,'[1]SD vs SY0.15'!$A$2:$E$20133,5,FALSE)","v":"AMIGO3"}]
["ENSGALG00000055048",17.5511875081907,1.62366818670122,0.547115978168302,2.96768555752498,0.00300051111757744,0.0105842740517993,{"$f":"VLOOKUP(A94,'[1]SD vs SY0.15'!$A$2:$E$20133,5,FALSE)","v":"NA"}]
["ENSGALG00000009689",205.790739420992,1.622929182903,0.446260697800422,3.6367289140681,0.000276122258234671,1.32148023779968E-3,{"$f":"VLOOKUP(A95,'[1]SD vs SY0.15'!$A$2:$E$20133,5,FALSE)","v":"PON1"}]
["ENSGALG00000046487",40.339848785057,1.62060686717034,0.384851327584103,4.21099461276037,{"v":2.54248810212524e-05,"d":"2.54E-05"},0.000156040383450941,{"$f":"VLOOKUP(A96,'[1]SD vs SY0.15'!$A$2:$E$20133,5,FALSE)","v":"NA"}]
["ENSGALG00000029644",32.0716996387542,1.61317668178845,0.63763285130256,2.52994600026181,0.0114080082579603,0.032785295798538,{"$f":"VLOOKUP(A97,'[1]SD vs SY0.15'!$A$2:$E$20133,5,FALSE)","v":"NA"}]
["ENSGALG00000006992",253.145842289821,1.6065089292188,0.508637650440199,3.15845460482223,0.00158608009160239,0.00612689947849161,{"$f":"VLOOKUP(A98,'[1]SD vs SY0.15'!$A$2:$E$20133,5,FALSE)","v":"MMP9"}]
["ENSGALG00000031916",448.476014266921,1.60586768495915,0.641495990250284,2.50331679288067,0.0123035361262728,0.0350231798669786,{"$f":"VLOOKUP(A99,'[1]SD vs SY0.15'!$A$2:$E$20133,5,FALSE)","v":"ZP1"}]
["ENSGALG00000015822",304.836259454314,1.60456041923775,0.670193225942217,2.39417582441528,0.0166577613852815,0.0451205012004813,{"$f":"VLOOKUP(A100,'[1]SD vs SY0.15'!$A$2:$E$20133,5,FALSE)","v":"MAP3K7CL"}]
["ENSGALG00000026241",312.123946852042,1.59791138873338,0.643535249190694,2.48302076808209,0.0130273492240482,0.0368026503079842,{"$f":"VLOOKUP(A101,'[1]SD vs SY0.15'!$A$2:$E$20133,5,FALSE)","v":"GRIN3B"}]
["ENSGALG00000054776",62.4695785988084,1.59692131254722,0.278058009407328,5.74312286832164,{"v":9.29462328296058e-09,"d":"9.29E-09"},{"v":1.16767062876326E-7,"d":"1.17E-07"},{"$f":"VLOOKUP(A102,'[1]SD vs SY0.15'!$A$2:$E$20133,5,FALSE)","v":"NA"}]
["ENSGALG00000032994",14.9160739655921,1.59667800225725,0.53650556707097,2.97606977495919,0.0029196842446426,0.0103383836406898,{"$f":"VLOOKUP(A103,'[1]SD vs SY0.15'!$A$2:$E$20133,5,FALSE)","v":"SOX17"}]
["ENSGALG00000052838",20.9903248576331,1.59164204733343,0.389272992311811,4.08875539471926,{"v":4.33693876501656E-5,"d":"4.34E-05"},0.000253041457407191,{"$f":"VLOOKUP(A104,'[1]SD vs SY0.15'!$A$2:$E$20133,5,FALSE)","v":"NA"}]
["ENSGALG00000054106",984.517063293528,1.58763916932023,0.0943835866080165,16.8211362417688,{"v":1.70850305069318E-63,"d":"1.71E-63"},{"v":3.71321781780029e-60,"d":"3.71E-60"},{"$f":"VLOOKUP(A105,'[1]SD vs SY0.15'!$A$2:$E$20133,5,FALSE)","v":"CIC"}]
["ENSGALG00000038540",216.763181406049,1.57859038382058,0.325796869607967,4.84532090722697,{"v":1.26407193431662E-6,"d":"1.26E-06"},{"v":1.04113778881872E-5,"d":"1.04E-05"},{"$f":"VLOOKUP(A106,'[1]SD vs SY0.15'!$A$2:$E$20133,5,FALSE)","v":"ZBTB32"}]
["ENSGALG00000005957",258.053214319584,1.56071297810737,0.518425520967074,3.01048639580091,0.00260829632014641,0.00936799176169918,{"$f":"VLOOKUP(A107,'[1]SD vs SY0.15'!$A$2:$E$20133,5,FALSE)","v":"SLC6A14"}]
["ENSGALG00000026903",11.4076184864937,1.56010643483972,0.485468030422397,3.21361312604313,0.00131076152233644,0.00519139193368191,{"$f":"VLOOKUP(A108,'[1]SD vs SY0.15'!$A$2:$E$20133,5,FALSE)","v":"CALB2"}]
["ENSGALG00000047773",43.1219652486752,1.54107190644478,0.339775617075661,4.53555767099559,{"v":5.74514761726158e-06,"d":"5.75E-06"},{"v":4.06390893496042e-05,"d":"4.06E-05"},{"$f":"VLOOKUP(A109,'[1]SD vs SY0.15'!$A$2:$E$20133,5,FALSE)","v":"C4H2orf81"}]
["ENSGALG00000011376",192.240761521274,1.53394171999287,0.335666064133737,4.56984450886199,{"v":4.88086208947459e-06,"d":"4.88E-06"},{"v":3.51611864299664e-05,"d":"3.52E-05"},{"$f":"VLOOKUP(A110,'[1]SD vs SY0.15'!$A$2:$E$20133,5,FALSE)","v":"ANKRD9"}]
["ENSGALG00000040971",46.4672079192329,1.53346780663345,0.598524320887697,2.56208102681458,0.0104047041040555,0.0303534547411432,{"$f":"VLOOKUP(A111,'[1]SD vs SY0.15'!$A$2:$E$20133,5,FALSE)","v":"EGR2"}]
["ENSGALG00000049557",161.648208604324,1.53329348645592,0.225034166886825,6.81360305267358,{"v":9.51841168240174e-12,"d":"9.52E-12"},{"v":2.01579322681996e-10,"d":"2.02E-10"},{"$f":"VLOOKUP(A112,'[1]SD vs SY0.15'!$A$2:$E$20133,5,FALSE)","v":"TSFM"}]
["ENSGALG00000048440",8.3613059171268,1.52784562235939,0.562604608387891,2.71566496182343,0.00661428157893706,0.02082624299402,{"$f":"VLOOKUP(A113,'[1]SD vs SY0.15'!$A$2:$E$20133,5,FALSE)","v":"NA"}]
["ENSGALG00000049199",22553.2051264729,1.52769451090127,0.317291807901658,4.81479342629221,{"v":1.47352239524896e-06,"d":"1.47E-06"},{"v":1.19832244556565E-5,"d":"1.20E-05"},{"$f":"VLOOKUP(A114,'[1]SD vs SY0.15'!$A$2:$E$20133,5,FALSE)","v":"NA"}]
["ENSGALG00000047833",248.344255202971,1.52397180368743,0.158623871292739,9.60745561980991,{"v":7.43638259965911E-22,"d":"7.44E-22"},{"v":5.82416145316545e-20,"d":"5.82E-20"},{"$f":"VLOOKUP(A115,'[1]SD vs SY0.15'!$A$2:$E$20133,5,FALSE)","v":"MED11"}]
["ENSGALG00000022704",68.739939548555,1.52328765741047,0.38147134238987,3.99319028230867,{"v":6.51902123740082e-05,"d":"6.52E-05"},3.65510002332832E-4,{"$f":"VLOOKUP(A116,'[1]SD vs SY0.15'!$A$2:$E$20133,5,FALSE)","v":"NA"}]
["ENSGALG00000053980",14.6946804068086,1.51772062178663,0.49749898786263,3.05070092364833,0.00228307866244282,0.00836231066018396,{"$f":"VLOOKUP(A117,'[1]SD vs SY0.15'!$A$2:$E$20133,5,FALSE)","v":"S100A14"}]
["ENSGALG00000006175",14852.6417179584,1.51543175185374,0.41249048264522,3.6738587085345,0.000238914877764621,0.00116131198761349,{"$f":"VLOOKUP(A118,'[1]SD vs SY0.15'!$A$2:$E$20133,5,FALSE)","v":"DPEP1"}]
["ENSGALG00000049278",44.3107467154929,1.50449450979291,0.32990361401815,4.56040626978442,{"v":5.10547473862226e-06,"d":"5.11E-06"},{"v":3.66197107043743e-05,"d":"3.66E-05"},{"$f":"VLOOKUP(A119,'[1]SD vs SY0.15'!$A$2:$E$20133,5,FALSE)","v":"NA"}]
["ENSGALG00000011242",41.1366080708464,1.49668266071425,0.39164898077482,3.82148999278201,1.32647797619897E-4,0.000686004538137165,{"$f":"VLOOKUP(A120,'[1]SD vs SY0.15'!$A$2:$E$20133,5,FALSE)","v":"OBSL1"}]
["ENSGALG00000012173",9755.53707062632,1.49666717263384,0.596923650076858,2.50730084566282,0.012165711663819,0.0346819525658011,{"$f":"VLOOKUP(A121,'[1]SD vs SY0.15'!$A$2:$E$20133,5,FALSE)","v":"LGALS3"}]
["ENSGALG00000020943",7.96264437443235,1.49513284777307,0.585090515033849,2.55538725950218,0.0106069715711936,0.0308606784987188,{"$f":"VLOOKUP(A122,'[1]SD vs SY0.15'!$A$2:$E$20133,5,FALSE)","v":"AGXT"}]
["ENSGALG00000049461",160.297088978406,1.4770140728015,0.531819991424272,2.7772819687464,0.00548156027115598,0.017708637761908,{"$f":"VLOOKUP(A123,'[1]SD vs SY0.15'!$A$2:$E$20133,5,FALSE)","v":"BG8"}]
["ENSGALG00000031548",18.8716460349328,1.47412965376287,0.413589756408754,3.56423153842808,0.000364923728275175,1.69198103027213E-3,{"$f":"VLOOKUP(A124,'[1]SD vs SY0.15'!$A$2:$E$20133,5,FALSE)","v":"NA"}]
["ENSGALG00000048273",1784.43995917517,1.47276573395271,0.579835573819474,2.53997133058146,0.0110861556010031,0.0319978398795885,{"$f":"VLOOKUP(A125,'[1]SD vs SY0.15'!$A$2:$E$20133,5,FALSE)","v":"NA"}]
["ENSGALG00000051290",60.8372166145643,1.46836831546272,0.558220786287705,2.63044363723482,0.00852735082514404,0.0257003031369006,{"$f":"VLOOKUP(A126,'[1]SD vs SY0.15'!$A$2:$E$20133,5,FALSE)","v":"NA"}]
["ENSGALG00000041161",41.0046532632361,1.46517690453825,0.560698121739166,2.61312968196431,0.00897172524086509,0.0268395366075226,{"$f":"VLOOKUP(A127,'[1]SD vs SY0.15'!$A$2:$E$20133,5,FALSE)","v":"NT5DC4"}]
["ENSGALG00000054625",23.2368203102397,1.46489320990761,0.385730135382438,3.79771523024827,1.46035957739811E-4,0.000747461641808092,{"$f":"VLOOKUP(A128,'[1]SD vs SY0.15'!$A$2:$E$20133,5,FALSE)","v":"NA"}]
["ENSGALG00000001035",66.2426033247678,1.46386786499555,0.551827057864975,2.6527656520854,0.00798352779158243,0.0243226910307068,{"$f":"VLOOKUP(A129,'[1]SD vs SY0.15'!$A$2:$E$20133,5,FALSE)","v":"NR1D1"}]
["ENSGALG00000049326",8047.20547598425,1.45141949137444,0.233735235236577,6.20967347907718,{"v":5.30948069279158E-10,"d":"5.31E-10"},{"v":8.40764488210994e-09,"d":"8.41E-09"},{"$f":"VLOOKUP(A130,'[1]SD vs SY0.15'!$A$2:$E$20133,5,FALSE)","v":"CLDN7"}]
["ENSGALG00000050629",8.77329949252549,1.43976451434603,0.608234455110916,2.36712093872333,0.0179270736591492,0.0479240513086757,{"$f":"VLOOKUP(A131,'[1]SD vs SY0.15'!$A$2:$E$20133,5,FALSE)","v":"NA"}]
["ENSGALG00000033811",578.292894209351,1.4311844205036,0.214221759644168,6.68085456342464,{"v":2.37552891458855E-11,"d":"2.38E-11"},{"v":4.70961473636843E-10,"d":"4.71E-10"},{"$f":"VLOOKUP(A132,'[1]SD vs SY0.15'!$A$2:$E$20133,5,FALSE)","v":"PTPRN"}]
["ENSGALG00000051301",655.129482846886,1.4270795690428,0.495907188292183,2.87771502961555,0.0040056680916199,0.0135792466605857,{"$f":"VLOOKUP(A133,'[1]SD vs SY0.15'!$A$2:$E$20133,5,FALSE)","v":"KHK"}]
["ENSGALG00000013830",340.257622953962,1.42298083034401,0.460502471876967,3.09006122061423,0.00200115242554743,0.00748903082716168,{"$f":"VLOOKUP(A134,'[1]SD vs SY0.15'!$A$2:$E$20133,5,FALSE)","v":"PRELID3A"}]
["ENSGALG00000038075",13.0986939972641,1.42143570045645,0.451292494141196,3.14969940539656,1.63438529919872E-3,6.29113508903433E-3,{"$f":"VLOOKUP(A135,'[1]SD vs SY0.15'!$A$2:$E$20133,5,FALSE)","v":"NA"}]
["ENSGALG00000046843",1192.41341914283,1.41940300025206,0.228178419857812,6.22058387965239,{"v":4.95308184480345e-10,"d":"4.95E-10"},{"v":7.93725659314263e-09,"d":"7.94E-09"},{"$f":"VLOOKUP(A136,'[1]SD vs SY0.15'!$A$2:$E$20133,5,FALSE)","v":"NA"}]
["ENSGALG00000022557",4340.75077390632,1.40907809371251,0.24269720375699,5.80590988235451,{"v":6.40173893010596E-9,"d":"6.40E-09"},{"v":8.31269863911519e-08,"d":"8.31E-08"},{"$f":"VLOOKUP(A137,'[1]SD vs SY0.15'!$A$2:$E$20133,5,FALSE)","v":"CLDN3"}]
["ENSGALG00000005541",176.609992311364,1.40806664873407,0.486021687392738,2.89712719670522,3.76597032548932E-3,0.012854127610774,{"$f":"VLOOKUP(A138,'[1]SD vs SY0.15'!$A$2:$E$20133,5,FALSE)","v":"GJB1"}]
["ENSGALG00000033791",33.5235837570718,1.40653944718519,0.364577176005549,3.85800192594552,1.14317747454645E-4,0.000603229946887379,{"$f":"VLOOKUP(A139,'[1]SD vs SY0.15'!$A$2:$E$20133,5,FALSE)","v":"MAP3K12"}]
["ENSGALG00000016485",1776.26990459026,1.40437121461752,0.212923833854876,6.59565060985471,{"v":4.23394968049174e-11,"d":"4.23E-11"},{"v":8.11639284395919e-10,"d":"8.12E-10"},{"$f":"VLOOKUP(A140,'[1]SD vs SY0.15'!$A$2:$E$20133,5,FALSE)","v":"RHOB"}]
["ENSGALG00000038087",60.3991173341207,1.40032052991328,0.352981701112904,3.96711933082722,{"v":7.27465738083673e-05,"d":"7.27E-05"},0.000401920774962212,{"$f":"VLOOKUP(A141,'[1]SD vs SY0.15'!$A$2:$E$20133,5,FALSE)","v":"CACNG3"}]
["ENSGALG00000055104",31.5264793993713,1.39918600878349,0.451127866524362,3.10152866317765,0.00192524232618762,0.00725177390065515,{"$f":"VLOOKUP(A142,'[1]SD vs SY0.15'!$A$2:$E$20133,5,FALSE)","v":"NA"}]
["ENSGALG00000052286",1209.48406271598,1.39126622233675,0.165073488766736,8.42816270941442,{"v":3.51134601385762e-17,"d":"3.51E-17"},{"v":1.69588258730396E-15,"d":"1.70E-15"},{"$f":"VLOOKUP(A143,'[1]SD vs SY0.15'!$A$2:$E$20133,5,FALSE)","v":"MGAT1"}]
["ENSGALG00000010427",3187.60961392664,1.3904064873812,0.429968998001791,3.23373660390141,1.22182083083568E-3,0.00488199947725716,{"$f":"VLOOKUP(A144,'[1]SD vs SY0.15'!$A$2:$E$20133,5,FALSE)","v":"TM4SF4"}]
["ENSGALG00000047532",69.9047922067773,1.38661358225462,0.201106714808006,6.8949143919854,{"v":5.38972506060798e-12,"d":"5.39E-12"},{"v":1.1892277871674e-10,"d":"1.19E-10"},{"$f":"VLOOKUP(A145,'[1]SD vs SY0.15'!$A$2:$E$20133,5,FALSE)","v":"LOC112530289"}]
["ENSGALG00000046741",286.910324291914,1.38399245387921,0.20717088675137,6.68043891485663,{"v":2.38227666646181e-11,"d":"2.38E-11"},{"v":4.71761325737717e-10,"d":"4.72E-10"},{"$f":"VLOOKUP(A146,'[1]SD vs SY0.15'!$A$2:$E$20133,5,FALSE)","v":"NA"}]
["ENSGALG00000011803",955.383733170503,1.38019872327431,0.439800331118501,3.13823939096222,1.69966001271406E-3,6.50781515988977E-3,{"$f":"VLOOKUP(A147,'[1]SD vs SY0.15'!$A$2:$E$20133,5,FALSE)","v":"EMP1"}]
["ENSGALG00000045658",114.778797214952,1.37660467417172,0.291237504046994,4.72674245261212,{"v":2.28150338997031e-06,"d":"2.28E-06"},{"v":1.77487693250174e-05,"d":"1.77E-05"},{"$f":"VLOOKUP(A148,'[1]SD vs SY0.15'!$A$2:$E$20133,5,FALSE)","v":"ABHD14A"}]
["ENSGALG00000052976",224.631207882986,1.3750308979247,0.210452417622053,6.53369019686953,{"v":6.41686124204229e-11,"d":"6.42E-11"},{"v":1.20039863519626e-09,"d":"1.20E-09"},{"$f":"VLOOKUP(A149,'[1]SD vs SY0.15'!$A$2:$E$20133,5,FALSE)","v":"NAGK"}]
["ENSGALG00000046720",21.3480871205025,1.37048490953998,0.552643037117106,2.47987365712449,0.0131428943085689,0.03707259950407,{"$f":"VLOOKUP(A150,'[1]SD vs SY0.15'!$A$2:$E$20133,5,FALSE)","v":"NA"}]
["ENSGALG00000010473",4053.25046814313,1.36963509211159,0.345067664014042,3.96917832340226,{"v":7.21208956749431e-05,"d":"7.21E-05"},0.000399098030903958,{"$f":"VLOOKUP(A151,'[1]SD vs SY0.15'!$A$2:$E$20133,5,FALSE)","v":"PDZK1IP1"}]
["ENSGALG00000028037",2602.77546866036,1.3695089669573,0.442314688597242,3.09623216742036,0.00195996835417984,0.00736184268181569,{"$f":"VLOOKUP(A152,'[1]SD vs SY0.15'!$A$2:$E$20133,5,FALSE)","v":"FOS"}]
["ENSGALG00000008308",1915.58377510535,1.36826701235031,0.388410267824018,3.52273646115414,4.27115840154594E-4,1.93947848335542E-3,{"$f":"VLOOKUP(A153,'[1]SD vs SY0.15'!$A$2:$E$20133,5,FALSE)","v":"BHLHE40"}]
["ENSGALG00000042356",183.766668873214,1.36684498078362,0.191838282849656,7.12498548506516,{"v":1.04091656884315e-12,"d":"1.04E-12"},{"v":2.57079778160168e-11,"d":"2.57E-11"},{"$f":"VLOOKUP(A154,'[1]SD vs SY0.15'!$A$2:$E$20133,5,FALSE)","v":"FSTL3"}]
["ENSGALG00000000736",1075.15627180282,1.36629034037055,0.288155443064054,4.74150453603211,{"v":2.12136907243515e-06,"d":"2.12E-06"},{"v":1.66595501636992e-05,"d":"1.67E-05"},{"$f":"VLOOKUP(A155,'[1]SD vs SY0.15'!$A$2:$E$20133,5,FALSE)","v":"MATK"}]
["ENSGALG00000049290",117.957808363696,1.36621401958654,0.435439581789688,3.13755128546492,0.00170365466848434,0.00651881049035197,{"$f":"VLOOKUP(A156,'[1]SD vs SY0.15'!$A$2:$E$20133,5,FALSE)","v":"NA"}]
["ENSGALG00000029558",30.5766144243992,1.3654541240038,0.389144189033042,3.50886422689934,4.5002457553719E-4,0.00203077531660138,{"$f":"VLOOKUP(A157,'[1]SD vs SY0.15'!$A$2:$E$20133,5,FALSE)","v":"NA"}]
["ENSGALG00000054657",381.468817147212,1.36496410004957,0.202832262773672,6.72952163222994,{"v":1.70221779904387E-11,"d":"1.70E-11"},{"v":3.44947096409974e-10,"d":"3.45E-10"},{"$f":"VLOOKUP(A158,'[1]SD vs SY0.15'!$A$2:$E$20133,5,FALSE)","v":"NA"}]
["ENSGALG00000047017",13.4725614845246,1.36293537864396,0.488635792091542,2.78926636301057,5.28275971646874E-3,0.0171652669015589,{"$f":"VLOOKUP(A159,'[1]SD vs SY0.15'!$A$2:$E$20133,5,FALSE)","v":"PHYHIP"}]
["ENSGALG00000013090",75.5807881671486,1.36274067370022,0.472855092891708,2.88194141119742,3.95233215836026E-3,0.0134243405425688,{"$f":"VLOOKUP(A160,'[1]SD vs SY0.15'!$A$2:$E$20133,5,FALSE)","v":"LOXL4"}]
["ENSGALG00000006707",1357.31565955541,1.36187882344001,0.274177741653891,4.96713852563269,{"v":6.79480523893537e-07,"d":"6.79E-07"},{"v":5.88352981520764e-06,"d":"5.88E-06"},{"$f":"VLOOKUP(A161,'[1]SD vs SY0.15'!$A$2:$E$20133,5,FALSE)","v":"NOX1"}]
["ENSGALG00000039895",530.730187991958,1.35935388384832,0.378361049223302,3.59274266375674,0.000327215695551477,0.00153681774677297,{"$f":"VLOOKUP(A162,'[1]SD vs SY0.15'!$A$2:$E$20133,5,FALSE)","v":"EPHA2"}]
["ENSGALG00000033351",14.9395922069827,1.35776999375265,0.519958215976378,2.61130597042885,0.00901971547224895,0.0269645448617594,{"$f":"VLOOKUP(A163,'[1]SD vs SY0.15'!$A$2:$E$20133,5,FALSE)","v":"CTHRC1"}]
["ENSGALG00000003939",1965.88121948601,1.35453925597674,0.328333311677293,4.125500544118,{"v":3.6992930781143e-05,"d":"3.70E-05"},2.18923106702428E-4,{"$f":"VLOOKUP(A164,'[1]SD vs SY0.15'!$A$2:$E$20133,5,FALSE)","v":"KLF2"}]
["ENSGALG00000043641",2028.62579892156,1.35218085927142,0.234278612654781,5.77167861781692,{"v":7.84857021799605e-09,"d":"7.85E-09"},{"v":1.00266782057529e-07,"d":"1.00E-07"},{"$f":"VLOOKUP(A165,'[1]SD vs SY0.15'!$A$2:$E$20133,5,FALSE)","v":"JUND"}]
["ENSGALG00000008475",843.893589123977,1.35202686341925,0.272484227829128,4.96185366100197,{"v":6.98235948033856e-07,"d":"6.98E-07"},{"v":6.02492725978395e-06,"d":"6.02E-06"},{"$f":"VLOOKUP(A166,'[1]SD vs SY0.15'!$A$2:$E$20133,5,FALSE)","v":"ARRDC1"}]
["ENSGALG00000047276",227.326434931208,1.35112880054717,0.223850942540936,6.03584146312043,{"v":1.58136451174682E-9,"d":"1.58E-09"},{"v":2.3202687566027E-8,"d":"2.32E-08"},{"$f":"VLOOKUP(A167,'[1]SD vs SY0.15'!$A$2:$E$20133,5,FALSE)","v":"NA"}]
["ENSGALG00000043143",315.166126987089,1.35112800684353,0.349490340759768,3.86599527731229,1.10637078604068E-4,0.000586656567761184,{"$f":"VLOOKUP(A168,'[1]SD vs SY0.15'!$A$2:$E$20133,5,FALSE)","v":"NA"}]
["ENSGALG00000051055",63.3481366047164,1.34833086271647,0.385032550437838,3.5018620144796,0.000462018831211087,0.00207735231917951,{"$f":"VLOOKUP(A169,'[1]SD vs SY0.15'!$A$2:$E$20133,5,FALSE)","v":"MAPK8IP2"}]
["ENSGALG00000047468",152.018521723141,1.34502718869246,0.180241771725335,7.46235001918483,{"v":8.49927373799396E-14,"d":"8.50E-14"},{"v":2.58803629566552e-12,"d":"2.59E-12"},{"$f":"VLOOKUP(A170,'[1]SD vs SY0.15'!$A$2:$E$20133,5,FALSE)","v":"NA"}]
["ENSGALG00000024047",65.0981551705957,1.34194956404219,0.227359182792371,5.90233280908512,{"v":3.58397250010994e-09,"d":"3.58E-09"},{"v":4.89509268337875e-08,"d":"4.90E-08"},{"$f":"VLOOKUP(A171,'[1]SD vs SY0.15'!$A$2:$E$20133,5,FALSE)","v":"MYCL"}]
["ENSGALG00000047574",211.868829717942,1.34166665651749,0.233572007759387,5.74412434686782,{"v":9.23978726706375e-09,"d":"9.24E-09"},{"v":1.16162097767489E-7,"d":"1.16E-07"},{"$f":"VLOOKUP(A172,'[1]SD vs SY0.15'!$A$2:$E$20133,5,FALSE)","v":"NA"}]
["ENSGALG00000044985",2925.27888568236,1.34161260660577,0.354213220943273,3.78758478588981,0.000152118783178179,0.000775399965734094,{"$f":"VLOOKUP(A173,'[1]SD vs SY0.15'!$A$2:$E$20133,5,FALSE)","v":"MISP"}]
["ENSGALG00000034701",74.6360999509265,1.33233354406633,0.372112458686016,3.58045938255062,0.00034299065982849,1.60354358764129E-3,{"$f":"VLOOKUP(A174,'[1]SD vs SY0.15'!$A$2:$E$20133,5,FALSE)","v":"NA"}]
["ENSGALG00000046987",42.8780737375348,1.32907015981484,0.332600290324516,3.99599819506494,{"v":6.4422224480817e-05,"d":"6.44E-05"},3.61675562495307E-4,{"$f":"VLOOKUP(A175,'[1]SD vs SY0.15'!$A$2:$E$20133,5,FALSE)","v":"NA"}]
["ENSGALG00000055086",300.883411352452,1.32577727326447,0.217623000318545,6.09208250655429,{"v":1.11451213302135e-09,"d":"1.11E-09"},{"v":1.6619230237429e-08,"d":"1.66E-08"},{"$f":"VLOOKUP(A176,'[1]SD vs SY0.15'!$A$2:$E$20133,5,FALSE)","v":"NA"}]
["ENSGALG00000039837",15.1403074295778,1.32416478083472,0.493247380198271,2.68458553252212,7.2619799231733E-3,0.0224869180630835,{"$f":"VLOOKUP(A177,'[1]SD vs SY0.15'!$A$2:$E$20133,5,FALSE)","v":"CCKBR"}]
["ENSGALG00000048831",129.697259475429,1.3237253440111,0.289029366963952,4.57989912207157,{"v":4.65200250588641e-06,"d":"4.65E-06"},{"v":3.38004043334087e-05,"d":"3.38E-05"},{"$f":"VLOOKUP(A178,'[1]SD vs SY0.15'!$A$2:$E$20133,5,FALSE)","v":"NA"}]
["ENSGALG00000037642",1903.9479270416,1.31865815120612,0.304049395776275,4.33698658679926,{"v":1.44449435919299e-05,"d":"1.44E-05"},{"v":9.35049271157429e-05,"d":"9.35E-05"},{"$f":"VLOOKUP(A179,'[1]SD vs SY0.15'!$A$2:$E$20133,5,FALSE)","v":"SLC23A1"}]
["ENSGALG00000052348",975.575261164804,1.31374287601741,0.130826562499476,10.0418665056851,{"v":9.97681836238652e-24,"d":"9.98E-24"},{"v":9.74533375656261e-22,"d":"9.75E-22"},{"$f":"VLOOKUP(A180,'[1]SD vs SY0.15'!$A$2:$E$20133,5,FALSE)","v":"NA"}]
["ENSGALG00000026107",42.6276146434664,1.30757080420433,0.474356088498664,2.75651738410862,0.00584205071825994,0.0187201872168053,{"$f":"VLOOKUP(A181,'[1]SD vs SY0.15'!$A$2:$E$20133,5,FALSE)","v":"NA"}]
["ENSGALG00000049136",2149.24394113355,1.30405319476426,0.088298391223216,14.7687084294395,{"v":2.33137885498757e-49,"d":"2.33E-49"},{"v":1.76242105007256e-46,"d":"1.76E-46"},{"$f":"VLOOKUP(A182,'[1]SD vs SY0.15'!$A$2:$E$20133,5,FALSE)","v":"NA"}]
["ENSGALG00000053425",326.841267331024,1.30374337170062,0.149787945322481,8.70392720117612,{"v":3.20592733080315e-18,"d":"3.21E-18"},{"v":1.74192057814607E-16,"d":"1.74E-16"},{"$f":"VLOOKUP(A183,'[1]SD vs SY0.15'!$A$2:$E$20133,5,FALSE)","v":"LOC107050300"}]
["ENSGALG00000054163",34.9429189848008,1.30133230174229,0.414170663649928,3.14201950054634,1.6778686053746E-3,0.00643429674495989,{"$f":"VLOOKUP(A184,'[1]SD vs SY0.15'!$A$2:$E$20133,5,FALSE)","v":"NA"}]
["ENSGALG00000028308",1616.60742378904,1.29994677380122,0.32800901173625,3.96314347255341,{"v":7.39692973104453e-05,"d":"7.40E-05"},0.000408157465038627,{"$f":"VLOOKUP(A185,'[1]SD vs SY0.15'!$A$2:$E$20133,5,FALSE)","v":"TNS4"}]
["ENSGALG00000040180",978.496930687291,1.2984302085918,0.454307429422064,2.85804308823118,0.00426262504968262,0.0143132989066883,{"$f":"VLOOKUP(A186,'[1]SD vs SY0.15'!$A$2:$E$20133,5,FALSE)","v":"CEBPD"}]
["ENSGALG00000031411",25.9613649843771,1.29589503483173,0.508085141667648,2.55054700198143,0.0107554020441817,0.031208974523062,{"$f":"VLOOKUP(A187,'[1]SD vs SY0.15'!$A$2:$E$20133,5,FALSE)","v":"KCNN1"}]
["ENSGALG00000002517",294.974547886936,1.29448041150251,0.32485067780079,3.98484750059944,{"v":6.75234760656224E-5,"d":"6.75E-05"},0.000376895883901437,{"$f":"VLOOKUP(A188,'[1]SD vs SY0.15'!$A$2:$E$20133,5,FALSE)","v":"TMEM35B"}]
["ENSGALG00000034960",3412.89217367093,1.2922440664629,0.449242806239581,2.87649362107704,0.0040212032301764,0.0136236843958146,{"$f":"VLOOKUP(A189,'[1]SD vs SY0.15'!$A$2:$E$20133,5,FALSE)","v":"MLXIPL"}]
["ENSGALG00000007526",7153.43965837046,1.29070986471685,0.501049706848754,2.57601161536347,0.00999472887381846,0.0293346304741866,{"$f":"VLOOKUP(A190,'[1]SD vs SY0.15'!$A$2:$E$20133,5,FALSE)","v":"ES1ML2"}]
["ENSGALG00000052196",893.131781121829,1.29036706965671,0.308920833289344,4.17701537289366,{"v":2.95359071000668e-05,"d":"2.95E-05"},0.000178622892782213,{"$f":"VLOOKUP(A191,'[1]SD vs SY0.15'!$A$2:$E$20133,5,FALSE)","v":"LOC112530215"}]
["ENSGALG00000047801",10.7366298547258,1.28691446927,0.51337325296833,2.5067812976797,0.0121836070049972,0.0347158923297094,{"$f":"VLOOKUP(A192,'[1]SD vs SY0.15'!$A$2:$E$20133,5,FALSE)","v":"GIPC3"}]
["ENSGALG00000016102",56.161412424615,1.28669816577049,0.402892227311089,3.19365348484864,0.00140484635028411,5.50880998926248E-3,{"$f":"VLOOKUP(A193,'[1]SD vs SY0.15'!$A$2:$E$20133,5,FALSE)","v":"CYP26B1"}]
["ENSGALG00000052868",237.628165472306,1.28615764618137,0.195922510166765,6.56462417251914,{"v":5.21642596751966e-11,"d":"5.22E-11"},{"v":9.92319456206393e-10,"d":"9.92E-10"},{"$f":"VLOOKUP(A194,'[1]SD vs SY0.15'!$A$2:$E$20133,5,FALSE)","v":"PEAR1"}]
["ENSGALG00000008150",42.9155184060484,1.28468518785451,0.344179469555912,3.73260261430501,1.89511452691401E-4,0.0009454908545037,{"$f":"VLOOKUP(A195,'[1]SD vs SY0.15'!$A$2:$E$20133,5,FALSE)","v":"RASAL1"}]
["ENSGALG00000011347",1703.62883161447,1.28465876350954,0.382823989385482,3.35574258439682,0.000791522048174775,0.0033509115781872,{"$f":"VLOOKUP(A196,'[1]SD vs SY0.15'!$A$2:$E$20133,5,FALSE)","v":"IHH"}]
["ENSGALG00000038574",2597.46152359838,1.28453316908267,0.458864101938225,2.79937603237395,0.00512014726525592,0.0167087088027411,{"$f":"VLOOKUP(A197,'[1]SD vs SY0.15'!$A$2:$E$20133,5,FALSE)","v":"NA"}]
["ENSGALG00000011324",48.5213258175942,1.28444559325032,0.419373448366622,3.06277280608247,2.19296485118075E-3,8.0679390324756E-3,{"$f":"VLOOKUP(A198,'[1]SD vs SY0.15'!$A$2:$E$20133,5,FALSE)","v":"TUBA4B"}]
["ENSGALG00000053025",360.65205276344,1.28279372116606,0.27621392774521,4.64420361289442,{"v":3.41390751765391E-6,"d":"3.41E-06"},{"v":2.54972551586978E-5,"d":"2.55E-05"},{"$f":"VLOOKUP(A199,'[1]SD vs SY0.15'!$A$2:$E$20133,5,FALSE)","v":"MXD3"}]
["ENSGALG00000033143",796.089225295735,1.28267756512359,0.175618492790423,7.30377276756551,{"v":2.79808776332656e-13,"d":"2.80E-13"},{"v":7.75922678484192e-12,"d":"7.76E-12"},{"$f":"VLOOKUP(A200,'[1]SD vs SY0.15'!$A$2:$E$20133,5,FALSE)","v":"NA"}]
["ENSGALG00000051638",10.5353135506953,1.28248957904297,0.496870876453286,2.581132523197,0.00984767707831321,0.0289563737011682,{"$f":"VLOOKUP(A201,'[1]SD vs SY0.15'!$A$2:$E$20133,5,FALSE)","v":"NA"}]
["ENSGALG00000008297",1426.06237267459,1.28071097119596,0.318875044775709,4.01634117243885,{"v":5.91086679033321e-05,"d":"5.91E-05"},0.000334329666970979,{"$f":"VLOOKUP(A202,'[1]SD vs SY0.15'!$A$2:$E$20133,5,FALSE)","v":"SEMA4B"}]
["ENSGALG00000040716",100.173092610086,1.27786224846166,0.363522637320109,3.51522055925339,0.000439388903273853,0.00198845779834005,{"$f":"VLOOKUP(A203,'[1]SD vs SY0.15'!$A$2:$E$20133,5,FALSE)","v":"PRLH"}]
["ENSGALG00000011166",10.7541155531062,1.27781097370292,0.488000959259915,2.61845996294926,0.00883276560235729,0.0264556925974481,{"$f":"VLOOKUP(A204,'[1]SD vs SY0.15'!$A$2:$E$20133,5,FALSE)","v":"PKDCCB"}]
["ENSGALG00000054038",24.492534737817,1.27580088343316,0.542287052378734,2.35263017591308,0.0186411636391922,0.049520842199333,{"$f":"VLOOKUP(A205,'[1]SD vs SY0.15'!$A$2:$E$20133,5,FALSE)","v":"NA"}]
["ENSGALG00000000059",335.691913765608,1.27576550755871,0.199332109384772,6.4002007077349,{"v":1.55172836937157e-10,"d":"1.55E-10"},{"v":2.72249254876523E-9,"d":"2.72E-09"},{"$f":"VLOOKUP(A206,'[1]SD vs SY0.15'!$A$2:$E$20133,5,FALSE)","v":"TUBB3"}]
["ENSGALG00000019802",17.6096115931874,1.27403060535725,0.38825579997662,3.28142066502025,1.03285575897291E-3,0.00421654451309276,{"$f":"VLOOKUP(A207,'[1]SD vs SY0.15'!$A$2:$E$20133,5,FALSE)","v":"PHLDA3"}]
["ENSGALG00000037082",245.512401947223,1.27297381175974,0.312520970213587,4.07324286395804,{"v":4.63630337271263e-05,"d":"4.64E-05"},2.68704689137848E-4,{"$f":"VLOOKUP(A208,'[1]SD vs SY0.15'!$A$2:$E$20133,5,FALSE)","v":"ASCL1"}]
["ENSGALG00000054572",97.8083457718596,1.26944985108943,0.306360133744662,4.14365222907059,{"v":3.41817986047414e-05,"d":"3.42E-05"},2.03464201417542E-4,{"$f":"VLOOKUP(A209,'[1]SD vs SY0.15'!$A$2:$E$20133,5,FALSE)","v":"NA"}]
["ENSGALG00000034284",3533.97972701188,1.26925337736105,0.211305055259747,6.00673455635415,{"v":1.8929704952511e-09,"d":"1.89E-09"},{"v":2.72874747792427E-8,"d":"2.73E-08"},{"$f":"VLOOKUP(A210,'[1]SD vs SY0.15'!$A$2:$E$20133,5,FALSE)","v":"SLC4A2"}]
["ENSGALG00000050232",17.2840632261882,1.26871354923587,0.354993500491339,3.57390641653966,0.000351694671727273,1.63938746845097E-3,{"$f":"VLOOKUP(A211,'[1]SD vs SY0.15'!$A$2:$E$20133,5,FALSE)","v":"NA"}]
["ENSGALG00000048409",11987.7951242715,1.26737598343296,0.178407545266168,7.1038250178385,{"v":1.21350484901932E-12,"d":"1.21E-12"},{"v":2.95507126189061E-11,"d":"2.96E-11"},{"$f":"VLOOKUP(A212,'[1]SD vs SY0.15'!$A$2:$E$20133,5,FALSE)","v":"TXNIP"}]
["ENSGALG00000051812",35.8270254682581,1.26715651463359,0.328540256828638,3.85692921429268,1.14820395018455E-4,0.000605331172888382,{"$f":"VLOOKUP(A213,'[1]SD vs SY0.15'!$A$2:$E$20133,5,FALSE)","v":"NA"}]
["ENSGALG00000050752",145.288807303424,1.2637381997054,0.452652529431416,2.79185052007288,5.24075604738042E-3,0.0170478999805058,{"$f":"VLOOKUP(A214,'[1]SD vs SY0.15'!$A$2:$E$20133,5,FALSE)","v":"NA"}]
["ENSGALG00000033932",27322.4383199038,1.26241903719281,0.289280476969217,4.36399666655399,{"v":1.27707523588674e-05,"d":"1.28E-05"},{"v":8.37589857652313e-05,"d":"8.38E-05"},{"$f":"VLOOKUP(A215,'[1]SD vs SY0.15'!$A$2:$E$20133,5,FALSE)","v":"BF1"}]
["ENSGALG00000028145",825.334679954066,1.26159946297931,0.354139195251334,3.56243951501598,3.67424578672018E-4,0.00170130789597081,{"$f":"VLOOKUP(A216,'[1]SD vs SY0.15'!$A$2:$E$20133,5,FALSE)","v":"BORCS6"}]
["ENSGALG00000037733",1097.92410478969,1.26080492471158,0.121025357902925,10.417692180864,{"v":2.05888435031757e-25,"d":"2.06E-25"},{"v":2.40253840261555e-23,"d":"2.40E-23"},{"$f":"VLOOKUP(A217,'[1]SD vs SY0.15'!$A$2:$E$20133,5,FALSE)","v":"DAPK3"}]
["ENSGALG00000037316",3401.79529273602,1.26055747718999,0.31708921939803,3.97540313601032,{"v":7.02601369795183e-05,"d":"7.03E-05"},0.000390291693822008,{"$f":"VLOOKUP(A218,'[1]SD vs SY0.15'!$A$2:$E$20133,5,FALSE)","v":"OCLN"}]
["ENSGALG00000052649",13.9372634769625,1.25880661910089,0.493343064027402,2.55158471029193,0.0107234252516448,0.0311333074565017,{"$f":"VLOOKUP(A219,'[1]SD vs SY0.15'!$A$2:$E$20133,5,FALSE)","v":"HIST1H2B5"}]
["ENSGALG00000040869",48.1506814887659,1.25748446871307,0.282547652784005,4.45052173084006,{"v":8.56619246451463e-06,"d":"8.57E-06"},{"v":5.82708874728153e-05,"d":"5.83E-05"},{"$f":"VLOOKUP(A220,'[1]SD vs SY0.15'!$A$2:$E$20133,5,FALSE)","v":"LOC100858984"}]
["ENSGALG00000054294",2115.94274670824,1.25683762552849,0.122860828179504,10.2297668357909,{"v":1.45870156635448E-24,"d":"1.46E-24"},{"v":1.51870922959314E-22,"d":"1.52E-22"},{"$f":"VLOOKUP(A221,'[1]SD vs SY0.15'!$A$2:$E$20133,5,FALSE)","v":"NA"}]
["ENSGALG00000007374",43.6723709663429,1.25588820296616,0.447107693288298,2.80891655817774,4.97085284481981E-3,0.0163063765118355,{"$f":"VLOOKUP(A222,'[1]SD vs SY0.15'!$A$2:$E$20133,5,FALSE)","v":"YPEL4"}]
["ENSGALG00000055106",365.66298436962,1.25545973763563,0.164909570359955,7.6130192741106,{"v":2.67765839036448E-14,"d":"2.68E-14"},{"v":8.71843566166052e-13,"d":"8.72E-13"},{"$f":"VLOOKUP(A223,'[1]SD vs SY0.15'!$A$2:$E$20133,5,FALSE)","v":"NA"}]
["ENSGALG00000052504",15.2105866984546,1.25509947199165,0.527801427762566,2.37797665177264,0.0174079281270716,0.0467663236009569,{"$f":"VLOOKUP(A224,'[1]SD vs SY0.15'!$A$2:$E$20133,5,FALSE)","v":"NA"}]
["ENSGALG00000055092",176.48109286727,1.25428863709948,0.209014957167617,6.00095157828164,{"v":1.96164488307166E-9,"d":"1.96E-09"},{"v":2.8187702133857e-08,"d":"2.82E-08"},{"$f":"VLOOKUP(A225,'[1]SD vs SY0.15'!$A$2:$E$20133,5,FALSE)","v":"DCAF11"}]
["ENSGALG00000037257",450.995722246351,1.25406718494209,0.335136382677987,3.74196073527191,0.000182590048942176,0.000914106876175529,{"$f":"VLOOKUP(A226,'[1]SD vs SY0.15'!$A$2:$E$20133,5,FALSE)","v":"HLX"}]
["ENSGALG00000033203",242.451884432264,1.25381535726879,0.267820303805195,4.68155453285119,{"v":2.84707635872031e-06,"d":"2.85E-06"},{"v":2.16260885317038e-05,"d":"2.16E-05"},{"$f":"VLOOKUP(A227,'[1]SD vs SY0.15'!$A$2:$E$20133,5,FALSE)","v":"TRIM54"}]
["ENSGALG00000047453",30.4651963769181,1.25371463187679,0.339145121684264,3.69669074303822,2.18428158205182E-4,1.07464923223359E-3,{"$f":"VLOOKUP(A228,'[1]SD vs SY0.15'!$A$2:$E$20133,5,FALSE)","v":"NA"}]
["ENSGALG00000047567",67.6704875475156,1.25177828336292,0.287350485253107,4.35627690783371,{"v":1.32293396399298e-05,"d":"1.32E-05"},{"v":8.64406344680418e-05,"d":"8.64E-05"},{"$f":"VLOOKUP(A229,'[1]SD vs SY0.15'!$A$2:$E$20133,5,FALSE)","v":"NA"}]
["ENSGALG00000051271",623.472199731534,1.25164815020419,0.35165610953336,3.55929590378821,0.00037185038076206,0.00171951132189094,{"$f":"VLOOKUP(A230,'[1]SD vs SY0.15'!$A$2:$E$20133,5,FALSE)","v":"NA"}]
["ENSGALG00000010343",11661.3240473943,1.25115472476028,0.30193528568755,4.14378439376908,{"v":3.41620947935878e-05,"d":"3.42E-05"},2.03464201417542E-4,{"$f":"VLOOKUP(A231,'[1]SD vs SY0.15'!$A$2:$E$20133,5,FALSE)","v":"TSPAN1"}]
["ENSGALG00000032644",1429.27606235267,1.24878352161999,0.106826058758,11.6898773214964,{"v":1.43593878387009e-31,"d":"1.44E-31"},{"v":2.90310088780804E-29,"d":"2.90E-29"},{"$f":"VLOOKUP(A232,'[1]SD vs SY0.15'!$A$2:$E$20133,5,FALSE)","v":"NA"}]
["ENSGALG00000029788",1048.57569824695,1.24545710617074,0.36576822161579,3.40504459536944,0.000661532497552866,2.85198748697042E-3,{"$f":"VLOOKUP(A233,'[1]SD vs SY0.15'!$A$2:$E$20133,5,FALSE)","v":"CCK"}]
["ENSGALG00000044392",31.0990560713322,1.24058573233432,0.422918156383767,2.93339435445892,0.00335277735688112,0.0116682826069039,{"$f":"VLOOKUP(A234,'[1]SD vs SY0.15'!$A$2:$E$20133,5,FALSE)","v":"NA"}]
["ENSGALG00000039409",427.359145441988,1.24046850197546,0.134838605778031,9.19965387373922,{"v":3.59104607641621e-20,"d":"3.59E-20"},{"v":2.38311137903239e-18,"d":"2.38E-18"},{"$f":"VLOOKUP(A235,'[1]SD vs SY0.15'!$A$2:$E$20133,5,FALSE)","v":"RELA"}]
["ENSGALG00000002553",1032.5967152775,1.23818009252451,0.218060966851866,5.67813722189739,{"v":1.36169461306317e-08,"d":"1.36E-08"},{"v":1.66262529756527E-7,"d":"1.66E-07"},{"$f":"VLOOKUP(A236,'[1]SD vs SY0.15'!$A$2:$E$20133,5,FALSE)","v":"PCDH1"}]
["ENSGALG00000037020",419.657056655962,1.23798081767963,0.478275293765746,2.58842727988784,0.0096415302278021,0.0284661718578358,{"$f":"VLOOKUP(A237,'[1]SD vs SY0.15'!$A$2:$E$20133,5,FALSE)","v":"SCT"}]
["ENSGALG00000016674",44.9456462294984,1.23735263264797,0.333389995412139,3.71142700643534,2.0609410122521E-4,1.02031837642447E-3,{"$f":"VLOOKUP(A238,'[1]SD vs SY0.15'!$A$2:$E$20133,5,FALSE)","v":"EFHC1"}]
["ENSGALG00000042474",258.547186108071,1.23652306874009,0.507278370471209,2.43756316200017,0.0147866307570713,0.0408346805865945,{"$f":"VLOOKUP(A239,'[1]SD vs SY0.15'!$A$2:$E$20133,5,FALSE)","v":"FOXD2"}]
["ENSGALG00000002121",261.348013283629,1.23587617139023,0.396131579210987,3.11986278360298,1.8093530374436E-3,0.00686882560306374,{"$f":"VLOOKUP(A240,'[1]SD vs SY0.15'!$A$2:$E$20133,5,FALSE)","v":"PLEKHN1"}]
["ENSGALG00000050015",129.165784867386,1.23046274518357,0.182309363623163,6.7493118330826,{"v":1.48548020238757e-11,"d":"1.49E-11"},{"v":3.04757560689482E-10,"d":"3.05E-10"},{"$f":"VLOOKUP(A241,'[1]SD vs SY0.15'!$A$2:$E$20133,5,FALSE)","v":"NA"}]
["ENSGALG00000051049",864.253337041309,1.22991444890669,0.153737353858478,8.00010158909646,{"v":1.24316602056366E-15,"d":"1.24E-15"},{"v":4.8463963227669e-14,"d":"4.85E-14"},{"$f":"VLOOKUP(A242,'[1]SD vs SY0.15'!$A$2:$E$20133,5,FALSE)","v":"LOC107050371"}]
["ENSGALG00000049949",801.530200387049,1.22981850849674,0.178612304288716,6.88540755013615,{"v":5.76223264614174e-12,"d":"5.76E-12"},{"v":1.26340402293148e-10,"d":"1.26E-10"},{"$f":"VLOOKUP(A243,'[1]SD vs SY0.15'!$A$2:$E$20133,5,FALSE)","v":"LOC101749299"}]
["ENSGALG00000015004",1627.99365675286,1.22966980972385,0.415504074003891,2.95946510914916,0.00308173596605878,0.0108334296890142,{"$f":"VLOOKUP(A244,'[1]SD vs SY0.15'!$A$2:$E$20133,5,FALSE)","v":"RIOK3"}]
["ENSGALG00000042297",1548.74912061116,1.22958452167108,0.164046410753807,7.49534546974262,{"v":6.61239671128296E-14,"d":"6.61E-14"},{"v":2.03847059608292E-12,"d":"2.04E-12"},{"$f":"VLOOKUP(A245,'[1]SD vs SY0.15'!$A$2:$E$20133,5,FALSE)","v":"ANKRD13D,ANKRD13D"}]
["ENSGALG00000054542",16.9320074335354,1.22476492821413,0.368293763744729,3.32551090673107,0.000882566471377341,0.00368891204130281,{"$f":"VLOOKUP(A246,'[1]SD vs SY0.15'!$A$2:$E$20133,5,FALSE)","v":"NA"}]
["ENSGALG00000054914",102.838336190435,1.2232569278824,0.449767869411038,2.71975170099241,0.00653309528282532,0.0206079331789702,{"$f":"VLOOKUP(A247,'[1]SD vs SY0.15'!$A$2:$E$20133,5,FALSE)","v":"NA"}]
["ENSGALG00000035579",22.6431935256835,1.2223498840739,0.485586429122443,2.51726533272964,0.0118269725553792,0.0338606243735186,{"$f":"VLOOKUP(A248,'[1]SD vs SY0.15'!$A$2:$E$20133,5,FALSE)","v":"NA"}]
["ENSGALG00000028347",2047.70214077103,1.2216784737651,0.37399757259544,3.26654118444403,0.00108869970675789,0.00441754143936576,{"$f":"VLOOKUP(A249,'[1]SD vs SY0.15'!$A$2:$E$20133,5,FALSE)","v":"SDCBP2"}]
["ENSGALG00000052016",113.005324112954,1.22159691612378,0.273416126868513,4.46790366799121,{"v":7.89898599475436e-06,"d":"7.90E-06"},{"v":5.41987645977877e-05,"d":"5.42E-05"},{"$f":"VLOOKUP(A250,'[1]SD vs SY0.15'!$A$2:$E$20133,5,FALSE)","v":"ADRA2B"}]
["ENSGALG00000000645",763.978533449601,1.22069390552198,0.219463348625171,5.56217661476971,{"v":2.66430443836784E-8,"d":"2.66E-08"},{"v":3.08828408466011e-07,"d":"3.09E-07"},{"$f":"VLOOKUP(A251,'[1]SD vs SY0.15'!$A$2:$E$20133,5,FALSE)","v":"NA"}]
["ENSGALG00000054310",107.934173863511,1.22052598599382,0.2472842595326,4.93572048742922,{"v":7.985540652942e-07,"d":"7.99E-07"},{"v":6.81278681711003e-06,"d":"6.81E-06"},{"$f":"VLOOKUP(A252,'[1]SD vs SY0.15'!$A$2:$E$20133,5,FALSE)","v":"NA"}]
["ENSGALG00000052151",31.9957339789948,1.21993420964341,0.361416567810258,3.37542414570179,0.000737020062859419,3.14173094404818E-3,{"$f":"VLOOKUP(A253,'[1]SD vs SY0.15'!$A$2:$E$20133,5,FALSE)","v":"GDF15"}]
["ENSGALG00000035075",3029.82959043675,1.21848939874378,0.281305927863455,4.33154540324949,{"v":1.48066406081404e-05,"d":"1.48E-05"},{"v":9.54316488291773e-05,"d":"9.54E-05"},{"$f":"VLOOKUP(A254,'[1]SD vs SY0.15'!$A$2:$E$20133,5,FALSE)","v":"TAP1"}]
["ENSGALG00000037665",86.2775522087092,1.21843087628881,0.4849468656057,2.51250386940224,0.0119877790460213,0.0342589602684372,{"$f":"VLOOKUP(A255,'[1]SD vs SY0.15'!$A$2:$E$20133,5,FALSE)","v":"LMBR1L"}]
["ENSGALG00000003589",252.476407048031,1.21767026456137,0.3436027692552,3.54383134688005,0.000394357424387143,0.00180486773830462,{"$f":"VLOOKUP(A256,'[1]SD vs SY0.15'!$A$2:$E$20133,5,FALSE)","v":"VTN"}]
["ENSGALG00000054634",954.812222648424,1.21753723314926,0.117768632647458,10.3383830293247,{"v":4.72441588268139E-25,"d":"4.72E-25"},{"v":5.29957541626976e-23,"d":"5.30E-23"},{"$f":"VLOOKUP(A257,'[1]SD vs SY0.15'!$A$2:$E$20133,5,FALSE)","v":"NA"}]
["ENSGALG00000052087",1828.28437151191,1.21536099264616,0.328972509765206,3.6944150546609,0.000220393553972767,1.08217529594027E-3,{"$f":"VLOOKUP(A258,'[1]SD vs SY0.15'!$A$2:$E$20133,5,FALSE)","v":"NA"}]
["ENSGALG00000054249",10.3287913399166,1.21360887040286,0.50550452169627,2.40078736848975,0.0163598396571859,0.0444381396843449,{"$f":"VLOOKUP(A259,'[1]SD vs SY0.15'!$A$2:$E$20133,5,FALSE)","v":"NA"}]
["ENSGALG00000036106",2397.48462571383,1.21287727288626,0.153369019563338,7.90822863926161,{"v":2.61076994586584E-15,"d":"2.61E-15"},{"v":9.91123516348675E-14,"d":"9.91E-14"},{"$f":"VLOOKUP(A260,'[1]SD vs SY0.15'!$A$2:$E$20133,5,FALSE)","v":"SMPD1"}]
["ENSGALG00000013722",1217.78298279192,1.2128754020568,0.231934374910759,5.22939043651237,{"v":1.70069854887362E-7,"d":"1.70E-07"},{"v":1.66779727407025E-6,"d":"1.67E-06"},{"$f":"VLOOKUP(A261,'[1]SD vs SY0.15'!$A$2:$E$20133,5,FALSE)","v":"SEMA3B"}]
["ENSGALG00000050734",708.336701713036,1.21243769034191,0.266797295490941,4.54441522021755,{"v":5.50879733157233e-06,"d":"5.51E-06"},{"v":3.91424026171018E-5,"d":"3.91E-05"},{"$f":"VLOOKUP(A262,'[1]SD vs SY0.15'!$A$2:$E$20133,5,FALSE)","v":"METTL27"}]
["ENSGALG00000044612",693.269399447249,1.21211954402618,0.295874340198718,4.09673763264528,{"v":4.19013339023836e-05,"d":"4.19E-05"},0.000245381775870914,{"$f":"VLOOKUP(A263,'[1]SD vs SY0.15'!$A$2:$E$20133,5,FALSE)","v":"INAVA"}]
["ENSGALG00000034067",135.782007956312,1.21165760619584,0.260435162116546,4.65243478011475,{"v":3.2803850806528e-06,"d":"3.28E-06"},{"v":2.46269669245726E-5,"d":"2.46E-05"},{"$f":"VLOOKUP(A264,'[1]SD vs SY0.15'!$A$2:$E$20133,5,FALSE)","v":"FMOD"}]
["ENSGALG00000046210",95.2604624603489,1.21148906408587,0.278568174294035,4.34898590679322,{"v":1.36768500152636e-05,"d":"1.37E-05"},{"v":8.90300977968506e-05,"d":"8.90E-05"},{"$f":"VLOOKUP(A265,'[1]SD vs SY0.15'!$A$2:$E$20133,5,FALSE)","v":"NA"}]
["ENSGALG00000054286",60.3692387525831,1.20909607430517,0.254335326615326,4.75394468552883,{"v":1.9948563702645e-06,"d":"1.99E-06"},{"v":1.5751393147043e-05,"d":"1.58E-05"},{"$f":"VLOOKUP(A266,'[1]SD vs SY0.15'!$A$2:$E$20133,5,FALSE)","v":"APLN"}]
["ENSGALG00000050515",15064.6083912951,1.20854464052952,0.431729006366114,2.79931304755708,0.00512114620323737,0.0167088326206958,{"$f":"VLOOKUP(A267,'[1]SD vs SY0.15'!$A$2:$E$20133,5,FALSE)","v":"LOC107051274"}]
["ENSGALG00000049976",196.325041132675,1.20656496591573,0.296728078784828,4.06623117993046,{"v":4.77795407478485e-05,"d":"4.78E-05"},2.76177817480998E-4,{"$f":"VLOOKUP(A268,'[1]SD vs SY0.15'!$A$2:$E$20133,5,FALSE)","v":"AMIGO1"}]
["ENSGALG00000053923",100.414069144289,1.20565653653157,0.174487286228673,6.90970994271472,{"v":4.85645656945711e-12,"d":"4.86E-12"},{"v":1.07840626274777E-10,"d":"1.08E-10"},{"$f":"VLOOKUP(A269,'[1]SD vs SY0.15'!$A$2:$E$20133,5,FALSE)","v":"NA"}]
["ENSGALG00000034137",724.875382051895,1.20517006283434,0.234903498149306,5.13049006221408,{"v":2.88988817423422e-07,"d":"2.89E-07"},{"v":2.70433184528581E-6,"d":"2.70E-06"},{"$f":"VLOOKUP(A270,'[1]SD vs SY0.15'!$A$2:$E$20133,5,FALSE)","v":"NA"}]
["ENSGALG00000037802",75.7657112008294,1.20501078372389,0.331214558694814,3.63815765971265,2.74595319320439E-4,1.31562105732281E-3,{"$f":"VLOOKUP(A271,'[1]SD vs SY0.15'!$A$2:$E$20133,5,FALSE)","v":"RAB2B"}]
["ENSGALG00000044940",1821.10294184508,1.20399242572605,0.344285854465901,3.4970720118427,4.70394835215212E-4,2.11010190915554E-3,{"$f":"VLOOKUP(A272,'[1]SD vs SY0.15'!$A$2:$E$20133,5,FALSE)","v":"GCNT3"}]
["ENSGALG00000029381",2837.05715308487,1.20260298493083,0.276666269028427,4.34676402423045,{"v":1.38160719577194E-5,"d":"1.38E-05"},{"v":8.98354686345804e-05,"d":"8.98E-05"},{"$f":"VLOOKUP(A273,'[1]SD vs SY0.15'!$A$2:$E$20133,5,FALSE)","v":"NA"}]
["ENSGALG00000004260",1005.40861565697,1.20163066276735,0.31881888044683,3.76900722153985,1.63898146271086E-4,0.000829270051360863,{"$f":"VLOOKUP(A274,'[1]SD vs SY0.15'!$A$2:$E$20133,5,FALSE)","v":"NA"}]
["ENSGALG00000038330",335.761030229501,1.20002057624274,0.324401196316019,3.69918665489053,0.000216291493551997,1.06504112103896E-3,{"$f":"VLOOKUP(A275,'[1]SD vs SY0.15'!$A$2:$E$20133,5,FALSE)","v":"ATG9B"}]
["ENSGALG00000041419",2897.3508999111,1.19973574109177,0.19879111343724,6.03515781137034,{"v":1.58807412029232e-09,"d":"1.59E-09"},{"v":2.32618742455962E-8,"d":"2.33E-08"},{"$f":"VLOOKUP(A276,'[1]SD vs SY0.15'!$A$2:$E$20133,5,FALSE)","v":"SLC6A8"}]
["ENSGALG00000031874",1795.78604248007,1.19888041163362,0.260780984055415,4.59726929851164,{"v":4.28064191717249e-06,"d":"4.28E-06"},{"v":3.13379035847907e-05,"d":"3.13E-05"},{"$f":"VLOOKUP(A277,'[1]SD vs SY0.15'!$A$2:$E$20133,5,FALSE)","v":"HIST1H101"}]
["ENSGALG00000044204",277.799013509668,1.19796929653496,0.183918942621933,6.51357211746007,{"v":7.33843474308554e-11,"d":"7.34E-11"},{"v":1.35305795204696E-9,"d":"1.35E-09"},{"$f":"VLOOKUP(A278,'[1]SD vs SY0.15'!$A$2:$E$20133,5,FALSE)","v":"ISG20"}]
["ENSGALG00000032687",658.384289041313,1.19712905435854,0.375790675853552,3.18562734862818,1.4444051750934E-3,0.00563723294710413,{"$f":"VLOOKUP(A279,'[1]SD vs SY0.15'!$A$2:$E$20133,5,FALSE)","v":"PHLDA2"}]
["ENSGALG00000051848",80.7959535965637,1.19706414280152,0.217096086706997,5.51398305220089,{"v":3.50802395255466e-08,"d":"3.51E-08"},{"v":3.94783252188142e-07,"d":"3.95E-07"},{"$f":"VLOOKUP(A280,'[1]SD vs SY0.15'!$A$2:$E$20133,5,FALSE)","v":"KIF5A"}]
["ENSGALG00000023950",2863.97109147542,1.19597260433066,0.388908432636413,3.07520357998707,0.00210358913365856,7.8035212858804E-3,{"$f":"VLOOKUP(A281,'[1]SD vs SY0.15'!$A$2:$E$20133,5,FALSE)","v":"CR1L"}]
["ENSGALG00000038589",2659.5295070041,1.19572604847365,0.303199801407086,3.94369007804274,{"v":8.023733959748e-05,"d":"8.02E-05"},0.000438982575072808,{"$f":"VLOOKUP(A282,'[1]SD vs SY0.15'!$A$2:$E$20133,5,FALSE)","v":"ABHD14B"}]
["ENSGALG00000042103",1743.01471677478,1.19563668271809,0.347782884157277,3.43788247548546,0.000586282094230831,0.00256638639788305,{"$f":"VLOOKUP(A283,'[1]SD vs SY0.15'!$A$2:$E$20133,5,FALSE)","v":"C5H11ORF96"}]
["ENSGALG00000002470",308.450427941416,1.1927214744071,0.254746449705911,4.68199449210783,{"v":2.84097116446391e-06,"d":"2.84E-06"},{"v":2.15891458201635E-5,"d":"2.16E-05"},{"$f":"VLOOKUP(A284,'[1]SD vs SY0.15'!$A$2:$E$20133,5,FALSE)","v":"NA"}]
["ENSGALG00000011806",8440.90036123251,1.19154449052373,0.335772715688393,3.5486638277945,0.00038719105476616,1.77956406799345E-3,{"$f":"VLOOKUP(A285,'[1]SD vs SY0.15'!$A$2:$E$20133,5,FALSE)","v":"MUC13"}]
["ENSGALG00000019114",3196.37537849675,1.19139875705955,0.344042083173771,3.46294484113385,0.000534297913757673,0.00236563224509923,{"$f":"VLOOKUP(A286,'[1]SD vs SY0.15'!$A$2:$E$20133,5,FALSE)","v":"CLDN10"}]
["ENSGALG00000047749",40.6632226615831,1.19071851921927,0.368693443280137,3.22956250218573,1.23979778372388E-3,0.00494072062012541,{"$f":"VLOOKUP(A287,'[1]SD vs SY0.15'!$A$2:$E$20133,5,FALSE)","v":"FGF11"}]
["ENSGALG00000016719",3187.41903383565,1.19062911359181,0.142123933364564,8.37740052224493,{"v":5.41094646677847e-17,"d":"5.41E-17"},{"v":2.52225539458116E-15,"d":"2.52E-15"},{"$f":"VLOOKUP(A288,'[1]SD vs SY0.15'!$A$2:$E$20133,5,FALSE)","v":"TNFRSF21"}]
["ENSGALG00000050819",435.408724083519,1.18897227156284,0.187519481830891,6.34052664797293,{"v":2.28981061365177e-10,"d":"2.29E-10"},{"v":3.87662484319019e-09,"d":"3.88E-09"},{"$f":"VLOOKUP(A289,'[1]SD vs SY0.15'!$A$2:$E$20133,5,FALSE)","v":"NA"}]
["ENSGALG00000054662",72.6504671588804,1.18793130855377,0.264116148249999,4.49776099047656,{"v":6.86728348138748e-06,"d":"6.87E-06"},{"v":4.77224052321679e-05,"d":"4.77E-05"},{"$f":"VLOOKUP(A290,'[1]SD vs SY0.15'!$A$2:$E$20133,5,FALSE)","v":"NA"}]
["ENSGALG00000034236",23.4333429919887,1.18666750837446,0.401362425442298,2.95659840869946,0.00311052954290043,0.0109169917566431,{"$f":"VLOOKUP(A291,'[1]SD vs SY0.15'!$A$2:$E$20133,5,FALSE)","v":"NA"}]
["ENSGALG00000029599",565.08106172677,1.18453582240301,0.208317568333772,5.68620223381791,{"v":1.29895563182457E-8,"d":"1.30E-08"},{"v":1.59723773483266E-7,"d":"1.60E-07"},{"$f":"VLOOKUP(A292,'[1]SD vs SY0.15'!$A$2:$E$20133,5,FALSE)","v":"ACVR1B"}]
["ENSGALG00000050981",25.5477635529509,1.18293616238149,0.476168867536983,2.48427867302689,0.0129814175982625,0.0366886554115221,{"$f":"VLOOKUP(A293,'[1]SD vs SY0.15'!$A$2:$E$20133,5,FALSE)","v":"NA"}]
["ENSGALG00000053543",1245.24944332584,1.18258409515036,0.357538043865001,3.30757555857994,0.000941073211348404,0.00389489167477141,{"$f":"VLOOKUP(A294,'[1]SD vs SY0.15'!$A$2:$E$20133,5,FALSE)","v":"NA"}]
["ENSGALG00000026392",1821.12983186267,1.18233269517982,0.390629022398205,3.02674053228578,0.00247206054452198,0.00893590783526063,{"$f":"VLOOKUP(A295,'[1]SD vs SY0.15'!$A$2:$E$20133,5,FALSE)","v":"PIPOX"}]
["ENSGALG00000027982",1702.05127553502,1.17920307502694,0.366868613619739,3.21423809846321,1.30791169787606E-3,0.00518246597332979,{"$f":"VLOOKUP(A296,'[1]SD vs SY0.15'!$A$2:$E$20133,5,FALSE)","v":"LOC100859837"}]
["ENSGALG00000040541",966.169715543366,1.17886903519737,0.282356573578138,4.17510745458574,{"v":2.97845431025788E-5,"d":"2.98E-05"},0.000179938794622841,{"$f":"VLOOKUP(A297,'[1]SD vs SY0.15'!$A$2:$E$20133,5,FALSE)","v":"SLC5A6"}]
["ENSGALG00000027874",657.858224607943,1.17804096161944,0.414683412012791,2.84082007500967,0.00449976920665357,0.0149937691061874,{"$f":"VLOOKUP(A298,'[1]SD vs SY0.15'!$A$2:$E$20133,5,FALSE)","v":"CHAC1"}]
["ENSGALG00000011468",362.052202551205,1.17680296086737,0.223001187752045,5.27711521508064,{"v":1.31233382004391E-7,"d":"1.31E-07"},{"v":1.31817146904122e-06,"d":"1.32E-06"},{"$f":"VLOOKUP(A299,'[1]SD vs SY0.15'!$A$2:$E$20133,5,FALSE)","v":"IGFBP5"}]
["ENSGALG00000010129",350.93318956731,1.17672852421789,0.35801698299193,3.28679526424705,0.00101334478351911,0.00414955858479668,{"$f":"VLOOKUP(A300,'[1]SD vs SY0.15'!$A$2:$E$20133,5,FALSE)","v":"PLK3"}]
["ENSGALG00000033150",939.691585732555,1.17657778031542,0.217140036169386,5.41852069784864,{"v":6.00941831515541e-08,"d":"6.01E-08"},{"v":6.47768570376367E-7,"d":"6.48E-07"},{"$f":"VLOOKUP(A301,'[1]SD vs SY0.15'!$A$2:$E$20133,5,FALSE)","v":"MIDN"}]
["ENSGALG00000039652",539.04060537571,1.1757196882011,0.457761155116328,2.56841297052024,0.0102165362475352,0.0298596261112615,{"$f":"VLOOKUP(A302,'[1]SD vs SY0.15'!$A$2:$E$20133,5,FALSE)","v":"ARHGEF37"}]
["ENSGALG00000008080",37.0863912998751,1.17362486372376,0.317630752719071,3.69493461724652,0.000219943377227465,1.08045015951443E-3,{"$f":"VLOOKUP(A303,'[1]SD vs SY0.15'!$A$2:$E$20133,5,FALSE)","v":"C1QTNF4"}]
["ENSGALG00000026638",14.2747543645504,1.17221302585959,0.402277893172164,2.91393846332468,3.5690025102742E-3,0.012307466609706,{"$f":"VLOOKUP(A304,'[1]SD vs SY0.15'!$A$2:$E$20133,5,FALSE)","v":"RELL2"}]
["ENSGALG00000026276",70.1703367317048,1.17096004239094,0.362737185983353,3.22812241931182,0.00124605636537338,0.00496224966210422,{"$f":"VLOOKUP(A305,'[1]SD vs SY0.15'!$A$2:$E$20133,5,FALSE)","v":"TCF15"}]
["ENSGALG00000027571",90.7480234444408,1.16613863814509,0.303103316380743,3.84733051445814,0.000119411829332193,0.00062581575550608,{"$f":"VLOOKUP(A306,'[1]SD vs SY0.15'!$A$2:$E$20133,5,FALSE)","v":"H2B-I"}]
["ENSGALG00000002138",392.394273683622,1.16570379713018,0.187424343617183,6.21959652963302,{"v":4.98434903647522E-10,"d":"4.98E-10"},{"v":7.97343625773073e-09,"d":"7.97E-09"},{"$f":"VLOOKUP(A307,'[1]SD vs SY0.15'!$A$2:$E$20133,5,FALSE)","v":"HYAL2"}]
["ENSGALG00000020320",556.45838252079,1.165126750231,0.167156070864592,6.97029275816635,{"v":3.16282118697776e-12,"d":"3.16E-12"},{"v":7.18849306901729e-11,"d":"7.19E-11"},{"$f":"VLOOKUP(A308,'[1]SD vs SY0.15'!$A$2:$E$20133,5,FALSE)","v":"NA"}]
["ENSGALG00000032854",733.135428843349,1.16453232885947,0.311240729963835,3.74158076609956,1.82866388378887E-4,0.000915226797565832,{"$f":"VLOOKUP(A309,'[1]SD vs SY0.15'!$A$2:$E$20133,5,FALSE)","v":"ACP5"}]
["ENSGALG00000034575",1264.56579474174,1.16232525191477,0.168767617674226,6.88713432074642,{"v":5.69274668062429e-12,"d":"5.69E-12"},{"v":1.24974477949513E-10,"d":"1.25E-10"},{"$f":"VLOOKUP(A310,'[1]SD vs SY0.15'!$A$2:$E$20133,5,FALSE)","v":"MRI1"}]
["ENSGALG00000031824",424.432283480832,1.16143308780814,0.213057428925967,5.4512677340705,{"v":5.00120098864501E-8,"d":"5.00E-08"},{"v":5.48963898924058e-07,"d":"5.49E-07"},{"$f":"VLOOKUP(A311,'[1]SD vs SY0.15'!$A$2:$E$20133,5,FALSE)","v":"HOOK2"}]
["ENSGALG00000027415",17.8073012909531,1.16051919044355,0.46985870378849,2.4699323032355,0.0135138623317628,0.0379519460905415,{"$f":"VLOOKUP(A312,'[1]SD vs SY0.15'!$A$2:$E$20133,5,FALSE)","v":"GRIN2C"}]
["ENSGALG00000028283",33.015829793108,1.16033246484446,0.293679961241638,3.95101000401504,{"v":7.78220709506578e-05,"d":"7.78E-05"},0.000427652448678599,{"$f":"VLOOKUP(A313,'[1]SD vs SY0.15'!$A$2:$E$20133,5,FALSE)","v":"CCDC92B"}]
["ENSGALG00000042148",1325.12837742834,1.15961326257199,0.275247795700073,4.21297928879903,{"v":2.52024180620604E-5,"d":"2.52E-05"},0.000154784331630182,{"$f":"VLOOKUP(A314,'[1]SD vs SY0.15'!$A$2:$E$20133,5,FALSE)","v":"FKBP5"}]
["ENSGALG00000028095",27.9503331560248,1.15881231465982,0.394066738009147,2.94064990238512,0.00327524482846786,0.0114327809340636,{"$f":"VLOOKUP(A315,'[1]SD vs SY0.15'!$A$2:$E$20133,5,FALSE)","v":"HOXA1"}]
["ENSGALG00000005083",93.7949907260687,1.15722570501546,0.325992321013025,3.54985571874628,0.00038544233628223,0.00177340193197648,{"$f":"VLOOKUP(A316,'[1]SD vs SY0.15'!$A$2:$E$20133,5,FALSE)","v":"SLC5A10"}]
["ENSGALG00000036089",396.205734813249,1.1565076381434,0.183910229354488,6.28843562537362,{"v":3.20680993191689E-10,"d":"3.21E-10"},{"v":5.35094091038761e-09,"d":"5.35E-09"},{"$f":"VLOOKUP(A317,'[1]SD vs SY0.15'!$A$2:$E$20133,5,FALSE)","v":"NICN1"}]
["ENSGALG00000037812",312.416632834333,1.15578533168865,0.23338897183127,4.95218485526487,{"v":7.33848418098072e-07,"d":"7.34E-07"},{"v":6.31967431672668E-6,"d":"6.32E-06"},{"$f":"VLOOKUP(A318,'[1]SD vs SY0.15'!$A$2:$E$20133,5,FALSE)","v":"USP43"}]
["ENSGALG00000038223",18.8220219371335,1.15431994678053,0.467233852420417,2.47054005355305,0.0134909210158559,0.0378944497096423,{"$f":"VLOOKUP(A319,'[1]SD vs SY0.15'!$A$2:$E$20133,5,FALSE)","v":"WHRN"}]
["ENSGALG00000036086",12552.4352120194,1.15385234824022,0.243237029836827,4.74373638345389,{"v":2.0981185189817e-06,"d":"2.10E-06"},{"v":1.64993155538376e-05,"d":"1.65E-05"},{"$f":"VLOOKUP(A320,'[1]SD vs SY0.15'!$A$2:$E$20133,5,FALSE)","v":"TAGLN2"}]
["ENSGALG00000002771",19162.2751929001,1.15293093117538,0.456281061481431,2.52679987951307,0.0115107071649749,0.0330367556086859,{"$f":"VLOOKUP(A321,'[1]SD vs SY0.15'!$A$2:$E$20133,5,FALSE)","v":"CRIP1"}]
["ENSGALG00000035115",47.7018119417453,1.15211517757386,0.341065295798259,3.37799005576733,0.000730177211056842,3.117777791907E-3,{"$f":"VLOOKUP(A322,'[1]SD vs SY0.15'!$A$2:$E$20133,5,FALSE)","v":"C16orf96"}]
["ENSGALG00000050667",21.5676350944715,1.15181598457925,0.467072270319716,2.46603375488513,0.0136618459086224,0.038305932975096,{"$f":"VLOOKUP(A323,'[1]SD vs SY0.15'!$A$2:$E$20133,5,FALSE)","v":"NA"}]
["ENSGALG00000054250",31.1320414674172,1.15004256954878,0.387553776845792,2.96743997415973,0.00300290910723891,0.0105905843098505,{"$f":"VLOOKUP(A324,'[1]SD vs SY0.15'!$A$2:$E$20133,5,FALSE)","v":"LOC107050975"}]
["ENSGALG00000031002",1195.76731524886,1.14997967790843,0.12974431628545,8.86343009722569,{"v":7.75895522032509e-19,"d":"7.76E-19"},{"v":4.46327382462615e-17,"d":"4.46E-17"},{"$f":"VLOOKUP(A325,'[1]SD vs SY0.15'!$A$2:$E$20133,5,FALSE)","v":"LOC107050229"}]
["ENSGALG00000002204",244.7974636233,1.14951384137763,0.183920164433568,6.25006966972798,{"v":4.10269632602145e-10,"d":"4.10E-10"},{"v":6.69170553663556e-09,"d":"6.69E-09"},{"$f":"VLOOKUP(A326,'[1]SD vs SY0.15'!$A$2:$E$20133,5,FALSE)","v":"SLC7A4"}]
["ENSGALG00000048751",366.482903915399,1.14948275425502,0.375062458467254,3.06477688796832,0.00217832432840248,0.00802766534504747,{"$f":"VLOOKUP(A327,'[1]SD vs SY0.15'!$A$2:$E$20133,5,FALSE)","v":"NA"}]
["ENSGALG00000000162",2407.62412395965,1.14908755877235,0.304089355453922,3.77878257874919,0.000157596947223843,0.000800898900002235,{"$f":"VLOOKUP(A328,'[1]SD vs SY0.15'!$A$2:$E$20133,5,FALSE)","v":"DMB1"}]
["ENSGALG00000037256",75.6063159355859,1.14885479174819,0.238189723262829,4.82327606754258,{"v":1.41219296954841E-6,"d":"1.41E-06"},{"v":1.15438642038262E-5,"d":"1.15E-05"},{"$f":"VLOOKUP(A329,'[1]SD vs SY0.15'!$A$2:$E$20133,5,FALSE)","v":"GTPBP3"}]
["ENSGALG00000034986",509.730156210668,1.14539513335175,0.24821173956204,4.6145888803356,{"v":3.93874194533956e-06,"d":"3.94E-06"},{"v":2.90596180856067e-05,"d":"2.91E-05"},{"$f":"VLOOKUP(A330,'[1]SD vs SY0.15'!$A$2:$E$20133,5,FALSE)","v":"HEYL"}]
["ENSGALG00000025438",51.1000847844365,1.14380994063833,0.290784292141404,3.93353414042776,{"v":8.3705943373288e-05,"d":"8.37E-05"},0.000456666218208772,{"$f":"VLOOKUP(A331,'[1]SD vs SY0.15'!$A$2:$E$20133,5,FALSE)","v":"gga-mir-1600"}]
["ENSGALG00000028978",93.8855822931693,1.14252094774847,0.264135998957829,4.32550259054571,{"v":1.52184480135476E-5,"d":"1.52E-05"},{"v":9.77477486559113e-05,"d":"9.77E-05"},{"$f":"VLOOKUP(A332,'[1]SD vs SY0.15'!$A$2:$E$20133,5,FALSE)","v":"BTBD19"}]
["ENSGALG00000052652",534.672370182846,1.13855698769563,0.148043110006935,7.69071243938532,{"v":1.46317959599282e-14,"d":"1.46E-14"},{"v":4.99809501680298e-13,"d":"5.00E-13"},{"$f":"VLOOKUP(A333,'[1]SD vs SY0.15'!$A$2:$E$20133,5,FALSE)","v":"INO80E"}]
["ENSGALG00000043015",31.3984049435529,1.13835024664797,0.456551287007741,2.49336773116722,0.0126537719683713,0.0359032359015675,{"$f":"VLOOKUP(A334,'[1]SD vs SY0.15'!$A$2:$E$20133,5,FALSE)","v":"FOXS1"}]
["ENSGALG00000054005",740.63141688316,1.13718799007499,0.112506185495212,10.1077819416728,{"v":5.10264067781911e-24,"d":"5.10E-24"},{"v":5.12830135637231E-22,"d":"5.13E-22"},{"$f":"VLOOKUP(A335,'[1]SD vs SY0.15'!$A$2:$E$20133,5,FALSE)","v":"PPP1R37"}]
["ENSGALG00000049677",141.313671631787,1.13639709115044,0.167023796004046,6.80380351984643,{"v":1.0189248383946e-11,"d":"1.02E-11"},{"v":2.14479977786524e-10,"d":"2.14E-10"},{"$f":"VLOOKUP(A336,'[1]SD vs SY0.15'!$A$2:$E$20133,5,FALSE)","v":"NA"}]
["ENSGALG00000032335",1472.64023319761,1.13629812093193,0.159015526555822,7.14583126279202,{"v":8.9452889273957E-13,"d":"8.95E-13"},{"v":2.26047192124898e-11,"d":"2.26E-11"},{"$f":"VLOOKUP(A337,'[1]SD vs SY0.15'!$A$2:$E$20133,5,FALSE)","v":"MARCKSL1"}]
["ENSGALG00000027899",223.808730713963,1.13221301315986,0.358383546562731,3.15922152124158,0.00158191200226752,0.00611351499965,{"$f":"VLOOKUP(A338,'[1]SD vs SY0.15'!$A$2:$E$20133,5,FALSE)","v":"NA"}]
["ENSGALG00000048315",83.3932467820006,1.13055360881475,0.269207600557481,4.19956051193793,{"v":2.67433554251433e-05,"d":"2.67E-05"},0.000163382544194296,{"$f":"VLOOKUP(A339,'[1]SD vs SY0.15'!$A$2:$E$20133,5,FALSE)","v":"NA"}]
["ENSGALG00000039474",435.059588521955,1.12963226630074,0.281841439180066,4.00804178969236,{"v":6.12242884238282e-05,"d":"6.12E-05"},0.000345282744996789,{"$f":"VLOOKUP(A340,'[1]SD vs SY0.15'!$A$2:$E$20133,5,FALSE)","v":"ID4"}]
["ENSGALG00000041909",623.844836871671,1.12957744590336,0.302171239297653,3.73820304185425,1.85340240640398E-4,0.000926008840234082,{"$f":"VLOOKUP(A341,'[1]SD vs SY0.15'!$A$2:$E$20133,5,FALSE)","v":"RDH16"}]
["ENSGALG00000047339",159.392682283865,1.12858928801862,0.292836958722441,3.85398514225222,1.16210650566242E-4,0.00061154799679033,{"$f":"VLOOKUP(A342,'[1]SD vs SY0.15'!$A$2:$E$20133,5,FALSE)","v":"NA"}]
["ENSGALG00000043831",112.176258301376,1.12829936162908,0.232289853450902,4.85729077214112,{"v":1.19002776538922E-6,"d":"1.19E-06"},{"v":9.83880777785182e-06,"d":"9.84E-06"},{"$f":"VLOOKUP(A343,'[1]SD vs SY0.15'!$A$2:$E$20133,5,FALSE)","v":"LRRC73"}]
["ENSGALG00000034458",22.9296555968972,1.1270552988543,0.428838815854307,2.62815598119084,0.00858491406713906,0.0258424343638066,{"$f":"VLOOKUP(A344,'[1]SD vs SY0.15'!$A$2:$E$20133,5,FALSE)","v":"S100A1"}]
["ENSGALG00000004627",729.055116307113,1.12439258282218,0.370248554108543,3.03685880834676,0.0023905740292472,0.00869740754269117,{"$f":"VLOOKUP(A345,'[1]SD vs SY0.15'!$A$2:$E$20133,5,FALSE)","v":"NA"}]
["ENSGALG00000052676",2605.54857036245,1.12436303953523,0.386743651328999,2.90725661732646,0.00364613951331665,0.0125139020367226,{"$f":"VLOOKUP(A346,'[1]SD vs SY0.15'!$A$2:$E$20133,5,FALSE)","v":"CYP2J22"}]
["ENSGALG00000053766",196.266425829611,1.12419797778818,0.291676719291093,3.85426022522637,1.16080081031816E-4,6.11045827702147E-4,{"$f":"VLOOKUP(A347,'[1]SD vs SY0.15'!$A$2:$E$20133,5,FALSE)","v":"BOLA3"}]
["ENSGALG00000047060",262.800140832747,1.12280783630434,0.153092848904077,7.33416253170557,{"v":2.23112201683191E-13,"d":"2.23E-13"},{"v":6.3077265864482e-12,"d":"6.31E-12"},{"$f":"VLOOKUP(A348,'[1]SD vs SY0.15'!$A$2:$E$20133,5,FALSE)","v":"SCN1B"}]
["ENSGALG00000003933",1149.81703535436,1.12261261898853,0.149506738416082,7.50877606509122,{"v":5.96827167983357E-14,"d":"5.97E-14"},{"v":1.84644732557413e-12,"d":"1.85E-12"},{"$f":"VLOOKUP(A349,'[1]SD vs SY0.15'!$A$2:$E$20133,5,FALSE)","v":"QSOX1"}]
["ENSGALG00000051749",86.2015222091449,1.12112011947527,0.246919290981589,4.54043147061711,{"v":5.61392239799835e-06,"d":"5.61E-06"},{"v":3.98405178506112E-5,"d":"3.98E-05"},{"$f":"VLOOKUP(A350,'[1]SD vs SY0.15'!$A$2:$E$20133,5,FALSE)","v":"NA"}]
["ENSGALG00000010870",3305.4065288958,1.12100944269589,0.217543722312934,5.15303053003448,{"v":2.5631021727877e-07,"d":"2.56E-07"},{"v":2.41804978178295e-06,"d":"2.42E-06"},{"$f":"VLOOKUP(A351,'[1]SD vs SY0.15'!$A$2:$E$20133,5,FALSE)","v":"JUN"}]
["ENSGALG00000002766",44.7419615192029,1.12015190970517,0.46201589607702,2.42448781355011,0.0153299978297011,0.0421278129073831,{"$f":"VLOOKUP(A352,'[1]SD vs SY0.15'!$A$2:$E$20133,5,FALSE)","v":"MLKL"}]
["ENSGALG00000006808",978.163899664873,1.11987246433345,0.203508499027286,5.5028289712033,{"v":3.73744949411552e-08,"d":"3.74E-08"},{"v":4.18975076429313e-07,"d":"4.19E-07"},{"$f":"VLOOKUP(A353,'[1]SD vs SY0.15'!$A$2:$E$20133,5,FALSE)","v":"TSPAN6"}]
["ENSGALG00000025935",8564.23153468391,1.1195210622877,0.459292387684663,2.43749100204188,0.0147895822904019,0.0408363454475492,{"$f":"VLOOKUP(A354,'[1]SD vs SY0.15'!$A$2:$E$20133,5,FALSE)","v":"XPNPEP2"}]
["ENSGALG00000054988",31.5603271942187,1.11937715107086,0.349696186860958,3.20099901894535,0.00136951998407406,0.0053932897512303,{"$f":"VLOOKUP(A355,'[1]SD vs SY0.15'!$A$2:$E$20133,5,FALSE)","v":"SLC22A31"}]
["ENSGALG00000029015",1349.19766137919,1.11817485358051,0.354382442163576,3.15527723877579,1.60345659718615E-3,0.00618852383024984,{"$f":"VLOOKUP(A356,'[1]SD vs SY0.15'!$A$2:$E$20133,5,FALSE)","v":"TM6SF2"}]
["ENSGALG00000054125",306.695072484787,1.11622576227234,0.147020739492668,7.59230137274614,{"v":3.14273014591761e-14,"d":"3.14E-14"},{"v":1.01190090827907e-12,"d":"1.01E-12"},{"$f":"VLOOKUP(A357,'[1]SD vs SY0.15'!$A$2:$E$20133,5,FALSE)","v":"PNKP"}]
["ENSGALG00000053925",489.435244092498,1.11342171514185,0.14559250537059,7.64752081371055,{"v":2.04891091510797e-14,"d":"2.05E-14"},{"v":6.79855230553098e-13,"d":"6.80E-13"},{"$f":"VLOOKUP(A358,'[1]SD vs SY0.15'!$A$2:$E$20133,5,FALSE)","v":"NA"}]
["ENSGALG00000025659",59.9883611706996,1.11130022160169,0.216908099922755,5.12336893826207,{"v":3.00124283449326e-07,"d":"3.00E-07"},{"v":2.7920069108258e-06,"d":"2.79E-06"},{"$f":"VLOOKUP(A359,'[1]SD vs SY0.15'!$A$2:$E$20133,5,FALSE)","v":"gga-mir-2129"}]
["ENSGALG00000045574",100.77465869364,1.11098106781388,0.239898996687372,4.63103674110679,{"v":3.63839295694863e-06,"d":"3.64E-06"},{"v":2.69883696000281E-5,"d":"2.70E-05"},{"$f":"VLOOKUP(A360,'[1]SD vs SY0.15'!$A$2:$E$20133,5,FALSE)","v":"CAMK2N2"}]
["ENSGALG00000021357",61.7243934491747,1.11078388382061,0.449731527365091,2.46988217688122,0.0135157560356952,0.0379519460905415,{"$f":"VLOOKUP(A361,'[1]SD vs SY0.15'!$A$2:$E$20133,5,FALSE)","v":"NA"}]
["ENSGALG00000049270",49.9076870311615,1.1105096264172,0.252847303334593,4.39201688834174,{"v":1.12303973312686e-05,"d":"1.12E-05"},{"v":7.44993965657256e-05,"d":"7.45E-05"},{"$f":"VLOOKUP(A362,'[1]SD vs SY0.15'!$A$2:$E$20133,5,FALSE)","v":"FKBP2"}]
["ENSGALG00000051311",165.884306598972,1.10965695990738,0.469977365517809,2.36108596141602,0.0182215063501017,0.0486013510554453,{"$f":"VLOOKUP(A363,'[1]SD vs SY0.15'!$A$2:$E$20133,5,FALSE)","v":"NA"}]
["ENSGALG00000049001",304.501907284393,1.10838353738115,0.280098107962874,3.95712611356895,{"v":7.58568870485465e-05,"d":"7.59E-05"},4.17909916068783E-4,{"$f":"VLOOKUP(A364,'[1]SD vs SY0.15'!$A$2:$E$20133,5,FALSE)","v":"ANKRD39"}]
["ENSGALG00000053833",495.002702423074,1.10699656222439,0.246155171221895,4.49714932548174,{"v":6.88706202146801e-06,"d":"6.89E-06"},{"v":4.78407300708207e-05,"d":"4.78E-05"},{"$f":"VLOOKUP(A365,'[1]SD vs SY0.15'!$A$2:$E$20133,5,FALSE)","v":"C1orf210"}]
["ENSGALG00000002595",1141.48534381175,1.10602036798414,0.22186503804258,4.98510435777572,{"v":6.19283784648659e-07,"d":"6.19E-07"},{"v":5.41079756969158e-06,"d":"5.41E-06"},{"$f":"VLOOKUP(A366,'[1]SD vs SY0.15'!$A$2:$E$20133,5,FALSE)","v":"GPX4"}]
["ENSGALG00000000887",994.833892586932,1.10539415333055,0.212496247096328,5.20194670934335,{"v":1.97211781198547e-07,"d":"1.97E-07"},{"v":1.90959973159736e-06,"d":"1.91E-06"},{"$f":"VLOOKUP(A367,'[1]SD vs SY0.15'!$A$2:$E$20133,5,FALSE)","v":"NR0B2"}]
["ENSGALG00000026585",24.1470695183859,1.1048146509054,0.354728652249239,3.11453457142543,1.84235365237751E-3,0.00697430937380532,{"$f":"VLOOKUP(A368,'[1]SD vs SY0.15'!$A$2:$E$20133,5,FALSE)","v":"TAFA3"}]
["ENSGALG00000044874",54.2286161846652,1.10351838870749,0.334444405323575,3.29955702993398,0.000968375493636878,0.0039907904024329,{"$f":"VLOOKUP(A369,'[1]SD vs SY0.15'!$A$2:$E$20133,5,FALSE)","v":"TNFRSF14"}]
["ENSGALG00000003053",2232.36574786054,1.10309679769091,0.233204903546492,4.73016124839329,{"v":2.24341576086729e-06,"d":"2.24E-06"},{"v":1.75073024390483E-5,"d":"1.75E-05"},{"$f":"VLOOKUP(A370,'[1]SD vs SY0.15'!$A$2:$E$20133,5,FALSE)","v":"PRDX6"}]
["ENSGALG00000052192",3655.47579453333,1.10309582207825,0.266322671488401,4.14195237646635,{"v":3.44361857333912e-05,"d":"3.44E-05"},0.000204768112635593,{"$f":"VLOOKUP(A371,'[1]SD vs SY0.15'!$A$2:$E$20133,5,FALSE)","v":"TUBA1B"}]
["ENSGALG00000008503",497.279397048069,1.10259615030775,0.13676990158825,8.0616870927286,{"v":7.52486145461945e-16,"d":"7.52E-16"},{"v":3.02158813190458E-14,"d":"3.02E-14"},{"$f":"VLOOKUP(A372,'[1]SD vs SY0.15'!$A$2:$E$20133,5,FALSE)","v":"ALG3"}]
["ENSGALG00000034251",2952.35547065066,1.10248240087377,0.168313658877286,6.55016597124518,{"v":5.74731722142615e-11,"d":"5.75E-11"},{"v":1.08147840399282E-9,"d":"1.08E-09"},{"$f":"VLOOKUP(A373,'[1]SD vs SY0.15'!$A$2:$E$20133,5,FALSE)","v":"SLC9A1,SLC9A1"}]
["ENSGALG00000004035",19.4960309039959,1.1023875160391,0.424871454463908,2.59463775327072,0.00946906599957441,0.0280415476076053,{"$f":"VLOOKUP(A374,'[1]SD vs SY0.15'!$A$2:$E$20133,5,FALSE)","v":"CRYBA1"}]
["ENSGALG00000041232",651.893287987718,1.10165034274015,0.198536354904573,5.54885951880031,{"v":2.87539097595757e-08,"d":"2.88E-08"},{"v":3.29322816040279E-7,"d":"3.29E-07"},{"$f":"VLOOKUP(A375,'[1]SD vs SY0.15'!$A$2:$E$20133,5,FALSE)","v":"TMEM223"}]
["ENSGALG00000053244",93.1086943832063,1.10122996258184,0.189209010371688,5.82017717030784,{"v":5.87852813761958e-09,"d":"5.88E-09"},{"v":7.6734210757351e-08,"d":"7.67E-08"},{"$f":"VLOOKUP(A376,'[1]SD vs SY0.15'!$A$2:$E$20133,5,FALSE)","v":"LOC101751955"}]
["ENSGALG00000032903",249.136039032475,1.10056043243903,0.277119545109817,3.97142840286815,{"v":7.14429728487575e-05,"d":"7.14E-05"},0.000396110681242158,{"$f":"VLOOKUP(A377,'[1]SD vs SY0.15'!$A$2:$E$20133,5,FALSE)","v":"RTN4RL2"}]
["ENSGALG00000032598",16814.4762458505,1.10049239589327,0.302476720809728,3.63827137819815,0.000274474125939577,1.31540287423137E-3,{"$f":"VLOOKUP(A378,'[1]SD vs SY0.15'!$A$2:$E$20133,5,FALSE)","v":"MYO1A"}]
["ENSGALG00000046384",17.7944037937009,1.09872010673037,0.378698078338398,2.9013089043155,3.71607355145021E-3,0.0127052462703888,{"$f":"VLOOKUP(A379,'[1]SD vs SY0.15'!$A$2:$E$20133,5,FALSE)","v":"LRRC46"}]
["ENSGALG00000016595",720.461720335402,1.09801414345429,0.163399826529148,6.71979993356001,{"v":1.81974241931536e-11,"d":"1.82E-11"},{"v":3.67051756898331e-10,"d":"3.67E-10"},{"$f":"VLOOKUP(A380,'[1]SD vs SY0.15'!$A$2:$E$20133,5,FALSE)","v":"TRIM35"}]
["ENSGALG00000047805",19.175410475738,1.09578958184798,0.399743527434216,2.74123158136265,0.00612093495295486,0.0194952731318971,{"$f":"VLOOKUP(A381,'[1]SD vs SY0.15'!$A$2:$E$20133,5,FALSE)","v":"NA"}]
["ENSGALG00000049450",218132.705360922,1.09402217036945,0.355312127329953,3.07904539760758,2.07665034601356E-3,0.00771511101840551,{"$f":"VLOOKUP(A382,'[1]SD vs SY0.15'!$A$2:$E$20133,5,FALSE)","v":"NA"}]
["ENSGALG00000033656",1856.96189720981,1.092896536578,0.237096902941078,4.60949309341929,{"v":4.03651941790978e-06,"d":"4.04E-06"},{"v":2.96882246697112e-05,"d":"2.97E-05"},{"$f":"VLOOKUP(A383,'[1]SD vs SY0.15'!$A$2:$E$20133,5,FALSE)","v":"DQX1"}]
["ENSGALG00000045424",2879.4430141757002,1.09289084752463,0.131920727462629,8.28445134093297,{"v":1.18654814620193e-16,"d":"1.19E-16"},{"v":5.41483270813988e-15,"d":"5.41E-15"},{"$f":"VLOOKUP(A384,'[1]SD vs SY0.15'!$A$2:$E$20133,5,FALSE)","v":"RTN3"}]
["ENSGALG00000028326",3466.7640789157,1.09175039760304,0.328225106135454,3.3262245245569,0.000880309873328764,3.68263589296867E-3,{"$f":"VLOOKUP(A385,'[1]SD vs SY0.15'!$A$2:$E$20133,5,FALSE)","v":"HSD11B2"}]
["ENSGALG00000030095",341.785300838927,1.0913068551667,0.140500058204364,7.76730535996895,{"v":8.0173402008441e-15,"d":"8.02E-15"},{"v":2.79914646731077e-13,"d":"2.80E-13"},{"$f":"VLOOKUP(A386,'[1]SD vs SY0.15'!$A$2:$E$20133,5,FALSE)","v":"AP5S1"}]
["ENSGALG00000040249",84.4986151528441,1.09105312037458,0.348534461537445,3.13040241576619,0.00174566987117738,0.00666283306297469,{"$f":"VLOOKUP(A387,'[1]SD vs SY0.15'!$A$2:$E$20133,5,FALSE)","v":"BHLHE22"}]
["ENSGALG00000029621",1123.40940580487,1.09057427049942,0.24095126333642,4.52611974470845,{"v":6.00765475353686e-06,"d":"6.01E-06"},{"v":4.23409376569702E-5,"d":"4.23E-05"},{"$f":"VLOOKUP(A388,'[1]SD vs SY0.15'!$A$2:$E$20133,5,FALSE)","v":"SEMA3F"}]
["ENSGALG00000048115",335.431598785402,1.09008309849814,0.182814668529919,5.96277698755743,{"v":2.4798677791354e-09,"d":"2.48E-09"},{"v":3.49695548060237E-8,"d":"3.50E-08"},{"$f":"VLOOKUP(A389,'[1]SD vs SY0.15'!$A$2:$E$20133,5,FALSE)","v":"OLFM2"}]
["ENSGALG00000046885",358.241465408346,1.08924548374492,0.128460288629961,8.47923895673762,{"v":2.26671710002696e-17,"d":"2.27E-17"},{"v":1.11964233574343E-15,"d":"1.12E-15"},{"$f":"VLOOKUP(A390,'[1]SD vs SY0.15'!$A$2:$E$20133,5,FALSE)","v":"SCO2"}]
["ENSGALG00000034917",614.258887824595,1.08840376171684,0.128208488531676,8.48932683149082,{"v":2.078374572189E-17,"d":"2.08E-17"},{"v":1.03247710533286E-15,"d":"1.03E-15"},{"$f":"VLOOKUP(A391,'[1]SD vs SY0.15'!$A$2:$E$20133,5,FALSE)","v":"GCDH"}]
["ENSGALG00000002103",646.667504109558,1.08778434315002,0.249087405365736,4.36707886355321,{"v":1.2591927118478e-05,"d":"1.26E-05"},{"v":8.27734732737155e-05,"d":"8.28E-05"},{"$f":"VLOOKUP(A392,'[1]SD vs SY0.15'!$A$2:$E$20133,5,FALSE)","v":"TPPP3"}]
["ENSGALG00000006044",29.6136493505555,1.08695885661351,0.354847720574938,3.06316989961884,0.00219005679811079,0.00805894551296343,{"$f":"VLOOKUP(A393,'[1]SD vs SY0.15'!$A$2:$E$20133,5,FALSE)","v":"MAB21L4"}]
["ENSGALG00000006755",36.1391903963179,1.08658712089307,0.432896265918936,2.51004041022738,0.0120717346318506,0.0344535866782642,{"$f":"VLOOKUP(A394,'[1]SD vs SY0.15'!$A$2:$E$20133,5,FALSE)","v":"USP2"}]
["ENSGALG00000031398",197.827753288315,1.08390458388172,0.229263678723777,4.72776407460352,{"v":2.27005727948775e-06,"d":"2.27E-06"},{"v":1.76676302231216e-05,"d":"1.77E-05"},{"$f":"VLOOKUP(A395,'[1]SD vs SY0.15'!$A$2:$E$20133,5,FALSE)","v":"NA"}]
["ENSGALG00000040221",87.9132014067082,1.08382337172673,0.175512421254301,6.17519468981837,{"v":6.6081988592596e-10,"d":"6.61E-10"},{"v":1.0267806395527E-8,"d":"1.03E-08"},{"$f":"VLOOKUP(A396,'[1]SD vs SY0.15'!$A$2:$E$20133,5,FALSE)","v":"NA"}]
["ENSGALG00000036456",529.850492731696,1.0834919720793,0.319026736948158,3.3962419026195,0.000683179531611233,2.93875371502338E-3,{"$f":"VLOOKUP(A397,'[1]SD vs SY0.15'!$A$2:$E$20133,5,FALSE)","v":"TRIB1"}]
["ENSGALG00000043133",46.0398137124323,1.08346233032685,0.336438863510756,3.2203839919707,1.28018993969043E-3,0.00508653164565758,{"$f":"VLOOKUP(A398,'[1]SD vs SY0.15'!$A$2:$E$20133,5,FALSE)","v":"gga-mir-1564"}]
["ENSGALG00000050596",449.420766454448,1.08265032198978,0.201007515758176,5.38611861305861,{"v":7.1995460623289e-08,"d":"7.20E-08"},{"v":7.63749282402151e-07,"d":"7.64E-07"},{"$f":"VLOOKUP(A399,'[1]SD vs SY0.15'!$A$2:$E$20133,5,FALSE)","v":"LOC101748084"}]
["ENSGALG00000033204",403.838088798222,1.08220888213914,0.200441338450907,5.39913019191996,{"v":6.69647666045842e-08,"d":"6.70E-08"},{"v":7.13866583049604e-07,"d":"7.14E-07"},{"$f":"VLOOKUP(A400,'[1]SD vs SY0.15'!$A$2:$E$20133,5,FALSE)","v":"PQLC2"}]
["ENSGALG00000054154",231.001048724307,1.08073622692534,0.211282694266864,5.1151194880178,{"v":3.13542410841545e-07,"d":"3.14E-07"},{"v":2.90213363918066e-06,"d":"2.90E-06"},{"$f":"VLOOKUP(A401,'[1]SD vs SY0.15'!$A$2:$E$20133,5,FALSE)","v":"NA"}]
["ENSGALG00000032915",603.314174609444,1.079389413365,0.102247477335003,10.5566361293052,{"v":4.73320652913762e-26,"d":"4.73E-26"},{"v":5.7955114029659E-24,"d":"5.80E-24"},{"$f":"VLOOKUP(A402,'[1]SD vs SY0.15'!$A$2:$E$20133,5,FALSE)","v":"CHPF"}]
["ENSGALG00000007038",41.4281359004991,1.07907457232962,0.280718488272087,3.84397400745378,1.21057833434126E-4,0.000633413346349429,{"$f":"VLOOKUP(A403,'[1]SD vs SY0.15'!$A$2:$E$20133,5,FALSE)","v":"ASTN2"}]
["ENSGALG00000042895",2630.77002532382,1.07863429765297,0.131970818804925,8.17327881588258,{"v":3.00119315324051E-16,"d":"3.00E-16"},{"v":1.291627360282E-14,"d":"1.29E-14"},{"$f":"VLOOKUP(A404,'[1]SD vs SY0.15'!$A$2:$E$20133,5,FALSE)","v":"BCAR1"}]
["ENSGALG00000013993",728.264681548183,1.07748927730338,0.37446684600194,2.87739565947529,0.00400972490199217,0.0135900754134382,{"$f":"VLOOKUP(A405,'[1]SD vs SY0.15'!$A$2:$E$20133,5,FALSE)","v":"VNN1"}]
["ENSGALG00000041708",163.175084205578,1.07745679108639,0.270848341751491,3.9780815496924,{"v":6.94735459054584e-05,"d":"6.95E-05"},0.000386787237482615,{"$f":"VLOOKUP(A406,'[1]SD vs SY0.15'!$A$2:$E$20133,5,FALSE)","v":"WNT4"}]
["ENSGALG00000044654",196.576095549727,1.07683087494676,0.196554999331006,5.47852193336148,{"v":4.28893430170133E-8,"d":"4.29E-08"},{"v":4.77106210516193e-07,"d":"4.77E-07"},{"$f":"VLOOKUP(A407,'[1]SD vs SY0.15'!$A$2:$E$20133,5,FALSE)","v":"C22orf39"}]
["ENSGALG00000038951",576.036796987423,1.07482708688273,0.215041953730363,4.9982204320485,{"v":5.78618188905235e-07,"d":"5.79E-07"},{"v":5.0913129810199e-06,"d":"5.09E-06"},{"$f":"VLOOKUP(A408,'[1]SD vs SY0.15'!$A$2:$E$20133,5,FALSE)","v":"RASSF1"}]
["ENSGALG00000011856",187.197863458308,1.0743099269148,0.22626759994967,4.74796182552768,{"v":2.05476806204347e-06,"d":"2.05E-06"},{"v":1.6189850533901E-5,"d":"1.62E-05"},{"$f":"VLOOKUP(A409,'[1]SD vs SY0.15'!$A$2:$E$20133,5,FALSE)","v":"FMC1"}]
["ENSGALG00000054889",1950.67460816648,1.07415251788322,0.136440161589849,7.87270042315115,{"v":3.47067035526849E-15,"d":"3.47E-15"},{"v":1.28941336468062e-13,"d":"1.29E-13"},{"$f":"VLOOKUP(A410,'[1]SD vs SY0.15'!$A$2:$E$20133,5,FALSE)","v":"NA"}]
["ENSGALG00000036616",655.379864253064,1.07408672097627,0.441585159927792,2.43234333588545,0.0150014796483583,0.0413426417254724,{"$f":"VLOOKUP(A411,'[1]SD vs SY0.15'!$A$2:$E$20133,5,FALSE)","v":"NUAK2"}]
["ENSGALG00000033386",727.625838409703,1.07290109016424,0.332226737212887,3.22942427561675,0.0012403972527473,0.00494197686377572,{"$f":"VLOOKUP(A412,'[1]SD vs SY0.15'!$A$2:$E$20133,5,FALSE)","v":"RHOD"}]
["ENSGALG00000014944",469.183336135096,1.07289031826289,0.360728210702951,2.97423458002396,0.00293720437447715,0.0103883589216912,{"$f":"VLOOKUP(A413,'[1]SD vs SY0.15'!$A$2:$E$20133,5,FALSE)","v":"GCNT4"}]
["ENSGALG00000005768",384.919526194061,1.07266390556102,0.225854144570087,4.74936560319862,{"v":2.0405575158631E-6,"d":"2.04E-06"},{"v":1.60976286426097E-5,"d":"1.61E-05"},{"$f":"VLOOKUP(A414,'[1]SD vs SY0.15'!$A$2:$E$20133,5,FALSE)","v":"ETV5"}]
["ENSGALG00000025938",813.763824647711,1.07215461294011,0.159815481948213,6.70870306099341,{"v":1.96361780768486e-11,"d":"1.96E-11"},{"v":3.94698529736608e-10,"d":"3.95E-10"},{"$f":"VLOOKUP(A415,'[1]SD vs SY0.15'!$A$2:$E$20133,5,FALSE)","v":"KIAA0513"}]
["ENSGALG00000031572",20.1617893210226,1.07151828413513,0.395219864216687,2.71119541589552,0.00670411026326354,0.0210595058983493,{"$f":"VLOOKUP(A416,'[1]SD vs SY0.15'!$A$2:$E$20133,5,FALSE)","v":"NA"}]
["ENSGALG00000049951",461.877584544029,1.07130962226306,0.2270620602503,4.71813574263401,{"v":2.38015667820643e-06,"d":"2.38E-06"},{"v":1.83683018925766e-05,"d":"1.84E-05"},{"$f":"VLOOKUP(A417,'[1]SD vs SY0.15'!$A$2:$E$20133,5,FALSE)","v":"SPOCK2"}]
["ENSGALG00000000521",3901.76345075111,1.07111402826526,0.301194907161744,3.5562156025768,0.000376235351372776,0.00173840129001288,{"$f":"VLOOKUP(A418,'[1]SD vs SY0.15'!$A$2:$E$20133,5,FALSE)","v":"SPIRE2"}]
["ENSGALG00000046858",1282.59158206852,1.0702758634091,0.125037043625859,8.5596702574929,{"v":1.13190793292676E-17,"d":"1.13E-17"},{"v":5.85728667553501e-16,"d":"5.86E-16"},{"$f":"VLOOKUP(A419,'[1]SD vs SY0.15'!$A$2:$E$20133,5,FALSE)","v":"MOGS"}]
["ENSGALG00000041459",1334.52185723205,1.06828155013445,0.359006414715873,2.9756614543501,2.92357410514377E-3,0.0103464650857185,{"$f":"VLOOKUP(A420,'[1]SD vs SY0.15'!$A$2:$E$20133,5,FALSE)","v":"DDIT4"}]
["ENSGALG00000048328",142.153966487679,1.06798823783545,0.388431882977691,2.74948654999256,0.005968871244967,0.0190738401647199,{"$f":"VLOOKUP(A421,'[1]SD vs SY0.15'!$A$2:$E$20133,5,FALSE)","v":"NA"}]
["ENSGALG00000045611",381.859705451964,1.06701808607334,0.155965802361605,6.84135925899623,{"v":7.8445250665921e-12,"d":"7.84E-12"},{"v":1.6859426122724e-10,"d":"1.69E-10"},{"$f":"VLOOKUP(A422,'[1]SD vs SY0.15'!$A$2:$E$20133,5,FALSE)","v":"GLMP"}]
["ENSGALG00000044866",43.1706549495023,1.06688959375693,0.268864398246033,3.96813263755597,{"v":7.24380154996448e-05,"d":"7.24E-05"},4.00597892968297E-4,{"$f":"VLOOKUP(A423,'[1]SD vs SY0.15'!$A$2:$E$20133,5,FALSE)","v":"LOC107057394"}]
["ENSGALG00000021362",1620.02455386356,1.06688282794383,0.183990424864412,5.79857798975163,{"v":6.6879598574368e-09,"d":"6.69E-09"},{"v":8.65849278043587e-08,"d":"8.66E-08"},{"$f":"VLOOKUP(A424,'[1]SD vs SY0.15'!$A$2:$E$20133,5,FALSE)","v":"GPRC5C"}]
["ENSGALG00000011349",393.701749459658,1.06607094027809,0.280181755614211,3.80492633412574,1.41846399624813E-4,0.000729453815521037,{"$f":"VLOOKUP(A425,'[1]SD vs SY0.15'!$A$2:$E$20133,5,FALSE)","v":"MNR2"}]
["ENSGALG00000041965",73.6086402826176,1.0659176074606,0.245139650365227,4.34820562839391,{"v":1.37255886766728E-5,"d":"1.37E-05"},{"v":8.92805126529404e-05,"d":"8.93E-05"},{"$f":"VLOOKUP(A426,'[1]SD vs SY0.15'!$A$2:$E$20133,5,FALSE)","v":"MIOX"}]
["ENSGALG00000036500",1495.16900907994,1.06505772853387,0.30570855651861,3.48389898098594,0.000494165967311107,2.20365829023807E-3,{"$f":"VLOOKUP(A427,'[1]SD vs SY0.15'!$A$2:$E$20133,5,FALSE)","v":"NA"}]
["ENSGALG00000053105",145.894727930223,1.06429116769964,0.265928780821374,4.00216616047485,{"v":6.27651932469939E-5,"d":"6.28E-05"},0.000353171008085917,{"$f":"VLOOKUP(A428,'[1]SD vs SY0.15'!$A$2:$E$20133,5,FALSE)","v":"RAP1GAP"}]
["ENSGALG00000047838",58.7352938822167,1.0629466056899,0.437165244386589,2.43145268142572,0.015038412497956,0.0414312910952242,{"$f":"VLOOKUP(A429,'[1]SD vs SY0.15'!$A$2:$E$20133,5,FALSE)","v":"LOC425238"}]
["ENSGALG00000051668",109.874701990149,1.05947420170788,0.205053832455233,5.16681004701133,{"v":2.38123046465967e-07,"d":"2.38E-07"},{"v":2.25749477039464e-06,"d":"2.26E-06"},{"$f":"VLOOKUP(A430,'[1]SD vs SY0.15'!$A$2:$E$20133,5,FALSE)","v":"NA"}]
["ENSGALG00000033927",1049.88871538176,1.05775431414344,0.124093113786214,8.52387599819385,{"v":1.54300819362974e-17,"d":"1.54E-17"},{"v":7.79891961123266e-16,"d":"7.80E-16"},{"$f":"VLOOKUP(A431,'[1]SD vs SY0.15'!$A$2:$E$20133,5,FALSE)","v":"MFSD5"}]
["ENSGALG00000029646",1335.1932052549,1.05703488466967,0.235828034394849,4.48222743060253,{"v":7.38679587040207e-06,"d":"7.39E-06"},{"v":5.09457436726223e-05,"d":"5.09E-05"},{"$f":"VLOOKUP(A432,'[1]SD vs SY0.15'!$A$2:$E$20133,5,FALSE)","v":"CNNM4"}]
["ENSGALG00000037869",860.517321040296,1.05698330232549,0.14018019985739,7.54017545559783,{"v":4.69339552257245e-14,"d":"4.69E-14"},{"v":1.4741252640598e-12,"d":"1.47E-12"},{"$f":"VLOOKUP(A433,'[1]SD vs SY0.15'!$A$2:$E$20133,5,FALSE)","v":"LOC107055115"}]
["ENSGALG00000033123",1349.36113079198,1.05673265822882,0.130383312964947,8.10481521138309,{"v":5.28257432698997e-16,"d":"5.28E-16"},{"v":2.17649573041172e-14,"d":"2.18E-14"},{"$f":"VLOOKUP(A434,'[1]SD vs SY0.15'!$A$2:$E$20133,5,FALSE)","v":"NA"}]
["ENSGALG00000026471",1166.78403862398,1.05583897063955,0.177729575859054,5.94070494759335,{"v":2.83799006182586e-09,"d":"2.84E-09"},{"v":3.94753065639729e-08,"d":"3.95E-08"},{"$f":"VLOOKUP(A435,'[1]SD vs SY0.15'!$A$2:$E$20133,5,FALSE)","v":"CRIP2"}]
["ENSGALG00000038853",638.842320585803,1.05581518661696,0.211840557859693,4.98400871525391,{"v":6.22802723333882e-07,"d":"6.23E-07"},{"v":5.43062735737523e-06,"d":"5.43E-06"},{"$f":"VLOOKUP(A436,'[1]SD vs SY0.15'!$A$2:$E$20133,5,FALSE)","v":"NA"}]
["ENSGALG00000036283",656.059775608968,1.0557739537757,0.0892207038495289,11.8332842963923,{"v":2.62659535643746E-32,"d":"2.63E-32"},{"v":5.70857668279727e-30,"d":"5.71E-30"},{"$f":"VLOOKUP(A437,'[1]SD vs SY0.15'!$A$2:$E$20133,5,FALSE)","v":"RBM8A"}]
["ENSGALG00000017378",53.6001204957278,1.05484940774539,0.278664931015398,3.78536834147638,0.00015348107516966,0.0007818855710445,{"$f":"VLOOKUP(A438,'[1]SD vs SY0.15'!$A$2:$E$20133,5,FALSE)","v":"CRTAC1"}]
["ENSGALG00000031482",785.18990348857,1.05378870231716,0.137103324001684,7.68609156627172,{"v":1.51697955170743E-14,"d":"1.52E-14"},{"v":5.17171048343866e-13,"d":"5.17E-13"},{"$f":"VLOOKUP(A439,'[1]SD vs SY0.15'!$A$2:$E$20133,5,FALSE)","v":"Pou5f3,Pou5f3"}]
["ENSGALG00000032215",503.443479525418,1.05273583319733,0.13940127139612,7.55183810487561,{"v":4.29157755236429e-14,"d":"4.29E-14"},{"v":1.35915589987173e-12,"d":"1.36E-12"},{"$f":"VLOOKUP(A440,'[1]SD vs SY0.15'!$A$2:$E$20133,5,FALSE)","v":"ULK3"}]
["ENSGALG00000003973",499.018955548602,1.0524295508419,0.189377918660611,5.55729811735855,{"v":2.7398258736733E-8,"d":"2.74E-08"},{"v":3.1652725890736e-07,"d":"3.17E-07"},{"$f":"VLOOKUP(A441,'[1]SD vs SY0.15'!$A$2:$E$20133,5,FALSE)","v":"TLCD1"}]
["ENSGALG00000007478",5256.3406936261,1.05178151581447,0.432990046187941,2.42911245899159,0.0151358366690027,0.0416706695511948,{"$f":"VLOOKUP(A442,'[1]SD vs SY0.15'!$A$2:$E$20133,5,FALSE)","v":"SLC51A"}]
["ENSGALG00000039190",641.00096988052,1.0513011722033,0.154779055112113,6.79227025544118,{"v":1.10382516138583E-11,"d":"1.10E-11"},{"v":2.30953165836527E-10,"d":"2.31E-10"},{"$f":"VLOOKUP(A443,'[1]SD vs SY0.15'!$A$2:$E$20133,5,FALSE)","v":"CDK2AP2"}]
["ENSGALG00000003435",17.218952558863,1.05078243173182,0.406378540259977,2.58572323001995,0.0097174925208945,0.0286369563492869,{"$f":"VLOOKUP(A444,'[1]SD vs SY0.15'!$A$2:$E$20133,5,FALSE)","v":"PGC"}]
["ENSGALG00000042647",22.4691260483632,1.05014385000235,0.310167066484044,3.38573615150843,0.000709876012333873,0.00304155106615304,{"$f":"VLOOKUP(A445,'[1]SD vs SY0.15'!$A$2:$E$20133,5,FALSE)","v":"NA"}]
["ENSGALG00000052541",440.632192699222,1.04980207894832,0.119269782702943,8.80191155846223,{"v":1.34505167395548E-18,"d":"1.35E-18"},{"v":7.51974709166041e-17,"d":"7.52E-17"},{"$f":"VLOOKUP(A446,'[1]SD vs SY0.15'!$A$2:$E$20133,5,FALSE)","v":"LOC107051468"}]
["ENSGALG00000050948",2015.22241469112,1.04927544640022,0.101264973774429,10.3616819053103,{"v":3.70390958282391e-25,"d":"3.70E-25"},{"v":4.1818101244519e-23,"d":"4.18E-23"},{"$f":"VLOOKUP(A447,'[1]SD vs SY0.15'!$A$2:$E$20133,5,FALSE)","v":"TMEM115"}]
["ENSGALG00000002578",690.614573182141,1.04864186065681,0.153056050130884,6.85135843869013,{"v":7.31519659149629e-12,"d":"7.32E-12"},{"v":1.57607587529549E-10,"d":"1.58E-10"},{"$f":"VLOOKUP(A448,'[1]SD vs SY0.15'!$A$2:$E$20133,5,FALSE)","v":"APH1B"}]
["ENSGALG00000050047",401.862744634527,1.04821213587986,0.167677015538075,6.2513763888041,{"v":4.06851045039934E-10,"d":"4.07E-10"},{"v":6.64842022566667e-09,"d":"6.65E-09"},{"$f":"VLOOKUP(A449,'[1]SD vs SY0.15'!$A$2:$E$20133,5,FALSE)","v":"LOC107049913"}]
["ENSGALG00000053285",195.186147588421,1.04669315333215,0.282562157041929,3.70429347046933,0.000211980734427502,1.0452946765431E-3,{"$f":"VLOOKUP(A450,'[1]SD vs SY0.15'!$A$2:$E$20133,5,FALSE)","v":"LOC112530287"}]
["ENSGALG00000052101",165.033113142782,1.04634876518876,0.127622541097058,8.19877708274908,{"v":2.42844770629245e-16,"d":"2.43E-16"},{"v":1.06894734859005E-14,"d":"1.07E-14"},{"$f":"VLOOKUP(A451,'[1]SD vs SY0.15'!$A$2:$E$20133,5,FALSE)","v":"NA"}]
["ENSGALG00000049395",103.850515280535,1.04626135233268,0.273905192331886,3.81979378859289,0.000133563289533741,0.000690328452771449,{"$f":"VLOOKUP(A452,'[1]SD vs SY0.15'!$A$2:$E$20133,5,FALSE)","v":"ARHGDIG"}]
["ENSGALG00000031906",82.6803946710302,1.04426363088491,0.322344012536889,3.23959369577374,1.19700132082066E-3,0.00479876918725126,{"$f":"VLOOKUP(A453,'[1]SD vs SY0.15'!$A$2:$E$20133,5,FALSE)","v":"FAM83C"}]
["ENSGALG00000000607",83.7352465227953,1.04366728460292,0.268063150072222,3.89336350155454,{"v":9.88638407410501e-05,"d":"9.89E-05"},0.000529884586610554,{"$f":"VLOOKUP(A454,'[1]SD vs SY0.15'!$A$2:$E$20133,5,FALSE)","v":"GPR37L1"}]
["ENSGALG00000029380",32.0228609374096,1.04338205605852,0.305631376824715,3.4138577880926,0.000640499986885667,0.00277369197309616,{"$f":"VLOOKUP(A455,'[1]SD vs SY0.15'!$A$2:$E$20133,5,FALSE)","v":"NA"}]
["ENSGALG00000049721",271.875808516694,1.04317160710219,0.32592250760578,3.2006737269092,1.37106688773768E-3,0.00539582163356611,{"$f":"VLOOKUP(A456,'[1]SD vs SY0.15'!$A$2:$E$20133,5,FALSE)","v":"NA"}]
["ENSGALG00000035853",376.763863247395,1.04281928687066,0.246758615395057,4.22607042595501,{"v":2.37807592668073E-5,"d":"2.38E-05"},1.47092159861963E-4,{"$f":"VLOOKUP(A457,'[1]SD vs SY0.15'!$A$2:$E$20133,5,FALSE)","v":"SCRN2"}]
["ENSGALG00000014555",1499.6837260266,1.04255863463583,0.200071534555836,5.21092936559083,{"v":1.87896985318446e-07,"d":"1.88E-07"},{"v":1.82410099594183e-06,"d":"1.82E-06"},{"$f":"VLOOKUP(A458,'[1]SD vs SY0.15'!$A$2:$E$20133,5,FALSE)","v":"C1H12ORF57"}]
["ENSGALG00000004496",5877.75115542266,1.04241936340204,0.245055823170826,4.2538036840503,{"v":2.10169576077328e-05,"d":"2.10E-05"},0.000131541339786051,{"$f":"VLOOKUP(A459,'[1]SD vs SY0.15'!$A$2:$E$20133,5,FALSE)","v":"TNIP1"}]
["ENSGALG00000018803",188.147614550957,1.04185524792574,0.203283476198925,5.12513494656211,{"v":2.97324714930196e-07,"d":"2.97E-07"},{"v":2.77189534503556e-06,"d":"2.77E-06"},{"$f":"VLOOKUP(A460,'[1]SD vs SY0.15'!$A$2:$E$20133,5,FALSE)","v":"TMEM198"}]
["ENSGALG00000052399",221.298273939076,1.04143817837927,0.179121305544697,5.81415022189748,{"v":6.09426690540685e-09,"d":"6.09E-09"},{"v":7.93715495762614e-08,"d":"7.94E-08"},{"$f":"VLOOKUP(A461,'[1]SD vs SY0.15'!$A$2:$E$20133,5,FALSE)","v":"LIPE"}]
["ENSGALG00000048241",59.5006069693676,1.04119255015497,0.434901474043924,2.39408834482316,0.0166617350149964,0.0451242346893679,{"$f":"VLOOKUP(A462,'[1]SD vs SY0.15'!$A$2:$E$20133,5,FALSE)","v":"NA"}]
["ENSGALG00000005648",205.298642328488,1.04046956255498,0.231219698318097,4.49991748161341,{"v":6.79798464434351e-06,"d":"6.80E-06"},{"v":4.7316476785909e-05,"d":"4.73E-05"},{"$f":"VLOOKUP(A463,'[1]SD vs SY0.15'!$A$2:$E$20133,5,FALSE)","v":"SESN2"}]
["ENSGALG00000053653",805.32307154232,1.04021973872774,0.208176627347612,4.99681329254502,{"v":5.82854499347268e-07,"d":"5.83E-07"},{"v":5.12340302333213e-06,"d":"5.12E-06"},{"$f":"VLOOKUP(A464,'[1]SD vs SY0.15'!$A$2:$E$20133,5,FALSE)","v":"ZNF467"}]
["ENSGALG00000009792",1219.77577728013,1.04019975257279,0.301829549662375,3.44631515945457,0.000568287182474857,2.49704555008601E-3,{"$f":"VLOOKUP(A465,'[1]SD vs SY0.15'!$A$2:$E$20133,5,FALSE)","v":"LOC422442"}]
["ENSGALG00000017652",134.408004990473,1.0400284102919,0.267781787887388,3.8838653610352,0.000102808852574101,0.000548998009737683,{"$f":"VLOOKUP(A466,'[1]SD vs SY0.15'!$A$2:$E$20133,5,FALSE)","v":"TTC9"}]
["ENSGALG00000046358",43.5150326580742,1.03986988515987,0.288144954403674,3.60884294264987,0.000307565734642172,0.00145712409488377,{"$f":"VLOOKUP(A467,'[1]SD vs SY0.15'!$A$2:$E$20133,5,FALSE)","v":"FBLN7"}]
["ENSGALG00000036133",348.686753535796,1.03946307584998,0.263532855008109,3.94433959977396,{"v":8.00201927260711e-05,"d":"8.00E-05"},0.000438208217615181,{"$f":"VLOOKUP(A468,'[1]SD vs SY0.15'!$A$2:$E$20133,5,FALSE)","v":"KLF15"}]
["ENSGALG00000000619",458.360777932554,1.03927665894253,0.378303476419407,2.74720356465963,6.01058158312405E-3,0.0191894935706533,{"$f":"VLOOKUP(A469,'[1]SD vs SY0.15'!$A$2:$E$20133,5,FALSE)","v":"ANGPTL4"}]
["ENSGALG00000037980",70.6390751870948,1.0391040641506,0.398546299990142,2.60723550607873,0.00912765575398313,0.0272077062565583,{"$f":"VLOOKUP(A470,'[1]SD vs SY0.15'!$A$2:$E$20133,5,FALSE)","v":"NA"}]
["ENSGALG00000028499",2065.43627052306,1.03854242664814,0.166979474273138,6.21958136572725,{"v":4.98483074259694E-10,"d":"4.98E-10"},{"v":7.97343625773073e-09,"d":"7.97E-09"},{"$f":"VLOOKUP(A471,'[1]SD vs SY0.15'!$A$2:$E$20133,5,FALSE)","v":"MINDY1"}]
["ENSGALG00000016140",226.107963413091,1.03815859545673,0.3287333427554,3.15805688207658,1.58824564118832E-3,0.00613390203539345,{"$f":"VLOOKUP(A472,'[1]SD vs SY0.15'!$A$2:$E$20133,5,FALSE)","v":"FAM3B"}]
["ENSGALG00000051169",856.679627862157,1.03782464553354,0.144769931738914,7.16878590096461,{"v":7.56657796487512E-13,"d":"7.57E-13"},{"v":1.9404143226443e-11,"d":"1.94E-11"},{"$f":"VLOOKUP(A473,'[1]SD vs SY0.15'!$A$2:$E$20133,5,FALSE)","v":"NA"}]
["ENSGALG00000027501",77229.3604325434,1.03743109065729,0.384690897560781,2.69679136479537,0.0070011119606142,0.0218033913056062,{"$f":"VLOOKUP(A474,'[1]SD vs SY0.15'!$A$2:$E$20133,5,FALSE)","v":"ANPEP"}]
["ENSGALG00000033300",5477.68936585776,1.03705910643456,0.171563633480091,6.04474902634251,{"v":1.49642756396883E-9,"d":"1.50E-09"},{"v":2.1993563867055e-08,"d":"2.20E-08"},{"$f":"VLOOKUP(A475,'[1]SD vs SY0.15'!$A$2:$E$20133,5,FALSE)","v":"CORO1B"}]
["ENSGALG00000044018",164.428833407575,1.03645343987786,0.335233515845844,3.09173573311348,0.00198989913806933,0.00745012409853823,{"$f":"VLOOKUP(A476,'[1]SD vs SY0.15'!$A$2:$E$20133,5,FALSE)","v":"ISOC2"}]
["ENSGALG00000021627",1087.22012545201,1.03642214852483,0.358678864780447,2.88955455783335,0.00385788056340638,0.0131291777952528,{"$f":"VLOOKUP(A477,'[1]SD vs SY0.15'!$A$2:$E$20133,5,FALSE)","v":"IFI27L2"}]
["ENSGALG00000046347",1850.99811915461,1.03592593559384,0.323676381658089,3.20049899930026,1.37189845787481E-3,0.00539787247953593,{"$f":"VLOOKUP(A478,'[1]SD vs SY0.15'!$A$2:$E$20133,5,FALSE)","v":"FOXRED1"}]
["ENSGALG00000027429",29.3091041817314,1.03591584819772,0.368279961288458,2.81284880277897,0.00491047344048365,0.0161334848279836,{"$f":"VLOOKUP(A479,'[1]SD vs SY0.15'!$A$2:$E$20133,5,FALSE)","v":"HSD17B1"}]
["ENSGALG00000015066",38.8611359959804,1.03584193966768,0.368889510981562,2.80800052273499,0.0049850145890152,0.0163326164328363,{"$f":"VLOOKUP(A480,'[1]SD vs SY0.15'!$A$2:$E$20133,5,FALSE)","v":"WASF1"}]
["ENSGALG00000054023",106.776541594002,1.03540141327178,0.204770221937302,5.0564061682211,{"v":4.27230924179429e-07,"d":"4.27E-07"},{"v":3.85483346066826e-06,"d":"3.85E-06"},{"$f":"VLOOKUP(A481,'[1]SD vs SY0.15'!$A$2:$E$20133,5,FALSE)","v":"LOC112531384"}]
["ENSGALG00000036496",9035.10372016667,1.03320442190575,0.165553736006011,6.24090066966676,{"v":4.35058467511222e-10,"d":"4.35E-10"},{"v":7.04973119722052e-09,"d":"7.05E-09"},{"$f":"VLOOKUP(A482,'[1]SD vs SY0.15'!$A$2:$E$20133,5,FALSE)","v":"ACTN4"}]
["ENSGALG00000041028",40.0532425333817,1.03241697709959,0.297764020536229,3.46723212307638,0.000525847577672395,0.00233198998782939,{"$f":"VLOOKUP(A483,'[1]SD vs SY0.15'!$A$2:$E$20133,5,FALSE)","v":"DPYSL5"}]
["ENSGALG00000000277",103.443550364475,1.03209933999417,0.354864696183749,2.90843059648781,0.00363247795256779,0.0124793309941308,{"$f":"VLOOKUP(A484,'[1]SD vs SY0.15'!$A$2:$E$20133,5,FALSE)","v":"GnRH-I,GnRH-I"}]
["ENSGALG00000035690",999.051647028426,1.03195500717381,0.343207570153556,3.00679558644962,0.0026401723387814,0.00947073993282281,{"$f":"VLOOKUP(A485,'[1]SD vs SY0.15'!$A$2:$E$20133,5,FALSE)","v":"RAPGEFL1"}]
["ENSGALG00000025729",30.3403230614065,1.03177302424746,0.322722673061203,3.19708874018835,1.3882221174625E-3,0.00545099773177969,{"$f":"VLOOKUP(A486,'[1]SD vs SY0.15'!$A$2:$E$20133,5,FALSE)","v":"NA"}]
["ENSGALG00000046687",6652.04627737127,1.03033566588574,0.329908293661316,3.12309719301414,1.78958640219365E-3,0.00680418516836672,{"$f":"VLOOKUP(A487,'[1]SD vs SY0.15'!$A$2:$E$20133,5,FALSE)","v":"EPS8L3"}]
["ENSGALG00000037941",242.805583023067,1.02828391226335,0.163979221513726,6.27081835595419,{"v":3.59155409896052e-10,"d":"3.59E-10"},{"v":5.93596493523065e-09,"d":"5.94E-09"},{"$f":"VLOOKUP(A488,'[1]SD vs SY0.15'!$A$2:$E$20133,5,FALSE)","v":"ZC3H10"}]
["ENSGALG00000031426",7739.50985517499,1.02799136144833,0.15800818377239,6.50593745782905,{"v":7.72103465190778e-11,"d":"7.72E-11"},{"v":1.4142959815958E-9,"d":"1.41E-09"},{"$f":"VLOOKUP(A489,'[1]SD vs SY0.15'!$A$2:$E$20133,5,FALSE)","v":"TMBIM6"}]
["ENSGALG00000029932",337.21928336851,1.02787223416358,0.246355073646404,4.17232013511886,{"v":3.01513595095654e-05,"d":"3.02E-05"},0.00018183894824586,{"$f":"VLOOKUP(A490,'[1]SD vs SY0.15'!$A$2:$E$20133,5,FALSE)","v":"LURAP1L"}]
["ENSGALG00000039205",71.4989931378394,1.02782402735907,0.249124328190803,4.12574731188781,{"v":3.69532833855699e-05,"d":"3.70E-05"},0.000218762934363263,{"$f":"VLOOKUP(A491,'[1]SD vs SY0.15'!$A$2:$E$20133,5,FALSE)","v":"LOC101751456"}]
["ENSGALG00000046464",1475.43729471501,1.02756520238915,0.11961848758683,8.59035441025161,{"v":8.67014683102823e-18,"d":"8.67E-18"},{"v":4.56811645306327e-16,"d":"4.57E-16"},{"$f":"VLOOKUP(A492,'[1]SD vs SY0.15'!$A$2:$E$20133,5,FALSE)","v":"RUSC1"}]
["ENSGALG00000050493",90.59435815534,1.02689815796237,0.334197339398121,3.07272990207457,0.0021211037612582,0.00785232120341044,{"$f":"VLOOKUP(A493,'[1]SD vs SY0.15'!$A$2:$E$20133,5,FALSE)","v":"NA"}]
["ENSGALG00000023882",564.187972928596,1.02545403903349,0.242740419298012,4.22448820842869,{"v":2.39484389765009E-5,"d":"2.39E-05"},0.000147974473753201,{"$f":"VLOOKUP(A494,'[1]SD vs SY0.15'!$A$2:$E$20133,5,FALSE)","v":"MALL"}]
["ENSGALG00000033110",1825.55625764067,1.02410331297056,0.164017817938443,6.24385402660894,{"v":4.26918442323611e-10,"d":"4.27E-10"},{"v":6.93074785871206e-09,"d":"6.93E-09"},{"$f":"VLOOKUP(A495,'[1]SD vs SY0.15'!$A$2:$E$20133,5,FALSE)","v":"SNX33"}]
["ENSGALG00000012312",161.6862057339,1.02381299303938,0.333122057442721,3.07338697683031,0.00211643841288961,0.00783947905515799,{"$f":"VLOOKUP(A496,'[1]SD vs SY0.15'!$A$2:$E$20133,5,FALSE)","v":"GCAT"}]
["ENSGALG00000034955",2200.3481477033,1.02244535094404,0.0905671865230344,11.2893575498671,{"v":1.48115316766717e-29,"d":"1.48E-29"},{"v":2.52478530649305E-27,"d":"2.52E-27"},{"$f":"VLOOKUP(A497,'[1]SD vs SY0.15'!$A$2:$E$20133,5,FALSE)","v":"DCTN2"}]
["ENSGALG00000048285",1860.91759077456,1.02226394123034,0.265413380005581,3.85159158595865,1.17352624619691E-4,0.000616624383276691,{"$f":"VLOOKUP(A498,'[1]SD vs SY0.15'!$A$2:$E$20133,5,FALSE)","v":"TCN2"}]
["ENSGALG00000027533",326.45691953223,1.02210659337192,0.187197579881052,5.46004170578155,{"v":4.76022747623479e-08,"d":"4.76E-08"},{"v":5.25498889709805e-07,"d":"5.25E-07"},{"$f":"VLOOKUP(A499,'[1]SD vs SY0.15'!$A$2:$E$20133,5,FALSE)","v":"RNF24"}]
["ENSGALG00000042123",261.263075694459,1.02181323499617,0.400464896971515,2.55156754742688,0.0107239534340018,0.0311333074565017,{"$f":"VLOOKUP(A500,'[1]SD vs SY0.15'!$A$2:$E$20133,5,FALSE)","v":"CLDN23"}]
["ENSGALG00000052945",937.70565049125,1.02086895776852,0.153553654171726,6.64828826949858,{"v":2.96521135543129e-11,"d":"2.97E-11"},{"v":5.77983518350716e-10,"d":"5.78E-10"},{"$f":"VLOOKUP(A501,'[1]SD vs SY0.15'!$A$2:$E$20133,5,FALSE)","v":"NA"}]
["ENSGALG00000007027",776.720259068557,1.02008174390938,0.143601078216645,7.10357997709753,{"v":1.21565944776249E-12,"d":"1.22E-12"},{"v":2.95617773681768e-11,"d":"2.96E-11"},{"$f":"VLOOKUP(A502,'[1]SD vs SY0.15'!$A$2:$E$20133,5,FALSE)","v":"SGSH"}]
["ENSGALG00000039964",1051.56285056877,1.01945845552854,0.379239390602576,2.68816605234154,0.00718456591186889,0.0222710015171446,{"$f":"VLOOKUP(A503,'[1]SD vs SY0.15'!$A$2:$E$20133,5,FALSE)","v":"NA"}]
["ENSGALG00000035317",1606.11714717032,1.01923927414609,0.239108720919422,4.26266039242277,{"v":2.02007405395094E-5,"d":"2.02E-05"},0.000126660755773693,{"$f":"VLOOKUP(A504,'[1]SD vs SY0.15'!$A$2:$E$20133,5,FALSE)","v":"ID3"}]
["ENSGALG00000042220",780.578290357974,1.01878051041028,0.191140766646058,5.33000117288838,{"v":9.82121323824011e-08,"d":"9.82E-08"},{"v":1.01402277062518e-06,"d":"1.01E-06"},{"$f":"VLOOKUP(A505,'[1]SD vs SY0.15'!$A$2:$E$20133,5,FALSE)","v":"PRUNE1"}]
["ENSGALG00000044649",291.156185917601,1.0176840970863,0.284667909509863,3.57498707472344,0.000350245198765618,0.00163350677868503,{"$f":"VLOOKUP(A506,'[1]SD vs SY0.15'!$A$2:$E$20133,5,FALSE)","v":"P2RX2"}]
["ENSGALG00000054882",683.755130468902,1.01644212248412,0.139434482178359,7.28974717447535,{"v":3.1053721705673E-13,"d":"3.11E-13"},{"v":8.5432129635528e-12,"d":"8.54E-12"},{"$f":"VLOOKUP(A507,'[1]SD vs SY0.15'!$A$2:$E$20133,5,FALSE)","v":"PREB"}]
["ENSGALG00000051159",842.311758805795,1.01639008117287,0.1384608511891,7.34063146690292,{"v":2.12588436534325e-13,"d":"2.13E-13"},{"v":6.02981263625173E-12,"d":"6.03E-12"},{"$f":"VLOOKUP(A508,'[1]SD vs SY0.15'!$A$2:$E$20133,5,FALSE)","v":"FBXW9"}]
["ENSGALG00000047166",232.894240587151,1.01593477527186,0.248075632521731,4.0952622591131,{"v":4.21690759633133e-05,"d":"4.22E-05"},0.000246534540609996,{"$f":"VLOOKUP(A509,'[1]SD vs SY0.15'!$A$2:$E$20133,5,FALSE)","v":"NA"}]
["ENSGALG00000002775",2186.73589409617,1.01562314348654,0.322508059987614,3.1491403455949,1.63751532871479E-3,0.0063003936756725,{"$f":"VLOOKUP(A510,'[1]SD vs SY0.15'!$A$2:$E$20133,5,FALSE)","v":"FA2H"}]
["ENSGALG00000044151",39.0599115649214,1.01503248220273,0.355572210060779,2.85464514234458,0.00430849396290889,0.0144435277300645,{"$f":"VLOOKUP(A511,'[1]SD vs SY0.15'!$A$2:$E$20133,5,FALSE)","v":"MORN5"}]
["ENSGALG00000027188",3219.46607254782,1.01360894700491,0.136449746796273,7.4284413918208,{"v":1.0988474943762E-13,"d":"1.10E-13"},{"v":3.27151736039708e-12,"d":"3.27E-12"},{"$f":"VLOOKUP(A512,'[1]SD vs SY0.15'!$A$2:$E$20133,5,FALSE)","v":"SREBF1"}]
["ENSGALG00000045846",898.931160675028,1.01360724538218,0.256497651852976,3.95172134348887,{"v":7.75910591796171e-05,"d":"7.76E-05"},4.26517782471072E-4,{"$f":"VLOOKUP(A513,'[1]SD vs SY0.15'!$A$2:$E$20133,5,FALSE)","v":"PDK2"}]
["ENSGALG00000043628",935.699849213279,1.01300486576021,0.205541383462608,4.92847157440922,{"v":8.28753891664025e-07,"d":"8.29E-07"},{"v":7.03591011443477E-6,"d":"7.04E-06"},{"$f":"VLOOKUP(A514,'[1]SD vs SY0.15'!$A$2:$E$20133,5,FALSE)","v":"UBE2M"}]
["ENSGALG00000005087",590.500656139215,1.01196938805325,0.366070403465503,2.76441192315241,0.00570254998943383,0.0183238286206405,{"$f":"VLOOKUP(A515,'[1]SD vs SY0.15'!$A$2:$E$20133,5,FALSE)","v":"FAM83G"}]
["ENSGALG00000055069",325.607584717324,1.01124527630107,0.132246450064852,7.64667237423135,{"v":2.06246925693407e-14,"d":"2.06E-14"},{"v":6.8305053276786e-13,"d":"6.83E-13"},{"$f":"VLOOKUP(A516,'[1]SD vs SY0.15'!$A$2:$E$20133,5,FALSE)","v":"NA"}]
["ENSGALG00000046830",247.090072919896,1.01031795167688,0.18216579342319,5.5461452597185,{"v":2.92036235066883E-8,"d":"2.92E-08"},{"v":3.33396849580295e-07,"d":"3.33E-07"},{"$f":"VLOOKUP(A517,'[1]SD vs SY0.15'!$A$2:$E$20133,5,FALSE)","v":"NA"}]
["ENSGALG00000004469",192.643041828851,1.01007826429943,0.186912365691145,5.40402054494611,{"v":6.51634757542839E-8,"d":"6.52E-08"},{"v":6.96372066957427e-07,"d":"6.96E-07"},{"$f":"VLOOKUP(A518,'[1]SD vs SY0.15'!$A$2:$E$20133,5,FALSE)","v":"TP53RK"}]
["ENSGALG00000051984",2099.43118966332,1.00982427351803,0.194853892125043,5.18246909263683,{"v":2.18967659980534e-07,"d":"2.19E-07"},{"v":2.09878208604275e-06,"d":"2.10E-06"},{"$f":"VLOOKUP(A519,'[1]SD vs SY0.15'!$A$2:$E$20133,5,FALSE)","v":"NA"}]
["ENSGALG00000027695",113.45004555329,1.00967100481069,0.20119021561049,5.01848960073405,{"v":5.20793120228771e-07,"d":"5.21E-07"},{"v":4.61520386412724e-06,"d":"4.62E-06"},{"$f":"VLOOKUP(A520,'[1]SD vs SY0.15'!$A$2:$E$20133,5,FALSE)","v":"PCBP4"}]
["ENSGALG00000054306",557.537390084082,1.00961531397391,0.160183863182122,6.30285282123595,{"v":2.92216353006606e-10,"d":"2.92E-10"},{"v":4.88535166319794e-09,"d":"4.89E-09"},{"$f":"VLOOKUP(A521,'[1]SD vs SY0.15'!$A$2:$E$20133,5,FALSE)","v":"SRXN1"}]
["ENSGALG00000046413",452.839412821301,1.00892779543996,0.251099888071241,4.01803363270998,{"v":5.86858223668533e-05,"d":"5.87E-05"},0.000332476504885134,{"$f":"VLOOKUP(A522,'[1]SD vs SY0.15'!$A$2:$E$20133,5,FALSE)","v":"PRR15L"}]
["ENSGALG00000049229",856.890414082517,1.00827270914933,0.172740886202993,5.83690828102203,{"v":5.3178349931142e-09,"d":"5.32E-09"},{"v":7.00463613827853e-08,"d":"7.00E-08"},{"$f":"VLOOKUP(A523,'[1]SD vs SY0.15'!$A$2:$E$20133,5,FALSE)","v":"NA"}]
["ENSGALG00000047208",579.536831165281,1.00825523253545,0.210528239659135,4.78916858929666,{"v":1.6747373808635E-6,"d":"1.67E-06"},{"v":1.34187367931215E-5,"d":"1.34E-05"},{"$f":"VLOOKUP(A524,'[1]SD vs SY0.15'!$A$2:$E$20133,5,FALSE)","v":"KLF-4"}]
["ENSGALG00000050943",421.50135385676,1.00783851172674,0.194765317117964,5.174630301946,{"v":2.28362695316963e-07,"d":"2.28E-07"},{"v":2.17444807419279e-06,"d":"2.17E-06"},{"$f":"VLOOKUP(A525,'[1]SD vs SY0.15'!$A$2:$E$20133,5,FALSE)","v":"RNF19B"}]
["ENSGALG00000033807",749.266924578133,1.00780629615205,0.159549900931019,6.31655858305907,{"v":2.67452091663575e-10,"d":"2.67E-10"},{"v":4.49293673213003e-09,"d":"4.49E-09"},{"$f":"VLOOKUP(A526,'[1]SD vs SY0.15'!$A$2:$E$20133,5,FALSE)","v":"TYSND1"}]
["ENSGALG00000050204",282.53655275163,1.00701177367538,0.145291144473268,6.93099209402031,{"v":4.17899409160614E-12,"d":"4.18E-12"},{"v":9.32736460471835e-11,"d":"9.33E-11"},{"$f":"VLOOKUP(A527,'[1]SD vs SY0.15'!$A$2:$E$20133,5,FALSE)","v":"MRPL4"}]
["ENSGALG00000003466",741.639654530333,1.0067521744262,0.383751957417403,2.62344505341811,0.00870454842423163,0.0261527533181468,{"$f":"VLOOKUP(A528,'[1]SD vs SY0.15'!$A$2:$E$20133,5,FALSE)","v":"AKR1B1L,AKR1B1L"}]
["ENSGALG00000028119",3655.66847769216,1.00670803271128,0.108567455123487,9.27265018385322,{"v":1.81577150433451E-20,"d":"1.82E-20"},{"v":1.23323512288532E-18,"d":"1.23E-18"},{"$f":"VLOOKUP(A529,'[1]SD vs SY0.15'!$A$2:$E$20133,5,FALSE)","v":"CDC42SE1"}]
["ENSGALG00000035153",28.8465019907493,1.00651398092561,0.412619818478698,2.43932534466367,0.0147147137648299,0.0406953785139089,{"$f":"VLOOKUP(A530,'[1]SD vs SY0.15'!$A$2:$E$20133,5,FALSE)","v":"STX3"}]
["ENSGALG00000016287",57.2872117440017,1.00627208651557,0.358806812236017,2.80449548949384,0.00503953927287628,0.0164765831774163,{"$f":"VLOOKUP(A531,'[1]SD vs SY0.15'!$A$2:$E$20133,5,FALSE)","v":"NR0B1"}]
["ENSGALG00000052986",179.701890497234,1.00605537741562,0.169980011685926,5.91866871544003,{"v":3.2455795921483E-9,"d":"3.25E-09"},{"v":4.48219955271504e-08,"d":"4.48E-08"},{"$f":"VLOOKUP(A532,'[1]SD vs SY0.15'!$A$2:$E$20133,5,FALSE)","v":"NA"}]
["ENSGALG00000052816",266.957421177093,1.00504803570311,0.272588222606248,3.68705597803798,2.26863466228985E-4,0.00110955698658885,{"$f":"VLOOKUP(A533,'[1]SD vs SY0.15'!$A$2:$E$20133,5,FALSE)","v":"CCNQ"}]
["ENSGALG00000050586",1817.80132791803,1.00375592213269,0.23885785767623,4.20231484908181,{"v":2.64199319340329E-5,"d":"2.64E-05"},0.000161747660752475,{"$f":"VLOOKUP(A534,'[1]SD vs SY0.15'!$A$2:$E$20133,5,FALSE)","v":"ILVBL"}]
["ENSGALG00000021685",626.150686976601,1.00277756094772,0.302133218961328,3.31899141840499,0.000903432057481352,0.00376238878644989,{"$f":"VLOOKUP(A535,'[1]SD vs SY0.15'!$A$2:$E$20133,5,FALSE)","v":"SERINC2"}]
["ENSGALG00000003932",4215.11424972701,1.00196410956713,0.217050406847055,4.61627381455757,{"v":3.90691399417878e-06,"d":"3.91E-06"},{"v":2.88448040835611e-05,"d":"2.88E-05"},{"$f":"VLOOKUP(A536,'[1]SD vs SY0.15'!$A$2:$E$20133,5,FALSE)","v":"SDC4"}]
["ENSGALG00000024031",770.172981886722,1.00115055678422,0.239900900177631,4.17318382733425,{"v":3.00372394142926e-05,"d":"3.00E-05"},0.000181213560616345,{"$f":"VLOOKUP(A537,'[1]SD vs SY0.15'!$A$2:$E$20133,5,FALSE)","v":"CYB561"}]
["ENSGALG00000050400",1818.13773018491,1.00065536804082,0.0879724066618178,11.3746503706273,{"v":5.59265212642262e-30,"d":"5.59E-30"},{"v":9.92239209409287e-28,"d":"9.92E-28"},{"$f":"VLOOKUP(A538,'[1]SD vs SY0.15'!$A$2:$E$20133,5,FALSE)","v":"KRT8"}]
["ENSGALG00000031529",2331.57477028745,1.0006512004646,0.196844288818421,5.08346575087912,{"v":3.70609430871002e-07,"d":"3.71E-07"},{"v":3.38256492102578E-6,"d":"3.38E-06"},{"$f":"VLOOKUP(A539,'[1]SD vs SY0.15'!$A$2:$E$20133,5,FALSE)","v":"ERBB2"}]
["ENSGALG00000049586",44.2677420215032,-1.00028177954594,0.398169858420219,-2.5121986468656,0.0119981529703824,0.0342773390890633,{"$f":"VLOOKUP(A540,'[1]SD vs SY0.15'!$A$2:$E$20133,5,FALSE)","v":"NA"}]
["ENSGALG00000005030",1757.5056090916,-1.00052459671948,0.180062623537069,-5.55653681516809,{"v":2.75179702077086e-08,"d":"2.75E-08"},{"v":3.17488353020192e-07,"d":"3.17E-07"},{"$f":"VLOOKUP(A541,'[1]SD vs SY0.15'!$A$2:$E$20133,5,FALSE)","v":"DOCK10"}]
["ENSGALG00000015077",333.173540387606,-1.00098344020564,0.239761224628183,-4.17491794913019,{"v":2.98093473829499e-05,"d":"2.98E-05"},1.80026093416933E-4,{"$f":"VLOOKUP(A542,'[1]SD vs SY0.15'!$A$2:$E$20133,5,FALSE)","v":"NA"}]
["ENSGALG00000017122",216.646145073562,-1.00161106045574,0.216112746508356,-4.63466906343264,{"v":3.57508951830285E-6,"d":"3.58E-06"},{"v":2.65754944227155e-05,"d":"2.66E-05"},{"$f":"VLOOKUP(A543,'[1]SD vs SY0.15'!$A$2:$E$20133,5,FALSE)","v":"SGCG"}]
["ENSGALG00000003160",231.668229187833,-1.00161467284784,0.244202156463047,-4.10157996700329,{"v":4.1033864602718e-05,"d":"4.10E-05"},0.000240788323944468,{"$f":"VLOOKUP(A544,'[1]SD vs SY0.15'!$A$2:$E$20133,5,FALSE)","v":"CERS1"}]
["ENSGALG00000003164",11.8394067225329,-1.00171547423593,0.425369234560992,-2.35493165195589,0.0185261128923617,0.0492528325473231,{"$f":"VLOOKUP(A545,'[1]SD vs SY0.15'!$A$2:$E$20133,5,FALSE)","v":"NA"}]
["ENSGALG00000009948",837.920576901382,-1.00332335084397,0.288626936558762,-3.47619443564895,0.000508583417892299,0.00226041408151672,{"$f":"VLOOKUP(A546,'[1]SD vs SY0.15'!$A$2:$E$20133,5,FALSE)","v":"HHIP"}]
["ENSGALG00000030613",421.013337194382,-1.00337408392117,0.245546093743236,-4.08629625755882,{"v":4.38314038773455e-05,"d":"4.38E-05"},0.00025522324823021,{"$f":"VLOOKUP(A547,'[1]SD vs SY0.15'!$A$2:$E$20133,5,FALSE)","v":"PDGFRB"}]
["ENSGALG00000014103",1873.52999284314,-1.00471374263709,0.139158443111486,-7.21992658276703,{"v":5.20156489458217e-13,"d":"5.20E-13"},{"v":1.37510170870246e-11,"d":"1.38E-11"},{"$f":"VLOOKUP(A548,'[1]SD vs SY0.15'!$A$2:$E$20133,5,FALSE)","v":"FRYL"}]
["ENSGALG00000006480",197.475060003308,-1.00597676749524,0.260056598221977,-3.86829934088641,1.09597071864651E-4,0.000581851691148302,{"$f":"VLOOKUP(A549,'[1]SD vs SY0.15'!$A$2:$E$20133,5,FALSE)","v":"TCF7,TCF7"}]
["ENSGALG00000002145",524.534598465841,-1.00636985466731,0.150890413969869,-6.66954134586885,{"v":2.56604084493506e-11,"d":"2.57E-11"},{"v":5.03563794253791e-10,"d":"5.04E-10"},{"$f":"VLOOKUP(A550,'[1]SD vs SY0.15'!$A$2:$E$20133,5,FALSE)","v":"CAMSAP2"}]
["ENSGALG00000004587",708.339310439256,-1.0080746577051,0.163806159222824,-6.15407053365939,{"v":7.55190711149525e-10,"d":"7.55E-10"},{"v":1.16096382800679E-8,"d":"1.16E-08"},{"$f":"VLOOKUP(A551,'[1]SD vs SY0.15'!$A$2:$E$20133,5,FALSE)","v":"RC3H1"}]
["ENSGALG00000003294",318.242567155837,-1.00841496342364,0.180007635643255,-5.60206771129504,{"v":2.11809777837058e-08,"d":"2.12E-08"},{"v":2.49677058118843e-07,"d":"2.50E-07"},{"$f":"VLOOKUP(A552,'[1]SD vs SY0.15'!$A$2:$E$20133,5,FALSE)","v":"ATAD5"}]
["ENSGALG00000015377",870.21126218155,-1.00890411356719,0.206412108642571,-4.88781457736204,{"v":1.01961492625647E-6,"d":"1.02E-06"},{"v":8.53130159904772e-06,"d":"8.53E-06"},{"$f":"VLOOKUP(A553,'[1]SD vs SY0.15'!$A$2:$E$20133,5,FALSE)","v":"PHLDB2"}]
["ENSGALG00000015181",183.918862472416,-1.00929173123521,0.169430773627715,-5.95695639950804,{"v":2.56978765513351e-09,"d":"2.57E-09"},{"v":3.60620645357598e-08,"d":"3.61E-08"},{"$f":"VLOOKUP(A554,'[1]SD vs SY0.15'!$A$2:$E$20133,5,FALSE)","v":"GAREM1"}]
["ENSGALG00000000234",38.3167922388459,-1.00937820141873,0.395582204855005,-2.55162691605074,0.0107221264796337,0.0311333074565017,{"$f":"VLOOKUP(A555,'[1]SD vs SY0.15'!$A$2:$E$20133,5,FALSE)","v":"EPB41L4A"}]
["ENSGALG00000012207",459.109417403919,-1.00972957195942,0.11659003644687,-8.66051339146424,{"v":4.69644261306476e-18,"d":"4.70E-18"},{"v":2.51252454502637E-16,"d":"2.51E-16"},{"$f":"VLOOKUP(A556,'[1]SD vs SY0.15'!$A$2:$E$20133,5,FALSE)","v":"CCNT2"}]
["ENSGALG00000016017",110.286059090394,-1.01113122982097,0.198064110266396,-5.10507041614454,{"v":3.30671359556924e-07,"d":"3.31E-07"},{"v":3.05007051915981e-06,"d":"3.05E-06"},{"$f":"VLOOKUP(A557,'[1]SD vs SY0.15'!$A$2:$E$20133,5,FALSE)","v":"SLC4A11"}]
["ENSGALG00000037223",157.950841726556,-1.01121634763943,0.283477510021569,-3.56718368085881,0.000360838555771915,0.00167572114562134,{"$f":"VLOOKUP(A558,'[1]SD vs SY0.15'!$A$2:$E$20133,5,FALSE)","v":"GPR35"}]
["ENSGALG00000020986",60.5059296100418,-1.01192910273383,0.356417542057862,-2.83916750250624,0.00452314066471758,0.0150572174492523,{"$f":"VLOOKUP(A559,'[1]SD vs SY0.15'!$A$2:$E$20133,5,FALSE)","v":"LOC112532977"}]
["ENSGALG00000004059",59.8865601566094,-1.01200904885248,0.233879797443288,-4.32704773954611,{"v":1.51121216875759E-5,"d":"1.51E-05"},{"v":9.72084571890056e-05,"d":"9.72E-05"},{"$f":"VLOOKUP(A560,'[1]SD vs SY0.15'!$A$2:$E$20133,5,FALSE)","v":"LRRC49"}]
["ENSGALG00000016284",653.756968330523,-1.01229333378423,0.100344756123227,-10.0881538098623,{"v":6.23307519414894e-24,"d":"6.23E-24"},{"v":6.22841829888894e-22,"d":"6.23E-22"},{"$f":"VLOOKUP(A561,'[1]SD vs SY0.15'!$A$2:$E$20133,5,FALSE)","v":"TAB3"}]
["ENSGALG00000039528",235.971601637447,-1.01229554419247,0.151086558560567,-6.70010326422696,{"v":2.08272308480736E-11,"d":"2.08E-11"},{"v":4.1815596161138e-10,"d":"4.18E-10"},{"$f":"VLOOKUP(A562,'[1]SD vs SY0.15'!$A$2:$E$20133,5,FALSE)","v":"PLCE1"}]
["ENSGALG00000005065",417.09926005317,-1.01339188760174,0.198854567223629,-5.09614590074815,{"v":3.46638014138281e-07,"d":"3.47E-07"},{"v":3.18383262114226E-6,"d":"3.18E-06"},{"$f":"VLOOKUP(A563,'[1]SD vs SY0.15'!$A$2:$E$20133,5,FALSE)","v":"PLA2G4A"}]
["ENSGALG00000040478",315.601829727972,-1.01388131629003,0.229157858375381,-4.42437943641976,{"v":9.67198989265763e-06,"d":"9.67E-06"},{"v":6.51557102919946e-05,"d":"6.52E-05"},{"$f":"VLOOKUP(A564,'[1]SD vs SY0.15'!$A$2:$E$20133,5,FALSE)","v":"CAPN5"}]
["ENSGALG00000006068",997.945207763304,-1.0143731568285,0.138407436589534,-7.32889201493386,{"v":2.32063272376057e-13,"d":"2.32E-13"},{"v":6.50787760774598e-12,"d":"6.51E-12"},{"$f":"VLOOKUP(A565,'[1]SD vs SY0.15'!$A$2:$E$20133,5,FALSE)","v":"TNRC6A"}]
["ENSGALG00000014881",72.6190172855264,-1.01476779833154,0.279517466616593,-3.63042714508956,0.000282952566822425,0.00134897073741198,{"$f":"VLOOKUP(A566,'[1]SD vs SY0.15'!$A$2:$E$20133,5,FALSE)","v":"FAM184A"}]
["ENSGALG00000002854",132.593929548523,-1.01538458914394,0.262983176417691,-3.86102488750542,1.12912400312065E-4,0.000596538409062862,{"$f":"VLOOKUP(A567,'[1]SD vs SY0.15'!$A$2:$E$20133,5,FALSE)","v":"PDZD2"}]
["ENSGALG00000009514",51.8964141008352,-1.01547245651495,0.40485638004714,-2.50822885981619,0.0121338050428236,0.0345999556207297,{"$f":"VLOOKUP(A568,'[1]SD vs SY0.15'!$A$2:$E$20133,5,FALSE)","v":"NRCAM"}]
["ENSGALG00000009081",236.193998669836,-1.01604246051494,0.177520933319089,-5.72350787886315,{"v":1.04346726049663E-8,"d":"1.04E-08"},{"v":1.29797973347031E-7,"d":"1.30E-07"},{"$f":"VLOOKUP(A569,'[1]SD vs SY0.15'!$A$2:$E$20133,5,FALSE)","v":"ZNF106"}]
["ENSGALG00000019509",17.4898111903039,-1.01628754560724,0.415890955638979,-2.44363944882091,0.0145399492709668,0.0402878243783745,{"$f":"VLOOKUP(A570,'[1]SD vs SY0.15'!$A$2:$E$20133,5,FALSE)","v":"CCDC102B"}]
["ENSGALG00000007599",116.679093119026,-1.01747985998235,0.186257153277673,-5.46276930618332,{"v":4.68763614385581E-8,"d":"4.69E-08"},{"v":5.18143227166058e-07,"d":"5.18E-07"},{"$f":"VLOOKUP(A571,'[1]SD vs SY0.15'!$A$2:$E$20133,5,FALSE)","v":"AMER1"}]
["ENSGALG00000032042",110.808842361278,-1.01861079188641,0.260115304886428,-3.91599714723114,{"v":9.00313122922647e-05,"d":"9.00E-05"},0.000487351938613203,{"$f":"VLOOKUP(A572,'[1]SD vs SY0.15'!$A$2:$E$20133,5,FALSE)","v":"NA"}]
["ENSGALG00000039139",1294.70117734634,-1.01873821926969,0.145177791020861,-7.01717674656797,{"v":2.26396150091346e-12,"d":"2.26E-12"},{"v":5.23450779473168e-11,"d":"5.23E-11"},{"$f":"VLOOKUP(A573,'[1]SD vs SY0.15'!$A$2:$E$20133,5,FALSE)","v":"TNS3"}]
["ENSGALG00000008139",45.0700897784951,-1.01888525140461,0.295433551168343,-3.44877975901941,0.000563125800926845,0.00247624387979642,{"$f":"VLOOKUP(A574,'[1]SD vs SY0.15'!$A$2:$E$20133,5,FALSE)","v":"EML6"}]
["ENSGALG00000037682",264.147909837506,-1.02090981276758,0.18302081113277,-5.57810779249022,{"v":2.43148973608704E-8,"d":"2.43E-08"},{"v":2.83163509988918e-07,"d":"2.83E-07"},{"$f":"VLOOKUP(A575,'[1]SD vs SY0.15'!$A$2:$E$20133,5,FALSE)","v":"CCSER2"}]
["ENSGALG00000014614",611.270862883792,-1.02098496486821,0.124930164502489,-8.17244553334326,{"v":3.02200144323572e-16,"d":"3.02E-16"},{"v":1.29737133564295E-14,"d":"1.30E-14"},{"$f":"VLOOKUP(A576,'[1]SD vs SY0.15'!$A$2:$E$20133,5,FALSE)","v":"TNKS2"}]
["ENSGALG00000009172",150.497717580322,-1.0215174449504,0.196689723812533,-5.19354760965562,{"v":2.06324147536538E-7,"d":"2.06E-07"},{"v":1.9863554558238e-06,"d":"1.99E-06"},{"$f":"VLOOKUP(A577,'[1]SD vs SY0.15'!$A$2:$E$20133,5,FALSE)","v":"OSBPL6"}]
["ENSGALG00000041491",224.478485900516,-1.02182508558764,0.363899077300502,-2.80799031744683,0.00498517256623122,0.0163326164328363,{"$f":"VLOOKUP(A578,'[1]SD vs SY0.15'!$A$2:$E$20133,5,FALSE)","v":"ACKR4"}]
["ENSGALG00000004597",214.045628372356,-1.02218431636088,0.424406449136378,-2.40850326011992,0.0160180832253484,0.0436872804767265,{"$f":"VLOOKUP(A579,'[1]SD vs SY0.15'!$A$2:$E$20133,5,FALSE)","v":"ZBTB37"}]
["ENSGALG00000012030",699.672693519682,-1.02221591631761,0.0994317560500235,-10.280577925259,{"v":8.62091009512345e-25,"d":"8.62E-25"},{"v":9.31004744247897E-23,"d":"9.31E-23"},{"$f":"VLOOKUP(A580,'[1]SD vs SY0.15'!$A$2:$E$20133,5,FALSE)","v":"QSER1"}]
["ENSGALG00000016541",81.7700633383673,-1.02344634247056,0.195288680037701,-5.24068441792421,{"v":1.59982112387407E-7,"d":"1.60E-07"},{"v":1.57866571400672e-06,"d":"1.58E-06"},{"$f":"VLOOKUP(A581,'[1]SD vs SY0.15'!$A$2:$E$20133,5,FALSE)","v":"BEND2"}]
["ENSGALG00000035412",29.3970306289254,-1.02469677057728,0.265702362710928,-3.85655874536617,1.14994471806913E-4,0.00060606513528548,{"$f":"VLOOKUP(A582,'[1]SD vs SY0.15'!$A$2:$E$20133,5,FALSE)","v":"NA"}]
["ENSGALG00000009895",24.3056405483044,-1.02507324661336,0.415796589487144,-2.46532384471386,0.0136889466537995,0.0383577301320889,{"$f":"VLOOKUP(A583,'[1]SD vs SY0.15'!$A$2:$E$20133,5,FALSE)","v":"GRIP1"}]
["ENSGALG00000015386",59.7197550099341,-1.02512143309239,0.195557351857877,-5.24205008583572,{"v":1.58802247948791E-7,"d":"1.59E-07"},{"v":1.56969567088438e-06,"d":"1.57E-06"},{"$f":"VLOOKUP(A584,'[1]SD vs SY0.15'!$A$2:$E$20133,5,FALSE)","v":"RNF170"}]
["ENSGALG00000014464",564.466400913478,-1.02518624315925,0.143500425569673,-7.14413381764851,{"v":9.05651417234463e-13,"d":"9.06E-13"},{"v":2.27551462304272e-11,"d":"2.28E-11"},{"$f":"VLOOKUP(A585,'[1]SD vs SY0.15'!$A$2:$E$20133,5,FALSE)","v":"MTR"}]
["ENSGALG00000051335",209.804657782098,-1.02553383795518,0.149573725266238,-6.85637692134597,{"v":7.06288758584049e-12,"d":"7.06E-12"},{"v":1.52739336386827e-10,"d":"1.53E-10"},{"$f":"VLOOKUP(A586,'[1]SD vs SY0.15'!$A$2:$E$20133,5,FALSE)","v":"INO80C"}]
["ENSGALG00000039815",799.635228231019,-1.02575258233304,0.0879958702334155,-11.6568263898312,{"v":2.1179003625699E-31,"d":"2.12E-31"},{"v":4.09154817822255E-29,"d":"4.09E-29"},{"$f":"VLOOKUP(A587,'[1]SD vs SY0.15'!$A$2:$E$20133,5,FALSE)","v":"MARF1"}]
["ENSGALG00000016191",214.13521519937,-1.02591984406264,0.19207277152561,-5.34130806732202,{"v":9.22782833517403E-8,"d":"9.23E-08"},{"v":9.57876126947289e-07,"d":"9.58E-07"},{"$f":"VLOOKUP(A588,'[1]SD vs SY0.15'!$A$2:$E$20133,5,FALSE)","v":"PKNOX1"}]
["ENSGALG00000004255",198.450877528541,-1.02609858274534,0.133620559046472,-7.67919689954656,{"v":1.60089014288921e-14,"d":"1.60E-14"},{"v":5.42586294627968E-13,"d":"5.43E-13"},{"$f":"VLOOKUP(A589,'[1]SD vs SY0.15'!$A$2:$E$20133,5,FALSE)","v":"SNX8"}]
["ENSGALG00000039458",227.330108831753,-1.02733272834377,0.372313813137504,-2.7593194023246,0.00579218922111692,0.0185775307115956,{"$f":"VLOOKUP(A590,'[1]SD vs SY0.15'!$A$2:$E$20133,5,FALSE)","v":"GDF8,GDF8"}]
["ENSGALG00000009805",113.312986340423,-1.02737136266632,0.200221690200355,-5.13116916373178,{"v":2.87947976692909E-7,"d":"2.88E-07"},{"v":2.69604279523942e-06,"d":"2.70E-06"},{"$f":"VLOOKUP(A591,'[1]SD vs SY0.15'!$A$2:$E$20133,5,FALSE)","v":"PPM1H"}]
["ENSGALG00000013372",1662.16679665124,-1.02792410805805,0.177660394654288,-5.78589341793541,{"v":7.21279379559124e-09,"d":"7.21E-09"},{"v":9.28266807727201e-08,"d":"9.28E-08"},{"$f":"VLOOKUP(A592,'[1]SD vs SY0.15'!$A$2:$E$20133,5,FALSE)","v":"IL7R"}]
["ENSGALG00000033089",38.6088811702318,-1.02867738059706,0.332360302800789,-3.09506692564793,0.00196768492406497,0.00738125949832097,{"$f":"VLOOKUP(A593,'[1]SD vs SY0.15'!$A$2:$E$20133,5,FALSE)","v":"LOC414835"}]
["ENSGALG00000031340",86.6646992881153,-1.02870922665062,0.32575707274428,-3.15790296733834,1.58908441756384E-3,0.00613577854056904,{"$f":"VLOOKUP(A594,'[1]SD vs SY0.15'!$A$2:$E$20133,5,FALSE)","v":"E2F7"}]
["ENSGALG00000003641",1275.35993139786,-1.02873392642922,0.0751936056005017,-13.6811357590007,{"v":1.31620645691942E-42,"d":"1.32E-42"},{"v":6.18510315309676E-40,"d":"6.19E-40"},{"$f":"VLOOKUP(A595,'[1]SD vs SY0.15'!$A$2:$E$20133,5,FALSE)","v":"KAT6A"}]
["ENSGALG00000006695",306.120501121911,-1.02878566232237,0.143013775798424,-7.19361233964228,{"v":6.30991891273668e-13,"d":"6.31E-13"},{"v":1.64483598404427e-11,"d":"1.64E-11"},{"$f":"VLOOKUP(A596,'[1]SD vs SY0.15'!$A$2:$E$20133,5,FALSE)","v":"BCR"}]
["ENSGALG00000013803",391.58776275295,-1.02922132205685,0.198811737434972,-5.17686397863449,{"v":2.25646602717108e-07,"d":"2.26E-07"},{"v":2.15448516279097E-6,"d":"2.15E-06"},{"$f":"VLOOKUP(A597,'[1]SD vs SY0.15'!$A$2:$E$20133,5,FALSE)","v":"ADGRG6"}]
["ENSGALG00000011266",401.114969388569,-1.02935673946719,0.184153435532884,-5.58966894366399,{"v":2.27502928827618e-08,"d":"2.28E-08"},{"v":2.66369927510155E-7,"d":"2.66E-07"},{"$f":"VLOOKUP(A598,'[1]SD vs SY0.15'!$A$2:$E$20133,5,FALSE)","v":"PPM1K"}]
["ENSGALG00000007912",217.058717894761,-1.0295632709824,0.243518856350521,-4.22785851745479,{"v":2.35926061693419e-05,"d":"2.36E-05"},0.000146084274738728,{"$f":"VLOOKUP(A599,'[1]SD vs SY0.15'!$A$2:$E$20133,5,FALSE)","v":"ATP9A"}]
["ENSGALG00000026154",291.406179495092,-1.0297281976849,0.237992278022161,-4.32672944787318,{"v":1.51339661995739E-5,"d":"1.51E-05"},{"v":9.73078277863523e-05,"d":"9.73E-05"},{"$f":"VLOOKUP(A600,'[1]SD vs SY0.15'!$A$2:$E$20133,5,FALSE)","v":"CARD19"}]
["ENSGALG00000006840",928.282837919412,-1.02999212740654,0.158738876486402,-6.48859403697979,{"v":8.66410727293094E-11,"d":"8.66E-11"},{"v":1.57247216236378E-9,"d":"1.57E-09"},{"$f":"VLOOKUP(A601,'[1]SD vs SY0.15'!$A$2:$E$20133,5,FALSE)","v":"AKAP13"}]
["ENSGALG00000017153",1314.55001084596,-1.03054663043157,0.199365131565849,-5.16914177688684,{"v":2.35171444849362E-7,"d":"2.35E-07"},{"v":2.23316543506055e-06,"d":"2.23E-06"},{"$f":"VLOOKUP(A602,'[1]SD vs SY0.15'!$A$2:$E$20133,5,FALSE)","v":"RDX"}]
["ENSGALG00000002113",1144.98099213139,-1.03171487608046,0.202480935591828,-5.09536798150839,{"v":3.48064505545824E-7,"d":"3.48E-07"},{"v":3.19356071658325E-6,"d":"3.19E-06"},{"$f":"VLOOKUP(A603,'[1]SD vs SY0.15'!$A$2:$E$20133,5,FALSE)","v":"LCP2"}]
["ENSGALG00000008425",381.835965012289,-1.03271565865625,0.139683252034451,-7.39326757943423,{"v":1.43263763836621e-13,"d":"1.43E-13"},{"v":4.19347990206621e-12,"d":"4.19E-12"},{"$f":"VLOOKUP(A604,'[1]SD vs SY0.15'!$A$2:$E$20133,5,FALSE)","v":"MAP1A"}]
["ENSGALG00000011541",551.8900068745,-1.03272582721791,0.198322603809867,-5.2073026845089,{"v":1.91605407782734e-07,"d":"1.92E-07"},{"v":1.85906429973125E-6,"d":"1.86E-06"},{"$f":"VLOOKUP(A605,'[1]SD vs SY0.15'!$A$2:$E$20133,5,FALSE)","v":"BIN1"}]
["ENSGALG00000008850",190.812386325765,-1.03292793208975,0.172709689029167,-5.98071791974168,{"v":2.22156297661623e-09,"d":"2.22E-09"},{"v":3.16117986848669e-08,"d":"3.16E-08"},{"$f":"VLOOKUP(A606,'[1]SD vs SY0.15'!$A$2:$E$20133,5,FALSE)","v":"TTLL7"}]
["ENSGALG00000003378",159.458128231943,-1.03302397285129,0.15912027055796,-6.49209537684266,{"v":8.46506361587247e-11,"d":"8.47E-11"},{"v":1.53956130846417e-09,"d":"1.54E-09"},{"$f":"VLOOKUP(A607,'[1]SD vs SY0.15'!$A$2:$E$20133,5,FALSE)","v":"NA"}]
["ENSGALG00000002419",93.2876050097957,-1.03409281210086,0.179967397680051,-5.74600080587534,{"v":9.13788709070801e-09,"d":"9.14E-09"},{"v":1.15047388013135E-7,"d":"1.15E-07"},{"$f":"VLOOKUP(A608,'[1]SD vs SY0.15'!$A$2:$E$20133,5,FALSE)","v":"KIAA1328"}]
["ENSGALG00000047652",21.1174570029696,-1.03482549622023,0.370853810110824,-2.79038658362708,0.00526451411473064,0.0171155772088298,{"$f":"VLOOKUP(A609,'[1]SD vs SY0.15'!$A$2:$E$20133,5,FALSE)","v":"NA"}]
["ENSGALG00000007157",21.318986339047,-1.03545554236137,0.349873464603249,-2.95951435909997,0.00308124342267155,0.0108334296890142,{"$f":"VLOOKUP(A610,'[1]SD vs SY0.15'!$A$2:$E$20133,5,FALSE)","v":"TENT5D"}]
["ENSGALG00000001714",198.778198868511,-1.0356287959985,0.193937341965954,-5.34001747935836,{"v":9.29376204049914e-08,"d":"9.29E-08"},{"v":9.63569711378405e-07,"d":"9.64E-07"},{"$f":"VLOOKUP(A611,'[1]SD vs SY0.15'!$A$2:$E$20133,5,FALSE)","v":"PUSL1"}]
["ENSGALG00000033660",574.585615287809,-1.0356745960389,0.158546175821477,-6.53232151877994,{"v":6.47579479158841e-11,"d":"6.48E-11"},{"v":1.2093946728394E-9,"d":"1.21E-09"},{"$f":"VLOOKUP(A612,'[1]SD vs SY0.15'!$A$2:$E$20133,5,FALSE)","v":"PRDM10"}]
["ENSGALG00000041731",274.018574092549,-1.03602708211276,0.155068123300479,-6.68110930900497,{"v":2.37140255725519E-11,"d":"2.37E-11"},{"v":4.70680094326438e-10,"d":"4.71E-10"},{"$f":"VLOOKUP(A613,'[1]SD vs SY0.15'!$A$2:$E$20133,5,FALSE)","v":"CAPN7"}]
["ENSGALG00000038634",410.292731792967,-1.03666934267593,0.220728225452131,-4.69658712904729,{"v":2.64544418762399e-06,"d":"2.65E-06"},{"v":2.02537816337377e-05,"d":"2.03E-05"},{"$f":"VLOOKUP(A614,'[1]SD vs SY0.15'!$A$2:$E$20133,5,FALSE)","v":"KIT"}]
["ENSGALG00000045350",65.4288085116153,-1.03899750767041,0.360064572282351,-2.88558660765896,0.00390684951408313,0.0132854278312856,{"$f":"VLOOKUP(A615,'[1]SD vs SY0.15'!$A$2:$E$20133,5,FALSE)","v":"KIAA1210"}]
["ENSGALG00000009875",53.1177232965264,-1.04088101394492,0.38183753038461,-2.72597880280778,0.00641111154665482,0.0203041887908356,{"$f":"VLOOKUP(A616,'[1]SD vs SY0.15'!$A$2:$E$20133,5,FALSE)","v":"HMGA2"}]
["ENSGALG00000012412",181.615892751281,-1.04106235911067,0.25931372656412,-4.01468280489674,{"v":5.95257930893416e-05,"d":"5.95E-05"},3.36358454483062E-4,{"$f":"VLOOKUP(A617,'[1]SD vs SY0.15'!$A$2:$E$20133,5,FALSE)","v":"MTHFD1L"}]
["ENSGALG00000005958",93.0489260407114,-1.04171532025551,0.299189977242501,-3.48178548578577,0.000498082528638938,0.00221884727784914,{"$f":"VLOOKUP(A618,'[1]SD vs SY0.15'!$A$2:$E$20133,5,FALSE)","v":"NA"}]
["ENSGALG00000043036",685.787998513629,-1.04217018217382,0.164055147028323,-6.35256010586427,{"v":2.11760639983779E-10,"d":"2.12E-10"},{"v":3.62389984980114e-09,"d":"3.62E-09"},{"$f":"VLOOKUP(A619,'[1]SD vs SY0.15'!$A$2:$E$20133,5,FALSE)","v":"VASH1"}]
["ENSGALG00000016868",29.6860453798676,-1.04225409159652,0.366304654348205,-2.84532036168387,0.00443667765512997,0.0148090832001814,{"$f":"VLOOKUP(A620,'[1]SD vs SY0.15'!$A$2:$E$20133,5,FALSE)","v":"NALCN"}]
["ENSGALG00000012208",173.950427083421,-1.04384350134024,0.22920942865514,-4.55410367481334,{"v":5.26094071896365e-06,"d":"5.26E-06"},{"v":3.75963733171479e-05,"d":"3.76E-05"},{"$f":"VLOOKUP(A621,'[1]SD vs SY0.15'!$A$2:$E$20133,5,FALSE)","v":"GMFB"}]
["ENSGALG00000008181",620.070133203878,-1.04478510116027,0.130311561783968,-8.01759327305373,{"v":1.07837191876749e-15,"d":"1.08E-15"},{"v":4.22289471883115e-14,"d":"4.22E-14"},{"$f":"VLOOKUP(A622,'[1]SD vs SY0.15'!$A$2:$E$20133,5,FALSE)","v":"MADD"}]
["ENSGALG00000013085",13.9932263985159,-1.04537998186051,0.43582035617589,-2.39864881721726,0.0164556882698029,0.0446566336736479,{"$f":"VLOOKUP(A623,'[1]SD vs SY0.15'!$A$2:$E$20133,5,FALSE)","v":"PTPRO"}]
["ENSGALG00000009556",294.113671926379,-1.04572501818516,0.271048457564464,-3.8580740417475,1.14284030238398E-4,0.000603229946887379,{"$f":"VLOOKUP(A624,'[1]SD vs SY0.15'!$A$2:$E$20133,5,FALSE)","v":"PRICKLE1"}]
["ENSGALG00000002080",1162.07620474931,-1.04613599484659,0.247686511082714,-4.22362925729629,{"v":2.40399391058739e-05,"d":"2.40E-05"},0.000148325912432161,{"$f":"VLOOKUP(A625,'[1]SD vs SY0.15'!$A$2:$E$20133,5,FALSE)","v":"DOCK2"}]
["ENSGALG00000020895",132.810232659029,-1.04622706224324,0.391361579303417,-2.67330038913226,0.00751089608121925,0.0231258987363484,{"$f":"VLOOKUP(A626,'[1]SD vs SY0.15'!$A$2:$E$20133,5,FALSE)","v":"LOC419333"}]
["ENSGALG00000016537",50.3245013559379,-1.04686161669928,0.252377963334426,-4.14799138113371,{"v":3.35405022789477e-05,"d":"3.35E-05"},0.00019992071070417,{"$f":"VLOOKUP(A627,'[1]SD vs SY0.15'!$A$2:$E$20133,5,FALSE)","v":"SCML2"}]
["ENSGALG00000047399",246.793937153514,-1.04700558920202,0.14910713640514,-7.02183419549545,{"v":2.18974305455174e-12,"d":"2.19E-12"},{"v":5.08998161624213e-11,"d":"5.09E-11"},{"$f":"VLOOKUP(A628,'[1]SD vs SY0.15'!$A$2:$E$20133,5,FALSE)","v":"NA"}]
["ENSGALG00000014209",241.384754387615,-1.04758610327808,0.142299535088065,-7.3618378488008,{"v":1.81395237610312E-13,"d":"1.81E-13"},{"v":5.22172019260017e-12,"d":"5.22E-12"},{"$f":"VLOOKUP(A629,'[1]SD vs SY0.15'!$A$2:$E$20133,5,FALSE)","v":"GPR155"}]
["ENSGALG00000011418",251.766426552959,-1.04795608879258,0.344677366040477,-3.04039717150883,0.00236266354417176,0.00861388782606716,{"$f":"VLOOKUP(A630,'[1]SD vs SY0.15'!$A$2:$E$20133,5,FALSE)","v":"CCR6"}]
["ENSGALG00000010795",72.259199051542,-1.04823032338751,0.199738059656565,-5.24802496424499,{"v":1.53738468827631E-7,"d":"1.54E-07"},{"v":1.52137208736825e-06,"d":"1.52E-06"},{"$f":"VLOOKUP(A631,'[1]SD vs SY0.15'!$A$2:$E$20133,5,FALSE)","v":"CRPPA"}]
["ENSGALG00000013771",850.840453335023,-1.04833159631369,0.392427815089003,-2.6713998243879,0.00755356148517366,0.0232284707362424,{"$f":"VLOOKUP(A632,'[1]SD vs SY0.15'!$A$2:$E$20133,5,FALSE)","v":"CRACD"}]
["ENSGALG00000048187",48.9578653264443,-1.04898236644784,0.369910252065412,-2.83577532817972,0.00457145925606696,0.0151947929813107,{"$f":"VLOOKUP(A633,'[1]SD vs SY0.15'!$A$2:$E$20133,5,FALSE)","v":"NA"}]
["ENSGALG00000005521",4247.5653573063,-1.05019940179971,0.234430235591626,-4.4797950193982,{"v":7.47147559044027e-06,"d":"7.47E-06"},{"v":5.14889203689992e-05,"d":"5.15E-05"},{"$f":"VLOOKUP(A634,'[1]SD vs SY0.15'!$A$2:$E$20133,5,FALSE)","v":"PER2"}]
["ENSGALG00000049026",235.549563724676,-1.05033416902288,0.239590661403475,-4.38386939987658,{"v":1.16589685339365e-05,"d":"1.17E-05"},{"v":7.71657730870022e-05,"d":"7.72E-05"},{"$f":"VLOOKUP(A635,'[1]SD vs SY0.15'!$A$2:$E$20133,5,FALSE)","v":"MAP2K7"}]
["ENSGALG00000030598",869.93893212558,-1.05105009453886,0.0963735024147889,-10.9060070268606,{"v":1.07891946851147E-27,"d":"1.08E-27"},{"v":1.57640107554697E-25,"d":"1.58E-25"},{"$f":"VLOOKUP(A636,'[1]SD vs SY0.15'!$A$2:$E$20133,5,FALSE)","v":"BTAF1"}]
["ENSGALG00000012588",111.530702430152,-1.05221642321548,0.218197699598276,-4.82230759147654,{"v":1.41906890741362E-6,"d":"1.42E-06"},{"v":1.15946198746243E-5,"d":"1.16E-05"},{"$f":"VLOOKUP(A637,'[1]SD vs SY0.15'!$A$2:$E$20133,5,FALSE)","v":"KIF27"}]
["ENSGALG00000008507",2121.95136967067,-1.05223999160733,0.0780634045511806,-13.4792992652204,{"v":2.0706403668025e-41,"d":"2.07E-41"},{"v":9.00055601439875e-39,"d":"9.00E-39"},{"$f":"VLOOKUP(A638,'[1]SD vs SY0.15'!$A$2:$E$20133,5,FALSE)","v":"THOC2"}]
["ENSGALG00000008318",920.397767343915,-1.05259686058915,0.151741325346333,-6.93678441378254,{"v":4.0112523945336e-12,"d":"4.01E-12"},{"v":8.98758316800975e-11,"d":"8.99E-11"},{"$f":"VLOOKUP(A639,'[1]SD vs SY0.15'!$A$2:$E$20133,5,FALSE)","v":"SLK"}]
["ENSGALG00000038924",505.39491172991,-1.05263754049957,0.106019107354354,-9.92875309713065,{"v":3.12134206161614e-23,"d":"3.12E-23"},{"v":2.87146954631322e-21,"d":"2.87E-21"},{"$f":"VLOOKUP(A640,'[1]SD vs SY0.15'!$A$2:$E$20133,5,FALSE)","v":"IDE"}]
["ENSGALG00000013776",88.4873116678271,-1.0542730876995,0.274644320192927,-3.83868520186004,1.23694896511583E-4,0.000644902425713927,{"$f":"VLOOKUP(A641,'[1]SD vs SY0.15'!$A$2:$E$20133,5,FALSE)","v":"CEP135"}]
["ENSGALG00000049421",52.0229821154044,-1.05429527944755,0.280666837692147,-3.75639419361674,0.000172379101414789,0.000867734637029223,{"$f":"VLOOKUP(A642,'[1]SD vs SY0.15'!$A$2:$E$20133,5,FALSE)","v":"NA"}]
["ENSGALG00000004949",384.87863253242,-1.05472254342611,0.137332096280232,-7.68008769977484,{"v":1.58979714760659E-14,"d":"1.59E-14"},{"v":5.39878964949918e-13,"d":"5.40E-13"},{"$f":"VLOOKUP(A643,'[1]SD vs SY0.15'!$A$2:$E$20133,5,FALSE)","v":"KIAA0355"}]
["ENSGALG00000016931",133.637465735343,-1.05576188668905,0.259855427801721,-4.06288179400521,{"v":4.84705780225307E-5,"d":"4.85E-05"},0.000279536233216459,{"$f":"VLOOKUP(A644,'[1]SD vs SY0.15'!$A$2:$E$20133,5,FALSE)","v":"BORA"}]
["ENSGALG00000016217",1436.13443097315,-1.05593034733295,0.121494715145126,-8.69116278902861,{"v":3.58748559194014e-18,"d":"3.59E-18"},{"v":1.93713080705165e-16,"d":"1.94E-16"},{"$f":"VLOOKUP(A645,'[1]SD vs SY0.15'!$A$2:$E$20133,5,FALSE)","v":"KDM6A"}]
["ENSGALG00000015568",108.566394585602,-1.0565807041392,0.22523624804298,-4.69098874323987,{"v":2.71887931409373e-06,"d":"2.72E-06"},{"v":2.07611570637452e-05,"d":"2.08E-05"},{"$f":"VLOOKUP(A646,'[1]SD vs SY0.15'!$A$2:$E$20133,5,FALSE)","v":"SH3TC1"}]
["ENSGALG00000034317",410.949831417075,-1.05719697502984,0.144525061631075,-7.31497335547601,{"v":2.57432466865977e-13,"d":"2.57E-13"},{"v":7.161565282238e-12,"d":"7.16E-12"},{"$f":"VLOOKUP(A647,'[1]SD vs SY0.15'!$A$2:$E$20133,5,FALSE)","v":"SYNJ1"}]
["ENSGALG00000008942",430.778205251778,-1.05832233413233,0.166864148246072,-6.34241893933767,{"v":2.26185228081892E-10,"d":"2.26E-10"},{"v":3.84051031314439e-09,"d":"3.84E-09"},{"$f":"VLOOKUP(A648,'[1]SD vs SY0.15'!$A$2:$E$20133,5,FALSE)","v":"FOXN2"}]
["ENSGALG00000051766",295.808275224687,-1.05835026163352,0.384353491857392,-2.75358565501521,0.0058946343155236,0.0188712956810917,{"$f":"VLOOKUP(A649,'[1]SD vs SY0.15'!$A$2:$E$20133,5,FALSE)","v":"NA"}]
["ENSGALG00000012595",197.399817001599,-1.05872698364406,0.22854076922022,-4.6325519392292,{"v":3.61185680676195e-06,"d":"3.61E-06"},{"v":2.68029681174435E-5,"d":"2.68E-05"},{"$f":"VLOOKUP(A650,'[1]SD vs SY0.15'!$A$2:$E$20133,5,FALSE)","v":"AGTPBP1"}]
["ENSGALG00000051352",73.3542089879161,-1.05909753504146,0.243825189087591,-4.34367564321254,{"v":1.40118351294337E-5,"d":"1.40E-05"},{"v":9.09722843149601e-05,"d":"9.10E-05"},{"$f":"VLOOKUP(A651,'[1]SD vs SY0.15'!$A$2:$E$20133,5,FALSE)","v":"NA"}]
["ENSGALG00000054048",298.270238984942,-1.05980841508454,0.280280712618719,-3.78123919117563,0.000156049650342311,0.000793575686019818,{"$f":"VLOOKUP(A652,'[1]SD vs SY0.15'!$A$2:$E$20133,5,FALSE)","v":"LOC101749175"}]
["ENSGALG00000015352",210.220289028981,-1.06071827897288,0.169793386562233,-6.24711186017899,{"v":4.18111633793988E-10,"d":"4.18E-10"},{"v":6.80684173855438e-09,"d":"6.81E-09"},{"$f":"VLOOKUP(A653,'[1]SD vs SY0.15'!$A$2:$E$20133,5,FALSE)","v":"NA"}]
["ENSGALG00000031973",309.815728887363,-1.06169908449049,0.196001109639834,-5.41680139689737,{"v":6.06746717433803e-08,"d":"6.07E-08"},{"v":6.52412193940726e-07,"d":"6.52E-07"},{"$f":"VLOOKUP(A654,'[1]SD vs SY0.15'!$A$2:$E$20133,5,FALSE)","v":"ANKRD52"}]
["ENSGALG00000014786",171.931737443213,-1.06229439567714,0.439129244924021,-2.41909280230458,0.0155592701255044,0.0426365689002592,{"$f":"VLOOKUP(A655,'[1]SD vs SY0.15'!$A$2:$E$20133,5,FALSE)","v":"PIK3R1"}]
["ENSGALG00000015293",30.756897710158,-1.06270167141621,0.326361846673302,-3.25620682150388,0.00112911471328264,4.56343968383199E-3,{"$f":"VLOOKUP(A656,'[1]SD vs SY0.15'!$A$2:$E$20133,5,FALSE)","v":"TMEM45A"}]
["ENSGALG00000009222",545.145910965163,-1.06276297957836,0.18014659049166,-5.8994343255559,{"v":3.64749921757207e-09,"d":"3.65E-09"},{"v":4.97014646519793e-08,"d":"4.97E-08"},{"$f":"VLOOKUP(A657,'[1]SD vs SY0.15'!$A$2:$E$20133,5,FALSE)","v":"FNDC3B"}]
["ENSGALG00000006064",76.5410828701227,-1.06308434884349,0.181388619906224,-5.86081061421108,{"v":4.60613067565379e-09,"d":"4.61E-09"},{"v":6.13691908487298e-08,"d":"6.14E-08"},{"$f":"VLOOKUP(A658,'[1]SD vs SY0.15'!$A$2:$E$20133,5,FALSE)","v":"TEKT1"}]
["ENSGALG00000008875",213.740987485431,-1.06480925448374,0.169763359351795,-6.2723149362117,{"v":3.55719139690868e-10,"d":"3.56E-10"},{"v":5.89037017314773e-09,"d":"5.89E-09"},{"$f":"VLOOKUP(A659,'[1]SD vs SY0.15'!$A$2:$E$20133,5,FALSE)","v":"PLCB1"}]
["ENSGALG00000040808",92.1493538211857,-1.06489737343298,0.203430046362863,-5.23471037082448,{"v":1.65243770035066e-07,"d":"1.65E-07"},{"v":1.62689322174388e-06,"d":"1.63E-06"},{"$f":"VLOOKUP(A660,'[1]SD vs SY0.15'!$A$2:$E$20133,5,FALSE)","v":"NA"}]
["ENSGALG00000048012",17.8372477978974,-1.06496470975946,0.44206680657073,-2.40905830053328,0.0159937428328486,0.0436277387252493,{"$f":"VLOOKUP(A661,'[1]SD vs SY0.15'!$A$2:$E$20133,5,FALSE)","v":"NA"}]
["ENSGALG00000029610",292.614624405678,-1.06521507975148,0.184344702215791,-5.77838726552909,{"v":7.54200521686846e-09,"d":"7.54E-09"},{"v":9.66343734013942e-08,"d":"9.66E-08"},{"$f":"VLOOKUP(A662,'[1]SD vs SY0.15'!$A$2:$E$20133,5,FALSE)","v":"RGS9"}]
["ENSGALG00000007769",531.222106960209,-1.06553984284364,0.149774347451432,-7.1143013538361,{"v":1.12481143779009e-12,"d":"1.12E-12"},{"v":2.75118666847271e-11,"d":"2.75E-11"},{"$f":"VLOOKUP(A663,'[1]SD vs SY0.15'!$A$2:$E$20133,5,FALSE)","v":"FOXP1,FOXP1"}]
["ENSGALG00000006724",124.189208251436,-1.06567105136441,0.313541848651582,-3.3988159983984,0.000676782310651807,2.91556343788478E-3,{"$f":"VLOOKUP(A664,'[1]SD vs SY0.15'!$A$2:$E$20133,5,FALSE)","v":"GPC2"}]
["ENSGALG00000008005",339.471595246677,-1.06601613831604,0.196738762349967,-5.41843470794922,{"v":6.01230876935845e-08,"d":"6.01E-08"},{"v":6.47768570376367E-7,"d":"6.48E-07"},{"$f":"VLOOKUP(A665,'[1]SD vs SY0.15'!$A$2:$E$20133,5,FALSE)","v":"RIPOR3"}]
["ENSGALG00000002527",355.062959975975,-1.06643513555578,0.110771835247814,-9.6273130545323,{"v":6.1311700385198e-22,"d":"6.13E-22"},{"v":4.86770107122118e-20,"d":"4.87E-20"},{"$f":"VLOOKUP(A666,'[1]SD vs SY0.15'!$A$2:$E$20133,5,FALSE)","v":"TMEM201"}]
["ENSGALG00000007593",139.18148832006,-1.06682547140061,0.233425405588319,-4.57030574162144,{"v":4.87013176716671e-06,"d":"4.87E-06"},{"v":3.51211037062329e-05,"d":"3.51E-05"},{"$f":"VLOOKUP(A667,'[1]SD vs SY0.15'!$A$2:$E$20133,5,FALSE)","v":"JAKMIP2"}]
["ENSGALG00000011528",554.447382445132,-1.06731324092085,0.160132755264944,-6.66517752195638,{"v":2.64345634000528e-11,"d":"2.64E-11"},{"v":5.17005347397883e-10,"d":"5.17E-10"},{"$f":"VLOOKUP(A668,'[1]SD vs SY0.15'!$A$2:$E$20133,5,FALSE)","v":"KLC1"}]
["ENSGALG00000010156",1086.40328199973,-1.06742654164217,0.244202219512467,-4.3710763308098,{"v":1.2363555844576e-05,"d":"1.24E-05"},{"v":8.13645516539149e-05,"d":"8.14E-05"},{"$f":"VLOOKUP(A669,'[1]SD vs SY0.15'!$A$2:$E$20133,5,FALSE)","v":"DOCK8"}]
["ENSGALG00000017840",10.8398835862957,-1.0684362476569,0.411408419388071,-2.59702086127963,0.00940362127348923,0.0278868775511099,{"$f":"VLOOKUP(A670,'[1]SD vs SY0.15'!$A$2:$E$20133,5,FALSE)","v":"NA"}]
["ENSGALG00000008408",174.923991821368,-1.06848123409055,0.20137757456842,-5.30586008089755,{"v":1.12142956147306E-7,"d":"1.12E-07"},{"v":1.14426618458522e-06,"d":"1.14E-06"},{"$f":"VLOOKUP(A671,'[1]SD vs SY0.15'!$A$2:$E$20133,5,FALSE)","v":"GAB3"}]
["ENSGALG00000025284",23.5263418058751,-1.06937541166751,0.334591968637832,-3.19605821987025,0.00139318996753487,0.00546803475519838,{"$f":"VLOOKUP(A672,'[1]SD vs SY0.15'!$A$2:$E$20133,5,FALSE)","v":"SNORD89"}]
["ENSGALG00000042766",323.612298003424,-1.0730139886772,0.164878873650385,-6.50789252086022,{"v":7.6212412219785e-11,"d":"7.62E-11"},{"v":1.39779030724199e-09,"d":"1.40E-09"},{"$f":"VLOOKUP(A673,'[1]SD vs SY0.15'!$A$2:$E$20133,5,FALSE)","v":"TRAPPC9"}]
["ENSGALG00000032659",460.723944376533,-1.07408910588658,0.111708942180945,-9.61506827400425,{"v":6.90635180371172e-22,"d":"6.91E-22"},{"v":5.43351759326406e-20,"d":"5.43E-20"},{"$f":"VLOOKUP(A674,'[1]SD vs SY0.15'!$A$2:$E$20133,5,FALSE)","v":"ZBED4"}]
["ENSGALG00000017197",24.0616664346639,-1.07413052006616,0.364742512209783,-2.94490081114638,0.00323058211156847,0.0112927485271092,{"$f":"VLOOKUP(A675,'[1]SD vs SY0.15'!$A$2:$E$20133,5,FALSE)","v":"CNTN5"}]
["ENSGALG00000037377",65.7792594213911,-1.0743235515846,0.257347415223695,-4.17460401011125,{"v":2.98504819220159e-05,"d":"2.99E-05"},0.000180211919853504,{"$f":"VLOOKUP(A676,'[1]SD vs SY0.15'!$A$2:$E$20133,5,FALSE)","v":"TULP4"}]
["ENSGALG00000012629",108.351911486622,-1.07733458509759,0.182792997282402,-5.89374101368439,{"v":3.77548755547958E-9,"d":"3.78E-09"},{"v":5.10454137846994e-08,"d":"5.10E-08"},{"$f":"VLOOKUP(A677,'[1]SD vs SY0.15'!$A$2:$E$20133,5,FALSE)","v":"ZNF367"}]
["ENSGALG00000053738",20.6012766473166,-1.07802724714802,0.392265258840589,-2.74820984742397,0.00599216445253945,0.019141238900662,{"$f":"VLOOKUP(A678,'[1]SD vs SY0.15'!$A$2:$E$20133,5,FALSE)","v":"NA"}]
["ENSGALG00000037129",135.411612466714,-1.0789108621765,0.261991384019731,-4.11811581595846,{"v":3.81982723986659e-05,"d":"3.82E-05"},0.000225551346536493,{"$f":"VLOOKUP(A679,'[1]SD vs SY0.15'!$A$2:$E$20133,5,FALSE)","v":"FAM241A"}]
["ENSGALG00000013124",280.406488918405,-1.07905607777695,0.238351081664792,-4.52717088691251,{"v":5.97785981350925e-06,"d":"5.98E-06"},{"v":4.21651312687567e-05,"d":"4.22E-05"},{"$f":"VLOOKUP(A680,'[1]SD vs SY0.15'!$A$2:$E$20133,5,FALSE)","v":"FHOD3"}]
["ENSGALG00000026163",128.548680436548,-1.07910803070709,0.397292684886683,-2.71615378726361,0.00660452314141,0.0207992834377279,{"$f":"VLOOKUP(A681,'[1]SD vs SY0.15'!$A$2:$E$20133,5,FALSE)","v":"TNFSF11"}]
["ENSGALG00000008076",317.365209999504,-1.07913105096773,0.21987492351731,-4.90793144440946,{"v":9.20420143951355e-07,"d":"9.20E-07"},{"v":7.76861409848651E-6,"d":"7.77E-06"},{"$f":"VLOOKUP(A682,'[1]SD vs SY0.15'!$A$2:$E$20133,5,FALSE)","v":"TMEM164"}]
["ENSGALG00000011099",140.320063981225,-1.08153552284296,0.357681070401121,-3.0237426924217,2.49668685877741E-3,0.00900807105489994,{"$f":"VLOOKUP(A683,'[1]SD vs SY0.15'!$A$2:$E$20133,5,FALSE)","v":"FAP"}]
["ENSGALG00000009002",338.519656511487,-1.08367591854641,0.184954140075013,-5.85916010372567,{"v":4.65214021214715e-09,"d":"4.65E-09"},{"v":6.18873464947227e-08,"d":"6.19E-08"},{"$f":"VLOOKUP(A684,'[1]SD vs SY0.15'!$A$2:$E$20133,5,FALSE)","v":"CPED1"}]
["ENSGALG00000054222",31.5524834663772,-1.08594353283602,0.34090591804035,-3.18546401035927,0.00144522078535336,0.00563915031304733,{"$f":"VLOOKUP(A685,'[1]SD vs SY0.15'!$A$2:$E$20133,5,FALSE)","v":"NA"}]
["ENSGALG00000008663",142.371653516975,-1.08627448111523,0.216886263831751,-5.00849828810691,{"v":5.48563634050644e-07,"d":"5.49E-07"},{"v":4.85141195586904e-06,"d":"4.85E-06"},{"$f":"VLOOKUP(A686,'[1]SD vs SY0.15'!$A$2:$E$20133,5,FALSE)","v":"DDAH1"}]
["ENSGALG00000012813",1592.06368428555,-1.0867799384978,0.0969289774668644,-11.2121263104145,{"v":3.55547921864105e-29,"d":"3.56E-29"},{"v":5.83199218627471e-27,"d":"5.83E-27"},{"$f":"VLOOKUP(A687,'[1]SD vs SY0.15'!$A$2:$E$20133,5,FALSE)","v":"PRPF4B"}]
["ENSGALG00000013189",331.833655656796,-1.08810151824971,0.225175310149146,-4.83224167662521,{"v":1.35004226849448e-06,"d":"1.35E-06"},{"v":1.10566108913394E-5,"d":"1.11E-05"},{"$f":"VLOOKUP(A688,'[1]SD vs SY0.15'!$A$2:$E$20133,5,FALSE)","v":"LPCAT1"}]
["ENSGALG00000006123",270.113306396604,-1.08864320072243,0.139101358338281,-7.82625859105529,{"v":5.02603016747272e-15,"d":"5.03E-15"},{"v":1.81302046725826e-13,"d":"1.81E-13"},{"$f":"VLOOKUP(A689,'[1]SD vs SY0.15'!$A$2:$E$20133,5,FALSE)","v":"RTEL1"}]
["ENSGALG00000006787",249.939618483058,-1.08877944536946,0.152341260644966,-7.14697673342012,{"v":8.87099062354333E-13,"d":"8.87E-13"},{"v":2.24839524739866e-11,"d":"2.25E-11"},{"$f":"VLOOKUP(A690,'[1]SD vs SY0.15'!$A$2:$E$20133,5,FALSE)","v":"CCDC71"}]
["ENSGALG00000039099",179.593412371848,-1.08911060649981,0.162635795374037,-6.69662299123651,{"v":2.13290944348293e-11,"d":"2.13E-11"},{"v":4.26753699583864e-10,"d":"4.27E-10"},{"$f":"VLOOKUP(A691,'[1]SD vs SY0.15'!$A$2:$E$20133,5,FALSE)","v":"MAPK9"}]
["ENSGALG00000009836",356.440325293997,-1.09110416282172,0.153133293455465,-7.12519229620722,{"v":1.03935477549546e-12,"d":"1.04E-12"},{"v":2.57059196038969e-11,"d":"2.57E-11"},{"$f":"VLOOKUP(A692,'[1]SD vs SY0.15'!$A$2:$E$20133,5,FALSE)","v":"ELMOD2"}]
["ENSGALG00000050359",42.8945391638793,-1.09173815985084,0.400471275075032,-2.72613350269953,0.00640810736669874,0.0202983717953709,{"$f":"VLOOKUP(A693,'[1]SD vs SY0.15'!$A$2:$E$20133,5,FALSE)","v":"NA"}]
["ENSGALG00000013824",395.751755077741,-1.09189965388067,0.136227218469781,-8.01528260024543,{"v":1.09884066730261E-15,"d":"1.10E-15"},{"v":4.29338037806528e-14,"d":"4.29E-14"},{"$f":"VLOOKUP(A694,'[1]SD vs SY0.15'!$A$2:$E$20133,5,FALSE)","v":"HECA"}]
["ENSGALG00000052242",53.5849631319418,-1.09228779195134,0.245058038205704,-4.45726163462738,{"v":8.30132622330081e-06,"d":"8.30E-06"},{"v":5.66909501353226E-5,"d":"5.67E-05"},{"$f":"VLOOKUP(A695,'[1]SD vs SY0.15'!$A$2:$E$20133,5,FALSE)","v":"NA"}]
["ENSGALG00000034119",63.6649548047885,-1.09243790439423,0.349788610767063,-3.12313743434524,0.0017893417279633,0.00680418516836672,{"$f":"VLOOKUP(A696,'[1]SD vs SY0.15'!$A$2:$E$20133,5,FALSE)","v":"COL15A1"}]
["ENSGALG00000011007",220.636128660945,-1.09276848882514,0.247893086012473,-4.40822495860235,{"v":1.04221263422837e-05,"d":"1.04E-05"},{"v":6.97227821136156e-05,"d":"6.97E-05"},{"$f":"VLOOKUP(A697,'[1]SD vs SY0.15'!$A$2:$E$20133,5,FALSE)","v":"OSBPL3"}]
["ENSGALG00000003433",401.975989038017,-1.09282260246795,0.238261616192215,-4.58664983446735,{"v":4.50415183827949e-06,"d":"4.50E-06"},{"v":3.28497013473848e-05,"d":"3.28E-05"},{"$f":"VLOOKUP(A698,'[1]SD vs SY0.15'!$A$2:$E$20133,5,FALSE)","v":"DPEP2"}]
["ENSGALG00000016569",53.7362127703468,-1.09361512569606,0.27055971432617,-4.04204716293301,{"v":5.29865716253863e-05,"d":"5.30E-05"},0.000303151536969593,{"$f":"VLOOKUP(A699,'[1]SD vs SY0.15'!$A$2:$E$20133,5,FALSE)","v":"FANCB"}]
["ENSGALG00000001639",434.436291656354,-1.09363441726062,0.145636475252161,-7.50934417608674,{"v":5.94243047557949e-14,"d":"5.94E-14"},{"v":1.84172974472194e-12,"d":"1.84E-12"},{"$f":"VLOOKUP(A700,'[1]SD vs SY0.15'!$A$2:$E$20133,5,FALSE)","v":"MTF1"}]
["ENSGALG00000005188",101.053705070485,-1.0939659750876,0.208700193731549,-5.24180622704535,{"v":1.5901231004895e-07,"d":"1.59E-07"},{"v":1.57087899705744e-06,"d":"1.57E-06"},{"$f":"VLOOKUP(A701,'[1]SD vs SY0.15'!$A$2:$E$20133,5,FALSE)","v":"MINDY4"}]
["ENSGALG00000034590",482.177648520749,-1.09456973180074,0.15251904263421,-7.17661029662949,{"v":7.14610043878079e-13,"d":"7.15E-13"},{"v":1.83529170353149E-11,"d":"1.84E-11"},{"$f":"VLOOKUP(A702,'[1]SD vs SY0.15'!$A$2:$E$20133,5,FALSE)","v":"CELF2"}]
["ENSGALG00000051484",19.1532083544819,-1.09554599912099,0.411812422826599,-2.66030342552899,0.00780702843563685,0.0238980287694398,{"$f":"VLOOKUP(A703,'[1]SD vs SY0.15'!$A$2:$E$20133,5,FALSE)","v":"NA"}]
["ENSGALG00000006526",94.7285838403702,-1.09594373695521,0.203813093033581,-5.37719986799197,{"v":7.56531770955424e-08,"d":"7.57E-08"},{"v":7.9816856199041e-07,"d":"7.98E-07"},{"$f":"VLOOKUP(A704,'[1]SD vs SY0.15'!$A$2:$E$20133,5,FALSE)","v":"PLXNB3"}]
["ENSGALG00000014159",1679.51188951442,-1.09621332053142,0.101928276143171,-10.7547518903553,{"v":5.62852843429214e-27,"d":"5.63E-27"},{"v":7.6455643661748E-25,"d":"7.65E-25"},{"$f":"VLOOKUP(A705,'[1]SD vs SY0.15'!$A$2:$E$20133,5,FALSE)","v":"PACSIN2"}]
["ENSGALG00000007717",106.016699516969,-1.09625000800192,0.255308808451911,-4.29381976536234,{"v":1.75625064157546e-05,"d":"1.76E-05"},1.11444999653549E-4,{"$f":"VLOOKUP(A706,'[1]SD vs SY0.15'!$A$2:$E$20133,5,FALSE)","v":"GCNT7"}]
["ENSGALG00000015598",71.2273470512852,-1.09684218275897,0.274954420998727,-3.98917820188112,{"v":6.63025992318004E-5,"d":"6.63E-05"},0.00037103421076386,{"$f":"VLOOKUP(A707,'[1]SD vs SY0.15'!$A$2:$E$20133,5,FALSE)","v":"RASGRF2"}]
["ENSGALG00000016922",199.320336211122,-1.09789346511238,0.165256181565979,-6.64358485539645,{"v":3.061440927687e-11,"d":"3.06E-11"},{"v":5.9540574283774e-10,"d":"5.95E-10"},{"$f":"VLOOKUP(A708,'[1]SD vs SY0.15'!$A$2:$E$20133,5,FALSE)","v":"COMMD6"}]
["ENSGALG00000044260",789.162671228779,-1.09790030082345,0.113791459081014,-9.64835418835602,{"v":4.99509351499436E-22,"d":"5.00E-22"},{"v":4.02081902524106e-20,"d":"4.02E-20"},{"$f":"VLOOKUP(A709,'[1]SD vs SY0.15'!$A$2:$E$20133,5,FALSE)","v":"LOC776067"}]
["ENSGALG00000040256",29.8213510797977,-1.0982844597865,0.389860896346599,-2.81711879821383,0.00484565986716614,0.015971846087283,{"$f":"VLOOKUP(A710,'[1]SD vs SY0.15'!$A$2:$E$20133,5,FALSE)","v":"RIMS2"}]
["ENSGALG00000013225",49.7405178016601,-1.09935120011579,0.286306195706861,-3.83977439748239,0.000123147421609436,0.0006424135072077,{"$f":"VLOOKUP(A711,'[1]SD vs SY0.15'!$A$2:$E$20133,5,FALSE)","v":"VAT1L"}]
["ENSGALG00000008591",160.396499846507,-1.09940285577175,0.226243667956782,-4.85937514053107,{"v":1.17756818771004E-6,"d":"1.18E-06"},{"v":9.74042725010206e-06,"d":"9.74E-06"},{"$f":"VLOOKUP(A712,'[1]SD vs SY0.15'!$A$2:$E$20133,5,FALSE)","v":"CACNB2"}]
["ENSGALG00000035378",101.606782441822,-1.09985507417518,0.141836900577399,-7.75436483522849,{"v":8.87867339350155e-15,"d":"8.88E-15"},{"v":3.08746988585623e-13,"d":"3.09E-13"},{"$f":"VLOOKUP(A713,'[1]SD vs SY0.15'!$A$2:$E$20133,5,FALSE)","v":"DNAJC5"}]
["ENSGALG00000047235",60.0982827471441,-1.10031801947014,0.192085070534395,-5.72828495420792,{"v":1.01451051346339E-8,"d":"1.01E-08"},{"v":1.26355976343753e-07,"d":"1.26E-07"},{"$f":"VLOOKUP(A714,'[1]SD vs SY0.15'!$A$2:$E$20133,5,FALSE)","v":"NA"}]
["ENSGALG00000021220",45.6447482551601,-1.10079763778173,0.283794425319249,-3.87885574758352,1.0494896318313E-4,5.59223911389848E-4,{"$f":"VLOOKUP(A715,'[1]SD vs SY0.15'!$A$2:$E$20133,5,FALSE)","v":"PPP1R3D"}]
["ENSGALG00000003295",278.265312736627,-1.10401830600514,0.265939479328668,-4.15138928899201,{"v":3.30463113312695e-05,"d":"3.30E-05"},0.000197381042637164,{"$f":"VLOOKUP(A716,'[1]SD vs SY0.15'!$A$2:$E$20133,5,FALSE)","v":"ADAMTS12"}]
["ENSGALG00000006560",194.439490966954,-1.10402125464621,0.236230338639249,-4.67349478058439,{"v":2.9611723451217e-06,"d":"2.96E-06"},{"v":2.2433944908336e-05,"d":"2.24E-05"},{"$f":"VLOOKUP(A717,'[1]SD vs SY0.15'!$A$2:$E$20133,5,FALSE)","v":"SEMA3A"}]
["ENSGALG00000007133",20.8257600647019,-1.10413577591723,0.421873337539656,-2.61722104164368,0.00886489145033652,0.026542770388669,{"$f":"VLOOKUP(A718,'[1]SD vs SY0.15'!$A$2:$E$20133,5,FALSE)","v":"SMIM10L1"}]
["ENSGALG00000005889",258.663028812082,-1.10467171353641,0.180823522693904,-6.10911510338389,{"v":1.00185056974957e-09,"d":"1.00E-09"},{"v":1.50815375378665e-08,"d":"1.51E-08"},{"$f":"VLOOKUP(A719,'[1]SD vs SY0.15'!$A$2:$E$20133,5,FALSE)","v":"CCDC18"}]
["ENSGALG00000034081",162.666896828995,-1.10516889570858,0.181160701032237,-6.10048917569553,{"v":1.05744343431097E-9,"d":"1.06E-09"},{"v":1.58498008554869e-08,"d":"1.58E-08"},{"$f":"VLOOKUP(A720,'[1]SD vs SY0.15'!$A$2:$E$20133,5,FALSE)","v":"AKT3"}]
["ENSGALG00000011705",210.414789855807,-1.10529662545938,0.193354136775166,-5.71643639952024,{"v":1.08781157662214E-8,"d":"1.09E-08"},{"v":1.3509842773378e-07,"d":"1.35E-07"},{"$f":"VLOOKUP(A721,'[1]SD vs SY0.15'!$A$2:$E$20133,5,FALSE)","v":"BRF1"}]
["ENSGALG00000035065",23.8249932797161,-1.1057000101091,0.389939652180575,-2.83556700101139,0.00457444187858108,0.0152018006389314,{"$f":"VLOOKUP(A722,'[1]SD vs SY0.15'!$A$2:$E$20133,5,FALSE)","v":"FAM110B"}]
["ENSGALG00000052889",63.5853949932118,-1.10585328948115,0.257625430627046,-4.29248497242513,{"v":1.76684511989016e-05,"d":"1.77E-05"},1.11953848759221E-4,{"$f":"VLOOKUP(A723,'[1]SD vs SY0.15'!$A$2:$E$20133,5,FALSE)","v":"NA"}]
["ENSGALG00000006094",360.352931265625,-1.10704362278969,0.148478032485635,-7.45594216367863,{"v":8.92278829245566e-14,"d":"8.92E-14"},{"v":2.69341180626609E-12,"d":"2.69E-12"},{"$f":"VLOOKUP(A724,'[1]SD vs SY0.15'!$A$2:$E$20133,5,FALSE)","v":"PHF6"}]
["ENSGALG00000046212",210.367230376021,-1.10739035261114,0.282746651693614,-3.916546300294,{"v":8.98265705881065e-05,"d":"8.98E-05"},0.000486443051692391,{"$f":"VLOOKUP(A725,'[1]SD vs SY0.15'!$A$2:$E$20133,5,FALSE)","v":"MILR1"}]
["ENSGALG00000010246",662.519191032991,-1.10771359805891,0.128623077999706,-8.61209057725581,{"v":7.17401252442297e-18,"d":"7.17E-18"},{"v":3.79132388334779e-16,"d":"3.79E-16"},{"$f":"VLOOKUP(A726,'[1]SD vs SY0.15'!$A$2:$E$20133,5,FALSE)","v":"OSBPL8"}]
["ENSGALG00000005975",42.9506790007561,-1.10811558162339,0.386548953771115,-2.86668886518195,0.004147905801279,0.0139712588467334,{"$f":"VLOOKUP(A727,'[1]SD vs SY0.15'!$A$2:$E$20133,5,FALSE)","v":"ZNF488"}]
["ENSGALG00000013208",414.402900858331,-1.11054861205257,0.220541764227873,-5.0355478743024,{"v":4.76484019116759E-7,"d":"4.76E-07"},{"v":4.24417399609789E-6,"d":"4.24E-06"},{"$f":"VLOOKUP(A728,'[1]SD vs SY0.15'!$A$2:$E$20133,5,FALSE)","v":"CENPE"}]
["ENSGALG00000033428",33.5984727119945,-1.11099243519173,0.435335531688274,-2.55203711694102,0.0107095109018572,0.0311225582568263,{"$f":"VLOOKUP(A729,'[1]SD vs SY0.15'!$A$2:$E$20133,5,FALSE)","v":"CA13"}]
["ENSGALG00000009885",839.623344537001,-1.11124748166161,0.139559736612667,-7.96252206140051,{"v":1.68567544724046e-15,"d":"1.69E-15"},{"v":6.49863392487137E-14,"d":"6.50E-14"},{"$f":"VLOOKUP(A730,'[1]SD vs SY0.15'!$A$2:$E$20133,5,FALSE)","v":"HELB"}]
["ENSGALG00000030773",526.855837389609,-1.11136898111267,0.113466681301671,-9.79467248326315,{"v":1.18681412283734e-22,"d":"1.19E-22"},{"v":1.01650921939768e-20,"d":"1.02E-20"},{"$f":"VLOOKUP(A731,'[1]SD vs SY0.15'!$A$2:$E$20133,5,FALSE)","v":"CP"}]
["ENSGALG00000016531",1030.7995169655,-1.11325206496858,0.1607523750415,-6.92526044906761,{"v":4.35174139370154e-12,"d":"4.35E-12"},{"v":9.68805731271303E-11,"d":"9.69E-11"},{"$f":"VLOOKUP(A732,'[1]SD vs SY0.15'!$A$2:$E$20133,5,FALSE)","v":"ASXL2"}]
["ENSGALG00000011275",155.744201365065,-1.11382565539693,0.214503601685605,-5.19257320923427,{"v":2.07407271121392E-7,"d":"2.07E-07"},{"v":1.99567804260522e-06,"d":"2.00E-06"},{"$f":"VLOOKUP(A733,'[1]SD vs SY0.15'!$A$2:$E$20133,5,FALSE)","v":"DEPDC1"}]
["ENSGALG00000025851",259.019164751573,-1.11387693967005,0.204206020063889,-5.4546723907628,{"v":4.90632163442316e-08,"d":"4.91E-08"},{"v":5.39912748466553e-07,"d":"5.40E-07"},{"$f":"VLOOKUP(A734,'[1]SD vs SY0.15'!$A$2:$E$20133,5,FALSE)","v":"GPRIN3"}]
["ENSGALG00000014772",62.3503185717543,-1.11456955825921,0.200630143692131,-5.55534446493509,{"v":2.77064827233889e-08,"d":"2.77E-08"},{"v":3.18817084785945e-07,"d":"3.19E-07"},{"$f":"VLOOKUP(A735,'[1]SD vs SY0.15'!$A$2:$E$20133,5,FALSE)","v":"WARS2"}]
["ENSGALG00000008950",470.224386585607,-1.1164128464919,0.147105160946596,-7.58921603639178,{"v":3.2184677078132e-14,"d":"3.22E-14"},{"v":1.03246306339019e-12,"d":"1.03E-12"},{"$f":"VLOOKUP(A736,'[1]SD vs SY0.15'!$A$2:$E$20133,5,FALSE)","v":"EHD4"}]
["ENSGALG00000033051",183.23558701286,-1.11781931920477,0.23300871317016,-4.79732840886711,{"v":1.6079585157446e-06,"d":"1.61E-06"},{"v":1.29613234646506E-5,"d":"1.30E-05"},{"$f":"VLOOKUP(A737,'[1]SD vs SY0.15'!$A$2:$E$20133,5,FALSE)","v":"CAMK1D"}]
["ENSGALG00000009249",678.850376536004,-1.11880202244954,0.0894254839819849,-12.5109976779653,{"v":6.50026330401675E-36,"d":"6.50E-36"},{"v":1.91559454350745e-33,"d":"1.92E-33"},{"$f":"VLOOKUP(A738,'[1]SD vs SY0.15'!$A$2:$E$20133,5,FALSE)","v":"UBR1"}]
["ENSGALG00000002289",48.3960099914441,-1.11889136322967,0.41756901283787,-2.67953638519652,7.37241904046523E-3,0.0227721175797777,{"$f":"VLOOKUP(A739,'[1]SD vs SY0.15'!$A$2:$E$20133,5,FALSE)","v":"CHAT"}]
["ENSGALG00000043363",233.953047047122,-1.11917959254862,0.121408856468749,-9.21826977949254,{"v":3.01932702008569e-20,"d":"3.02E-20"},{"v":2.02691269877335e-18,"d":"2.03E-18"},{"$f":"VLOOKUP(A740,'[1]SD vs SY0.15'!$A$2:$E$20133,5,FALSE)","v":"KIAA0556"}]
["ENSGALG00000007569",373.244494577083,-1.11982876946284,0.115720445982396,-9.67701740134317,{"v":3.7757027094623e-22,"d":"3.78E-22"},{"v":3.12610204806766e-20,"d":"3.13E-20"},{"$f":"VLOOKUP(A741,'[1]SD vs SY0.15'!$A$2:$E$20133,5,FALSE)","v":"KBTBD8"}]
["ENSGALG00000006997",83.8450773101198,-1.12001117121395,0.405510620680429,-2.76197740353783,0.00574524545170943,0.0184371691895297,{"$f":"VLOOKUP(A742,'[1]SD vs SY0.15'!$A$2:$E$20133,5,FALSE)","v":"BRINP1"}]
["ENSGALG00000010950",32.0473907265057,-1.12084506715484,0.283369343721443,-3.9554210502624,{"v":7.63999758758266e-05,"d":"7.64E-05"},0.000420369107769936,{"$f":"VLOOKUP(A743,'[1]SD vs SY0.15'!$A$2:$E$20133,5,FALSE)","v":"PPP4R4"}]
["ENSGALG00000047062",9.33827548142052,-1.12108927098901,0.454602988836174,-2.46608425047777,0.0136599200513526,0.038305932975096,{"$f":"VLOOKUP(A744,'[1]SD vs SY0.15'!$A$2:$E$20133,5,FALSE)","v":"NA"}]
["ENSGALG00000040651",264.831500320096,-1.12290226693495,0.164303954250067,-6.83429849305951,{"v":8.24072797492359e-12,"d":"8.24E-12"},{"v":1.7645509519704E-10,"d":"1.76E-10"},{"$f":"VLOOKUP(A745,'[1]SD vs SY0.15'!$A$2:$E$20133,5,FALSE)","v":"IGF1R"}]
["ENSGALG00000007843",1061.06640141721,-1.12517504774439,0.116526699070945,-9.65594200054835,{"v":4.63876123637646e-22,"d":"4.64E-22"},{"v":3.768885122284e-20,"d":"3.77E-20"},{"$f":"VLOOKUP(A746,'[1]SD vs SY0.15'!$A$2:$E$20133,5,FALSE)","v":"ATRX"}]
["ENSGALG00000010719",75.4553782479544,-1.12608015438269,0.268427098913524,-4.19510607885931,{"v":2.72743911754055E-5,"d":"2.73E-05"},1.66392926093605E-4,{"$f":"VLOOKUP(A747,'[1]SD vs SY0.15'!$A$2:$E$20133,5,FALSE)","v":"NEIL3"}]
["ENSGALG00000006672",457.267661751966,-1.12616471573673,0.184754797751607,-6.09545586605443,{"v":1.09126017600459E-9,"d":"1.09E-09"},{"v":1.63285203788225e-08,"d":"1.63E-08"},{"$f":"VLOOKUP(A748,'[1]SD vs SY0.15'!$A$2:$E$20133,5,FALSE)","v":"LARP4B"}]
["ENSGALG00000016590",284.517384215168,-1.12639268720158,0.32008881571762,-3.51900045203477,4.33175969665089E-4,0.00196391931800962,{"$f":"VLOOKUP(A749,'[1]SD vs SY0.15'!$A$2:$E$20133,5,FALSE)","v":"TLR7"}]
["ENSGALG00000008696",10.4213335208855,-1.12648282474983,0.46005157180253,-2.4486011868977,0.0143412141611297,0.0398260167097207,{"$f":"VLOOKUP(A750,'[1]SD vs SY0.15'!$A$2:$E$20133,5,FALSE)","v":"WDR63"}]
["ENSGALG00000004613",246.073376600137,-1.12658483010029,0.278279991736934,-4.04838602685199,{"v":5.15720370451251e-05,"d":"5.16E-05"},2.95252883800985E-4,{"$f":"VLOOKUP(A751,'[1]SD vs SY0.15'!$A$2:$E$20133,5,FALSE)","v":"P2RX5"}]
["ENSGALG00000042478",6808.95861257592,-1.12736126360652,0.237647141074894,-4.74384525943543,{"v":2.09699057362584E-6,"d":"2.10E-06"},{"v":1.64979072867115E-5,"d":"1.65E-05"},{"$f":"VLOOKUP(A752,'[1]SD vs SY0.15'!$A$2:$E$20133,5,FALSE)","v":"ND4L,ND4L"}]
["ENSGALG00000014834",406.487133713514,-1.1277112263868,0.128010456685679,-8.80952428094073,{"v":1.25678064495793e-18,"d":"1.26E-18"},{"v":7.07172979737332e-17,"d":"7.07E-17"},{"$f":"VLOOKUP(A753,'[1]SD vs SY0.15'!$A$2:$E$20133,5,FALSE)","v":"NCOA7"}]
["ENSGALG00000054944",192.852856090222,-1.12848739386367,0.218352713261067,-5.16818580822684,{"v":2.36377249779027E-7,"d":"2.36E-07"},{"v":2.24339041588862e-06,"d":"2.24E-06"},{"$f":"VLOOKUP(A754,'[1]SD vs SY0.15'!$A$2:$E$20133,5,FALSE)","v":"GULP1"}]
["ENSGALG00000028762",515.374744199229,-1.12860684595392,0.160147020615854,-7.04731715653404,{"v":1.82400263991867e-12,"d":"1.82E-12"},{"v":4.30895841036221E-11,"d":"4.31E-11"},{"$f":"VLOOKUP(A755,'[1]SD vs SY0.15'!$A$2:$E$20133,5,FALSE)","v":"ZFYVE26"}]
["ENSGALG00000013149",79.4911382626484,-1.12881992892003,0.264093200060379,-4.27432409718216,{"v":1.91717992751713E-5,"d":"1.92E-05"},1.20644254070721E-4,{"$f":"VLOOKUP(A756,'[1]SD vs SY0.15'!$A$2:$E$20133,5,FALSE)","v":"MOCOS"}]
["ENSGALG00000031987",587.948528421702,-1.13175494757032,0.267176545781037,-4.23598165872631,{"v":2.27555352359457e-05,"d":"2.28E-05"},0.000141556526349692,{"$f":"VLOOKUP(A757,'[1]SD vs SY0.15'!$A$2:$E$20133,5,FALSE)","v":"MYO5A"}]
["ENSGALG00000013775",99.4219058951246,-1.13210172667547,0.223748897574533,-5.0596974507924,{"v":4.19922237654563e-07,"d":"4.20E-07"},{"v":3.79874502918828e-06,"d":"3.80E-06"},{"$f":"VLOOKUP(A758,'[1]SD vs SY0.15'!$A$2:$E$20133,5,FALSE)","v":"CDH19"}]
["ENSGALG00000031016",176.99566459839,-1.13214497145033,0.126549953317393,-8.9462298623758,{"v":3.67830654881541e-19,"d":"3.68E-19"},{"v":2.20533503325012e-17,"d":"2.21E-17"},{"$f":"VLOOKUP(A759,'[1]SD vs SY0.15'!$A$2:$E$20133,5,FALSE)","v":"GTF3C4"}]
["ENSGALG00000030419",394.552574635356,-1.13222404581101,0.15658166871239,-7.23088503987451,{"v":4.79856431950115e-13,"d":"4.80E-13"},{"v":1.27378073012468e-11,"d":"1.27E-11"},{"$f":"VLOOKUP(A760,'[1]SD vs SY0.15'!$A$2:$E$20133,5,FALSE)","v":"GLS2"}]
["ENSGALG00000043532",20.618785291535,-1.13285760222306,0.425729872131833,-2.66097747980498,7.79141681438285E-3,0.0238586410975123,{"$f":"VLOOKUP(A761,'[1]SD vs SY0.15'!$A$2:$E$20133,5,FALSE)","v":"SBSPON"}]
["ENSGALG00000039178",1164.55406924171,-1.1329007021332,0.116857643970195,-9.69470771139416,{"v":3.1754558784496E-22,"d":"3.18E-22"},{"v":2.64170580663173e-20,"d":"2.64E-20"},{"$f":"VLOOKUP(A762,'[1]SD vs SY0.15'!$A$2:$E$20133,5,FALSE)","v":"CHD9"}]
["ENSGALG00000036095",343.43895543107,-1.13398067143997,0.226156325517266,-5.01414527692879,{"v":5.32697281242302e-07,"d":"5.33E-07"},{"v":4.7134898875114e-06,"d":"4.71E-06"},{"$f":"VLOOKUP(A763,'[1]SD vs SY0.15'!$A$2:$E$20133,5,FALSE)","v":"BICC1"}]
["ENSGALG00000052837",191.433699078845,-1.13521921888732,0.134917712961328,-8.4141599643978,{"v":3.95720405749172e-17,"d":"3.96E-17"},{"v":1.86967138444588e-15,"d":"1.87E-15"},{"$f":"VLOOKUP(A764,'[1]SD vs SY0.15'!$A$2:$E$20133,5,FALSE)","v":"NA"}]
["ENSGALG00000006425",1378.12166799756,-1.13546928909206,0.219145510341273,-5.18134862687262,{"v":2.20287321530276E-7,"d":"2.20E-07"},{"v":2.10910553934302e-06,"d":"2.11E-06"},{"$f":"VLOOKUP(A765,'[1]SD vs SY0.15'!$A$2:$E$20133,5,FALSE)","v":"SLC6A6"}]
["ENSGALG00000029287",37.4925333236778,-1.1356634035061,0.280446162017789,-4.04948812754323,{"v":5.13297816952185e-05,"d":"5.13E-05"},0.000294235779663494,{"$f":"VLOOKUP(A766,'[1]SD vs SY0.15'!$A$2:$E$20133,5,FALSE)","v":"TMEM67"}]
["ENSGALG00000033091",162.527997311854,-1.13568830523726,0.202446174989862,-5.60982841633898,{"v":2.02527314174647e-08,"d":"2.03E-08"},{"v":2.39482390191728e-07,"d":"2.39E-07"},{"$f":"VLOOKUP(A767,'[1]SD vs SY0.15'!$A$2:$E$20133,5,FALSE)","v":"RUNX1T1"}]
["ENSGALG00000039349",97.1608703880503,-1.137213750262,0.250901972955962,-4.53250222333487,{"v":5.82890624203141e-06,"d":"5.83E-06"},{"v":4.1198045865935E-5,"d":"4.12E-05"},{"$f":"VLOOKUP(A768,'[1]SD vs SY0.15'!$A$2:$E$20133,5,FALSE)","v":"DISC1"}]
["ENSGALG00000003520",325.049889698763,-1.13856355934158,0.15823202615716,-7.1955316947704,{"v":6.22178312642369e-13,"d":"6.22E-13"},{"v":1.62429644473166e-11,"d":"1.62E-11"},{"$f":"VLOOKUP(A769,'[1]SD vs SY0.15'!$A$2:$E$20133,5,FALSE)","v":"POLG2"}]
["ENSGALG00000002579",143.559295235127,-1.1388355622872,0.294962892815965,-3.86094519013871,0.000112949240810473,0.000596551777026638,{"$f":"VLOOKUP(A770,'[1]SD vs SY0.15'!$A$2:$E$20133,5,FALSE)","v":"RIMBP2"}]
["ENSGALG00000012594",15.7406227883529,-1.13900024784555,0.431483006736084,-2.63973373241606,0.00829711872986794,0.0251093563518267,{"$f":"VLOOKUP(A771,'[1]SD vs SY0.15'!$A$2:$E$20133,5,FALSE)","v":"NTRK2"}]
["ENSGALG00000010595",311.792328607824,-1.13946553364694,0.272212264015417,-4.18594488300648,{"v":2.83982258519967E-5,"d":"2.84E-05"},1.72425803579448E-4,{"$f":"VLOOKUP(A772,'[1]SD vs SY0.15'!$A$2:$E$20133,5,FALSE)","v":"GPR65"}]
["ENSGALG00000010874",139.515082602542,-1.13981970181886,0.201222671414026,-5.66446958391494,{"v":1.47480018456913e-08,"d":"1.47E-08"},{"v":1.78816951248979E-7,"d":"1.79E-07"},{"$f":"VLOOKUP(A773,'[1]SD vs SY0.15'!$A$2:$E$20133,5,FALSE)","v":"UNC79"}]
["ENSGALG00000046879",37.3081489393673,-1.13987446647406,0.46569423661076,-2.44768858375801,0.0143775863063216,0.0399079011985973,{"$f":"VLOOKUP(A774,'[1]SD vs SY0.15'!$A$2:$E$20133,5,FALSE)","v":"NA"}]
["ENSGALG00000033512",267.063197429749,-1.13997946418159,0.225354336469379,-5.05860895353345,{"v":4.22325922570598E-7,"d":"4.22E-07"},{"v":3.81850276429277e-06,"d":"3.82E-06"},{"$f":"VLOOKUP(A775,'[1]SD vs SY0.15'!$A$2:$E$20133,5,FALSE)","v":"CPEB4"}]
["ENSGALG00000008058",321.023434181676,-1.13998415462653,0.142101941108534,-8.02229825809235,{"v":1.03784765105902E-15,"d":"1.04E-15"},{"v":4.08259210610025e-14,"d":"4.08E-14"},{"$f":"VLOOKUP(A776,'[1]SD vs SY0.15'!$A$2:$E$20133,5,FALSE)","v":"PAK3"}]
["ENSGALG00000002003",302.979480023984,-1.14031471266154,0.200327399641438,-5.69225535150243,{"v":1.25372165021185E-8,"d":"1.25E-08"},{"v":1.54380016517234e-07,"d":"1.54E-07"},{"$f":"VLOOKUP(A777,'[1]SD vs SY0.15'!$A$2:$E$20133,5,FALSE)","v":"BMPR1A"}]
["ENSGALG00000054460",10.4405900332782,-1.1404650938174,0.479697801901024,-2.37746574884809,0.0174320618280711,0.046816691227166,{"$f":"VLOOKUP(A778,'[1]SD vs SY0.15'!$A$2:$E$20133,5,FALSE)","v":"NA"}]
["ENSGALG00000034708",127.549284740073,-1.1407616179655,0.286345652161147,-3.98386219366626,{"v":6.78042011811613e-05,"d":"6.78E-05"},0.000378341349787179,{"$f":"VLOOKUP(A779,'[1]SD vs SY0.15'!$A$2:$E$20133,5,FALSE)","v":"USP12"}]
["ENSGALG00000029249",23.1324765614527,-1.14129175628113,0.365074353505133,-3.12618989891627,1.7708715923929E-3,0.00674335181273224,{"$f":"VLOOKUP(A780,'[1]SD vs SY0.15'!$A$2:$E$20133,5,FALSE)","v":"NA"}]
["ENSGALG00000021601",473.649244124047,-1.14141687018235,0.14928324829389,-7.64598093374327,{"v":2.07358394241991E-14,"d":"2.07E-14"},{"v":6.85425931689259e-13,"d":"6.85E-13"},{"$f":"VLOOKUP(A781,'[1]SD vs SY0.15'!$A$2:$E$20133,5,FALSE)","v":"EPS15L1"}]
["ENSGALG00000008177",35.9113513623151,-1.1414320403738,0.33244212280205,-3.43347597095406,0.000595895019323009,0.00260060911168905,{"$f":"VLOOKUP(A782,'[1]SD vs SY0.15'!$A$2:$E$20133,5,FALSE)","v":"NOS1"}]
["ENSGALG00000006172",114.33276501019,-1.14164620861078,0.344768604417091,-3.31134040044332,0.000928501871553045,3.85203102855948E-3,{"$f":"VLOOKUP(A783,'[1]SD vs SY0.15'!$A$2:$E$20133,5,FALSE)","v":"ABCC8"}]
["ENSGALG00000011379",109.880101490461,-1.14287307568094,0.205603859698171,-5.55861683413283,{"v":2.71920909940858E-8,"d":"2.72E-08"},{"v":3.14563463815149e-07,"d":"3.15E-07"},{"$f":"VLOOKUP(A784,'[1]SD vs SY0.15'!$A$2:$E$20133,5,FALSE)","v":"SLC44A5"}]
["ENSGALG00000047695",11.8471258200305,-1.14298687619267,0.428666170191408,-2.66637993775508,7.66729875147441E-3,0.0235418479222374,{"$f":"VLOOKUP(A785,'[1]SD vs SY0.15'!$A$2:$E$20133,5,FALSE)","v":"NA"}]
["ENSGALG00000002706",817.592910329199,-1.14381248991971,0.185613293566951,-6.16234143545937,{"v":7.16770917000186e-10,"d":"7.17E-10"},{"v":1.10679359981192e-08,"d":"1.11E-08"},{"$f":"VLOOKUP(A786,'[1]SD vs SY0.15'!$A$2:$E$20133,5,FALSE)","v":"XRN1"}]
["ENSGALG00000017229",63.7247642364344,-1.14409567601349,0.232311825110096,-4.92482754793599,{"v":8.44347847243132e-07,"d":"8.44E-07"},{"v":7.15711598002943e-06,"d":"7.16E-06"},{"$f":"VLOOKUP(A787,'[1]SD vs SY0.15'!$A$2:$E$20133,5,FALSE)","v":"FAT3"}]
["ENSGALG00000030908",205.258132431457,-1.14416683172376,0.275387144770434,-4.15475759653761,{"v":3.25632576533246e-05,"d":"3.26E-05"},1.9469647896092E-4,{"$f":"VLOOKUP(A788,'[1]SD vs SY0.15'!$A$2:$E$20133,5,FALSE)","v":"ATP2B2"}]
["ENSGALG00000051383",219.334190605327,-1.14448224093954,0.169135970040376,-6.76664012194641,{"v":1.31807383684614e-11,"d":"1.32E-11"},{"v":2.72825592871951e-10,"d":"2.73E-10"},{"$f":"VLOOKUP(A789,'[1]SD vs SY0.15'!$A$2:$E$20133,5,FALSE)","v":"NA"}]
["ENSGALG00000015025",178.916301220419,-1.14512666102093,0.174814093916708,-6.5505396925636,{"v":5.73295158628832e-11,"d":"5.73E-11"},{"v":1.07994397866517E-9,"d":"1.08E-09"},{"$f":"VLOOKUP(A790,'[1]SD vs SY0.15'!$A$2:$E$20133,5,FALSE)","v":"VANGL1"}]
["ENSGALG00000001463",340.75059277238,-1.14546906874346,0.169825241750864,-6.74498712284407,{"v":1.53040596778344e-11,"d":"1.53E-11"},{"v":3.13049041904125e-10,"d":"3.13E-10"},{"$f":"VLOOKUP(A791,'[1]SD vs SY0.15'!$A$2:$E$20133,5,FALSE)","v":"PDIK1L"}]
["ENSGALG00000011639",1067.20472282651,-1.14618397362024,0.192392921281239,-5.95751634720884,{"v":2.56100103223471e-09,"d":"2.56E-09"},{"v":3.59677907491639e-08,"d":"3.60E-08"},{"$f":"VLOOKUP(A792,'[1]SD vs SY0.15'!$A$2:$E$20133,5,FALSE)","v":"CEP170B"}]
["ENSGALG00000017389",80.2584882159577,-1.14659736793333,0.29799047274511,-3.84776518984245,1.19200217988591E-4,0.000625010310665754,{"$f":"VLOOKUP(A793,'[1]SD vs SY0.15'!$A$2:$E$20133,5,FALSE)","v":"SIX4"}]
["ENSGALG00000029022",15.996444107839,-1.14663033185034,0.398850139942129,-2.87483998881562,0.00404232299254047,0.0136818901832395,{"$f":"VLOOKUP(A794,'[1]SD vs SY0.15'!$A$2:$E$20133,5,FALSE)","v":"NPAS3"}]
["ENSGALG00000052067",12.9742588205181,-1.14710168761589,0.402226840469877,-2.85187752830184,0.00434618422172498,0.0145461222450688,{"$f":"VLOOKUP(A795,'[1]SD vs SY0.15'!$A$2:$E$20133,5,FALSE)","v":"NA"}]
["ENSGALG00000014668",141.476415476666,-1.14717743168901,0.258315447658155,-4.44099430401523,{"v":8.95441653488875e-06,"d":"8.95E-06"},{"v":6.0769102377873e-05,"d":"6.08E-05"},{"$f":"VLOOKUP(A796,'[1]SD vs SY0.15'!$A$2:$E$20133,5,FALSE)","v":"MCTP1"}]
["ENSGALG00000012227",91.7013140455455,-1.14727231877418,0.25462586080935,-4.50571797824259,{"v":6.61488948528904e-06,"d":"6.61E-06"},{"v":4.61714506145004e-05,"d":"4.62E-05"},{"$f":"VLOOKUP(A797,'[1]SD vs SY0.15'!$A$2:$E$20133,5,FALSE)","v":"TSPAN5"}]
["ENSGALG00000015014",477.223091288897,-1.1479894754033,0.130149033158577,-8.82057628506979,{"v":1.13872138400132E-18,"d":"1.14E-18"},{"v":6.47024467438922e-17,"d":"6.47E-17"},{"$f":"VLOOKUP(A798,'[1]SD vs SY0.15'!$A$2:$E$20133,5,FALSE)","v":"TNPO1"}]
["ENSGALG00000047534",18.0192545785845,-1.14801581999763,0.435313904161723,-2.63721376464726,0.00835901375172753,0.025276203843702,{"$f":"VLOOKUP(A799,'[1]SD vs SY0.15'!$A$2:$E$20133,5,FALSE)","v":"LOC101750972"}]
["ENSGALG00000008956",470.387881845006,-1.14805478654406,0.266224567687242,-4.3123547782141,{"v":1.61524973346708e-05,"d":"1.62E-05"},1.03061824278136E-4,{"$f":"VLOOKUP(A800,'[1]SD vs SY0.15'!$A$2:$E$20133,5,FALSE)","v":"CCDC186"}]
["ENSGALG00000008335",870.059632381531,-1.14842437177693,0.159960164416664,-7.17943980593517,{"v":6.99976328989769e-13,"d":"7.00E-13"},{"v":1.80303532328076E-11,"d":"1.80E-11"},{"$f":"VLOOKUP(A801,'[1]SD vs SY0.15'!$A$2:$E$20133,5,FALSE)","v":"PHTF2"}]
["ENSGALG00000053657",421.157063151628,-1.14959781846574,0.209425725124848,-5.48928656104887,{"v":4.0356044485958e-08,"d":"4.04E-08"},{"v":4.5036620377237e-07,"d":"4.50E-07"},{"$f":"VLOOKUP(A802,'[1]SD vs SY0.15'!$A$2:$E$20133,5,FALSE)","v":"LATS2"}]
["ENSGALG00000012570",1238.45824191297,-1.15014746199621,0.133110445723887,-8.64055000147758,{"v":5.59430499163752E-18,"d":"5.59E-18"},{"v":2.98368653035588e-16,"d":"2.98E-16"},{"$f":"VLOOKUP(A803,'[1]SD vs SY0.15'!$A$2:$E$20133,5,FALSE)","v":"TANC1"}]
["ENSGALG00000001995",613.914486514049,-1.15154377657473,0.198680419791033,-5.7959600537682,{"v":6.7931433060664e-09,"d":"6.79E-09"},{"v":8.76855105141623e-08,"d":"8.77E-08"},{"$f":"VLOOKUP(A804,'[1]SD vs SY0.15'!$A$2:$E$20133,5,FALSE)","v":"LIMS2"}]
["ENSGALG00000020985",43.41285669405,-1.15186792115445,0.374652846692467,-3.07449397842146,2.10859978018809E-3,0.00781684526903042,{"$f":"VLOOKUP(A805,'[1]SD vs SY0.15'!$A$2:$E$20133,5,FALSE)","v":"NA"}]
["ENSGALG00000047009",537.158864816492,-1.15191321810236,0.112831868804764,-10.2091122863129,{"v":1.80508693540198e-24,"d":"1.81E-24"},{"v":1.86815753249013E-22,"d":"1.87E-22"},{"$f":"VLOOKUP(A806,'[1]SD vs SY0.15'!$A$2:$E$20133,5,FALSE)","v":"ICE1"}]
["ENSGALG00000006681",66.9187303466288,-1.15237421553927,0.293380913468837,-3.9279113351785,{"v":8.56867874113605e-05,"d":"8.57E-05"},0.00046674065561445,{"$f":"VLOOKUP(A807,'[1]SD vs SY0.15'!$A$2:$E$20133,5,FALSE)","v":"BRSK1"}]
["ENSGALG00000006525",129.459663469999,-1.15321955917318,0.301944571459198,-3.81930880094997,0.000133826144238179,0.000691276045712782,{"$f":"VLOOKUP(A808,'[1]SD vs SY0.15'!$A$2:$E$20133,5,FALSE)","v":"NCAPG2"}]
["ENSGALG00000031404",380.576220513462,-1.15531049701916,0.11007041207409,-10.4961040414886,{"v":9.00191359961089e-26,"d":"9.00E-26"},{"v":1.07942256383748E-23,"d":"1.08E-23"},{"$f":"VLOOKUP(A809,'[1]SD vs SY0.15'!$A$2:$E$20133,5,FALSE)","v":"FAM160B1"}]
["ENSGALG00000006925",357.449354491228,-1.15642696094484,0.129817089816015,-8.90812575280962,{"v":5.19025073613768e-19,"d":"5.19E-19"},{"v":3.06948603908931e-17,"d":"3.07E-17"},{"$f":"VLOOKUP(A810,'[1]SD vs SY0.15'!$A$2:$E$20133,5,FALSE)","v":"CCP110"}]
["ENSGALG00000014903",191.276803246594,-1.15711574693278,0.249581013154409,-4.63623307040951,{"v":3.54815875906215E-6,"d":"3.55E-06"},{"v":2.64091765170435e-05,"d":"2.64E-05"},{"$f":"VLOOKUP(A811,'[1]SD vs SY0.15'!$A$2:$E$20133,5,FALSE)","v":"ITGA2"}]
["ENSGALG00000053376",11.4501485358206,-1.15725614166535,0.48587753043261,-2.38178567474599,0.0172289215964772,0.0463570504175098,{"$f":"VLOOKUP(A812,'[1]SD vs SY0.15'!$A$2:$E$20133,5,FALSE)","v":"NA"}]
["ENSGALG00000040948",81.9834092728658,-1.15796390890404,0.208740354339981,-5.54738882457792,{"v":2.89967419925199E-8,"d":"2.90E-08"},{"v":3.31470317569983E-7,"d":"3.31E-07"},{"$f":"VLOOKUP(A813,'[1]SD vs SY0.15'!$A$2:$E$20133,5,FALSE)","v":"ZMAT3"}]
["ENSGALG00000016292",95.8037582828299,-1.15887583086797,0.272358737265515,-4.25496109470584,{"v":2.09085367246512e-05,"d":"2.09E-05"},0.000130957034593484,{"$f":"VLOOKUP(A814,'[1]SD vs SY0.15'!$A$2:$E$20133,5,FALSE)","v":"NA"}]
["ENSGALG00000004347",394.850337227111,-1.15889887673764,0.146754999770615,-7.89682721916837,{"v":2.86092524799754e-15,"d":"2.86E-15"},{"v":1.07902185004194E-13,"d":"1.08E-13"},{"$f":"VLOOKUP(A815,'[1]SD vs SY0.15'!$A$2:$E$20133,5,FALSE)","v":"NEDD4"}]
["ENSGALG00000011384",268.555892963784,-1.1589787695427,0.168666251626837,-6.8714325383057,{"v":6.35603487478475e-12,"d":"6.36E-12"},{"v":1.38660449646026E-10,"d":"1.39E-10"},{"$f":"VLOOKUP(A816,'[1]SD vs SY0.15'!$A$2:$E$20133,5,FALSE)","v":"RCOR1"}]
["ENSGALG00000008010",436.792903131595,-1.1607934859231,0.155525315523129,-7.46369478189852,{"v":8.4129357253919e-14,"d":"8.41E-14"},{"v":2.56624058697174e-12,"d":"2.57E-12"},{"$f":"VLOOKUP(A817,'[1]SD vs SY0.15'!$A$2:$E$20133,5,FALSE)","v":"PTPN1"}]
["ENSGALG00000037872",478.40275466672,-1.16133258385409,0.108195719227445,-10.7336278380181,{"v":7.07623703125609e-27,"d":"7.08E-27"},{"v":9.320797974428e-25,"d":"9.32E-25"},{"$f":"VLOOKUP(A818,'[1]SD vs SY0.15'!$A$2:$E$20133,5,FALSE)","v":"ATAD2B"}]
["ENSGALG00000006652",646.996805063345,-1.16135053164157,0.151521019660846,-7.66461666005848,{"v":1.79366109572542e-14,"d":"1.79E-14"},{"v":6.00893747040035e-13,"d":"6.01E-13"},{"$f":"VLOOKUP(A819,'[1]SD vs SY0.15'!$A$2:$E$20133,5,FALSE)","v":"DIP2C"}]
["ENSGALG00000015400",181.62673356064,-1.16206426404602,0.111740015352397,-10.3997145550875,{"v":2.48677005158229e-25,"d":"2.49E-25"},{"v":2.84457045308298e-23,"d":"2.84E-23"},{"$f":"VLOOKUP(A820,'[1]SD vs SY0.15'!$A$2:$E$20133,5,FALSE)","v":"CGGBP1"}]
["ENSGALG00000040663",514.721782640736,-1.16261593234796,0.118238092878771,-9.83283732037175,{"v":8.1295468763898e-23,"d":"8.13E-23"},{"v":7.13880967372674e-21,"d":"7.14E-21"},{"$f":"VLOOKUP(A821,'[1]SD vs SY0.15'!$A$2:$E$20133,5,FALSE)","v":"DDI1"}]
["ENSGALG00000049835",92.803158377212,-1.16473800671284,0.252258164865101,-4.61724601594443,{"v":3.88866168431385e-06,"d":"3.89E-06"},{"v":2.87222432902145e-05,"d":"2.87E-05"},{"$f":"VLOOKUP(A822,'[1]SD vs SY0.15'!$A$2:$E$20133,5,FALSE)","v":"S1PR3"}]
["ENSGALG00000017866",28.7690670728514,-1.16535966512323,0.377816736850559,-3.08445749343331,0.00203923747735502,0.00760047631699285,{"$f":"VLOOKUP(A823,'[1]SD vs SY0.15'!$A$2:$E$20133,5,FALSE)","v":"SNORA28"}]
["ENSGALG00000025674",21.0776393698293,-1.16547450486613,0.359885771140699,-3.23845675024058,0.00120178240601829,0.00481460615056223,{"$f":"VLOOKUP(A824,'[1]SD vs SY0.15'!$A$2:$E$20133,5,FALSE)","v":"SNORD127"}]
["ENSGALG00000025205",34.5181716721791,-1.1664648221695,0.288857928446195,-4.03819562247803,{"v":5.38639263877881e-05,"d":"5.39E-05"},0.000307664943529721,{"$f":"VLOOKUP(A825,'[1]SD vs SY0.15'!$A$2:$E$20133,5,FALSE)","v":"SNORD102"}]
["ENSGALG00000038433",974.775356066895,-1.16753407583994,0.289400389754048,-4.03432102089492,{"v":5.47604108766045E-5,"d":"5.48E-05"},0.000312375086585145,{"$f":"VLOOKUP(A826,'[1]SD vs SY0.15'!$A$2:$E$20133,5,FALSE)","v":"SPON2"}]
["ENSGALG00000038780",788.901414085856,-1.16790347111344,0.11831725176038,-9.87094826609661,{"v":5.56361309195503e-23,"d":"5.56E-23"},{"v":4.96074568358062E-21,"d":"4.96E-21"},{"$f":"VLOOKUP(A827,'[1]SD vs SY0.15'!$A$2:$E$20133,5,FALSE)","v":"PRDM2"}]
["ENSGALG00000010778",27.6171001356505,-1.16979098166354,0.39652538933037,-2.95010360783964,0.00317667382173506,0.0111311623818032,{"$f":"VLOOKUP(A828,'[1]SD vs SY0.15'!$A$2:$E$20133,5,FALSE)","v":"CHRM3"}]
["ENSGALG00000036028",780.587425115725,-1.17038801961693,0.16606890322566,-7.04760492111258,{"v":1.82023569684935e-12,"d":"1.82E-12"},{"v":4.30590994028838e-11,"d":"4.31E-11"},{"$f":"VLOOKUP(A829,'[1]SD vs SY0.15'!$A$2:$E$20133,5,FALSE)","v":"GNA13"}]
["ENSGALG00000012909",180.017394205188,-1.17143258004484,0.191469159462709,-6.11812671728469,{"v":9.46817656483573e-10,"d":"9.47E-10"},{"v":1.4339998774634E-8,"d":"1.43E-08"},{"$f":"VLOOKUP(A830,'[1]SD vs SY0.15'!$A$2:$E$20133,5,FALSE)","v":"C5orf22"}]
["ENSGALG00000015083",1114.76335446973,-1.17294639519739,0.218750577114902,-5.36202651744905,{"v":8.22934555693402e-08,"d":"8.23E-08"},{"v":8.62469145258661e-07,"d":"8.62E-07"},{"$f":"VLOOKUP(A831,'[1]SD vs SY0.15'!$A$2:$E$20133,5,FALSE)","v":"DENND4C"}]
["ENSGALG00000042339",21.159447469635,-1.17496505170971,0.467631149556405,-2.51258936198815,0.0119848747441008,0.034256290839336,{"$f":"VLOOKUP(A832,'[1]SD vs SY0.15'!$A$2:$E$20133,5,FALSE)","v":"NA"}]
["ENSGALG00000048418",31.2713514380562,-1.17592331645099,0.361120168553198,-3.25632135464004,1.12865930232914E-3,4.56265968137566E-3,{"$f":"VLOOKUP(A833,'[1]SD vs SY0.15'!$A$2:$E$20133,5,FALSE)","v":"NA"}]
["ENSGALG00000035108",648.506403789582,-1.17639043668458,0.192156270943114,-6.12205071898401,{"v":9.23786063325984e-10,"d":"9.24E-10"},{"v":1.40155918700252E-8,"d":"1.40E-08"},{"$f":"VLOOKUP(A834,'[1]SD vs SY0.15'!$A$2:$E$20133,5,FALSE)","v":"KDM7A"}]
["ENSGALG00000037773",77.6104258156711,-1.1780109444416,0.231790685373422,-5.08221865146904,{"v":3.73051629660095E-7,"d":"3.73E-07"},{"v":3.40306856500528e-06,"d":"3.40E-06"},{"$f":"VLOOKUP(A835,'[1]SD vs SY0.15'!$A$2:$E$20133,5,FALSE)","v":"ST3GAL1"}]
["ENSGALG00000011537",34.4012469225302,-1.17803914957601,0.315754904768061,-3.73086571827394,1.90822918221539E-4,0.000951215045618665,{"$f":"VLOOKUP(A836,'[1]SD vs SY0.15'!$A$2:$E$20133,5,FALSE)","v":"PDE10A"}]
["ENSGALG00000004695",1368.67411941875,-1.1784320949654,0.260938671110606,-4.51612668198914,{"v":6.29809958884928e-06,"d":"6.30E-06"},{"v":4.41196847507342e-05,"d":"4.41E-05"},{"$f":"VLOOKUP(A837,'[1]SD vs SY0.15'!$A$2:$E$20133,5,FALSE)","v":"ECM2"}]
["ENSGALG00000001856",39.1335536791533,-1.17867007505936,0.258672954719769,-4.55660343902695,{"v":5.19874428001393e-06,"d":"5.20E-06"},{"v":3.71824626888533E-5,"d":"3.72E-05"},{"$f":"VLOOKUP(A838,'[1]SD vs SY0.15'!$A$2:$E$20133,5,FALSE)","v":"MOB3B"}]
["ENSGALG00000010230",295.212958183952,-1.18054377662835,0.259179959019066,-4.55491921943513,{"v":5.24057132761174E-6,"d":"5.24E-06"},{"v":3.74662062800926E-5,"d":"3.75E-05"},{"$f":"VLOOKUP(A839,'[1]SD vs SY0.15'!$A$2:$E$20133,5,FALSE)","v":"TESK2"}]
["ENSGALG00000014496",307.438552835765,-1.18087428670685,0.187307683115644,-6.30446262034953,{"v":2.89195504563082e-10,"d":"2.89E-10"},{"v":4.83950167260664E-9,"d":"4.84E-09"},{"$f":"VLOOKUP(A840,'[1]SD vs SY0.15'!$A$2:$E$20133,5,FALSE)","v":"PROM1,PROM1"}]
["ENSGALG00000003744",105.615278802393,-1.18125959963851,0.326184033802358,-3.62145131957703,0.000292954935717529,0.0013935998542601,{"$f":"VLOOKUP(A841,'[1]SD vs SY0.15'!$A$2:$E$20133,5,FALSE)","v":"ADAM19"}]
["ENSGALG00000039855",140.669536843328,-1.18183507215379,0.163106646917664,-7.2457811774549,{"v":4.29953800396781E-13,"d":"4.30E-13"},{"v":1.15186544337424E-11,"d":"1.15E-11"},{"$f":"VLOOKUP(A842,'[1]SD vs SY0.15'!$A$2:$E$20133,5,FALSE)","v":"SNX29"}]
["ENSGALG00000013043",109.981095484626,-1.18204980010951,0.200520525375747,-5.89490675777212,{"v":3.74893014175445e-09,"d":"3.75E-09"},{"v":5.08444995122344e-08,"d":"5.08E-08"},{"$f":"VLOOKUP(A843,'[1]SD vs SY0.15'!$A$2:$E$20133,5,FALSE)","v":"ATPSCKMT"}]
["ENSGALG00000028709",172.380576543051,-1.18212653479377,0.182646900335885,-6.47219598372523,{"v":9.65887255767855E-11,"d":"9.66E-11"},{"v":1.75118683170341e-09,"d":"1.75E-09"},{"$f":"VLOOKUP(A844,'[1]SD vs SY0.15'!$A$2:$E$20133,5,FALSE)","v":"RNF144A"}]
["ENSGALG00000047058",506.830137309683,-1.18214103257221,0.228008766981579,-5.18462973253884,{"v":2.16444438602833e-07,"d":"2.16E-07"},{"v":2.07574156314807e-06,"d":"2.08E-06"},{"$f":"VLOOKUP(A845,'[1]SD vs SY0.15'!$A$2:$E$20133,5,FALSE)","v":"NA"}]
["ENSGALG00000039222",203.907310453128,-1.1821704676728,0.119579722685946,-9.88604456608035,{"v":4.78564406599195e-23,"d":"4.79E-23"},{"v":4.29461463662023e-21,"d":"4.29E-21"},{"$f":"VLOOKUP(A846,'[1]SD vs SY0.15'!$A$2:$E$20133,5,FALSE)","v":"DPY19L4"}]
["ENSGALG00000015546",507.871317586997,-1.18342924463822,0.095098718179299,-12.4442186739781,{"v":1.50348405072408e-35,"d":"1.50E-35"},{"v":4.14937733173644e-33,"d":"4.15E-33"},{"$f":"VLOOKUP(A847,'[1]SD vs SY0.15'!$A$2:$E$20133,5,FALSE)","v":"TBC1D14"}]
["ENSGALG00000025695",18.2763415239065,-1.18431912599973,0.381811182074912,-3.1018450522158,1.92318593912182E-3,0.00724559781657879,{"$f":"VLOOKUP(A848,'[1]SD vs SY0.15'!$A$2:$E$20133,5,FALSE)","v":"SCARNA13"}]
["ENSGALG00000017376",182.631211272702,-1.18479721896283,0.140160487093062,-8.45314712823567,{"v":2.83553993705609e-17,"d":"2.84E-17"},{"v":1.3771377901004E-15,"d":"1.38E-15"},{"$f":"VLOOKUP(A849,'[1]SD vs SY0.15'!$A$2:$E$20133,5,FALSE)","v":"NA"}]
["ENSGALG00000009686",114.935081881504,-1.18597680125988,0.24256653861086,-4.88928443326019,{"v":1.01203178520038e-06,"d":"1.01E-06"},{"v":8.48009477073689e-06,"d":"8.48E-06"},{"$f":"VLOOKUP(A850,'[1]SD vs SY0.15'!$A$2:$E$20133,5,FALSE)","v":"PPP1R9A"}]
["ENSGALG00000031917",418.108302448986,-1.18635812555083,0.130685328217251,-9.07797487089469,{"v":1.1061369260233e-19,"d":"1.11E-19"},{"v":7.04483616584877e-18,"d":"7.04E-18"},{"$f":"VLOOKUP(A851,'[1]SD vs SY0.15'!$A$2:$E$20133,5,FALSE)","v":"ANKIB1"}]
["ENSGALG00000009759",66.9450886678631,-1.18774052658973,0.239667655464849,-4.95578147283177,{"v":7.204014839153e-07,"d":"7.20E-07"},{"v":6.21002508717666e-06,"d":"6.21E-06"},{"$f":"VLOOKUP(A852,'[1]SD vs SY0.15'!$A$2:$E$20133,5,FALSE)","v":"SLC16A7"}]
["ENSGALG00000006104",24.8450474904491,-1.18832571014924,0.397372086697281,-2.9904609556899,0.00278556737978099,0.00993286711079822,{"$f":"VLOOKUP(A853,'[1]SD vs SY0.15'!$A$2:$E$20133,5,FALSE)","v":"NA"}]
["ENSGALG00000033340",546.516274678658,-1.18988191947649,0.203946817265295,-5.83427550099338,{"v":5.40247931295266e-09,"d":"5.40E-09"},{"v":7.09999303207165e-08,"d":"7.10E-08"},{"$f":"VLOOKUP(A854,'[1]SD vs SY0.15'!$A$2:$E$20133,5,FALSE)","v":"NA"}]
["ENSGALG00000008081",577.136085394461,-1.19162099080601,0.199360316233724,-5.97722261540252,{"v":2.26973940639694e-09,"d":"2.27E-09"},{"v":3.22154767828764e-08,"d":"3.22E-08"},{"$f":"VLOOKUP(A855,'[1]SD vs SY0.15'!$A$2:$E$20133,5,FALSE)","v":"PIK3CG"}]
["ENSGALG00000022887",162.928638367351,-1.19200715014746,0.3459327523093,-3.44577708294495,0.000569419869383017,0.00250139041661509,{"$f":"VLOOKUP(A856,'[1]SD vs SY0.15'!$A$2:$E$20133,5,FALSE)","v":"KBTBD11"}]
["ENSGALG00000035478",406.465635398436,-1.1921808748105,0.146990464100961,-8.1106001134308,{"v":5.03703673557998e-16,"d":"5.04E-16"},{"v":2.08026027842112E-14,"d":"2.08E-14"},{"$f":"VLOOKUP(A857,'[1]SD vs SY0.15'!$A$2:$E$20133,5,FALSE)","v":"FAM91A1"}]
["ENSGALG00000011994",3002.61533651849,-1.19367386156165,0.257560014909177,-4.63454648417603,{"v":3.57720848199388e-06,"d":"3.58E-06"},{"v":2.65798819984733e-05,"d":"2.66E-05"},{"$f":"VLOOKUP(A858,'[1]SD vs SY0.15'!$A$2:$E$20133,5,FALSE)","v":"SYNPO2"}]
["ENSGALG00000053979",22.6799184604091,-1.19426676683344,0.399682441163632,-2.98803911264267,2.80773620034107E-3,0.00998938189386744,{"$f":"VLOOKUP(A859,'[1]SD vs SY0.15'!$A$2:$E$20133,5,FALSE)","v":"NA"}]
["ENSGALG00000028655",33.3012665564027,-1.19463172268991,0.304229068613499,-3.92675074783075,{"v":8.61011252478852e-05,"d":"8.61E-05"},0.000468557203344282,{"$f":"VLOOKUP(A860,'[1]SD vs SY0.15'!$A$2:$E$20133,5,FALSE)","v":"gga-mir-6607"}]
["ENSGALG00000008990",378.278908714538,-1.19597090116349,0.132021066286572,-9.05893987075862,{"v":1.31724525087149e-19,"d":"1.32E-19"},{"v":8.27388923943418e-18,"d":"8.27E-18"},{"$f":"VLOOKUP(A861,'[1]SD vs SY0.15'!$A$2:$E$20133,5,FALSE)","v":"RADX"}]
["ENSGALG00000035461",407.755739435498,-1.19621068362896,0.152807090920106,-7.82824066884689,{"v":4.9474419167206e-15,"d":"4.95E-15"},{"v":1.78838196686114E-13,"d":"1.79E-13"},{"$f":"VLOOKUP(A862,'[1]SD vs SY0.15'!$A$2:$E$20133,5,FALSE)","v":"CHORDC1"}]
["ENSGALG00000003628",276.754917214609,-1.19686758401719,0.231288195664453,-5.17478888439935,{"v":2.28168826018266e-07,"d":"2.28E-07"},{"v":2.17379253587923e-06,"d":"2.17E-06"},{"$f":"VLOOKUP(A863,'[1]SD vs SY0.15'!$A$2:$E$20133,5,FALSE)","v":"TLN2"}]
["ENSGALG00000012219",441.722463711702,-1.19800630352184,0.230219235515674,-5.20376284300658,{"v":1.95293204213397e-07,"d":"1.95E-07"},{"v":1.89273296636473e-06,"d":"1.89E-06"},{"$f":"VLOOKUP(A864,'[1]SD vs SY0.15'!$A$2:$E$20133,5,FALSE)","v":"UNC5C"}]
["ENSGALG00000011481",280.944072165638,-1.19924585808871,0.140664063746602,-8.52560224798485,{"v":1.52016788554488e-17,"d":"1.52E-17"},{"v":7.72840907192069e-16,"d":"7.73E-16"},{"$f":"VLOOKUP(A865,'[1]SD vs SY0.15'!$A$2:$E$20133,5,FALSE)","v":"GPD1L"}]
["ENSGALG00000011490",200.115287433116,-1.19942758828661,0.185524915947589,-6.46504854703966,{"v":1.01266293035451E-10,"d":"1.01E-10"},{"v":1.82836660125377E-9,"d":"1.83E-09"},{"$f":"VLOOKUP(A866,'[1]SD vs SY0.15'!$A$2:$E$20133,5,FALSE)","v":"CMTM6"}]
["ENSGALG00000014883",54.7253340004178,-1.19947828569546,0.295141208595497,-4.06408271960216,{"v":4.82217234444596e-05,"d":"4.82E-05"},0.000278548540042797,{"$f":"VLOOKUP(A867,'[1]SD vs SY0.15'!$A$2:$E$20133,5,FALSE)","v":"MCM9"}]
["ENSGALG00000006710",18.614831950919,-1.19959953285039,0.388731886466816,-3.08593036643726,0.0020291633668005,0.00757348991305903,{"$f":"VLOOKUP(A868,'[1]SD vs SY0.15'!$A$2:$E$20133,5,FALSE)","v":"RAB36"}]
["ENSGALG00000026768",33.0630773531815,-1.19986106564677,0.388656202790664,-3.08720421038291,0.002020487417512,0.00754790351600595,{"$f":"VLOOKUP(A869,'[1]SD vs SY0.15'!$A$2:$E$20133,5,FALSE)","v":"SLCO4C1"}]
["ENSGALG00000045814",59.6500939823292,-1.19994381153157,0.409231530767374,-2.93218806791715,0.00336582854156342,0.0117043321704326,{"$f":"VLOOKUP(A870,'[1]SD vs SY0.15'!$A$2:$E$20133,5,FALSE)","v":"CRLF2"}]
["ENSGALG00000007932",441.253352486589,-1.20153279122504,0.116499447081396,-10.3136351401356,{"v":6.11438710076708e-25,"d":"6.11E-25"},{"v":6.77139162554377e-23,"d":"6.77E-23"},{"$f":"VLOOKUP(A871,'[1]SD vs SY0.15'!$A$2:$E$20133,5,FALSE)","v":"TRAF6"}]
["ENSGALG00000026482",22.1832771233501,-1.20219381918624,0.378470887670025,-3.17644991557287,1.49089530735187E-3,0.00580304381216184,{"$f":"VLOOKUP(A872,'[1]SD vs SY0.15'!$A$2:$E$20133,5,FALSE)","v":"NA"}]
["ENSGALG00000047024",103.735205564859,-1.20338861869699,0.184826311607838,-6.5109161581405,{"v":7.46938282210443e-11,"d":"7.47E-11"},{"v":1.37428739817915e-09,"d":"1.37E-09"},{"$f":"VLOOKUP(A873,'[1]SD vs SY0.15'!$A$2:$E$20133,5,FALSE)","v":"ZNF469"}]
["ENSGALG00000016456",112.369141270768,-1.20374695858909,0.210711846681285,-5.712763556241,{"v":1.11156072871811E-8,"d":"1.11E-08"},{"v":1.37752718390747E-7,"d":"1.38E-07"},{"$f":"VLOOKUP(A874,'[1]SD vs SY0.15'!$A$2:$E$20133,5,FALSE)","v":"LPIN1,LPIN1"}]
["ENSGALG00000001939",1282.36667447373,-1.20506137034825,0.10900467487843,-11.055134760892,{"v":2.07025690062136e-28,"d":"2.07E-28"},{"v":3.27232333919123E-26,"d":"3.27E-26"},{"$f":"VLOOKUP(A875,'[1]SD vs SY0.15'!$A$2:$E$20133,5,FALSE)","v":"HIPK1"}]
["ENSGALG00000015111",69.7179566450823,-1.20742224341615,0.250950237577187,-4.81140107725451,{"v":1.49875911001199E-6,"d":"1.50E-06"},{"v":1.2169949377729e-05,"d":"1.22E-05"},{"$f":"VLOOKUP(A876,'[1]SD vs SY0.15'!$A$2:$E$20133,5,FALSE)","v":"APBA1"}]
["ENSGALG00000048807",14.3835073855584,-1.20815817135794,0.431005340328832,-2.80311647748073,0.00506113872141438,0.0165409810054947,{"$f":"VLOOKUP(A877,'[1]SD vs SY0.15'!$A$2:$E$20133,5,FALSE)","v":"NA"}]
["ENSGALG00000008494",696.446685440798,-1.20844495567998,0.126031527267672,-9.58843379810381,{"v":8.94322190206951e-22,"d":"8.94E-22"},{"v":6.97290579422792e-20,"d":"6.97E-20"},{"$f":"VLOOKUP(A878,'[1]SD vs SY0.15'!$A$2:$E$20133,5,FALSE)","v":"CREB1"}]
["ENSGALG00000049068",236.727489680701,-1.20868337270982,0.217819042485818,-5.54902527766147,{"v":2.87266646930812E-8,"d":"2.87E-08"},{"v":3.29248858944365e-07,"d":"3.29E-07"},{"$f":"VLOOKUP(A879,'[1]SD vs SY0.15'!$A$2:$E$20133,5,FALSE)","v":"ZNF831"}]
["ENSGALG00000009409",313.111316281283,-1.20878376465267,0.108657453799251,-11.1247201401014,{"v":9.51038584168178E-29,"d":"9.51E-29"},{"v":1.51703741861762E-26,"d":"1.52E-26"},{"$f":"VLOOKUP(A880,'[1]SD vs SY0.15'!$A$2:$E$20133,5,FALSE)","v":"MYNN"}]
["ENSGALG00000000906",723.833008208557,-1.20886285101974,0.19332763359163,-6.25292322965711,{"v":4.02840190363605e-10,"d":"4.03E-10"},{"v":6.58907092177987e-09,"d":"6.59E-09"},{"$f":"VLOOKUP(A881,'[1]SD vs SY0.15'!$A$2:$E$20133,5,FALSE)","v":"RALGPS1"}]
["ENSGALG00000016506",421.742347241902,-1.21007761611264,0.125176265183337,-9.66698929977122,{"v":4.16449115318339E-22,"d":"4.16E-22"},{"v":3.41547206039621e-20,"d":"3.42E-20"},{"$f":"VLOOKUP(A882,'[1]SD vs SY0.15'!$A$2:$E$20133,5,FALSE)","v":"ZNF512"}]
["ENSGALG00000051922",1125.31467122703,-1.21092204286233,0.120871905886304,-10.0182257736663,{"v":1.2675793837902E-23,"d":"1.27E-23"},{"v":1.22441126366446e-21,"d":"1.22E-21"},{"$f":"VLOOKUP(A883,'[1]SD vs SY0.15'!$A$2:$E$20133,5,FALSE)","v":"NA"}]
["ENSGALG00000041275",77.6071465889653,-1.2114733126221,0.235664740791176,-5.14066426973731,{"v":2.73768852109286E-7,"d":"2.74E-07"},{"v":2.57298326033738E-6,"d":"2.57E-06"},{"$f":"VLOOKUP(A884,'[1]SD vs SY0.15'!$A$2:$E$20133,5,FALSE)","v":"SLC25A38"}]
["ENSGALG00000013505",1519.99767534573,-1.21258571878687,0.116334921361639,-10.4232306567469,{"v":1.94240840934541E-25,"d":"1.94E-25"},{"v":2.29745952471352E-23,"d":"2.30E-23"},{"$f":"VLOOKUP(A885,'[1]SD vs SY0.15'!$A$2:$E$20133,5,FALSE)","v":"SYNE1"}]
["ENSGALG00000008834",21.7936519733729,-1.21262182215889,0.346171916483558,-3.50294684351289,0.000460141279797672,0.00207051667490738,{"$f":"VLOOKUP(A886,'[1]SD vs SY0.15'!$A$2:$E$20133,5,FALSE)","v":"LOC101747367"}]
["ENSGALG00000036128",419.690777149121,-1.21293624405735,0.11154849865764,-10.8736223136453,{"v":1.53964099135264E-27,"d":"1.54E-27"},{"v":2.21237503443375e-25,"d":"2.21E-25"},{"$f":"VLOOKUP(A887,'[1]SD vs SY0.15'!$A$2:$E$20133,5,FALSE)","v":"ZNF407"}]
["ENSGALG00000014264",9.79544716660172,-1.21299078189627,0.480562990971997,-2.52410361322841,0.0115993734975525,0.0332633839353965,{"$f":"VLOOKUP(A888,'[1]SD vs SY0.15'!$A$2:$E$20133,5,FALSE)","v":"NSUN7"}]
["ENSGALG00000014798",180.967804367391,-1.21342701278256,0.211305802709024,-5.74251628315901,{"v":9.32799058671206e-09,"d":"9.33E-09"},{"v":1.1704929997076e-07,"d":"1.17E-07"},{"$f":"VLOOKUP(A889,'[1]SD vs SY0.15'!$A$2:$E$20133,5,FALSE)","v":"SERINC5"}]
["ENSGALG00000020561",21.4775176855998,-1.21471741577066,0.377724148322794,-3.21588498157813,0.00130042940627684,0.00515634346338322,{"$f":"VLOOKUP(A890,'[1]SD vs SY0.15'!$A$2:$E$20133,5,FALSE)","v":"FREM3"}]
["ENSGALG00000015051",290.795972094022,-1.21484600848685,0.144491983948095,-8.40770522552484,{"v":4.18110356204827e-17,"d":"4.18E-17"},{"v":1.97010427190605e-15,"d":"1.97E-15"},{"$f":"VLOOKUP(A891,'[1]SD vs SY0.15'!$A$2:$E$20133,5,FALSE)","v":"CDK19"}]
["ENSGALG00000030800",131.740170526117,-1.21694580577786,0.29591445724836,-4.11249189071045,{"v":3.91411223639604e-05,"d":"3.91E-05"},0.000230693794760061,{"$f":"VLOOKUP(A892,'[1]SD vs SY0.15'!$A$2:$E$20133,5,FALSE)","v":"IL31RA"}]
["ENSGALG00000008872",180.532175600239,-1.2173917917343,0.153869423978114,-7.9118499326251,{"v":2.53591971645768e-15,"d":"2.54E-15"},{"v":9.64814794530626e-14,"d":"9.65E-14"},{"$f":"VLOOKUP(A893,'[1]SD vs SY0.15'!$A$2:$E$20133,5,FALSE)","v":"FAM199X"}]
["ENSGALG00000012080",105.494312478147,-1.21792245549581,0.32708746551337,-3.72353753631083,0.000196450637430725,0.000977244908369693,{"$f":"VLOOKUP(A894,'[1]SD vs SY0.15'!$A$2:$E$20133,5,FALSE)","v":"NA"}]
["ENSGALG00000002878",323.762371908361,-1.21854750397555,0.206628124915329,-5.89729740070417,{"v":3.69503528781255e-09,"d":"3.70E-09"},{"v":5.02311012894424e-08,"d":"5.02E-08"},{"$f":"VLOOKUP(A895,'[1]SD vs SY0.15'!$A$2:$E$20133,5,FALSE)","v":"CREBRF"}]
["ENSGALG00000008916",394.363005548207,-1.21890047782921,0.202570305079047,-6.01717254339708,{"v":1.77489868192957e-09,"d":"1.77E-09"},{"v":2.57168028189245e-08,"d":"2.57E-08"},{"$f":"VLOOKUP(A896,'[1]SD vs SY0.15'!$A$2:$E$20133,5,FALSE)","v":"DNAJB4"}]
["ENSGALG00000005519",141.83004231546,-1.22001293257981,0.197664991073067,-6.17212449183189,{"v":6.73784125168924e-10,"d":"6.74E-10"},{"v":1.04412518576757e-08,"d":"1.04E-08"},{"$f":"VLOOKUP(A897,'[1]SD vs SY0.15'!$A$2:$E$20133,5,FALSE)","v":"TLL2"}]
["ENSGALG00000010747",898.207796827499,-1.22020935930597,0.2831188323764,-4.30988411849526,{"v":1.63340114528349e-05,"d":"1.63E-05"},0.000104105372848402,{"$f":"VLOOKUP(A898,'[1]SD vs SY0.15'!$A$2:$E$20133,5,FALSE)","v":"FBLN5"}]
["ENSGALG00000016896",393.451683385115,-1.22113260872204,0.164038625900622,-7.4441772601889,{"v":9.75504440656175e-14,"d":"9.76E-14"},{"v":2.9293774973556e-12,"d":"2.93E-12"},{"$f":"VLOOKUP(A899,'[1]SD vs SY0.15'!$A$2:$E$20133,5,FALSE)","v":"ABCC4"}]
["ENSGALG00000053000",1396.42858856567,-1.22178276017747,0.164384644937882,-7.43246281086144,{"v":1.06594077064848E-13,"d":"1.07E-13"},{"v":3.17899008220672e-12,"d":"3.18E-12"},{"$f":"VLOOKUP(A900,'[1]SD vs SY0.15'!$A$2:$E$20133,5,FALSE)","v":"C20orf194"}]
["ENSGALG00000003536",625.116113321327,-1.22178539914424,0.104068473257355,-11.740206816745,{"v":7.92923110650868e-32,"d":"7.93E-32"},{"v":1.66103061745622e-29,"d":"1.66E-29"},{"$f":"VLOOKUP(A901,'[1]SD vs SY0.15'!$A$2:$E$20133,5,FALSE)","v":"KLHL11"}]
["ENSGALG00000036240",721.053522198689,-1.22184748945751,0.226044878964073,-5.40533143266525,{"v":6.46886633497851e-08,"d":"6.47E-08"},{"v":6.91723117873748e-07,"d":"6.92E-07"},{"$f":"VLOOKUP(A902,'[1]SD vs SY0.15'!$A$2:$E$20133,5,FALSE)","v":"AKAP12"}]
["ENSGALG00000015626",268.30532515987,-1.22197462753976,0.217391197616885,-5.62108604642437,{"v":1.89760722976125e-08,"d":"1.90E-08"},{"v":2.2582954759657e-07,"d":"2.26E-07"},{"$f":"VLOOKUP(A903,'[1]SD vs SY0.15'!$A$2:$E$20133,5,FALSE)","v":"RGS12"}]
["ENSGALG00000006837",1226.47921471558,-1.22215065290606,0.21507350856186,-5.68247880028674,{"v":1.32756373932965E-8,"d":"1.33E-08"},{"v":1.6266631949066e-07,"d":"1.63E-07"},{"$f":"VLOOKUP(A904,'[1]SD vs SY0.15'!$A$2:$E$20133,5,FALSE)","v":"TSPAN4"}]
["ENSGALG00000033293",213.734282386569,-1.22235273040757,0.211758327130889,-5.77239510232825,{"v":7.81525974774746e-09,"d":"7.82E-09"},{"v":9.9914647966239e-08,"d":"9.99E-08"},{"$f":"VLOOKUP(A905,'[1]SD vs SY0.15'!$A$2:$E$20133,5,FALSE)","v":"ACAP3"}]
["ENSGALG00000009800",401.004198041112,-1.22292502059886,0.183685268146765,-6.65771965785377,{"v":2.78108588111552E-11,"d":"2.78E-11"},{"v":5.43311687808489e-10,"d":"5.43E-10"},{"$f":"VLOOKUP(A906,'[1]SD vs SY0.15'!$A$2:$E$20133,5,FALSE)","v":"SETD7"}]
["ENSGALG00000011893",398.907420278832,-1.22323559731574,0.147901068784624,-8.2706339269058,{"v":1.33248599427345e-16,"d":"1.33E-16"},{"v":6.02642196651492e-15,"d":"6.03E-15"},{"$f":"VLOOKUP(A907,'[1]SD vs SY0.15'!$A$2:$E$20133,5,FALSE)","v":"SLC38A6"}]
["ENSGALG00000040000",260.991907400244,-1.22380998275237,0.131336739498026,-9.31810845487571,{"v":1.18432774079292E-20,"d":"1.18E-20"},{"v":8.26984193942427e-19,"d":"8.27E-19"},{"$f":"VLOOKUP(A908,'[1]SD vs SY0.15'!$A$2:$E$20133,5,FALSE)","v":"ERO1B"}]
["ENSGALG00000017838",11.9310876521132,-1.22402028220011,0.419018484889376,-2.92116058441493,0.00348730027756142,0.0120640051583686,{"$f":"VLOOKUP(A909,'[1]SD vs SY0.15'!$A$2:$E$20133,5,FALSE)","v":"SNORA62"}]
["ENSGALG00000039092",74.4230642057484,-1.22525977407665,0.316055978192326,-3.87671760263639,0.00010587512200733,0.000563468241916576,{"$f":"VLOOKUP(A910,'[1]SD vs SY0.15'!$A$2:$E$20133,5,FALSE)","v":"STAC"}]
["ENSGALG00000049035",21.696047237626,-1.22546032412003,0.42683706942667,-2.87102600007557,0.00409141871354782,0.0138181465935638,{"$f":"VLOOKUP(A911,'[1]SD vs SY0.15'!$A$2:$E$20133,5,FALSE)","v":"NA"}]
["ENSGALG00000010889",440.728364828593,-1.22576626566968,0.115232419032793,-10.6373386583237,{"v":1.99753420421222E-26,"d":"2.00E-26"},{"v":2.57267608952873e-24,"d":"2.57E-24"},{"$f":"VLOOKUP(A912,'[1]SD vs SY0.15'!$A$2:$E$20133,5,FALSE)","v":"HOOK1"}]
["ENSGALG00000039454",319.020770277172,-1.2258713920908,0.144595474599026,-8.47793746996738,{"v":2.29221098111028e-17,"d":"2.29E-17"},{"v":1.12902754471854e-15,"d":"1.13E-15"},{"$f":"VLOOKUP(A913,'[1]SD vs SY0.15'!$A$2:$E$20133,5,FALSE)","v":"SP4"}]
["ENSGALG00000036259",152.676622521661,-1.22622912159722,0.176538377060947,-6.94596348970564,{"v":3.75885980575545e-12,"d":"3.76E-12"},{"v":8.45476008313971e-11,"d":"8.45E-11"},{"$f":"VLOOKUP(A914,'[1]SD vs SY0.15'!$A$2:$E$20133,5,FALSE)","v":"NA"}]
["ENSGALG00000041505",1566.72904624559,-1.22624938639971,0.100008228062399,-12.2614849813617,{"v":1.45803189968734e-34,"d":"1.46E-34"},{"v":3.62154294855197e-32,"d":"3.62E-32"},{"$f":"VLOOKUP(A915,'[1]SD vs SY0.15'!$A$2:$E$20133,5,FALSE)","v":"PRRC2B"}]
["ENSGALG00000016655",16.0045212638861,-1.22813169265811,0.473530514433694,-2.5935639947657,0.00949868599470443,0.0281160458614106,{"$f":"VLOOKUP(A916,'[1]SD vs SY0.15'!$A$2:$E$20133,5,FALSE)","v":"GYG2"}]
["ENSGALG00000034561",15.9543911581064,-1.22979773667052,0.499519119753118,-2.46196329237273,0.0138178808082103,0.0386569223765211,{"$f":"VLOOKUP(A917,'[1]SD vs SY0.15'!$A$2:$E$20133,5,FALSE)","v":"C8orf34"}]
["ENSGALG00000006864",185.969890712973,-1.22981755884982,0.289290565831866,-4.25114989599967,{"v":2.12675763591759e-05,"d":"2.13E-05"},0.000133062018768259,{"$f":"VLOOKUP(A918,'[1]SD vs SY0.15'!$A$2:$E$20133,5,FALSE)","v":"COL24A1"}]
["ENSGALG00000010812",396.732439397039,-1.23116390090238,0.325886278793783,-3.77789425642386,0.000158160002846434,0.000803310968886166,{"$f":"VLOOKUP(A919,'[1]SD vs SY0.15'!$A$2:$E$20133,5,FALSE)","v":"RYR2"}]
["ENSGALG00000008659",55.3911589887283,-1.23170948699563,0.260589852295178,-4.72662107195345,{"v":2.28286699949382e-06,"d":"2.28E-06"},{"v":1.77514349374772e-05,"d":"1.78E-05"},{"$f":"VLOOKUP(A920,'[1]SD vs SY0.15'!$A$2:$E$20133,5,FALSE)","v":"HACD1"}]
["ENSGALG00000006011",594.795781575858,-1.23307206023336,0.157331639035888,-7.83740681651512,{"v":4.59946034666773E-15,"d":"4.60E-15"},{"v":1.67302964534543E-13,"d":"1.67E-13"},{"$f":"VLOOKUP(A921,'[1]SD vs SY0.15'!$A$2:$E$20133,5,FALSE)","v":"KIAA0753"}]
["ENSGALG00000016468",300.781445452068,-1.23318236384335,0.119959815892819,-10.2799621245265,{"v":8.67616902089989e-25,"d":"8.68E-25"},{"v":9.31188584977694e-23,"d":"9.31E-23"},{"$f":"VLOOKUP(A922,'[1]SD vs SY0.15'!$A$2:$E$20133,5,FALSE)","v":"GEN1"}]
["ENSGALG00000013865",621.741474381976,-1.23390404395491,0.175414348475104,-7.03422527678821,{"v":2.00371168514944e-12,"d":"2.00E-12"},{"v":4.69522035979695E-11,"d":"4.70E-11"},{"$f":"VLOOKUP(A923,'[1]SD vs SY0.15'!$A$2:$E$20133,5,FALSE)","v":"IFNGR1"}]
["ENSGALG00000015706",582.267872785648,-1.23408409072582,0.178634573947612,-6.90842799047251,{"v":4.90053630106787e-12,"d":"4.90E-12"},{"v":1.08542197027601E-10,"d":"1.09E-10"},{"$f":"VLOOKUP(A924,'[1]SD vs SY0.15'!$A$2:$E$20133,5,FALSE)","v":"LETM1"}]
["ENSGALG00000026297",10.2239953200388,-1.23566143685877,0.524691911730726,-2.35502284146686,0.0185215671565385,0.0492482777413571,{"$f":"VLOOKUP(A925,'[1]SD vs SY0.15'!$A$2:$E$20133,5,FALSE)","v":"MMP3"}]
["ENSGALG00000008885",92.56307924608,-1.23645294171543,0.210560698913032,-5.87219242763873,{"v":4.30069122324763e-09,"d":"4.30E-09"},{"v":5.74758787844785e-08,"d":"5.75E-08"},{"$f":"VLOOKUP(A926,'[1]SD vs SY0.15'!$A$2:$E$20133,5,FALSE)","v":"PDE1A"}]
["ENSGALG00000008559",666.859526944662,-1.23645608767464,0.122636370170535,-10.0822952110802,{"v":6.61622599668471e-24,"d":"6.62E-24"},{"v":6.53615462524756e-22,"d":"6.54E-22"},{"$f":"VLOOKUP(A927,'[1]SD vs SY0.15'!$A$2:$E$20133,5,FALSE)","v":"CUL4B"}]
["ENSGALG00000014923",188.412638639394,-1.23648482862095,0.225082306388189,-5.49347857884682,{"v":3.94092928830087e-08,"d":"3.94E-08"},{"v":4.40365922465856e-07,"d":"4.40E-07"},{"$f":"VLOOKUP(A928,'[1]SD vs SY0.15'!$A$2:$E$20133,5,FALSE)","v":"ARHGEF28"}]
["ENSGALG00000003558",215.717421110438,-1.23675371553814,0.150027196894766,-8.24353011411417,{"v":1.67202817235886e-16,"d":"1.67E-16"},{"v":7.45424457251373e-15,"d":"7.45E-15"},{"$f":"VLOOKUP(A929,'[1]SD vs SY0.15'!$A$2:$E$20133,5,FALSE)","v":"NADK2"}]
["ENSGALG00000050065",198.300258487236,-1.23700154596769,0.280772032056635,-4.40571497419718,{"v":1.05435527569395E-5,"d":"1.05E-05"},{"v":7.0345645351077e-05,"d":"7.03E-05"},{"$f":"VLOOKUP(A930,'[1]SD vs SY0.15'!$A$2:$E$20133,5,FALSE)","v":"CYSLTR2"}]
["ENSGALG00000040276",82.1082805296854,-1.23855492006252,0.264322228412605,-4.68577662764384,{"v":2.78900314479666e-06,"d":"2.79E-06"},{"v":2.12220558768401e-05,"d":"2.12E-05"},{"$f":"VLOOKUP(A931,'[1]SD vs SY0.15'!$A$2:$E$20133,5,FALSE)","v":"RUNX2"}]
["ENSGALG00000000273",392.053910127851,-1.23905424545932,0.162446979581537,-7.62743787943066,{"v":2.39465132471192E-14,"d":"2.39E-14"},{"v":7.8410174355492e-13,"d":"7.84E-13"},{"$f":"VLOOKUP(A932,'[1]SD vs SY0.15'!$A$2:$E$20133,5,FALSE)","v":"FER"}]
["ENSGALG00000031018",11.442169215897,-1.23933637557525,0.43928050826034,-2.82128697329033,4.78313934803798E-3,0.015807725497878,{"$f":"VLOOKUP(A933,'[1]SD vs SY0.15'!$A$2:$E$20133,5,FALSE)","v":"RNF165"}]
["ENSGALG00000008479",126.708245199652,-1.23934810601017,0.212603268668131,-5.82939346969669,{"v":5.56291961390323e-09,"d":"5.56E-09"},{"v":7.28331952763068E-8,"d":"7.28E-08"},{"$f":"VLOOKUP(A934,'[1]SD vs SY0.15'!$A$2:$E$20133,5,FALSE)","v":"PLEKHM3"}]
["ENSGALG00000010881",340.689721723019,-1.23972132893015,0.185597598779621,-6.67961944056289,{"v":2.39563524457563e-11,"d":"2.40E-11"},{"v":4.7378307430181e-10,"d":"4.74E-10"},{"$f":"VLOOKUP(A935,'[1]SD vs SY0.15'!$A$2:$E$20133,5,FALSE)","v":"ASB2"}]
["ENSGALG00000041787",327.122825217555,-1.23982287531773,0.200058871143729,-6.19729016878736,{"v":5.74435424835247e-10,"d":"5.74E-10"},{"v":9.06325656225993e-09,"d":"9.06E-09"},{"$f":"VLOOKUP(A936,'[1]SD vs SY0.15'!$A$2:$E$20133,5,FALSE)","v":"PLA2G15"}]
["ENSGALG00000014718",757.771862202983,-1.24008202554108,0.145324765652934,-8.53317753494723,{"v":1.42381936368467e-17,"d":"1.42E-17"},{"v":7.25980858545025E-16,"d":"7.26E-16"},{"$f":"VLOOKUP(A937,'[1]SD vs SY0.15'!$A$2:$E$20133,5,FALSE)","v":"MAP3K1"}]
["ENSGALG00000032534",46.2209218019089,-1.24016292337961,0.3524984021771,-3.5182086378835,0.00043447062781001,0.00196876226367804,{"$f":"VLOOKUP(A938,'[1]SD vs SY0.15'!$A$2:$E$20133,5,FALSE)","v":"NA"}]
["ENSGALG00000010270",440.341875692168,-1.24134208079587,0.11292913011916,-10.9922221085564,{"v":4.16542510243749e-28,"d":"4.17E-28"},{"v":6.35300405755094e-26,"d":"6.35E-26"},{"$f":"VLOOKUP(A939,'[1]SD vs SY0.15'!$A$2:$E$20133,5,FALSE)","v":"AREL1"}]
["ENSGALG00000006860",207.189264511751,-1.24180897707855,0.15060563406629,-8.24543507138623,{"v":1.64560362957015e-16,"d":"1.65E-16"},{"v":7.35529827952085e-15,"d":"7.36E-15"},{"$f":"VLOOKUP(A940,'[1]SD vs SY0.15'!$A$2:$E$20133,5,FALSE)","v":"KIF3A"}]
["ENSGALG00000029514",501.809277846816,-1.24340925740635,0.171458374380161,-7.25195991097782,{"v":4.1078348534425e-13,"d":"4.11E-13"},{"v":1.10905162417399E-11,"d":"1.11E-11"},{"$f":"VLOOKUP(A941,'[1]SD vs SY0.15'!$A$2:$E$20133,5,FALSE)","v":"MAPK8IP3"}]
["ENSGALG00000053028",47.9474522077683,-1.24387515494098,0.42450149240254,-2.93020207750284,0.00338741639111881,0.0117699857698607,{"$f":"VLOOKUP(A942,'[1]SD vs SY0.15'!$A$2:$E$20133,5,FALSE)","v":"NA"}]
["ENSGALG00000010163",435.236048263359,-1.24479362951458,0.127188478085656,-9.78699995668057,{"v":1.28038529874191e-22,"d":"1.28E-22"},{"v":1.09127741123655E-20,"d":"1.09E-20"},{"$f":"VLOOKUP(A943,'[1]SD vs SY0.15'!$A$2:$E$20133,5,FALSE)","v":"LGR5"}]
["ENSGALG00000025780",244.522636686744,-1.24624409682432,0.21429473309995,-5.81556102101237,{"v":6.04308630569786e-09,"d":"6.04E-09"},{"v":7.87639742107712e-08,"d":"7.88E-08"},{"$f":"VLOOKUP(A944,'[1]SD vs SY0.15'!$A$2:$E$20133,5,FALSE)","v":"ITPRIP"}]
["ENSGALG00000012407",27.3483990386419,-1.24715483672856,0.324389372448012,-3.84462298291981,1.20737922181642E-4,0.000632119919594159,{"$f":"VLOOKUP(A945,'[1]SD vs SY0.15'!$A$2:$E$20133,5,FALSE)","v":"LRP1B"}]
["ENSGALG00000015141",305.214365182132,-1.24738572595192,0.332860153372048,-3.74747687073762,0.000178622301659559,0.000895899721791232,{"$f":"VLOOKUP(A946,'[1]SD vs SY0.15'!$A$2:$E$20133,5,FALSE)","v":"GDA"}]
["ENSGALG00000023898",171.042925735542,-1.24996087324484,0.160280825522352,-7.79856772743246,{"v":6.26137461241397e-15,"d":"6.26E-15"},{"v":2.21724074105991E-13,"d":"2.22E-13"},{"$f":"VLOOKUP(A947,'[1]SD vs SY0.15'!$A$2:$E$20133,5,FALSE)","v":"NA"}]
["ENSGALG00000030789",306.438066629488,-1.25170702574099,0.235249989987449,-5.32075272695133,{"v":1.03338782315722E-7,"d":"1.03E-07"},{"v":1.06253779309489e-06,"d":"1.06E-06"},{"$f":"VLOOKUP(A948,'[1]SD vs SY0.15'!$A$2:$E$20133,5,FALSE)","v":"PGAP1"}]
["ENSGALG00000007007",13.5353766097606,-1.25176341897887,0.490353924777821,-2.55277536433719,0.0106868396211243,0.0310618656791187,{"$f":"VLOOKUP(A949,'[1]SD vs SY0.15'!$A$2:$E$20133,5,FALSE)","v":"KNDC1"}]
["ENSGALG00000047857",14.3141194754198,-1.25181502827397,0.365832119490731,-3.42182919864064,0.000622013748318913,0.00270238706697175,{"$f":"VLOOKUP(A950,'[1]SD vs SY0.15'!$A$2:$E$20133,5,FALSE)","v":"NA"}]
["ENSGALG00000005037",13.8840046651696,-1.25190960758371,0.408575095395945,-3.06408692475616,2.18335460835885E-3,0.00803938724598378,{"$f":"VLOOKUP(A951,'[1]SD vs SY0.15'!$A$2:$E$20133,5,FALSE)","v":"NA"}]
["ENSGALG00000030229",74.7310588244067,-1.25272035287057,0.25744630438197,-4.86594808916707,{"v":1.13909415591838e-06,"d":"1.14E-06"},{"v":9.45818055823919e-06,"d":"9.46E-06"},{"$f":"VLOOKUP(A952,'[1]SD vs SY0.15'!$A$2:$E$20133,5,FALSE)","v":"CSMD2"}]
["ENSGALG00000034806",232.147544279599,-1.25300824354224,0.207679252019297,-6.03338191638816,{"v":1.60563330668069e-09,"d":"1.61E-09"},{"v":2.34795174964316e-08,"d":"2.35E-08"},{"$f":"VLOOKUP(A953,'[1]SD vs SY0.15'!$A$2:$E$20133,5,FALSE)","v":"SLC7A7"}]
["ENSGALG00000009156",434.452608616285,-1.25600473772847,0.160878987917289,-7.8071397265018,{"v":5.85004033701587E-15,"d":"5.85E-15"},{"v":2.08431662581342e-13,"d":"2.08E-13"},{"$f":"VLOOKUP(A954,'[1]SD vs SY0.15'!$A$2:$E$20133,5,FALSE)","v":"NA"}]
["ENSGALG00000038504",90.9189377510967,-1.2560140585296,0.209769585685508,-5.98758897494629,{"v":2.12974442088427e-09,"d":"2.13E-09"},{"v":3.04021890360549e-08,"d":"3.04E-08"},{"$f":"VLOOKUP(A955,'[1]SD vs SY0.15'!$A$2:$E$20133,5,FALSE)","v":"MID1"}]
["ENSGALG00000011982",917.487087190089,-1.25671135908429,0.194338248836889,-6.46661872588481,{"v":1.00220091629226E-10,"d":"1.00E-10"},{"v":1.81324321868611e-09,"d":"1.81E-09"},{"$f":"VLOOKUP(A956,'[1]SD vs SY0.15'!$A$2:$E$20133,5,FALSE)","v":"PDE5A,PDE5A"}]
["ENSGALG00000036017",573.402390430655,-1.25759571622942,0.131661528615665,-9.55173260900293,{"v":1.27545087449623e-21,"d":"1.28E-21"},{"v":9.68395823356592e-20,"d":"9.68E-20"},{"$f":"VLOOKUP(A957,'[1]SD vs SY0.15'!$A$2:$E$20133,5,FALSE)","v":"NCOA2"}]
["ENSGALG00000048653",12.5931596284182,-1.25832037205596,0.487268085483751,-2.58239849795769,0.0098116219136942,0.0288654264320476,{"$f":"VLOOKUP(A958,'[1]SD vs SY0.15'!$A$2:$E$20133,5,FALSE)","v":"NA"}]
["ENSGALG00000010766",418.765793727051,-1.2588420513639,0.113152954181106,-11.1251364179946,{"v":9.46609577628366e-29,"d":"9.47E-29"},{"v":1.51703741861762E-26,"d":"1.52E-26"},{"$f":"VLOOKUP(A959,'[1]SD vs SY0.15'!$A$2:$E$20133,5,FALSE)","v":"ATXN3L"}]
["ENSGALG00000015303",84.744118050483,-1.25906200382431,0.171492981013633,-7.3417698869216,{"v":2.10787583820303E-13,"d":"2.11E-13"},{"v":5.98850281026734E-12,"d":"5.99E-12"},{"$f":"VLOOKUP(A960,'[1]SD vs SY0.15'!$A$2:$E$20133,5,FALSE)","v":"AFG1L"}]
["ENSGALG00000015453",12.5455711299056,-1.26123860556454,0.394367596876541,-3.19812939895106,0.00138322197502263,0.00543504643609458,{"$f":"VLOOKUP(A961,'[1]SD vs SY0.15'!$A$2:$E$20133,5,FALSE)","v":"DUSP27"}]
["ENSGALG00000006955",36.629953796485,-1.26394617365123,0.308496317425714,-4.09711916238865,{"v":4.18323590702173e-05,"d":"4.18E-05"},0.000245060386507368,{"$f":"VLOOKUP(A962,'[1]SD vs SY0.15'!$A$2:$E$20133,5,FALSE)","v":"CCNJ"}]
["ENSGALG00000040474",471.591863960333,-1.26404063700997,0.15283800538401,-8.27046017666893,{"v":1.33442943412219E-16,"d":"1.33E-16"},{"v":6.02642196651492e-15,"d":"6.03E-15"},{"$f":"VLOOKUP(A963,'[1]SD vs SY0.15'!$A$2:$E$20133,5,FALSE)","v":"ITCH"}]
["ENSGALG00000003195",184.039852276251,-1.2645606217754,0.154477437097508,-8.18605386997197,{"v":2.69930943828748E-16,"d":"2.70E-16"},{"v":1.17332233008761e-14,"d":"1.17E-14"},{"$f":"VLOOKUP(A964,'[1]SD vs SY0.15'!$A$2:$E$20133,5,FALSE)","v":"TRADD"}]
["ENSGALG00000016795",209.754840533227,-1.26527954997951,0.168806354316246,-7.49544977204534,{"v":6.6071403165102e-14,"d":"6.61E-14"},{"v":2.03847059608292E-12,"d":"2.04E-12"},{"$f":"VLOOKUP(A965,'[1]SD vs SY0.15'!$A$2:$E$20133,5,FALSE)","v":"TGFBRAP1"}]
["ENSGALG00000039659",40.8684526154171,-1.26583976458402,0.334848090128749,-3.78034040480058,0.000156614084651368,0.000796213184161792,{"$f":"VLOOKUP(A966,'[1]SD vs SY0.15'!$A$2:$E$20133,5,FALSE)","v":"PCLO"}]
["ENSGALG00000017227",42.1405361274755,-1.26684153075855,0.311843554641371,-4.06242653376453,{"v":4.85652344559127e-05,"d":"4.86E-05"},0.000279881912988052,{"$f":"VLOOKUP(A967,'[1]SD vs SY0.15'!$A$2:$E$20133,5,FALSE)","v":"SLC36A4"}]
["ENSGALG00000052774",17.0730724728015,-1.26691711017643,0.503381593846664,-2.51681254472396,0.0118421815989199,0.0338874278242957,{"$f":"VLOOKUP(A968,'[1]SD vs SY0.15'!$A$2:$E$20133,5,FALSE)","v":"NA"}]
["ENSGALG00000000478",123.361607377672,-1.26731572567673,0.161072978112861,-7.8679598559899,{"v":3.60471201378019e-15,"d":"3.60E-15"},{"v":1.33351335709779E-13,"d":"1.33E-13"},{"$f":"VLOOKUP(A969,'[1]SD vs SY0.15'!$A$2:$E$20133,5,FALSE)","v":"TANC2"}]
["ENSGALG00000054877",20.5377481213112,-1.26753829085201,0.388767834732613,-3.26039908040179,1.11255551701096E-3,4.50489119102691E-3,{"$f":"VLOOKUP(A970,'[1]SD vs SY0.15'!$A$2:$E$20133,5,FALSE)","v":"NA"}]
["ENSGALG00000023552",52.8565831069183,-1.26755389105515,0.28883051420576,-4.38857332834354,{"v":1.1409666513015E-5,"d":"1.14E-05"},{"v":7.56309079915331e-05,"d":"7.56E-05"},{"$f":"VLOOKUP(A971,'[1]SD vs SY0.15'!$A$2:$E$20133,5,FALSE)","v":"SPEF2"}]
["ENSGALG00000016511",94.4834699526889,-1.26786381882383,0.30282078578223,-4.18684541600656,{"v":2.82858331371095e-05,"d":"2.83E-05"},1.71839895441972E-4,{"$f":"VLOOKUP(A972,'[1]SD vs SY0.15'!$A$2:$E$20133,5,FALSE)","v":"ADGRG2"}]
["ENSGALG00000004205",939.193995866939,-1.26786846435227,0.228976800015687,-5.53710447637232,{"v":3.07513129213186e-08,"d":"3.08E-08"},{"v":3.49382954445135e-07,"d":"3.49E-07"},{"$f":"VLOOKUP(A973,'[1]SD vs SY0.15'!$A$2:$E$20133,5,FALSE)","v":"SOAT1"}]
["ENSGALG00000010397",21.0512192261319,-1.26795422894626,0.432477751703546,-2.93183689554373,0.00336963666787019,0.0117111405428861,{"$f":"VLOOKUP(A974,'[1]SD vs SY0.15'!$A$2:$E$20133,5,FALSE)","v":"GRID2"}]
["ENSGALG00000004294",199.529193087421,-1.2686495419279,0.268079013221558,-4.73237172385219,{"v":2.21911543136762e-06,"d":"2.22E-06"},{"v":1.73566171863198E-5,"d":"1.74E-05"},{"$f":"VLOOKUP(A975,'[1]SD vs SY0.15'!$A$2:$E$20133,5,FALSE)","v":"CGNL1"}]
["ENSGALG00000029842",7.40803712169133,-1.26941475362391,0.517012287169138,-2.45528933282126,0.0140771235724213,0.0392619421805725,{"$f":"VLOOKUP(A976,'[1]SD vs SY0.15'!$A$2:$E$20133,5,FALSE)","v":"SLCO5A1"}]
["ENSGALG00000004310",261.323583776535,-1.27096663333284,0.165589425926612,-7.67540938209497,{"v":1.64891187217799e-14,"d":"1.65E-14"},{"v":5.5561299847982e-13,"d":"5.56E-13"},{"$f":"VLOOKUP(A977,'[1]SD vs SY0.15'!$A$2:$E$20133,5,FALSE)","v":"TTYH3"}]
["ENSGALG00000031795",8.50184616114504,-1.27105014900697,0.484387441268994,-2.6240361345395,0.00868945657744656,0.026116435870711,{"$f":"VLOOKUP(A978,'[1]SD vs SY0.15'!$A$2:$E$20133,5,FALSE)","v":"NA"}]
["ENSGALG00000011696",286.841067468745,-1.2718119777202,0.240917733730364,-5.27903014040311,{"v":1.29869443683729e-07,"d":"1.30E-07"},{"v":1.30598034547658e-06,"d":"1.31E-06"},{"$f":"VLOOKUP(A979,'[1]SD vs SY0.15'!$A$2:$E$20133,5,FALSE)","v":"JAG2"}]
["ENSGALG00000009705",281.538777363,-1.27299660781046,0.217797661239149,-5.84485894186284,{"v":5.06997697506772e-09,"d":"5.07E-09"},{"v":6.69845666151234e-08,"d":"6.70E-08"},{"$f":"VLOOKUP(A980,'[1]SD vs SY0.15'!$A$2:$E$20133,5,FALSE)","v":"RYR3"}]
["ENSGALG00000042471",179.708545439746,-1.27306202150154,0.329594029358606,-3.86251542231798,1.12225478057838E-4,0.000593269804497304,{"$f":"VLOOKUP(A981,'[1]SD vs SY0.15'!$A$2:$E$20133,5,FALSE)","v":"IL2RA"}]
["ENSGALG00000004323",592.807431392217,-1.27372614995665,0.163066646557016,-7.81107710773515,{"v":5.67013109846824e-15,"d":"5.67E-15"},{"v":2.02853023475447E-13,"d":"2.03E-13"},{"$f":"VLOOKUP(A982,'[1]SD vs SY0.15'!$A$2:$E$20133,5,FALSE)","v":"RASAL2"}]
["ENSGALG00000024890",8.15808807634042,-1.2746689616299,0.528575406479322,-2.41151772482204,0.01588627965255,0.0433675034455726,{"$f":"VLOOKUP(A983,'[1]SD vs SY0.15'!$A$2:$E$20133,5,FALSE)","v":"SNORD101"}]
["ENSGALG00000047663",87.7881081350544,-1.27489546363404,0.264831811374257,-4.81398158710009,{"v":1.47952445849444E-6,"d":"1.48E-06"},{"v":1.20264103599078e-05,"d":"1.20E-05"},{"$f":"VLOOKUP(A984,'[1]SD vs SY0.15'!$A$2:$E$20133,5,FALSE)","v":"NA"}]
["ENSGALG00000009947",322.651114880362,-1.27564321060922,0.136220835233079,-9.36452348443281,{"v":7.63942243644546e-21,"d":"7.64E-21"},{"v":5.42149542459091e-19,"d":"5.42E-19"},{"$f":"VLOOKUP(A985,'[1]SD vs SY0.15'!$A$2:$E$20133,5,FALSE)","v":"PLEKHH2"}]
["ENSGALG00000008653",939.099912082998,-1.27579090552629,0.102985134331768,-12.3881074079712,{"v":3.03112593702056e-35,"d":"3.03E-35"},{"v":8.10802871799639e-33,"d":"8.11E-33"},{"$f":"VLOOKUP(A986,'[1]SD vs SY0.15'!$A$2:$E$20133,5,FALSE)","v":"MGA"}]
["ENSGALG00000014262",161.288001692424,-1.27911306464343,0.200629027393823,-6.3755134601366,{"v":1.82350972574228e-10,"d":"1.82E-10"},{"v":3.14849688197428e-09,"d":"3.15E-09"},{"$f":"VLOOKUP(A987,'[1]SD vs SY0.15'!$A$2:$E$20133,5,FALSE)","v":"NA"}]
["ENSGALG00000001025",497.812524298255,-1.27914180995327,0.127788976574668,-10.0097977481325,{"v":1.38034442302405e-23,"d":"1.38E-23"},{"v":1.31868398258897E-21,"d":"1.32E-21"},{"$f":"VLOOKUP(A988,'[1]SD vs SY0.15'!$A$2:$E$20133,5,FALSE)","v":"GOLGA1"}]
["ENSGALG00000040842",9.98397027877306,-1.28208647902082,0.516358339509972,-2.48293942582108,0.0130303243288472,0.0368026503079842,{"$f":"VLOOKUP(A989,'[1]SD vs SY0.15'!$A$2:$E$20133,5,FALSE)","v":"HSPB2"}]
["ENSGALG00000016628",27.2926058823359,-1.28255675261601,0.376213657709043,-3.40911800072903,0.00065173282353195,2.81573463364485E-3,{"$f":"VLOOKUP(A990,'[1]SD vs SY0.15'!$A$2:$E$20133,5,FALSE)","v":"NLGN4Y,NLGN4Y"}]
["ENSGALG00000010805",952.380417492668,-1.28292176630788,0.10572832115623,-12.1341354168687,{"v":6.96416653358162e-34,"d":"6.96E-34"},{"v":1.68174949332477E-31,"d":"1.68E-31"},{"$f":"VLOOKUP(A991,'[1]SD vs SY0.15'!$A$2:$E$20133,5,FALSE)","v":"USP24"}]
["ENSGALG00000036447",20.3842593598826,-1.28458640414002,0.387839587227311,-3.31215906381195,0.000925788915720481,0.00384169257222721,{"$f":"VLOOKUP(A992,'[1]SD vs SY0.15'!$A$2:$E$20133,5,FALSE)","v":"NA"}]
["ENSGALG00000010000",254.509064517737,-1.28549916530188,0.133410768016423,-9.6356477397959,{"v":5.65343095959229e-22,"d":"5.65E-22"},{"v":4.50900018781794E-20,"d":"4.51E-20"},{"$f":"VLOOKUP(A993,'[1]SD vs SY0.15'!$A$2:$E$20133,5,FALSE)","v":"PRKCE"}]
["ENSGALG00000004288",426.890433625123,-1.28603217490638,0.179444634162219,-7.16673519333994,{"v":7.68073933435459e-13,"d":"7.68E-13"},{"v":1.96678961423304e-11,"d":"1.97E-11"},{"$f":"VLOOKUP(A994,'[1]SD vs SY0.15'!$A$2:$E$20133,5,FALSE)","v":"HDAC4"}]
["ENSGALG00000033647",212.625101895531,-1.28606752644867,0.171747598187554,-7.4881252490311,{"v":6.98643413752405e-14,"d":"6.99E-14"},{"v":2.14616838072669e-12,"d":"2.15E-12"},{"$f":"VLOOKUP(A995,'[1]SD vs SY0.15'!$A$2:$E$20133,5,FALSE)","v":"NA"}]
["ENSGALG00000014983",165.97548555196,-1.28662177491121,0.157898186747171,-8.14842653621709,{"v":3.68689917112568e-16,"d":"3.69E-16"},{"v":1.56351502166737e-14,"d":"1.56E-14"},{"$f":"VLOOKUP(A996,'[1]SD vs SY0.15'!$A$2:$E$20133,5,FALSE)","v":"F2R"}]
["ENSGALG00000000573",390.098329410574,-1.28846269896549,0.159406401330867,-8.08287928344316,{"v":6.3255231298549e-16,"d":"6.33E-16"},{"v":2.58780872138323E-14,"d":"2.59E-14"},{"$f":"VLOOKUP(A997,'[1]SD vs SY0.15'!$A$2:$E$20133,5,FALSE)","v":"PER3"}]
["ENSGALG00000006372",713.040422831174,-1.28894574201871,0.170451026740717,-7.56197112252891,{"v":3.97006535821268e-14,"d":"3.97E-14"},{"v":1.26192918433718E-12,"d":"1.26E-12"},{"$f":"VLOOKUP(A998,'[1]SD vs SY0.15'!$A$2:$E$20133,5,FALSE)","v":"RBM33"}]
["ENSGALG00000020788",805.703594730224,-1.28908287183978,0.237493440946222,-5.4278672568969,{"v":5.70314294372042e-08,"d":"5.70E-08"},{"v":6.18207895027849e-07,"d":"6.18E-07"},{"$f":"VLOOKUP(A999,'[1]SD vs SY0.15'!$A$2:$E$20133,5,FALSE)","v":"CCDC141"}]
["ENSGALG00000041577",801.793970787685,-1.28914036940928,0.229703820678347,-5.61218514172847,{"v":1.99787511436693e-08,"d":"2.00E-08"},{"v":2.36467356116391E-7,"d":"2.36E-07"},{"$f":"VLOOKUP(A1000,'[1]SD vs SY0.15'!$A$2:$E$20133,5,FALSE)","v":"ITGA4"}]
["ENSGALG00000031129",1175.93430802614,-1.28930533385811,0.380669831795084,-3.38693856505064,0.00070677212586189,0.00303123999811561,{"$f":"VLOOKUP(A1001,'[1]SD vs SY0.15'!$A$2:$E$20133,5,FALSE)","v":"HMCN1"}]
["ENSGALG00000036867",126.324063224615,-1.28962951390186,0.224641293900768,-5.74083905727296,{"v":9.42085942597077E-9,"d":"9.42E-09"},{"v":1.17926913491255e-07,"d":"1.18E-07"},{"$f":"VLOOKUP(A1002,'[1]SD vs SY0.15'!$A$2:$E$20133,5,FALSE)","v":"CBX6"}]
["ENSGALG00000042621",1360.26459906408,-1.29124545282054,0.188973363717602,-6.83294950895908,{"v":8.3186241246392e-12,"d":"8.32E-12"},{"v":1.77903957755353e-10,"d":"1.78E-10"},{"$f":"VLOOKUP(A1003,'[1]SD vs SY0.15'!$A$2:$E$20133,5,FALSE)","v":"HNF4G"}]
["ENSGALG00000001467",730.996167642327,-1.29283812079932,0.0860275489311185,-15.0281873290902,{"v":4.79960578005214e-51,"d":"4.80E-51"},{"v":4.39214451040876e-48,"d":"4.39E-48"},{"$f":"VLOOKUP(A1004,'[1]SD vs SY0.15'!$A$2:$E$20133,5,FALSE)","v":"ANKFY1"}]
["ENSGALG00000041397",58.7460965003543,-1.29310000919846,0.463293198761256,-2.79110509857671,0.00525284128226117,0.0170808212782261,{"$f":"VLOOKUP(A1005,'[1]SD vs SY0.15'!$A$2:$E$20133,5,FALSE)","v":"NA"}]
["ENSGALG00000014819",188.781217123989,-1.29323422953351,0.162746029592391,-7.94633351592364,{"v":1.92112769726205e-15,"d":"1.92E-15"},{"v":7.37365281949121e-14,"d":"7.37E-14"},{"$f":"VLOOKUP(A1006,'[1]SD vs SY0.15'!$A$2:$E$20133,5,FALSE)","v":"JMY"}]
["ENSGALG00000047827",401.770141666899,-1.2958738448132,0.42065514348683,-3.0806085813468,0.00206578017702087,0.00767800768231335,{"$f":"VLOOKUP(A1007,'[1]SD vs SY0.15'!$A$2:$E$20133,5,FALSE)","v":"TMEM86A"}]
["ENSGALG00000006048",122.730950530339,-1.29607505645979,0.17914095170888,-7.23494568995052,{"v":4.65715469012837e-13,"d":"4.66E-13"},{"v":1.24002984069314E-11,"d":"1.24E-11"},{"$f":"VLOOKUP(A1008,'[1]SD vs SY0.15'!$A$2:$E$20133,5,FALSE)","v":"PIMREG"}]
["ENSGALG00000010562",55.7815055528555,-1.29704679590274,0.235917178663405,-5.49789041752362,{"v":3.84361648570539e-08,"d":"3.84E-08"},{"v":4.30321698885768E-7,"d":"4.30E-07"},{"$f":"VLOOKUP(A1009,'[1]SD vs SY0.15'!$A$2:$E$20133,5,FALSE)","v":"CEP128"}]
["ENSGALG00000040444",279.415091941169,-1.29785558447305,0.211896506542468,-6.12495036209074,{"v":9.07118816959284e-10,"d":"9.07E-10"},{"v":1.37867787329293e-08,"d":"1.38E-08"},{"$f":"VLOOKUP(A1010,'[1]SD vs SY0.15'!$A$2:$E$20133,5,FALSE)","v":"SEMA3C"}]
["ENSGALG00000004083",9.13781520310944,-1.29792817303404,0.48001633613144,-2.7039250028329,0.00685257535133206,0.0214422393986905,{"$f":"VLOOKUP(A1011,'[1]SD vs SY0.15'!$A$2:$E$20133,5,FALSE)","v":"GRIA1,GRIA1"}]
["ENSGALG00000005632",914.293322634351,-1.29831661819446,0.17949827677193,-7.23303109948013,{"v":4.72331180193074e-13,"d":"4.72E-13"},{"v":1.25572205351941E-11,"d":"1.26E-11"},{"$f":"VLOOKUP(A1012,'[1]SD vs SY0.15'!$A$2:$E$20133,5,FALSE)","v":"MRVI1"}]
["ENSGALG00000040475",130.119562237043,-1.29998237925538,0.16865235108298,-7.70805963218242,{"v":1.27745059719489E-14,"d":"1.28E-14"},{"v":4.3895323188592E-13,"d":"4.39E-13"},{"$f":"VLOOKUP(A1013,'[1]SD vs SY0.15'!$A$2:$E$20133,5,FALSE)","v":"ATMIN"}]
["ENSGALG00000043669",1210.15700540826,-1.30107147540224,0.112250816035633,-11.5907529348315,{"v":4.59079082470685e-31,"d":"4.59E-31"},{"v":8.6356229380195e-29,"d":"8.64E-29"},{"$f":"VLOOKUP(A1014,'[1]SD vs SY0.15'!$A$2:$E$20133,5,FALSE)","v":"WDFY3"}]
["ENSGALG00000014891",1849.8127501921,-1.30206059603113,0.152115616396191,-8.55967734857587,{"v":1.13183831754839e-17,"d":"1.13E-17"},{"v":5.85728667553501e-16,"d":"5.86E-16"},{"$f":"VLOOKUP(A1015,'[1]SD vs SY0.15'!$A$2:$E$20133,5,FALSE)","v":"PELO,PELO"}]
["ENSGALG00000035769",634.313866080914,-1.30218000974526,0.189799577917842,-6.86081615159827,{"v":6.84682343955298e-12,"d":"6.85E-12"},{"v":1.48436058782428e-10,"d":"1.48E-10"},{"$f":"VLOOKUP(A1016,'[1]SD vs SY0.15'!$A$2:$E$20133,5,FALSE)","v":"NA"}]
["ENSGALG00000043415",43.7181315729487,-1.30271735017092,0.452115329660419,-2.88138283466164,0.00395934408211996,0.0134418009419127,{"$f":"VLOOKUP(A1017,'[1]SD vs SY0.15'!$A$2:$E$20133,5,FALSE)","v":"ACPP"}]
["ENSGALG00000044730",123.853970039373,-1.30320457053141,0.24801546733949,-5.25452942314903,{"v":1.48403420741181e-07,"d":"1.48E-07"},{"v":1.47504610752754e-06,"d":"1.48E-06"},{"$f":"VLOOKUP(A1018,'[1]SD vs SY0.15'!$A$2:$E$20133,5,FALSE)","v":"NA"}]
["ENSGALG00000037618",286.849102950332,-1.30393798657352,0.170122669967149,-7.66469269983423,{"v":1.79259879657273e-14,"d":"1.79E-14"},{"v":6.00893747040035e-13,"d":"6.01E-13"},{"$f":"VLOOKUP(A1019,'[1]SD vs SY0.15'!$A$2:$E$20133,5,FALSE)","v":"ASAP1"}]
["ENSGALG00000002356",219.287632020678,-1.30508120104216,0.184871789632237,-7.05938533747273,{"v":1.67240711055598E-12,"d":"1.67E-12"},{"v":3.98877125257021e-11,"d":"3.99E-11"},{"$f":"VLOOKUP(A1020,'[1]SD vs SY0.15'!$A$2:$E$20133,5,FALSE)","v":"CMTR2"}]
["ENSGALG00000005354",142.90287151941,-1.30632933095522,0.179509939263106,-7.27719777700187,{"v":3.40825419644629e-13,"d":"3.41E-13"},{"v":9.2882939989987e-12,"d":"9.29E-12"},{"$f":"VLOOKUP(A1021,'[1]SD vs SY0.15'!$A$2:$E$20133,5,FALSE)","v":"ZBTB5"}]
["ENSGALG00000010048",124.354257592381,-1.30674145298238,0.201140628112499,-6.49665592299686,{"v":8.21249948500502e-11,"d":"8.21E-11"},{"v":1.49519087482494E-9,"d":"1.50E-09"},{"$f":"VLOOKUP(A1022,'[1]SD vs SY0.15'!$A$2:$E$20133,5,FALSE)","v":"SUPT7L"}]
["ENSGALG00000011831",700.190739575565,-1.30676109374929,0.183045274887769,-7.13900478747955,{"v":9.40090605498931e-13,"d":"9.40E-13"},{"v":2.3451011991119e-11,"d":"2.35E-11"},{"$f":"VLOOKUP(A1023,'[1]SD vs SY0.15'!$A$2:$E$20133,5,FALSE)","v":"ANKRD50"}]
["ENSGALG00000027785",101.909989549657,-1.30723878727506,0.290548045762958,-4.49921727693037,{"v":6.82041205085245E-6,"d":"6.82E-06"},{"v":4.74535831645344e-05,"d":"4.75E-05"},{"$f":"VLOOKUP(A1024,'[1]SD vs SY0.15'!$A$2:$E$20133,5,FALSE)","v":"CCBE1"}]
["ENSGALG00000010840",444.423733720313,-1.30812369527805,0.100757946593303,-12.9828340047275,{"v":1.53108627438287e-38,"d":"1.53E-38"},{"v":5.32419941053899e-36,"d":"5.32E-36"},{"$f":"VLOOKUP(A1025,'[1]SD vs SY0.15'!$A$2:$E$20133,5,FALSE)","v":"SNX13"}]
["ENSGALG00000015307",269.664157767926,-1.30943177857413,0.222448124292125,-5.8864590687874,{"v":3.945574145651e-09,"d":"3.95E-09"},{"v":5.30972892186021e-08,"d":"5.31E-08"},{"$f":"VLOOKUP(A1026,'[1]SD vs SY0.15'!$A$2:$E$20133,5,FALSE)","v":"NA"}]
["ENSGALG00000054404",34.9495044770506,-1.30956064161678,0.372360243007716,-3.51691853845321,4.36587748943231E-4,0.00197732513437769,{"$f":"VLOOKUP(A1027,'[1]SD vs SY0.15'!$A$2:$E$20133,5,FALSE)","v":"NA"}]
["ENSGALG00000002632",227.816396753103,-1.31016463576279,0.265719686028756,-4.93062691494002,{"v":8.19661440129714e-07,"d":"8.20E-07"},{"v":6.97233535202316e-06,"d":"6.97E-06"},{"$f":"VLOOKUP(A1028,'[1]SD vs SY0.15'!$A$2:$E$20133,5,FALSE)","v":"CALCRL"}]
["ENSGALG00000017154",47.2084149304203,-1.31029779499243,0.264049132025063,-4.96232570409683,{"v":6.96540634972204e-07,"d":"6.97E-07"},{"v":6.01532127338788e-06,"d":"6.02E-06"},{"$f":"VLOOKUP(A1029,'[1]SD vs SY0.15'!$A$2:$E$20133,5,FALSE)","v":"ZC3H12C"}]
["ENSGALG00000006586",148.458179735042,-1.31047375602699,0.175853870620977,-7.4520609151191,{"v":9.18932757034249e-14,"d":"9.19E-14"},{"v":2.76906132522608e-12,"d":"2.77E-12"},{"$f":"VLOOKUP(A1030,'[1]SD vs SY0.15'!$A$2:$E$20133,5,FALSE)","v":"PLAGL2"}]
["ENSGALG00000008204",82.5331839101644,-1.31064008379855,0.181961508338058,-7.20284248998183,{"v":5.89700810403296e-13,"d":"5.90E-13"},{"v":1.54881087469518e-11,"d":"1.55E-11"},{"$f":"VLOOKUP(A1031,'[1]SD vs SY0.15'!$A$2:$E$20133,5,FALSE)","v":"FEM1C"}]
["ENSGALG00000032974",408.951899111879,-1.31102661146568,0.24904930487603,-5.26412475681581,{"v":1.40858778579666e-07,"d":"1.41E-07"},{"v":1.40753539262337E-6,"d":"1.41E-06"},{"$f":"VLOOKUP(A1032,'[1]SD vs SY0.15'!$A$2:$E$20133,5,FALSE)","v":"ADAMTS2"}]
["ENSGALG00000010665",184.746266158548,-1.31233947627263,0.201718027560019,-6.50581156353096,{"v":7.72750435679536E-11,"d":"7.73E-11"},{"v":1.4142959815958E-9,"d":"1.41E-09"},{"$f":"VLOOKUP(A1033,'[1]SD vs SY0.15'!$A$2:$E$20133,5,FALSE)","v":"FOXN3"}]
["ENSGALG00000010899",31.6584173285598,-1.31367527817986,0.358113244786974,-3.66832363031227,0.000244146023713956,1.18376099116413E-3,{"$f":"VLOOKUP(A1034,'[1]SD vs SY0.15'!$A$2:$E$20133,5,FALSE)","v":"G6PC2"}]
["ENSGALG00000040212",719.173783727603,-1.31439056637043,0.111970863158772,-11.7386838798112,{"v":8.07330077131938e-32,"d":"8.07E-32"},{"v":1.67107714893964E-29,"d":"1.67E-29"},{"$f":"VLOOKUP(A1035,'[1]SD vs SY0.15'!$A$2:$E$20133,5,FALSE)","v":"FYCO1"}]
["ENSGALG00000000184",43.4247872306549,-1.31503840075363,0.501947052524795,-2.619874734076,0.00879620711448991,0.0263780015694439,{"$f":"VLOOKUP(A1036,'[1]SD vs SY0.15'!$A$2:$E$20133,5,FALSE)","v":"SLC27A6"}]
["ENSGALG00000010581",807.505924522131,-1.31542393269834,0.120061272431153,-10.9562717940762,{"v":6.20012576196273e-28,"d":"6.20E-28"},{"v":9.2932402261419e-26,"d":"9.29E-26"},{"$f":"VLOOKUP(A1037,'[1]SD vs SY0.15'!$A$2:$E$20133,5,FALSE)","v":"SEL1L"}]
["ENSGALG00000028373",131.870560683876,-1.31697682118214,0.203992197702148,-6.45601565166271,{"v":1.07495496261789E-10,"d":"1.07E-10"},{"v":1.93280681851471e-09,"d":"1.93E-09"},{"$f":"VLOOKUP(A1038,'[1]SD vs SY0.15'!$A$2:$E$20133,5,FALSE)","v":"GAS2L3"}]
["ENSGALG00000015034",92.1017026630657,-1.31741620602375,0.273885854967712,-4.81009216842928,{"v":1.50860715624663e-06,"d":"1.51E-06"},{"v":1.22342129783863E-5,"d":"1.22E-05"},{"$f":"VLOOKUP(A1039,'[1]SD vs SY0.15'!$A$2:$E$20133,5,FALSE)","v":"ANKRD29"}]
["ENSGALG00000015248",8.34717441904621,-1.31793935065785,0.521508474249841,-2.52716766022572,0.0114986594855552,0.0330130766967219,{"$f":"VLOOKUP(A1040,'[1]SD vs SY0.15'!$A$2:$E$20133,5,FALSE)","v":"SNTG1"}]
["ENSGALG00000004655",216.201251249589,-1.3183588668082,0.151217576316427,-8.71829121271918,{"v":2.82431774210146E-18,"d":"2.82E-18"},{"v":1.5393859743548E-16,"d":"1.54E-16"},{"$f":"VLOOKUP(A1041,'[1]SD vs SY0.15'!$A$2:$E$20133,5,FALSE)","v":"SMURF1"}]
["ENSGALG00000006542",1121.92447909581,-1.31840969449713,0.112848865704801,-11.6829680676271,{"v":1.55759998410261e-31,"d":"1.56E-31"},{"v":3.11287251995312E-29,"d":"3.11E-29"},{"$f":"VLOOKUP(A1042,'[1]SD vs SY0.15'!$A$2:$E$20133,5,FALSE)","v":"ESYT2"}]
["ENSGALG00000001341",206.137298396643,-1.31854253766474,0.15663473139282,-8.4179448960014,{"v":3.83145912975371e-17,"d":"3.83E-17"},{"v":1.82015245598436e-15,"d":"1.82E-15"},{"$f":"VLOOKUP(A1043,'[1]SD vs SY0.15'!$A$2:$E$20133,5,FALSE)","v":"ZBTB44"}]
["ENSGALG00000035726",209.594164858112,-1.31907926091064,0.385342435346307,-3.42313521666822,0.000619032758822126,0.00269212670776396,{"$f":"VLOOKUP(A1044,'[1]SD vs SY0.15'!$A$2:$E$20133,5,FALSE)","v":"FLT3"}]
["ENSGALG00000009304",491.310444659331,-1.31961096372494,0.168070203668489,-7.85154616893195,{"v":4.109391741473e-15,"d":"4.11E-15"},{"v":1.50738384407154e-13,"d":"1.51E-13"},{"$f":"VLOOKUP(A1045,'[1]SD vs SY0.15'!$A$2:$E$20133,5,FALSE)","v":"RAB11FIP2"}]
["ENSGALG00000015167",756.996472019815,-1.31986092963706,0.124931491125461,-10.5646776304911,{"v":4.34458817575232e-26,"d":"4.34E-26"},{"v":5.39566818655754e-24,"d":"5.40E-24"},{"$f":"VLOOKUP(A1046,'[1]SD vs SY0.15'!$A$2:$E$20133,5,FALSE)","v":"PRUNE2"}]
["ENSGALG00000004947",271.80914030828,-1.32007797400062,0.14398335357969,-9.16826800585666,{"v":4.80679714570138e-20,"d":"4.81E-20"},{"v":3.16574931713295E-18,"d":"3.17E-18"},{"$f":"VLOOKUP(A1047,'[1]SD vs SY0.15'!$A$2:$E$20133,5,FALSE)","v":"POLR3A"}]
["ENSGALG00000007944",91.0115910889331,-1.32134037970275,0.234626016584557,-5.63168739314357,{"v":1.78454931280734E-8,"d":"1.78E-08"},{"v":2.14103930924315E-7,"d":"2.14E-07"},{"$f":"VLOOKUP(A1048,'[1]SD vs SY0.15'!$A$2:$E$20133,5,FALSE)","v":"HECW2"}]
["ENSGALG00000049683",9.207668552917,-1.32256082754814,0.539673554093844,-2.45066821880651,0.0142591317754972,0.039648732477302,{"$f":"VLOOKUP(A1049,'[1]SD vs SY0.15'!$A$2:$E$20133,5,FALSE)","v":"NA"}]
["ENSGALG00000035026",306.816508098402,-1.32275051568058,0.375341717420217,-3.52412336356335,0.000424886382291247,0.00193036308568014,{"$f":"VLOOKUP(A1050,'[1]SD vs SY0.15'!$A$2:$E$20133,5,FALSE)","v":"SLC22A4"}]
["ENSGALG00000049690",8.52671873638218,-1.32413409725947,0.522870787295967,-2.53243082121157,0.0113274719159126,0.0326023430230049,{"$f":"VLOOKUP(A1051,'[1]SD vs SY0.15'!$A$2:$E$20133,5,FALSE)","v":"NA"}]
["ENSGALG00000017196",206.165978083142,-1.32676193984575,0.221157624315475,-5.99916889120297,{"v":1.98329995138834e-09,"d":"1.98E-09"},{"v":2.84283893279383e-08,"d":"2.84E-08"},{"$f":"VLOOKUP(A1052,'[1]SD vs SY0.15'!$A$2:$E$20133,5,FALSE)","v":"ARHGAP42"}]
["ENSGALG00000004921",86.7530825602704,-1.32797424523772,0.250138331913265,-5.30895938691311,{"v":1.10252894855856E-7,"d":"1.10E-07"},{"v":1.12762769579928E-6,"d":"1.13E-06"},{"$f":"VLOOKUP(A1053,'[1]SD vs SY0.15'!$A$2:$E$20133,5,FALSE)","v":"SLC6A1"}]
["ENSGALG00000015254",20.4968106320921,-1.33039474685173,0.413067702945812,-3.22076680738765,1.27848128097633E-3,5.08090377881953E-3,{"$f":"VLOOKUP(A1054,'[1]SD vs SY0.15'!$A$2:$E$20133,5,FALSE)","v":"ST18"}]
["ENSGALG00000005078",683.25353859666,-1.33144916998641,0.220665768147651,-6.03378213650029,{"v":1.60165968443653e-09,"d":"1.60E-09"},{"v":2.3441125364729E-8,"d":"2.34E-08"},{"$f":"VLOOKUP(A1055,'[1]SD vs SY0.15'!$A$2:$E$20133,5,FALSE)","v":"NUP210"}]
["ENSGALG00000005676",607.722413834015,-1.33216375665074,0.18370367148727,-7.25169914060784,{"v":4.11575321412173e-13,"d":"4.12E-13"},{"v":1.10946668424705e-11,"d":"1.11E-11"},{"$f":"VLOOKUP(A1056,'[1]SD vs SY0.15'!$A$2:$E$20133,5,FALSE)","v":"TTC28"}]
["ENSGALG00000031604",142.317941738204,-1.33228855813637,0.212738497698791,-6.26256447492035,{"v":3.7869721434924E-10,"d":"3.79E-10"},{"v":6.2175717336074e-09,"d":"6.22E-09"},{"$f":"VLOOKUP(A1057,'[1]SD vs SY0.15'!$A$2:$E$20133,5,FALSE)","v":"TET1"}]
["ENSGALG00000014743",11.8312694807946,-1.33296699440413,0.422765170233159,-3.15297259154292,1.61616980625262E-3,0.00623067503798542,{"$f":"VLOOKUP(A1058,'[1]SD vs SY0.15'!$A$2:$E$20133,5,FALSE)","v":"RNF180"}]
["ENSGALG00000013430",280.885942753292,-1.33302421489379,0.175094747812123,-7.61315934115923,{"v":2.67475696668465E-14,"d":"2.67E-14"},{"v":8.71843566166052e-13,"d":"8.72E-13"},{"$f":"VLOOKUP(A1059,'[1]SD vs SY0.15'!$A$2:$E$20133,5,FALSE)","v":"LOC420992"}]
["ENSGALG00000006851",78.4750770047186,-1.33317474375244,0.315623670819839,-4.2239377683223,{"v":2.40070366271859e-05,"d":"2.40E-05"},0.000148175486630061,{"$f":"VLOOKUP(A1060,'[1]SD vs SY0.15'!$A$2:$E$20133,5,FALSE)","v":"PCDH11X"}]
["ENSGALG00000029596",189.261546668397,-1.33417342559111,0.225519901211587,-5.91598975710513,{"v":3.29885740890446e-09,"d":"3.30E-09"},{"v":4.55216141020808e-08,"d":"4.55E-08"},{"$f":"VLOOKUP(A1061,'[1]SD vs SY0.15'!$A$2:$E$20133,5,FALSE)","v":"HAS2"}]
["ENSGALG00000004397",595.807092727967,-1.33527333605859,0.171429043707948,-7.78907300173363,{"v":6.75025994089422e-15,"d":"6.75E-15"},{"v":2.37104585035006e-13,"d":"2.37E-13"},{"$f":"VLOOKUP(A1062,'[1]SD vs SY0.15'!$A$2:$E$20133,5,FALSE)","v":"MLXIP"}]
["ENSGALG00000003550",49.7856760953375,-1.33567621007694,0.373546519533002,-3.57566230772747,0.00034934235578783,0.00162973317415696,{"$f":"VLOOKUP(A1063,'[1]SD vs SY0.15'!$A$2:$E$20133,5,FALSE)","v":"ARHGAP40"}]
["ENSGALG00000054447",43.8835370206144,-1.33749151238458,0.33589284632294,-3.98189936768902,{"v":6.8366727090856e-05,"d":"6.84E-05"},0.000381235498373545,{"$f":"VLOOKUP(A1064,'[1]SD vs SY0.15'!$A$2:$E$20133,5,FALSE)","v":"MED15"}]
["ENSGALG00000003849",15.9622848450521,-1.33950417393974,0.366867469362572,-3.651193648396,0.000261024328559381,1.25753117225325E-3,{"$f":"VLOOKUP(A1065,'[1]SD vs SY0.15'!$A$2:$E$20133,5,FALSE)","v":"TRPM1"}]
["ENSGALG00000034232",76.1424916781689,-1.34004096945469,0.242871418400544,-5.51749142933191,{"v":3.43872849187876e-08,"d":"3.44E-08"},{"v":3.88241378495428e-07,"d":"3.88E-07"},{"$f":"VLOOKUP(A1066,'[1]SD vs SY0.15'!$A$2:$E$20133,5,FALSE)","v":"NA"}]
["ENSGALG00000051190",11.3902728311771,-1.34079396158449,0.553193669410409,-2.42373337896926,0.0153618791810201,0.0422020845821452,{"$f":"VLOOKUP(A1067,'[1]SD vs SY0.15'!$A$2:$E$20133,5,FALSE)","v":"NA"}]
["ENSGALG00000047577",164.936145805112,-1.34095992861923,0.136451971624017,-9.82734007181763,{"v":8.58564684489207e-23,"d":"8.59E-23"},{"v":7.46393208460692e-21,"d":"7.46E-21"},{"$f":"VLOOKUP(A1068,'[1]SD vs SY0.15'!$A$2:$E$20133,5,FALSE)","v":"NA"}]
["ENSGALG00000006689",628.974419137461,-1.34136249715736,0.18979211079048,-7.06753558707266,{"v":1.57709310297039e-12,"d":"1.58E-12"},{"v":3.79265806104374e-11,"d":"3.79E-11"},{"$f":"VLOOKUP(A1069,'[1]SD vs SY0.15'!$A$2:$E$20133,5,FALSE)","v":"ABHD2"}]
["ENSGALG00000004542",824.144848667494,-1.34422851248988,0.106170713487928,-12.6610104456228,{"v":9.72396321348258e-37,"d":"9.72E-37"},{"v":3.13093608134855E-34,"d":"3.13E-34"},{"$f":"VLOOKUP(A1070,'[1]SD vs SY0.15'!$A$2:$E$20133,5,FALSE)","v":"ZMYND8"}]
["ENSGALG00000013627",44.3619992861283,-1.34449671954079,0.296579409051575,-4.53334479234527,{"v":5.80569301351354e-06,"d":"5.81E-06"},{"v":4.10506646709881e-05,"d":"4.11E-05"},{"$f":"VLOOKUP(A1071,'[1]SD vs SY0.15'!$A$2:$E$20133,5,FALSE)","v":"SLC7A2"}]
["ENSGALG00000011200",455.814141631162,-1.34582162291569,0.228186573367207,-5.89790013959295,{"v":3.68156659188645E-9,"d":"3.68E-09"},{"v":5.00871661448589e-08,"d":"5.01E-08"},{"$f":"VLOOKUP(A1072,'[1]SD vs SY0.15'!$A$2:$E$20133,5,FALSE)","v":"THBS2"}]
["ENSGALG00000011447",10.3185041373055,-1.34712389977789,0.523351127909567,-2.5740345781975,0.0100520226621682,0.0294729372727012,{"$f":"VLOOKUP(A1073,'[1]SD vs SY0.15'!$A$2:$E$20133,5,FALSE)","v":"GADL1"}]
["ENSGALG00000017050",58.8846195428732,-1.34839692061824,0.286594500077125,-4.70489461680311,{"v":2.53997121452511e-06,"d":"2.54E-06"},{"v":1.94977834467762E-5,"d":"1.95E-05"},{"$f":"VLOOKUP(A1074,'[1]SD vs SY0.15'!$A$2:$E$20133,5,FALSE)","v":"SMAD9"}]
["ENSGALG00000006038",762.81793643332,-1.34956593632379,0.239116268300205,-5.64397372841834,{"v":1.66169441226019e-08,"d":"1.66E-08"},{"v":2.00220933790492e-07,"d":"2.00E-07"},{"$f":"VLOOKUP(A1075,'[1]SD vs SY0.15'!$A$2:$E$20133,5,FALSE)","v":"TGFBR3"}]
["ENSGALG00000016258",67.0605398043875,-1.35099471239412,0.292863724785515,-4.61304899875718,{"v":3.96804712036962e-06,"d":"3.97E-06"},{"v":2.92340827465537E-5,"d":"2.92E-05"},{"$f":"VLOOKUP(A1076,'[1]SD vs SY0.15'!$A$2:$E$20133,5,FALSE)","v":"SYTL5"}]
["ENSGALG00000049498",13.5452232970852,-1.35103818985177,0.406160177398938,-3.32636793322245,0.00087985703327116,0.00368198846419099,{"$f":"VLOOKUP(A1077,'[1]SD vs SY0.15'!$A$2:$E$20133,5,FALSE)","v":"NA"}]
["ENSGALG00000002305",289.811027267789,-1.35127936178405,0.14906610151775,-9.06496747433318,{"v":1.24641433681749E-19,"d":"1.25E-19"},{"v":7.90927228987068e-18,"d":"7.91E-18"},{"$f":"VLOOKUP(A1078,'[1]SD vs SY0.15'!$A$2:$E$20133,5,FALSE)","v":"ZBTB41"}]
["ENSGALG00000042388",47.8537541067291,-1.35199920583055,0.412623617762079,-3.27659190514422,0.00105068111557957,0.0042762623025707,{"$f":"VLOOKUP(A1079,'[1]SD vs SY0.15'!$A$2:$E$20133,5,FALSE)","v":"NA"}]
["ENSGALG00000002789",122.968895555419,-1.35267174972613,0.192979515731183,-7.00940586673655,{"v":2.39332249736362e-12,"d":"2.39E-12"},{"v":5.51892549889406e-11,"d":"5.52E-11"},{"$f":"VLOOKUP(A1080,'[1]SD vs SY0.15'!$A$2:$E$20133,5,FALSE)","v":"MAP2"}]
["ENSGALG00000026736",943.342915299422,-1.35482879044415,0.258146393126905,-5.24829641829671,{"v":1.5351215631291E-7,"d":"1.54E-07"},{"v":1.51999764340123e-06,"d":"1.52E-06"},{"$f":"VLOOKUP(A1081,'[1]SD vs SY0.15'!$A$2:$E$20133,5,FALSE)","v":"OGN"}]
["ENSGALG00000016768",193.428631543076,-1.3549425258296,0.115726084281027,-11.7081860519819,{"v":1.1572905251519e-31,"d":"1.16E-31"},{"v":2.36727180715483e-29,"d":"2.37E-29"},{"$f":"VLOOKUP(A1082,'[1]SD vs SY0.15'!$A$2:$E$20133,5,FALSE)","v":"LONRF2"}]
["ENSGALG00000013205",412.306733638496,-1.35609088933656,0.330116625082714,-4.1079145559445,{"v":3.9924774103512e-05,"d":"3.99E-05"},0.000234914398422255,{"$f":"VLOOKUP(A1083,'[1]SD vs SY0.15'!$A$2:$E$20133,5,FALSE)","v":"ETNK1"}]
["ENSGALG00000003026",987.749846151059,-1.35626247175856,0.16908292773999,-8.02128570806492,{"v":1.04644012216623e-15,"d":"1.05E-15"},{"v":4.10710031695357e-14,"d":"4.11E-14"},{"$f":"VLOOKUP(A1084,'[1]SD vs SY0.15'!$A$2:$E$20133,5,FALSE)","v":"NA"}]
["ENSGALG00000014365",348.042630417896,-1.35686511368449,0.134071774127868,-10.1204382690603,{"v":4.4840322267427e-24,"d":"4.48E-24"},{"v":4.55929054540207e-22,"d":"4.56E-22"},{"$f":"VLOOKUP(A1085,'[1]SD vs SY0.15'!$A$2:$E$20133,5,FALSE)","v":"RBPJ"}]
["ENSGALG00000016205",741.191531929424,-1.35955849635655,0.213795408774398,-6.35915665425345,{"v":2.02864436765678e-10,"d":"2.03E-10"},{"v":3.48537940913522e-09,"d":"3.49E-09"},{"$f":"VLOOKUP(A1086,'[1]SD vs SY0.15'!$A$2:$E$20133,5,FALSE)","v":"PDXK"}]
["ENSGALG00000009911",238.890622542031,-1.35970731849404,0.113234202769732,-12.007920621467,{"v":3.22861238856833e-33,"d":"3.23E-33"},{"v":7.58593021622128e-31,"d":"7.59E-31"},{"$f":"VLOOKUP(A1087,'[1]SD vs SY0.15'!$A$2:$E$20133,5,FALSE)","v":"BICRAL"}]
["ENSGALG00000005809",768.838301434532,-1.36187020912787,0.258280165497513,-5.27284085676713,{"v":1.34328038693057e-07,"d":"1.34E-07"},{"v":1.3476985624675E-6,"d":"1.35E-06"},{"$f":"VLOOKUP(A1088,'[1]SD vs SY0.15'!$A$2:$E$20133,5,FALSE)","v":"SEPTIN2"}]
["ENSGALG00000013042",417.067789011563,-1.36253746094789,0.219120253091833,-6.2182178129233,{"v":5.02833244592155e-10,"d":"5.03E-10"},{"v":8.0356264923932e-09,"d":"8.04E-09"},{"$f":"VLOOKUP(A1089,'[1]SD vs SY0.15'!$A$2:$E$20133,5,FALSE)","v":"MICAL3"}]
["ENSGALG00000004559",106.594416939746,-1.36295553989789,0.206685604521626,-6.59434188971434,{"v":4.27146350816944E-11,"d":"4.27E-11"},{"v":8.17928810754869e-10,"d":"8.18E-10"},{"$f":"VLOOKUP(A1090,'[1]SD vs SY0.15'!$A$2:$E$20133,5,FALSE)","v":"DPY19L3"}]
["ENSGALG00000009995",22.9833918929219,-1.36311686451322,0.362416180723279,-3.76119206872284,0.00016910551302312,0.00085273710989936,{"$f":"VLOOKUP(A1091,'[1]SD vs SY0.15'!$A$2:$E$20133,5,FALSE)","v":"AKAP6"}]
["ENSGALG00000003767",89.8440487974166,-1.36382375034889,0.190961964716444,-7.14186069657379,{"v":9.20758888922491e-13,"d":"9.21E-13"},{"v":2.30348702182667e-11,"d":"2.30E-11"},{"$f":"VLOOKUP(A1092,'[1]SD vs SY0.15'!$A$2:$E$20133,5,FALSE)","v":"NKD1"}]
["ENSGALG00000015627",87.888804094745,-1.36407088784382,0.271758350035972,-5.0194258526491,{"v":5.18261445431445E-7,"d":"5.18E-07"},{"v":4.595110531217e-06,"d":"4.60E-06"},{"$f":"VLOOKUP(A1093,'[1]SD vs SY0.15'!$A$2:$E$20133,5,FALSE)","v":"HAPLN1"}]
["ENSGALG00000003136",98.9996753068367,-1.36644285244275,0.306765019479825,-4.45436332590919,{"v":8.41425086865994e-06,"d":"8.41E-06"},{"v":5.73270297231153e-05,"d":"5.73E-05"},{"$f":"VLOOKUP(A1094,'[1]SD vs SY0.15'!$A$2:$E$20133,5,FALSE)","v":"IKZF2"}]
["ENSGALG00000015490",83.2515501082489,-1.36717913255714,0.166602738854667,-8.20622243041139,{"v":2.28256375454465e-16,"d":"2.28E-16"},{"v":1.00728263960071e-14,"d":"1.01E-14"},{"$f":"VLOOKUP(A1095,'[1]SD vs SY0.15'!$A$2:$E$20133,5,FALSE)","v":"FBXL4"}]
["ENSGALG00000010502",128.861786292674,-1.3676830327007,0.244423487685924,-5.59554667044981,{"v":2.19927674496512e-08,"d":"2.20E-08"},{"v":2.58370437599382e-07,"d":"2.58E-07"},{"$f":"VLOOKUP(A1096,'[1]SD vs SY0.15'!$A$2:$E$20133,5,FALSE)","v":"SPATA6"}]
["ENSGALG00000029944",58.8486919321191,-1.36949379749724,0.425367685294722,-3.21955297696947,0.00128390635004195,0.00510013244418079,{"$f":"VLOOKUP(A1097,'[1]SD vs SY0.15'!$A$2:$E$20133,5,FALSE)","v":"FAM222A"}]
["ENSGALG00000003396",1303.74614225472,-1.37014046368662,0.140392274656859,-9.75937220930045,{"v":1.68193134824926e-22,"d":"1.68E-22"},{"v":1.41959904621407E-20,"d":"1.42E-20"},{"$f":"VLOOKUP(A1098,'[1]SD vs SY0.15'!$A$2:$E$20133,5,FALSE)","v":"NFATC3"}]
["ENSGALG00000003446",292.413308153326,-1.37109648327308,0.229141281156467,-5.98362929784285,{"v":2.18219657229563e-09,"d":"2.18E-09"},{"v":3.10998785266427e-08,"d":"3.11E-08"},{"$f":"VLOOKUP(A1099,'[1]SD vs SY0.15'!$A$2:$E$20133,5,FALSE)","v":"PRLR"}]
["ENSGALG00000012382",37.0158316008708,-1.3720671034989,0.41111891446738,-3.3373971744318,0.000845670066392769,3.55161001071765E-3,{"$f":"VLOOKUP(A1100,'[1]SD vs SY0.15'!$A$2:$E$20133,5,FALSE)","v":"NA"}]
["ENSGALG00000013437",64.1413075203004,-1.37271672195054,0.277457217931194,-4.94748967853832,{"v":7.51766888742889e-07,"d":"7.52E-07"},{"v":6.44525192040069e-06,"d":"6.45E-06"},{"$f":"VLOOKUP(A1101,'[1]SD vs SY0.15'!$A$2:$E$20133,5,FALSE)","v":"GAN"}]
["ENSGALG00000017839",7.20036651299612,-1.37521479726424,0.562835515049586,-2.44336890706529,0.0145508548967138,0.0403116179237034,{"$f":"VLOOKUP(A1102,'[1]SD vs SY0.15'!$A$2:$E$20133,5,FALSE)","v":"SNORA62"}]
["ENSGALG00000015101",36.9244751769743,-1.37576408351879,0.250920463425843,-5.48286921176273,{"v":4.18482406853807e-08,"d":"4.18E-08"},{"v":4.66121307364968e-07,"d":"4.66E-07"},{"$f":"VLOOKUP(A1103,'[1]SD vs SY0.15'!$A$2:$E$20133,5,FALSE)","v":"BNC2"}]
["ENSGALG00000030112",160.916157628585,-1.37636100349923,0.153389804304564,-8.97296277115258,{"v":2.88643670838286E-19,"d":"2.89E-19"},{"v":1.76092894907553e-17,"d":"1.76E-17"},{"$f":"VLOOKUP(A1104,'[1]SD vs SY0.15'!$A$2:$E$20133,5,FALSE)","v":"ASPH"}]
["ENSGALG00000009152",106.044202885709,-1.37717679590961,0.284751114237802,-4.83642285156959,{"v":1.32196546954693E-6,"d":"1.32E-06"},{"v":1.08471041146826E-5,"d":"1.08E-05"},{"$f":"VLOOKUP(A1105,'[1]SD vs SY0.15'!$A$2:$E$20133,5,FALSE)","v":"ATRNL1"}]
["ENSGALG00000015407",52.6453786804259,-1.37720067097713,0.241564712906962,-5.70116659177601,{"v":1.18990277844855E-8,"d":"1.19E-08"},{"v":1.4683349615958E-7,"d":"1.47E-07"},{"$f":"VLOOKUP(A1106,'[1]SD vs SY0.15'!$A$2:$E$20133,5,FALSE)","v":"PLAG1"}]
["ENSGALG00000008053",261.04247845756,-1.37720967347235,0.145350091327655,-9.47512079898035,{"v":2.66452228450611E-21,"d":"2.66E-21"},{"v":1.97140633875352e-19,"d":"1.97E-19"},{"$f":"VLOOKUP(A1107,'[1]SD vs SY0.15'!$A$2:$E$20133,5,FALSE)","v":"PRDM11"}]
["ENSGALG00000053997",632.983625114923,-1.3801376452832,0.112784078846285,-12.2369900025003,{"v":1.97211433360929e-34,"d":"1.97E-34"},{"v":4.82945801668517e-32,"d":"4.83E-32"},{"$f":"VLOOKUP(A1108,'[1]SD vs SY0.15'!$A$2:$E$20133,5,FALSE)","v":"ZDBF2"}]
["ENSGALG00000002781",349.185950525534,-1.38016055000202,0.224914585399358,-6.13637638284511,{"v":8.44250013396315e-10,"d":"8.44E-10"},{"v":1.28762938446682E-8,"d":"1.29E-08"},{"$f":"VLOOKUP(A1109,'[1]SD vs SY0.15'!$A$2:$E$20133,5,FALSE)","v":"BRCA1"}]
["ENSGALG00000008909",17.7978115595504,-1.38175220996183,0.507804253878555,-2.72103315285005,0.0065078234465502,0.0205468542337331,{"$f":"VLOOKUP(A1110,'[1]SD vs SY0.15'!$A$2:$E$20133,5,FALSE)","v":"USP13"}]
["ENSGALG00000037687",54.0442073844496,-1.38180317611484,0.380022227754581,-3.63611145663618,2.76784611050419E-4,1.32319330006424E-3,{"$f":"VLOOKUP(A1111,'[1]SD vs SY0.15'!$A$2:$E$20133,5,FALSE)","v":"NA"}]
["ENSGALG00000015027",758.456171602755,-1.38204993000259,0.101591362588298,-13.6040101716461,{"v":3.79065676582895e-42,"d":"3.79E-42"},{"v":1.68995254326841E-39,"d":"1.69E-39"},{"$f":"VLOOKUP(A1112,'[1]SD vs SY0.15'!$A$2:$E$20133,5,FALSE)","v":"JAK2"}]
["ENSGALG00000005660",1325.00481733285,-1.38254861137331,0.0957630532981427,-14.4371818123736,{"v":3.01937613610772e-47,"d":"3.02E-47"},{"v":2.01914972609634e-44,"d":"2.02E-44"},{"$f":"VLOOKUP(A1113,'[1]SD vs SY0.15'!$A$2:$E$20133,5,FALSE)","v":"NF1"}]
["ENSGALG00000052133",8.19401471893319,-1.38290617420088,0.546123225865463,-2.53222369733375,0.0113341657381094,0.032614666203616,{"$f":"VLOOKUP(A1114,'[1]SD vs SY0.15'!$A$2:$E$20133,5,FALSE)","v":"NA"}]
["ENSGALG00000004379",57.7333011407679,-1.38327067887974,0.281535146158823,-4.9133143685705,{"v":8.954951718245e-07,"d":"8.95E-07"},{"v":7.56191090457144e-06,"d":"7.56E-06"},{"$f":"VLOOKUP(A1115,'[1]SD vs SY0.15'!$A$2:$E$20133,5,FALSE)","v":"BCL7A"}]
["ENSGALG00000011251",377.460049060133,-1.38329560409364,0.143031861185306,-9.67124102721074,{"v":3.99503712111872e-22,"d":"4.00E-22"},{"v":3.29202419075314e-20,"d":"3.29E-20"},{"$f":"VLOOKUP(A1116,'[1]SD vs SY0.15'!$A$2:$E$20133,5,FALSE)","v":"TBC1D5"}]
["ENSGALG00000003645",264.393771875548,-1.38550850280811,0.22379753563265,-6.19090151681715,{"v":5.98210782738107e-10,"d":"5.98E-10"},{"v":9.38726613670349e-09,"d":"9.39E-09"},{"$f":"VLOOKUP(A1117,'[1]SD vs SY0.15'!$A$2:$E$20133,5,FALSE)","v":"PITPNM2"}]
["ENSGALG00000015301",879.496169556475,-1.3863348183839,0.13314673113551,-10.4120830196947,{"v":2.18389965610521e-25,"d":"2.18E-25"},{"v":2.53143088804675e-23,"d":"2.53E-23"},{"$f":"VLOOKUP(A1118,'[1]SD vs SY0.15'!$A$2:$E$20133,5,FALSE)","v":"LNPEP"}]
["ENSGALG00000015122",27.1756540574658,-1.38682143513296,0.314670246744695,-4.4072213673832,{"v":1.04705163346964E-5,"d":"1.05E-05"},{"v":6.99926441796875e-05,"d":"7.00E-05"},{"$f":"VLOOKUP(A1119,'[1]SD vs SY0.15'!$A$2:$E$20133,5,FALSE)","v":"TAF4B"}]
["ENSGALG00000012877",538.629469425284,-1.38692211842415,0.122849793877648,-11.2895762756057,{"v":1.47747207974223e-29,"d":"1.48E-29"},{"v":2.52478530649305E-27,"d":"2.52E-27"},{"$f":"VLOOKUP(A1120,'[1]SD vs SY0.15'!$A$2:$E$20133,5,FALSE)","v":"CREB3L2"}]
["ENSGALG00000038043",111.940134888106,-1.38738929504325,0.195198648575146,-7.107576334009,{"v":1.18098422441175e-12,"d":"1.18E-12"},{"v":2.87991202101642e-11,"d":"2.88E-11"},{"$f":"VLOOKUP(A1121,'[1]SD vs SY0.15'!$A$2:$E$20133,5,FALSE)","v":"HECTD2"}]
["ENSGALG00000003857",75.4081883999837,-1.38820968372738,0.231887179144384,-5.98657368143244,{"v":2.14307528974154e-09,"d":"2.14E-09"},{"v":3.05673913558131e-08,"d":"3.06E-08"},{"$f":"VLOOKUP(A1122,'[1]SD vs SY0.15'!$A$2:$E$20133,5,FALSE)","v":"NA"}]
["ENSGALG00000043642",213.413793083917,-1.38957764419385,0.246992507085919,-5.62599109012838,{"v":1.84445866612233e-08,"d":"1.84E-08"},{"v":2.20409641428652E-7,"d":"2.20E-07"},{"$f":"VLOOKUP(A1123,'[1]SD vs SY0.15'!$A$2:$E$20133,5,FALSE)","v":"ANLN"}]
["ENSGALG00000015375",31.3308419875067,-1.3911545709164,0.355173052492703,-3.91683592308844,{"v":8.97187672405084e-05,"d":"8.97E-05"},4.86114118420293E-4,{"$f":"VLOOKUP(A1124,'[1]SD vs SY0.15'!$A$2:$E$20133,5,FALSE)","v":"PLCXD2"}]
["ENSGALG00000010179",58.8162737335829,-1.39245750086711,0.255305473584501,-5.45408400892053,{"v":4.92259272391663e-08,"d":"4.92E-08"},{"v":5.41360655855398e-07,"d":"5.41E-07"},{"$f":"VLOOKUP(A1125,'[1]SD vs SY0.15'!$A$2:$E$20133,5,FALSE)","v":"RFX3"}]
["ENSGALG00000038775",963.554019878523,-1.39259505836434,0.284289818108348,-4.89850486953984,{"v":9.65686460051962e-07,"d":"9.66E-07"},{"v":8.11538181501676e-06,"d":"8.12E-06"},{"$f":"VLOOKUP(A1126,'[1]SD vs SY0.15'!$A$2:$E$20133,5,FALSE)","v":"SPON1"}]
["ENSGALG00000016412",74.38611668309,-1.39284003568057,0.266337395277918,-5.22960748424821,{"v":1.69870316451465e-07,"d":"1.70E-07"},{"v":1.66678058247269e-06,"d":"1.67E-06"},{"$f":"VLOOKUP(A1127,'[1]SD vs SY0.15'!$A$2:$E$20133,5,FALSE)","v":"MBOAT2"}]
["ENSGALG00000030597",461.436599245508,-1.39455209056361,0.242971867393841,-5.73956197283997,{"v":9.49217433241182e-09,"d":"9.49E-09"},{"v":1.18734125983917e-07,"d":"1.19E-07"},{"$f":"VLOOKUP(A1128,'[1]SD vs SY0.15'!$A$2:$E$20133,5,FALSE)","v":"KIF11"}]
["ENSGALG00000020884",35.8421885833255,-1.39459772642352,0.314585072178295,-4.4331338317068,{"v":9.28731756489773e-06,"d":"9.29E-06"},{"v":6.27832777997189e-05,"d":"6.28E-05"},{"$f":"VLOOKUP(A1129,'[1]SD vs SY0.15'!$A$2:$E$20133,5,FALSE)","v":"NA"}]
["ENSGALG00000003304",298.946449833989,-1.39467186029615,0.159725254474679,-8.73169283644649,{"v":2.50888817597658E-18,"d":"2.51E-18"},{"v":1.3717622237643E-16,"d":"1.37E-16"},{"$f":"VLOOKUP(A1130,'[1]SD vs SY0.15'!$A$2:$E$20133,5,FALSE)","v":"CRTC1"}]
["ENSGALG00000001229",306.276254529804,-1.3948044267437,0.173309003510769,-8.04807827919354,{"v":8.41041517807549e-16,"d":"8.41E-16"},{"v":3.34626747599997e-14,"d":"3.35E-14"},{"$f":"VLOOKUP(A1131,'[1]SD vs SY0.15'!$A$2:$E$20133,5,FALSE)","v":"SKI"}]
["ENSGALG00000000470",1385.83075135602,-1.39496787568367,0.198145505549,-7.04011868358378,{"v":1.92076156407832e-12,"d":"1.92E-12"},{"v":4.51911790455071e-11,"d":"4.52E-11"},{"$f":"VLOOKUP(A1132,'[1]SD vs SY0.15'!$A$2:$E$20133,5,FALSE)","v":"LMNA"}]
["ENSGALG00000041680",25.7366172872021,-1.3957081172804,0.32305360023753,-4.32036082016788,{"v":1.55774280853497E-5,"d":"1.56E-05"},{"v":9.97586527145398e-05,"d":"9.98E-05"},{"$f":"VLOOKUP(A1133,'[1]SD vs SY0.15'!$A$2:$E$20133,5,FALSE)","v":"KCNT2"}]
["ENSGALG00000015433",489.742733328883,-1.39669530262724,0.272378926349433,-5.12776565113346,{"v":2.93201093067635E-7,"d":"2.93E-07"},{"v":2.73785574928409e-06,"d":"2.74E-06"},{"$f":"VLOOKUP(A1134,'[1]SD vs SY0.15'!$A$2:$E$20133,5,FALSE)","v":"ABCA1"}]
["ENSGALG00000014999",140.701016094531,-1.39729838703085,0.243351122992528,-5.74190235840316,{"v":9.36188018522463e-09,"d":"9.36E-09"},{"v":1.17273062521974E-7,"d":"1.17E-07"},{"$f":"VLOOKUP(A1135,'[1]SD vs SY0.15'!$A$2:$E$20133,5,FALSE)","v":"MAP1B"}]
["ENSGALG00000040465",2196.90882078435,-1.39737614322036,0.182597923955974,-7.65274934646725,{"v":1.96727144920716e-14,"d":"1.97E-14"},{"v":6.54014315245981e-13,"d":"6.54E-13"},{"$f":"VLOOKUP(A1136,'[1]SD vs SY0.15'!$A$2:$E$20133,5,FALSE)","v":"ZEB2,ZEB2"}]
["ENSGALG00000015191",20.4156131712554,-1.3975440996846,0.570111399651329,-2.4513526664075,0.0142320436694248,0.0395924069248463,{"$f":"VLOOKUP(A1137,'[1]SD vs SY0.15'!$A$2:$E$20133,5,FALSE)","v":"CD200R1L"}]
["ENSGALG00000014699",59.440744239666,-1.39988715449211,0.322554224278058,-4.34000564595099,{"v":1.42479055252916E-5,"d":"1.42E-05"},{"v":9.22981867988991e-05,"d":"9.23E-05"},{"$f":"VLOOKUP(A1138,'[1]SD vs SY0.15'!$A$2:$E$20133,5,FALSE)","v":"MEGF10"}]
["ENSGALG00000006933",36.3948455325893,-1.40059817254446,0.242973671714197,-5.76440304277882,{"v":8.19473710837062E-9,"d":"8.19E-09"},{"v":1.04077351426764E-7,"d":"1.04E-07"},{"$f":"VLOOKUP(A1139,'[1]SD vs SY0.15'!$A$2:$E$20133,5,FALSE)","v":"MOSMO"}]
["ENSGALG00000015590",106.400859438283,-1.40498018572342,0.17696380266184,-7.93936479997664,{"v":2.03219266023839e-15,"d":"2.03E-15"},{"v":7.78276074527863e-14,"d":"7.78E-14"},{"$f":"VLOOKUP(A1140,'[1]SD vs SY0.15'!$A$2:$E$20133,5,FALSE)","v":"MANEA"}]
["ENSGALG00000052850",15.173372475656,-1.40531945820453,0.433521889500387,-3.24163437242834,1.18846391355968E-3,0.00476784080873608,{"$f":"VLOOKUP(A1141,'[1]SD vs SY0.15'!$A$2:$E$20133,5,FALSE)","v":"NA"}]
["ENSGALG00000005716",482.545180015925,-1.40903785345051,0.111284507232979,-12.6615814589593,{"v":9.65348462575681e-37,"d":"9.65E-37"},{"v":3.13093608134855E-34,"d":"3.13E-34"},{"$f":"VLOOKUP(A1142,'[1]SD vs SY0.15'!$A$2:$E$20133,5,FALSE)","v":"SBF2"}]
["ENSGALG00000015687",12.5483624379337,-1.40912480571901,0.530192969822372,-2.65775837463689,0.00786622677839644,0.0240326981191318,{"$f":"VLOOKUP(A1143,'[1]SD vs SY0.15'!$A$2:$E$20133,5,FALSE)","v":"NA"}]
["ENSGALG00000005499",37.9144286440248,-1.41209138007788,0.250009607855416,-5.64814845393667,{"v":1.62185098304986E-8,"d":"1.62E-08"},{"v":1.95691346580763e-07,"d":"1.96E-07"},{"$f":"VLOOKUP(A1144,'[1]SD vs SY0.15'!$A$2:$E$20133,5,FALSE)","v":"IL17RD"}]
["ENSGALG00000034999",351.617346254243,-1.41279364251848,0.140778304302697,-10.0355921284627,{"v":1.06319561790993E-23,"d":"1.06E-23"},{"v":1.03272526305028E-21,"d":"1.03E-21"},{"$f":"VLOOKUP(A1145,'[1]SD vs SY0.15'!$A$2:$E$20133,5,FALSE)","v":"ZHX1"}]
["ENSGALG00000052249",18.9774256683506,-1.41283983980164,0.419965402445332,-3.36418150536949,0.000767710362860986,0.00326042503152515,{"$f":"VLOOKUP(A1146,'[1]SD vs SY0.15'!$A$2:$E$20133,5,FALSE)","v":"NA"}]
["ENSGALG00000007927",14.1710408036265,-1.41325008006573,0.575090459159375,-2.45743962111893,0.0139931330806413,0.0390587579259933,{"$f":"VLOOKUP(A1147,'[1]SD vs SY0.15'!$A$2:$E$20133,5,FALSE)","v":"CNTN6"}]
["ENSGALG00000053091",39.0203223971394,-1.41372740665749,0.280283683816671,-5.04391617594903,{"v":4.56099170536951e-07,"d":"4.56E-07"},{"v":4.08773004027111e-06,"d":"4.09E-06"},{"$f":"VLOOKUP(A1148,'[1]SD vs SY0.15'!$A$2:$E$20133,5,FALSE)","v":"NA"}]
["ENSGALG00000033671",36.4312611278505,-1.41395630343326,0.452876473179178,-3.12216771497829,0.00179524635422862,0.00682272095321814,{"$f":"VLOOKUP(A1149,'[1]SD vs SY0.15'!$A$2:$E$20133,5,FALSE)","v":"FREM2"}]
["ENSGALG00000011084",26.5499617990022,-1.41624755179446,0.339103301595268,-4.17644872560044,{"v":2.9609544709511e-05,"d":"2.96E-05"},0.00017900596448688,{"$f":"VLOOKUP(A1150,'[1]SD vs SY0.15'!$A$2:$E$20133,5,FALSE)","v":"CCSAP"}]
["ENSGALG00000043373",372.261694892152,-1.41727458099237,0.203575248044092,-6.96191995151296,{"v":3.35666230840998e-12,"d":"3.36E-12"},{"v":7.56968710198758e-11,"d":"7.57E-11"},{"$f":"VLOOKUP(A1151,'[1]SD vs SY0.15'!$A$2:$E$20133,5,FALSE)","v":"ARVCF"}]
["ENSGALG00000005882",684.618491737489,-1.41830563878474,0.149665214336674,-9.47652161573256,{"v":2.62900695060778e-21,"d":"2.63E-21"},{"v":1.95344204488109e-19,"d":"1.95E-19"},{"$f":"VLOOKUP(A1152,'[1]SD vs SY0.15'!$A$2:$E$20133,5,FALSE)","v":"LRCH2"}]
["ENSGALG00000016406",1135.46047612191,-1.41935130637348,0.0971328709211828,-14.6124714827506,{"v":2.33877343476579e-48,"d":"2.34E-48"},{"v":1.62657014841091e-45,"d":"1.63E-45"},{"$f":"VLOOKUP(A1153,'[1]SD vs SY0.15'!$A$2:$E$20133,5,FALSE)","v":"RPS6KA3"}]
["ENSGALG00000000755",292.143296037295,-1.42277170459478,0.148633825584843,-9.57232782643162,{"v":1.0452525421043e-21,"d":"1.05E-21"},{"v":8.00608191610898E-20,"d":"8.01E-20"},{"$f":"VLOOKUP(A1154,'[1]SD vs SY0.15'!$A$2:$E$20133,5,FALSE)","v":"ACER3"}]
["ENSGALG00000053695",17.9150491405213,-1.4245100836146,0.458369257716641,-3.10777841147282,0.00188499343793003,0.00712022179128601,{"$f":"VLOOKUP(A1155,'[1]SD vs SY0.15'!$A$2:$E$20133,5,FALSE)","v":"NA"}]
["ENSGALG00000014937",283.658953731959,-1.42500696544983,0.116155376544731,-12.2681102488705,{"v":1.34352494498686E-34,"d":"1.34E-34"},{"v":3.38548814760675e-32,"d":"3.39E-32"},{"$f":"VLOOKUP(A1156,'[1]SD vs SY0.15'!$A$2:$E$20133,5,FALSE)","v":"KPNA5"}]
["ENSGALG00000015216",102.580122715741,-1.42846566969901,0.241810536130535,-5.90737563613807,{"v":3.47600551118937e-09,"d":"3.48E-09"},{"v":4.77011111468426e-08,"d":"4.77E-08"},{"$f":"VLOOKUP(A1157,'[1]SD vs SY0.15'!$A$2:$E$20133,5,FALSE)","v":"SYK"}]
["ENSGALG00000006241",12.1904318446724,-1.43093807268277,0.595335399152261,-2.40358304700238,0.0162352789219322,0.0441618890199679,{"$f":"VLOOKUP(A1158,'[1]SD vs SY0.15'!$A$2:$E$20133,5,FALSE)","v":"LOC425049"}]
["ENSGALG00000017268",24.2600837527243,-1.43281382608795,0.301908825370811,-4.74584942764802,{"v":2.07633131110145e-06,"d":"2.08E-06"},{"v":1.63427670919515E-5,"d":"1.63E-05"},{"$f":"VLOOKUP(A1159,'[1]SD vs SY0.15'!$A$2:$E$20133,5,FALSE)","v":"KCTD21"}]
["ENSGALG00000007171",527.749940684251,-1.43387005149326,0.247785543624618,-5.78673812248505,{"v":7.17663276646292e-09,"d":"7.18E-09"},{"v":9.2429714007771e-08,"d":"9.24E-08"},{"$f":"VLOOKUP(A1160,'[1]SD vs SY0.15'!$A$2:$E$20133,5,FALSE)","v":"CIITA"}]
["ENSGALG00000003792",587.694901410355,-1.43482831560962,0.257825759353694,-5.56510846397342,{"v":2.61989400986422e-08,"d":"2.62E-08"},{"v":3.04289226115626e-07,"d":"3.04E-07"},{"$f":"VLOOKUP(A1161,'[1]SD vs SY0.15'!$A$2:$E$20133,5,FALSE)","v":"FYB"}]
["ENSGALG00000039553",437.143077486187,-1.4349286230355,0.2827519211822,-5.0748678100435,{"v":3.87765478300359e-07,"d":"3.88E-07"},{"v":3.52434833832114e-06,"d":"3.52E-06"},{"$f":"VLOOKUP(A1162,'[1]SD vs SY0.15'!$A$2:$E$20133,5,FALSE)","v":"SULF1"}]
["ENSGALG00000054028",11.7616065148283,-1.4357469181688,0.520243169281552,-2.75976120965037,0.00578436244082837,0.0185558505089821,{"$f":"VLOOKUP(A1163,'[1]SD vs SY0.15'!$A$2:$E$20133,5,FALSE)","v":"NA"}]
["ENSGALG00000030147",817.709332701862,-1.43677303525454,0.177799509876233,-8.08086049424258,{"v":6.43113476357165e-16,"d":"6.43E-16"},{"v":2.61869180642202E-14,"d":"2.62E-14"},{"$f":"VLOOKUP(A1164,'[1]SD vs SY0.15'!$A$2:$E$20133,5,FALSE)","v":"AFF4"}]
["ENSGALG00000010869",433.608694678987,-1.4373004530211,0.15866231116462,-9.05886497222282,{"v":1.31814995072368E-19,"d":"1.32E-19"},{"v":8.27388923943418e-18,"d":"8.27E-18"},{"$f":"VLOOKUP(A1165,'[1]SD vs SY0.15'!$A$2:$E$20133,5,FALSE)","v":"MYSM1"}]
["ENSGALG00000038688",45.7330425609201,-1.43897870482526,0.336354247467197,-4.27816421425034,{"v":1.88440985922753e-05,"d":"1.88E-05"},0.0001187970783988,{"$f":"VLOOKUP(A1166,'[1]SD vs SY0.15'!$A$2:$E$20133,5,FALSE)","v":"ADAMTS17"}]
["ENSGALG00000017870",31.6544357772791,-1.44043898075864,0.396400161069927,-3.63380019037011,0.000279277170980587,0.00133362811497611,{"$f":"VLOOKUP(A1167,'[1]SD vs SY0.15'!$A$2:$E$20133,5,FALSE)","v":"SNORD24"}]
["ENSGALG00000012932",495.362500278375,-1.44197585216158,0.26537540830782,-5.4337207104321,{"v":5.51909426933558e-08,"d":"5.52E-08"},{"v":5.99004319980885e-07,"d":"5.99E-07"},{"$f":"VLOOKUP(A1168,'[1]SD vs SY0.15'!$A$2:$E$20133,5,FALSE)","v":"FGD4"}]
["ENSGALG00000032417",110.136619903276,-1.44232593536525,0.163609510250682,-8.81566073485166,{"v":1.18981268590256E-18,"d":"1.19E-18"},{"v":6.71664713304798e-17,"d":"6.72E-17"},{"$f":"VLOOKUP(A1169,'[1]SD vs SY0.15'!$A$2:$E$20133,5,FALSE)","v":"NA"}]
["ENSGALG00000002439",299.498948909054,-1.44325772169628,0.134396036641692,-10.7388413956291,{"v":6.6878388090568e-27,"d":"6.69E-27"},{"v":8.8764468223718e-25,"d":"8.88E-25"},{"$f":"VLOOKUP(A1170,'[1]SD vs SY0.15'!$A$2:$E$20133,5,FALSE)","v":"BDP1"}]
["ENSGALG00000041684",545.509218242003,-1.44378155668338,0.116189456718272,-12.4260978359177,{"v":1.88619121406725e-35,"d":"1.89E-35"},{"v":5.12425103734176E-33,"d":"5.12E-33"},{"$f":"VLOOKUP(A1171,'[1]SD vs SY0.15'!$A$2:$E$20133,5,FALSE)","v":"FBXO30"}]
["ENSGALG00000005347",95.1348932672887,-1.44497339810514,0.609484652860911,-2.37081178553465,0.0177490668769992,0.0475285732004289,{"$f":"VLOOKUP(A1172,'[1]SD vs SY0.15'!$A$2:$E$20133,5,FALSE)","v":"ADAMTS18"}]
["ENSGALG00000030710",95.7182681715825,-1.4457915934476,0.282436832054575,-5.11899097199982,{"v":3.07174663884038e-07,"d":"3.07E-07"},{"v":2.85301596204689e-06,"d":"2.85E-06"},{"$f":"VLOOKUP(A1173,'[1]SD vs SY0.15'!$A$2:$E$20133,5,FALSE)","v":"L3MBTL1"}]
["ENSGALG00000047464",169.126271941028,-1.4464240455362,0.266076227523207,-5.43612655290691,{"v":5.44512875393785e-08,"d":"5.45E-08"},{"v":5.9357024228663e-07,"d":"5.94E-07"},{"$f":"VLOOKUP(A1174,'[1]SD vs SY0.15'!$A$2:$E$20133,5,FALSE)","v":"FBXL22"}]
["ENSGALG00000001753",78.6976900928289,-1.4474331436726,0.225094639822549,-6.430331458864,{"v":1.2732598935906e-10,"d":"1.27E-10"},{"v":2.26130436872929E-9,"d":"2.26E-09"},{"$f":"VLOOKUP(A1175,'[1]SD vs SY0.15'!$A$2:$E$20133,5,FALSE)","v":"SFMBT1"}]
["ENSGALG00000007045",111.698901747966,-1.4479511366313,0.273768925683699,-5.28895356920166,{"v":1.2301811086146e-07,"d":"1.23E-07"},{"v":1.2464544834197E-6,"d":"1.25E-06"},{"$f":"VLOOKUP(A1176,'[1]SD vs SY0.15'!$A$2:$E$20133,5,FALSE)","v":"ADGRA1"}]
["ENSGALG00000034803",174.053348630175,-1.45061389352439,0.156686473891737,-9.25806712918115,{"v":2.08166262876806e-20,"d":"2.08E-20"},{"v":1.40832171698016e-18,"d":"1.41E-18"},{"$f":"VLOOKUP(A1177,'[1]SD vs SY0.15'!$A$2:$E$20133,5,FALSE)","v":"RNF151"}]
["ENSGALG00000008983",436.807890578384,-1.45145927300362,0.122644680226901,-11.8346696352285,{"v":2.58358753105076e-32,"d":"2.58E-32"},{"v":5.68618182308602e-30,"d":"5.69E-30"},{"$f":"VLOOKUP(A1178,'[1]SD vs SY0.15'!$A$2:$E$20133,5,FALSE)","v":"GNB4"}]
["ENSGALG00000034586",85.3109802210706,-1.45173256481552,0.211433425248564,-6.8661450435703,{"v":6.59600114662332e-12,"d":"6.60E-12"},{"v":1.43535258994167e-10,"d":"1.44E-10"},{"$f":"VLOOKUP(A1179,'[1]SD vs SY0.15'!$A$2:$E$20133,5,FALSE)","v":"NA"}]
["ENSGALG00000035287",176.609391354513,-1.45243892646932,0.16386396323588,-8.86368727929862,{"v":7.74106921953806e-19,"d":"7.74E-19"},{"v":4.46327382462615e-17,"d":"4.46E-17"},{"$f":"VLOOKUP(A1180,'[1]SD vs SY0.15'!$A$2:$E$20133,5,FALSE)","v":"STAM"}]
["ENSGALG00000050568",17.0793345497707,-1.45358191175974,0.512976532877307,-2.83362262910261,4.60236458339744E-3,0.0152887491424401,{"$f":"VLOOKUP(A1181,'[1]SD vs SY0.15'!$A$2:$E$20133,5,FALSE)","v":"HFM1"}]
["ENSGALG00000029322",104.064666863527,-1.45363217601313,0.244372907629062,-5.94841789180505,{"v":2.7074664238394e-09,"d":"2.71E-09"},{"v":3.77503758711273e-08,"d":"3.78E-08"},{"$f":"VLOOKUP(A1182,'[1]SD vs SY0.15'!$A$2:$E$20133,5,FALSE)","v":"FBXO39"}]
["ENSGALG00000051644",44.1349198154711,-1.45379912414893,0.242315536540766,-5.99961168360473,{"v":1.9778995211614e-09,"d":"1.98E-09"},{"v":2.83978026213322e-08,"d":"2.84E-08"},{"$f":"VLOOKUP(A1183,'[1]SD vs SY0.15'!$A$2:$E$20133,5,FALSE)","v":"NA"}]
["ENSGALG00000031305",158.355213313343,-1.45561366499916,0.318248979810721,-4.57382036500128,{"v":4.78910483941476e-06,"d":"4.79E-06"},{"v":3.46085477318805E-5,"d":"3.46E-05"},{"$f":"VLOOKUP(A1184,'[1]SD vs SY0.15'!$A$2:$E$20133,5,FALSE)","v":"FAM13C"}]
["ENSGALG00000016391",21.6760883079965,-1.45907224957855,0.418406474963844,-3.48721240440801,0.000488083553020573,0.00217907813057336,{"$f":"VLOOKUP(A1185,'[1]SD vs SY0.15'!$A$2:$E$20133,5,FALSE)","v":"CNKSR2"}]
["ENSGALG00000009480",257.780489548516,-1.46045144541507,0.176342216015374,-8.28191614246097,{"v":1.21208936878647E-16,"d":"1.21E-16"},{"v":5.51691043326975e-15,"d":"5.52E-15"},{"$f":"VLOOKUP(A1186,'[1]SD vs SY0.15'!$A$2:$E$20133,5,FALSE)","v":"DOCK4"}]
["ENSGALG00000012223",22.6579335760471,-1.46073394158249,0.40508632266943,-3.60598188543266,0.000310974830371578,1.47007052084574E-3,{"$f":"VLOOKUP(A1187,'[1]SD vs SY0.15'!$A$2:$E$20133,5,FALSE)","v":"ZRANB3"}]
["ENSGALG00000033304",120.060449821686,-1.46100196018324,0.254816386591123,-5.73354790768444,{"v":9.83512691611051e-09,"d":"9.84E-09"},{"v":1.22759046439636e-07,"d":"1.23E-07"},{"$f":"VLOOKUP(A1188,'[1]SD vs SY0.15'!$A$2:$E$20133,5,FALSE)","v":"MYBL1"}]
["ENSGALG00000043223",14.9200161038979,-1.46161329296231,0.481389353416643,-3.03623934054329,0.00239549130351291,0.0087116518080274,{"$f":"VLOOKUP(A1189,'[1]SD vs SY0.15'!$A$2:$E$20133,5,FALSE)","v":"COL26A1"}]
["ENSGALG00000051534",241.311061277729,-1.46260623905232,0.196061927086925,-7.45991973446158,{"v":8.65752040486379e-14,"d":"8.66E-14"},{"v":2.63161376362529E-12,"d":"2.63E-12"},{"$f":"VLOOKUP(A1190,'[1]SD vs SY0.15'!$A$2:$E$20133,5,FALSE)","v":"NA"}]
["ENSGALG00000054256",121.054245178095,-1.46301646549165,0.194670681220788,-7.51534055522388,{"v":5.67629781702056e-14,"d":"5.68E-14"},{"v":1.76554186305074E-12,"d":"1.77E-12"},{"$f":"VLOOKUP(A1191,'[1]SD vs SY0.15'!$A$2:$E$20133,5,FALSE)","v":"HAUS3"}]
["ENSGALG00000004930",167.48723403548,-1.46303574227186,0.271809931032605,-5.38256912362913,{"v":7.34301641460095e-08,"d":"7.34E-08"},{"v":7.77072589170217e-07,"d":"7.77E-07"},{"$f":"VLOOKUP(A1192,'[1]SD vs SY0.15'!$A$2:$E$20133,5,FALSE)","v":"HRH1"}]
["ENSGALG00000037464",6.98811518484849,-1.46384202833572,0.617067778761554,-2.37225484577015,0.0176798914833624,0.0473871239742905,{"$f":"VLOOKUP(A1193,'[1]SD vs SY0.15'!$A$2:$E$20133,5,FALSE)","v":"WDR27"}]
["ENSGALG00000034965",943.164443131919,-1.46476232127234,0.163122368546734,-8.97953073095976,{"v":2.71924036666686E-19,"d":"2.72E-19"},{"v":1.67065131643946e-17,"d":"1.67E-17"},{"$f":"VLOOKUP(A1194,'[1]SD vs SY0.15'!$A$2:$E$20133,5,FALSE)","v":"DIP2B"}]
["ENSGALG00000049707",19.8924389678857,-1.46498151785335,0.484252341524104,-3.02524405611041,0.00248432570955357,0.00897091819564026,{"$f":"VLOOKUP(A1195,'[1]SD vs SY0.15'!$A$2:$E$20133,5,FALSE)","v":"SNORD14"}]
["ENSGALG00000016937",59.8604257180427,-1.46851613480667,0.304595172096596,-4.82120620855069,{"v":1.42692757539427e-06,"d":"1.43E-06"},{"v":1.16424165900423E-5,"d":"1.16E-05"},{"$f":"VLOOKUP(A1196,'[1]SD vs SY0.15'!$A$2:$E$20133,5,FALSE)","v":"DIAPH3"}]
["ENSGALG00000009239",75.5641213605815,-1.46989201211463,0.46087779261335,-3.18933139255809,0.00142602299043219,0.00557424949070246,{"$f":"VLOOKUP(A1197,'[1]SD vs SY0.15'!$A$2:$E$20133,5,FALSE)","v":"TLR2B"}]
["ENSGALG00000013143",468.138205868061,-1.47148371093192,0.179049418480949,-8.2183104721364,{"v":2.06390087916432E-16,"d":"2.06E-16"},{"v":9.15434810868111e-15,"d":"9.15E-15"},{"$f":"VLOOKUP(A1198,'[1]SD vs SY0.15'!$A$2:$E$20133,5,FALSE)","v":"PDE3A"}]
["ENSGALG00000006912",127.029008289048,-1.47268276201705,0.214616825047445,-6.86191663534061,{"v":6.7942712088996E-12,"d":"6.79E-12"},{"v":1.47480641085065E-10,"d":"1.47E-10"},{"$f":"VLOOKUP(A1199,'[1]SD vs SY0.15'!$A$2:$E$20133,5,FALSE)","v":"CPEB3"}]
["ENSGALG00000005923",122.123789885834,-1.47282130657618,0.313955302396033,-4.69118150047462,{"v":2.71631867801805e-06,"d":"2.72E-06"},{"v":2.07507174229788e-05,"d":"2.08E-05"},{"$f":"VLOOKUP(A1200,'[1]SD vs SY0.15'!$A$2:$E$20133,5,FALSE)","v":"NPY4R"}]
["ENSGALG00000010390",117.808657474959,-1.4736590972418,0.167468413055705,-8.79962418197407,{"v":1.37275091345917e-18,"d":"1.37E-18"},{"v":7.65000645266491e-17,"d":"7.65E-17"},{"$f":"VLOOKUP(A1201,'[1]SD vs SY0.15'!$A$2:$E$20133,5,FALSE)","v":"CIPC"}]
["ENSGALG00000012978",99.5481980927791,-1.47384676935691,0.277137673869225,-5.31810326896365,{"v":1.04854554743657E-7,"d":"1.05E-07"},{"v":1.07684946445834E-6,"d":"1.08E-06"},{"$f":"VLOOKUP(A1202,'[1]SD vs SY0.15'!$A$2:$E$20133,5,FALSE)","v":"CDYL2"}]
["ENSGALG00000030165",8.67672307879143,-1.47502342375247,0.610060027444161,-2.41783325803538,0.015613229557082,0.04277769024724,{"$f":"VLOOKUP(A1203,'[1]SD vs SY0.15'!$A$2:$E$20133,5,FALSE)","v":"NA"}]
["ENSGALG00000015593",13.5719032897383,-1.47510479551482,0.57653753059803,-2.5585581462229,0.0105107240887623,0.0306165119335418,{"$f":"VLOOKUP(A1204,'[1]SD vs SY0.15'!$A$2:$E$20133,5,FALSE)","v":"EPHA7"}]
["ENSGALG00000035935",22.237700140054,-1.47515762248542,0.430660770451917,-3.42533549303192,0.000614040666227653,0.00267309090227847,{"$f":"VLOOKUP(A1205,'[1]SD vs SY0.15'!$A$2:$E$20133,5,FALSE)","v":"UNC13C"}]
["ENSGALG00000014337",43.3192278984134,-1.47633179003098,0.398334464280343,-3.70626175341925,2.10340914469722E-4,1.03838656441938E-3,{"$f":"VLOOKUP(A1206,'[1]SD vs SY0.15'!$A$2:$E$20133,5,FALSE)","v":"NWD2"}]
["ENSGALG00000031564",13.3921953635366,-1.47656595525871,0.391486792469505,-3.77168779039648,1.62147059237691E-4,0.000821220774531236,{"$f":"VLOOKUP(A1207,'[1]SD vs SY0.15'!$A$2:$E$20133,5,FALSE)","v":"SOGA3"}]
["ENSGALG00000003805",188.689984494173,-1.47734696212188,0.241540600471659,-6.116350457178,{"v":9.57426472933822e-10,"d":"9.57E-10"},{"v":1.44880540338558E-8,"d":"1.45E-08"},{"$f":"VLOOKUP(A1208,'[1]SD vs SY0.15'!$A$2:$E$20133,5,FALSE)","v":"PRKG1"}]
["ENSGALG00000009168",304.202400084281,-1.47963938089613,0.165743598788031,-8.92727919337889,{"v":4.36614480718983E-19,"d":"4.37E-19"},{"v":2.59092695435528e-17,"d":"2.59E-17"},{"$f":"VLOOKUP(A1209,'[1]SD vs SY0.15'!$A$2:$E$20133,5,FALSE)","v":"AFF2"}]
["ENSGALG00000014421",608.315349314906,-1.47988884563503,0.181894785562217,-8.13596080316901,{"v":4.08684036252247E-16,"d":"4.09E-16"},{"v":1.71223839477538e-14,"d":"1.71E-14"},{"$f":"VLOOKUP(A1210,'[1]SD vs SY0.15'!$A$2:$E$20133,5,FALSE)","v":"LCORL"}]
["ENSGALG00000054302",8.17591368525778,-1.47993658305434,0.480376467146261,-3.08078493487846,2.06455712048411E-3,0.00767510255588138,{"$f":"VLOOKUP(A1211,'[1]SD vs SY0.15'!$A$2:$E$20133,5,FALSE)","v":"NA"}]
["ENSGALG00000006642",111.788706181832,-1.48015042448112,0.213496988394823,-6.9328866679087,{"v":4.12338543064343e-12,"d":"4.12E-12"},{"v":9.21507743992253e-11,"d":"9.22E-11"},{"$f":"VLOOKUP(A1212,'[1]SD vs SY0.15'!$A$2:$E$20133,5,FALSE)","v":"ADORA2A"}]
["ENSGALG00000005472",133.554039676382,-1.48015871877722,0.300262968609277,-4.92954134714929,{"v":8.24228906925822e-07,"d":"8.24E-07"},{"v":7.00274820910247e-06,"d":"7.00E-06"},{"$f":"VLOOKUP(A1213,'[1]SD vs SY0.15'!$A$2:$E$20133,5,FALSE)","v":"NAT"}]
["ENSGALG00000017065",219.438768710795,-1.4811676462874,0.196921486604157,-7.52161519715105,{"v":5.41036261679456e-14,"d":"5.41E-14"},{"v":1.68886848865722E-12,"d":"1.69E-12"},{"$f":"VLOOKUP(A1214,'[1]SD vs SY0.15'!$A$2:$E$20133,5,FALSE)","v":"STARD13"}]
["ENSGALG00000003753",354.634240905455,-1.48155035437321,0.119738079549093,-12.3732597011109,{"v":3.64713894811154E-35,"d":"3.65E-35"},{"v":9.46459774489781e-33,"d":"9.46E-33"},{"$f":"VLOOKUP(A1215,'[1]SD vs SY0.15'!$A$2:$E$20133,5,FALSE)","v":"CYLD"}]
["ENSGALG00000043044",134.689284435847,-1.48283639485078,0.188154780350041,-7.880939256989,{"v":3.24929247692911E-15,"d":"3.25E-15"},{"v":1.21234867588769e-13,"d":"1.21E-13"},{"$f":"VLOOKUP(A1216,'[1]SD vs SY0.15'!$A$2:$E$20133,5,FALSE)","v":"IL1R1"}]
["ENSGALG00000000934",235.989867137593,-1.48590378873924,0.177229521993964,-8.38406475412061,{"v":5.11306421793795e-17,"d":"5.11E-17"},{"v":2.3898077300346e-15,"d":"2.39E-15"},{"$f":"VLOOKUP(A1217,'[1]SD vs SY0.15'!$A$2:$E$20133,5,FALSE)","v":"ZBTB43"}]
["ENSGALG00000033974",30.4338248511683,-1.48600905809597,0.473488480805729,-3.13842705437574,1.6985720673213E-3,0.00650651520919046,{"$f":"VLOOKUP(A1218,'[1]SD vs SY0.15'!$A$2:$E$20133,5,FALSE)","v":"HGF"}]
["ENSGALG00000034188",140.562064958734,-1.48687945810559,0.307127229419874,-4.84124921425599,{"v":1.29025436247817E-6,"d":"1.29E-06"},{"v":1.06119454117351E-5,"d":"1.06E-05"},{"$f":"VLOOKUP(A1219,'[1]SD vs SY0.15'!$A$2:$E$20133,5,FALSE)","v":"PAG1"}]
["ENSGALG00000017291",811.403985237702,-1.4873737221595,0.209690670369409,-7.09318025231745,{"v":1.31064563913258e-12,"d":"1.31E-12"},{"v":3.18270890050253e-11,"d":"3.18E-11"},{"$f":"VLOOKUP(A1220,'[1]SD vs SY0.15'!$A$2:$E$20133,5,FALSE)","v":"FAR2"}]
["ENSGALG00000010010",119.661305367654,-1.4874957113009,0.261868766277172,-5.68030976907905,{"v":1.34451014291608E-8,"d":"1.34E-08"},{"v":1.64626745456915e-07,"d":"1.65E-07"},{"$f":"VLOOKUP(A1221,'[1]SD vs SY0.15'!$A$2:$E$20133,5,FALSE)","v":"RHOQ"}]
["ENSGALG00000002646",43.3273866939733,-1.48749970214825,0.395234794796846,-3.763584891135,1.67494831939817E-4,0.000844860064675832,{"$f":"VLOOKUP(A1222,'[1]SD vs SY0.15'!$A$2:$E$20133,5,FALSE)","v":"FAM171B"}]
["ENSGALG00000011555",348.069267320272,-1.48774847635808,0.23179450804273,-6.41839398577911,{"v":1.37719460679426e-10,"d":"1.38E-10"},{"v":2.43099316023673e-09,"d":"2.43E-09"},{"$f":"VLOOKUP(A1223,'[1]SD vs SY0.15'!$A$2:$E$20133,5,FALSE)","v":"QKI"}]
["ENSGALG00000051990",17.9592193064946,-1.48849191303166,0.484457391241582,-3.07249293733945,0.00212278856575582,0.00785630583073573,{"$f":"VLOOKUP(A1224,'[1]SD vs SY0.15'!$A$2:$E$20133,5,FALSE)","v":"NA"}]
["ENSGALG00000043587",234.752623020212,-1.49013678813314,0.157951123625923,-9.43416389782861,{"v":3.94124897941708e-21,"d":"3.94E-21"},{"v":2.84342307075207e-19,"d":"2.84E-19"},{"$f":"VLOOKUP(A1225,'[1]SD vs SY0.15'!$A$2:$E$20133,5,FALSE)","v":"CCDC88A"}]
["ENSGALG00000003777",12.975620487209,-1.49066572580519,0.51004226984395,-2.92263173846604,0.00347086757877047,0.0120191146369413,{"$f":"VLOOKUP(A1226,'[1]SD vs SY0.15'!$A$2:$E$20133,5,FALSE)","v":"NELL1"}]
["ENSGALG00000017092",731.622945328192,-1.49134158865985,0.129832970819939,-11.486616837322,{"v":1.54026594162507e-30,"d":"1.54E-30"},{"v":2.81901093968791E-28,"d":"2.82E-28"},{"$f":"VLOOKUP(A1227,'[1]SD vs SY0.15'!$A$2:$E$20133,5,FALSE)","v":"PAN3"}]
["ENSGALG00000035785",107.402648598469,-1.4925295534226,0.250335812876956,-5.96210960097909,{"v":2.4900203228219E-9,"d":"2.49E-09"},{"v":3.50558569659144e-08,"d":"3.51E-08"},{"$f":"VLOOKUP(A1228,'[1]SD vs SY0.15'!$A$2:$E$20133,5,FALSE)","v":"LOC425347"}]
["ENSGALG00000051773",27.2094327540052,-1.49307069606757,0.420974422821126,-3.54670168810227,3.90086025109593E-4,0.00179050309360625,{"$f":"VLOOKUP(A1229,'[1]SD vs SY0.15'!$A$2:$E$20133,5,FALSE)","v":"JHY"}]
["ENSGALG00000014924",208.325513744787,-1.49317124735726,0.20187181883288,-7.39663047566527,{"v":1.39683551622181E-13,"d":"1.40E-13"},{"v":4.10249647306564e-12,"d":"4.10E-12"},{"$f":"VLOOKUP(A1230,'[1]SD vs SY0.15'!$A$2:$E$20133,5,FALSE)","v":"POLQ"}]
["ENSGALG00000023089",149.389518833455,-1.49450325955423,0.214113366521314,-6.97996245556886,{"v":2.95258957062854e-12,"d":"2.95E-12"},{"v":6.73709643891319e-11,"d":"6.74E-11"},{"$f":"VLOOKUP(A1231,'[1]SD vs SY0.15'!$A$2:$E$20133,5,FALSE)","v":"SSBP2"}]
["ENSGALG00000026727",752.640005006962,-1.49487461631991,0.40809317570207,-3.6630718309567,0.000249208617944324,1.20595330926745E-3,{"$f":"VLOOKUP(A1232,'[1]SD vs SY0.15'!$A$2:$E$20133,5,FALSE)","v":"SLC30A10"}]
["ENSGALG00000049781",37.3008981180366,-1.49488200672538,0.245316509723036,-6.09368692067693,{"v":1.10339358230187E-9,"d":"1.10E-09"},{"v":1.64817046524765E-8,"d":"1.65E-08"},{"$f":"VLOOKUP(A1233,'[1]SD vs SY0.15'!$A$2:$E$20133,5,FALSE)","v":"NA"}]
["ENSGALG00000011259",29.8383187859776,-1.49554674738747,0.388840477371303,-3.84617043343297,1.19978322617E-4,0.000628521571359379,{"$f":"VLOOKUP(A1234,'[1]SD vs SY0.15'!$A$2:$E$20133,5,FALSE)","v":"RPE65"}]
["ENSGALG00000014678",29.8550541858309,-1.49587733079934,0.27816503524404,-5.37766124878701,{"v":7.54596217549641e-08,"d":"7.55E-08"},{"v":7.96609862449035e-07,"d":"7.97E-07"},{"$f":"VLOOKUP(A1235,'[1]SD vs SY0.15'!$A$2:$E$20133,5,FALSE)","v":"ELL2"}]
["ENSGALG00000002557",154.548689909976,-1.49654817761423,0.228125893092494,-6.56018550690101,{"v":5.37408810235032e-11,"d":"5.37E-11"},{"v":1.02007936501708e-09,"d":"1.02E-09"},{"$f":"VLOOKUP(A1236,'[1]SD vs SY0.15'!$A$2:$E$20133,5,FALSE)","v":"ADGRD1"}]
["ENSGALG00000009602",9.18025381975856,-1.49669082773333,0.580992695964584,-2.57609232978131,0.00999239599281664,0.0293327349530817,{"$f":"VLOOKUP(A1237,'[1]SD vs SY0.15'!$A$2:$E$20133,5,FALSE)","v":"MYO3B"}]
["ENSGALG00000011206",207.859248914779,-1.49675854716599,0.219648718131117,-6.8143286239099,{"v":9.4704995137537e-12,"d":"9.47E-12"},{"v":2.00809237860531E-10,"d":"2.01E-10"},{"$f":"VLOOKUP(A1238,'[1]SD vs SY0.15'!$A$2:$E$20133,5,FALSE)","v":"KITLG"}]
["ENSGALG00000008842",463.582309903601,-1.49773928984701,0.137190696135344,-10.9172074494718,{"v":9.53835100676587e-28,"d":"9.54E-28"},{"v":1.40545177080202e-25,"d":"1.41E-25"},{"$f":"VLOOKUP(A1239,'[1]SD vs SY0.15'!$A$2:$E$20133,5,FALSE)","v":"PIKFYVE"}]
["ENSGALG00000049945",25.8571415054291,-1.49837689494821,0.457007725803093,-3.27866863150975,1.04298028353804E-3,0.00424889835751544,{"$f":"VLOOKUP(A1240,'[1]SD vs SY0.15'!$A$2:$E$20133,5,FALSE)","v":"NA"}]
["ENSGALG00000004370",80.1062397626335,-1.49890954631479,0.243384707650615,-6.15860199592539,{"v":7.33899110982733e-10,"d":"7.34E-10"},{"v":1.13023063265339E-8,"d":"1.13E-08"},{"$f":"VLOOKUP(A1241,'[1]SD vs SY0.15'!$A$2:$E$20133,5,FALSE)","v":"MAP2K6"}]
["ENSGALG00000010737",52.6305917784981,-1.49911059773757,0.360912624036312,-4.15366628346794,{"v":3.27190249511746E-5,"d":"3.27E-05"},0.000195560566114153,{"$f":"VLOOKUP(A1242,'[1]SD vs SY0.15'!$A$2:$E$20133,5,FALSE)","v":"PLD5"}]
["ENSGALG00000009403",75.7604406986311,-1.49962336765481,0.240810649327885,-6.22739638732895,{"v":4.74250171425868e-10,"d":"4.74E-10"},{"v":7.63498863942738e-09,"d":"7.63E-09"},{"$f":"VLOOKUP(A1243,'[1]SD vs SY0.15'!$A$2:$E$20133,5,FALSE)","v":"GRK5"}]
["ENSGALG00000038913",55.0544429915502,-1.50015641928068,0.294726264852707,-5.08999908790077,{"v":3.58065236807299e-07,"d":"3.58E-07"},{"v":3.27667382756237e-06,"d":"3.28E-06"},{"$f":"VLOOKUP(A1244,'[1]SD vs SY0.15'!$A$2:$E$20133,5,FALSE)","v":"LDLRAD3"}]
["ENSGALG00000050520",19.4529715363412,-1.50016705694995,0.545110522869079,-2.75204200618642,0.00592249235428626,0.0189395575802787,{"$f":"VLOOKUP(A1245,'[1]SD vs SY0.15'!$A$2:$E$20133,5,FALSE)","v":"NA"}]
["ENSGALG00000007354",149.924543200847,-1.5005918012438,0.242930605984634,-6.17703889208063,{"v":6.53149881087678e-10,"d":"6.53E-10"},{"v":1.01668012376647E-8,"d":"1.02E-08"},{"$f":"VLOOKUP(A1246,'[1]SD vs SY0.15'!$A$2:$E$20133,5,FALSE)","v":"CIT"}]
["ENSGALG00000052679",22.1536429886695,-1.50413154531743,0.349944513048795,-4.29820011239239,{"v":1.72190671056681e-05,"d":"1.72E-05"},1.09345478366052E-4,{"$f":"VLOOKUP(A1247,'[1]SD vs SY0.15'!$A$2:$E$20133,5,FALSE)","v":"NA"}]
["ENSGALG00000008970",943.412018432566,-1.50754584041286,0.220920505586183,-6.82392898030353,{"v":8.85836876369212e-12,"d":"8.86E-12"},{"v":1.88750560899896E-10,"d":"1.89E-10"},{"$f":"VLOOKUP(A1248,'[1]SD vs SY0.15'!$A$2:$E$20133,5,FALSE)","v":"NRK"}]
["ENSGALG00000041456",148.695807520146,-1.50787331233674,0.329633263587541,-4.5743966974871,{"v":4.77594177837382e-06,"d":"4.78E-06"},{"v":3.45277753432788e-05,"d":"3.45E-05"},{"$f":"VLOOKUP(A1249,'[1]SD vs SY0.15'!$A$2:$E$20133,5,FALSE)","v":"SLC35G1"}]
["ENSGALG00000012067",85.7854138149423,-1.50913830521691,0.261776241016929,-5.76499341328425,{"v":8.16610304149776e-09,"d":"8.17E-09"},{"v":1.03789498232837e-07,"d":"1.04E-07"},{"$f":"VLOOKUP(A1250,'[1]SD vs SY0.15'!$A$2:$E$20133,5,FALSE)","v":"LMLN"}]
["ENSGALG00000011439",63.1465831567151,-1.50988252423337,0.371825868040769,-4.06072480161013,{"v":4.89206079276872e-05,"d":"4.89E-05"},2.81743163311923E-4,{"$f":"VLOOKUP(A1251,'[1]SD vs SY0.15'!$A$2:$E$20133,5,FALSE)","v":"RBMS3"}]
["ENSGALG00000015910",121.29796227441,-1.51016030155844,0.2612802849216,-5.77984788255869,{"v":7.47681976153281e-09,"d":"7.48E-09"},{"v":9.59405647186502e-08,"d":"9.59E-08"},{"$f":"VLOOKUP(A1252,'[1]SD vs SY0.15'!$A$2:$E$20133,5,FALSE)","v":"CD109"}]
["ENSGALG00000049613",19.3497381116401,-1.51074437430557,0.367932225590003,-4.1060398335128,{"v":4.02500101780927e-05,"d":"4.03E-05"},2.36587872537694E-4,{"$f":"VLOOKUP(A1253,'[1]SD vs SY0.15'!$A$2:$E$20133,5,FALSE)","v":"NA"}]
["ENSGALG00000050582",77.1384301664293,-1.51100426314393,0.178419058851516,-8.46885009297926,{"v":2.47827374192722e-17,"d":"2.48E-17"},{"v":1.21038611098002e-15,"d":"1.21E-15"},{"$f":"VLOOKUP(A1254,'[1]SD vs SY0.15'!$A$2:$E$20133,5,FALSE)","v":"NA"}]
["ENSGALG00000026728",68.6946442263864,-1.51106864406605,0.215158513907827,-7.02304834059873,{"v":2.17079062257572e-12,"d":"2.17E-12"},{"v":5.05697652260145E-11,"d":"5.06E-11"},{"$f":"VLOOKUP(A1255,'[1]SD vs SY0.15'!$A$2:$E$20133,5,FALSE)","v":"NA"}]
["ENSGALG00000012685",346.418269131865,-1.51163322928139,0.153792255431522,-9.8290595000375,{"v":8.44033038430723E-23,"d":"8.44E-23"},{"v":7.37447358753517e-21,"d":"7.37E-21"},{"$f":"VLOOKUP(A1256,'[1]SD vs SY0.15'!$A$2:$E$20133,5,FALSE)","v":"KDM1B"}]
["ENSGALG00000014675",34.7303423159012,-1.51202715225891,0.269617436615782,-5.60804661314847,{"v":2.04622923137386E-8,"d":"2.05E-08"},{"v":2.41696926942237e-07,"d":"2.42E-07"},{"$f":"VLOOKUP(A1257,'[1]SD vs SY0.15'!$A$2:$E$20133,5,FALSE)","v":"RHOBTB3"}]
["ENSGALG00000038596",7.25820794272482,-1.51330905750101,0.598778797280444,-2.52732572424777,0.0114934850985186,0.0330036705876042,{"$f":"VLOOKUP(A1258,'[1]SD vs SY0.15'!$A$2:$E$20133,5,FALSE)","v":"C14orf132"}]
["ENSGALG00000005840",415.814079064863,-1.51391614550599,0.140272987149747,-10.7926420921644,{"v":3.72911782252412e-27,"d":"3.73E-27"},{"v":5.18705372641815e-25,"d":"5.19E-25"},{"$f":"VLOOKUP(A1259,'[1]SD vs SY0.15'!$A$2:$E$20133,5,FALSE)","v":"DENND5A"}]
["ENSGALG00000015403",108.458409393363,-1.51497519087185,0.306169996853074,-4.94815039502015,{"v":7.49220114335968e-07,"d":"7.49E-07"},{"v":6.42658615094202e-06,"d":"6.43E-06"},{"$f":"VLOOKUP(A1260,'[1]SD vs SY0.15'!$A$2:$E$20133,5,FALSE)","v":"EPHA3"}]
["ENSGALG00000003047",320.530567942722,-1.51562655348506,0.141111605117157,-10.7406230141506,{"v":6.56001924710564e-27,"d":"6.56E-27"},{"v":8.77377343457122e-25,"d":"8.77E-25"},{"$f":"VLOOKUP(A1261,'[1]SD vs SY0.15'!$A$2:$E$20133,5,FALSE)","v":"SUGP2"}]
["ENSGALG00000007028",285.236767959211,-1.51581365695531,0.216828648898915,-6.99083661062697,{"v":2.73251844357759e-12,"d":"2.73E-12"},{"v":6.26784936391605e-11,"d":"6.27E-11"},{"$f":"VLOOKUP(A1262,'[1]SD vs SY0.15'!$A$2:$E$20133,5,FALSE)","v":"CNKSR2L"}]
["ENSGALG00000004621",865.146791270315,-1.51633438454113,0.186153699523009,-8.14560434966648,{"v":3.77392226007648e-16,"d":"3.77E-16"},{"v":1.59265015378519E-14,"d":"1.59E-14"},{"$f":"VLOOKUP(A1263,'[1]SD vs SY0.15'!$A$2:$E$20133,5,FALSE)","v":"PREX1"}]
["ENSGALG00000020554",78.5048229986464,-1.51773443677213,0.279903787644876,-5.4223433328374,{"v":5.8822762572898E-8,"d":"5.88E-08"},{"v":6.36039410979464e-07,"d":"6.36E-07"},{"$f":"VLOOKUP(A1264,'[1]SD vs SY0.15'!$A$2:$E$20133,5,FALSE)","v":"ADAMTSL1"}]
["ENSGALG00000002655",1354.60263850357,-1.51801226551644,0.107321852001945,-14.1444844381639,{"v":2.01991553684839e-45,"d":"2.02E-45"},{"v":1.30075079404381E-42,"d":"1.30E-42"},{"$f":"VLOOKUP(A1265,'[1]SD vs SY0.15'!$A$2:$E$20133,5,FALSE)","v":"ITGAV"}]
["ENSGALG00000027040",11.6530477680553,-1.51949759539501,0.558600340618524,-2.72018737710132,0.00652449331796669,0.0205882695679649,{"$f":"VLOOKUP(A1266,'[1]SD vs SY0.15'!$A$2:$E$20133,5,FALSE)","v":"NA"}]
["ENSGALG00000004663",657.271682238696,-1.52062671204238,0.119787888713189,-12.6943276851907,{"v":6.35735263464908e-37,"d":"6.36E-37"},{"v":2.12567865882007E-34,"d":"2.13E-34"},{"$f":"VLOOKUP(A1267,'[1]SD vs SY0.15'!$A$2:$E$20133,5,FALSE)","v":"ARFGEF2"}]
["ENSGALG00000053335",189.938732450895,-1.5207729232234,0.18700550824565,-8.13223598326161,{"v":4.21443367686311e-16,"d":"4.21E-16"},{"v":1.76145092162545E-14,"d":"1.76E-14"},{"$f":"VLOOKUP(A1268,'[1]SD vs SY0.15'!$A$2:$E$20133,5,FALSE)","v":"NA"}]
["ENSGALG00000009942",657.623322007268,-1.52242017032514,0.127314629411489,-11.9579358425855,{"v":5.90105781173985e-33,"d":"5.90E-33"},{"v":1.35002226543054e-30,"d":"1.35E-30"},{"$f":"VLOOKUP(A1269,'[1]SD vs SY0.15'!$A$2:$E$20133,5,FALSE)","v":"MDM2"}]
["ENSGALG00000006757",114.772215310299,-1.52290440446175,0.2006308577511,-7.59057914386752,{"v":3.18478789541201e-14,"d":"3.18E-14"},{"v":1.02354726686744E-12,"d":"1.02E-12"},{"$f":"VLOOKUP(A1270,'[1]SD vs SY0.15'!$A$2:$E$20133,5,FALSE)","v":"XYLT1"}]
["ENSGALG00000040007",126.936288325048,-1.52377477892364,0.286402404582274,-5.32039799437478,{"v":1.03540490589504E-7,"d":"1.04E-07"},{"v":1.06398257085089e-06,"d":"1.06E-06"},{"$f":"VLOOKUP(A1271,'[1]SD vs SY0.15'!$A$2:$E$20133,5,FALSE)","v":"IL17D"}]
["ENSGALG00000015795",19.8313225670227,-1.52546979363181,0.364429336309199,-4.18591381550451,{"v":2.84021108559004e-05,"d":"2.84E-05"},1.72425803579448E-4,{"$f":"VLOOKUP(A1272,'[1]SD vs SY0.15'!$A$2:$E$20133,5,FALSE)","v":"ADAMTS5"}]
["ENSGALG00000006385",208.530733804185,-1.52639154998223,0.151965252161447,-10.0443458505935,{"v":9.72910309278561e-24,"d":"9.73E-24"},{"v":9.55705737142731e-22,"d":"9.56E-22"},{"$f":"VLOOKUP(A1273,'[1]SD vs SY0.15'!$A$2:$E$20133,5,FALSE)","v":"UBXN7"}]
["ENSGALG00000052632",6.55714389833866,-1.53038641799508,0.63598997866251,-2.40630586855077,0.0161147662199289,0.0438890100667142,{"$f":"VLOOKUP(A1274,'[1]SD vs SY0.15'!$A$2:$E$20133,5,FALSE)","v":"NA"}]
["ENSGALG00000055053",26.0716648454182,-1.53072001030122,0.332735863138006,-4.60040584704372,{"v":4.21668581425278e-06,"d":"4.22E-06"},{"v":3.09087336645923e-05,"d":"3.09E-05"},{"$f":"VLOOKUP(A1275,'[1]SD vs SY0.15'!$A$2:$E$20133,5,FALSE)","v":"PRSS35"}]
["ENSGALG00000014346",262.067045337631,-1.53129053367955,0.167792017591785,-9.12612265861761,{"v":7.09965438848702e-20,"d":"7.10E-20"},{"v":4.60603324076954e-18,"d":"4.61E-18"},{"$f":"VLOOKUP(A1276,'[1]SD vs SY0.15'!$A$2:$E$20133,5,FALSE)","v":"TSPAN9"}]
["ENSGALG00000009982",380.241228192753,-1.53423804819066,0.223058023569633,-6.87820157122352,{"v":6.06128664150658e-12,"d":"6.06E-12"},{"v":1.32563007340723E-10,"d":"1.33E-10"},{"$f":"VLOOKUP(A1277,'[1]SD vs SY0.15'!$A$2:$E$20133,5,FALSE)","v":"ZNF827"}]
["ENSGALG00000047605",20.25020942622,-1.53537426659327,0.504755000566368,-3.04182081380171,0.0023515183180812,0.00857786117064062,{"$f":"VLOOKUP(A1278,'[1]SD vs SY0.15'!$A$2:$E$20133,5,FALSE)","v":"NA"}]
["ENSGALG00000041644",191.899428449826,-1.53668608317864,0.11824179130915,-12.9961333143278,{"v":1.28687170892223E-38,"d":"1.29E-38"},{"v":4.56629355163894e-36,"d":"4.57E-36"},{"$f":"VLOOKUP(A1279,'[1]SD vs SY0.15'!$A$2:$E$20133,5,FALSE)","v":"ATP11A"}]
["ENSGALG00000015951",63.2083980875783,-1.53698107872137,0.260738467877389,-5.89472313477016,{"v":3.75310125256059e-09,"d":"3.75E-09"},{"v":5.08613963197747e-08,"d":"5.09E-08"},{"$f":"VLOOKUP(A1280,'[1]SD vs SY0.15'!$A$2:$E$20133,5,FALSE)","v":"OGFRL1"}]
["ENSGALG00000009667",25.0784731891214,-1.53877506350858,0.419928277776292,-3.66437590642165,0.000247942414705122,0.00120102105671716,{"$f":"VLOOKUP(A1281,'[1]SD vs SY0.15'!$A$2:$E$20133,5,FALSE)","v":"MFAP3L"}]
["ENSGALG00000012709",144.585857325886,-1.53930890167551,0.17185120281669,-8.95721924808091,{"v":3.32969188769886e-19,"d":"3.33E-19"},{"v":2.01018586289653E-17,"d":"2.01E-17"},{"$f":"VLOOKUP(A1282,'[1]SD vs SY0.15'!$A$2:$E$20133,5,FALSE)","v":"ATXN1"}]
["ENSGALG00000005601",48.1836591289715,-1.54091112546925,0.285549981429309,-5.3962921578782,{"v":6.80321361547211e-08,"d":"6.80E-08"},{"v":7.23913556500695e-07,"d":"7.24E-07"},{"$f":"VLOOKUP(A1283,'[1]SD vs SY0.15'!$A$2:$E$20133,5,FALSE)","v":"DNAH12"}]
["ENSGALG00000017120",519.403405990274,-1.54137230689521,0.140698931360328,-10.9551102626912,{"v":6.28018399490037e-28,"d":"6.28E-28"},{"v":9.3327828307122e-26,"d":"9.33E-26"},{"$f":"VLOOKUP(A1284,'[1]SD vs SY0.15'!$A$2:$E$20133,5,FALSE)","v":"SACS"}]
["ENSGALG00000011861",27.3884767215481,-1.54140769430096,0.36100055969234,-4.26982078813012,{"v":1.95630093829321E-5,"d":"1.96E-05"},0.000122839308104384,{"$f":"VLOOKUP(A1285,'[1]SD vs SY0.15'!$A$2:$E$20133,5,FALSE)","v":"SYT16"}]
["ENSGALG00000054198",141.015101141979,-1.54487363777175,0.199962602927678,-7.72581280275941,{"v":1.1114185938584e-14,"d":"1.11E-14"},{"v":3.8341736292492E-13,"d":"3.83E-13"},{"$f":"VLOOKUP(A1286,'[1]SD vs SY0.15'!$A$2:$E$20133,5,FALSE)","v":"NA"}]
["ENSGALG00000009067",14.4084290639718,-1.54542944154727,0.495655222383855,-3.11795250358611,0.00182112149243176,0.00690897651950929,{"$f":"VLOOKUP(A1287,'[1]SD vs SY0.15'!$A$2:$E$20133,5,FALSE)","v":"GPR50"}]
["ENSGALG00000048005",9.33057518605018,-1.54625610647887,0.6008483181722,-2.57345499640014,0.0100688740735602,0.0295074184252472,{"$f":"VLOOKUP(A1288,'[1]SD vs SY0.15'!$A$2:$E$20133,5,FALSE)","v":"NA"}]
["ENSGALG00000040546",601.970871456528,-1.54642338450653,0.138987785503271,-11.1263258055877,{"v":9.34067481840657e-29,"d":"9.34E-29"},{"v":1.51703741861762E-26,"d":"1.52E-26"},{"$f":"VLOOKUP(A1289,'[1]SD vs SY0.15'!$A$2:$E$20133,5,FALSE)","v":"NA"}]
["ENSGALG00000053578",7.18440037467799,-1.54709782914539,0.531084911598045,-2.91308940502591,0.00357872124076022,0.012328754946126,{"$f":"VLOOKUP(A1290,'[1]SD vs SY0.15'!$A$2:$E$20133,5,FALSE)","v":"NA"}]
["ENSGALG00000011185",108.629799603091,-1.5504215246241,0.174198507158328,-8.90031464629559,{"v":5.56885911737745e-19,"d":"5.57E-19"},{"v":3.28222893131667E-17,"d":"3.28E-17"},{"$f":"VLOOKUP(A1291,'[1]SD vs SY0.15'!$A$2:$E$20133,5,FALSE)","v":"PLEKHA8"}]
["ENSGALG00000014453",408.623321011597,-1.55126150799976,0.326209604232846,-4.75541335347222,{"v":1.9804078690498e-06,"d":"1.98E-06"},{"v":1.56444123667282e-05,"d":"1.56E-05"},{"$f":"VLOOKUP(A1292,'[1]SD vs SY0.15'!$A$2:$E$20133,5,FALSE)","v":"FAM46C"}]
["ENSGALG00000005540",630.729059090244,-1.55212302122488,0.231024827587479,-6.71842519019806,{"v":1.8369901124794E-11,"d":"1.84E-11"},{"v":3.70101356728613e-10,"d":"3.70E-10"},{"$f":"VLOOKUP(A1293,'[1]SD vs SY0.15'!$A$2:$E$20133,5,FALSE)","v":"MICAL2"}]
["ENSGALG00000011283",66.1519855970932,-1.55441297959835,0.29293181369498,-5.30639864612627,{"v":1.11812285207276E-7,"d":"1.12E-07"},{"v":1.14156206864293E-6,"d":"1.14E-06"},{"$f":"VLOOKUP(A1294,'[1]SD vs SY0.15'!$A$2:$E$20133,5,FALSE)","v":"ZNF385D"}]
["ENSGALG00000013929",1166.90952511753,-1.55666974100824,0.270512808164031,-5.75451399722383,{"v":8.68914060695005e-09,"d":"8.69E-09"},{"v":1.09954940125939E-7,"d":"1.10E-07"},{"$f":"VLOOKUP(A1295,'[1]SD vs SY0.15'!$A$2:$E$20133,5,FALSE)","v":"PDGFRA"}]
["ENSGALG00000008006",43.4632087771897,-1.55672490669297,0.422940933979246,-3.68071468525522,2.32581140216708E-4,0.00113464878926709,{"$f":"VLOOKUP(A1296,'[1]SD vs SY0.15'!$A$2:$E$20133,5,FALSE)","v":"CAPN6"}]
["ENSGALG00000008886",130.900044326721,-1.5581803544716,0.172847313896378,-9.01477910964664,{"v":1.97267604145879e-19,"d":"1.97E-19"},{"v":1.22935191157147E-17,"d":"1.23E-17"},{"$f":"VLOOKUP(A1297,'[1]SD vs SY0.15'!$A$2:$E$20133,5,FALSE)","v":"ZNF618"}]
["ENSGALG00000041547",130.892530914069,-1.56076360017109,0.145307596912605,-10.7411011766288,{"v":6.52612845764953e-27,"d":"6.53E-27"},{"v":8.77377343457122e-25,"d":"8.77E-25"},{"$f":"VLOOKUP(A1298,'[1]SD vs SY0.15'!$A$2:$E$20133,5,FALSE)","v":"DCP1A"}]
["ENSGALG00000048864",6.88774732050337,-1.56110582102055,0.637032452557245,-2.45059072697755,0.0142622015028266,0.0396509270114561,{"$f":"VLOOKUP(A1299,'[1]SD vs SY0.15'!$A$2:$E$20133,5,FALSE)","v":"NA"}]
["ENSGALG00000015635",655.182693974887,-1.56127616800839,0.15206629725119,-10.2670755863109,{"v":9.91651746275647e-25,"d":"9.92E-25"},{"v":1.04496054015119E-22,"d":"1.04E-22"},{"$f":"VLOOKUP(A1300,'[1]SD vs SY0.15'!$A$2:$E$20133,5,FALSE)","v":"HTT"}]
["ENSGALG00000003168",165.711614237413,-1.56181828403358,0.163037016673382,-9.57953178916677,{"v":9.74858605695416e-22,"d":"9.75E-22"},{"v":7.52580862422419E-20,"d":"7.53E-20"},{"$f":"VLOOKUP(A1301,'[1]SD vs SY0.15'!$A$2:$E$20133,5,FALSE)","v":"MTMR12"}]
["ENSGALG00000048828",70.6933467331579,-1.56545620256935,0.219078462503318,-7.1456417243463,{"v":8.95764165031659e-13,"d":"8.96E-13"},{"v":2.26047192124898e-11,"d":"2.26E-11"},{"$f":"VLOOKUP(A1302,'[1]SD vs SY0.15'!$A$2:$E$20133,5,FALSE)","v":"NA"}]
["ENSGALG00000054791",4.85610529562655,-1.56770857762708,0.640374624486438,-2.44811164852814,0.0143607147949226,0.0398738020024463,{"$f":"VLOOKUP(A1303,'[1]SD vs SY0.15'!$A$2:$E$20133,5,FALSE)","v":"NA"}]
["ENSGALG00000011366",14.8692099270828,-1.56995759250814,0.401243660744239,-3.91272871351073,{"v":9.12590369832162e-05,"d":"9.13E-05"},0.000493383356973626,{"$f":"VLOOKUP(A1304,'[1]SD vs SY0.15'!$A$2:$E$20133,5,FALSE)","v":"MOK"}]
["ENSGALG00000042279",19.6053202006844,-1.57093632832139,0.606304856392375,-2.59100073462836,0.00956972872296516,0.0282974274330264,{"$f":"VLOOKUP(A1305,'[1]SD vs SY0.15'!$A$2:$E$20133,5,FALSE)","v":"CYP24A1"}]
["ENSGALG00000006648",677.514869464278,-1.57318437648497,0.0940834669039759,-16.7211565246697,{"v":9.19180037862808e-63,"d":"9.19E-63"},{"v":1.77575370203563e-59,"d":"1.78E-59"},{"$f":"VLOOKUP(A1306,'[1]SD vs SY0.15'!$A$2:$E$20133,5,FALSE)","v":"SPECC1L"}]
["ENSGALG00000044020",360.581442915633,-1.57410305426694,0.22822450626388,-6.89716928315718,{"v":5.30489543635039e-12,"d":"5.30E-12"},{"v":1.17199767410196e-10,"d":"1.17E-10"},{"$f":"VLOOKUP(A1307,'[1]SD vs SY0.15'!$A$2:$E$20133,5,FALSE)","v":"NA"}]
["ENSGALG00000029378",410.93252997974,-1.57430843607492,0.183869437493428,-8.56209959380111,{"v":1.10830394341184E-17,"d":"1.11E-17"},{"v":5.76948522877297e-16,"d":"5.77E-16"},{"$f":"VLOOKUP(A1308,'[1]SD vs SY0.15'!$A$2:$E$20133,5,FALSE)","v":"ITGA9"}]
["ENSGALG00000008946",192.841709683626,-1.57436236878905,0.153330126739558,-10.2677953919859,{"v":9.84282146705101e-25,"d":"9.84E-25"},{"v":1.04351912711961E-22,"d":"1.04E-22"},{"$f":"VLOOKUP(A1309,'[1]SD vs SY0.15'!$A$2:$E$20133,5,FALSE)","v":"NHLRC2"}]
["ENSGALG00000009173",64.1092468773122,-1.57486302985107,0.258419497621866,-6.09421132826246,{"v":1.09978295736341E-9,"d":"1.10E-09"},{"v":1.64418970590521e-08,"d":"1.64E-08"},{"$f":"VLOOKUP(A1310,'[1]SD vs SY0.15'!$A$2:$E$20133,5,FALSE)","v":"GFRA1"}]
["ENSGALG00000005426",336.978410914501,-1.57645937830628,0.178405624119373,-8.83637713826475,{"v":9.88726076749599e-19,"d":"9.89E-19"},{"v":5.65492772909384e-17,"d":"5.65E-17"},{"$f":"VLOOKUP(A1311,'[1]SD vs SY0.15'!$A$2:$E$20133,5,FALSE)","v":"FREM1"}]
["ENSGALG00000028304",309.226763315984,-1.5774638691842,0.36013830576392,-4.38016129897126,{"v":1.18591491886621E-5,"d":"1.19E-05"},{"v":7.84309725915816e-05,"d":"7.84E-05"},{"$f":"VLOOKUP(A1312,'[1]SD vs SY0.15'!$A$2:$E$20133,5,FALSE)","v":"MMR1L4"}]
["ENSGALG00000052162",205.30439809969,-1.57754185463099,0.197682803080384,-7.98016736938678,{"v":1.46134999747606E-15,"d":"1.46E-15"},{"v":5.65890699468067e-14,"d":"5.66E-14"},{"$f":"VLOOKUP(A1313,'[1]SD vs SY0.15'!$A$2:$E$20133,5,FALSE)","v":"PPM1L"}]
["ENSGALG00000008304",314.290851429108,-1.57839119168386,0.245289133859383,-6.43481905149826,{"v":1.23620510285723E-10,"d":"1.24E-10"},{"v":2.19774009441499e-09,"d":"2.20E-09"},{"$f":"VLOOKUP(A1314,'[1]SD vs SY0.15'!$A$2:$E$20133,5,FALSE)","v":"STN1"}]
["ENSGALG00000009207",443.822753502082,-1.5823536158719,0.174301713243762,-9.07824476549446,{"v":1.10339800800574e-19,"d":"1.10E-19"},{"v":7.04483616584877e-18,"d":"7.04E-18"},{"$f":"VLOOKUP(A1315,'[1]SD vs SY0.15'!$A$2:$E$20133,5,FALSE)","v":"TRIM2"}]
["ENSGALG00000044591",32.3107716249493,-1.58400712218035,0.305086616299382,-5.19199151176781,{"v":2.08056491360903e-07,"d":"2.08E-07"},{"v":2.00081759695355e-06,"d":"2.00E-06"},{"$f":"VLOOKUP(A1316,'[1]SD vs SY0.15'!$A$2:$E$20133,5,FALSE)","v":"OR51E2"}]
["ENSGALG00000016350",141.016542589882,-1.58408804811479,0.240439462143257,-6.58830307635179,{"v":4.44881802615276e-11,"d":"4.45E-11"},{"v":8.50952684496348e-10,"d":"8.51E-10"},{"$f":"VLOOKUP(A1317,'[1]SD vs SY0.15'!$A$2:$E$20133,5,FALSE)","v":"ARHGEF10"}]
["ENSGALG00000026247",4.93753858985591,-1.58434285266631,0.67073583011245,-2.36209664302665,0.0181719042909993,0.0485188728359343,{"$f":"VLOOKUP(A1318,'[1]SD vs SY0.15'!$A$2:$E$20133,5,FALSE)","v":"NA"}]
["ENSGALG00000048563",83.2237190949023,-1.58470659306959,0.294298776658378,-5.38468630778279,{"v":7.25711005136516e-08,"d":"7.26E-08"},{"v":7.68917565283888E-7,"d":"7.69E-07"},{"$f":"VLOOKUP(A1319,'[1]SD vs SY0.15'!$A$2:$E$20133,5,FALSE)","v":"NA"}]
["ENSGALG00000034493",194.183196130244,-1.5861588799677,0.329746182431561,-4.81024182985622,{"v":1.50747798239982E-6,"d":"1.51E-06"},{"v":1.22307604666289e-05,"d":"1.22E-05"},{"$f":"VLOOKUP(A1320,'[1]SD vs SY0.15'!$A$2:$E$20133,5,FALSE)","v":"DCLK3"}]
["ENSGALG00000003568",240.785870057987,-1.58734392475154,0.213019730362359,-7.45162864515589,{"v":9.21949310659663e-14,"d":"9.22E-14"},{"v":2.77334475163314E-12,"d":"2.77E-12"},{"$f":"VLOOKUP(A1321,'[1]SD vs SY0.15'!$A$2:$E$20133,5,FALSE)","v":"PPP1R16B"}]
["ENSGALG00000010958",112.772993290473,-1.58745116871286,0.246882378879148,-6.42998976241206,{"v":1.27612539839263e-10,"d":"1.28E-10"},{"v":2.26408084712782e-09,"d":"2.26E-09"},{"$f":"VLOOKUP(A1322,'[1]SD vs SY0.15'!$A$2:$E$20133,5,FALSE)","v":"PPFIA2"}]
["ENSGALG00000016870",270.976314951569,-1.58904911130205,0.198863701271965,-7.99064435157461,{"v":1.34235286500578e-15,"d":"1.34E-15"},{"v":5.22136225142179e-14,"d":"5.22E-14"},{"$f":"VLOOKUP(A1323,'[1]SD vs SY0.15'!$A$2:$E$20133,5,FALSE)","v":"TMTC4"}]
["ENSGALG00000054937",98.3151160391452,-1.59028223455829,0.248516782574674,-6.39909392871867,{"v":1.56301673638451E-10,"d":"1.56E-10"},{"v":2.73953346729006e-09,"d":"2.74E-09"},{"$f":"VLOOKUP(A1324,'[1]SD vs SY0.15'!$A$2:$E$20133,5,FALSE)","v":"LOC416169"}]
["ENSGALG00000013941",234.363509089365,-1.59034873463129,0.188823115712229,-8.42242608185228,{"v":3.68767118772562e-17,"d":"3.69E-17"},{"v":1.76147085002707E-15,"d":"1.76E-15"},{"$f":"VLOOKUP(A1325,'[1]SD vs SY0.15'!$A$2:$E$20133,5,FALSE)","v":"PDE7B"}]
["ENSGALG00000052012",52.1945637076321,-1.59165645776599,0.244742857005217,-6.50338268189808,{"v":7.85336733973635e-11,"d":"7.85E-11"},{"v":1.43582016757093E-9,"d":"1.44E-09"},{"$f":"VLOOKUP(A1326,'[1]SD vs SY0.15'!$A$2:$E$20133,5,FALSE)","v":"NA"}]
["ENSGALG00000052375",33.0515496564476,-1.59351838491289,0.389894789254848,-4.08704714407279,{"v":4.36898364634111e-05,"d":"4.37E-05"},0.000254654772574364,{"$f":"VLOOKUP(A1327,'[1]SD vs SY0.15'!$A$2:$E$20133,5,FALSE)","v":"NA"}]
["ENSGALG00000016164",98.9521504960068,-1.59430371592894,0.305146211390283,-5.22472066313751,{"v":1.74418215067848e-07,"d":"1.74E-07"},{"v":1.70467088554506e-06,"d":"1.70E-06"},{"$f":"VLOOKUP(A1328,'[1]SD vs SY0.15'!$A$2:$E$20133,5,FALSE)","v":"ABCG1"}]
["ENSGALG00000015615",10.058243089863,-1.59435574586262,0.604838321889826,-2.63600318987896,0.00838889429137289,0.0253577373164292,{"$f":"VLOOKUP(A1329,'[1]SD vs SY0.15'!$A$2:$E$20133,5,FALSE)","v":"DOK7"}]
["ENSGALG00000003837",603.29470101829,-1.59620839242482,0.129469111883747,-12.3288741940092,{"v":6.33252721320341e-35,"d":"6.33E-35"},{"v":1.61917133317599e-32,"d":"1.62E-32"},{"$f":"VLOOKUP(A1330,'[1]SD vs SY0.15'!$A$2:$E$20133,5,FALSE)","v":"ADCY7"}]
["ENSGALG00000029474",16.7355123143379,-1.59684023332963,0.492220551203572,-3.244155956969,1.17799228652159E-3,0.00473347628512846,{"$f":"VLOOKUP(A1331,'[1]SD vs SY0.15'!$A$2:$E$20133,5,FALSE)","v":"NA"}]
["ENSGALG00000021230",10.0089700495182,-1.59713922221847,0.531951992385285,-3.00241233246794,0.00267849108534749,0.00958249475327918,{"$f":"VLOOKUP(A1332,'[1]SD vs SY0.15'!$A$2:$E$20133,5,FALSE)","v":"EPB42"}]
["ENSGALG00000000830",88.1161188511889,-1.59791257715214,0.20933299646783,-7.63335262053496,{"v":2.28726151974769e-14,"d":"2.29E-14"},{"v":7.51769679467921e-13,"d":"7.52E-13"},{"$f":"VLOOKUP(A1333,'[1]SD vs SY0.15'!$A$2:$E$20133,5,FALSE)","v":"NA"}]
["ENSGALG00000032363",45.9617112488278,-1.59811142181912,0.367013576465033,-4.35436595346598,{"v":1.33452610362491e-05,"d":"1.33E-05"},{"v":8.70671871059149e-05,"d":"8.71E-05"},{"$f":"VLOOKUP(A1334,'[1]SD vs SY0.15'!$A$2:$E$20133,5,FALSE)","v":"GPR141"}]
["ENSGALG00000009458",8.73558426154499,-1.59850170551555,0.53167560132472,-3.00653575513478,2.64242975766436E-3,0.00947688246627686,{"$f":"VLOOKUP(A1335,'[1]SD vs SY0.15'!$A$2:$E$20133,5,FALSE)","v":"MEGF6L"}]
["ENSGALG00000050196",10.9776741336282,-1.59942785748656,0.495764584684489,-3.2261841747015,0.00125452601314376,0.00499140590172324,{"$f":"VLOOKUP(A1336,'[1]SD vs SY0.15'!$A$2:$E$20133,5,FALSE)","v":"NA"}]
["ENSGALG00000032684",85.0372153039369,-1.60110265017612,0.249868730173534,-6.40777519085382,{"v":1.47658412614119E-10,"d":"1.48E-10"},{"v":2.59589162803002E-9,"d":"2.60E-09"},{"$f":"VLOOKUP(A1337,'[1]SD vs SY0.15'!$A$2:$E$20133,5,FALSE)","v":"NA"}]
["ENSGALG00000015446",44.7077236918678,-1.60493297636568,0.385250334091061,-4.16594830515144,{"v":3.10060962812877e-05,"d":"3.10E-05"},0.000186282997941517,{"$f":"VLOOKUP(A1338,'[1]SD vs SY0.15'!$A$2:$E$20133,5,FALSE)","v":"POU2F1"}]
["ENSGALG00000005752",6.28072234307986,-1.60657962307026,0.638287009648951,-2.51701757796051,0.0118352924328753,0.0338788655795855,{"$f":"VLOOKUP(A1339,'[1]SD vs SY0.15'!$A$2:$E$20133,5,FALSE)","v":"ABCA4"}]
["ENSGALG00000041896",363.916249936768,-1.60978127119631,0.105742651192832,-15.2235758517224,{"v":2.46671691340188e-52,"d":"2.47E-52"},{"v":2.5228709984305e-49,"d":"2.52E-49"},{"$f":"VLOOKUP(A1340,'[1]SD vs SY0.15'!$A$2:$E$20133,5,FALSE)","v":"RFX7"}]
["ENSGALG00000012620",219.123158879027,-1.61069237200068,0.228049429837103,-7.0629090068377,{"v":1.63052502316671E-12,"d":"1.63E-12"},{"v":3.90495021732775e-11,"d":"3.90E-11"},{"$f":"VLOOKUP(A1341,'[1]SD vs SY0.15'!$A$2:$E$20133,5,FALSE)","v":"PTCH1"}]
["ENSGALG00000014362",36.5225792247256,-1.61132845057161,0.477372337930695,-3.37541227788013,0.000737051850277364,3.14173094404818E-3,{"$f":"VLOOKUP(A1342,'[1]SD vs SY0.15'!$A$2:$E$20133,5,FALSE)","v":"CD86"}]
["ENSGALG00000003500",101.945611183918,-1.61141874277181,0.162807400835509,-9.89769957939377,{"v":4.25960065018614e-23,"d":"4.26E-23"},{"v":3.89798297393613E-21,"d":"3.90E-21"},{"$f":"VLOOKUP(A1343,'[1]SD vs SY0.15'!$A$2:$E$20133,5,FALSE)","v":"NA"}]
["ENSGALG00000017405",206.000563497585,-1.61214683007323,0.223313287924454,-7.21921586062811,{"v":5.22881991912173e-13,"d":"5.23E-13"},{"v":1.37956740415432E-11,"d":"1.38E-11"},{"$f":"VLOOKUP(A1344,'[1]SD vs SY0.15'!$A$2:$E$20133,5,FALSE)","v":"NPR3"}]
["ENSGALG00000003818",461.898361070014,-1.61245201295689,0.177909494117227,-9.06332751356384,{"v":1.26530413378624E-19,"d":"1.27E-19"},{"v":7.99994289968778e-18,"d":"8.00E-18"},{"$f":"VLOOKUP(A1345,'[1]SD vs SY0.15'!$A$2:$E$20133,5,FALSE)","v":"CYFIP2"}]
["ENSGALG00000026192",155.365965912789,-1.61250940994662,0.239112464208445,-6.74372795782375,{"v":1.54373463455752e-11,"d":"1.54E-11"},{"v":3.15404395899548e-10,"d":"3.15E-10"},{"$f":"VLOOKUP(A1346,'[1]SD vs SY0.15'!$A$2:$E$20133,5,FALSE)","v":"ST8SIA4"}]
["ENSGALG00000037769",61.3257532245899,-1.616024680495,0.323876826547762,-4.98962737692714,{"v":6.04958729209856e-07,"d":"6.05E-07"},{"v":5.29628269122446e-06,"d":"5.30E-06"},{"$f":"VLOOKUP(A1347,'[1]SD vs SY0.15'!$A$2:$E$20133,5,FALSE)","v":"NEBL,NEBL"}]
["ENSGALG00000010200",28.6230630931309,-1.61793580361907,0.431899566835887,-3.74609267490618,0.000179610260979928,0.000900225888630154,{"$f":"VLOOKUP(A1348,'[1]SD vs SY0.15'!$A$2:$E$20133,5,FALSE)","v":"TRHDE"}]
["ENSGALG00000049657",11.2194672031994,-1.61808111195466,0.537030952940658,-3.01301275670318,0.00258668044065301,0.00929803862345127,{"$f":"VLOOKUP(A1349,'[1]SD vs SY0.15'!$A$2:$E$20133,5,FALSE)","v":"NA"}]
["ENSGALG00000005265",27.0672280322544,-1.61959894954733,0.415627630958105,-3.89675476053849,{"v":9.74902488403572e-05,"d":"9.75E-05"},0.000523167579193608,{"$f":"VLOOKUP(A1350,'[1]SD vs SY0.15'!$A$2:$E$20133,5,FALSE)","v":"SYT9"}]
["ENSGALG00000009907",391.239040843523,-1.62118523986266,0.13924793591095,-11.642436415714,{"v":2.50748625784974e-31,"d":"2.51E-31"},{"v":4.79095204013554E-29,"d":"4.79E-29"},{"$f":"VLOOKUP(A1351,'[1]SD vs SY0.15'!$A$2:$E$20133,5,FALSE)","v":"G2E3"}]
["ENSGALG00000005042",601.265237962811,-1.62339407303298,0.125594289898138,-12.9256996822834,{"v":3.22350775851961e-38,"d":"3.22E-38"},{"v":1.09896332151726E-35,"d":"1.10E-35"},{"$f":"VLOOKUP(A1352,'[1]SD vs SY0.15'!$A$2:$E$20133,5,FALSE)","v":"IQSEC1"}]
["ENSGALG00000030032",98.6832316726435,-1.62343932958247,0.374767953715007,-4.33185205268916,{"v":1.47860288382657e-05,"d":"1.48E-05"},{"v":9.53606262416676e-05,"d":"9.54E-05"},{"$f":"VLOOKUP(A1353,'[1]SD vs SY0.15'!$A$2:$E$20133,5,FALSE)","v":"SLC4A10"}]
["ENSGALG00000008795",151.22468494072,-1.62356498788441,0.190776113776334,-8.51031586578955,{"v":1.73460166043443e-17,"d":"1.73E-17"},{"v":8.69150405474736e-16,"d":"8.69E-16"},{"$f":"VLOOKUP(A1354,'[1]SD vs SY0.15'!$A$2:$E$20133,5,FALSE)","v":"GPAM"}]
["ENSGALG00000028357",9.18987303731104,-1.63006751248607,0.515368106016693,-3.16291887964303,0.00156195848840162,0.00604446299529022,{"$f":"VLOOKUP(A1355,'[1]SD vs SY0.15'!$A$2:$E$20133,5,FALSE)","v":"MMR1L2"}]
["ENSGALG00000005969",239.242200701052,-1.63022650952315,0.231415784755722,-7.04457784175778,{"v":1.86024630826769e-12,"d":"1.86E-12"},{"v":4.38861635846001e-11,"d":"4.39E-11"},{"$f":"VLOOKUP(A1356,'[1]SD vs SY0.15'!$A$2:$E$20133,5,FALSE)","v":"ANTXRL"}]
["ENSGALG00000051433",16.9372379853123,-1.63203876103934,0.370592966372747,-4.40385789566717,{"v":1.06342615819326E-5,"d":"1.06E-05"},{"v":7.0814977451192e-05,"d":"7.08E-05"},{"$f":"VLOOKUP(A1357,'[1]SD vs SY0.15'!$A$2:$E$20133,5,FALSE)","v":"NA"}]
["ENSGALG00000034828",6.98512711038926,-1.63208662239178,0.504772750521196,-3.23330968382622,0.00122364836859904,0.00488722779763673,{"$f":"VLOOKUP(A1358,'[1]SD vs SY0.15'!$A$2:$E$20133,5,FALSE)","v":"NA"}]
["ENSGALG00000009048",162.44308274517,-1.63384684757457,0.170562355399597,-9.57917615376945,{"v":9.78220940400683E-22,"d":"9.78E-22"},{"v":7.52580862422419E-20,"d":"7.53E-20"},{"$f":"VLOOKUP(A1359,'[1]SD vs SY0.15'!$A$2:$E$20133,5,FALSE)","v":"ABLIM1"}]
["ENSGALG00000016128",269.723346823024,-1.63487212189414,0.423222026369197,-3.86291832662785,1.12040475012992E-4,0.000592471940100634,{"$f":"VLOOKUP(A1360,'[1]SD vs SY0.15'!$A$2:$E$20133,5,FALSE)","v":"B3GALT5"}]
["ENSGALG00000052803",65.5708333331874,-1.63488383129709,0.34604607289592,-4.72446867440341,{"v":2.30717774632619e-06,"d":"2.31E-06"},{"v":1.79004459952582e-05,"d":"1.79E-05"},{"$f":"VLOOKUP(A1361,'[1]SD vs SY0.15'!$A$2:$E$20133,5,FALSE)","v":"NA"}]
["ENSGALG00000006575",72.2484939761801,-1.63642847132189,0.361904521897912,-4.52171324840065,{"v":6.1341120414052e-06,"d":"6.13E-06"},{"v":4.31420080898093e-05,"d":"4.31E-05"},{"$f":"VLOOKUP(A1362,'[1]SD vs SY0.15'!$A$2:$E$20133,5,FALSE)","v":"VIPR2,VIPR2"}]
["ENSGALG00000025672",56.3830566702909,-1.63656499284235,0.270608602455192,-6.04771976202545,{"v":1.46910201808327E-9,"d":"1.47E-09"},{"v":2.16468447359439E-8,"d":"2.16E-08"},{"$f":"VLOOKUP(A1363,'[1]SD vs SY0.15'!$A$2:$E$20133,5,FALSE)","v":"SNORD97"}]
["ENSGALG00000009341",237.921058425141,-1.6372521371225,0.206912976245161,-7.91275717373375,{"v":2.5175010181145E-15,"d":"2.52E-15"},{"v":9.59907679867473e-14,"d":"9.60E-14"},{"$f":"VLOOKUP(A1364,'[1]SD vs SY0.15'!$A$2:$E$20133,5,FALSE)","v":"CRAMP1"}]
["ENSGALG00000005415",190.170813461929,-1.63899840571355,0.151810788283929,-10.7963236621113,{"v":3.5826244216364e-27,"d":"3.58E-27"},{"v":5.06431632674733e-25,"d":"5.06E-25"},{"$f":"VLOOKUP(A1365,'[1]SD vs SY0.15'!$A$2:$E$20133,5,FALSE)","v":"TEAD1"}]
["ENSGALG00000011813",371.362868705874,-1.63979341900705,0.212154762951614,-7.72923217086123,{"v":1.08197187678037e-14,"d":"1.08E-14"},{"v":3.74000895061238e-13,"d":"3.74E-13"},{"$f":"VLOOKUP(A1366,'[1]SD vs SY0.15'!$A$2:$E$20133,5,FALSE)","v":"HEG1"}]
["ENSGALG00000035429",70.7213172679351,-1.64236651533027,0.321057066342646,-5.11549717325788,{"v":3.1291563382198E-7,"d":"3.13E-07"},{"v":2.90014079171789e-06,"d":"2.90E-06"},{"$f":"VLOOKUP(A1367,'[1]SD vs SY0.15'!$A$2:$E$20133,5,FALSE)","v":"XKR4"}]
["ENSGALG00000050481",60.3940539769109,-1.64252729403679,0.206892402862229,-7.93904112144013,{"v":2.03750222072216E-15,"d":"2.04E-15"},{"v":7.78594529927388e-14,"d":"7.79E-14"},{"$f":"VLOOKUP(A1368,'[1]SD vs SY0.15'!$A$2:$E$20133,5,FALSE)","v":"NA"}]
["ENSGALG00000011076",97.0870899854641,-1.64296269163351,0.311679829272129,-5.27131542477532,{"v":1.35449458408108E-7,"d":"1.35E-07"},{"v":1.3574577801268e-06,"d":"1.36E-06"},{"$f":"VLOOKUP(A1369,'[1]SD vs SY0.15'!$A$2:$E$20133,5,FALSE)","v":"SYNE3"}]
["ENSGALG00000043584",33.5543698428957,-1.64353338301641,0.361363703327264,-4.54814185233198,{"v":5.41216520787367e-06,"d":"5.41E-06"},{"v":3.85345276287058e-05,"d":"3.85E-05"},{"$f":"VLOOKUP(A1370,'[1]SD vs SY0.15'!$A$2:$E$20133,5,FALSE)","v":"NA"}]
["ENSGALG00000010646",40.5367008109994,-1.64424630006808,0.335976822709047,-4.8939277620706,{"v":9.88431324803007e-07,"d":"9.88E-07"},{"v":8.29833676694828e-06,"d":"8.30E-06"},{"$f":"VLOOKUP(A1371,'[1]SD vs SY0.15'!$A$2:$E$20133,5,FALSE)","v":"STOX2"}]
["ENSGALG00000003775",278.454162652004,-1.64495686390206,0.131630931378835,-12.4967349746076,{"v":7.77806924634581e-36,"d":"7.78E-36"},{"v":2.25395483310358e-33,"d":"2.25E-33"},{"$f":"VLOOKUP(A1372,'[1]SD vs SY0.15'!$A$2:$E$20133,5,FALSE)","v":"RICTOR"}]
["ENSGALG00000051796",38.0216578286062,-1.6506662647357,0.293557331185736,-5.62297748813946,{"v":1.87693869036767e-08,"d":"1.88E-08"},{"v":2.23662017372663e-07,"d":"2.24E-07"},{"$f":"VLOOKUP(A1373,'[1]SD vs SY0.15'!$A$2:$E$20133,5,FALSE)","v":"ANKRD31"}]
["ENSGALG00000016265",12.718210809364,-1.6515850241423,0.534765991568507,-3.08842568559395,0.00201220012600193,7.52035202766832E-3,{"$f":"VLOOKUP(A1374,'[1]SD vs SY0.15'!$A$2:$E$20133,5,FALSE)","v":"LANCL3"}]
["ENSGALG00000049467",8.24689009187956,-1.65195489385864,0.575331903922342,-2.87130764450293,0.00408777481335327,0.0138088480046189,{"$f":"VLOOKUP(A1375,'[1]SD vs SY0.15'!$A$2:$E$20133,5,FALSE)","v":"NA"}]
["ENSGALG00000014242",30.8077499118377,-1.65681613110013,0.468781659708017,-3.53430237038728,4.08853061680343E-4,0.0018630210204788,{"$f":"VLOOKUP(A1376,'[1]SD vs SY0.15'!$A$2:$E$20133,5,FALSE)","v":"BEND4"}]
["ENSGALG00000012342",585.377720074362,-1.6574973159265,0.16557792220455,-10.0103763464243,{"v":1.37229501151623e-23,"d":"1.37E-23"},{"v":1.31823720249905E-21,"d":"1.32E-21"},{"$f":"VLOOKUP(A1377,'[1]SD vs SY0.15'!$A$2:$E$20133,5,FALSE)","v":"SASH1"}]
["ENSGALG00000022739",292.491794087276,-1.65858028470407,0.131703295360257,-12.5933089234194,{"v":2.29832929914927E-36,"d":"2.30E-36"},{"v":7.01071079373831e-34,"d":"7.01E-34"},{"$f":"VLOOKUP(A1378,'[1]SD vs SY0.15'!$A$2:$E$20133,5,FALSE)","v":"AKAP11"}]
["ENSGALG00000013748",117.316368230887,-1.65916445992514,0.245385846041941,-6.76145134973088,{"v":1.36616193066683e-11,"d":"1.37E-11"},{"v":2.81772923944295e-10,"d":"2.82E-10"},{"$f":"VLOOKUP(A1379,'[1]SD vs SY0.15'!$A$2:$E$20133,5,FALSE)","v":"CD226"}]
["ENSGALG00000029831",173.479155923766,-1.65969033770202,0.304414335104528,-5.45207681212556,{"v":4.97849417579866E-8,"d":"4.98E-08"},{"v":5.46816666043028E-7,"d":"5.47E-07"},{"$f":"VLOOKUP(A1380,'[1]SD vs SY0.15'!$A$2:$E$20133,5,FALSE)","v":"IFFO2"}]
["ENSGALG00000039935",88.8391406568613,-1.66165287826902,0.279874229500618,-5.93714141253348,{"v":2.90034490801193e-09,"d":"2.90E-09"},{"v":4.02460470196357E-8,"d":"4.02E-08"},{"$f":"VLOOKUP(A1381,'[1]SD vs SY0.15'!$A$2:$E$20133,5,FALSE)","v":"PDE1C"}]
["ENSGALG00000048936",310.714622185308,-1.66224345829953,0.185005840309709,-8.98481613076025,{"v":2.59167273721719e-19,"d":"2.59E-19"},{"v":1.59792247808494E-17,"d":"1.60E-17"},{"$f":"VLOOKUP(A1382,'[1]SD vs SY0.15'!$A$2:$E$20133,5,FALSE)","v":"NA"}]
["ENSGALG00000038614",17.0161740745128,-1.66539173825543,0.428177066759187,-3.88949308018889,1.00453832866639E-4,0.00053807479730507,{"$f":"VLOOKUP(A1383,'[1]SD vs SY0.15'!$A$2:$E$20133,5,FALSE)","v":"NA"}]
["ENSGALG00000009791",134.170861802856,-1.66972207942213,0.19254091682508,-8.67203764766032,{"v":4.24455264665447e-18,"d":"4.24E-18"},{"v":2.27777891565991e-16,"d":"2.28E-16"},{"$f":"VLOOKUP(A1384,'[1]SD vs SY0.15'!$A$2:$E$20133,5,FALSE)","v":"PROX1"}]
["ENSGALG00000030780",358.037918246952,-1.66975819356936,0.148868132090362,-11.2163575247645,{"v":3.38945269648972e-29,"d":"3.39E-29"},{"v":5.61261086036827E-27,"d":"5.61E-27"},{"$f":"VLOOKUP(A1385,'[1]SD vs SY0.15'!$A$2:$E$20133,5,FALSE)","v":"MGAT4A"}]
["ENSGALG00000002550",12.8303350606484,-1.6703035772984,0.528205555623286,-3.16222266031912,0.00156569796862048,0.00605623817139138,{"$f":"VLOOKUP(A1386,'[1]SD vs SY0.15'!$A$2:$E$20133,5,FALSE)","v":"TSHB"}]
["ENSGALG00000001730",1155.54842202281,-1.67106619272889,0.143055726814556,-11.6812254213011,{"v":1.58986799398156E-31,"d":"1.59E-31"},{"v":3.14125395583606e-29,"d":"3.14E-29"},{"$f":"VLOOKUP(A1387,'[1]SD vs SY0.15'!$A$2:$E$20133,5,FALSE)","v":"DGKD"}]
["ENSGALG00000041403",429.69099308003,-1.67179607317036,0.120951652346918,-13.8220193005323,{"v":1.87728852152127E-43,"d":"1.88E-43"},{"v":1.02001298511532E-40,"d":"1.02E-40"},{"$f":"VLOOKUP(A1388,'[1]SD vs SY0.15'!$A$2:$E$20133,5,FALSE)","v":"DENND4A"}]
["ENSGALG00000039411",35.8642166937331,-1.67191822852807,0.282288772335,-5.92272308494069,{"v":3.16653809254593e-09,"d":"3.17E-09"},{"v":4.37651810930811e-08,"d":"4.38E-08"},{"$f":"VLOOKUP(A1389,'[1]SD vs SY0.15'!$A$2:$E$20133,5,FALSE)","v":"COL25A1"}]
["ENSGALG00000008293",202.77136312119,-1.67211578956961,0.213179046002312,-7.84371551016075,{"v":4.37407439494527e-15,"d":"4.37E-15"},{"v":1.5977317543049E-13,"d":"1.60E-13"},{"$f":"VLOOKUP(A1390,'[1]SD vs SY0.15'!$A$2:$E$20133,5,FALSE)","v":"SH3PXD2A"}]
["ENSGALG00000005061",125.398794061907,-1.67428455439332,0.235119326927431,-7.12099926566261,{"v":1.07147362918892e-12,"d":"1.07E-12"},{"v":2.63876940378297e-11,"d":"2.64E-11"},{"$f":"VLOOKUP(A1391,'[1]SD vs SY0.15'!$A$2:$E$20133,5,FALSE)","v":"PPM1E"}]
["ENSGALG00000011342",205.025310072843,-1.67461536571343,0.207761177975871,-8.060290098605,{"v":7.61136017684933e-16,"d":"7.61E-16"},{"v":3.04927924872994E-14,"d":"3.05E-14"},{"$f":"VLOOKUP(A1392,'[1]SD vs SY0.15'!$A$2:$E$20133,5,FALSE)","v":"FGD6"}]
["ENSGALG00000017173",20.4380974192458,-1.67498598473301,0.380065675005433,-4.40709618070369,{"v":1.04765674691522E-5,"d":"1.05E-05"},{"v":7.00061793182744e-05,"d":"7.00E-05"},{"$f":"VLOOKUP(A1393,'[1]SD vs SY0.15'!$A$2:$E$20133,5,FALSE)","v":"GUCY1A2"}]
["ENSGALG00000048631",12.0564267091295,-1.6763317150572,0.426862435826346,-3.92710057002802,{"v":8.59760373776632e-05,"d":"8.60E-05"},4.68169546472104E-4,{"$f":"VLOOKUP(A1394,'[1]SD vs SY0.15'!$A$2:$E$20133,5,FALSE)","v":"NA"}]
["ENSGALG00000008466",95.1204624402998,-1.67701932663998,0.229684543976822,-7.30140260029517,{"v":2.84783197928748e-13,"d":"2.85E-13"},{"v":7.8720595586441e-12,"d":"7.87E-12"},{"$f":"VLOOKUP(A1395,'[1]SD vs SY0.15'!$A$2:$E$20133,5,FALSE)","v":"FAM117B"}]
["ENSGALG00000010350",113.463043955279,-1.67938077298105,0.141937793447983,-11.8318083731272,{"v":2.6731977355871E-32,"d":"2.67E-32"},{"v":5.73813444798184e-30,"d":"5.74E-30"},{"$f":"VLOOKUP(A1396,'[1]SD vs SY0.15'!$A$2:$E$20133,5,FALSE)","v":"GPATCH2L"}]
["ENSGALG00000026816",118.170464372925,-1.68026193585177,0.263422527982645,-6.37858101476601,{"v":1.78736286511342E-10,"d":"1.79E-10"},{"v":3.08915289619553e-09,"d":"3.09E-09"},{"$f":"VLOOKUP(A1397,'[1]SD vs SY0.15'!$A$2:$E$20133,5,FALSE)","v":"NA"}]
["ENSGALG00000014236",293.986999412611,-1.68263116274614,0.174338900538455,-9.65149577948033,{"v":4.84438887758934e-22,"d":"4.84E-22"},{"v":3.91764601928585e-20,"d":"3.92E-20"},{"$f":"VLOOKUP(A1398,'[1]SD vs SY0.15'!$A$2:$E$20133,5,FALSE)","v":"ATP8A1"}]
["ENSGALG00000048426",5.46814355506812,-1.68294664735339,0.699465089379939,-2.40604809718994,0.0161261414457593,0.043913112187536,{"$f":"VLOOKUP(A1399,'[1]SD vs SY0.15'!$A$2:$E$20133,5,FALSE)","v":"NA"}]
["ENSGALG00000042992",28.5665125992754,-1.68295760986783,0.446806530104027,-3.76663610864415,0.000165461895655146,0.000836304063882565,{"$f":"VLOOKUP(A1400,'[1]SD vs SY0.15'!$A$2:$E$20133,5,FALSE)","v":"NA"}]
["ENSGALG00000032836",242.01233613416,-1.68376930286646,0.292817044036349,-5.75024349558506,{"v":8.91150102002999e-09,"d":"8.91E-09"},{"v":1.12604846101207E-7,"d":"1.13E-07"},{"$f":"VLOOKUP(A1401,'[1]SD vs SY0.15'!$A$2:$E$20133,5,FALSE)","v":"MAOB"}]
["ENSGALG00000002335",158.750318866771,-1.6839938024989,0.296474512326604,-5.68006264445344,{"v":1.34645418486921e-08,"d":"1.35E-08"},{"v":1.64748760818585e-07,"d":"1.65E-07"},{"$f":"VLOOKUP(A1402,'[1]SD vs SY0.15'!$A$2:$E$20133,5,FALSE)","v":"DOCK3"}]
["ENSGALG00000029056",23.7090427811074,-1.68555978465744,0.494987289992959,-3.40525871822167,0.000661013974249832,2.8504588219945E-3,{"$f":"VLOOKUP(A1403,'[1]SD vs SY0.15'!$A$2:$E$20133,5,FALSE)","v":"LOC101749460"}]
["ENSGALG00000034950",175.785591598796,-1.68710161461028,0.183896399082234,-9.17419603118955,{"v":4.54956602299334e-20,"d":"4.55E-20"},{"v":3.00773020691199e-18,"d":"3.01E-18"},{"$f":"VLOOKUP(A1404,'[1]SD vs SY0.15'!$A$2:$E$20133,5,FALSE)","v":"SMPD3"}]
["ENSGALG00000006034",148.838411042557,-1.68760803755081,0.267126814096813,-6.3176287384582,{"v":2.65607156653169e-10,"d":"2.66E-10"},{"v":4.47058241309647e-09,"d":"4.47E-09"},{"$f":"VLOOKUP(A1405,'[1]SD vs SY0.15'!$A$2:$E$20133,5,FALSE)","v":"PITPNM3"}]
["ENSGALG00000009507",23.8844456008821,-1.68943837295488,0.406267524717563,-4.15843814769438,{"v":3.20430968664143e-05,"d":"3.20E-05"},0.00019191640551717,{"$f":"VLOOKUP(A1406,'[1]SD vs SY0.15'!$A$2:$E$20133,5,FALSE)","v":"PLEKHH1"}]
["ENSGALG00000020392",39.0888192799646,-1.69016276076887,0.324990113606807,-5.20065900470356,{"v":1.98583146185408e-07,"d":"1.99E-07"},{"v":1.92033657548704E-6,"d":"1.92E-06"},{"$f":"VLOOKUP(A1407,'[1]SD vs SY0.15'!$A$2:$E$20133,5,FALSE)","v":"PRIMA1"}]
["ENSGALG00000054619",104.895702219793,-1.69049608046778,0.199172842152272,-8.48758325783872,{"v":2.10978583559991e-17,"d":"2.11E-17"},{"v":1.04509533685401e-15,"d":"1.05E-15"},{"$f":"VLOOKUP(A1408,'[1]SD vs SY0.15'!$A$2:$E$20133,5,FALSE)","v":"GAB2"}]
["ENSGALG00000015605",48.6415007016578,-1.69220225139038,0.253273005841438,-6.68133678821575,{"v":2.36772379031367e-11,"d":"2.37E-11"},{"v":4.70487011910671e-10,"d":"4.70E-10"},{"$f":"VLOOKUP(A1409,'[1]SD vs SY0.15'!$A$2:$E$20133,5,FALSE)","v":"BACH2"}]
["ENSGALG00000009638",41.2268992185426,-1.69336366796475,0.258700033861408,-6.5456646552738,{"v":5.92313574379605e-11,"d":"5.92E-11"},{"v":1.11095535250682e-09,"d":"1.11E-09"},{"$f":"VLOOKUP(A1410,'[1]SD vs SY0.15'!$A$2:$E$20133,5,FALSE)","v":"ANO6"}]
["ENSGALG00000006644",9.56334586969722,-1.69338883056277,0.591669915598649,-2.86204991316722,0.00420910614889076,0.0141527226089274,{"$f":"VLOOKUP(A1411,'[1]SD vs SY0.15'!$A$2:$E$20133,5,FALSE)","v":"ACSL6"}]
["ENSGALG00000010781",8.96694616471487,-1.69396433539471,0.6614520355161,-2.56097833922755,0.0104377863747537,0.0304346455974916,{"$f":"VLOOKUP(A1412,'[1]SD vs SY0.15'!$A$2:$E$20133,5,FALSE)","v":"GLRA3"}]
["ENSGALG00000014064",36.7571363910614,-1.69407582040262,0.278600014488471,-6.08067384171913,{"v":1.19678517130076e-09,"d":"1.20E-09"},{"v":1.77395599091273e-08,"d":"1.77E-08"},{"$f":"VLOOKUP(A1413,'[1]SD vs SY0.15'!$A$2:$E$20133,5,FALSE)","v":"NA"}]
["ENSGALG00000051640",17.7721005626977,-1.69490115450423,0.426839981975381,-3.97081160640192,{"v":7.16282043142558e-05,"d":"7.16E-05"},0.00039700337533056,{"$f":"VLOOKUP(A1414,'[1]SD vs SY0.15'!$A$2:$E$20133,5,FALSE)","v":"NA"}]
["ENSGALG00000016941",10.0343552903836,-1.69610083750648,0.585139416749616,-2.89862687242663,0.00374800635944803,0.012803962396665,{"$f":"VLOOKUP(A1415,'[1]SD vs SY0.15'!$A$2:$E$20133,5,FALSE)","v":"PCDH17"}]
["ENSGALG00000015019",151.790654517636,-1.69741268845897,0.16831772529973,-10.0845747851946,{"v":6.46444622038764E-24,"d":"6.46E-24"},{"v":6.42270436765028e-22,"d":"6.42E-22"},{"$f":"VLOOKUP(A1416,'[1]SD vs SY0.15'!$A$2:$E$20133,5,FALSE)","v":"NA"}]
["ENSGALG00000016147",228.613095705433,-1.69992563536262,0.181977585703387,-9.34140118845957,{"v":9.50675519714865e-21,"d":"9.51E-21"},{"v":6.69206285881877e-19,"d":"6.69E-19"},{"$f":"VLOOKUP(A1417,'[1]SD vs SY0.15'!$A$2:$E$20133,5,FALSE)","v":"ZBTB21"}]
["ENSGALG00000028186",154.480822029587,-1.70387647242935,0.285213304234158,-5.97404275023047,{"v":2.31445109352737E-9,"d":"2.31E-09"},{"v":3.27834505945611E-8,"d":"3.28E-08"},{"$f":"VLOOKUP(A1418,'[1]SD vs SY0.15'!$A$2:$E$20133,5,FALSE)","v":"RERG"}]
["ENSGALG00000035266",63.3736999282543,-1.7043865047814,0.329218310176785,-5.1770708131822,{"v":2.25396682251571e-07,"d":"2.25E-07"},{"v":2.15328138148795e-06,"d":"2.15E-06"},{"$f":"VLOOKUP(A1419,'[1]SD vs SY0.15'!$A$2:$E$20133,5,FALSE)","v":"ANOS1"}]
["ENSGALG00000010311",254.526276119984,-1.70600542706359,0.189815529660305,-8.98770206060943,{"v":2.52453314112259e-19,"d":"2.52E-19"},{"v":1.56206611119923E-17,"d":"1.56E-17"},{"$f":"VLOOKUP(A1420,'[1]SD vs SY0.15'!$A$2:$E$20133,5,FALSE)","v":"NAV3"}]
["ENSGALG00000050793",28.4596454303697,-1.70756954383066,0.450794952149094,-3.78790741930469,0.000151921434825352,7.74621110647622E-4,{"$f":"VLOOKUP(A1421,'[1]SD vs SY0.15'!$A$2:$E$20133,5,FALSE)","v":"NA"}]
["ENSGALG00000019325",587.107766492478,-1.70831695976624,0.670475618127894,-2.5479180951221,0.0108367910608373,0.031391476869543,{"$f":"VLOOKUP(A1422,'[1]SD vs SY0.15'!$A$2:$E$20133,5,FALSE)","v":"NA"}]
["ENSGALG00000012380",382.283998843237,-1.70917154405823,0.107244265028431,-15.9371836210086,{"v":3.49765942038937e-57,"d":"3.50E-57"},{"v":4.05425362282066e-54,"d":"4.05E-54"},{"$f":"VLOOKUP(A1423,'[1]SD vs SY0.15'!$A$2:$E$20133,5,FALSE)","v":"SPOPL"}]
["ENSGALG00000015630",12.7862025477749,-1.71126870632135,0.491270984727553,-3.4833498405577,0.000495180819999672,0.00220761767111136,{"$f":"VLOOKUP(A1424,'[1]SD vs SY0.15'!$A$2:$E$20133,5,FALSE)","v":"EDIL3"}]
["ENSGALG00000010055",337.173029623479,-1.71303983288308,0.169274962769152,-10.1198653649638,{"v":4.51035617011551e-24,"d":"4.51E-24"},{"v":4.55939318196502E-22,"d":"4.56E-22"},{"$f":"VLOOKUP(A1425,'[1]SD vs SY0.15'!$A$2:$E$20133,5,FALSE)","v":"DAAM2"}]
["ENSGALG00000043728",47.3367558946182,-1.71438844296389,0.250583490789443,-6.84158576274458,{"v":7.83212920074583e-12,"d":"7.83E-12"},{"v":1.68536176254168E-10,"d":"1.69E-10"},{"$f":"VLOOKUP(A1426,'[1]SD vs SY0.15'!$A$2:$E$20133,5,FALSE)","v":"SCN8A"}]
["ENSGALG00000013177",118.441116467044,-1.71463532694794,0.320305287367251,-5.35312838898595,{"v":8.64464660336339e-08,"d":"8.64E-08"},{"v":9.00026769417241e-07,"d":"9.00E-07"},{"$f":"VLOOKUP(A1427,'[1]SD vs SY0.15'!$A$2:$E$20133,5,FALSE)","v":"BCAT1"}]
["ENSGALG00000016022",78.035941635763,-1.71483340672783,0.278664949897655,-6.15374630845261,{"v":7.56737008545456e-10,"d":"7.57E-10"},{"v":1.16231328335511e-08,"d":"1.16E-08"},{"$f":"VLOOKUP(A1428,'[1]SD vs SY0.15'!$A$2:$E$20133,5,FALSE)","v":"RUNX1"}]
["ENSGALG00000006413",62.839062112161,-1.71539574014444,0.285398781931233,-6.01052228932697,{"v":1.84926580665971E-9,"d":"1.85E-09"},{"v":2.66831407306161E-8,"d":"2.67E-08"},{"$f":"VLOOKUP(A1429,'[1]SD vs SY0.15'!$A$2:$E$20133,5,FALSE)","v":"CEMIP"}]
["ENSGALG00000009027",53.3776509102824,-1.71686251864531,0.311805780576168,-5.50619207723736,{"v":3.6667845149812e-08,"d":"3.67E-08"},{"v":4.11850015258257e-07,"d":"4.12E-07"},{"$f":"VLOOKUP(A1430,'[1]SD vs SY0.15'!$A$2:$E$20133,5,FALSE)","v":"ST6GALNAC3"}]
["ENSGALG00000010592",677.410808194399,-1.71827315128898,0.210650292694488,-8.15699389405093,{"v":3.43465745988119E-16,"d":"3.43E-16"},{"v":1.46010731674705e-14,"d":"1.46E-14"},{"$f":"VLOOKUP(A1431,'[1]SD vs SY0.15'!$A$2:$E$20133,5,FALSE)","v":"TET2"}]
["ENSGALG00000008910",6.83268386991127,-1.7196368405608,0.600526854384656,-2.86354694716003,0.00418926728205979,0.0140887408574804,{"$f":"VLOOKUP(A1432,'[1]SD vs SY0.15'!$A$2:$E$20133,5,FALSE)","v":"NA"}]
["ENSGALG00000013209",241.320691120847,-1.7196648297031,0.180405288241077,-9.5322307149062,{"v":1.53939217688363E-21,"d":"1.54E-21"},{"v":1.16371355562938e-19,"d":"1.16E-19"},{"$f":"VLOOKUP(A1433,'[1]SD vs SY0.15'!$A$2:$E$20133,5,FALSE)","v":"SLC39A6"}]
["ENSGALG00000047374",14.2270481296813,-1.72449930028023,0.410963830229499,-4.19623133091104,{"v":2.71393055016914e-05,"d":"2.71E-05"},0.000165743275292556,{"$f":"VLOOKUP(A1434,'[1]SD vs SY0.15'!$A$2:$E$20133,5,FALSE)","v":"NA"}]
["ENSGALG00000029435",98.6842455527451,-1.72500336265211,0.262842692247138,-6.56287358763688,{"v":5.27805914456696e-11,"d":"5.28E-11"},{"v":1.00294660488072e-09,"d":"1.00E-09"},{"$f":"VLOOKUP(A1435,'[1]SD vs SY0.15'!$A$2:$E$20133,5,FALSE)","v":"CYP7B1"}]
["ENSGALG00000009185",6.95579828746298,-1.7264831504135,0.656088598129105,-2.63147866818097,0.00850142039409242,0.0256425491405371,{"$f":"VLOOKUP(A1436,'[1]SD vs SY0.15'!$A$2:$E$20133,5,FALSE)","v":"ROM1"}]
["ENSGALG00000029709",608.610331085834,-1.72686262707616,0.160195514672998,-10.7797189615524,{"v":4.2919504185402e-27,"d":"4.29E-27"},{"v":5.87591668717783e-25,"d":"5.88E-25"},{"$f":"VLOOKUP(A1437,'[1]SD vs SY0.15'!$A$2:$E$20133,5,FALSE)","v":"INPP4A"}]
["ENSGALG00000009861",10.3353068874802,-1.72690197575365,0.548290374716252,-3.14961205847785,0.00163487396854387,0.00629162321626213,{"$f":"VLOOKUP(A1438,'[1]SD vs SY0.15'!$A$2:$E$20133,5,FALSE)","v":"RD3"}]
["ENSGALG00000008627",87.9135489296185,-1.72760321065264,0.238133975211491,-7.25475316623057,{"v":4.02394968932819e-13,"d":"4.02E-13"},{"v":1.08809351863685E-11,"d":"1.09E-11"},{"$f":"VLOOKUP(A1439,'[1]SD vs SY0.15'!$A$2:$E$20133,5,FALSE)","v":"TTBK1"}]
["ENSGALG00000015332",33.4097643970075,-1.72915429009533,0.332521793175946,-5.20012319667837,{"v":1.99156476291229E-7,"d":"1.99E-07"},{"v":1.9248102575184e-06,"d":"1.92E-06"},{"$f":"VLOOKUP(A1440,'[1]SD vs SY0.15'!$A$2:$E$20133,5,FALSE)","v":"CPLX1"}]
["ENSGALG00000037249",37.0966300885927,-1.72973140401399,0.346102383448343,-4.99774484873535,{"v":5.80046640410071e-07,"d":"5.80E-07"},{"v":5.10130042327258e-06,"d":"5.10E-06"},{"$f":"VLOOKUP(A1441,'[1]SD vs SY0.15'!$A$2:$E$20133,5,FALSE)","v":"KCNQ5"}]
["ENSGALG00000010867",13.4553463469531,-1.73061909084685,0.655491469642404,-2.64018552642792,0.00828606529059856,0.0250817926893519,{"$f":"VLOOKUP(A1442,'[1]SD vs SY0.15'!$A$2:$E$20133,5,FALSE)","v":"TACSTD2"}]
["ENSGALG00000003999",506.432158676585,-1.73266643516297,0.17411353804794,-9.95135963916772,{"v":2.48760980774626e-23,"d":"2.49E-23"},{"v":2.31294501215424e-21,"d":"2.31E-21"},{"$f":"VLOOKUP(A1443,'[1]SD vs SY0.15'!$A$2:$E$20133,5,FALSE)","v":"NAV2"}]
["ENSGALG00000007562",6.62954394149403,-1.74075934103205,0.707251225280645,-2.46130268680877,0.013843351977263,0.0387030649346634,{"$f":"VLOOKUP(A1444,'[1]SD vs SY0.15'!$A$2:$E$20133,5,FALSE)","v":"FGF4"}]
["ENSGALG00000006445",22.0011102122807,-1.74171421027542,0.313675454073985,-5.5525996301407,{"v":2.81452205331247E-8,"d":"2.81E-08"},{"v":3.23223876756564e-07,"d":"3.23E-07"},{"$f":"VLOOKUP(A1445,'[1]SD vs SY0.15'!$A$2:$E$20133,5,FALSE)","v":"ARNT2"}]
["ENSGALG00000010616",333.820287201594,-1.74570928030253,0.140202641480873,-12.4513294604416,{"v":1.37534904327078e-35,"d":"1.38E-35"},{"v":3.85696674441114e-33,"d":"3.86E-33"},{"$f":"VLOOKUP(A1446,'[1]SD vs SY0.15'!$A$2:$E$20133,5,FALSE)","v":"PTPN21"}]
["ENSGALG00000050094",20.7985360800234,-1.74717984811051,0.517870783578227,-3.37377566666027,0.000741447655033195,0.00315814560952037,{"$f":"VLOOKUP(A1447,'[1]SD vs SY0.15'!$A$2:$E$20133,5,FALSE)","v":"NA"}]
["ENSGALG00000000215",203.947069231499,-1.74728225066213,0.128235919055172,-13.6255291304957,{"v":2.82356332122365e-42,"d":"2.82E-42"},{"v":1.29192882805567E-39,"d":"1.29E-39"},{"$f":"VLOOKUP(A1448,'[1]SD vs SY0.15'!$A$2:$E$20133,5,FALSE)","v":"DCP2"}]
["ENSGALG00000020813",525.841792069679,-1.74921093952412,0.146885815580095,-11.9086443617171,{"v":1.06697825154963E-32,"d":"1.07E-32"},{"v":2.37840395637096e-30,"d":"2.38E-30"},{"$f":"VLOOKUP(A1449,'[1]SD vs SY0.15'!$A$2:$E$20133,5,FALSE)","v":"CCDC50"}]
["ENSGALG00000050460",8.53120678004768,-1.75115598737316,0.576799581463911,-3.03598692448553,0.00239749761095968,0.00871530231272338,{"$f":"VLOOKUP(A1450,'[1]SD vs SY0.15'!$A$2:$E$20133,5,FALSE)","v":"NA"}]
["ENSGALG00000028077",91.7721481509353,-1.75147825132731,0.269556140022601,-6.49763812161894,{"v":8.15907736546024e-11,"d":"8.16E-11"},{"v":1.48702178357712E-9,"d":"1.49E-09"},{"$f":"VLOOKUP(A1451,'[1]SD vs SY0.15'!$A$2:$E$20133,5,FALSE)","v":"NA"}]
["ENSGALG00000001239",464.499089796862,-1.75156772234914,0.177142102189048,-9.88792444429636,{"v":4.69664234328083e-23,"d":"4.70E-23"},{"v":4.27541991741486e-21,"d":"4.28E-21"},{"$f":"VLOOKUP(A1452,'[1]SD vs SY0.15'!$A$2:$E$20133,5,FALSE)","v":"SLC26A2"}]
["ENSGALG00000007800",53.1465823926752,-1.75904293486488,0.30945365473906,-5.68435016981189,{"v":1.3131098377522e-08,"d":"1.31E-08"},{"v":1.61008749992931e-07,"d":"1.61E-07"},{"$f":"VLOOKUP(A1453,'[1]SD vs SY0.15'!$A$2:$E$20133,5,FALSE)","v":"ZDHHC15"}]
["ENSGALG00000038484",7.8092277861271,-1.75943187408059,0.603971167782823,-2.91310573738057,0.0035785340658954,0.012328754946126,{"$f":"VLOOKUP(A1454,'[1]SD vs SY0.15'!$A$2:$E$20133,5,FALSE)","v":"NA"}]
["ENSGALG00000044996",41.1351430118666,-1.75990780854488,0.402546763022206,-4.37193382287314,{"v":1.23150856974057e-05,"d":"1.23E-05"},{"v":8.1137701788857E-5,"d":"8.11E-05"},{"$f":"VLOOKUP(A1455,'[1]SD vs SY0.15'!$A$2:$E$20133,5,FALSE)","v":"TMEM71"}]
["ENSGALG00000040266",80.01636292064,-1.76151263500143,0.24624533132096,-7.15348642572005,{"v":8.46011533723867e-13,"d":"8.46E-13"},{"v":2.15052668667498e-11,"d":"2.15E-11"},{"$f":"VLOOKUP(A1456,'[1]SD vs SY0.15'!$A$2:$E$20133,5,FALSE)","v":"GLI3"}]
["ENSGALG00000001253",476.094501243734,-1.76379340490553,0.13219594373541,-13.3422656933844,{"v":1.31404202088162e-40,"d":"1.31E-40"},{"v":5.43982109930207e-38,"d":"5.44E-38"},{"$f":"VLOOKUP(A1457,'[1]SD vs SY0.15'!$A$2:$E$20133,5,FALSE)","v":"RC3H2"}]
["ENSGALG00000007777",115.666411545218,-1.76532793994914,0.276447756019368,-6.38575608414584,{"v":1.70552667742718e-10,"d":"1.71E-10"},{"v":2.96539923404264e-09,"d":"2.97E-09"},{"$f":"VLOOKUP(A1458,'[1]SD vs SY0.15'!$A$2:$E$20133,5,FALSE)","v":"SLC39A10"}]
["ENSGALG00000042354",159.479542565246,-1.76579334916433,0.248091612850725,-7.11750521863388,{"v":1.09898060020864e-12,"d":"1.10E-12"},{"v":2.69886662370446E-11,"d":"2.70E-11"},{"$f":"VLOOKUP(A1459,'[1]SD vs SY0.15'!$A$2:$E$20133,5,FALSE)","v":"PREX2"}]
["ENSGALG00000050395",60.2745466893517,-1.76779786488153,0.271606252611628,-6.5086788241555,{"v":7.58146211400755e-11,"d":"7.58E-11"},{"v":1.39196284874603e-09,"d":"1.39E-09"},{"$f":"VLOOKUP(A1460,'[1]SD vs SY0.15'!$A$2:$E$20133,5,FALSE)","v":"NA"}]
["ENSGALG00000052516",8.11813896356729,-1.76951104628372,0.610470930131786,-2.89860001343836,0.00374832740547678,0.012803962396665,{"$f":"VLOOKUP(A1461,'[1]SD vs SY0.15'!$A$2:$E$20133,5,FALSE)","v":"NA"}]
["ENSGALG00000048060",4.32204729805101,-1.771097333325,0.692653220513987,-2.55697552667228,0.010558664572887,0.0307304152877113,{"$f":"VLOOKUP(A1462,'[1]SD vs SY0.15'!$A$2:$E$20133,5,FALSE)","v":"NA"}]
["ENSGALG00000013793",480.249162557144,-1.77240667686925,0.21483310659328,-8.25015615598184,{"v":1.58187686125782E-16,"d":"1.58E-16"},{"v":7.10700077175447e-15,"d":"7.11E-15"},{"$f":"VLOOKUP(A1463,'[1]SD vs SY0.15'!$A$2:$E$20133,5,FALSE)","v":"CLOCK"}]
["ENSGALG00000025896",32.024155381572,-1.77369150058503,0.406380777542837,-4.36460482040902,{"v":1.27352772385142E-5,"d":"1.27E-05"},{"v":8.35893791415805e-05,"d":"8.36E-05"},{"$f":"VLOOKUP(A1464,'[1]SD vs SY0.15'!$A$2:$E$20133,5,FALSE)","v":"PLPPR4"}]
["ENSGALG00000033507",710.009597120619,-1.78138109928457,0.203667875388627,-8.74650013354066,{"v":2.2007201386737e-18,"d":"2.20E-18"},{"v":1.2147276524165e-16,"d":"1.21E-16"},{"$f":"VLOOKUP(A1465,'[1]SD vs SY0.15'!$A$2:$E$20133,5,FALSE)","v":"PLCG2"}]
["ENSGALG00000035932",34.815551539428,-1.78253559915523,0.339085032696279,-5.25689849823558,{"v":1.46505117544193e-07,"d":"1.47E-07"},{"v":1.4597618789346E-6,"d":"1.46E-06"},{"$f":"VLOOKUP(A1466,'[1]SD vs SY0.15'!$A$2:$E$20133,5,FALSE)","v":"ZC2HC1A"}]
["ENSGALG00000008074",72.874137346634,-1.78303906294033,0.208034014683084,-8.57090156942164,{"v":1.02677981956247e-17,"d":"1.03E-17"},{"v":5.37729539841343e-16,"d":"5.38E-16"},{"$f":"VLOOKUP(A1467,'[1]SD vs SY0.15'!$A$2:$E$20133,5,FALSE)","v":"AMMECR1"}]
["ENSGALG00000014758",115.536224003998,-1.78343660227215,0.294773273452676,-6.05019777194444,{"v":1.44668123614539E-9,"d":"1.45E-09"},{"v":2.1334560350178e-08,"d":"2.13E-08"},{"$f":"VLOOKUP(A1468,'[1]SD vs SY0.15'!$A$2:$E$20133,5,FALSE)","v":"ARHGAP28"}]
["ENSGALG00000046779",25.1748715531346,-1.78357886043709,0.373412740257445,-4.7764274438184,{"v":1.78436894077425e-06,"d":"1.78E-06"},{"v":1.42446385552075E-5,"d":"1.42E-05"},{"$f":"VLOOKUP(A1469,'[1]SD vs SY0.15'!$A$2:$E$20133,5,FALSE)","v":"NA"}]
["ENSGALG00000005527",290.117938752009,-1.78527229751544,0.2007334202013,-8.89374721820181,{"v":5.90820112049107e-19,"d":"5.91E-19"},{"v":3.47046935412089E-17,"d":"3.47E-17"},{"$f":"VLOOKUP(A1470,'[1]SD vs SY0.15'!$A$2:$E$20133,5,FALSE)","v":"APPL1"}]
["ENSGALG00000051347",45.3847832785298,-1.78625399869301,0.300306688442111,-5.94809928463296,{"v":2.71274041885619E-9,"d":"2.71E-09"},{"v":3.77936038963562e-08,"d":"3.78E-08"},{"$f":"VLOOKUP(A1471,'[1]SD vs SY0.15'!$A$2:$E$20133,5,FALSE)","v":"LOC107051165"}]
["ENSGALG00000016707",748.778466607593,-1.78652085378931,0.302300775499216,-5.90974618189142,{"v":3.42635261996284e-09,"d":"3.43E-09"},{"v":4.70940656152521e-08,"d":"4.71E-08"},{"$f":"VLOOKUP(A1472,'[1]SD vs SY0.15'!$A$2:$E$20133,5,FALSE)","v":"CLIC5"}]
["ENSGALG00000052494",22.8871581128398,-1.78684423867026,0.330084917495262,-5.41328653314161,{"v":6.18783522802432e-08,"d":"6.19E-08"},{"v":6.6371308519222e-07,"d":"6.64E-07"},{"$f":"VLOOKUP(A1473,'[1]SD vs SY0.15'!$A$2:$E$20133,5,FALSE)","v":"C4orf50"}]
["ENSGALG00000004966",4.28962533391806,-1.78866007071412,0.718039289480041,-2.49103370375367,0.0127372036556194,0.0361039713009871,{"$f":"VLOOKUP(A1474,'[1]SD vs SY0.15'!$A$2:$E$20133,5,FALSE)","v":"NYAP2"}]
["ENSGALG00000009572",18.2751999756529,-1.78904757995298,0.481843014947501,-3.71292625285417,0.000204876600644596,0.00101486879071441,{"$f":"VLOOKUP(A1475,'[1]SD vs SY0.15'!$A$2:$E$20133,5,FALSE)","v":"ADAMTS20"}]
["ENSGALG00000029256",73.6199492858539,-1.79060513319083,0.45534360141852,-3.93242625483834,{"v":8.40927816252667e-05,"d":"8.41E-05"},0.000458488928854974,{"$f":"VLOOKUP(A1476,'[1]SD vs SY0.15'!$A$2:$E$20133,5,FALSE)","v":"NA"}]
["ENSGALG00000012934",49.3845309617066,-1.79203585587785,0.360525262610445,-4.9706249234861,{"v":6.67374447881591e-07,"d":"6.67E-07"},{"v":5.78735138419812e-06,"d":"5.79E-06"},{"$f":"VLOOKUP(A1477,'[1]SD vs SY0.15'!$A$2:$E$20133,5,FALSE)","v":"BICD1"}]
["ENSGALG00000054962",7.74219555345874,-1.79357737257991,0.588106534693294,-3.0497490960805,0.0022903261621946,0.00837826656471229,{"$f":"VLOOKUP(A1478,'[1]SD vs SY0.15'!$A$2:$E$20133,5,FALSE)","v":"NA"}]
["ENSGALG00000010664",53.4310393382641,-1.7962032373475,0.304195717249381,-5.90476175532398,{"v":3.53156733978178E-9,"d":"3.53E-09"},{"v":4.83110632075419e-08,"d":"4.83E-08"},{"$f":"VLOOKUP(A1479,'[1]SD vs SY0.15'!$A$2:$E$20133,5,FALSE)","v":"KIF26B"}]
["ENSGALG00000042105",386.59621015784,-1.79900368152641,0.243617098951489,-7.3845542421661,{"v":1.52964986750608E-13,"d":"1.53E-13"},{"v":4.46991970526525E-12,"d":"4.47E-12"},{"$f":"VLOOKUP(A1480,'[1]SD vs SY0.15'!$A$2:$E$20133,5,FALSE)","v":"PLCB2"}]
["ENSGALG00000000636",852.949663647714,-1.80131478986254,0.0995721370074504,-18.0905506700911,{"v":3.78288263443336e-73,"d":"3.78E-73"},{"v":9.39614005212756e-70,"d":"9.40E-70"},{"$f":"VLOOKUP(A1481,'[1]SD vs SY0.15'!$A$2:$E$20133,5,FALSE)","v":"MDM4"}]
["ENSGALG00000033541",8.14258282477412,-1.80352257174292,0.54620440319724,-3.30191877104229,0.000960258742344893,0.0039648468091566,{"$f":"VLOOKUP(A1482,'[1]SD vs SY0.15'!$A$2:$E$20133,5,FALSE)","v":"FRMPD4"}]
["ENSGALG00000015842",300.819879913384,-1.80381344647089,0.361733995424926,-4.9865743040047,{"v":6.14592763640172e-07,"d":"6.15E-07"},{"v":5.3779186620089e-06,"d":"5.38E-06"},{"$f":"VLOOKUP(A1483,'[1]SD vs SY0.15'!$A$2:$E$20133,5,FALSE)","v":"TIAM1"}]
["ENSGALG00000012730",35.5041832046603,-1.80486485919378,0.309865390027106,-5.82467393030213,{"v":5.72242144573259e-09,"d":"5.72E-09"},{"v":7.47526233485744e-08,"d":"7.48E-08"},{"$f":"VLOOKUP(A1484,'[1]SD vs SY0.15'!$A$2:$E$20133,5,FALSE)","v":"GFOD1"}]
["ENSGALG00000007902",367.557649098562,-1.80643424928669,0.131999273667046,-13.6851832521687,{"v":1.24492898190913e-42,"d":"1.24E-42"},{"v":6.01266116901499e-40,"d":"6.01E-40"},{"$f":"VLOOKUP(A1485,'[1]SD vs SY0.15'!$A$2:$E$20133,5,FALSE)","v":"ATP7A"}]
["ENSGALG00000003322",299.71604542705,-1.80963084041522,0.158709817847594,-11.4021354504545,{"v":4.07987012488629e-30,"d":"4.08E-30"},{"v":7.3130620475668e-28,"d":"7.31E-28"},{"$f":"VLOOKUP(A1486,'[1]SD vs SY0.15'!$A$2:$E$20133,5,FALSE)","v":"TBC1D2B"}]
["ENSGALG00000015611",376.28811916097,-1.81056473121104,0.13744895520193,-13.1726336409839,{"v":1.26120166479623E-39,"d":"1.26E-39"},{"v":5.09965426646793e-37,"d":"5.10E-37"},{"$f":"VLOOKUP(A1487,'[1]SD vs SY0.15'!$A$2:$E$20133,5,FALSE)","v":"CASP8AP2"}]
["ENSGALG00000020253",80.9271450182993,-1.81066805015846,0.172546918533261,-10.4937721609292,{"v":9.22694905485601E-26,"d":"9.23E-26"},{"v":1.09882851518343e-23,"d":"1.10E-23"},{"$f":"VLOOKUP(A1488,'[1]SD vs SY0.15'!$A$2:$E$20133,5,FALSE)","v":"MAP9"}]
["ENSGALG00000009880",149.219115287587,-1.81091077685756,0.171960472020712,-10.530971191097,{"v":6.21895035893293e-26,"d":"6.22E-26"},{"v":7.56146083152216e-24,"d":"7.56E-24"},{"$f":"VLOOKUP(A1489,'[1]SD vs SY0.15'!$A$2:$E$20133,5,FALSE)","v":"INPP4B"}]
["ENSGALG00000015681",629.404313888872,-1.8112556633322,0.22183891900631,-8.16473354380473,{"v":3.22145505398024E-16,"d":"3.22E-16"},{"v":1.37620243301116E-14,"d":"1.38E-14"},{"$f":"VLOOKUP(A1490,'[1]SD vs SY0.15'!$A$2:$E$20133,5,FALSE)","v":"NRIP1"}]
["ENSGALG00000052726",22.978795775883,-1.81519633281582,0.37346184524505,-4.86045992630055,{"v":1.17113349801424E-6,"d":"1.17E-06"},{"v":9.69642768093982E-6,"d":"9.70E-06"},{"$f":"VLOOKUP(A1491,'[1]SD vs SY0.15'!$A$2:$E$20133,5,FALSE)","v":"NA"}]
["ENSGALG00000010718",120.963350204636,-1.81692655666077,0.260752340860577,-6.96801628190279,{"v":3.21441033918581e-12,"d":"3.21E-12"},{"v":7.27720736554995e-11,"d":"7.28E-11"},{"$f":"VLOOKUP(A1492,'[1]SD vs SY0.15'!$A$2:$E$20133,5,FALSE)","v":"NA"}]
["ENSGALG00000035605",69.111757878555,-1.81833902176231,0.243776882818402,-7.45902975187708,{"v":8.71619264160132e-14,"d":"8.72E-14"},{"v":2.64021675016589e-12,"d":"2.64E-12"},{"$f":"VLOOKUP(A1493,'[1]SD vs SY0.15'!$A$2:$E$20133,5,FALSE)","v":"NA"}]
["ENSGALG00000039391",117.263339667046,-1.81984923456419,0.171444686766734,-10.6147893462587,{"v":2.54367531010723e-26,"d":"2.54E-26"},{"v":3.25197666300253e-24,"d":"3.25E-24"},{"$f":"VLOOKUP(A1494,'[1]SD vs SY0.15'!$A$2:$E$20133,5,FALSE)","v":"ZC3H12B"}]
["ENSGALG00000013616",6.79728074151312,-1.8206089168939,0.692672644701723,-2.62838287439211,0.00857918937945321,0.0258300614539466,{"$f":"VLOOKUP(A1495,'[1]SD vs SY0.15'!$A$2:$E$20133,5,FALSE)","v":"OPRM1"}]
["ENSGALG00000054063",9.42398005387653,-1.82175341679077,0.500915597784749,-3.6368470553668,0.000275995696290535,1.32123820798555E-3,{"$f":"VLOOKUP(A1496,'[1]SD vs SY0.15'!$A$2:$E$20133,5,FALSE)","v":"SNORD21"}]
["ENSGALG00000015889",558.145120077369,-1.82442152692194,0.111250655217426,-16.3991980393852,{"v":1.93779200964687e-60,"d":"1.94E-60"},{"v":2.80769913931084e-57,"d":"2.81E-57"},{"$f":"VLOOKUP(A1497,'[1]SD vs SY0.15'!$A$2:$E$20133,5,FALSE)","v":"PHIP"}]
["ENSGALG00000010589",21.9544123712449,-1.83035847000176,0.39845939729586,-4.59358841182683,{"v":4.35688304492038e-06,"d":"4.36E-06"},{"v":3.18424234981213e-05,"d":"3.18E-05"},{"$f":"VLOOKUP(A1498,'[1]SD vs SY0.15'!$A$2:$E$20133,5,FALSE)","v":"FLRT2"}]
["ENSGALG00000002028",39.3827191792249,-1.83064714133863,0.340212696144498,-5.38089013750709,{"v":7.41184202225576e-08,"d":"7.41E-08"},{"v":7.83402414838668e-07,"d":"7.83E-07"},{"$f":"VLOOKUP(A1499,'[1]SD vs SY0.15'!$A$2:$E$20133,5,FALSE)","v":"GPRC5B"}]
["ENSGALG00000015556",250.562911814881,-1.83224095113796,0.204881267999946,-8.94294031379404,{"v":3.78950430275446E-19,"d":"3.79E-19"},{"v":2.26231147346065e-17,"d":"2.26E-17"},{"$f":"VLOOKUP(A1500,'[1]SD vs SY0.15'!$A$2:$E$20133,5,FALSE)","v":"AFAP1"}]
["ENSGALG00000046005",7.80753709196987,-1.83344188964042,0.563109580732947,-3.25592380661328,0.00113024077633839,0.00456389392081477,{"$f":"VLOOKUP(A1501,'[1]SD vs SY0.15'!$A$2:$E$20133,5,FALSE)","v":"NA"}]
["ENSGALG00000015353",275.062703483147,-1.83588845290588,0.137467586531165,-13.3550642681115,{"v":1.10662594127422e-40,"d":"1.11E-40"},{"v":4.69290371730118e-38,"d":"4.69E-38"},{"$f":"VLOOKUP(A1502,'[1]SD vs SY0.15'!$A$2:$E$20133,5,FALSE)","v":"BBX"}]
["ENSGALG00000014943",7.07856500855261,-1.83636557436269,0.616555325816064,-2.9784278838758,0.00289731201495724,0.0102723417626553,{"$f":"VLOOKUP(A1503,'[1]SD vs SY0.15'!$A$2:$E$20133,5,FALSE)","v":"FAM169A"}]
["ENSGALG00000022866",192.852910315985,-1.83856660961394,0.173491720657943,-10.5974314084928,{"v":3.0627675238844e-26,"d":"3.06E-26"},{"v":3.88703203925387e-24,"d":"3.89E-24"},{"$f":"VLOOKUP(A1504,'[1]SD vs SY0.15'!$A$2:$E$20133,5,FALSE)","v":"ZNF654"}]
["ENSGALG00000048281",4.85724896033685,-1.84227997316385,0.708921931767386,-2.59870641689831,0.00935757659867917,0.0277692753577803,{"$f":"VLOOKUP(A1505,'[1]SD vs SY0.15'!$A$2:$E$20133,5,FALSE)","v":"NA"}]
["ENSGALG00000005251",198.868700000919,-1.84229704297827,0.163249382331478,-11.2851700672134,{"v":1.55340851300015e-29,"d":"1.55E-29"},{"v":2.62224405976055e-27,"d":"2.62E-27"},{"$f":"VLOOKUP(A1506,'[1]SD vs SY0.15'!$A$2:$E$20133,5,FALSE)","v":"CMTM4"}]
["ENSGALG00000011389",161.939589691997,-1.84245961029939,0.210903735508907,-8.73602170133957,{"v":2.41463608038529e-18,"d":"2.41E-18"},{"v":1.324393612923e-16,"d":"1.32E-16"},{"$f":"VLOOKUP(A1507,'[1]SD vs SY0.15'!$A$2:$E$20133,5,FALSE)","v":"TRAF3"}]
["ENSGALG00000002504",114.423646334184,-1.84294773896599,0.156333511632747,-11.7885648426767,{"v":4.47094774008029E-32,"d":"4.47E-32"},{"v":9.48004492155806e-30,"d":"9.48E-30"},{"$f":"VLOOKUP(A1508,'[1]SD vs SY0.15'!$A$2:$E$20133,5,FALSE)","v":"RO60"}]
["ENSGALG00000006076",156.761288701863,-1.84460235463747,0.188484764851345,-9.78647985736286,{"v":1.28698620708697e-22,"d":"1.29E-22"},{"v":1.09155264305469E-20,"d":"1.09E-20"},{"$f":"VLOOKUP(A1509,'[1]SD vs SY0.15'!$A$2:$E$20133,5,FALSE)","v":"RASGEF1C"}]
["ENSGALG00000050153",8.19894785556846,-1.84890974503941,0.545916017880339,-3.38680251995221,7.07122676207458E-4,0.00303199555393812,{"$f":"VLOOKUP(A1510,'[1]SD vs SY0.15'!$A$2:$E$20133,5,FALSE)","v":"NA"}]
["ENSGALG00000054757",6.3959995058038,-1.85371588977888,0.667954464338194,-2.77521296547592,0.00551655708774947,0.017811092282705,{"$f":"VLOOKUP(A1511,'[1]SD vs SY0.15'!$A$2:$E$20133,5,FALSE)","v":"NA"}]
["ENSGALG00000053491",17.6698308480726,-1.85465398710909,0.41991960059586,-4.416688300516,{"v":1.00224593445696E-5,"d":"1.00E-05"},{"v":6.72696877714576e-05,"d":"6.73E-05"},{"$f":"VLOOKUP(A1512,'[1]SD vs SY0.15'!$A$2:$E$20133,5,FALSE)","v":"NA"}]
["ENSGALG00000014892",169.329329760032,-1.85613393617425,0.230498080330389,-8.05270887077985,{"v":8.09813730205801e-16,"d":"8.10E-16"},{"v":3.23683478783638e-14,"d":"3.24E-14"},{"$f":"VLOOKUP(A1513,'[1]SD vs SY0.15'!$A$2:$E$20133,5,FALSE)","v":"CEP85L"}]
["ENSGALG00000004532",134.199272875859,-1.85785923966393,0.18052439107192,-10.2914582823535,{"v":7.70012404456511e-25,"d":"7.70E-25"},{"v":8.42025514231783e-23,"d":"8.42E-23"},{"$f":"VLOOKUP(A1514,'[1]SD vs SY0.15'!$A$2:$E$20133,5,FALSE)","v":"ZNF507"}]
["ENSGALG00000011616",4.35868696888054,-1.85987002420693,0.738938282476942,-2.51694907181233,0.0118375938604504,0.0338798756299013,{"$f":"VLOOKUP(A1515,'[1]SD vs SY0.15'!$A$2:$E$20133,5,FALSE)","v":"NPFFR2"}]
["ENSGALG00000015390",138.406244350133,-1.86134899399454,0.196848825395471,-9.45572822319397,{"v":3.2078122289765e-21,"d":"3.21E-21"},{"v":2.35334308967149E-19,"d":"2.35E-19"},{"$f":"VLOOKUP(A1516,'[1]SD vs SY0.15'!$A$2:$E$20133,5,FALSE)","v":"HOOK3"}]
["ENSGALG00000009372",134.029249485626,-1.86524498059251,0.171615666119673,-10.8687337395632,{"v":1.62439623868209e-27,"d":"1.62E-27"},{"v":2.31503093458734e-25,"d":"2.32E-25"},{"$f":"VLOOKUP(A1517,'[1]SD vs SY0.15'!$A$2:$E$20133,5,FALSE)","v":"PHC3"}]
["ENSGALG00000054191",36.2741500820854,-1.86671065765647,0.300583104650676,-6.2102980133427,{"v":5.28842123792682e-10,"d":"5.29E-10"},{"v":8.38193072596477e-09,"d":"8.38E-09"},{"$f":"VLOOKUP(A1518,'[1]SD vs SY0.15'!$A$2:$E$20133,5,FALSE)","v":"NA"}]
["ENSGALG00000033561",15.776309434231,-1.86806879561687,0.428642365035892,-4.35810584299208,{"v":1.31192937689438E-5,"d":"1.31E-05"},{"v":8.58193016443474e-05,"d":"8.58E-05"},{"$f":"VLOOKUP(A1519,'[1]SD vs SY0.15'!$A$2:$E$20133,5,FALSE)","v":"DGKB"}]
["ENSGALG00000016926",92.5083333671179,-1.86871256304068,0.341134809449467,-5.47792987193674,{"v":4.30330606505499e-08,"d":"4.30E-08"},{"v":4.78093179253106E-7,"d":"4.78E-07"},{"$f":"VLOOKUP(A1520,'[1]SD vs SY0.15'!$A$2:$E$20133,5,FALSE)","v":"KLF12"}]
["ENSGALG00000050071",9.31675758454884,-1.86947187107086,0.642017591274058,-2.9118701675463,3.5927193292474E-3,0.0123647290137816,{"$f":"VLOOKUP(A1521,'[1]SD vs SY0.15'!$A$2:$E$20133,5,FALSE)","v":"NA"}]
["ENSGALG00000046709",4.25150399251071,-1.86982927226495,0.751254174078521,-2.4889436049503,0.0128123287359882,0.036263708242329,{"$f":"VLOOKUP(A1522,'[1]SD vs SY0.15'!$A$2:$E$20133,5,FALSE)","v":"NA"}]
["ENSGALG00000048151",7.91801126367319,-1.87080693032531,0.610581757084685,-3.0639744941902,0.00218417530839287,0.00804070634914818,{"$f":"VLOOKUP(A1523,'[1]SD vs SY0.15'!$A$2:$E$20133,5,FALSE)","v":"NA"}]
["ENSGALG00000050607",8.10813587078696,-1.87634006106158,0.671819297608946,-2.79292373371771,0.00522340055755196,0.0169946230340861,{"$f":"VLOOKUP(A1524,'[1]SD vs SY0.15'!$A$2:$E$20133,5,FALSE)","v":"NA"}]
["ENSGALG00000003759",103.018542834787,-1.87652971231352,0.188925575032479,-9.93263994030942,{"v":3.00200429265344E-23,"d":"3.00E-23"},{"v":2.77637492746624e-21,"d":"2.78E-21"},{"$f":"VLOOKUP(A1525,'[1]SD vs SY0.15'!$A$2:$E$20133,5,FALSE)","v":"RORA"}]
["ENSGALG00000007646",2036.7027356285,-1.87713201099157,0.300792682236903,-6.24061728175005,{"v":4.35847458582532e-10,"d":"4.36E-10"},{"v":7.05594018843061e-09,"d":"7.06E-09"},{"$f":"VLOOKUP(A1526,'[1]SD vs SY0.15'!$A$2:$E$20133,5,FALSE)","v":"VEGFRKDRL"}]
["ENSGALG00000034392",34.2556975157348,-1.8785042985377,0.790616438067942,-2.37599954679448,0.0175014843073221,0.0469958776295612,{"$f":"VLOOKUP(A1527,'[1]SD vs SY0.15'!$A$2:$E$20133,5,FALSE)","v":"NA"}]
["ENSGALG00000034311",336.022142228523,-1.87932167082389,0.135573211696855,-13.8620428571546,{"v":1.07568655713654e-43,"d":"1.08E-43"},{"v":6.23432072297768e-41,"d":"6.23E-41"},{"$f":"VLOOKUP(A1528,'[1]SD vs SY0.15'!$A$2:$E$20133,5,FALSE)","v":"BTBD7"}]
["ENSGALG00000044327",7.31203946777356,-1.88018344794169,0.751222786940561,-2.5028306923422,0.0123204466323558,0.0350541000812912,{"$f":"VLOOKUP(A1529,'[1]SD vs SY0.15'!$A$2:$E$20133,5,FALSE)","v":"LOC771804"}]
["ENSGALG00000054272",30.6155001637977,-1.88115758882993,0.401282703622484,-4.68786113093892,{"v":2.76075245155926e-06,"d":"2.76E-06"},{"v":2.10439293622363e-05,"d":"2.10E-05"},{"$f":"VLOOKUP(A1530,'[1]SD vs SY0.15'!$A$2:$E$20133,5,FALSE)","v":"NA"}]
["ENSGALG00000006074",59.5988990450281,-1.88579611028,0.22859838322288,-8.24938516053013,{"v":1.59211521699958E-16,"d":"1.59E-16"},{"v":7.13456373143598e-15,"d":"7.13E-15"},{"$f":"VLOOKUP(A1531,'[1]SD vs SY0.15'!$A$2:$E$20133,5,FALSE)","v":"SOX6"}]
["ENSGALG00000006258",7.98549863020765,-1.88757728429501,0.60877374801382,-3.10062201343833,1.93114633167151E-3,0.00727086211969954,{"$f":"VLOOKUP(A1532,'[1]SD vs SY0.15'!$A$2:$E$20133,5,FALSE)","v":"SPOCK1"}]
["ENSGALG00000007963",330.90487873968,-1.8928469365016,0.186014080023987,-10.1758261323955,{"v":2.54233403857826e-24,"d":"2.54E-24"},{"v":2.61559538040001e-22,"d":"2.62E-22"},{"$f":"VLOOKUP(A1533,'[1]SD vs SY0.15'!$A$2:$E$20133,5,FALSE)","v":"NFATC2"}]
["ENSGALG00000008976",72.0189323623066,-1.89496962584357,0.387713971723002,-4.88754536603959,{"v":1.02100972885533E-6,"d":"1.02E-06"},{"v":8.53886298971023e-06,"d":"8.54E-06"},{"$f":"VLOOKUP(A1534,'[1]SD vs SY0.15'!$A$2:$E$20133,5,FALSE)","v":"ADAM22"}]
["ENSGALG00000023436",281.854103697072,-1.90084904695748,0.727400608369345,-2.61320794220769,0.00896967096634241,0.0268380087922553,{"$f":"VLOOKUP(A1535,'[1]SD vs SY0.15'!$A$2:$E$20133,5,FALSE)","v":"HDC"}]
["ENSGALG00000011566",93.2650345473626,-1.90271560980216,0.258902603701059,-7.34915594745861,{"v":1.99462365923845e-13,"d":"1.99E-13"},{"v":5.69896390054157e-12,"d":"5.70E-12"},{"$f":"VLOOKUP(A1536,'[1]SD vs SY0.15'!$A$2:$E$20133,5,FALSE)","v":"GYPC"}]
["ENSGALG00000025302",6.38923140440665,-1.90697978242463,0.600698769796838,-3.17460244353353,1.5004191670689E-3,0.00583225561819467,{"$f":"VLOOKUP(A1537,'[1]SD vs SY0.15'!$A$2:$E$20133,5,FALSE)","v":"SNORD71"}]
["ENSGALG00000009698",452.732368383343,-1.91041954534423,0.22352291224265,-8.5468622709708,{"v":1.26479975395273e-17,"d":"1.26E-17"},{"v":6.48704227786905e-16,"d":"6.49E-16"},{"$f":"VLOOKUP(A1538,'[1]SD vs SY0.15'!$A$2:$E$20133,5,FALSE)","v":"SLC38A1"}]
["ENSGALG00000050983",49.0456402358313,-1.91270818194035,0.373187373407544,-5.12532930703299,{"v":2.97018149379642e-07,"d":"2.97E-07"},{"v":2.77052283436901e-06,"d":"2.77E-06"},{"$f":"VLOOKUP(A1539,'[1]SD vs SY0.15'!$A$2:$E$20133,5,FALSE)","v":"NA"}]
["ENSGALG00000010688",5.08126756027951,-1.91763531157928,0.712919716773269,-2.68983346436069,0.00714876843067541,0.02217980669239,{"$f":"VLOOKUP(A1540,'[1]SD vs SY0.15'!$A$2:$E$20133,5,FALSE)","v":"SHC3"}]
["ENSGALG00000050781",30.5918749388641,-1.9176695060991,0.368008961883673,-5.21093153895876,{"v":1.8789478390612e-07,"d":"1.88E-07"},{"v":1.82410099594183e-06,"d":"1.82E-06"},{"$f":"VLOOKUP(A1541,'[1]SD vs SY0.15'!$A$2:$E$20133,5,FALSE)","v":"NA"}]
["ENSGALG00000002350",36.3097105288243,-1.91824322933539,0.376466235670801,-5.0953924882995,{"v":3.480194804687E-7,"d":"3.48E-07"},{"v":3.19356071658325E-6,"d":"3.19E-06"},{"$f":"VLOOKUP(A1542,'[1]SD vs SY0.15'!$A$2:$E$20133,5,FALSE)","v":"DNAH3"}]
["ENSGALG00000050631",154.606929664731,-1.92516880385233,0.224689394669665,-8.56813383062732,{"v":1.05175524128582e-17,"d":"1.05E-17"},{"v":5.49155206613708e-16,"d":"5.49E-16"},{"$f":"VLOOKUP(A1543,'[1]SD vs SY0.15'!$A$2:$E$20133,5,FALSE)","v":"NA"}]
["ENSGALG00000041183",82.0715957460279,-1.92825050569352,0.283511061252197,-6.80132371970576,{"v":1.03662189511496e-11,"d":"1.04E-11"},{"v":2.17678078386037E-10,"d":"2.18E-10"},{"$f":"VLOOKUP(A1544,'[1]SD vs SY0.15'!$A$2:$E$20133,5,FALSE)","v":"SGPP1"}]
["ENSGALG00000004570",659.006289109201,-1.92924889902486,0.117329975187647,-16.4429328135405,{"v":9.42455722087267e-61,"d":"9.42E-61"},{"v":1.4896797854483e-57,"d":"1.49E-57"},{"$f":"VLOOKUP(A1545,'[1]SD vs SY0.15'!$A$2:$E$20133,5,FALSE)","v":"NCOA3"}]
["ENSGALG00000033126",452.311074466912,-1.92995767439615,0.147672191669512,-13.0692018082549,{"v":4.9380944596634e-39,"d":"4.94E-39"},{"v":1.82677975255676E-36,"d":"1.83E-36"},{"$f":"VLOOKUP(A1546,'[1]SD vs SY0.15'!$A$2:$E$20133,5,FALSE)","v":"DGCR8"}]
["ENSGALG00000015058",51.5572837342678,-1.93317660451221,0.273922327210547,-7.05738967757198,{"v":1.69659363252518e-12,"d":"1.70E-12"},{"v":4.03793700312379e-11,"d":"4.04E-11"},{"$f":"VLOOKUP(A1547,'[1]SD vs SY0.15'!$A$2:$E$20133,5,FALSE)","v":"PTPRD"}]
["ENSGALG00000041236",254.072616173759,-1.9338454238692,0.233303788489774,-8.28895851365039,{"v":1.14244380569332e-16,"d":"1.14E-16"},{"v":5.22728169726047e-15,"d":"5.23E-15"},{"$f":"VLOOKUP(A1548,'[1]SD vs SY0.15'!$A$2:$E$20133,5,FALSE)","v":"CBX7"}]
["ENSGALG00000006473",70.7994501346239,-1.93419029100036,0.256521337107241,-7.54007566314748,{"v":4.69698853332449e-14,"d":"4.70E-14"},{"v":1.4741252640598e-12,"d":"1.47E-12"},{"$f":"VLOOKUP(A1549,'[1]SD vs SY0.15'!$A$2:$E$20133,5,FALSE)","v":"PLXNA4"}]
["ENSGALG00000046969",48.2564817324494,-1.93704316802391,0.287583726394372,-6.73557990332035,{"v":1.63277405418597e-11,"d":"1.63E-11"},{"v":3.32035584562942e-10,"d":"3.32E-10"},{"$f":"VLOOKUP(A1550,'[1]SD vs SY0.15'!$A$2:$E$20133,5,FALSE)","v":"NA"}]
["ENSGALG00000046881",5.66187760808822,-1.93788644240268,0.711328038564058,-2.72432174375503,0.00644337022270161,0.0203840753388124,{"$f":"VLOOKUP(A1551,'[1]SD vs SY0.15'!$A$2:$E$20133,5,FALSE)","v":"NA"}]
["ENSGALG00000053476",8.26248277811683,-1.93940555768511,0.640140113181858,-3.02965791043022,0.00244830877868562,0.00886479482195062,{"$f":"VLOOKUP(A1552,'[1]SD vs SY0.15'!$A$2:$E$20133,5,FALSE)","v":"NA"}]
["ENSGALG00000028331",4.4533187772574,-1.94376449220716,0.731934104677706,-2.65565503750241,0.00791545391247315,0.0241364428579745,{"$f":"VLOOKUP(A1553,'[1]SD vs SY0.15'!$A$2:$E$20133,5,FALSE)","v":"gga-mir-6573"}]
["ENSGALG00000011294",6.89091398305761,-1.94410771150786,0.659851410694429,-2.94628105661224,0.00321620017638378,0.0112583194014062,{"$f":"VLOOKUP(A1554,'[1]SD vs SY0.15'!$A$2:$E$20133,5,FALSE)","v":"THRB"}]
["ENSGALG00000053749",6.76136894921712,-1.9441409608694,0.735043661248291,-2.64493262559092,0.00817071839884052,0.0247887420695586,{"$f":"VLOOKUP(A1555,'[1]SD vs SY0.15'!$A$2:$E$20133,5,FALSE)","v":"NA"}]
["ENSGALG00000001895",873.045559030811,-1.94601230153826,0.198465256080975,-9.80530466624486,{"v":1.06824147908926E-22,"d":"1.07E-22"},{"v":9.19480920639848e-21,"d":"9.19E-21"},{"$f":"VLOOKUP(A1556,'[1]SD vs SY0.15'!$A$2:$E$20133,5,FALSE)","v":"PANK3"}]
["ENSGALG00000046643",26.4793128390709,-1.94911560077211,0.36559508378801,-5.33135068605655,{"v":9.74849571063702e-08,"d":"9.75E-08"},{"v":1.00753352006619E-6,"d":"1.01E-06"},{"$f":"VLOOKUP(A1557,'[1]SD vs SY0.15'!$A$2:$E$20133,5,FALSE)","v":"NA"}]
["ENSGALG00000003733",178.141327733346,-1.94916302664715,0.272363502537075,-7.15647657814148,{"v":8.27770153003307e-13,"d":"8.28E-13"},{"v":2.11032839446752E-11,"d":"2.11E-11"},{"$f":"VLOOKUP(A1558,'[1]SD vs SY0.15'!$A$2:$E$20133,5,FALSE)","v":"LIFR"}]
["ENSGALG00000049190",34.8100763086391,-1.95259204640311,0.255692876502472,-7.636474168197,{"v":2.23251023334122E-14,"d":"2.23E-14"},{"v":7.35163928543633e-13,"d":"7.35E-13"},{"$f":"VLOOKUP(A1559,'[1]SD vs SY0.15'!$A$2:$E$20133,5,FALSE)","v":"NA"}]
["ENSGALG00000030510",25.9335688575909,-1.95321053227384,0.311707985744243,-6.26615493218853,{"v":3.70072142053106e-10,"d":"3.70E-10"},{"v":6.10478589551932e-09,"d":"6.10E-09"},{"$f":"VLOOKUP(A1560,'[1]SD vs SY0.15'!$A$2:$E$20133,5,FALSE)","v":"NA"}]
["ENSGALG00000043724",380.041062602015,-1.95706496539604,0.133039981131085,-14.7103520968462,{"v":5.5318834586151e-49,"d":"5.53E-49"},{"v":4.00761907062253e-46,"d":"4.01E-46"},{"$f":"VLOOKUP(A1561,'[1]SD vs SY0.15'!$A$2:$E$20133,5,FALSE)","v":"NFX1"}]
["ENSGALG00000053989",18.4993463959277,-1.95939471619182,0.460922115445712,-4.25103211699244,{"v":2.12787648608189e-05,"d":"2.13E-05"},0.00013308413116369,{"$f":"VLOOKUP(A1562,'[1]SD vs SY0.15'!$A$2:$E$20133,5,FALSE)","v":"TRIQK"}]
["ENSGALG00000002175",101.890160301602,-1.96182908968877,0.254188591528719,-7.71800605955644,{"v":1.18163584791195E-14,"d":"1.18E-14"},{"v":4.06833712626636E-13,"d":"4.07E-13"},{"$f":"VLOOKUP(A1563,'[1]SD vs SY0.15'!$A$2:$E$20133,5,FALSE)","v":"KIF14"}]
["ENSGALG00000007337",158.675596086842,-1.96366109262621,0.178212172128609,-11.0186698763152,{"v":3.10614944746904e-28,"d":"3.11E-28"},{"v":4.82201968242358e-26,"d":"4.82E-26"},{"$f":"VLOOKUP(A1564,'[1]SD vs SY0.15'!$A$2:$E$20133,5,FALSE)","v":"LPP"}]
["ENSGALG00000032352",19.3577335653032,-1.96881264742167,0.40505105925297,-4.86065300274174,{"v":1.16999176697305e-06,"d":"1.17E-06"},{"v":9.69158973433087e-06,"d":"9.69E-06"},{"$f":"VLOOKUP(A1565,'[1]SD vs SY0.15'!$A$2:$E$20133,5,FALSE)","v":"NA"}]
["ENSGALG00000027514",19.8260421671075,-1.97072558151891,0.825843015505291,-2.38631985076864,0.0170179428238389,0.0459136347272351,{"$f":"VLOOKUP(A1566,'[1]SD vs SY0.15'!$A$2:$E$20133,5,FALSE)","v":"SCEL"}]
["ENSGALG00000047341",161.839965877352,-1.97362957521882,0.318360916494389,-6.199346317228,{"v":5.66981497155212e-10,"d":"5.67E-10"},{"v":8.95377592283167e-09,"d":"8.95E-09"},{"$f":"VLOOKUP(A1567,'[1]SD vs SY0.15'!$A$2:$E$20133,5,FALSE)","v":"NA"}]
["ENSGALG00000010639",17.7952992002029,-1.97386874321892,0.534330984440636,-3.69409373720908,0.000220672393317521,1.08323853828677E-3,{"$f":"VLOOKUP(A1568,'[1]SD vs SY0.15'!$A$2:$E$20133,5,FALSE)","v":"EML5"}]
["ENSGALG00000050373",3.73034805650515,-1.97536470177758,0.753368187713359,-2.62204421953794,0.00874040895900662,0.0262423572043253,{"$f":"VLOOKUP(A1569,'[1]SD vs SY0.15'!$A$2:$E$20133,5,FALSE)","v":"NA"}]
["ENSGALG00000029616",484.592128177515,-1.9770580879622,0.087700339284641,-22.5433345422467,{"v":1.5610760353218e-112,"d":"1.56E-112"},{"v":1.35712145130701e-108,"d":"1.36E-108"},{"$f":"VLOOKUP(A1570,'[1]SD vs SY0.15'!$A$2:$E$20133,5,FALSE)","v":"HCFC2"}]
["ENSGALG00000026864",160.82923046177,-1.97758413381535,0.280819810915362,-7.04218170138782,{"v":1.8925280355821e-12,"d":"1.89E-12"},{"v":4.45872424859972e-11,"d":"4.46E-11"},{"$f":"VLOOKUP(A1571,'[1]SD vs SY0.15'!$A$2:$E$20133,5,FALSE)","v":"ZCCHC24"}]
["ENSGALG00000040557",37.6890437494626,-1.97820506037194,0.504331564826518,-3.92242960452498,{"v":8.766050964699e-05,"d":"8.77E-05"},0.000475703271295947,{"$f":"VLOOKUP(A1572,'[1]SD vs SY0.15'!$A$2:$E$20133,5,FALSE)","v":"TFEC"}]
["ENSGALG00000050687",21.0643543494707,-1.97973759674666,0.47133509944231,-4.20027619222314,{"v":2.66589576755568e-05,"d":"2.67E-05"},1.63038796027051E-4,{"$f":"VLOOKUP(A1573,'[1]SD vs SY0.15'!$A$2:$E$20133,5,FALSE)","v":"NA"}]
["ENSGALG00000012973",20.9641681704445,-1.98004571507363,0.385779166187338,-5.13258850819358,{"v":2.85784262547245e-07,"d":"2.86E-07"},{"v":2.67722573971387e-06,"d":"2.68E-06"},{"$f":"VLOOKUP(A1574,'[1]SD vs SY0.15'!$A$2:$E$20133,5,FALSE)","v":"ESR1"}]
["ENSGALG00000002124",144.026030267045,-1.98088495868554,0.19101374963018,-10.3703788995333,{"v":3.3818116076417e-25,"d":"3.38E-25"},{"v":3.8431083935991e-23,"d":"3.84E-23"},{"$f":"VLOOKUP(A1575,'[1]SD vs SY0.15'!$A$2:$E$20133,5,FALSE)","v":"ZDHHC8"}]
["ENSGALG00000031503",186.855602260315,-1.98327441980086,0.166031899139793,-11.9451408438749,{"v":6.88336496020997e-33,"d":"6.88E-33"},{"v":1.55429956575546e-30,"d":"1.55E-30"},{"$f":"VLOOKUP(A1576,'[1]SD vs SY0.15'!$A$2:$E$20133,5,FALSE)","v":"LRP6"}]
["ENSGALG00000037326",95.5591865002008,-1.98391833220843,0.198589145505375,-9.99006429661453,{"v":1.6847243087768E-23,"d":"1.68E-23"},{"v":1.59197291069034E-21,"d":"1.59E-21"},{"$f":"VLOOKUP(A1577,'[1]SD vs SY0.15'!$A$2:$E$20133,5,FALSE)","v":"MAP3K9"}]
["ENSGALG00000007118",8.04984802109602,-1.98465941455875,0.694739205477401,-2.85669701509785,0.00428074247545048,0.0143658115075579,{"$f":"VLOOKUP(A1578,'[1]SD vs SY0.15'!$A$2:$E$20133,5,FALSE)","v":"SOHYE2L"}]
["ENSGALG00000034022",6.48475852904005,-1.98493477783163,0.643219786224184,-3.08593550811544,0.00202912827903882,0.00757348991305903,{"$f":"VLOOKUP(A1579,'[1]SD vs SY0.15'!$A$2:$E$20133,5,FALSE)","v":"NA"}]
["ENSGALG00000006502",265.75828278311,-1.98533395282337,0.121881798923279,-16.2890109135416,{"v":1.18124168753318E-59,"d":"1.18E-59"},{"v":1.57986532470303E-56,"d":"1.58E-56"},{"$f":"VLOOKUP(A1580,'[1]SD vs SY0.15'!$A$2:$E$20133,5,FALSE)","v":"PCGF5"}]
["ENSGALG00000016904",256.65973084796,-1.98636027730591,0.302973687776832,-6.5562138147424,{"v":5.51910831444751e-11,"d":"5.52E-11"},{"v":1.04418646641239E-9,"d":"1.04E-09"},{"$f":"VLOOKUP(A1581,'[1]SD vs SY0.15'!$A$2:$E$20133,5,FALSE)","v":"SLITRK6"}]
["ENSGALG00000007755",31.2333587005683,-1.98817476524498,0.27053474684141,-7.34905511568341,{"v":1.99612872573176e-13,"d":"2.00E-13"},{"v":5.69896390054157e-12,"d":"5.70E-12"},{"$f":"VLOOKUP(A1582,'[1]SD vs SY0.15'!$A$2:$E$20133,5,FALSE)","v":"NEXMIF"}]
["ENSGALG00000002759",788.278263603017,-1.9895341229916,0.108381764337887,-18.3567238930445,{"v":2.9168163173697E-75,"d":"2.92E-75"},{"v":8.45244755168449e-72,"d":"8.45E-72"},{"$f":"VLOOKUP(A1583,'[1]SD vs SY0.15'!$A$2:$E$20133,5,FALSE)","v":"PEAK1"}]
["ENSGALG00000014232",11.4871192298604,-1.99025307377822,0.596000949057056,-3.33934547743092,0.000839760557603587,3.52934900049639E-3,{"$f":"VLOOKUP(A1584,'[1]SD vs SY0.15'!$A$2:$E$20133,5,FALSE)","v":"RIBC2"}]
["ENSGALG00000010049",630.060314196335,-1.99772612783974,0.205138994356293,-9.73840265771222,{"v":2.06779011757726E-22,"d":"2.07E-22"},{"v":1.73684380552251e-20,"d":"1.74E-20"},{"$f":"VLOOKUP(A1585,'[1]SD vs SY0.15'!$A$2:$E$20133,5,FALSE)","v":"PTPRB"}]
["ENSGALG00000011844",14.5289906728702,-1.99790769293971,0.587129459336173,-3.40284014227222,0.000666892871262151,0.00287367195852169,{"$f":"VLOOKUP(A1586,'[1]SD vs SY0.15'!$A$2:$E$20133,5,FALSE)","v":"IL21"}]
["ENSGALG00000054431",40.0143119547059,-1.99821121079856,0.40034591427685,-4.99121169853313,{"v":6.00016905520454e-07,"d":"6.00E-07"},{"v":5.25831347594966e-06,"d":"5.26E-06"},{"$f":"VLOOKUP(A1587,'[1]SD vs SY0.15'!$A$2:$E$20133,5,FALSE)","v":"NA"}]
["ENSGALG00000026578",59.026375569947,-1.99894286430461,0.26352686529625,-7.5853475586159,{"v":3.31596979392539e-14,"d":"3.32E-14"},{"v":1.05983027218715E-12,"d":"1.06E-12"},{"$f":"VLOOKUP(A1588,'[1]SD vs SY0.15'!$A$2:$E$20133,5,FALSE)","v":"LOC769510"}]
["ENSGALG00000044599",17.8430172870294,-1.99919357932187,0.490719859012819,-4.074001780453,{"v":4.62121278005129E-5,"d":"4.62E-05"},0.000267919395154224,{"$f":"VLOOKUP(A1589,'[1]SD vs SY0.15'!$A$2:$E$20133,5,FALSE)","v":"LOC776067"}]
["ENSGALG00000041736",26.826880534902,-1.99965503074935,0.326607166658045,-6.12250812255744,{"v":9.21137193775171e-10,"d":"9.21E-10"},{"v":1.39876090726366e-08,"d":"1.40E-08"},{"$f":"VLOOKUP(A1590,'[1]SD vs SY0.15'!$A$2:$E$20133,5,FALSE)","v":"FSTL5"}]
["ENSGALG00000011405",390.020027448996,-2.00389671064152,0.18588643534241,-10.7802202293581,{"v":4.26862554449777e-27,"d":"4.27E-27"},{"v":5.87591668717783e-25,"d":"5.88E-25"},{"$f":"VLOOKUP(A1591,'[1]SD vs SY0.15'!$A$2:$E$20133,5,FALSE)","v":"SLC4A7"}]
["ENSGALG00000041662",12.7432870741549,-2.00441103039987,0.615788928340744,-3.25502934227934,1.13380651108786E-3,0.0045770823794485,{"$f":"VLOOKUP(A1592,'[1]SD vs SY0.15'!$A$2:$E$20133,5,FALSE)","v":"OPN4-1"}]
["ENSGALG00000052648",477.352203008984,-2.00504011257317,0.0871047536941564,-23.0187220276553,{"v":3.02737614558714E-117,"d":"3.03E-117"},{"v":5.26369890433236e-113,"d":"5.26E-113"},{"$f":"VLOOKUP(A1593,'[1]SD vs SY0.15'!$A$2:$E$20133,5,FALSE)","v":"PRR14L"}]
["ENSGALG00000043541",161.955188496194,-2.00570880343642,0.134464232483565,-14.9162997950519,{"v":2.58199898839482e-50,"d":"2.58E-50"},{"v":2.13777221005813e-47,"d":"2.14E-47"},{"$f":"VLOOKUP(A1594,'[1]SD vs SY0.15'!$A$2:$E$20133,5,FALSE)","v":"SREK1"}]
["ENSGALG00000016001",346.956495832796,-2.00605279099197,0.215738233196718,-9.29855019792798,{"v":1.42373719640499E-20,"d":"1.42E-20"},{"v":9.78439471695395e-19,"d":"9.78E-19"},{"$f":"VLOOKUP(A1595,'[1]SD vs SY0.15'!$A$2:$E$20133,5,FALSE)","v":"LZTS3"}]
["ENSGALG00000051378",33.0802379441429,-2.00610523198477,0.341528006198022,-5.87391135010348,{"v":4.25631042147128e-09,"d":"4.26E-09"},{"v":5.69265148447085e-08,"d":"5.69E-08"},{"$f":"VLOOKUP(A1596,'[1]SD vs SY0.15'!$A$2:$E$20133,5,FALSE)","v":"NA"}]
["ENSGALG00000042626",25.672478904468,-2.00804866961555,0.333141152689721,-6.0276211852031,{"v":1.66390481808986E-9,"d":"1.66E-09"},{"v":2.42297429414811e-08,"d":"2.42E-08"},{"$f":"VLOOKUP(A1597,'[1]SD vs SY0.15'!$A$2:$E$20133,5,FALSE)","v":"SYT4"}]
["ENSGALG00000034946",19.1850115773948,-2.01304770954925,0.467650286392995,-4.30460061315469,{"v":1.67287252703931E-5,"d":"1.67E-05"},1.06464987656049E-4,{"$f":"VLOOKUP(A1598,'[1]SD vs SY0.15'!$A$2:$E$20133,5,FALSE)","v":"NA"}]
["ENSGALG00000015016",83.7267112030273,-2.01948730401141,0.223993496639936,-9.01583007678873,{"v":1.95385112224232e-19,"d":"1.95E-19"},{"v":1.22200034037508e-17,"d":"1.22E-17"},{"$f":"VLOOKUP(A1599,'[1]SD vs SY0.15'!$A$2:$E$20133,5,FALSE)","v":"SLC22A15"}]
["ENSGALG00000041420",20.3013075251855,-2.02188058052585,0.432885282279554,-4.67070760613233,{"v":3.0016394536109e-06,"d":"3.00E-06"},{"v":2.27108377632432e-05,"d":"2.27E-05"},{"$f":"VLOOKUP(A1600,'[1]SD vs SY0.15'!$A$2:$E$20133,5,FALSE)","v":"NA"}]
["ENSGALG00000005476",12.8216122758331,-2.0222541706926,0.646012338243296,-3.13036462460102,1.74589448639286E-3,0.00666283306297469,{"$f":"VLOOKUP(A1601,'[1]SD vs SY0.15'!$A$2:$E$20133,5,FALSE)","v":"PTH2R"}]
["ENSGALG00000014645",143.900593086002,-2.0248035222211,0.281631473045808,-7.1895498763796,{"v":6.50052707624147e-13,"d":"6.50E-13"},{"v":1.69198599213489E-11,"d":"1.69E-11"},{"$f":"VLOOKUP(A1602,'[1]SD vs SY0.15'!$A$2:$E$20133,5,FALSE)","v":"MEF2C"}]
["ENSGALG00000017204",142.235530527816,-2.0248837430845,0.169038345555815,-11.9788426491426,{"v":4.58682273688721e-33,"d":"4.59E-33"},{"v":1.06334782568344E-30,"d":"1.06E-30"},{"$f":"VLOOKUP(A1603,'[1]SD vs SY0.15'!$A$2:$E$20133,5,FALSE)","v":"SESN3"}]
["ENSGALG00000046789",29.0820240517038,-2.02560341248098,0.543708241845051,-3.72553376348899,1.94902361284871E-4,0.000970245739286112,{"$f":"VLOOKUP(A1604,'[1]SD vs SY0.15'!$A$2:$E$20133,5,FALSE)","v":"NA"}]
["ENSGALG00000033619",11.2787286914422,-2.02594126097573,0.538929270806511,-3.75919693124832,0.000170459627508243,0.000859067114053861,{"$f":"VLOOKUP(A1605,'[1]SD vs SY0.15'!$A$2:$E$20133,5,FALSE)","v":"NA"}]
["ENSGALG00000012917",65.4071932158074,-2.02725754702665,0.279779461166347,-7.24591268628299,{"v":4.2953677175554e-13,"d":"4.30E-13"},{"v":1.15186544337424E-11,"d":"1.15E-11"},{"$f":"VLOOKUP(A1606,'[1]SD vs SY0.15'!$A$2:$E$20133,5,FALSE)","v":"CDH6"}]
["ENSGALG00000029132",19.7409830360681,-2.03066662668975,0.328496872655164,-6.18169241696682,{"v":6.34179989630176e-10,"d":"6.34E-10"},{"v":9.90699683710681e-09,"d":"9.91E-09"},{"$f":"VLOOKUP(A1607,'[1]SD vs SY0.15'!$A$2:$E$20133,5,FALSE)","v":"gga-mir-6626"}]
["ENSGALG00000040699",7.41530334390579,-2.0311160268008,0.683000177162611,-2.97381478763105,0.00294122548285867,0.0104004652166898,{"$f":"VLOOKUP(A1608,'[1]SD vs SY0.15'!$A$2:$E$20133,5,FALSE)","v":"NA"}]
["ENSGALG00000014845",13.5972304083564,-2.03463196766232,0.441373037456172,-4.60977856596951,{"v":4.0309808352412e-06,"d":"4.03E-06"},{"v":2.96600354559199e-05,"d":"2.97E-05"},{"$f":"VLOOKUP(A1609,'[1]SD vs SY0.15'!$A$2:$E$20133,5,FALSE)","v":"PLCXD3"}]
["ENSGALG00000041475",4.89545704751414,-2.03483383077251,0.843520388283774,-2.41231137864087,0.0158517371597645,0.0432947147340286,{"$f":"VLOOKUP(A1610,'[1]SD vs SY0.15'!$A$2:$E$20133,5,FALSE)","v":"NA"}]
["ENSGALG00000051263",25.1529586256816,-2.03507476833181,0.37558515808523,-5.41841104346834,{"v":6.01310446073191e-08,"d":"6.01E-08"},{"v":6.47768570376367E-7,"d":"6.48E-07"},{"$f":"VLOOKUP(A1611,'[1]SD vs SY0.15'!$A$2:$E$20133,5,FALSE)","v":"NA"}]
["ENSGALG00000006567",202.827929603733,-2.03831190622436,0.316179786525064,-6.44668632560666,{"v":1.14322048688057e-10,"d":"1.14E-10"},{"v":2.04287508791289e-09,"d":"2.04E-09"},{"$f":"VLOOKUP(A1612,'[1]SD vs SY0.15'!$A$2:$E$20133,5,FALSE)","v":"UBASH3B"}]
["ENSGALG00000011855",55.1831836473265,-2.03913692278601,0.363781242236622,-5.60539325845626,{"v":2.077826442496E-8,"d":"2.08E-08"},{"v":2.45262514295166e-07,"d":"2.45E-07"},{"$f":"VLOOKUP(A1613,'[1]SD vs SY0.15'!$A$2:$E$20133,5,FALSE)","v":"RHOJ"}]
["ENSGALG00000003131",141.552340593006,-2.04011931288335,0.174682025968084,-11.6790454059429,{"v":1.63117051866635E-31,"d":"1.63E-31"},{"v":3.18664739416312e-29,"d":"3.19E-29"},{"$f":"VLOOKUP(A1614,'[1]SD vs SY0.15'!$A$2:$E$20133,5,FALSE)","v":"DGKE"}]
["ENSGALG00000050226",19.0677809516055,-2.04192429008377,0.549481552692087,-3.71609252408879,0.000202327517094453,1.00395791658712E-3,{"$f":"VLOOKUP(A1615,'[1]SD vs SY0.15'!$A$2:$E$20133,5,FALSE)","v":"NA"}]
["ENSGALG00000008786",837.00206015313,-2.042382568413,0.144980608711652,-14.0872809582076,{"v":4.54735636006412e-45,"d":"4.55E-45"},{"v":2.82374589401553E-42,"d":"2.82E-42"},{"$f":"VLOOKUP(A1616,'[1]SD vs SY0.15'!$A$2:$E$20133,5,FALSE)","v":"NBEAL1"}]
["ENSGALG00000015333",130.776818963759,-2.04409824596986,0.178238914839291,-11.4683050433342,{"v":1.90351104016874e-30,"d":"1.90E-30"},{"v":3.44753608910561e-28,"d":"3.45E-28"},{"$f":"VLOOKUP(A1617,'[1]SD vs SY0.15'!$A$2:$E$20133,5,FALSE)","v":"PCGF3"}]
["ENSGALG00000044727",5.27015545119093,-2.04662395180088,0.662095743023389,-3.09112990585802,1.99396377827159E-3,0.00746373481438282,{"$f":"VLOOKUP(A1618,'[1]SD vs SY0.15'!$A$2:$E$20133,5,FALSE)","v":"ANKRD34B"}]
["ENSGALG00000042137",226.177595147574,-2.04676442609211,0.190878358367199,-10.7228731617373,{"v":7.94948296083533e-27,"d":"7.95E-27"},{"v":1.03923052812063E-24,"d":"1.04E-24"},{"$f":"VLOOKUP(A1619,'[1]SD vs SY0.15'!$A$2:$E$20133,5,FALSE)","v":"ELK4"}]
["ENSGALG00000005438",226.540541402715,-2.04905761884771,0.186904541837294,-10.9631237352781,{"v":5.74804144395631e-28,"d":"5.75E-28"},{"v":8.69053883357116e-26,"d":"8.69E-26"},{"$f":"VLOOKUP(A1620,'[1]SD vs SY0.15'!$A$2:$E$20133,5,FALSE)","v":"PARVA"}]
["ENSGALG00000034244",7.56059324051684,-2.05218062685009,0.619805824556183,-3.31100571428087,0.000929613102597886,0.00385572113904328,{"$f":"VLOOKUP(A1621,'[1]SD vs SY0.15'!$A$2:$E$20133,5,FALSE)","v":"NA"}]
["ENSGALG00000011590",3.58982710022137,-2.05219165358741,0.847020009376037,-2.42283727759769,0.0153998229941519,0.0422929588373588,{"$f":"VLOOKUP(A1622,'[1]SD vs SY0.15'!$A$2:$E$20133,5,FALSE)","v":"TMEM179"}]
["ENSGALG00000014700",225.36314506254,-2.05233627534422,0.123833736559842,-16.5733210703244,{"v":1.0865541096628E-61,"d":"1.09E-61"},{"v":1.88919163047071e-58,"d":"1.89E-58"},{"$f":"VLOOKUP(A1623,'[1]SD vs SY0.15'!$A$2:$E$20133,5,FALSE)","v":"DHX29"}]
["ENSGALG00000015570",50.8955573815888,-2.05692621305643,0.30846337377906,-6.66829966830915,{"v":2.58783976508579e-11,"d":"2.59E-11"},{"v":5.07269109307178e-10,"d":"5.07E-10"},{"$f":"VLOOKUP(A1624,'[1]SD vs SY0.15'!$A$2:$E$20133,5,FALSE)","v":"GPR63"}]
["ENSGALG00000053686",4.61204272285263,-2.05716377265936,0.722791171458329,-2.84613848908635,0.00442529445111117,0.0147755522076273,{"$f":"VLOOKUP(A1625,'[1]SD vs SY0.15'!$A$2:$E$20133,5,FALSE)","v":"NA"}]
["ENSGALG00000010999",428.476959366305,-2.05819547366493,0.0920764680071068,-22.3531106070019,{"v":1.1261841335102e-110,"d":"1.13E-110"},{"v":6.52698784311395e-107,"d":"6.53E-107"},{"$f":"VLOOKUP(A1626,'[1]SD vs SY0.15'!$A$2:$E$20133,5,FALSE)","v":"DICER1"}]
["ENSGALG00000039300",917.967531244196,-2.05957883872136,0.133817890882245,-15.3909079357237,{"v":1.88370427746167e-53,"d":"1.88E-53"},{"v":2.04699789201413e-50,"d":"2.05E-50"},{"$f":"VLOOKUP(A1627,'[1]SD vs SY0.15'!$A$2:$E$20133,5,FALSE)","v":"NFAT5"}]
["ENSGALG00000002227",506.004603425062,-2.06037072766501,0.183176785465909,-11.2479904176966,{"v":2.36928684612827E-29,"d":"2.37E-29"},{"v":3.96103753784926e-27,"d":"3.96E-27"},{"$f":"VLOOKUP(A1628,'[1]SD vs SY0.15'!$A$2:$E$20133,5,FALSE)","v":"DMXL1"}]
["ENSGALG00000054498",51.5517421098543,-2.06058830649193,0.235299428594218,-8.75730263691156,{"v":1.99978205274502e-18,"d":"2.00E-18"},{"v":1.10733154621266e-16,"d":"1.11E-16"},{"$f":"VLOOKUP(A1629,'[1]SD vs SY0.15'!$A$2:$E$20133,5,FALSE)","v":"NA"}]
["ENSGALG00000017137",6.63734114338039,-2.06251536573106,0.673447293106778,-3.06262329189293,0.00219406071210572,0.0080702630847011,{"$f":"VLOOKUP(A1630,'[1]SD vs SY0.15'!$A$2:$E$20133,5,FALSE)","v":"GJA3"}]
["ENSGALG00000012683",37.2530176370411,-2.07032681414607,0.245691441846713,-8.42653207040783,{"v":3.56060259260387e-17,"d":"3.56E-17"},{"v":1.71490851184497e-15,"d":"1.71E-15"},{"$f":"VLOOKUP(A1631,'[1]SD vs SY0.15'!$A$2:$E$20133,5,FALSE)","v":"RNF144B"}]
["ENSGALG00000016804",8.35498992248299,-2.07096889118896,0.627941416125854,-3.29802882562836,0.000973661383008644,0.00400972299061376,{"$f":"VLOOKUP(A1632,'[1]SD vs SY0.15'!$A$2:$E$20133,5,FALSE)","v":"SLC5A7"}]
["ENSGALG00000033416",26.257041080348,-2.07463869201394,0.48277944519891,-4.29728049246,{"v":1.72906344693908e-05,"d":"1.73E-05"},1.09759861817925E-4,{"$f":"VLOOKUP(A1633,'[1]SD vs SY0.15'!$A$2:$E$20133,5,FALSE)","v":"HIC2"}]
["ENSGALG00000009877",14.3692255944502,-2.08073779080561,0.551323564797186,-3.77407737246102,0.000160600915266537,0.000814101490886085,{"$f":"VLOOKUP(A1634,'[1]SD vs SY0.15'!$A$2:$E$20133,5,FALSE)","v":"KCNH1"}]
["ENSGALG00000008442",15.6363180215126,-2.08092596582033,0.412327016519097,-5.0467853971532,{"v":4.4930553685888e-07,"d":"4.49E-07"},{"v":4.03307969507762e-06,"d":"4.03E-06"},{"$f":"VLOOKUP(A1635,'[1]SD vs SY0.15'!$A$2:$E$20133,5,FALSE)","v":"TENM1"}]
["ENSGALG00000013846",203.552794402731,-2.08122828566403,0.158472831172022,-13.1330289884508,{"v":2.12964553707402e-39,"d":"2.13E-39"},{"v":8.41548794388774e-37,"d":"8.42E-37"},{"$f":"VLOOKUP(A1636,'[1]SD vs SY0.15'!$A$2:$E$20133,5,FALSE)","v":"ARFGEF3"}]
["ENSGALG00000013625",67.6401810360217,-2.08430690563723,0.268667130335234,-7.75795276123469,{"v":8.63112862631927e-15,"d":"8.63E-15"},{"v":3.0074034754672e-13,"d":"3.01E-13"},{"$f":"VLOOKUP(A1637,'[1]SD vs SY0.15'!$A$2:$E$20133,5,FALSE)","v":"IPCEF1"}]
["ENSGALG00000009279",39.6857242816154,-2.08528566008214,0.265304822419739,-7.85996138729438,{"v":3.84251891389803e-15,"d":"3.84E-15"},{"v":1.41546348211748E-13,"d":"1.42E-13"},{"$f":"VLOOKUP(A1638,'[1]SD vs SY0.15'!$A$2:$E$20133,5,FALSE)","v":"SFMBT2"}]
["ENSGALG00000016196",4.73102539934385,-2.0920166743765,0.822695837199065,-2.54287985885396,0.0109943024581143,0.0317854899965469,{"$f":"VLOOKUP(A1639,'[1]SD vs SY0.15'!$A$2:$E$20133,5,FALSE)","v":"CBS"}]
["ENSGALG00000054719",23.7700513098723,-2.09218112693903,0.366879754483215,-5.70263445004226,{"v":1.17969794146701e-08,"d":"1.18E-08"},{"v":1.45677614405447E-7,"d":"1.46E-07"},{"$f":"VLOOKUP(A1640,'[1]SD vs SY0.15'!$A$2:$E$20133,5,FALSE)","v":"NA"}]
["ENSGALG00000005318",3.76107176293319,-2.09352500515643,0.872167612732357,-2.40037003735757,0.0163785055811961,0.0444818926179719,{"$f":"VLOOKUP(A1641,'[1]SD vs SY0.15'!$A$2:$E$20133,5,FALSE)","v":"OVCH2"}]
["ENSGALG00000017872",9.60940854694832,-2.09437845717865,0.63651194047726,-3.29039932166594,1.000452957968E-3,0.00410063073554682,{"$f":"VLOOKUP(A1642,'[1]SD vs SY0.15'!$A$2:$E$20133,5,FALSE)","v":"NA"}]
["ENSGALG00000006708",88.2642428185989,-2.10124567202667,0.277164390629147,-7.58122523336046,{"v":3.42306744699568e-14,"d":"3.42E-14"},{"v":1.09005263188487e-12,"d":"1.09E-12"},{"$f":"VLOOKUP(A1643,'[1]SD vs SY0.15'!$A$2:$E$20133,5,FALSE)","v":"COL23A1"}]
["ENSGALG00000054081",34.6391114560571,-2.10470104013781,0.274701210469597,-7.6617829114763,{"v":1.83369409946577e-14,"d":"1.83E-14"},{"v":6.13123832834833e-13,"d":"6.13E-13"},{"$f":"VLOOKUP(A1644,'[1]SD vs SY0.15'!$A$2:$E$20133,5,FALSE)","v":"NA"}]
["ENSGALG00000006394",17.8880339991518,-2.11479566192747,0.581231443638418,-3.63847428605924,0.000274258005140937,0.00131472951072111,{"$f":"VLOOKUP(A1645,'[1]SD vs SY0.15'!$A$2:$E$20133,5,FALSE)","v":"IL9R"}]
["ENSGALG00000025093",4.22270459965277,-2.12260281780011,0.82154410520901,-2.58367481957661,0.0097753911955447,0.0287869421830793,{"$f":"VLOOKUP(A1646,'[1]SD vs SY0.15'!$A$2:$E$20133,5,FALSE)","v":"NA"}]
["ENSGALG00000012187",851.941120612026,-2.12655369751179,0.225258843132558,-9.44048929639747,{"v":3.71042652859413e-21,"d":"3.71E-21"},{"v":2.71063806943975e-19,"d":"2.71E-19"},{"$f":"VLOOKUP(A1647,'[1]SD vs SY0.15'!$A$2:$E$20133,5,FALSE)","v":"MGAT5"}]
["ENSGALG00000017875",10.894377461619,-2.12686827102097,0.48886107182491,-4.35065991874013,{"v":1.35728423375697E-5,"d":"1.36E-05"},{"v":8.84524024450241e-05,"d":"8.85E-05"},{"$f":"VLOOKUP(A1648,'[1]SD vs SY0.15'!$A$2:$E$20133,5,FALSE)","v":"NA"}]
["ENSGALG00000054120",19.4843429058917,-2.13873645622746,0.440824691303215,-4.85167119360917,{"v":1.22425469528564E-6,"d":"1.22E-06"},{"v":1.01073677050956E-5,"d":"1.01E-05"},{"$f":"VLOOKUP(A1649,'[1]SD vs SY0.15'!$A$2:$E$20133,5,FALSE)","v":"NA"}]
["ENSGALG00000054690",9.32977168825757,-2.14057611796381,0.65496661119188,-3.26822174044641,0.00108225538789097,4.39550909349692E-3,{"$f":"VLOOKUP(A1650,'[1]SD vs SY0.15'!$A$2:$E$20133,5,FALSE)","v":"NA"}]
["ENSGALG00000015799",7.040539134713,-2.14247293641098,0.788009334079191,-2.7188420793448,0.00655108768955557,0.0206571929013969,{"$f":"VLOOKUP(A1651,'[1]SD vs SY0.15'!$A$2:$E$20133,5,FALSE)","v":"ELAVL2"}]
["ENSGALG00000010793",65.732073283,-2.14377491285104,0.344904737812373,-6.21555658077752,{"v":5.11430401989047e-10,"d":"5.11E-10"},{"v":8.13562708086327e-09,"d":"8.14E-09"},{"$f":"VLOOKUP(A1652,'[1]SD vs SY0.15'!$A$2:$E$20133,5,FALSE)","v":"SLC24A4"}]
["ENSGALG00000008501",73.4547564527761,-2.14830197953857,0.255111400381639,-8.4210347962685,{"v":3.7317340487495e-17,"d":"3.73E-17"},{"v":1.77763451796185e-15,"d":"1.78E-15"},{"$f":"VLOOKUP(A1653,'[1]SD vs SY0.15'!$A$2:$E$20133,5,FALSE)","v":"KLF7"}]
["ENSGALG00000034377",9.24367844919739,-2.1514680961691,0.646463449151222,-3.3280583751392,0.000874535393823934,3.6631045272023E-3,{"$f":"VLOOKUP(A1654,'[1]SD vs SY0.15'!$A$2:$E$20133,5,FALSE)","v":"SLC30A8"}]
["ENSGALG00000025166",7.42014214507839,-2.15357813636006,0.635744923197676,-3.38748774512893,0.000705358682682052,0.00302667112926773,{"$f":"VLOOKUP(A1655,'[1]SD vs SY0.15'!$A$2:$E$20133,5,FALSE)","v":"NA"}]
["ENSGALG00000015489",15.1950069032453,-2.15807435230542,0.458312113168436,-4.70874386754927,{"v":2.49248036296319e-06,"d":"2.49E-06"},{"v":1.9175555783558e-05,"d":"1.92E-05"},{"$f":"VLOOKUP(A1656,'[1]SD vs SY0.15'!$A$2:$E$20133,5,FALSE)","v":"FAXC"}]
["ENSGALG00000006165",308.941118155344,-2.16205461059114,0.372867946110985,-5.79844589255091,{"v":6.6932291013585e-09,"d":"6.69E-09"},{"v":8.65849366812706e-08,"d":"8.66E-08"},{"$f":"VLOOKUP(A1657,'[1]SD vs SY0.15'!$A$2:$E$20133,5,FALSE)","v":"NA"}]
["ENSGALG00000010902",10.5354325129005,-2.16806475785629,0.535400634238823,-4.04942508321571,{"v":5.13436104847898e-05,"d":"5.13E-05"},0.000294235779663494,{"$f":"VLOOKUP(A1658,'[1]SD vs SY0.15'!$A$2:$E$20133,5,FALSE)","v":"CERS6"}]
["ENSGALG00000004660",11.2735958662657,-2.17293722095535,0.589234413209732,-3.68772965774134,2.26263852268931E-4,1.10693573421494E-3,{"$f":"VLOOKUP(A1659,'[1]SD vs SY0.15'!$A$2:$E$20133,5,FALSE)","v":"TRPV3"}]
["ENSGALG00000023407",151.860480705402,-2.17545556795135,0.181144210891866,-12.0095230051265,{"v":3.16666257797906e-33,"d":"3.17E-33"},{"v":7.54229619771534e-31,"d":"7.54E-31"},{"$f":"VLOOKUP(A1660,'[1]SD vs SY0.15'!$A$2:$E$20133,5,FALSE)","v":"ZBTB34"}]
["ENSGALG00000012994",154.203356596619,-2.17687180485934,0.158845138858059,-13.7043652736805,{"v":9.55996432821725e-43,"d":"9.56E-43"},{"v":4.74911713642038e-40,"d":"4.75E-40"},{"$f":"VLOOKUP(A1661,'[1]SD vs SY0.15'!$A$2:$E$20133,5,FALSE)","v":"ERC1"}]
["ENSGALG00000029664",108.429912376272,-2.18522629431919,0.173002023096812,-12.6312181511099,{"v":1.42061831169376e-36,"d":"1.42E-36"},{"v":4.4909619246217E-34,"d":"4.49E-34"},{"$f":"VLOOKUP(A1662,'[1]SD vs SY0.15'!$A$2:$E$20133,5,FALSE)","v":"SAMD12"}]
["ENSGALG00000013402",109.97854564492,-2.189838684217,0.167651379121391,-13.0618590535507,{"v":5.43833038892853e-39,"d":"5.44E-39"},{"v":1.96992188483959e-36,"d":"1.97E-36"},{"$f":"VLOOKUP(A1663,'[1]SD vs SY0.15'!$A$2:$E$20133,5,FALSE)","v":"AHRR"}]
["ENSGALG00000007740",5.48329838731588,-2.19360698881921,0.775322063258317,-2.82928487756494,0.00466521517727595,0.0154532475304433,{"$f":"VLOOKUP(A1664,'[1]SD vs SY0.15'!$A$2:$E$20133,5,FALSE)","v":"WASF3L"}]
["ENSGALG00000052379",3.54164385510686,-2.19972542591987,0.922066365477732,-2.38564761526701,0.0170490786236534,0.0459870198618463,{"$f":"VLOOKUP(A1665,'[1]SD vs SY0.15'!$A$2:$E$20133,5,FALSE)","v":"NA"}]
["ENSGALG00000051487",26.3647718534224,-2.20875758968395,0.462819257787986,-4.77239776114883,{"v":1.82045525669669E-6,"d":"1.82E-06"},{"v":1.44994299350368e-05,"d":"1.45E-05"},{"$f":"VLOOKUP(A1666,'[1]SD vs SY0.15'!$A$2:$E$20133,5,FALSE)","v":"NA"}]
["ENSGALG00000032452",128.804078148769,-2.20991134718463,0.200759014767614,-11.0077813927443,{"v":3.50529320623558e-28,"d":"3.51E-28"},{"v":5.39349849352371e-26,"d":"5.39E-26"},{"$f":"VLOOKUP(A1667,'[1]SD vs SY0.15'!$A$2:$E$20133,5,FALSE)","v":"GAS7"}]
["ENSGALG00000016529",36.5025995822688,-2.21024914454715,0.32411194499362,-6.81940045310785,{"v":9.14212361976041e-12,"d":"9.14E-12"},{"v":1.94320419776008e-10,"d":"1.94E-10"},{"$f":"VLOOKUP(A1668,'[1]SD vs SY0.15'!$A$2:$E$20133,5,FALSE)","v":"CDKL5"}]
["ENSGALG00000002246",222.399814977224,-2.21444023292154,0.19572126477494,-11.3142546644992,{"v":1.11546222693347e-29,"d":"1.12E-29"},{"v":1.95904462017094e-27,"d":"1.96E-27"},{"$f":"VLOOKUP(A1669,'[1]SD vs SY0.15'!$A$2:$E$20133,5,FALSE)","v":"DENND1B"}]
["ENSGALG00000007211",9.89140189329651,-2.21754583644473,0.695337295013514,-3.18916567879712,1.42684075362074E-3,0.00557619244396579,{"$f":"VLOOKUP(A1670,'[1]SD vs SY0.15'!$A$2:$E$20133,5,FALSE)","v":"CDH22"}]
["ENSGALG00000041565",36.5458562263495,-2.21972926765083,0.318602791174973,-6.96707414101649,{"v":3.23600158465425e-12,"d":"3.24E-12"},{"v":7.30853612698866e-11,"d":"7.31E-11"},{"$f":"VLOOKUP(A1671,'[1]SD vs SY0.15'!$A$2:$E$20133,5,FALSE)","v":"NA"}]
["ENSGALG00000049623",2.58811013724378,-2.22330641627557,0.908721573364457,-2.44663104898455,0.0144198365064043,0.0399868735784453,{"$f":"VLOOKUP(A1672,'[1]SD vs SY0.15'!$A$2:$E$20133,5,FALSE)","v":"NA"}]
["ENSGALG00000046093",41.7096370654636,-2.23102030434645,0.272620785837121,-8.18360308622758,{"v":2.75480404899134e-16,"d":"2.75E-16"},{"v":1.19148701492071E-14,"d":"1.19E-14"},{"$f":"VLOOKUP(A1673,'[1]SD vs SY0.15'!$A$2:$E$20133,5,FALSE)","v":"NA"}]
["ENSGALG00000011990",263.661938713501,-2.2319279825098,0.231452954688108,-9.64311726120502,{"v":5.25669228981078e-22,"d":"5.26E-22"},{"v":4.21189441672535e-20,"d":"4.21E-20"},{"$f":"VLOOKUP(A1674,'[1]SD vs SY0.15'!$A$2:$E$20133,5,FALSE)","v":"USP53"}]
["ENSGALG00000033788",5.49347597680843,-2.23343333209856,0.71451505801054,-3.12580302830457,1.77320276651856E-3,0.00674927243902324,{"$f":"VLOOKUP(A1675,'[1]SD vs SY0.15'!$A$2:$E$20133,5,FALSE)","v":"NA"}]
["ENSGALG00000054588",7.64405113444828,-2.23470690517822,0.935642195946172,-2.38842039709246,0.0169209735463803,0.045733711651005,{"$f":"VLOOKUP(A1676,'[1]SD vs SY0.15'!$A$2:$E$20133,5,FALSE)","v":"NA"}]
["ENSGALG00000047560",2.70433976602794,-2.23641537362948,0.949289826786392,-2.35588258772388,0.0184787573441458,0.0491574903336731,{"$f":"VLOOKUP(A1677,'[1]SD vs SY0.15'!$A$2:$E$20133,5,FALSE)","v":"NA"}]
["ENSGALG00000037387",20.6769101209003,-2.24290454199803,0.535453637479975,-4.1887931746134,{"v":2.80441842305215e-05,"d":"2.80E-05"},0.000170610297836276,{"$f":"VLOOKUP(A1678,'[1]SD vs SY0.15'!$A$2:$E$20133,5,FALSE)","v":"CLSTN2"}]
["ENSGALG00000009315",34.664118168978,-2.26735440628122,0.372400554118938,-6.08848290155086,{"v":1.13985624362967E-9,"d":"1.14E-09"},{"v":1.69390431692214e-08,"d":"1.69E-08"},{"$f":"VLOOKUP(A1679,'[1]SD vs SY0.15'!$A$2:$E$20133,5,FALSE)","v":"PAPLN"}]
["ENSGALG00000053471",14.1159283209911,-2.27020179661472,0.400582783492421,-5.667247545744,{"v":1.45109626878562e-08,"d":"1.45E-08"},{"v":1.76188623082232E-7,"d":"1.76E-07"},{"$f":"VLOOKUP(A1680,'[1]SD vs SY0.15'!$A$2:$E$20133,5,FALSE)","v":"NA"}]
["ENSGALG00000023083",14.2804347389997,-2.27435354005449,0.496577180450938,-4.58006052148664,{"v":4.64841399078626e-06,"d":"4.65E-06"},{"v":3.37884506930605e-05,"d":"3.38E-05"},{"$f":"VLOOKUP(A1681,'[1]SD vs SY0.15'!$A$2:$E$20133,5,FALSE)","v":"KIAA1958"}]
["ENSGALG00000001862",97.7354775714598,-2.27455160984767,0.915370822706006,-2.48484172034637,0.012960904723963,0.0366424797456171,{"$f":"VLOOKUP(A1682,'[1]SD vs SY0.15'!$A$2:$E$20133,5,FALSE)","v":"ST6GALNAC1"}]
["ENSGALG00000040130",26.1326192396067,-2.27819654342058,0.366521770550074,-6.21571957376904,{"v":5.10899751614919e-10,"d":"5.11E-10"},{"v":8.13462818802984e-09,"d":"8.13E-09"},{"$f":"VLOOKUP(A1683,'[1]SD vs SY0.15'!$A$2:$E$20133,5,FALSE)","v":"NA"}]
["ENSGALG00000052725",105.155393226331,-2.27933541416028,0.201679461826124,-11.3017725926172,{"v":1.28595741471844e-29,"d":"1.29E-29"},{"v":2.23589415697095e-27,"d":"2.24E-27"},{"$f":"VLOOKUP(A1684,'[1]SD vs SY0.15'!$A$2:$E$20133,5,FALSE)","v":"NA"}]
["ENSGALG00000046568",8.04525372909945,-2.28105572111461,0.698019694596405,-3.2678959329844,1.08350197687631E-3,0.00439851713097093,{"$f":"VLOOKUP(A1685,'[1]SD vs SY0.15'!$A$2:$E$20133,5,FALSE)","v":"NA"}]
["ENSGALG00000016607",20.1472920991024,-2.28178439560729,0.399709977739082,-5.7086000417452,{"v":1.13909216440345e-08,"d":"1.14E-08"},{"v":1.40963668772119E-7,"d":"1.41E-07"},{"$f":"VLOOKUP(A1686,'[1]SD vs SY0.15'!$A$2:$E$20133,5,FALSE)","v":"CLCN4"}]
["ENSGALG00000015737",5.52335233291314,-2.28498606328232,0.746112323978479,-3.06252288006467,2.19479696008326E-3,0.00807126369394407,{"$f":"VLOOKUP(A1687,'[1]SD vs SY0.15'!$A$2:$E$20133,5,FALSE)","v":"NCAM2"}]
["ENSGALG00000011111",7.53098454122566,-2.28620813201721,0.650447792703755,-3.51482187757759,0.00044004903553595,1.9909270311901E-3,{"$f":"VLOOKUP(A1688,'[1]SD vs SY0.15'!$A$2:$E$20133,5,FALSE)","v":"PGBD5"}]
["ENSGALG00000041098",13.3568360510307,-2.28636507928605,0.54427134253048,-4.20078167014279,{"v":2.65995010651323e-05,"d":"2.66E-05"},0.000162789695536591,{"$f":"VLOOKUP(A1689,'[1]SD vs SY0.15'!$A$2:$E$20133,5,FALSE)","v":"NA"}]
["ENSGALG00000051937",14.7790543891854,-2.28828417222395,0.438253724396744,-5.22136845585002,{"v":1.77605767295933e-07,"d":"1.78E-07"},{"v":1.73387505669533E-6,"d":"1.73E-06"},{"$f":"VLOOKUP(A1690,'[1]SD vs SY0.15'!$A$2:$E$20133,5,FALSE)","v":"NA"}]
["ENSGALG00000023670",55.756962056996,-2.29083744954917,0.275426235451582,-8.31742642741772,{"v":8.98938609892063e-17,"d":"8.99E-17"},{"v":4.12396981799295E-15,"d":"4.12E-15"},{"$f":"VLOOKUP(A1691,'[1]SD vs SY0.15'!$A$2:$E$20133,5,FALSE)","v":"NAALADL2"}]
["ENSGALG00000048270",14.6640455217733,-2.29530821584981,0.536165800333424,-4.28096722025619,{"v":1.8608276912729e-05,"d":"1.86E-05"},0.000117438152697503,{"$f":"VLOOKUP(A1692,'[1]SD vs SY0.15'!$A$2:$E$20133,5,FALSE)","v":"NA"}]
["ENSGALG00000031700",83.1817284334723,-2.29633925728194,0.258208698562537,-8.89334584801286,{"v":5.92958997260629e-19,"d":"5.93E-19"},{"v":3.47130575265002e-17,"d":"3.47E-17"},{"$f":"VLOOKUP(A1693,'[1]SD vs SY0.15'!$A$2:$E$20133,5,FALSE)","v":"TRPS1"}]
["ENSGALG00000012010",8.6345554003443,-2.30156797416995,0.632248445555313,-3.64029044333743,2.72330673466207E-4,0.00130621059849847,{"$f":"VLOOKUP(A1694,'[1]SD vs SY0.15'!$A$2:$E$20133,5,FALSE)","v":"NDST3"}]
["ENSGALG00000014178",175.515617821242,-2.311076433525,0.277011060194976,-8.34290310249103,{"v":7.24885616272683e-17,"d":"7.25E-17"},{"v":3.36095632270217E-15,"d":"3.36E-15"},{"$f":"VLOOKUP(A1695,'[1]SD vs SY0.15'!$A$2:$E$20133,5,FALSE)","v":"SCUBE1"}]
["ENSGALG00000038222",182.417148982713,-2.31130521736015,0.154364248308512,-14.9730604248516,{"v":1.10134225261318E-50,"d":"1.10E-50"},{"v":9.57451887309268e-48,"d":"9.57E-48"},{"$f":"VLOOKUP(A1696,'[1]SD vs SY0.15'!$A$2:$E$20133,5,FALSE)","v":"NA"}]
["ENSGALG00000009884",18.1157430469693,-2.32153087963663,0.477559754307508,-4.8612364394127,{"v":1.16654819819405e-06,"d":"1.17E-06"},{"v":9.66767088751187e-06,"d":"9.67E-06"},{"$f":"VLOOKUP(A1697,'[1]SD vs SY0.15'!$A$2:$E$20133,5,FALSE)","v":"SYT14"}]
["ENSGALG00000029286",7.89195456322915,-2.32162448535459,0.610945060811912,-3.80005443086695,0.000144664309288316,0.000741095564406584,{"$f":"VLOOKUP(A1698,'[1]SD vs SY0.15'!$A$2:$E$20133,5,FALSE)","v":"NA"}]
["ENSGALG00000015554",37.5835944060652,-2.32320146612162,0.366384565741168,-6.34088245890479,{"v":2.28452791599215E-10,"d":"2.28E-10"},{"v":3.87145096251028e-09,"d":"3.87E-09"},{"$f":"VLOOKUP(A1699,'[1]SD vs SY0.15'!$A$2:$E$20133,5,FALSE)","v":"SORCS2"}]
["ENSGALG00000013311",39.5951522410293,-2.32590547000542,0.362330629230004,-6.41929023485608,{"v":1.36911165612852E-10,"d":"1.37E-10"},{"v":2.42164235657239e-09,"d":"2.42E-09"},{"$f":"VLOOKUP(A1700,'[1]SD vs SY0.15'!$A$2:$E$20133,5,FALSE)","v":"ANO3"}]
["ENSGALG00000047328",19.4524501040645,-2.3262122104276,0.419958418370699,-5.53914889824698,{"v":3.039451445693e-08,"d":"3.04E-08"},{"v":3.45630753997803E-7,"d":"3.46E-07"},{"$f":"VLOOKUP(A1701,'[1]SD vs SY0.15'!$A$2:$E$20133,5,FALSE)","v":"NA"}]
["ENSGALG00000015944",8.06536977630313,-2.33489930054937,0.566986983196795,-4.11808272455339,{"v":3.82037565738755e-05,"d":"3.82E-05"},0.000225551346536493,{"$f":"VLOOKUP(A1702,'[1]SD vs SY0.15'!$A$2:$E$20133,5,FALSE)","v":"NA"}]
["ENSGALG00000001608",24.8770812028153,-2.33543791389773,0.379728043237945,-6.1502908607524,{"v":7.73409806268708e-10,"d":"7.73E-10"},{"v":1.18687345998182e-08,"d":"1.19E-08"},{"$f":"VLOOKUP(A1703,'[1]SD vs SY0.15'!$A$2:$E$20133,5,FALSE)","v":"UNC5D"}]
["ENSGALG00000015113",22.4669363901389,-2.33556256527921,0.375673019887687,-6.21700905212054,{"v":5.06720541693938E-10,"d":"5.07E-10"},{"v":8.08288996186468e-09,"d":"8.08E-09"},{"$f":"VLOOKUP(A1704,'[1]SD vs SY0.15'!$A$2:$E$20133,5,FALSE)","v":"PTAR1"}]
["ENSGALG00000047346",20.7253520511575,-2.34759298555792,0.394509928456831,-5.95065628573857,{"v":2.67069413669872e-09,"d":"2.67E-09"},{"v":3.7297477072113E-8,"d":"3.73E-08"},{"$f":"VLOOKUP(A1705,'[1]SD vs SY0.15'!$A$2:$E$20133,5,FALSE)","v":"NA"}]
["ENSGALG00000052453",7.36392415605566,-2.35800969563922,0.608114690907613,-3.87757396901542,0.000105503256246819,0.000561833113740717,{"$f":"VLOOKUP(A1706,'[1]SD vs SY0.15'!$A$2:$E$20133,5,FALSE)","v":"NA"}]
["ENSGALG00000050121",2.60387309008883,-2.36639220292948,0.953787438171781,-2.48104777670943,0.0130996813630328,0.036962700399067,{"$f":"VLOOKUP(A1707,'[1]SD vs SY0.15'!$A$2:$E$20133,5,FALSE)","v":"NA"}]
["ENSGALG00000052252",2.39187258863357,-2.3669113434949,0.984933968331563,-2.40311677695952,0.0162559953756123,0.0441974967311603,{"$f":"VLOOKUP(A1708,'[1]SD vs SY0.15'!$A$2:$E$20133,5,FALSE)","v":"NA"}]
["ENSGALG00000009784",115.742470769592,-2.37090505259913,0.230790485691667,-10.2729757056217,{"v":9.32821177381946e-25,"d":"9.33E-25"},{"v":9.95028331971773e-23,"d":"9.95E-23"},{"$f":"VLOOKUP(A1709,'[1]SD vs SY0.15'!$A$2:$E$20133,5,FALSE)","v":"PTPN14"}]
["ENSGALG00000048496",11.9116823489213,-2.38173368609787,0.566751559676873,-4.20242987501577,{"v":2.64065064483593e-05,"d":"2.64E-05"},1.61722411982256E-4,{"$f":"VLOOKUP(A1710,'[1]SD vs SY0.15'!$A$2:$E$20133,5,FALSE)","v":"NA"}]
["ENSGALG00000050216",22.6742190870465,-2.38526784463861,0.406849893961028,-5.86277120885052,{"v":4.55205246755573e-09,"d":"4.55E-09"},{"v":6.07417776311523e-08,"d":"6.07E-08"},{"$f":"VLOOKUP(A1711,'[1]SD vs SY0.15'!$A$2:$E$20133,5,FALSE)","v":"NA"}]
["ENSGALG00000049050",3.18781725705107,-2.3933649158687,0.911015687983807,-2.62713907942192,0.00861061324322109,0.0259063388925221,{"$f":"VLOOKUP(A1712,'[1]SD vs SY0.15'!$A$2:$E$20133,5,FALSE)","v":"NA"}]
["ENSGALG00000053469",19.0011647700471,-2.40367619496226,0.540653939133416,-4.44586827354846,{"v":8.75375779499692e-06,"d":"8.75E-06"},{"v":5.94769780311104e-05,"d":"5.95E-05"},{"$f":"VLOOKUP(A1713,'[1]SD vs SY0.15'!$A$2:$E$20133,5,FALSE)","v":"NA"}]
["ENSGALG00000025517",3.56891350730604,-2.40520536284644,1.0087077560678,-2.38444222162279,0.0171050337899357,0.0461093368225756,{"$f":"VLOOKUP(A1714,'[1]SD vs SY0.15'!$A$2:$E$20133,5,FALSE)","v":"NA"}]
["ENSGALG00000048083",3.06098230356282,-2.40926869354286,0.925033021868766,-2.60452182417836,0.00920025614022999,0.0273678106946414,{"$f":"VLOOKUP(A1715,'[1]SD vs SY0.15'!$A$2:$E$20133,5,FALSE)","v":"NA"}]
["ENSGALG00000008416",4.02112504574986,-2.41021531001945,0.906929655584759,-2.65755485574614,0.00787097798280451,0.0240387658856529,{"$f":"VLOOKUP(A1716,'[1]SD vs SY0.15'!$A$2:$E$20133,5,FALSE)","v":"NA"}]
["ENSGALG00000017212",3.28358189306025,-2.4120720516905,0.992999091193353,-2.42907780387971,0.0151372835385832,0.0416706695511948,{"$f":"VLOOKUP(A1717,'[1]SD vs SY0.15'!$A$2:$E$20133,5,FALSE)","v":"GPR83"}]
["ENSGALG00000048761",86.9161813215644,-2.4139426517581,0.921822783864997,-2.61866238718572,0.00882752653750473,0.0264482828914824,{"$f":"VLOOKUP(A1718,'[1]SD vs SY0.15'!$A$2:$E$20133,5,FALSE)","v":"NA"}]
["ENSGALG00000039121",68.8865397045522,-2.4160626121344,0.264733135566319,-9.12640802204809,{"v":7.08097240631906e-20,"d":"7.08E-20"},{"v":4.60603324076954e-18,"d":"4.61E-18"},{"$f":"VLOOKUP(A1719,'[1]SD vs SY0.15'!$A$2:$E$20133,5,FALSE)","v":"PPM1F"}]
["ENSGALG00000049789",4.24985644898185,-2.41904429759854,0.882126587622043,-2.74228702721633,0.00610130011421143,0.0194398579962973,{"$f":"VLOOKUP(A1720,'[1]SD vs SY0.15'!$A$2:$E$20133,5,FALSE)","v":"NA"}]
["ENSGALG00000035602",54.3361011440386,-2.42310158120151,0.315565166529581,-7.67860916922328,{"v":1.60825071607083e-14,"d":"1.61E-14"},{"v":5.44020529189173e-13,"d":"5.44E-13"},{"$f":"VLOOKUP(A1721,'[1]SD vs SY0.15'!$A$2:$E$20133,5,FALSE)","v":"ZNF536"}]
["ENSGALG00000050243",3.67513184922979,-2.42575967291102,0.877967570594965,-2.76292627900501,0.00572857035530539,0.0183972391517722,{"$f":"VLOOKUP(A1722,'[1]SD vs SY0.15'!$A$2:$E$20133,5,FALSE)","v":"NA"}]
["ENSGALG00000009282",242.228337860522,-2.42849074122928,0.163362275627784,-14.8656764965892,{"v":5.50559275771926e-50,"d":"5.51E-50"},{"v":4.35117005811203e-47,"d":"4.35E-47"},{"$f":"VLOOKUP(A1723,'[1]SD vs SY0.15'!$A$2:$E$20133,5,FALSE)","v":"ELMSAN1"}]
["ENSGALG00000049699",27.5180287313849,-2.43911245834902,0.292972376292066,-8.32540080815488,{"v":8.40438850016539e-17,"d":"8.40E-17"},{"v":3.86579637175597e-15,"d":"3.87E-15"},{"$f":"VLOOKUP(A1724,'[1]SD vs SY0.15'!$A$2:$E$20133,5,FALSE)","v":"NA"}]
["ENSGALG00000001935",5.70898506450021,-2.44247019473244,0.749784231173054,-3.25756410068954,0.00112372875468395,0.00454589852435778,{"$f":"VLOOKUP(A1725,'[1]SD vs SY0.15'!$A$2:$E$20133,5,FALSE)","v":"NA"}]
["ENSGALG00000002142",101.336284222184,-2.4462099592412,0.177423033169261,-13.7874430142761,{"v":3.03321721951465e-43,"d":"3.03E-43"},{"v":1.59813781199095E-40,"d":"1.60E-40"},{"$f":"VLOOKUP(A1726,'[1]SD vs SY0.15'!$A$2:$E$20133,5,FALSE)","v":"DGKQ"}]
["ENSGALG00000048303",4.66359182128497,-2.4515112052278,0.740803031827041,-3.30926184141235,9.35423103933399E-4,0.00387704445961621,{"$f":"VLOOKUP(A1727,'[1]SD vs SY0.15'!$A$2:$E$20133,5,FALSE)","v":"NA"}]
["ENSGALG00000028658",13.7051853839518,-2.45799179100229,0.495855936025625,-4.95706839914741,{"v":7.15647878177949e-07,"d":"7.16E-07"},{"v":6.17210796521825e-06,"d":"6.17E-06"},{"$f":"VLOOKUP(A1728,'[1]SD vs SY0.15'!$A$2:$E$20133,5,FALSE)","v":"KBTBD3"}]
["ENSGALG00000001450",18.6893522289873,-2.46813180079877,0.43314260466086,-5.69819679301984,{"v":1.21081240088039E-8,"d":"1.21E-08"},{"v":1.49307767475938E-7,"d":"1.49E-07"},{"$f":"VLOOKUP(A1729,'[1]SD vs SY0.15'!$A$2:$E$20133,5,FALSE)","v":"IGSF9B"}]
["ENSGALG00000031045",3.26150549189989,-2.4748138110652,0.881891426683309,-2.80625679781545,0.00501207313054694,0.0164083817587685,{"$f":"VLOOKUP(A1730,'[1]SD vs SY0.15'!$A$2:$E$20133,5,FALSE)","v":"NA"}]
["ENSGALG00000041036",36.3352264744008,-2.47638987594193,0.308100028391483,-8.03761651328167,{"v":9.16027831367909e-16,"d":"9.16E-16"},{"v":3.63629586849174e-14,"d":"3.64E-14"},{"$f":"VLOOKUP(A1731,'[1]SD vs SY0.15'!$A$2:$E$20133,5,FALSE)","v":"FTO"}]
["ENSGALG00000009966",101.060282082112,-2.4776096416951,0.179016549647274,-13.8401150428654,{"v":1.45972786713331e-43,"d":"1.46E-43"},{"v":8.18718981478929E-41,"d":"8.19E-41"},{"$f":"VLOOKUP(A1732,'[1]SD vs SY0.15'!$A$2:$E$20133,5,FALSE)","v":"FRS2"}]
["ENSGALG00000005821",38.1840304902131,-2.47934216082357,0.271137583630521,-9.14422164432272,{"v":6.00608052593229e-20,"d":"6.01E-20"},{"v":3.94066875865603e-18,"d":"3.94E-18"},{"$f":"VLOOKUP(A1733,'[1]SD vs SY0.15'!$A$2:$E$20133,5,FALSE)","v":"FAM219A"}]
["ENSGALG00000046293",4.17309225762099,-2.48068206483758,0.976583113434598,-2.54016481619586,0.0110800241041028,0.0319907637160471,{"$f":"VLOOKUP(A1734,'[1]SD vs SY0.15'!$A$2:$E$20133,5,FALSE)","v":"NA"}]
["ENSGALG00000005524",42.2886143934234,-2.48238137890496,0.700577919879884,-3.54333373699612,0.00039510235556414,1.80685025149755E-3,{"$f":"VLOOKUP(A1735,'[1]SD vs SY0.15'!$A$2:$E$20133,5,FALSE)","v":"NTSR1"}]
["ENSGALG00000009176",12.081345909795,-2.48689710407236,0.470100774090745,-5.29013616044865,{"v":1.22225334139468e-07,"d":"1.22E-07"},{"v":1.23914395608334e-06,"d":"1.24E-06"},{"$f":"VLOOKUP(A1736,'[1]SD vs SY0.15'!$A$2:$E$20133,5,FALSE)","v":"TTBK2"}]
["ENSGALG00000029701",156.29766191108,-2.49467883597926,0.177740610296943,-14.0355028139687,{"v":9.45236314317334e-45,"d":"9.45E-45"},{"v":5.66718061966741E-42,"d":"5.67E-42"},{"$f":"VLOOKUP(A1737,'[1]SD vs SY0.15'!$A$2:$E$20133,5,FALSE)","v":"INO80D"}]
["ENSGALG00000015428",20.1113534772584,-2.49769911563005,0.353650771535286,-7.06261463756158,{"v":1.63398411957973E-12,"d":"1.63E-12"},{"v":3.90785170386971e-11,"d":"3.91E-11"},{"$f":"VLOOKUP(A1738,'[1]SD vs SY0.15'!$A$2:$E$20133,5,FALSE)","v":"NA"}]
["ENSGALG00000054399",7.27956609207672,-2.49837446611883,0.704718949402761,-3.54520687748806,0.000392305051718799,1.79831477306479E-3,{"$f":"VLOOKUP(A1739,'[1]SD vs SY0.15'!$A$2:$E$20133,5,FALSE)","v":"NA"}]
["ENSGALG00000031560",370.707339247467,-2.49851973373039,0.125809650223679,-19.85952372722,{"v":9.11710390859926e-88,"d":"9.12E-88"},{"v":3.96297714147038e-84,"d":"3.96E-84"},{"$f":"VLOOKUP(A1740,'[1]SD vs SY0.15'!$A$2:$E$20133,5,FALSE)","v":"USF3"}]
["ENSGALG00000020869",33.0393058367005,-2.50262688353306,0.384358319252253,-6.51118177538548,{"v":7.45618480586922e-11,"d":"7.46E-11"},{"v":1.37331234342848E-9,"d":"1.37E-09"},{"$f":"VLOOKUP(A1741,'[1]SD vs SY0.15'!$A$2:$E$20133,5,FALSE)","v":"NA"}]
["ENSGALG00000017849",7.03808236863944,-2.51351960001948,0.793503500797046,-3.16762257191649,0.0015369090690621,0.00595415284843643,{"$f":"VLOOKUP(A1742,'[1]SD vs SY0.15'!$A$2:$E$20133,5,FALSE)","v":"SNORD14"}]
["ENSGALG00000014821",30.1670458891372,-2.51765458034926,0.481327540662398,-5.2306472571349,{"v":1.68917557604173E-7,"d":"1.69E-07"},{"v":1.65930484410382e-06,"d":"1.66E-06"},{"$f":"VLOOKUP(A1743,'[1]SD vs SY0.15'!$A$2:$E$20133,5,FALSE)","v":"THEMIS"}]
["ENSGALG00000007079",47.1619622905781,-2.51807176032269,0.334474494121448,-7.52844179325786,{"v":5.13493986176826e-14,"d":"5.13E-14"},{"v":1.6057769672044E-12,"d":"1.61E-12"},{"$f":"VLOOKUP(A1744,'[1]SD vs SY0.15'!$A$2:$E$20133,5,FALSE)","v":"PAPPA"}]
["ENSGALG00000054073",6.22352675351384,-2.52056405591323,0.678308819701766,-3.7159535342935,0.000202438786114727,1.00422344484358E-3,{"$f":"VLOOKUP(A1745,'[1]SD vs SY0.15'!$A$2:$E$20133,5,FALSE)","v":"NA"}]
["ENSGALG00000011069",12.9756493446906,-2.53271775129537,0.581316561546183,-4.35686494903715,{"v":1.31938618779368e-05,"d":"1.32E-05"},{"v":8.62736654650946e-05,"d":"8.63E-05"},{"$f":"VLOOKUP(A1746,'[1]SD vs SY0.15'!$A$2:$E$20133,5,FALSE)","v":"FIGN"}]
["ENSGALG00000054579",23.0065337759641,-2.54511885897525,0.511106601998526,-4.97962430738195,{"v":6.37078226292789e-07,"d":"6.37E-07"},{"v":5.54953863755147e-06,"d":"5.55E-06"},{"$f":"VLOOKUP(A1747,'[1]SD vs SY0.15'!$A$2:$E$20133,5,FALSE)","v":"NA"}]
["ENSGALG00000017876",9.89604317188885,-2.56427877366483,0.542973448990122,-4.72265960413745,{"v":2.3278027904325e-06,"d":"2.33E-06"},{"v":1.80122417077213e-05,"d":"1.80E-05"},{"$f":"VLOOKUP(A1748,'[1]SD vs SY0.15'!$A$2:$E$20133,5,FALSE)","v":"NA"}]
["ENSGALG00000040957",78.883474219493,-2.56852424510536,0.232844879782088,-11.0310531522495,{"v":2.70676579270806e-28,"d":"2.71E-28"},{"v":4.23986818358695e-26,"d":"4.24E-26"},{"$f":"VLOOKUP(A1749,'[1]SD vs SY0.15'!$A$2:$E$20133,5,FALSE)","v":"AGO2"}]
["ENSGALG00000051659",2.62693581664505,-2.5694690837075,0.985191689308494,-2.60809049811515,0.00910488794133603,0.0271817799855786,{"$f":"VLOOKUP(A1750,'[1]SD vs SY0.15'!$A$2:$E$20133,5,FALSE)","v":"NA"}]
["ENSGALG00000052970",5.43898387246064,-2.59160457240113,0.887264509139234,-2.92089286307116,3.49029831170061E-3,0.0120677280978262,{"$f":"VLOOKUP(A1751,'[1]SD vs SY0.15'!$A$2:$E$20133,5,FALSE)","v":"NA"}]
["ENSGALG00000051250",2.97828988678577,-2.59366360087067,1.06448682344297,-2.4365389441663,0.0148285726205686,0.0409310036757939,{"$f":"VLOOKUP(A1752,'[1]SD vs SY0.15'!$A$2:$E$20133,5,FALSE)","v":"NA"}]
["ENSGALG00000050849",4.6476576786493,-2.5949060463799,0.732046544539398,-3.54472822218239,0.000393018098691096,1.80015955794049E-3,{"$f":"VLOOKUP(A1753,'[1]SD vs SY0.15'!$A$2:$E$20133,5,FALSE)","v":"NA"}]
["ENSGALG00000050022",7.67803913888977,-2.60616889094681,0.630732807944529,-4.13196976298086,{"v":3.59667742571297e-05,"d":"3.60E-05"},2.13431503074647E-4,{"$f":"VLOOKUP(A1754,'[1]SD vs SY0.15'!$A$2:$E$20133,5,FALSE)","v":"NA"}]
["ENSGALG00000053260",5.11373880569175,-2.61608635418914,0.930688806226084,-2.81091417097547,0.00494009620926612,0.0162154904267529,{"$f":"VLOOKUP(A1755,'[1]SD vs SY0.15'!$A$2:$E$20133,5,FALSE)","v":"NA"}]
["ENSGALG00000039177",148.195635777668,-2.61666908422047,0.17333499992466,-15.0960226460773,{"v":1.72000338711266e-51,"d":"1.72E-51"},{"v":1.6614277162071E-48,"d":"1.66E-48"},{"$f":"VLOOKUP(A1756,'[1]SD vs SY0.15'!$A$2:$E$20133,5,FALSE)","v":"NA"}]
["ENSGALG00000028988",66.7032054424447,-2.61673549981108,0.753555293987694,-3.47251956251775,0.000515597434274947,0.00228983207911584,{"$f":"VLOOKUP(A1757,'[1]SD vs SY0.15'!$A$2:$E$20133,5,FALSE)","v":"ART7C"}]
["ENSGALG00000054631",5.77207414857669,-2.61942115933556,0.851959422515375,-3.07458441107656,2.10796060809756E-3,0.00781684526903042,{"$f":"VLOOKUP(A1758,'[1]SD vs SY0.15'!$A$2:$E$20133,5,FALSE)","v":"NA"}]
["ENSGALG00000048321",91.2560972877268,-2.62904701587672,0.19075142751534,-13.782581080109,{"v":3.24460865988394E-43,"d":"3.24E-43"},{"v":1.65923561086477e-40,"d":"1.66E-40"},{"$f":"VLOOKUP(A1759,'[1]SD vs SY0.15'!$A$2:$E$20133,5,FALSE)","v":"NA"}]
["ENSGALG00000053663",6.55939293977234,-2.6296339053836,0.691394515844372,-3.80337686389099,0.000142736958261349,0.000732949643617862,{"$f":"VLOOKUP(A1760,'[1]SD vs SY0.15'!$A$2:$E$20133,5,FALSE)","v":"NA"}]
["ENSGALG00000047408",4.70046686510638,-2.64499720540439,0.91844798974901,-2.87985518497047,0.00397857870828506,0.0134976679026248,{"$f":"VLOOKUP(A1761,'[1]SD vs SY0.15'!$A$2:$E$20133,5,FALSE)","v":"NA"}]
["ENSGALG00000028016",723.345593358795,-2.6536865102347,0.965676266821932,-2.74800841794327,0.00599584696813449,0.019149484062262,{"$f":"VLOOKUP(A1762,'[1]SD vs SY0.15'!$A$2:$E$20133,5,FALSE)","v":"GBE"}]
["ENSGALG00000028556",3.55957905429095,-2.65722506075879,1.00045641091558,-2.6560128275124,0.00790706066096433,0.0241247858095276,{"$f":"VLOOKUP(A1763,'[1]SD vs SY0.15'!$A$2:$E$20133,5,FALSE)","v":"NA"}]
["ENSGALG00000053919",2.85429108292047,-2.66426618072547,0.995451275240004,-2.67644057222501,0.00744087603896484,0.0229468803989857,{"$f":"VLOOKUP(A1764,'[1]SD vs SY0.15'!$A$2:$E$20133,5,FALSE)","v":"LRRC18"}]
["ENSGALG00000025506",7.8351928580642,-2.69218998784502,0.61296301232145,-4.39209207362937,{"v":1.12265133985903E-5,"d":"1.12E-05"},{"v":7.44993965657256e-05,"d":"7.45E-05"},{"$f":"VLOOKUP(A1765,'[1]SD vs SY0.15'!$A$2:$E$20133,5,FALSE)","v":"gga-mir-1744"}]
["ENSGALG00000041179",22.0735818422151,-2.69492744646578,0.375012216649937,-7.18623907919623,{"v":6.66003817202458e-13,"d":"6.66E-13"},{"v":1.72062531496272e-11,"d":"1.72E-11"},{"$f":"VLOOKUP(A1766,'[1]SD vs SY0.15'!$A$2:$E$20133,5,FALSE)","v":"NA"}]
["ENSGALG00000040732",4.98000018797265,-2.70651141443132,0.824865803278914,-3.28115361756143,0.00103383420702349,4.21904100384178E-3,{"$f":"VLOOKUP(A1767,'[1]SD vs SY0.15'!$A$2:$E$20133,5,FALSE)","v":"NA"}]
["ENSGALG00000010858",8.40634328132851,-2.71464178900305,0.53609034964599,-5.06377663913494,{"v":4.11031203661014E-7,"d":"4.11E-07"},{"v":3.72801227858844e-06,"d":"3.73E-06"},{"$f":"VLOOKUP(A1768,'[1]SD vs SY0.15'!$A$2:$E$20133,5,FALSE)","v":"LRP2"}]
["ENSGALG00000017238",5.41312979943526,-2.7361221505197,1.1339171272484,-2.41298247003225,0.0158225805546838,0.0432422521383665,{"$f":"VLOOKUP(A1769,'[1]SD vs SY0.15'!$A$2:$E$20133,5,FALSE)","v":"GRM5,GRM5,GRM5"}]
["ENSGALG00000053961",3.84121213821162,-2.74788293859441,1.1192434141511,-2.45512540333201,0.0140835448906915,0.0392672538509385,{"$f":"VLOOKUP(A1770,'[1]SD vs SY0.15'!$A$2:$E$20133,5,FALSE)","v":"NA"}]
["ENSGALG00000051157",2.77047125892453,-2.76209438056153,1.12861578016333,-2.44732922320279,0.0143919310699904,0.0399285951035461,{"$f":"VLOOKUP(A1771,'[1]SD vs SY0.15'!$A$2:$E$20133,5,FALSE)","v":"NA"}]
["ENSGALG00000007097",110.830685120706,-2.76701306330777,0.171479122715586,-16.1361512672135,{"v":1.42132366136274E-58,"d":"1.42E-58"},{"v":1.76518246429386e-55,"d":"1.77E-55"},{"$f":"VLOOKUP(A1772,'[1]SD vs SY0.15'!$A$2:$E$20133,5,FALSE)","v":"RPS6KA6"}]
["ENSGALG00000045817",3.09323564910474,-2.78049703459729,1.08443101925481,-2.5640146631991,0.0103469173238541,0.0302102185574897,{"$f":"VLOOKUP(A1773,'[1]SD vs SY0.15'!$A$2:$E$20133,5,FALSE)","v":"NA"}]
["ENSGALG00000053815",4.01206752797542,-2.78864188420889,1.00824999487206,-2.76582385161602,0.00567791956393959,0.018258181516223,{"$f":"VLOOKUP(A1774,'[1]SD vs SY0.15'!$A$2:$E$20133,5,FALSE)","v":"NA"}]
["ENSGALG00000053627",558.386469671537,-2.79026059982361,0.151687200821799,-18.3948321592511,{"v":1.44507605221986e-75,"d":"1.45E-75"},{"v":5.02510746398933E-72,"d":"5.03E-72"},{"$f":"VLOOKUP(A1775,'[1]SD vs SY0.15'!$A$2:$E$20133,5,FALSE)","v":"NA"}]
["ENSGALG00000032097",2.94819132247931,-2.80700788152668,0.97782695328966,-2.87065914074385,0.00409616954021534,0.013823120477288,{"$f":"VLOOKUP(A1776,'[1]SD vs SY0.15'!$A$2:$E$20133,5,FALSE)","v":"TBX20"}]
["ENSGALG00000011177",48.7266283764101,-2.8318342282972,0.332256791706085,-8.52302887100123,{"v":1.55434021242982e-17,"d":"1.55E-17"},{"v":7.83342413725141E-16,"d":"7.83E-16"},{"$f":"VLOOKUP(A1777,'[1]SD vs SY0.15'!$A$2:$E$20133,5,FALSE)","v":"NA"}]
["ENSGALG00000015008",111.216363567064,-2.83212044328589,0.432027277781903,-6.55542043045626,{"v":5.54853285744641e-11,"d":"5.55E-11"},{"v":1.04747384139436E-9,"d":"1.05E-09"},{"$f":"VLOOKUP(A1778,'[1]SD vs SY0.15'!$A$2:$E$20133,5,FALSE)","v":"ZNF366"}]
["ENSGALG00000035064",3.62459569473925,-2.85667008654087,0.987461189655985,-2.8929441647586,0.00381649136336416,0.013000965110047,{"$f":"VLOOKUP(A1779,'[1]SD vs SY0.15'!$A$2:$E$20133,5,FALSE)","v":"NA"}]
["ENSGALG00000053205",11.9363371244419,-2.87206271342841,0.602992831871801,-4.76301302705872,{"v":1.90723523445243E-6,"d":"1.91E-06"},{"v":1.51075621965487E-5,"d":"1.51E-05"},{"$f":"VLOOKUP(A1780,'[1]SD vs SY0.15'!$A$2:$E$20133,5,FALSE)","v":"NA"}]
["ENSGALG00000010180",6.48196731008856,-2.88314189976552,0.783225876620066,-3.68111165096771,2.32219281791915E-4,1.13320141805109E-3,{"$f":"VLOOKUP(A1781,'[1]SD vs SY0.15'!$A$2:$E$20133,5,FALSE)","v":"GLIS3"}]
["ENSGALG00000017235",248.186871418193,-2.88564172192912,0.265046626136958,-10.8872984500396,{"v":1.3251293161691E-27,"d":"1.33E-27"},{"v":1.92000195168601e-25,"d":"1.92E-25"},{"$f":"VLOOKUP(A1782,'[1]SD vs SY0.15'!$A$2:$E$20133,5,FALSE)","v":"NOX4,NOX4"}]
["ENSGALG00000031693",42.1318486605282,-2.91741630349942,0.347677617023631,-8.39115364536433,{"v":4.8139470574709e-17,"d":"4.81E-17"},{"v":2.25606731774249E-15,"d":"2.26E-15"},{"$f":"VLOOKUP(A1783,'[1]SD vs SY0.15'!$A$2:$E$20133,5,FALSE)","v":"KCNB2"}]
["ENSGALG00000014751",13.2624453437193,-2.94352616740644,0.541439641890804,-5.43648070748407,{"v":5.43432202318156e-08,"d":"5.43E-08"},{"v":5.9276384577828e-07,"d":"5.93E-07"},{"$f":"VLOOKUP(A1784,'[1]SD vs SY0.15'!$A$2:$E$20133,5,FALSE)","v":"ADAMTS6"}]
["ENSGALG00000046567",2.71340261316422,-2.95352605208426,1.21759278334979,-2.42570922928653,0.0152785059851908,0.0420232994601826,{"$f":"VLOOKUP(A1785,'[1]SD vs SY0.15'!$A$2:$E$20133,5,FALSE)","v":"LOC107053306"}]
["ENSGALG00000031360",3.60092526638955,-2.96512842841448,1.10580714856986,-2.6814155002066,0.00733114267285735,0.0226687849285027,{"$f":"VLOOKUP(A1786,'[1]SD vs SY0.15'!$A$2:$E$20133,5,FALSE)","v":"FDX1L"}]
["ENSGALG00000049923",8.60372314126232,-2.98440205760262,1.03478981865344,-2.88406592701714,0.00392576557529575,0.0133437290446642,{"$f":"VLOOKUP(A1787,'[1]SD vs SY0.15'!$A$2:$E$20133,5,FALSE)","v":"NA"}]
["ENSGALG00000011040",14.603574776323,-3.02829000784634,0.605362468834193,-5.00244095686709,{"v":5.66089226226536e-07,"d":"5.66E-07"},{"v":4.99370541674316e-06,"d":"4.99E-06"},{"$f":"VLOOKUP(A1788,'[1]SD vs SY0.15'!$A$2:$E$20133,5,FALSE)","v":"SCN3A"}]
["ENSGALG00000001490",2.96518317601384,-3.03261019935503,1.07087454060736,-2.83190054890561,0.00462722380218682,0.0153508322733403,{"$f":"VLOOKUP(A1789,'[1]SD vs SY0.15'!$A$2:$E$20133,5,FALSE)","v":"KCNJ13"}]
["ENSGALG00000047368",3.28031100096977,-3.03841585716959,1.19814471214857,-2.53593395385518,0.0112147882899947,0.0323101116815474,{"$f":"VLOOKUP(A1790,'[1]SD vs SY0.15'!$A$2:$E$20133,5,FALSE)","v":"NA"}]
["ENSGALG00000049787",4.76204899554842,-3.03862495045263,0.807166051088482,-3.76455990233358,0.000166842670002855,0.000842548214737044,{"$f":"VLOOKUP(A1791,'[1]SD vs SY0.15'!$A$2:$E$20133,5,FALSE)","v":"NA"}]
["ENSGALG00000053202",3.51433278934065,-3.05148460533718,1.04999882724311,-2.90617906055114,0.00365872011680845,0.0125521244417815,{"$f":"VLOOKUP(A1792,'[1]SD vs SY0.15'!$A$2:$E$20133,5,FALSE)","v":"NA"}]
["ENSGALG00000047011",7.96271970644408,-3.05926900414341,0.680839409810944,-4.49337826227319,{"v":7.0102103162766e-06,"d":"7.01E-06"},{"v":4.86184789665342e-05,"d":"4.86E-05"},{"$f":"VLOOKUP(A1793,'[1]SD vs SY0.15'!$A$2:$E$20133,5,FALSE)","v":"NA"}]
["ENSGALG00000053079",3.15878471368115,-3.080470727599,1.11227645824135,-2.76951894897569,0.00561391386480823,0.0180724162872469,{"$f":"VLOOKUP(A1794,'[1]SD vs SY0.15'!$A$2:$E$20133,5,FALSE)","v":"NA"}]
["ENSGALG00000051827",5.1360142849448,-3.08712252353234,0.822810838810809,-3.7519225293557,1.75483695542417E-4,0.000882340952688258,{"$f":"VLOOKUP(A1795,'[1]SD vs SY0.15'!$A$2:$E$20133,5,FALSE)","v":"NA"}]
["ENSGALG00000048969",2.59096774915998,-3.09332289412728,1.26081116428425,-2.45343869229087,0.0141497657057235,0.0394076527831834,{"$f":"VLOOKUP(A1796,'[1]SD vs SY0.15'!$A$2:$E$20133,5,FALSE)","v":"NA"}]
["ENSGALG00000051908",4.40490234616786,-3.10107113674401,1.0187789720245,-3.04390964271829,0.00233525268290159,0.00853124513025694,{"$f":"VLOOKUP(A1797,'[1]SD vs SY0.15'!$A$2:$E$20133,5,FALSE)","v":"NA"}]
["ENSGALG00000003886",60.6348610517281,-3.11069699762286,0.293568255577214,-10.5961626930902,{"v":3.10458772721531e-26,"d":"3.10E-26"},{"v":3.91155556616613E-24,"d":"3.91E-24"},{"$f":"VLOOKUP(A1798,'[1]SD vs SY0.15'!$A$2:$E$20133,5,FALSE)","v":"SGCD"}]
["ENSGALG00000004087",133.153408144001,-3.13075147399821,0.290018755398793,-10.7949965845941,{"v":3.63476038866252e-27,"d":"3.63E-27"},{"v":5.096578941748e-25,"d":"5.10E-25"},{"$f":"VLOOKUP(A1799,'[1]SD vs SY0.15'!$A$2:$E$20133,5,FALSE)","v":"THSD4"}]
["ENSGALG00000048697",2.08094982323532,-3.14582455330199,1.30835579028211,-2.40441061725549,0.0161985669687815,0.0440758190745233,{"$f":"VLOOKUP(A1800,'[1]SD vs SY0.15'!$A$2:$E$20133,5,FALSE)","v":"NA"}]
["ENSGALG00000005359",10.0645818714204,-3.14895612636622,0.576767782010311,-5.45966023863296,{"v":4.77046615621876e-08,"d":"4.77E-08"},{"v":5.26295019404667E-7,"d":"5.26E-07"},{"$f":"VLOOKUP(A1801,'[1]SD vs SY0.15'!$A$2:$E$20133,5,FALSE)","v":"NA"}]
["ENSGALG00000037393",3.39351642973793,-3.16468689104401,1.1641095374468,-2.71854734390804,0.00655692713790908,0.0206681095262555,{"$f":"VLOOKUP(A1802,'[1]SD vs SY0.15'!$A$2:$E$20133,5,FALSE)","v":"NA"}]
["ENSGALG00000016154",1.66788937943754,-3.24322947930893,1.3631888356443,-2.37914909109129,0.0173526559313298,0.0466466649162076,{"$f":"VLOOKUP(A1803,'[1]SD vs SY0.15'!$A$2:$E$20133,5,FALSE)","v":"ARC"}]
["ENSGALG00000009017",10.7170347939854,-3.24835618362389,0.718153280836891,-4.5232073295529,{"v":6.0909522681856E-6,"d":"6.09E-06"},{"v":4.29106106511114e-05,"d":"4.29E-05"},{"$f":"VLOOKUP(A1804,'[1]SD vs SY0.15'!$A$2:$E$20133,5,FALSE)","v":"STEAP2"}]
["ENSGALG00000047535",52.22912109704,-3.26061413836127,1.35429736239825,-2.40760576583214,0.0160575102819116,0.0437604907949212,{"$f":"VLOOKUP(A1805,'[1]SD vs SY0.15'!$A$2:$E$20133,5,FALSE)","v":"LOC107048987"}]
["ENSGALG00000053729",6.75742868615531,-3.26204790186549,0.690403188528233,-4.72484478065543,{"v":2.30291188060029E-6,"d":"2.30E-06"},{"v":1.78753253874988E-5,"d":"1.79E-05"},{"$f":"VLOOKUP(A1806,'[1]SD vs SY0.15'!$A$2:$E$20133,5,FALSE)","v":"NA"}]
["ENSGALG00000025598",2.34395570673959,-3.26400129760814,1.23737270708561,-2.63784814301898,0.00834339347972079,0.0252333592680302,{"$f":"VLOOKUP(A1807,'[1]SD vs SY0.15'!$A$2:$E$20133,5,FALSE)","v":"NA"}]
["ENSGALG00000049018",2.67971892174637,-3.27222293705867,1.33297980800197,-2.45481808307619,0.0140955899663768,0.0392882370544074,{"$f":"VLOOKUP(A1808,'[1]SD vs SY0.15'!$A$2:$E$20133,5,FALSE)","v":"NA"}]
["ENSGALG00000049497",1.98503193532295,-3.27544495146634,1.25824036691329,-2.60319493603725,0.00923594225159746,0.0274692658105585,{"$f":"VLOOKUP(A1809,'[1]SD vs SY0.15'!$A$2:$E$20133,5,FALSE)","v":"NA"}]
["ENSGALG00000027166",75.9990202422314,-3.3156479414775,1.06472150509458,-3.11409878133623,1.845077063589E-3,0.00698309858611708,{"$f":"VLOOKUP(A1810,'[1]SD vs SY0.15'!$A$2:$E$20133,5,FALSE)","v":"ART7B"}]
["ENSGALG00000012755",13.698050424092,-3.31636377190464,0.537238578575841,-6.17298143535401,{"v":6.70140834471822e-10,"d":"6.70E-10"},{"v":1.03940577064778e-08,"d":"1.04E-08"},{"$f":"VLOOKUP(A1811,'[1]SD vs SY0.15'!$A$2:$E$20133,5,FALSE)","v":"IGF-I,IGF-I"}]
["ENSGALG00000014726",10.4356504175328,-3.32282928857454,0.635327827279958,-5.23010191887964,{"v":1.69416612759057e-07,"d":"1.69E-07"},{"v":1.66326744553457e-06,"d":"1.66E-06"},{"$f":"VLOOKUP(A1812,'[1]SD vs SY0.15'!$A$2:$E$20133,5,FALSE)","v":"RAB3C"}]
["ENSGALG00000055096",2.68533259532153,-3.32600355847112,1.11825322484606,-2.97428479039619,0.00293672375530573,0.0103883589216912,{"$f":"VLOOKUP(A1813,'[1]SD vs SY0.15'!$A$2:$E$20133,5,FALSE)","v":"NA"}]
["ENSGALG00000051776",2.00760153487977,-3.35594693805128,1.31517535108337,-2.55171064093228,0.0107195504789461,0.0311333074565017,{"$f":"VLOOKUP(A1814,'[1]SD vs SY0.15'!$A$2:$E$20133,5,FALSE)","v":"NA"}]
["ENSGALG00000041014",5.57810426802579,-3.416430386357,0.737110572115929,-4.63489538150279,{"v":3.57118043754893e-06,"d":"3.57E-06"},{"v":2.65577905336455E-5,"d":"2.66E-05"},{"$f":"VLOOKUP(A1815,'[1]SD vs SY0.15'!$A$2:$E$20133,5,FALSE)","v":"NA"}]
["ENSGALG00000025330",2.10997603604419,-3.44603809046475,1.26226466267702,-2.73004401720031,0.00633258696496239,0.0200890831724879,{"$f":"VLOOKUP(A1816,'[1]SD vs SY0.15'!$A$2:$E$20133,5,FALSE)","v":"gga-mir-1783"}]
["ENSGALG00000053534",3.25985013442361,-3.50461110554054,1.23863133504626,-2.82942228763303,0.0046632123547312,0.0154495566333292,{"$f":"VLOOKUP(A1817,'[1]SD vs SY0.15'!$A$2:$E$20133,5,FALSE)","v":"NA"}]
["ENSGALG00000027760",8.49157683319226,-3.5077540622214,0.731999708627938,-4.79201565366241,{"v":1.65114016819574E-6,"d":"1.65E-06"},{"v":1.32479806665526e-05,"d":"1.32E-05"},{"$f":"VLOOKUP(A1818,'[1]SD vs SY0.15'!$A$2:$E$20133,5,FALSE)","v":"gga-mir-6572"}]
["ENSGALG00000054661",5.99630027748857,-3.51660372940851,1.49013755548674,-2.35991886551697,0.0182789323344255,0.048722335811537,{"$f":"VLOOKUP(A1819,'[1]SD vs SY0.15'!$A$2:$E$20133,5,FALSE)","v":"NA"}]
["ENSGALG00000050006",1.61462061032907,-3.52840597487032,1.29839441731407,-2.7175147457653,0.00657742244473506,0.0207251982686858,{"$f":"VLOOKUP(A1820,'[1]SD vs SY0.15'!$A$2:$E$20133,5,FALSE)","v":"NA"}]
["ENSGALG00000016959",39.7691977814988,-3.54016830620712,0.478063377418527,-7.40522799575972,{"v":1.30925334153247E-13,"d":"1.31E-13"},{"v":3.85830302529237e-12,"d":"3.86E-12"},{"$f":"VLOOKUP(A1821,'[1]SD vs SY0.15'!$A$2:$E$20133,5,FALSE)","v":"DGKH"}]
["ENSGALG00000047489",2.06168395502865,-3.5478715266018,1.29188753822179,-2.74626964161698,0.00602771998965649,0.0192371452753593,{"$f":"VLOOKUP(A1822,'[1]SD vs SY0.15'!$A$2:$E$20133,5,FALSE)","v":"NA"}]
["ENSGALG00000052333",43.6176688786008,-3.55765751561734,0.383076480880829,-9.28706849200717,{"v":1.58596175377108e-20,"d":"1.59E-20"},{"v":1.08137713775756e-18,"d":"1.08E-18"},{"$f":"VLOOKUP(A1823,'[1]SD vs SY0.15'!$A$2:$E$20133,5,FALSE)","v":"NA"}]
["ENSGALG00000054730",1.74080545868796,-3.57617692825142,1.34595550098761,-2.65698006035664,0.00788441062449775,0.0240671080632272,{"$f":"VLOOKUP(A1824,'[1]SD vs SY0.15'!$A$2:$E$20133,5,FALSE)","v":"NA"}]
["ENSGALG00000014875",2.31665700107991,-3.60017763603758,1.26162079393047,-2.85361310891328,0.0043225137370511,0.0144836281260566,{"$f":"VLOOKUP(A1825,'[1]SD vs SY0.15'!$A$2:$E$20133,5,FALSE)","v":"HCN1"}]
["ENSGALG00000031737",466.314673071123,-3.66062664158464,0.387130823218577,-9.45578709323753,{"v":3.20600752558627e-21,"d":"3.21E-21"},{"v":2.35334308967149E-19,"d":"2.35E-19"},{"$f":"VLOOKUP(A1826,'[1]SD vs SY0.15'!$A$2:$E$20133,5,FALSE)","v":"NA"}]
["ENSGALG00000049384",1.41009681379838,-3.67269663574315,1.54251274347503,-2.380983010532,0.0172665082692927,0.046450994782329,{"$f":"VLOOKUP(A1827,'[1]SD vs SY0.15'!$A$2:$E$20133,5,FALSE)","v":"NA"}]
["ENSGALG00000025208",2.19572143505129,-3.69520462237525,1.30937616246905,-2.82211080993512,0.00477086896113812,0.0157731695431277,{"$f":"VLOOKUP(A1828,'[1]SD vs SY0.15'!$A$2:$E$20133,5,FALSE)","v":"gga-mir-1800"}]
["ENSGALG00000029264",9.49911933515986,-3.69696145960835,0.73831403208229,-5.00730217625919,{"v":5.51982348000445E-7,"d":"5.52E-07"},{"v":4.87916476089666e-06,"d":"4.88E-06"},{"$f":"VLOOKUP(A1829,'[1]SD vs SY0.15'!$A$2:$E$20133,5,FALSE)","v":"PI15"}]
["ENSGALG00000025667",4.34403475899972,-3.78853991765801,0.990313523922867,-3.82559646630968,1.30455836307668E-4,6.75472193532286E-4,{"$f":"VLOOKUP(A1830,'[1]SD vs SY0.15'!$A$2:$E$20133,5,FALSE)","v":"SNORA66"}]
["ENSGALG00000007278",8.44768741504521,-3.83004797905802,0.703878753344612,-5.44134619898502,{"v":5.2879435505178e-08,"d":"5.29E-08"},{"v":5.78612174404361E-7,"d":"5.79E-07"},{"$f":"VLOOKUP(A1831,'[1]SD vs SY0.15'!$A$2:$E$20133,5,FALSE)","v":"GRIN2A"}]
["ENSGALG00000052549",1.24123422403023,-3.84998691506667,1.48716863052615,-2.58880320364515,9.63101178056169E-3,0.0284447769370861,{"$f":"VLOOKUP(A1832,'[1]SD vs SY0.15'!$A$2:$E$20133,5,FALSE)","v":"NA"}]
["ENSGALG00000046754",22.7811643973699,-3.88124807033449,0.730768538303473,-5.31118660273068,{"v":1.0891373892316E-7,"d":"1.09E-07"},{"v":1.11458692092818e-06,"d":"1.11E-06"},{"$f":"VLOOKUP(A1833,'[1]SD vs SY0.15'!$A$2:$E$20133,5,FALSE)","v":"NA"}]
["ENSGALG00000033499",3.21422061696037,-3.92605134581361,1.52479511745695,-2.57480582201855,0.0100296376045187,0.0294155429368577,{"$f":"VLOOKUP(A1834,'[1]SD vs SY0.15'!$A$2:$E$20133,5,FALSE)","v":"NA"}]
["ENSGALG00000034325",2.57960768252351,-3.93642345007299,1.29657172027605,-3.03602445473275,0.00239719920768172,0.00871530231272338,{"$f":"VLOOKUP(A1835,'[1]SD vs SY0.15'!$A$2:$E$20133,5,FALSE)","v":"RBFOX1"}]
["ENSGALG00000027179",1.96777843155206,-3.98177614372711,1.51886633199227,-2.62154480605564,0.00875322554162089,0.0262672303231209,{"$f":"VLOOKUP(A1836,'[1]SD vs SY0.15'!$A$2:$E$20133,5,FALSE)","v":"gga-mir-6632"}]
["ENSGALG00000013684",2.88530783038453,-4.02754712565339,1.2217977499636,-3.29641065861627,0.000979287559183944,4.02798802347374E-3,{"$f":"VLOOKUP(A1837,'[1]SD vs SY0.15'!$A$2:$E$20133,5,FALSE)","v":"SGCZ"}]
["ENSGALG00000049933",2.50807837628753,-4.07148725690054,1.23654569723624,-3.29262983648772,0.000992550575648763,0.00407304150550036,{"$f":"VLOOKUP(A1838,'[1]SD vs SY0.15'!$A$2:$E$20133,5,FALSE)","v":"NA"}]
["ENSGALG00000051127",1.79776981770231,-4.10257130046234,1.5072847971794,-2.72182888604697,0.00649217487920328,0.0205123468334922,{"$f":"VLOOKUP(A1839,'[1]SD vs SY0.15'!$A$2:$E$20133,5,FALSE)","v":"NA"}]
["ENSGALG00000007184",1.27415782280595,-4.11934211266264,1.50396179565356,-2.73899385248183,0.00616275257758573,0.0196033258445816,{"$f":"VLOOKUP(A1840,'[1]SD vs SY0.15'!$A$2:$E$20133,5,FALSE)","v":"FEZF2"}]
["ENSGALG00000048944",1.32392486254301,-4.14852906911967,1.47072772951562,-2.82073220342829,0.00479141828482293,0.0158200512188029,{"$f":"VLOOKUP(A1841,'[1]SD vs SY0.15'!$A$2:$E$20133,5,FALSE)","v":"NA"}]
["ENSGALG00000043245",1.37175755403076,-4.26668677055109,1.55730201059139,-2.73979404221715,0.00614776954964031,0.0195699870303178,{"$f":"VLOOKUP(A1842,'[1]SD vs SY0.15'!$A$2:$E$20133,5,FALSE)","v":"LOC101747588"}]
["ENSGALG00000047945",1.32733842915541,-4.32324552140788,1.83445472828746,-2.35669240278489,0.0184385130073413,0.0490799794333501,{"$f":"VLOOKUP(A1843,'[1]SD vs SY0.15'!$A$2:$E$20133,5,FALSE)","v":"NA"}]
["ENSGALG00000053382",1.38626829596375,-4.35641133136595,1.43807529267522,-3.02933466248615,0.00245093016804112,0.00887243864912158,{"$f":"VLOOKUP(A1844,'[1]SD vs SY0.15'!$A$2:$E$20133,5,FALSE)","v":"NA"}]
["ENSGALG00000050486",1.52342237526097,-4.36081831400403,1.64523595298345,-2.65057319352654,0.00803553141067944,0.0244639790995418,{"$f":"VLOOKUP(A1845,'[1]SD vs SY0.15'!$A$2:$E$20133,5,FALSE)","v":"NA"}]
["ENSGALG00000052903",2.28584956857896,-4.36325349518642,1.46011670521194,-2.98829092195962,2.80542373152512E-3,9.98793704749887E-3,{"$f":"VLOOKUP(A1846,'[1]SD vs SY0.15'!$A$2:$E$20133,5,FALSE)","v":"NA"}]
["ENSGALG00000025217",1.59346593349939,-4.39386906076343,1.62673650901058,-2.70103304156854,0.00691244709090433,0.0215620232453451,{"$f":"VLOOKUP(A1847,'[1]SD vs SY0.15'!$A$2:$E$20133,5,FALSE)","v":"gga-mir-1697"}]
["ENSGALG00000053273",5.71591427254599,-4.42681105303726,1.79172767969405,-2.47069412567939,0.0134851105828471,0.0378842491038878,{"$f":"VLOOKUP(A1848,'[1]SD vs SY0.15'!$A$2:$E$20133,5,FALSE)","v":"NA"}]
["ENSGALG00000050879",1.60491358956419,-4.43621522410692,1.46647562255466,-3.02508623796885,0.00248562243206984,0.00897254316195823,{"$f":"VLOOKUP(A1849,'[1]SD vs SY0.15'!$A$2:$E$20133,5,FALSE)","v":"NA"}]
["ENSGALG00000008671",5.68516602013411,-4.53673174614139,1.12587150023623,-4.02952889844846,{"v":5.58887452020274e-05,"d":"5.59E-05"},0.000317976967548315,{"$f":"VLOOKUP(A1850,'[1]SD vs SY0.15'!$A$2:$E$20133,5,FALSE)","v":"ST8SIA6"}]
["ENSGALG00000051395",1.586439846053,-4.5790200973651,1.52490226609774,-3.00282857411112,0.00267483054827921,0.00957136833565149,{"$f":"VLOOKUP(A1851,'[1]SD vs SY0.15'!$A$2:$E$20133,5,FALSE)","v":"NA"}]
["ENSGALG00000051660",240.051883958658,-4.58649675878448,1.33042883384513,-3.44738225909375,0.000566047070662659,0.00248783124813237,{"$f":"VLOOKUP(A1852,'[1]SD vs SY0.15'!$A$2:$E$20133,5,FALSE)","v":"ATP6V1B1"}]
["ENSGALG00000050670",1.96405434477723,-4.58873149984813,1.43676030611214,-3.19380447826068,0.0014041118078709,0.00550717166782119,{"$f":"VLOOKUP(A1853,'[1]SD vs SY0.15'!$A$2:$E$20133,5,FALSE)","v":"NA"}]
["ENSGALG00000051960",1.58981851007063,-4.6132783664391,1.61060928872536,-2.86430632105074,0.00417923643347184,0.0140631669960857,{"$f":"VLOOKUP(A1854,'[1]SD vs SY0.15'!$A$2:$E$20133,5,FALSE)","v":"NA"}]
["ENSGALG00000014967",7.95948862862758,-4.69168813520425,0.97048197432272,-4.8343897767689,{"v":1.33554678895481e-06,"d":"1.34E-06"},{"v":1.09533735941308E-5,"d":"1.10E-05"},{"$f":"VLOOKUP(A1855,'[1]SD vs SY0.15'!$A$2:$E$20133,5,FALSE)","v":"SV2C"}]
["ENSGALG00000025501",2.16359626508846,-5.02639478648412,1.45251697442536,-3.46047232148365,0.000539228664737908,2.38442746536063E-3,{"$f":"VLOOKUP(A1856,'[1]SD vs SY0.15'!$A$2:$E$20133,5,FALSE)","v":"gga-mir-1705"}]
["ENSGALG00000046912",8.85021647487687,-5.38995516766719,1.76655580623473,-3.05110948017853,2.27997423990742E-3,0.00835269955947541,{"$f":"VLOOKUP(A1857,'[1]SD vs SY0.15'!$A$2:$E$20133,5,FALSE)","v":"NA"}]
["ENSGALG00000051507",2.86139172438123,-5.53766567272706,1.28480218994695,-4.31013094160099,{"v":1.63157908418447e-05,"d":"1.63E-05"},1.0402737637226E-4,{"$f":"VLOOKUP(A1858,'[1]SD vs SY0.15'!$A$2:$E$20133,5,FALSE)","v":"NA"}]

{"sheet":"SD vs SY0.30","index":1,"n_rows":628,"n_cols":8,"rows_kept":628}
["gene_id","baseMean","log2FoldChange","lfcSE","stat","pvalue","padj","gene"]
["ENSGALG00000002907",9.90846335929565,7.49051893035748,2.91696984812655,2.56791098995018,0.0102313423902303,0.0449591847483828,{"$f":"VLOOKUP(A2,'[1]SD vs SY0.30'!$A$2:$E$20133,5,FALSE)","v":"MYL1"}]
["ENSGALG00000039869",41.7155513503434,5.25239069289408,1.91199773897859,2.74706951050055,0.00601303890715292,0.0299629499574548,{"$f":"VLOOKUP(A3,'[1]SD vs SY0.30'!$A$2:$E$20133,5,FALSE)","v":"PYURF"}]
["ENSGALG00000012869",11.7402924915782,4.96637259677868,1.04599644303888,4.74798229939494,{"v":2.05456012213054e-06,"d":"2.05E-06"},{"v":4.30065990096709E-5,"d":"4.30E-05"},{"$f":"VLOOKUP(A4,'[1]SD vs SY0.30'!$A$2:$E$20133,5,FALSE)","v":"OVA,OVA"}]
["ENSGALG00000013101",195.957935162709,4.78299422119295,0.582704149527762,8.20827211384922,{"v":2.24394209608623E-16,"d":"2.24E-16"},{"v":5.86773597033502e-14,"d":"5.87E-14"},{"$f":"VLOOKUP(A5,'[1]SD vs SY0.30'!$A$2:$E$20133,5,FALSE)","v":"NA"}]
["ENSGALG00000054060",3.74246157277754,4.28747161096846,1.64404657129297,2.60787722551957,0.00911056248350791,0.0413159633223543,{"$f":"VLOOKUP(A6,'[1]SD vs SY0.30'!$A$2:$E$20133,5,FALSE)","v":"NA"}]
["ENSGALG00000054033",6.96761841429047,4.26093842849906,1.50770377113136,2.82611114337248,0.00471169125471558,0.0248632773226951,{"$f":"VLOOKUP(A7,'[1]SD vs SY0.30'!$A$2:$E$20133,5,FALSE)","v":"NA"}]
["ENSGALG00000015134",17.1540275058738,4.21373399763394,0.852184335272923,4.94462738074673,{"v":7.62896446736941e-07,"d":"7.63E-07"},{"v":1.86039467793225e-05,"d":"1.86E-05"},{"$f":"VLOOKUP(A8,'[1]SD vs SY0.30'!$A$2:$E$20133,5,FALSE)","v":"APOV1"}]
["ENSGALG00000036484",2.03724581294451,4.15204396098975,1.33643443757527,3.10680707130154,1.89119779398644E-3,0.0120531696144464,{"$f":"VLOOKUP(A9,'[1]SD vs SY0.30'!$A$2:$E$20133,5,FALSE)","v":"NCAN"}]
["ENSGALG00000030255",2.67296211417896,4.09860781517197,1.27538774510113,3.21361705952958,0.00131074356804588,0.00903068845807693,{"$f":"VLOOKUP(A10,'[1]SD vs SY0.30'!$A$2:$E$20133,5,FALSE)","v":"AMBP"}]
["ENSGALG00000049544",8.99238844423753,3.71327328536293,1.16162255703807,3.19662635928068,0.00139044910247799,0.00943451632527678,{"$f":"VLOOKUP(A11,'[1]SD vs SY0.30'!$A$2:$E$20133,5,FALSE)","v":"NA"}]
["ENSGALG00000038257",3.9626722503928,3.65350004241501,1.44033474421355,2.53656315456716,0.0111946548789652,0.0481710250576639,{"$f":"VLOOKUP(A12,'[1]SD vs SY0.30'!$A$2:$E$20133,5,FALSE)","v":"NA"}]
["ENSGALG00000010469",142.580905294268,3.45494961588709,1.24384025444762,2.77764737355394,0.00547540037767259,0.0279282904400124,{"$f":"VLOOKUP(A13,'[1]SD vs SY0.30'!$A$2:$E$20133,5,FALSE)","v":"CYP4B7"}]
["ENSGALG00000003512",3.75009641949858,3.36249928426972,1.08360282229015,3.10307357557746,0.00191522019390227,0.0121784502939607,{"$f":"VLOOKUP(A14,'[1]SD vs SY0.30'!$A$2:$E$20133,5,FALSE)","v":"SPINK7"}]
["ENSGALG00000015730",176.734321202014,3.20561558822356,1.1341604898008,2.82642149594418,0.00470712804162807,0.0248546304204885,{"$f":"VLOOKUP(A15,'[1]SD vs SY0.30'!$A$2:$E$20133,5,FALSE)","v":"TMPRSS15"}]
["ENSGALG00000050749",665.500875975305,3.16658832497302,1.22669498665246,2.58139827701942,0.00984009859164467,0.0437260537940352,{"$f":"VLOOKUP(A16,'[1]SD vs SY0.30'!$A$2:$E$20133,5,FALSE)","v":"NA"}]
["ENSGALG00000006591",6.64734622991744,3.08762421677836,1.00089907299106,3.0848507108228,0.00203654348066272,0.0127967207174951,{"$f":"VLOOKUP(A17,'[1]SD vs SY0.30'!$A$2:$E$20133,5,FALSE)","v":"TNNI2"}]
["ENSGALG00000050888",13.4535720243137,2.91067875589464,0.876870817228931,3.31939288969943,0.000902134055075324,6.61214857012302E-3,{"$f":"VLOOKUP(A18,'[1]SD vs SY0.30'!$A$2:$E$20133,5,FALSE)","v":"NA"}]
["ENSGALG00000040185",175.987933268106,2.57898245527241,0.819746665845253,3.14607251572434,1.65478971300402E-3,0.010826197364099,{"$f":"VLOOKUP(A19,'[1]SD vs SY0.30'!$A$2:$E$20133,5,FALSE)","v":"NA"}]
["ENSGALG00000051370",12.1384335673858,2.56633716670936,0.914500141433085,2.80627312171623,0.00501181920711981,0.026066674132012,{"$f":"VLOOKUP(A20,'[1]SD vs SY0.30'!$A$2:$E$20133,5,FALSE)","v":"NA"}]
["ENSGALG00000054895",39.5883858808702,2.42501054187866,0.684540525503535,3.54253758766857,0.000396296940946034,0.00336624642941516,{"$f":"VLOOKUP(A21,'[1]SD vs SY0.30'!$A$2:$E$20133,5,FALSE)","v":"NA"}]
["ENSGALG00000050575",215.405562873548,2.38083483963373,0.700007095895991,3.40115815052749,0.00067100995355123,0.00517710221539276,{"$f":"VLOOKUP(A22,'[1]SD vs SY0.30'!$A$2:$E$20133,5,FALSE)","v":"NA"}]
["ENSGALG00000029130",6.2201024611975,2.28579292928158,0.766849252132511,2.98075915562945,2.87534831970317E-3,0.0166926322532251,{"$f":"VLOOKUP(A23,'[1]SD vs SY0.30'!$A$2:$E$20133,5,FALSE)","v":"NA"}]
["ENSGALG00000032545",6.64098633957181,2.207011598341,0.854427541603011,2.58302956175824,9.79369308732711E-3,0.0435540035074042,{"$f":"VLOOKUP(A24,'[1]SD vs SY0.30'!$A$2:$E$20133,5,FALSE)","v":"NKX6-1"}]
["ENSGALG00000050752",145.288807303424,2.20655626634726,0.450020624998114,4.90323363813938,{"v":9.42717453622616E-7,"d":"9.43E-07"},{"v":2.22546785544772e-05,"d":"2.23E-05"},{"$f":"VLOOKUP(A25,'[1]SD vs SY0.30'!$A$2:$E$20133,5,FALSE)","v":"NA"}]
["ENSGALG00000040113",44.2542023172926,2.18251925724112,0.714291674016829,3.05550146618355,0.00224684504294722,0.0138117993471877,{"$f":"VLOOKUP(A26,'[1]SD vs SY0.30'!$A$2:$E$20133,5,FALSE)","v":"SFT2D3"}]
["ENSGALG00000003403",5.66478833799865,2.0995878123716,0.71244770125149,2.94700622752162,0.00320866741416417,0.0182339418383645,{"$f":"VLOOKUP(A27,'[1]SD vs SY0.30'!$A$2:$E$20133,5,FALSE)","v":"ZNF385C"}]
["ENSGALG00000034713",13.5060660517207,2.05218163947812,0.759248249380879,2.70291257326119,0.00687348227923716,0.033227695762285,{"$f":"VLOOKUP(A28,'[1]SD vs SY0.30'!$A$2:$E$20133,5,FALSE)","v":"NA"}]
["ENSGALG00000010822",25.6070194012193,2.04432754299574,0.573970337956332,3.56173029824979,0.000368418741441432,0.0031706396700152,{"$f":"VLOOKUP(A29,'[1]SD vs SY0.30'!$A$2:$E$20133,5,FALSE)","v":"SPATA4"}]
["ENSGALG00000029618",16.5893189265941,2.02923768316254,0.53862984847462,3.76740666880841,1.64952178019136E-4,0.00165117324487117,{"$f":"VLOOKUP(A30,'[1]SD vs SY0.30'!$A$2:$E$20133,5,FALSE)","v":"NA"}]
["ENSGALG00000048084",6.89583894113576,2.00165602656453,0.741778455373765,2.69845532997577,0.00696620863183112,0.0336260843705168,{"$f":"VLOOKUP(A31,'[1]SD vs SY0.30'!$A$2:$E$20133,5,FALSE)","v":"NA"}]
["ENSGALG00000013239",26.5176308712929,1.98196286790939,0.627887186961854,3.15655886768366,0.00159642659502416,0.0105376554701459,{"$f":"VLOOKUP(A32,'[1]SD vs SY0.30'!$A$2:$E$20133,5,FALSE)","v":"NA"}]
["ENSGALG00000053882",5.49380137348651,1.94613854055383,0.709273856963614,2.74384643032694,0.00607239379656819,0.030187913822834,{"$f":"VLOOKUP(A33,'[1]SD vs SY0.30'!$A$2:$E$20133,5,FALSE)","v":"NA"}]
["ENSGALG00000040180",978.496930687291,1.93882407101879,0.454018697614047,4.27036173005138,{"v":1.95156181915966e-05,"d":"1.95E-05"},0.000285216648669447,{"$f":"VLOOKUP(A34,'[1]SD vs SY0.30'!$A$2:$E$20133,5,FALSE)","v":"CEBPD"}]
["ENSGALG00000039032",68.9488252915175,1.91238865715478,0.606039250934511,3.15555247321998,1.60194448045531E-3,0.0105658712977489,{"$f":"VLOOKUP(A35,'[1]SD vs SY0.30'!$A$2:$E$20133,5,FALSE)","v":"FJX1"}]
["ENSGALG00000040971",46.4672079192329,1.90998987672404,0.596024049893752,3.20455169059791,0.00135272998011306,0.00922646527768123,{"$f":"VLOOKUP(A36,'[1]SD vs SY0.30'!$A$2:$E$20133,5,FALSE)","v":"EGR2"}]
["ENSGALG00000054914",102.838336190435,1.90528029463997,0.447253546223156,4.2599557023732,{"v":2.04467422820647e-05,"d":"2.04E-05"},2.96783329264093E-4,{"$f":"VLOOKUP(A37,'[1]SD vs SY0.30'!$A$2:$E$20133,5,FALSE)","v":"NA"}]
["ENSGALG00000001035",66.2426033247678,1.90527483992618,0.550083389859967,3.46361092708362,0.000532976792630022,0.00429540376687173,{"$f":"VLOOKUP(A38,'[1]SD vs SY0.30'!$A$2:$E$20133,5,FALSE)","v":"NR1D1"}]
["ENSGALG00000004495",10.0097066399689,1.90325787411893,0.6050352404887,3.14569755074371,1.65691253220051E-3,0.0108318552590349,{"$f":"VLOOKUP(A39,'[1]SD vs SY0.30'!$A$2:$E$20133,5,FALSE)","v":"DNAI2"}]
["ENSGALG00000050667",21.5676350944715,1.86825432208817,0.454152850923667,4.1137126372508,{"v":3.89346064103462e-05,"d":"3.89E-05"},0.000508273045435218,{"$f":"VLOOKUP(A40,'[1]SD vs SY0.30'!$A$2:$E$20133,5,FALSE)","v":"NA"}]
["ENSGALG00000047182",453.562199938406,1.83918251144838,0.501409679573986,3.66802354715411,0.000244432677413285,0.00227028536502383,{"$f":"VLOOKUP(A41,'[1]SD vs SY0.30'!$A$2:$E$20133,5,FALSE)","v":"ACHE"}]
["ENSGALG00000053846",304.607997853229,1.83718218927917,0.237488574054758,7.73587612200477,{"v":1.02693419327252e-14,"d":"1.03E-14"},{"v":2.00629890609806e-12,"d":"2.01E-12"},{"$f":"VLOOKUP(A42,'[1]SD vs SY0.30'!$A$2:$E$20133,5,FALSE)","v":"NA"}]
["ENSGALG00000051119",14.3493229400755,1.81562958902582,0.48127225397393,3.77256235744719,0.000161579565606911,0.00162788274480035,{"$f":"VLOOKUP(A43,'[1]SD vs SY0.30'!$A$2:$E$20133,5,FALSE)","v":"PCP4L1"}]
["ENSGALG00000030153",83.5758550611047,1.78443237270786,0.358476417014751,4.97782361129333,{"v":6.43032144907816e-07,"d":"6.43E-07"},{"v":1.59789727587692e-05,"d":"1.60E-05"},{"$f":"VLOOKUP(A44,'[1]SD vs SY0.30'!$A$2:$E$20133,5,FALSE)","v":"NUDT8"}]
["ENSGALG00000037257",450.995722246351,1.78418180199716,0.334435547494818,5.33490478318489,{"v":9.55947073050305E-8,"d":"9.56E-08"},{"v":3.11268819935556e-06,"d":"3.11E-06"},{"$f":"VLOOKUP(A45,'[1]SD vs SY0.30'!$A$2:$E$20133,5,FALSE)","v":"HLX"}]
["ENSGALG00000004936",11.7849848676872,1.77178533949331,0.535601789439255,3.30802729645147,0.000939556513245418,6.85213459169159E-3,{"$f":"VLOOKUP(A46,'[1]SD vs SY0.30'!$A$2:$E$20133,5,FALSE)","v":"GLRA4"}]
["ENSGALG00000048331",321.608772299465,1.75071716939616,0.5183699885491,3.37735055668704,0.000731877104653286,0.0055534442624071,{"$f":"VLOOKUP(A47,'[1]SD vs SY0.30'!$A$2:$E$20133,5,FALSE)","v":"LRFN1"}]
["ENSGALG00000053404",272.395392907077,1.74951737273478,0.240390766202716,7.27780605041813,{"v":3.39292640208869E-13,"d":"3.39E-13"},{"v":4.68116971108827e-11,"d":"4.68E-11"},{"$f":"VLOOKUP(A48,'[1]SD vs SY0.30'!$A$2:$E$20133,5,FALSE)","v":"NA"}]
["ENSGALG00000026107",42.6276146434664,1.74447672297841,0.471001260485792,3.70376232364888,0.000212425297182379,0.00201934719027343,{"$f":"VLOOKUP(A49,'[1]SD vs SY0.30'!$A$2:$E$20133,5,FALSE)","v":"NA"}]
["ENSGALG00000051279",8.58187252841256,1.71109778982148,0.571116368390392,2.99605804442964,0.00273494368751317,0.0160962042439963,{"$f":"VLOOKUP(A50,'[1]SD vs SY0.30'!$A$2:$E$20133,5,FALSE)","v":"PPP1R1A"}]
["ENSGALG00000042103",1743.01471677478,1.67851928353709,0.347613478769714,4.82869447260149,{"v":1.37431078027315E-6,"d":"1.37E-06"},{"v":3.04552285949188e-05,"d":"3.05E-05"},{"$f":"VLOOKUP(A51,'[1]SD vs SY0.30'!$A$2:$E$20133,5,FALSE)","v":"C5H11ORF96"}]
["ENSGALG00000055048",17.5511875081907,1.67029043943886,0.545711689123055,3.06075620649243,0.00220778780808307,0.0136160266233628,{"$f":"VLOOKUP(A52,'[1]SD vs SY0.30'!$A$2:$E$20133,5,FALSE)","v":"NA"}]
["ENSGALG00000053116",11.2920280937293,1.6509313389896,0.599108834308638,2.75564512563856,0.00585765121420862,0.0294389407711129,{"$f":"VLOOKUP(A53,'[1]SD vs SY0.30'!$A$2:$E$20133,5,FALSE)","v":"LRRC61"}]
["ENSGALG00000038593",155.083913967838,1.64218073930916,0.390636548985878,4.20385840386002,{"v":2.62403125068958e-05,"d":"2.62E-05"},0.00036498084425508,{"$f":"VLOOKUP(A54,'[1]SD vs SY0.30'!$A$2:$E$20133,5,FALSE)","v":"NA"}]
["ENSGALG00000052087",1828.28437151191,1.6071333866103,0.328831561167601,4.88740612641852,{"v":1.02173185943466E-6,"d":"1.02E-06"},{"v":2.38221898694252e-05,"d":"2.38E-05"},{"$f":"VLOOKUP(A55,'[1]SD vs SY0.30'!$A$2:$E$20133,5,FALSE)","v":"NA"}]
["ENSGALG00000003644",61.1689392612822,1.60424074242174,0.405097771723955,3.96013223078135,{"v":7.49082734475723e-05,"d":"7.49E-05"},0.000865327221590715,{"$f":"VLOOKUP(A56,'[1]SD vs SY0.30'!$A$2:$E$20133,5,FALSE)","v":"C2CD4A"}]
["ENSGALG00000032994",14.9160739655921,1.60385274549518,0.535502120830235,2.99504461907375,0.00274404698228946,0.0161274434847766,{"$f":"VLOOKUP(A57,'[1]SD vs SY0.30'!$A$2:$E$20133,5,FALSE)","v":"SOX17"}]
["ENSGALG00000052702",219.84494370421,1.60002388710776,0.456316312116358,3.50639204565573,4.54225649042427E-4,3.7679225752924E-3,{"$f":"VLOOKUP(A58,'[1]SD vs SY0.30'!$A$2:$E$20133,5,FALSE)","v":"NA"}]
["ENSGALG00000004665",7.30033187500877,1.5483578649542,0.585694157435133,2.64362866745121,0.0082022584638787,0.0383004909644358,{"$f":"VLOOKUP(A59,'[1]SD vs SY0.30'!$A$2:$E$20133,5,FALSE)","v":"KPNA7"}]
["ENSGALG00000026955",16.0680020961525,1.53126721604108,0.507765764397246,3.01569606186191,0.00256390120502914,0.0153499925261995,{"$f":"VLOOKUP(A60,'[1]SD vs SY0.30'!$A$2:$E$20133,5,FALSE)","v":"DIRAS1"}]
["ENSGALG00000032889",12.2371441327731,1.52108237779884,0.597400890962301,2.54616690535673,0.010891309953794,0.0472123425872573,{"$f":"VLOOKUP(A61,'[1]SD vs SY0.30'!$A$2:$E$20133,5,FALSE)","v":"RBFOX3"}]
["ENSGALG00000046487",40.339848785057,1.50940866490006,0.385556587096067,3.91488231667527,{"v":9.0448313127891e-05,"d":"9.04E-05"},0.00101141445936498,{"$f":"VLOOKUP(A62,'[1]SD vs SY0.30'!$A$2:$E$20133,5,FALSE)","v":"NA"}]
["ENSGALG00000037802",75.7657112008294,1.50345095835679,0.32924685545935,4.56633353797486,{"v":4.96328828983754E-6,"d":"4.96E-06"},{"v":8.9460245029023e-05,"d":"8.95E-05"},{"$f":"VLOOKUP(A63,'[1]SD vs SY0.30'!$A$2:$E$20133,5,FALSE)","v":"RAB2B"}]
["ENSGALG00000047833",248.344255202971,1.49713234905457,0.158575943216245,9.44110637899835,{"v":3.68863736630803e-21,"d":"3.69E-21"},{"v":2.72590301370163e-18,"d":"2.73E-18"},{"$f":"VLOOKUP(A64,'[1]SD vs SY0.30'!$A$2:$E$20133,5,FALSE)","v":"MED11"}]
["ENSGALG00000039474",435.059588521955,1.49369732050372,0.281313501083393,5.3097249678782,{"v":1.09790787300365e-07,"d":"1.10E-07"},{"v":3.44937894961979e-06,"d":"3.45E-06"},{"$f":"VLOOKUP(A65,'[1]SD vs SY0.30'!$A$2:$E$20133,5,FALSE)","v":"ID4"}]
["ENSGALG00000047569",143.006625519957,1.49104576285556,0.378890396807956,3.93529573569876,{"v":8.30943115976688e-05,"d":"8.31E-05"},0.000939689962891268,{"$f":"VLOOKUP(A66,'[1]SD vs SY0.30'!$A$2:$E$20133,5,FALSE)","v":"LOC107050990"}]
["ENSGALG00000004035",19.4960309039959,1.48947308507972,0.416693548153681,3.5745047929813,3.50891385332453E-4,3.04302391824659E-3,{"$f":"VLOOKUP(A67,'[1]SD vs SY0.30'!$A$2:$E$20133,5,FALSE)","v":"CRYBA1"}]
["ENSGALG00000035219",31.536591526006,1.4885722402172,0.582726779205643,2.55449430734311,0.0106342168604212,0.0464055928052834,{"$f":"VLOOKUP(A68,'[1]SD vs SY0.30'!$A$2:$E$20133,5,FALSE)","v":"ALB"}]
["ENSGALG00000027980",58.642431371031,1.48588084235902,0.466659012593918,3.18408260048331,0.00145213568724129,0.00976342969780071,{"$f":"VLOOKUP(A69,'[1]SD vs SY0.30'!$A$2:$E$20133,5,FALSE)","v":"NANOS1"}]
["ENSGALG00000021567",6.64556556112156,1.47965921565236,0.584928197430485,2.52964247945699,0.0114178805236264,0.048859444929526,{"$f":"VLOOKUP(A70,'[1]SD vs SY0.30'!$A$2:$E$20133,5,FALSE)","v":"EPHA8"}]
["ENSGALG00000030566",6.9131842990912,1.4732743449478,0.545991872662202,2.69834482657088,0.00696852169685061,0.0336260843705168,{"$f":"VLOOKUP(A71,'[1]SD vs SY0.30'!$A$2:$E$20133,5,FALSE)","v":"NA"}]
["ENSGALG00000051836",62.5113387588855,1.46389479057452,0.447288291512219,3.27282161941976,0.00106479654216975,0.00758178534339221,{"$f":"VLOOKUP(A72,'[1]SD vs SY0.30'!$A$2:$E$20133,5,FALSE)","v":"gga-mir-12229"}]
["ENSGALG00000048883",117.550267645075,1.46132845618578,0.507202959472634,2.88115128055483,0.00396225413805885,0.0216269857368613,{"$f":"VLOOKUP(A73,'[1]SD vs SY0.30'!$A$2:$E$20133,5,FALSE)","v":"NA"}]
["ENSGALG00000028145",825.334679954066,1.45890387595453,0.35401875033213,4.12097911363687,{"v":3.77265630549995E-5,"d":"3.77E-05"},0.000495547443775754,{"$f":"VLOOKUP(A74,'[1]SD vs SY0.30'!$A$2:$E$20133,5,FALSE)","v":"BORCS6"}]
["ENSGALG00000049461",160.297088978406,1.45243852499286,0.531797886923579,2.73118521285434,0.00631069953011537,0.0310817038288528,{"$f":"VLOOKUP(A75,'[1]SD vs SY0.30'!$A$2:$E$20133,5,FALSE)","v":"BG8"}]
["ENSGALG00000049976",196.325041132675,1.43982909537252,0.295893733010073,4.86603443988286,{"v":1.13859685226451E-6,"d":"1.14E-06"},{"v":2.6011734809059E-5,"d":"2.60E-05"},{"$f":"VLOOKUP(A76,'[1]SD vs SY0.30'!$A$2:$E$20133,5,FALSE)","v":"AMIGO1"}]
["ENSGALG00000038589",2659.5295070041,1.43636794730236,0.303147701525504,4.7381785844796,{"v":2.15647731400755e-06,"d":"2.16E-06"},{"v":4.47578842341172E-5,"d":"4.48E-05"},{"$f":"VLOOKUP(A77,'[1]SD vs SY0.30'!$A$2:$E$20133,5,FALSE)","v":"ABHD14B"}]
["ENSGALG00000050465",50.9357083559804,1.42399153009459,0.502467268779168,2.83399858771782,4.5969535154385E-3,0.0243713097011566,{"$f":"VLOOKUP(A78,'[1]SD vs SY0.30'!$A$2:$E$20133,5,FALSE)","v":"NA"}]
["ENSGALG00000051848",80.7959535965637,1.42285493741265,0.214433185871834,6.6354232047976,{"v":3.23572800161284e-11,"d":"3.24E-11"},{"v":2.97284696450884e-09,"d":"2.97E-09"},{"$f":"VLOOKUP(A79,'[1]SD vs SY0.30'!$A$2:$E$20133,5,FALSE)","v":"KIF5A"}]
["ENSGALG00000039354",13.5101719936769,1.42265921158142,0.48920015583621,2.90813319376321,3.63593440957987E-3,0.0202339078639974,{"$f":"VLOOKUP(A80,'[1]SD vs SY0.30'!$A$2:$E$20133,5,FALSE)","v":"VTG1"}]
["ENSGALG00000048022",77.4164535813977,1.42256556029602,0.485370679285026,2.9308848288725,0.00337998065861807,0.0190482530684786,{"$f":"VLOOKUP(A81,'[1]SD vs SY0.30'!$A$2:$E$20133,5,FALSE)","v":"NA"}]
["ENSGALG00000006073",630.880765623902,1.4170512770969,0.400037785807886,3.54229357168131,3.9666375080932E-4,3.36767920704596E-3,{"$f":"VLOOKUP(A82,'[1]SD vs SY0.30'!$A$2:$E$20133,5,FALSE)","v":"NDUFAB1"}]
["ENSGALG00000006755",36.1391903963179,1.41295512682427,0.429757294179363,3.28779789420994,1.00974299170504E-3,0.00726228024388231,{"$f":"VLOOKUP(A83,'[1]SD vs SY0.30'!$A$2:$E$20133,5,FALSE)","v":"USP2"}]
["ENSGALG00000034983",2405.22419097839,1.40200472005453,0.308408231933814,4.54593806158653,{"v":5.46911191942643e-06,"d":"5.47E-06"},{"v":9.71353137873469e-05,"d":"9.71E-05"},{"$f":"VLOOKUP(A84,'[1]SD vs SY0.30'!$A$2:$E$20133,5,FALSE)","v":"CDX2"}]
["ENSGALG00000016774",797.397027011906,1.38597107547486,0.258470374441809,5.36220477286029,{"v":8.22122653683451e-08,"d":"8.22E-08"},{"v":2.75071235131055E-6,"d":"2.75E-06"},{"$f":"VLOOKUP(A85,'[1]SD vs SY0.30'!$A$2:$E$20133,5,FALSE)","v":"NPAS2"}]
["ENSGALG00000054083",28.4944236857314,1.38543348891198,0.413681897078664,3.3490309793482,0.000810947277465667,0.00606675654713202,{"$f":"VLOOKUP(A86,'[1]SD vs SY0.30'!$A$2:$E$20133,5,FALSE)","v":"H2A-VIII"}]
["ENSGALG00000039356",23.1700695722112,1.38396800121963,0.369358468048427,3.74695078342749,0.000178997188991098,1.76781825757217E-3,{"$f":"VLOOKUP(A87,'[1]SD vs SY0.30'!$A$2:$E$20133,5,FALSE)","v":"HEPACAM"}]
["ENSGALG00000053468",56.765917700226,1.37903052561015,0.324582261653913,4.24863182166295,{"v":2.15080070870422e-05,"d":"2.15E-05"},3.09020791596328E-4,{"$f":"VLOOKUP(A88,'[1]SD vs SY0.30'!$A$2:$E$20133,5,FALSE)","v":"ANKRD66"}]
["ENSGALG00000049199",22553.2051264729,1.37832663822674,0.317293749071923,4.34400816990035,{"v":1.39906308531027e-05,"d":"1.40E-05"},2.15832585835608E-4,{"$f":"VLOOKUP(A89,'[1]SD vs SY0.30'!$A$2:$E$20133,5,FALSE)","v":"NA"}]
["ENSGALG00000043641",2028.62579892156,1.37700329451243,0.234257626263194,5.8781578063347,{"v":4.14857339689292e-09,"d":"4.15E-09"},{"v":2.01466577219968e-07,"d":"2.01E-07"},{"$f":"VLOOKUP(A90,'[1]SD vs SY0.30'!$A$2:$E$20133,5,FALSE)","v":"JUND"}]
["ENSGALG00000027899",223.808730713963,1.37378544890501,0.357773137378051,3.83982279657112,1.2312314730694E-4,0.00129902180929613,{"$f":"VLOOKUP(A91,'[1]SD vs SY0.30'!$A$2:$E$20133,5,FALSE)","v":"NA"}]
["ENSGALG00000038672",1659.55187571261,1.36290273868697,0.420596151512896,3.24040705979969,1.19359174990953E-3,8.34024937635287E-3,{"$f":"VLOOKUP(A92,'[1]SD vs SY0.30'!$A$2:$E$20133,5,FALSE)","v":"ATPIF1"}]
["ENSGALG00000039864",145.098146157301,1.35385043663577,0.189873063235552,7.13029227824809,{"v":1.00156019573118e-12,"d":"1.00E-12"},{"v":1.30950143437253e-10,"d":"1.31E-10"},{"$f":"VLOOKUP(A93,'[1]SD vs SY0.30'!$A$2:$E$20133,5,FALSE)","v":"NA"}]
["ENSGALG00000034094",52.5610783681752,1.35038326702353,0.418819898314084,3.22425766411614,0.00126299703182262,0.00873003682386708,{"$f":"VLOOKUP(A94,'[1]SD vs SY0.30'!$A$2:$E$20133,5,FALSE)","v":"SP5"}]
["ENSGALG00000034236",23.4333429919887,1.34272254797108,0.398331845255827,3.37086417760226,7.49327919108391E-4,5.6706708108127E-3,{"$f":"VLOOKUP(A95,'[1]SD vs SY0.30'!$A$2:$E$20133,5,FALSE)","v":"NA"}]
["ENSGALG00000031398",197.827753288315,1.34189201695443,0.228054752389321,5.88407828775973,{"v":4.00278349397359e-09,"d":"4.00E-09"},{"v":1.95503767376635E-7,"d":"1.96E-07"},{"$f":"VLOOKUP(A96,'[1]SD vs SY0.30'!$A$2:$E$20133,5,FALSE)","v":"NA"}]
["ENSGALG00000030932",1238.34320931091,1.33790311863818,0.333146038989197,4.01596585898944,{"v":5.92028265439739e-05,"d":"5.92E-05"},0.000711648120769395,{"$f":"VLOOKUP(A97,'[1]SD vs SY0.30'!$A$2:$E$20133,5,FALSE)","v":"NKX2-3"}]
["ENSGALG00000032108",10.0508782640178,1.33424780254395,0.517618681641094,2.57766547048448,0.00994702440255673,0.0440514783142931,{"$f":"VLOOKUP(A98,'[1]SD vs SY0.30'!$A$2:$E$20133,5,FALSE)","v":"TMEM136-1"}]
["ENSGALG00000054625",23.2368203102397,1.33092676839722,0.387546302665616,3.43423936505873,0.000594219213588505,0.00469110263509699,{"$f":"VLOOKUP(A99,'[1]SD vs SY0.30'!$A$2:$E$20133,5,FALSE)","v":"NA"}]
["ENSGALG00000052196",893.131781121829,1.32459490817913,0.30887423704103,4.28846031598024,{"v":1.79915934883503E-5,"d":"1.80E-05"},2.6731041479151297E-4,{"$f":"VLOOKUP(A100,'[1]SD vs SY0.30'!$A$2:$E$20133,5,FALSE)","v":"LOC112530215"}]
["ENSGALG00000042356",183.766668873214,1.32205902081133,0.191872273013281,6.89030780763109,{"v":5.56717945800284e-12,"d":"5.57E-12"},{"v":6.18466334952119e-10,"d":"6.18E-10"},{"$f":"VLOOKUP(A101,'[1]SD vs SY0.30'!$A$2:$E$20133,5,FALSE)","v":"FSTL3"}]
["ENSGALG00000054250",31.1320414674172,1.31457871458057,0.384246283312772,3.42118784662523,0.000623482520818728,0.00487457792380677,{"$f":"VLOOKUP(A102,'[1]SD vs SY0.30'!$A$2:$E$20133,5,FALSE)","v":"LOC107050975"}]
["ENSGALG00000047773",43.1219652486752,1.31397329047668,0.341701571607867,3.84538263694199,1.2036446474153E-4,1.27545810923428E-3,{"$f":"VLOOKUP(A103,'[1]SD vs SY0.30'!$A$2:$E$20133,5,FALSE)","v":"C4H2orf81"}]
["ENSGALG00000011468",362.052202551205,1.31312409902515,0.22257816408501,5.89960881573103,{"v":3.64364406607915E-9,"d":"3.64E-09"},{"v":1.81084848512126e-07,"d":"1.81E-07"},{"$f":"VLOOKUP(A104,'[1]SD vs SY0.30'!$A$2:$E$20133,5,FALSE)","v":"IGFBP5"}]
["ENSGALG00000009689",205.790739420992,1.30761711201133,0.44666579786943,2.92750669124117,0.00341691708360885,0.0192245414333332,{"$f":"VLOOKUP(A105,'[1]SD vs SY0.30'!$A$2:$E$20133,5,FALSE)","v":"PON1"}]
["ENSGALG00000014179",21.991911011438,1.29045395355659,0.423572577207606,3.04659466404527,0.00231449586546818,0.0141407211449901,{"$f":"VLOOKUP(A106,'[1]SD vs SY0.30'!$A$2:$E$20133,5,FALSE)","v":"SBK1"}]
["ENSGALG00000048328",142.153966487679,1.2659411509542,0.38763658987609,3.26579374604152,1.09157724690645E-3,7.73708860119641E-3,{"$f":"VLOOKUP(A107,'[1]SD vs SY0.30'!$A$2:$E$20133,5,FALSE)","v":"NA"}]
["ENSGALG00000011419",113.95361594913,1.24441867183205,0.454882460519878,2.73569279943179,0.00622491086509731,0.0307751047044965,{"$f":"VLOOKUP(A108,'[1]SD vs SY0.30'!$A$2:$E$20133,5,FALSE)","v":"DUSP4"}]
["ENSGALG00000046971",69.4752035488184,1.24159902995623,0.34030963111074,3.64843929307486,0.000263838227649404,0.00241678924657542,{"$f":"VLOOKUP(A109,'[1]SD vs SY0.30'!$A$2:$E$20133,5,FALSE)","v":"NA"}]
["ENSGALG00000037082",245.512401947223,1.23756796815522,0.312517009604489,3.96000195228235,{"v":7.49491506582234e-05,"d":"7.49E-05"},0.000865327221590715,{"$f":"VLOOKUP(A110,'[1]SD vs SY0.30'!$A$2:$E$20133,5,FALSE)","v":"ASCL1"}]
["ENSGALG00000037733",1097.92410478969,1.2369262165071,0.121007716103103,10.2218788713704,{"v":1.58243517692E-24,"d":"1.58E-24"},{"v":2.06897313093149e-21,"d":"2.07E-21"},{"$f":"VLOOKUP(A111,'[1]SD vs SY0.30'!$A$2:$E$20133,5,FALSE)","v":"DAPK3"}]
["ENSGALG00000046987",42.8780737375348,1.22750983001381,0.333354330542167,3.68229753613037,0.000231141419442753,2.16270828306962E-3,{"$f":"VLOOKUP(A112,'[1]SD vs SY0.30'!$A$2:$E$20133,5,FALSE)","v":"NA"}]
["ENSGALG00000053106",85.4989493568432,1.22438397722862,0.310039496452298,3.94912258353832,{"v":7.84381779076659e-05,"d":"7.84E-05"},0.000898391987800941,{"$f":"VLOOKUP(A113,'[1]SD vs SY0.30'!$A$2:$E$20133,5,FALSE)","v":"FAM181B"}]
["ENSGALG00000025659",59.9883611706996,1.22137759071312,0.215137783564417,5.67718775603828,{"v":1.36927155128236E-8,"d":"1.37E-08"},{"v":5.66509115141919e-07,"d":"5.67E-07"},{"$f":"VLOOKUP(A114,'[1]SD vs SY0.30'!$A$2:$E$20133,5,FALSE)","v":"gga-mir-2129"}]
["ENSGALG00000051765",3094.4738274459,1.22106594619738,0.189444868175843,6.4454949767443,{"v":1.15223743379172e-10,"d":"1.15E-10"},{"v":8.98375213860452e-09,"d":"8.98E-09"},{"$f":"VLOOKUP(A115,'[1]SD vs SY0.30'!$A$2:$E$20133,5,FALSE)","v":"NA"}]
["ENSGALG00000054017",142.571017174401,1.21686047882202,0.159926840019582,7.60885714163441,{"v":2.76530197310433e-14,"d":"2.77E-14"},{"v":4.47636548922422e-12,"d":"4.48E-12"},{"$f":"VLOOKUP(A116,'[1]SD vs SY0.30'!$A$2:$E$20133,5,FALSE)","v":"NA"}]
["ENSGALG00000030890",332.872649839356,1.20608446738263,0.42235969493388,2.85558608420589,0.00429574757815934,0.0230785121296175,{"$f":"VLOOKUP(A117,'[1]SD vs SY0.30'!$A$2:$E$20133,5,FALSE)","v":"RRS1"}]
["ENSGALG00000048310",18.5998238786951,1.2028805987687,0.383853312326726,3.13369862950366,0.00172618044377786,0.0111685911697344,{"$f":"VLOOKUP(A118,'[1]SD vs SY0.30'!$A$2:$E$20133,5,FALSE)","v":"NA"}]
["ENSGALG00000054657",381.468817147212,1.19808991654145,0.203132468963161,5.89807194613842,{"v":3.67773619403992e-09,"d":"3.68E-09"},{"v":1.8201315479895e-07,"d":"1.82E-07"},{"$f":"VLOOKUP(A119,'[1]SD vs SY0.30'!$A$2:$E$20133,5,FALSE)","v":"NA"}]
["ENSGALG00000033791",33.5235837570718,1.19605783920587,0.36715019344552,3.25767999188961,0.00112326997731652,0.00794185515992054,{"$f":"VLOOKUP(A120,'[1]SD vs SY0.30'!$A$2:$E$20133,5,FALSE)","v":"MAP3K12"}]
["ENSGALG00000048241",59.5006069693676,1.1895097043062,0.433684614697287,2.74279894650282,0.00609179714146617,0.0302578246678844,{"$f":"VLOOKUP(A121,'[1]SD vs SY0.30'!$A$2:$E$20133,5,FALSE)","v":"NA"}]
["ENSGALG00000052286",1209.48406271598,1.1893897756728,0.165202394968882,7.19959160335927,{"v":6.03931721655377E-13,"d":"6.04E-13"},{"v":8.08269879761925e-11,"d":"8.08E-11"},{"$f":"VLOOKUP(A122,'[1]SD vs SY0.30'!$A$2:$E$20133,5,FALSE)","v":"MGAT1"}]
["ENSGALG00000054163",34.9429189848008,1.18776207339159,0.415371607313775,2.85951676156418,0.00424286995541521,0.0228649526417857,{"$f":"VLOOKUP(A123,'[1]SD vs SY0.30'!$A$2:$E$20133,5,FALSE)","v":"NA"}]
["ENSGALG00000054106",984.517063293528,1.18110653932941,0.0950462177682101,12.4266548113443,{"v":1.8730987021237e-35,"d":"1.87E-35"},{"v":5.30617643999942e-32,"d":"5.31E-32"},{"$f":"VLOOKUP(A124,'[1]SD vs SY0.30'!$A$2:$E$20133,5,FALSE)","v":"CIC"}]
["ENSGALG00000049557",161.648208604324,1.1792091263894,0.226402668347283,5.20845948944643,{"v":1.90414912059572e-07,"d":"1.90E-07"},{"v":5.53244830816503E-6,"d":"5.53E-06"},{"$f":"VLOOKUP(A125,'[1]SD vs SY0.30'!$A$2:$E$20133,5,FALSE)","v":"TSFM"}]
["ENSGALG00000052538",184.369391055902,1.17905627760594,0.281735655716809,4.18497358669817,{"v":2.85199261747416e-05,"d":"2.85E-05"},0.000391245508629606,{"$f":"VLOOKUP(A126,'[1]SD vs SY0.30'!$A$2:$E$20133,5,FALSE)","v":"NA"}]
["ENSGALG00000049290",117.957808363696,1.16789713895748,0.435842399805808,2.67963176477976,0.00737031893453669,0.0351299245457992,{"$f":"VLOOKUP(A127,'[1]SD vs SY0.30'!$A$2:$E$20133,5,FALSE)","v":"NA"}]
["ENSGALG00000045658",114.778797214952,1.16421089493358,0.291999150519686,3.98703521178598,{"v":6.69040992702694e-05,"d":"6.69E-05"},0.000791900400624491,{"$f":"VLOOKUP(A128,'[1]SD vs SY0.30'!$A$2:$E$20133,5,FALSE)","v":"ABHD14A"}]
["ENSGALG00000047711",47.4901586989422,1.16016825301341,0.34236723478566,3.38866613138298,0.000702334690769053,0.00537486841017632,{"$f":"VLOOKUP(A129,'[1]SD vs SY0.30'!$A$2:$E$20133,5,FALSE)","v":"gga-mir-143"}]
["ENSGALG00000042159",349.334037223668,1.15589651907503,0.318346456831603,3.63093885378617,0.000282392088789836,2.54497260506938E-3,{"$f":"VLOOKUP(A130,'[1]SD vs SY0.30'!$A$2:$E$20133,5,FALSE)","v":"SLITRK3"}]
["ENSGALG00000008085",71.8914210534811,1.15475282335954,0.35124602014647,3.28758977220016,1.01048966151566E-3,0.00726228024388231,{"$f":"VLOOKUP(A131,'[1]SD vs SY0.30'!$A$2:$E$20133,5,FALSE)","v":"NEFH"}]
["ENSGALG00000000497",1005.76413208066,1.15393181324021,0.441910597946198,2.61123362644654,0.00902162389276204,0.0410640282996199,{"$f":"VLOOKUP(A132,'[1]SD vs SY0.30'!$A$2:$E$20133,5,FALSE)","v":"C26H6ORF222"}]
["ENSGALG00000040453",487.224037832526,1.1532449785284,0.212594924871668,5.42461199026528,{"v":5.80805662308468e-08,"d":"5.81E-08"},{"v":2.05238125618649e-06,"d":"2.05E-06"},{"$f":"VLOOKUP(A133,'[1]SD vs SY0.30'!$A$2:$E$20133,5,FALSE)","v":"SRA1"}]
["ENSGALG00000049136",2149.24394113355,1.15077541448913,0.0884012677225957,13.0176347481835,{"v":9.71332432839742e-39,"d":"9.71E-39"},{"v":4.12743434024427e-35,"d":"4.13E-35"},{"$f":"VLOOKUP(A134,'[1]SD vs SY0.30'!$A$2:$E$20133,5,FALSE)","v":"NA"}]
["ENSGALG00000032184",18.698465434866,1.14915420541101,0.391653713936169,2.93410777051458,3.3450803930854E-3,0.0188766040641675,{"$f":"VLOOKUP(A135,'[1]SD vs SY0.30'!$A$2:$E$20133,5,FALSE)","v":"CSPG5"}]
["ENSGALG00000042297",1548.74912061116,1.14739669847873,0.164075243598619,6.99311287500288,{"v":2.68853028971176E-12,"d":"2.69E-12"},{"v":3.28755031181517e-10,"d":"3.29E-10"},{"$f":"VLOOKUP(A136,'[1]SD vs SY0.30'!$A$2:$E$20133,5,FALSE)","v":"ANKRD13D,ANKRD13D"}]
["ENSGALG00000047574",211.868829717942,1.14721932310365,0.234063599878639,4.90131453031774,{"v":9.51974986110467e-07,"d":"9.52E-07"},{"v":2.2442051094202e-05,"d":"2.24E-05"},{"$f":"VLOOKUP(A137,'[1]SD vs SY0.30'!$A$2:$E$20133,5,FALSE)","v":"NA"}]
["ENSGALG00000047838",58.7352938822167,1.13837961498798,0.4364696742234,2.60815282760131,0.00910323013714365,0.041304752440211,{"$f":"VLOOKUP(A138,'[1]SD vs SY0.30'!$A$2:$E$20133,5,FALSE)","v":"LOC425238"}]
["ENSGALG00000043143",315.166126987089,1.13767075141636,0.349707259014582,3.25320885423462,1.14109593354787E-3,0.00804119628949145,{"$f":"VLOOKUP(A139,'[1]SD vs SY0.30'!$A$2:$E$20133,5,FALSE)","v":"NA"}]
["ENSGALG00000047567",67.6704875475156,1.13690989898086,0.288062655173672,3.94674519088712,{"v":7.92207891021597e-05,"d":"7.92E-05"},0.000904308765862599,{"$f":"VLOOKUP(A140,'[1]SD vs SY0.30'!$A$2:$E$20133,5,FALSE)","v":"NA"}]
["ENSGALG00000029151",25.2531255119598,1.13360147870095,0.39679683019497,2.85688138724278,0.00427825680448484,0.0230191614136844,{"$f":"VLOOKUP(A141,'[1]SD vs SY0.30'!$A$2:$E$20133,5,FALSE)","v":"ISLR2"}]
["ENSGALG00000049001",304.501907284393,1.13213684815017,0.27997229129080903,4.04374605404865,{"v":5.26038950007098e-05,"d":"5.26E-05"},6.47354641230525E-4,{"$f":"VLOOKUP(A142,'[1]SD vs SY0.30'!$A$2:$E$20133,5,FALSE)","v":"ANKRD39"}]
["ENSGALG00000054286",60.3692387525831,1.1293143918863,0.254745468686946,4.4331088505998,{"v":9.28839415779882e-06,"d":"9.29E-06"},0.000151076397607757,{"$f":"VLOOKUP(A143,'[1]SD vs SY0.30'!$A$2:$E$20133,5,FALSE)","v":"APLN"}]
["ENSGALG00000054776",62.4695785988084,1.12643919467534,0.282077336512385,3.99337007574829,{"v":6.51407788268177e-05,"d":"6.51E-05"},0.000773182833602947,{"$f":"VLOOKUP(A144,'[1]SD vs SY0.30'!$A$2:$E$20133,5,FALSE)","v":"NA"}]
["ENSGALG00000054662",72.6504671588804,1.12436718486795,0.264386277451057,4.25274411254604,{"v":2.11166824845876e-05,"d":"2.11E-05"},0.000304427694818096,{"$f":"VLOOKUP(A145,'[1]SD vs SY0.30'!$A$2:$E$20133,5,FALSE)","v":"NA"}]
["ENSGALG00000049949",801.530200387049,1.12404718449228,0.1786858544715,6.29063328945026,{"v":3.16173435788132E-10,"d":"3.16E-10"},{"v":2.12411062770391e-08,"d":"2.12E-08"},{"$f":"VLOOKUP(A146,'[1]SD vs SY0.30'!$A$2:$E$20133,5,FALSE)","v":"LOC101749299"}]
["ENSGALG00000030712",31.4595923232016,1.12130891355481,0.319997078090778,3.50412235088194,4.58114826549779E-4,0.00379462851211822,{"$f":"VLOOKUP(A147,'[1]SD vs SY0.30'!$A$2:$E$20133,5,FALSE)","v":"COL2A1"}]
["ENSGALG00000054005",740.63141688316,1.11831571909079,0.11247135408588,9.9431159887777,{"v":2.70239024967904E-23,"d":"2.70E-23"},{"v":2.87078294211216e-20,"d":"2.87E-20"},{"$f":"VLOOKUP(A148,'[1]SD vs SY0.30'!$A$2:$E$20133,5,FALSE)","v":"PPP1R37"}]
["ENSGALG00000000293",110.324187129967,1.11384495524652,0.310871223451239,3.5829786458869,0.000339698387387519,0.00297008924404612,{"$f":"VLOOKUP(A149,'[1]SD vs SY0.30'!$A$2:$E$20133,5,FALSE)","v":"A2ML4"}]
["ENSGALG00000028810",938.31398355636,1.11231024556186,0.228929585189182,4.85874398733861,{"v":1.1813276765038E-6,"d":"1.18E-06"},{"v":2.67720353567133e-05,"d":"2.68E-05"},{"$f":"VLOOKUP(A150,'[1]SD vs SY0.30'!$A$2:$E$20133,5,FALSE)","v":"CHCHD10"}]
["ENSGALG00000011376",192.240761521274,1.1117807655968,0.336599867472072,3.30297446028866,0.000956651002735013,0.00694609021220163,{"$f":"VLOOKUP(A151,'[1]SD vs SY0.30'!$A$2:$E$20133,5,FALSE)","v":"ANKRD9"}]
["ENSGALG00000035901",38.7570393856665,1.11084360809037,0.368739636518351,3.01254190783228,0.00259069662493783,0.0154823072030548,{"$f":"VLOOKUP(A152,'[1]SD vs SY0.30'!$A$2:$E$20133,5,FALSE)","v":"GDF6"}]
["ENSGALG00000000645",763.978533449601,1.10680066969975,0.219528062360715,5.04172750307029,{"v":4.61347938616828E-7,"d":"4.61E-07"},{"v":1.20268879028684E-5,"d":"1.20E-05"},{"$f":"VLOOKUP(A153,'[1]SD vs SY0.30'!$A$2:$E$20133,5,FALSE)","v":"NA"}]
["ENSGALG00000048831",129.697259475429,1.10560241255532,0.289730994385523,3.81596181968772,1.35653480670015E-4,0.00140783870328131,{"$f":"VLOOKUP(A154,'[1]SD vs SY0.30'!$A$2:$E$20133,5,FALSE)","v":"NA"}]
["ENSGALG00000054310",107.934173863511,1.09979868023129,0.247810435304263,4.43806443776653,{"v":9.07714473471114e-06,"d":"9.08E-06"},0.000148636058820699,{"$f":"VLOOKUP(A155,'[1]SD vs SY0.30'!$A$2:$E$20133,5,FALSE)","v":"NA"}]
["ENSGALG00000047453",30.4651963769181,1.09647250182493,0.341583538616481,3.20996880079755,0.00132749380112686,0.00911284819780018,{"$f":"VLOOKUP(A156,'[1]SD vs SY0.30'!$A$2:$E$20133,5,FALSE)","v":"NA"}]
["ENSGALG00000040070",54.8838285441138,1.09561781846761,0.319191847716284,3.43247431382227,0.000598100534172239,0.00471228137723909,{"$f":"VLOOKUP(A157,'[1]SD vs SY0.30'!$A$2:$E$20133,5,FALSE)","v":"PDIA2"}]
["ENSGALG00000033683",1728.20152303499,1.09441733130466,0.306088297754647,3.57549550026221,0.000349565188637055,0.00303605493677263,{"$f":"VLOOKUP(A158,'[1]SD vs SY0.30'!$A$2:$E$20133,5,FALSE)","v":"PHOSPHO1"}]
["ENSGALG00000038951",576.036796987423,1.08990766280809,0.214968172757873,5.07008851043126,{"v":3.97630737460285e-07,"d":"3.98E-07"},{"v":1.05767287083137e-05,"d":"1.06E-05"},{"$f":"VLOOKUP(A159,'[1]SD vs SY0.30'!$A$2:$E$20133,5,FALSE)","v":"RASSF1"}]
["ENSGALG00000029558",30.5766144243992,1.08747722788973,0.392901525338885,2.76781116324698,0.0056434144256809,0.0285702299693037,{"$f":"VLOOKUP(A160,'[1]SD vs SY0.30'!$A$2:$E$20133,5,FALSE)","v":"NA"}]
["ENSGALG00000053766",196.266425829611,1.08322292052474,0.29168743570019,3.71364271458756,2.04297168704778E-4,1.95961567521169E-3,{"$f":"VLOOKUP(A161,'[1]SD vs SY0.30'!$A$2:$E$20133,5,FALSE)","v":"BOLA3"}]
["ENSGALG00000050493",90.59435815534,1.08270101631554,0.333728520564693,3.24425678237966,0.00117757535713964,0.00824690908335493,{"$f":"VLOOKUP(A162,'[1]SD vs SY0.30'!$A$2:$E$20133,5,FALSE)","v":"NA"}]
["ENSGALG00000040249",84.4986151528441,1.08166827678395,0.348365561228126,3.10498050659958,1.90291565200882E-3,0.0121094697180512,{"$f":"VLOOKUP(A163,'[1]SD vs SY0.30'!$A$2:$E$20133,5,FALSE)","v":"BHLHE22"}]
["ENSGALG00000010044",59.9504627854314,1.07970569282422,0.267767960798953,4.03224377405964,{"v":5.52468354651018e-05,"d":"5.52E-05"},0.000673140116416011,{"$f":"VLOOKUP(A164,'[1]SD vs SY0.30'!$A$2:$E$20133,5,FALSE)","v":"KCNMB4"}]
["ENSGALG00000048232",70.9650083648326,1.07800385284206,0.405267484695044,2.65998110767075,0.00781450346786289,0.0367829175971381,{"$f":"VLOOKUP(A165,'[1]SD vs SY0.30'!$A$2:$E$20133,5,FALSE)","v":"NA"}]
["ENSGALG00000036456",529.850492731696,1.07752632789389,0.319001682115422,3.3778076678104,0.00073066165398562,0.00554669769218114,{"$f":"VLOOKUP(A166,'[1]SD vs SY0.30'!$A$2:$E$20133,5,FALSE)","v":"TRIB1"}]
["ENSGALG00000041622",63.0475819348164,1.07730677989241,0.303413704339082,3.55062004281937,0.000384324822586184,3.28920896752134E-3,{"$f":"VLOOKUP(A167,'[1]SD vs SY0.30'!$A$2:$E$20133,5,FALSE)","v":"NA"}]
["ENSGALG00000029599",565.08106172677,1.07703792318068,0.208406587901717,5.16796486149757,{"v":2.36656788145839e-07,"d":"2.37E-07"},{"v":6.72171418745942e-06,"d":"6.72E-06"},{"$f":"VLOOKUP(A168,'[1]SD vs SY0.30'!$A$2:$E$20133,5,FALSE)","v":"ACVR1B"}]
["ENSGALG00000034986",509.730156210668,1.07498994862951,0.24826006234651,4.33009618409378,{"v":1.49044226837021e-05,"d":"1.49E-05"},0.000226390055723757,{"$f":"VLOOKUP(A169,'[1]SD vs SY0.30'!$A$2:$E$20133,5,FALSE)","v":"HEYL"}]
["ENSGALG00000053923",100.414069144289,1.07425129517263,0.175354247003157,6.12617780026332,{"v":9.00152140112563e-10,"d":"9.00E-10"},{"v":5.42549146294086e-08,"d":"5.43E-08"},{"$f":"VLOOKUP(A170,'[1]SD vs SY0.30'!$A$2:$E$20133,5,FALSE)","v":"NA"}]
["ENSGALG00000005768",384.919526194061,1.07204993879633,0.225787594519644,4.74804623822259,{"v":2.05391086666494e-06,"d":"2.05E-06"},{"v":4.30065990096709E-5,"d":"4.30E-05"},{"$f":"VLOOKUP(A171,'[1]SD vs SY0.30'!$A$2:$E$20133,5,FALSE)","v":"ETV5"}]
["ENSGALG00000024047",65.0981551705957,1.07153929170146,0.229948191974325,4.65991614242003,{"v":3.16338233852326e-06,"d":"3.16E-06"},{"v":6.08924231119816e-05,"d":"6.09E-05"},{"$f":"VLOOKUP(A172,'[1]SD vs SY0.30'!$A$2:$E$20133,5,FALSE)","v":"MYCL"}]
["ENSGALG00000047060",262.800140832747,1.06800336488546,0.153163989382027,6.97294037060899,{"v":3.10384208510933e-12,"d":"3.10E-12"},{"v":3.74156056174492e-10,"d":"3.74E-10"},{"$f":"VLOOKUP(A173,'[1]SD vs SY0.30'!$A$2:$E$20133,5,FALSE)","v":"SCN1B"}]
["ENSGALG00000033356",1021.50462630986,1.06486726709344,0.16720486118539,6.36863820551699,{"v":1.90713878390275e-10,"d":"1.91E-10"},{"v":1.39122909484957e-08,"d":"1.39E-08"},{"$f":"VLOOKUP(A174,'[1]SD vs SY0.30'!$A$2:$E$20133,5,FALSE)","v":"FAHD2A"}]
["ENSGALG00000038301",533.798613800475,1.06169814342764,0.308122165124631,3.44570518968734,0.000569571368595256,4.5259488321709E-3,{"$f":"VLOOKUP(A175,'[1]SD vs SY0.30'!$A$2:$E$20133,5,FALSE)","v":"NIPSNAP1"}]
["ENSGALG00000053653",805.32307154232,1.05865171918788,0.208118924287408,5.08676336288335,{"v":3.64225819316295e-07,"d":"3.64E-07"},{"v":9.77130275392321e-06,"d":"9.77E-06"},{"$f":"VLOOKUP(A176,'[1]SD vs SY0.30'!$A$2:$E$20133,5,FALSE)","v":"ZNF467"}]
["ENSGALG00000040238",488.576877132954,1.05361626414253,0.215574548161339,4.88747986777171,{"v":1.0213493576079e-06,"d":"1.02E-06"},{"v":2.38221898694252e-05,"d":"2.38E-05"},{"$f":"VLOOKUP(A177,'[1]SD vs SY0.30'!$A$2:$E$20133,5,FALSE)","v":"IMP3"}]
["ENSGALG00000047749",40.6632226615831,1.05230899017777,0.369941118259408,2.8445310300432,4.44768534697339E-3,0.0237354184748844,{"$f":"VLOOKUP(A178,'[1]SD vs SY0.30'!$A$2:$E$20133,5,FALSE)","v":"FGF11"}]
["ENSGALG00000041228",78.1427341025476,1.04764843386939,0.229897030134712,4.55703335208595,{"v":5.18811885055782e-06,"d":"5.19E-06"},{"v":9.31176938784913e-05,"d":"9.31E-05"},{"$f":"VLOOKUP(A179,'[1]SD vs SY0.30'!$A$2:$E$20133,5,FALSE)","v":"SELENOP2"}]
["ENSGALG00000044874",54.2286161846652,1.04690390768398,0.334625941976938,3.12857963581355,1.75653404842382E-3,0.0113304778827551,{"$f":"VLOOKUP(A180,'[1]SD vs SY0.30'!$A$2:$E$20133,5,FALSE)","v":"TNFRSF14"}]
["ENSGALG00000025438",51.1000847844365,1.04583901005154,0.291575692077982,3.58685253423604,0.000334693473601147,0.00292934344531344,{"$f":"VLOOKUP(A181,'[1]SD vs SY0.30'!$A$2:$E$20133,5,FALSE)","v":"gga-mir-1600"}]
["ENSGALG00000007361",378.542077757478,1.04264848249273,0.291074505558685,3.58206734901597,0.000340885877892498,0.00297587943838664,{"$f":"VLOOKUP(A182,'[1]SD vs SY0.30'!$A$2:$E$20133,5,FALSE)","v":"SST"}]
["ENSGALG00000033631",1174.13585614742,1.04262444405118,0.162748061937691,6.40637087555828,{"v":1.49024205595557E-10,"d":"1.49E-10"},{"v":1.10128887935116E-8,"d":"1.10E-08"},{"$f":"VLOOKUP(A183,'[1]SD vs SY0.30'!$A$2:$E$20133,5,FALSE)","v":"MYC"}]
["ENSGALG00000050908",16.2425679739748,1.04013283449596,0.346642890722125,3.00058897019108,0.00269458021967144,0.015918587920456,{"$f":"VLOOKUP(A184,'[1]SD vs SY0.30'!$A$2:$E$20133,5,FALSE)","v":"NA"}]
["ENSGALG00000043628",935.699849213279,1.03571323078426,0.205488577030488,5.04024722810064,{"v":4.6493083846126e-07,"d":"4.65E-07"},{"v":1.20832254760337E-5,"d":"1.21E-05"},{"$f":"VLOOKUP(A185,'[1]SD vs SY0.30'!$A$2:$E$20133,5,FALSE)","v":"UBE2M"}]
["ENSGALG00000033943",213.927642929612,1.03404265436976,0.284340273130653,3.63663804280943,0.000276219643443042,0.0024986190950513,{"$f":"VLOOKUP(A186,'[1]SD vs SY0.30'!$A$2:$E$20133,5,FALSE)","v":"HYI"}]
["ENSGALG00000031572",20.1617893210226,1.03344418103664,0.395208442368441,2.61493447569925,0.00892445744692302,0.0407875781729902,{"$f":"VLOOKUP(A187,'[1]SD vs SY0.30'!$A$2:$E$20133,5,FALSE)","v":"NA"}]
["ENSGALG00000052838",20.9903248576331,1.03239781839273,0.399847697687602,2.58197764889805,0.00982359468851293,0.0436641315169075,{"$f":"VLOOKUP(A188,'[1]SD vs SY0.30'!$A$2:$E$20133,5,FALSE)","v":"NA"}]
["ENSGALG00000052016",113.005324112954,1.028069836078,0.274326195983065,3.74761816819515,1.78521739601706E-4,1.76414767907569E-3,{"$f":"VLOOKUP(A189,'[1]SD vs SY0.30'!$A$2:$E$20133,5,FALSE)","v":"ADRA2B"}]
["ENSGALG00000051812",35.8270254682581,1.02582172653923,0.331370072064774,3.09569817258183,0.00196350116830401,0.0124296571164481,{"$f":"VLOOKUP(A190,'[1]SD vs SY0.30'!$A$2:$E$20133,5,FALSE)","v":"NA"}]
["ENSGALG00000054023",106.776541594002,1.02469003064642,0.204571067292477,5.0089684929952,{"v":5.47225297327383E-7,"d":"5.47E-07"},{"v":1.38616816373674E-5,"d":"1.39E-05"},{"$f":"VLOOKUP(A191,'[1]SD vs SY0.30'!$A$2:$E$20133,5,FALSE)","v":"LOC112531384"}]
["ENSGALG00000027983",857.622782361098,1.02185755335066,0.339538175113406,3.0095512912778,2.61633898545461E-3,0.0155816095780561,{"$f":"VLOOKUP(A192,'[1]SD vs SY0.30'!$A$2:$E$20133,5,FALSE)","v":"TNK2"}]
["ENSGALG00000054634",954.812222648424,1.0209194502044,0.118014678187876,8.65078366420763,{"v":5.11469791904999e-18,"d":"5.11E-18"},{"v":1.81113584437693e-15,"d":"1.81E-15"},{"$f":"VLOOKUP(A193,'[1]SD vs SY0.30'!$A$2:$E$20133,5,FALSE)","v":"NA"}]
["ENSGALG00000035063",75.3167551919853,1.02066819209456,0.313605592773368,3.25462369171512,0.00113542704066455,0.00801447400754791,{"$f":"VLOOKUP(A194,'[1]SD vs SY0.30'!$A$2:$E$20133,5,FALSE)","v":"NA"}]
["ENSGALG00000049395",103.850515280535,1.0187055641395,0.273844513788328,3.72001450767397,1.99211334534141E-4,0.00192604951824619,{"$f":"VLOOKUP(A195,'[1]SD vs SY0.30'!$A$2:$E$20133,5,FALSE)","v":"ARHGDIG"}]
["ENSGALG00000047998",327.753227001636,1.01805463756875,0.239901873738048,4.24362937106685,{"v":2.19933483860344e-05,"d":"2.20E-05"},3.14929184934647E-4,{"$f":"VLOOKUP(A196,'[1]SD vs SY0.30'!$A$2:$E$20133,5,FALSE)","v":"NA"}]
["ENSGALG00000052652",534.672370182846,1.01801124486954,0.148210187910402,6.86869950859898,{"v":6.47898162474438e-12,"d":"6.48E-12"},{"v":7.01421978826625e-10,"d":"7.01E-10"},{"$f":"VLOOKUP(A197,'[1]SD vs SY0.30'!$A$2:$E$20133,5,FALSE)","v":"INO80E"}]
["ENSGALG00000041459",1334.52185723205,1.01738096177649,0.359012268162582,2.83383341461679,0.00459933009602348,0.02437630609358,{"$f":"VLOOKUP(A198,'[1]SD vs SY0.30'!$A$2:$E$20133,5,FALSE)","v":"DDIT4"}]
["ENSGALG00000029015",1349.19766137919,1.01488142802421,0.354401292703989,2.86365046888212,0.0041878985410638,0.0226393240103321,{"$f":"VLOOKUP(A199,'[1]SD vs SY0.30'!$A$2:$E$20133,5,FALSE)","v":"TM6SF2"}]
["ENSGALG00000055092",176.48109286727,1.01354877073452,0.209900873629895,4.82870201160594,{"v":1.37425875935102e-06,"d":"1.37E-06"},{"v":3.04552285949188e-05,"d":"3.05E-05"},{"$f":"VLOOKUP(A200,'[1]SD vs SY0.30'!$A$2:$E$20133,5,FALSE)","v":"DCAF11"}]
["ENSGALG00000050819",435.408724083519,1.01126950400823,0.187857368337768,5.38317721022242,{"v":7.31824252963612e-08,"d":"7.32E-08"},{"v":2.50782597331099e-06,"d":"2.51E-06"},{"$f":"VLOOKUP(A201,'[1]SD vs SY0.30'!$A$2:$E$20133,5,FALSE)","v":"NA"}]
["ENSGALG00000049721",271.875808516694,1.00877356417509,0.32591680288561,3.09518734610671,0.00196688617456499,0.0124464498544606,{"$f":"VLOOKUP(A202,'[1]SD vs SY0.30'!$A$2:$E$20133,5,FALSE)","v":"NA"}]
["ENSGALG00000037029",135.228137844192,1.00739646025773,0.215001090416331,4.68554116775404,{"v":2.79221164917105e-06,"d":"2.79E-06"},{"v":5.44881990826181e-05,"d":"5.45E-05"},{"$f":"VLOOKUP(A203,'[1]SD vs SY0.30'!$A$2:$E$20133,5,FALSE)","v":"PDE4C"}]
["ENSGALG00000045228",107.86436833556,1.00692617197593,0.338227365296597,2.97706890479703,0.00291018596022438,0.0168705425531834,{"$f":"VLOOKUP(A204,'[1]SD vs SY0.30'!$A$2:$E$20133,5,FALSE)","v":"PTCRA"}]
["ENSGALG00000043052",344.459574992983,1.00632327170048,0.353429523363179,2.84730959124317,0.00440904611075503,0.0235662128127369,{"$f":"VLOOKUP(A205,'[1]SD vs SY0.30'!$A$2:$E$20133,5,FALSE)","v":"CD1B"}]
["ENSGALG00000034427",23.9201080763783,1.00447746535155,0.355091770249612,2.82878272466143,0.0046725409398782,0.0247026993328491,{"$f":"VLOOKUP(A206,'[1]SD vs SY0.30'!$A$2:$E$20133,5,FALSE)","v":"SCN4A"}]
["ENSGALG00000052816",266.957421177093,1.00100339786925,0.272512031519659,3.67324478221079,2.39489864997345E-4,0.00223537025555183,{"$f":"VLOOKUP(A207,'[1]SD vs SY0.30'!$A$2:$E$20133,5,FALSE)","v":"CCNQ"}]
["ENSGALG00000055086",300.883411352452,1.00053732243125,0.218374577187332,4.58174818386912,{"v":4.61104939577515e-06,"d":"4.61E-06"},{"v":8.4363839160377e-05,"d":"8.44E-05"},{"$f":"VLOOKUP(A208,'[1]SD vs SY0.30'!$A$2:$E$20133,5,FALSE)","v":"NA"}]
["ENSGALG00000010350",113.463043955279,-1.00044141771125,0.130331289412869,-7.67614148696105,{"v":1.6395203680309E-14,"d":"1.64E-14"},{"v":2.93336081004433e-12,"d":"2.93E-12"},{"$f":"VLOOKUP(A209,'[1]SD vs SY0.30'!$A$2:$E$20133,5,FALSE)","v":"GPATCH2L"}]
["ENSGALG00000010718",120.963350204636,-1.00570296178657,0.253249252971978,-3.97119813774083,{"v":7.15120711941952e-05,"d":"7.15E-05"},0.000837114789316622,{"$f":"VLOOKUP(A210,'[1]SD vs SY0.30'!$A$2:$E$20133,5,FALSE)","v":"NA"}]
["ENSGALG00000054475",51.8498123680745,-1.0081988334725,0.268809436476917,-3.75060803923478,0.000176406274884183,1.74832504618452E-3,{"$f":"VLOOKUP(A211,'[1]SD vs SY0.30'!$A$2:$E$20133,5,FALSE)","v":"NA"}]
["ENSGALG00000008842",463.582309903601,-1.00821264686104,0.135141745123434,-7.46040866898804,{"v":8.62545271925891e-14,"d":"8.63E-14"},{"v":1.29740548556853e-11,"d":"1.30E-11"},{"$f":"VLOOKUP(A212,'[1]SD vs SY0.30'!$A$2:$E$20133,5,FALSE)","v":"PIKFYVE"}]
["ENSGALG00000008627",87.9135489296185,-1.00845048037657,0.228454215387161,-4.41423450500816,{"v":1.01368031970758e-05,"d":"1.01E-05"},0.00016384607818666,{"$f":"VLOOKUP(A213,'[1]SD vs SY0.30'!$A$2:$E$20133,5,FALSE)","v":"TTBK1"}]
["ENSGALG00000042105",386.59621015784,-1.01025958057219,0.241120985311084,-4.18984510729664,{"v":2.79144936246571e-05,"d":"2.79E-05"},3.84789762361572E-4,{"$f":"VLOOKUP(A214,'[1]SD vs SY0.30'!$A$2:$E$20133,5,FALSE)","v":"PLCB2"}]
["ENSGALG00000027184",244.312986254286,-1.01040173895247,0.385951405885438,-2.61795066307491,0.00884595939107657,0.0405378192963409,{"$f":"VLOOKUP(A215,'[1]SD vs SY0.30'!$A$2:$E$20133,5,FALSE)","v":"OLFML1"}]
["ENSGALG00000000830",88.1161188511889,-1.01056324196051,0.200145749650942,-5.04913666027359,{"v":4.43811176082544e-07,"d":"4.44E-07"},{"v":1.16232027116718E-5,"d":"1.16E-05"},{"$f":"VLOOKUP(A216,'[1]SD vs SY0.30'!$A$2:$E$20133,5,FALSE)","v":"NA"}]
["ENSGALG00000009048",162.44308274517,-1.01131221860997,0.164442460222809,-6.14994580620905,{"v":7.75094264741961e-10,"d":"7.75E-10"},{"v":4.75605675733542e-08,"d":"4.76E-08"},{"$f":"VLOOKUP(A217,'[1]SD vs SY0.30'!$A$2:$E$20133,5,FALSE)","v":"ABLIM1"}]
["ENSGALG00000004570",659.006289109201,-1.01135821733759,0.113935166539579,-8.87661156826644,{"v":6.89279920488436E-19,"d":"6.89E-19"},{"v":3.25435855792832e-16,"d":"3.25E-16"},{"$f":"VLOOKUP(A218,'[1]SD vs SY0.30'!$A$2:$E$20133,5,FALSE)","v":"NCOA3"}]
["ENSGALG00000000934",235.989867137593,-1.01155013613345,0.174220454757972,-5.80615024532395,{"v":6.39256030992279e-09,"d":"6.39E-09"},{"v":2.91298519002031e-07,"d":"2.91E-07"},{"$f":"VLOOKUP(A219,'[1]SD vs SY0.30'!$A$2:$E$20133,5,FALSE)","v":"ZBTB43"}]
["ENSGALG00000033647",212.625101895531,-1.01443956211821,0.169726041259257,-5.97692348558732,{"v":2.27390932223557e-09,"d":"2.27E-09"},{"v":1.20403852803857e-07,"d":"1.20E-07"},{"$f":"VLOOKUP(A220,'[1]SD vs SY0.30'!$A$2:$E$20133,5,FALSE)","v":"NA"}]
["ENSGALG00000011185",108.629799603091,-1.01450452402696,0.166727696510524,-6.08479901815787,{"v":1.16637529106406e-09,"d":"1.17E-09"},{"v":6.81267382206728e-08,"d":"6.81E-08"},{"$f":"VLOOKUP(A221,'[1]SD vs SY0.30'!$A$2:$E$20133,5,FALSE)","v":"PLEKHA8"}]
["ENSGALG00000009698",452.732368383343,-1.01465670096153,0.220907648452256,-4.59312616865243,{"v":4.36654880364136e-06,"d":"4.37E-06"},{"v":8.05843974109579e-05,"d":"8.06E-05"},{"$f":"VLOOKUP(A222,'[1]SD vs SY0.30'!$A$2:$E$20133,5,FALSE)","v":"SLC38A1"}]
["ENSGALG00000039391",117.263339667046,-1.01686030595231,0.159911997528991,-6.3588743913224,{"v":2.03237509881663e-10,"d":"2.03E-10"},{"v":1.45144031741959E-8,"d":"1.45E-08"},{"$f":"VLOOKUP(A223,'[1]SD vs SY0.30'!$A$2:$E$20133,5,FALSE)","v":"ZC3H12B"}]
["ENSGALG00000052494",22.8871581128398,-1.01787263039509,0.299719446163578,-3.39608471663718,0.000683571990201577,5.25731815269512E-3,{"$f":"VLOOKUP(A224,'[1]SD vs SY0.30'!$A$2:$E$20133,5,FALSE)","v":"C4orf50"}]
["ENSGALG00000002175",101.890160301602,-1.01852800722769,0.243848978296906,-4.1768803557895,{"v":2.95534371873151e-05,"d":"2.96E-05"},0.000403145884328085,{"$f":"VLOOKUP(A225,'[1]SD vs SY0.30'!$A$2:$E$20133,5,FALSE)","v":"KIF14"}]
["ENSGALG00000010270",440.341875692168,-1.01971758105863,0.111704921643068,-9.12867191579029,{"v":6.93447300111369e-20,"d":"6.93E-20"},{"v":4.0643185379286e-17,"d":"4.06E-17"},{"$f":"VLOOKUP(A226,'[1]SD vs SY0.30'!$A$2:$E$20133,5,FALSE)","v":"AREL1"}]
["ENSGALG00000054447",43.8835370206144,-1.02128758090395,0.329757857383938,-3.09708338417198,0.00195434891979891,0.0123994283649952,{"$f":"VLOOKUP(A227,'[1]SD vs SY0.30'!$A$2:$E$20133,5,FALSE)","v":"MED15"}]
["ENSGALG00000054172",187.795278791903,-1.02151309358208,0.289015058347551,-3.53446321939971,0.000408604299041965,0.00344838494082238,{"$f":"VLOOKUP(A228,'[1]SD vs SY0.30'!$A$2:$E$20133,5,FALSE)","v":"NA"}]
["ENSGALG00000003047",320.530567942722,-1.02196386471595,0.138126632640693,-7.39874595635996,{"v":1.37476568728555E-13,"d":"1.37E-13"},{"v":1.96360440225147E-11,"d":"1.96E-11"},{"$f":"VLOOKUP(A229,'[1]SD vs SY0.30'!$A$2:$E$20133,5,FALSE)","v":"SUGP2"}]
["ENSGALG00000029596",189.261546668397,-1.02301488404388,0.223414004787332,-4.57900965079469,{"v":4.67182645110036e-06,"d":"4.67E-06"},{"v":8.50526267955831e-05,"d":"8.51E-05"},{"$f":"VLOOKUP(A230,'[1]SD vs SY0.30'!$A$2:$E$20133,5,FALSE)","v":"HAS2"}]
["ENSGALG00000011275",155.744201365065,-1.023672122478,0.213587129641328,-4.7927612688884,{"v":1.64501331950722e-06,"d":"1.65E-06"},{"v":3.56182055944767e-05,"d":"3.56E-05"},{"$f":"VLOOKUP(A231,'[1]SD vs SY0.30'!$A$2:$E$20133,5,FALSE)","v":"DEPDC1"}]
["ENSGALG00000010971",62.1637819868227,-1.02510412335909,0.246679453884193,-4.15561209990491,{"v":3.24417831607626e-05,"d":"3.24E-05"},0.000436873712747637,{"$f":"VLOOKUP(A232,'[1]SD vs SY0.30'!$A$2:$E$20133,5,FALSE)","v":"CSRNP3"}]
["ENSGALG00000007755",31.2333587005683,-1.0254780701038,0.235970503649936,-4.34578921620265,{"v":1.38775785869888E-5,"d":"1.39E-05"},0.000214628938346723,{"$f":"VLOOKUP(A233,'[1]SD vs SY0.30'!$A$2:$E$20133,5,FALSE)","v":"NEXMIF"}]
["ENSGALG00000044730",123.853970039373,-1.02707497396229,0.245690261731956,-4.18036501211763,{"v":2.91041540919287e-05,"d":"2.91E-05"},0.000397655391559897,{"$f":"VLOOKUP(A234,'[1]SD vs SY0.30'!$A$2:$E$20133,5,FALSE)","v":"NA"}]
["ENSGALG00000010999",428.476959366305,-1.02908433748637,0.0844136061307066,-12.1909770788957,{"v":3.47232941610584e-34,"d":"3.47E-34"},{"v":8.43131186936442e-31,"d":"8.43E-31"},{"$f":"VLOOKUP(A235,'[1]SD vs SY0.30'!$A$2:$E$20133,5,FALSE)","v":"DICER1"}]
["ENSGALG00000005747",60.8983590719086,-1.02914758808917,0.375370681555951,-2.74168345759782,0.00611252158079761,0.0303341691412604,{"$f":"VLOOKUP(A236,'[1]SD vs SY0.30'!$A$2:$E$20133,5,FALSE)","v":"LOC101748744"}]
["ENSGALG00000003857",75.4081883999837,-1.02945446765386,0.226276901813706,-4.54953404170883,{"v":5.37648361105065e-06,"d":"5.38E-06"},{"v":9.58889630633837e-05,"d":"9.59E-05"},{"$f":"VLOOKUP(A237,'[1]SD vs SY0.30'!$A$2:$E$20133,5,FALSE)","v":"NA"}]
["ENSGALG00000050487",17.8598732491845,-1.02960501278101,0.370543444801826,-2.77863507565668,0.00545878122633596,0.0278743665263872,{"$f":"VLOOKUP(A238,'[1]SD vs SY0.30'!$A$2:$E$20133,5,FALSE)","v":"NA"}]
["ENSGALG00000012932",495.362500278375,-1.03007522392046,0.264583820491666,-3.89319052845449,{"v":9.89343890054895e-05,"d":"9.89E-05"},0.00109264964907492,{"$f":"VLOOKUP(A239,'[1]SD vs SY0.30'!$A$2:$E$20133,5,FALSE)","v":"FGD4"}]
["ENSGALG00000052012",52.1945637076321,-1.03155822848932,0.233140375408114,-4.42462283370511,{"v":9.66109216982968e-06,"d":"9.66E-06"},1.5698812964684E-4,{"$f":"VLOOKUP(A240,'[1]SD vs SY0.30'!$A$2:$E$20133,5,FALSE)","v":"NA"}]
["ENSGALG00000012973",20.9641681704445,-1.0347029858072,0.348183586933749,-2.97171671680227,0.00296139788671339,0.0171148860525221,{"$f":"VLOOKUP(A241,'[1]SD vs SY0.30'!$A$2:$E$20133,5,FALSE)","v":"ESR1"}]
["ENSGALG00000042137",226.177595147574,-1.03499683121737,0.183934309807155,-5.62699168144601,{"v":1.8337956730439e-08,"d":"1.83E-08"},{"v":7.3511851544168e-07,"d":"7.35E-07"},{"$f":"VLOOKUP(A242,'[1]SD vs SY0.30'!$A$2:$E$20133,5,FALSE)","v":"ELK4"}]
["ENSGALG00000015611",376.28811916097,-1.03534828779258,0.133275330918402,-7.76849159299008,{"v":7.94262766388859e-15,"d":"7.94E-15"},{"v":1.60715288575136e-12,"d":"1.61E-12"},{"$f":"VLOOKUP(A243,'[1]SD vs SY0.30'!$A$2:$E$20133,5,FALSE)","v":"CASP8AP2"}]
["ENSGALG00000041680",25.7366172872021,-1.03779692623783,0.31076897940121,-3.33944825586343,0.000839449880616766,0.00623879738558949,{"$f":"VLOOKUP(A244,'[1]SD vs SY0.30'!$A$2:$E$20133,5,FALSE)","v":"KCNT2"}]
["ENSGALG00000039099",179.593412371848,-1.03850560234206,0.161961104974643,-6.41206790052862,{"v":1.43558866303529e-10,"d":"1.44E-10"},{"v":1.07942146207899E-8,"d":"1.08E-08"},{"$f":"VLOOKUP(A245,'[1]SD vs SY0.30'!$A$2:$E$20133,5,FALSE)","v":"MAPK9"}]
["ENSGALG00000014892",169.329329760032,-1.03960891171882,0.224367885604615,-4.63350139846144,{"v":3.59532329674991E-6,"d":"3.60E-06"},{"v":6.80232089148682e-05,"d":"6.80E-05"},{"$f":"VLOOKUP(A246,'[1]SD vs SY0.30'!$A$2:$E$20133,5,FALSE)","v":"CEP85L"}]
["ENSGALG00000031149",79.9529751168414,-1.03966796759622,0.403727304265471,-2.57517377846853,0.0100189734610946,0.0443123840536625,{"$f":"VLOOKUP(A247,'[1]SD vs SY0.30'!$A$2:$E$20133,5,FALSE)","v":"CD55"}]
["ENSGALG00000017065",219.438768710795,-1.04226334322377,0.194149734014849,-5.36834803566639,{"v":7.94611031318345E-8,"d":"7.95E-08"},{"v":2.67445617808275e-06,"d":"2.67E-06"},{"$f":"VLOOKUP(A248,'[1]SD vs SY0.30'!$A$2:$E$20133,5,FALSE)","v":"STARD13"}]
["ENSGALG00000034999",351.617346254243,-1.04261065916961,0.138674939178312,-7.51837834108578,{"v":5.54598182303847E-14,"d":"5.55E-14"},{"v":8.5695502769259E-12,"d":"8.57E-12"},{"$f":"VLOOKUP(A249,'[1]SD vs SY0.30'!$A$2:$E$20133,5,FALSE)","v":"ZHX1"}]
["ENSGALG00000002335",158.750318866771,-1.04353199960167,0.292755252186803,-3.56452016422172,0.00036452242903671,0.0031434742396433,{"$f":"VLOOKUP(A250,'[1]SD vs SY0.30'!$A$2:$E$20133,5,FALSE)","v":"DOCK3"}]
["ENSGALG00000016147",228.613095705433,-1.04416754512987,0.177731665660869,-5.8749662939763,{"v":4.22929391944128e-09,"d":"4.23E-09"},{"v":2.04801449426619e-07,"d":"2.05E-07"},{"$f":"VLOOKUP(A251,'[1]SD vs SY0.30'!$A$2:$E$20133,5,FALSE)","v":"ZBTB21"}]
["ENSGALG00000001714",198.778198868511,-1.0450307658372,0.193761710998672,-5.39338118171533,{"v":6.91440539382119e-08,"d":"6.91E-08"},{"v":2.40335681960693e-06,"d":"2.40E-06"},{"$f":"VLOOKUP(A252,'[1]SD vs SY0.30'!$A$2:$E$20133,5,FALSE)","v":"PUSL1"}]
["ENSGALG00000040051",26.5411140931713,-1.04586685304392,0.392292805746459,-2.66603628137874,0.00767514094112696,0.0362776336419174,{"$f":"VLOOKUP(A253,'[1]SD vs SY0.30'!$A$2:$E$20133,5,FALSE)","v":"NA"}]
["ENSGALG00000050863",99.032976543572,-1.04771531928247,0.341058145612924,-3.07195512776743,0.00212661691245253,0.0132354843137882,{"$f":"VLOOKUP(A254,'[1]SD vs SY0.30'!$A$2:$E$20133,5,FALSE)","v":"NA"}]
["ENSGALG00000020884",35.8421885833255,-1.04851712570335,0.306196870471275,-3.42432345598291,0.000616332153565801,0.00483200996963004,{"$f":"VLOOKUP(A255,'[1]SD vs SY0.30'!$A$2:$E$20133,5,FALSE)","v":"NA"}]
["ENSGALG00000014064",36.7571363910614,-1.04860853878699,0.259615075165469,-4.03908955640824,{"v":5.36590761177187e-05,"d":"5.37E-05"},0.000658039911091533,{"$f":"VLOOKUP(A256,'[1]SD vs SY0.30'!$A$2:$E$20133,5,FALSE)","v":"NA"}]
["ENSGALG00000033507",710.009597120619,-1.04890778235046,0.202272285386092,-5.18562283680305,{"v":2.15294126437307e-07,"d":"2.15E-07"},{"v":6.160529069116e-06,"d":"6.16E-06"},{"$f":"VLOOKUP(A257,'[1]SD vs SY0.30'!$A$2:$E$20133,5,FALSE)","v":"PLCG2"}]
["ENSGALG00000028560",372.053130658051,-1.04941967676062,0.291418734236522,-3.60107142565819,3.16908491225284E-4,2.79817850667852E-3,{"$f":"VLOOKUP(A258,'[1]SD vs SY0.30'!$A$2:$E$20133,5,FALSE)","v":"OC3"}]
["ENSGALG00000052803",65.5708333331874,-1.05038338822537,0.338676202336798,-3.10143842696338,1.92582919110767E-3,0.0122367546771055,{"$f":"VLOOKUP(A259,'[1]SD vs SY0.30'!$A$2:$E$20133,5,FALSE)","v":"NA"}]
["ENSGALG00000043541",161.955188496194,-1.05072615084986,0.120929352680118,-8.68876023531886,{"v":3.66416053127631e-18,"d":"3.66E-18"},{"v":1.38399414555785E-15,"d":"1.38E-15"},{"$f":"VLOOKUP(A260,'[1]SD vs SY0.30'!$A$2:$E$20133,5,FALSE)","v":"SREK1"}]
["ENSGALG00000003433",401.975989038017,-1.05144144188373,0.238043832140385,-4.41700771000715,{"v":1.00076661861473e-05,"d":"1.00E-05"},0.000162000287777092,{"$f":"VLOOKUP(A261,'[1]SD vs SY0.30'!$A$2:$E$20133,5,FALSE)","v":"DPEP2"}]
["ENSGALG00000029298",185.899733136025,-1.05201970124567,0.258356902720424,-4.07196281643031,{"v":4.66186226875428e-05,"d":"4.66E-05"},5.90005011035119E-4,{"$f":"VLOOKUP(A262,'[1]SD vs SY0.30'!$A$2:$E$20133,5,FALSE)","v":"F5"}]
["ENSGALG00000009403",75.7604406986311,-1.0527350872968,0.233494951262919,-4.50859892945355,{"v":6.52571386010678e-06,"d":"6.53E-06"},1.1215122192137E-4,{"$f":"VLOOKUP(A263,'[1]SD vs SY0.30'!$A$2:$E$20133,5,FALSE)","v":"GRK5"}]
["ENSGALG00000031129",1175.93430802614,-1.05337906467675,0.380531958346329,-2.76817502859523,0.00563711725980388,0.02855008404794,{"$f":"VLOOKUP(A264,'[1]SD vs SY0.30'!$A$2:$E$20133,5,FALSE)","v":"HMCN1"}]
["ENSGALG00000008638",100.536414765044,-1.05454544410756,0.382011183365458,-2.76050935162993,0.00577113057246072,0.0290721769819439,{"$f":"VLOOKUP(A265,'[1]SD vs SY0.30'!$A$2:$E$20133,5,FALSE)","v":"MMR1L3"}]
["ENSGALG00000010958",112.772993290473,-1.05635063098405,0.241162662928773,-4.38024119552887,{"v":1.18548016267151E-5,"d":"1.19E-05"},1.88113164002442E-4,{"$f":"VLOOKUP(A266,'[1]SD vs SY0.30'!$A$2:$E$20133,5,FALSE)","v":"PPFIA2"}]
["ENSGALG00000005521",4247.5653573063,-1.05647874581077,0.23442338974495,-4.5067121798734,{"v":6.58398449755982e-06,"d":"6.58E-06"},0.000112924303234131,{"$f":"VLOOKUP(A267,'[1]SD vs SY0.30'!$A$2:$E$20133,5,FALSE)","v":"PER2"}]
["ENSGALG00000012407",27.3483990386419,-1.05837134551078,0.317850501091816,-3.32977718101835,0.000869155072090433,0.00640912310642998,{"$f":"VLOOKUP(A268,'[1]SD vs SY0.30'!$A$2:$E$20133,5,FALSE)","v":"LRP1B"}]
["ENSGALG00000054431",40.0143119547059,-1.05973053373187,0.381238685951104,-2.77970356310531,0.00544085405986505,0.0278046291207235,{"$f":"VLOOKUP(A269,'[1]SD vs SY0.30'!$A$2:$E$20133,5,FALSE)","v":"NA"}]
["ENSGALG00000001169",67.4614780283022,-1.06147882641727,0.270389684056073,-3.9257371453459,{"v":8.64645364058586e-05,"d":"8.65E-05"},9.73563372415008E-4,{"$f":"VLOOKUP(A270,'[1]SD vs SY0.30'!$A$2:$E$20133,5,FALSE)","v":"CRB2"}]
["ENSGALG00000000558",85.8483551855278,-1.06221014643871,0.374289249731924,-2.83793923335893,0.00454058260626789,0.0241175882996048,{"$f":"VLOOKUP(A271,'[1]SD vs SY0.30'!$A$2:$E$20133,5,FALSE)","v":"SLC1A6"}]
["ENSGALG00000003026",987.749846151059,-1.06265082228154,0.168610225943456,-6.30241028582632,{"v":2.9305217280151e-10,"d":"2.93E-10"},{"v":2.0093610963416e-08,"d":"2.01E-08"},{"$f":"VLOOKUP(A272,'[1]SD vs SY0.30'!$A$2:$E$20133,5,FALSE)","v":"NA"}]
["ENSGALG00000015681",629.404313888872,-1.06585482533387,0.220378633436946,-4.83647079896621,{"v":1.32164678084609E-6,"d":"1.32E-06"},{"v":2.94417173447457e-05,"d":"2.94E-05"},{"$f":"VLOOKUP(A273,'[1]SD vs SY0.30'!$A$2:$E$20133,5,FALSE)","v":"NRIP1"}]
["ENSGALG00000023824",129.538409482368,-1.06616757084039,0.152993493850615,-6.96871183216072,{"v":3.19856096687579e-12,"d":"3.20E-12"},{"v":3.77541255236026e-10,"d":"3.78E-10"},{"$f":"VLOOKUP(A274,'[1]SD vs SY0.30'!$A$2:$E$20133,5,FALSE)","v":"LIPML5"}]
["ENSGALG00000048418",31.2713514380562,-1.06740320532137,0.358104244051908,-2.9807052640422,0.00287585432951441,0.0166926322532251,{"$f":"VLOOKUP(A275,'[1]SD vs SY0.30'!$A$2:$E$20133,5,FALSE)","v":"NA"}]
["ENSGALG00000012187",851.941120612026,-1.06755923000255,0.223688688820702,-4.77252218532271,{"v":1.81933060506433e-06,"d":"1.82E-06"},{"v":3.88726606371905e-05,"d":"3.89E-05"},{"$f":"VLOOKUP(A276,'[1]SD vs SY0.30'!$A$2:$E$20133,5,FALSE)","v":"MGAT5"}]
["ENSGALG00000030773",526.855837389609,-1.06881278164992,0.11314250416751,-9.44660708647142,{"v":3.49991659935693e-21,"d":"3.50E-21"},{"v":2.70400374723953e-18,"d":"2.70E-18"},{"$f":"VLOOKUP(A277,'[1]SD vs SY0.30'!$A$2:$E$20133,5,FALSE)","v":"CP"}]
["ENSGALG00000012067",85.7854138149423,-1.06921548974849,0.256536447846757,-4.16788919751156,{"v":3.0743330339602E-5,"d":"3.07E-05"},0.000418370204789603,{"$f":"VLOOKUP(A278,'[1]SD vs SY0.30'!$A$2:$E$20133,5,FALSE)","v":"LMLN"}]
["ENSGALG00000016258",67.0605398043875,-1.07078538071533,0.289239855220657,-3.70206719920546,0.000213849956541821,0.00202948504262497,{"$f":"VLOOKUP(A279,'[1]SD vs SY0.30'!$A$2:$E$20133,5,FALSE)","v":"SYTL5"}]
["ENSGALG00000052720",11.8026947374668,-1.0726343494904,0.412809600709886,-2.59837549234768,0.00936660063331434,0.0421153200263332,{"$f":"VLOOKUP(A280,'[1]SD vs SY0.30'!$A$2:$E$20133,5,FALSE)","v":"NA"}]
["ENSGALG00000032684",85.0372153039369,-1.07343018576627,0.242748327534997,-4.42198797687501,{"v":9.77968998542462e-06,"d":"9.78E-06"},0.000158460810945913,{"$f":"VLOOKUP(A281,'[1]SD vs SY0.30'!$A$2:$E$20133,5,FALSE)","v":"NA"}]
["ENSGALG00000014700",225.36314506254,-1.07380629992125,0.113432129471444,-9.46650922384013,{"v":2.89351917106634e-21,"d":"2.89E-21"},{"v":2.41266668776113e-18,"d":"2.41E-18"},{"$f":"VLOOKUP(A282,'[1]SD vs SY0.30'!$A$2:$E$20133,5,FALSE)","v":"DHX29"}]
["ENSGALG00000022866",192.852910315985,-1.07401803308943,0.167122911290452,-6.42651581878465,{"v":1.30561840950737e-10,"d":"1.31E-10"},{"v":1.00870891392712E-8,"d":"1.01E-08"},{"$f":"VLOOKUP(A283,'[1]SD vs SY0.30'!$A$2:$E$20133,5,FALSE)","v":"ZNF654"}]
["ENSGALG00000005251",198.868700000919,-1.07498674476518,0.1567496716779,-6.85798402802492,{"v":6.98390651981815E-12,"d":"6.98E-12"},{"v":7.51300374160437e-10,"d":"7.51E-10"},{"$f":"VLOOKUP(A284,'[1]SD vs SY0.30'!$A$2:$E$20133,5,FALSE)","v":"CMTM4"}]
["ENSGALG00000006034",148.838411042557,-1.07740576970062,0.26275125608084,-4.10047809388641,{"v":4.12297465203142e-05,"d":"4.12E-05"},0.000533319635925251,{"$f":"VLOOKUP(A285,'[1]SD vs SY0.30'!$A$2:$E$20133,5,FALSE)","v":"PITPNM3"}]
["ENSGALG00000034311",336.022142228523,-1.07948338271828,0.130567567715218,-8.26762266930449,{"v":1.36656603803426e-16,"d":"1.37E-16"},{"v":3.68690840451878e-14,"d":"3.69E-14"},{"$f":"VLOOKUP(A286,'[1]SD vs SY0.30'!$A$2:$E$20133,5,FALSE)","v":"BTBD7"}]
["ENSGALG00000044020",360.581442915633,-1.07970919003293,0.226552477524254,-4.76582380308481,{"v":1.88083572198902E-6,"d":"1.88E-06"},{"v":3.99429529618842E-5,"d":"3.99E-05"},{"$f":"VLOOKUP(A287,'[1]SD vs SY0.30'!$A$2:$E$20133,5,FALSE)","v":"NA"}]
["ENSGALG00000012380",382.283998843237,-1.07974144249899,0.102949098703424,-10.4881097173032,{"v":9.79687213375336e-26,"d":"9.80E-26"},{"v":1.38764529714505e-22,"d":"1.39E-22"},{"$f":"VLOOKUP(A288,'[1]SD vs SY0.30'!$A$2:$E$20133,5,FALSE)","v":"SPOPL"}]
["ENSGALG00000006076",156.761288701863,-1.08178444455126,0.181498482414532,-5.96029470968535,{"v":2.51783431551662e-09,"d":"2.52E-09"},{"v":1.30474481283036e-07,"d":"1.30E-07"},{"$f":"VLOOKUP(A289,'[1]SD vs SY0.30'!$A$2:$E$20133,5,FALSE)","v":"RASGEF1C"}]
["ENSGALG00000011283",66.1519855970932,-1.08353215418754,0.285678486799509,-3.79283776782242,0.000148935463951825,1.52313843609456E-3,{"$f":"VLOOKUP(A290,'[1]SD vs SY0.30'!$A$2:$E$20133,5,FALSE)","v":"ZNF385D"}]
["ENSGALG00000003164",11.8394067225329,-1.083544109053,0.427409550873442,-2.5351424806458,0.0112401598229147,0.0483301281330838,{"$f":"VLOOKUP(A291,'[1]SD vs SY0.30'!$A$2:$E$20133,5,FALSE)","v":"NA"}]
["ENSGALG00000009982",380.241228192753,-1.08512283130063,0.221634424472363,-4.89600310910158,{"v":9.78055190385154e-07,"d":"9.78E-07"},{"v":2.29613315897465e-05,"d":"2.30E-05"},{"$f":"VLOOKUP(A292,'[1]SD vs SY0.30'!$A$2:$E$20133,5,FALSE)","v":"ZNF827"}]
["ENSGALG00000054970",49.7747305392261,-1.08658186981738,0.314262459002866,-3.45756178852871,0.000545087228686397,0.00436403562222454,{"$f":"VLOOKUP(A293,'[1]SD vs SY0.30'!$A$2:$E$20133,5,FALSE)","v":"NA"}]
["ENSGALG00000014645",143.900593086002,-1.0871849496968,0.274578085765581,-3.95947457593167,{"v":7.51148400609665e-05,"d":"7.51E-05"},0.000865706869550036,{"$f":"VLOOKUP(A294,'[1]SD vs SY0.30'!$A$2:$E$20133,5,FALSE)","v":"MEF2C"}]
["ENSGALG00000009885",839.623344537001,-1.08764366910867,0.139436258941555,-7.80029296084712,{"v":6.17636214084948e-15,"d":"6.18E-15"},{"v":1.29604478158048E-12,"d":"1.30E-12"},{"$f":"VLOOKUP(A295,'[1]SD vs SY0.30'!$A$2:$E$20133,5,FALSE)","v":"HELB"}]
["ENSGALG00000010869",433.608694678987,-1.0877673716628,0.157275230096432,-6.91632986959128,{"v":4.6349444260701e-12,"d":"4.63E-12"},{"v":5.28725841677272e-10,"d":"5.29E-10"},{"$f":"VLOOKUP(A296,'[1]SD vs SY0.30'!$A$2:$E$20133,5,FALSE)","v":"MYSM1"}]
["ENSGALG00000013846",203.552794402731,-1.08900924062007,0.149652354891996,-7.27692685762286,{"v":3.41510292507469e-13,"d":"3.42E-13"},{"v":4.68116971108827e-11,"d":"4.68E-11"},{"$f":"VLOOKUP(A297,'[1]SD vs SY0.30'!$A$2:$E$20133,5,FALSE)","v":"ARFGEF3"}]
["ENSGALG00000002124",144.026030267045,-1.08903838766575,0.18119832356499,-6.01020123276774,{"v":1.85293184794651E-9,"d":"1.85E-09"},{"v":1.01107427808542E-7,"d":"1.01E-07"},{"$f":"VLOOKUP(A298,'[1]SD vs SY0.30'!$A$2:$E$20133,5,FALSE)","v":"ZDHHC8"}]
["ENSGALG00000053860",4044.68430083051,-1.0893383642813,0.359412384046292,-3.03088711640217,0.00243836390611941,0.0147543151699223,{"$f":"VLOOKUP(A299,'[1]SD vs SY0.30'!$A$2:$E$20133,5,FALSE)","v":"LOC420486,LOC420486"}]
["ENSGALG00000014178",175.515617821242,-1.09259868478414,0.268750771812192,-4.06547180280347,{"v":4.79353899134092e-05,"d":"4.79E-05"},0.000603524312857938,{"$f":"VLOOKUP(A300,'[1]SD vs SY0.30'!$A$2:$E$20133,5,FALSE)","v":"SCUBE1"}]
["ENSGALG00000015889",558.145120077369,-1.09467373867455,0.107967691303175,-10.1389010495806,{"v":3.71252444684362e-24,"d":"3.71E-24"},{"v":4.2067852015334e-21,"d":"4.21E-21"},{"$f":"VLOOKUP(A301,'[1]SD vs SY0.30'!$A$2:$E$20133,5,FALSE)","v":"PHIP"}]
["ENSGALG00000003775",278.454162652004,-1.09620828718559,0.127512470576093,-8.59687120979608,{"v":8.19188322773799e-18,"d":"8.19E-18"},{"v":2.73014586709535e-15,"d":"2.73E-15"},{"$f":"VLOOKUP(A302,'[1]SD vs SY0.30'!$A$2:$E$20133,5,FALSE)","v":"RICTOR"}]
["ENSGALG00000007902",367.557649098562,-1.09726248030933,0.127867402114416,-8.58125262705738,{"v":9.38455225778914e-18,"d":"9.38E-18"},{"v":3.06748528318542e-15,"d":"3.07E-15"},{"$f":"VLOOKUP(A303,'[1]SD vs SY0.30'!$A$2:$E$20133,5,FALSE)","v":"ATP7A"}]
["ENSGALG00000043044",134.689284435847,-1.09774325458886,0.183710889754485,-5.97538478016142,{"v":2.29547731133506e-09,"d":"2.30E-09"},{"v":1.21168409505472e-07,"d":"1.21E-07"},{"$f":"VLOOKUP(A304,'[1]SD vs SY0.30'!$A$2:$E$20133,5,FALSE)","v":"IL1R1"}]
["ENSGALG00000006955",36.629953796485,-1.09882875810249,0.304052422220236,-3.61394508906944,0.000301572957485478,0.0026836835384192,{"$f":"VLOOKUP(A305,'[1]SD vs SY0.30'!$A$2:$E$20133,5,FALSE)","v":"CCNJ"}]
["ENSGALG00000049190",34.8100763086391,-1.10447520915369,0.226961118800432,-4.86636308012239,{"v":1.13670608539452E-6,"d":"1.14E-06"},{"v":2.60034903545769e-05,"d":"2.60E-05"},{"$f":"VLOOKUP(A306,'[1]SD vs SY0.30'!$A$2:$E$20133,5,FALSE)","v":"NA"}]
["ENSGALG00000030803",39.5695669269457,-1.10705338041853,0.323332642802022,-3.42388374654887,6.17330235536829E-4,0.0048376035101058,{"$f":"VLOOKUP(A307,'[1]SD vs SY0.30'!$A$2:$E$20133,5,FALSE)","v":"NA"}]
["ENSGALG00000036725",51.4789304576708,-1.11111734412962,0.344187114141913,-3.22823632401152,0.0012455602765278,0.00862353890840857,{"$f":"VLOOKUP(A308,'[1]SD vs SY0.30'!$A$2:$E$20133,5,FALSE)","v":"ASCL3"}]
["ENSGALG00000016707",748.778466607593,-1.11152083128776,0.301521110088725,-3.68637814765501,0.000227468279580588,0.00213724618464967,{"$f":"VLOOKUP(A309,'[1]SD vs SY0.30'!$A$2:$E$20133,5,FALSE)","v":"CLIC5"}]
["ENSGALG00000017268",24.2600837527243,-1.11163115783036,0.290093989025391,-3.83196894759877,0.000127121787408586,0.00133329878021041,{"$f":"VLOOKUP(A310,'[1]SD vs SY0.30'!$A$2:$E$20133,5,FALSE)","v":"KCTD21"}]
["ENSGALG00000009942",657.623322007268,-1.1126508504275,0.125961893303925,-8.83323377605045,{"v":1.01692182814538e-18,"d":"1.02E-18"},{"v":4.67151900351002e-16,"d":"4.67E-16"},{"$f":"VLOOKUP(A311,'[1]SD vs SY0.30'!$A$2:$E$20133,5,FALSE)","v":"MDM2"}]
["ENSGALG00000043724",380.041062602015,-1.11360820452819,0.128265863890455,-8.68203098432535,{"v":3.88763477259681e-18,"d":"3.89E-18"},{"v":1.43648104847452e-15,"d":"1.44E-15"},{"$f":"VLOOKUP(A312,'[1]SD vs SY0.30'!$A$2:$E$20133,5,FALSE)","v":"NFX1"}]
["ENSGALG00000006933",36.3948455325893,-1.1136616713562,0.233354861337191,-4.77239541946798,{"v":1.82047642920537E-6,"d":"1.82E-06"},{"v":3.88726606371905e-05,"d":"3.89E-05"},{"$f":"VLOOKUP(A313,'[1]SD vs SY0.30'!$A$2:$E$20133,5,FALSE)","v":"MOSMO"}]
["ENSGALG00000034586",85.3109802210706,-1.11507197037378,0.205868868510386,-5.41641860880738,{"v":6.08046502317969e-08,"d":"6.08E-08"},{"v":2.13974459625228e-06,"d":"2.14E-06"},{"$f":"VLOOKUP(A314,'[1]SD vs SY0.30'!$A$2:$E$20133,5,FALSE)","v":"NA"}]
["ENSGALG00000037326",95.5591865002008,-1.11548930637832,0.184716880694359,-6.03891372669969,{"v":1.5515516791012e-09,"d":"1.55E-09"},{"v":8.73235890386855e-08,"d":"8.73E-08"},{"$f":"VLOOKUP(A315,'[1]SD vs SY0.30'!$A$2:$E$20133,5,FALSE)","v":"MAP3K9"}]
["ENSGALG00000029322",104.064666863527,-1.11592404989534,0.240483936811209,-4.64032677064579,{"v":3.47858673850957e-06,"d":"3.48E-06"},{"v":6.60620545189354e-05,"d":"6.61E-05"},{"$f":"VLOOKUP(A316,'[1]SD vs SY0.30'!$A$2:$E$20133,5,FALSE)","v":"FBXO39"}]
["ENSGALG00000013209",241.320691120847,-1.11599193107147,0.176327691857065,-6.32907922356357,{"v":2.46628466815524e-10,"d":"2.47E-10"},{"v":1.73220828531548e-08,"d":"1.73E-08"},{"$f":"VLOOKUP(A317,'[1]SD vs SY0.30'!$A$2:$E$20133,5,FALSE)","v":"SLC39A6"}]
["ENSGALG00000044996",41.1351430118666,-1.11659966861045,0.390999243380807,-2.85575915430342,0.00429340682602521,0.0230785121296175,{"$f":"VLOOKUP(A318,'[1]SD vs SY0.30'!$A$2:$E$20133,5,FALSE)","v":"TMEM71"}]
["ENSGALG00000054498",51.5517421098543,-1.11822588362816,0.212084028842385,-5.27256054938108,{"v":1.34533430570021e-07,"d":"1.35E-07"},{"v":4.1201166115291e-06,"d":"4.12E-06"},{"$f":"VLOOKUP(A319,'[1]SD vs SY0.30'!$A$2:$E$20133,5,FALSE)","v":"NA"}]
["ENSGALG00000023552",52.8565831069183,-1.11831715256393,0.285979387478021,-3.91048166941711,{"v":9.21122508535801e-05,"d":"9.21E-05"},0.00102731753789915,{"$f":"VLOOKUP(A320,'[1]SD vs SY0.30'!$A$2:$E$20133,5,FALSE)","v":"SPEF2"}]
["ENSGALG00000001239",464.499089796862,-1.11849276302883,0.175086532783239,-6.38822841054001,{"v":1.67818548908725e-10,"d":"1.68E-10"},{"v":1.22948787750069E-8,"d":"1.23E-08"},{"$f":"VLOOKUP(A321,'[1]SD vs SY0.30'!$A$2:$E$20133,5,FALSE)","v":"SLC26A2"}]
["ENSGALG00000003131",141.552340593006,-1.11850751605588,0.163481464032835,-6.84180021675869,{"v":7.82041047072834e-12,"d":"7.82E-12"},{"v":8.25611905409749E-10,"d":"8.26E-10"},{"$f":"VLOOKUP(A322,'[1]SD vs SY0.30'!$A$2:$E$20133,5,FALSE)","v":"DGKE"}]
["ENSGALG00000009372",134.029249485626,-1.11941256768148,0.162222882973999,-6.90046032445926,{"v":5.18342973109251E-12,"d":"5.18E-12"},{"v":5.81451616569672e-10,"d":"5.81E-10"},{"$f":"VLOOKUP(A323,'[1]SD vs SY0.30'!$A$2:$E$20133,5,FALSE)","v":"PHC3"}]
["ENSGALG00000013625",67.6401810360217,-1.12213032012911,0.251490730044177,-4.46191523612819,{"v":8.12303591306716e-06,"d":"8.12E-06"},0.000135492876756038,{"$f":"VLOOKUP(A324,'[1]SD vs SY0.30'!$A$2:$E$20133,5,FALSE)","v":"IPCEF1"}]
["ENSGALG00000026578",59.026375569947,-1.12253753365948,0.246528473931182,-4.5533788278462,{"v":5.27910841763788e-06,"d":"5.28E-06"},{"v":9.44515850258853e-05,"d":"9.45E-05"},{"$f":"VLOOKUP(A325,'[1]SD vs SY0.30'!$A$2:$E$20133,5,FALSE)","v":"LOC769510"}]
["ENSGALG00000029287",37.4925333236778,-1.12324215078347,0.27928549688044,-4.02184203379643,{"v":5.77447804214188e-05,"d":"5.77E-05"},0.000696846761829089,{"$f":"VLOOKUP(A326,'[1]SD vs SY0.30'!$A$2:$E$20133,5,FALSE)","v":"TMEM67"}]
["ENSGALG00000004704",28.4180000111904,-1.12327397128004,0.436776727235712,-2.57173494198982,0.0101190330808569,0.044592482570735,{"$f":"VLOOKUP(A327,'[1]SD vs SY0.30'!$A$2:$E$20133,5,FALSE)","v":"TDRD12"}]
["ENSGALG00000054619",104.895702219793,-1.12837508009832,0.191418507206021,-5.89480660239331,{"v":3.75120467382589e-09,"d":"3.75E-09"},{"v":1.84809350263822e-07,"d":"1.85E-07"},{"$f":"VLOOKUP(A328,'[1]SD vs SY0.30'!$A$2:$E$20133,5,FALSE)","v":"GAB2"}]
["ENSGALG00000053491",17.6698308480726,-1.12867439163804,0.386947335894003,-2.9168682322889,0.00353565104070426,0.0197487547613705,{"$f":"VLOOKUP(A329,'[1]SD vs SY0.30'!$A$2:$E$20133,5,FALSE)","v":"NA"}]
["ENSGALG00000034946",19.1850115773948,-1.128784032843,0.435589838434268,-2.59139202351557,0.0095588532999356,0.0427726356445943,{"$f":"VLOOKUP(A330,'[1]SD vs SY0.30'!$A$2:$E$20133,5,FALSE)","v":"NA"}]
["ENSGALG00000020813",525.841792069679,-1.12907917298239,0.144620236919909,-7.80720041004825,{"v":5.84722537115783e-15,"d":"5.85E-15"},{"v":1.24231612041962e-12,"d":"1.24E-12"},{"$f":"VLOOKUP(A331,'[1]SD vs SY0.30'!$A$2:$E$20133,5,FALSE)","v":"CCDC50"}]
["ENSGALG00000052026",58.72582500713,-1.13042845759915,0.3787257963307,-2.98482033321034,0.00283744930934996,0.0165221397434126,{"$f":"VLOOKUP(A332,'[1]SD vs SY0.30'!$A$2:$E$20133,5,FALSE)","v":"SPIK2"}]
["ENSGALG00000003136",98.9996753068367,-1.13228340925651,0.304664929613957,-3.71648752185304,0.000202011613101722,1.94097873820801E-3,{"$f":"VLOOKUP(A333,'[1]SD vs SY0.30'!$A$2:$E$20133,5,FALSE)","v":"IKZF2"}]
["ENSGALG00000051484",19.1532083544819,-1.13423498776281,0.411818123919996,-2.75421338178686,0.00588333962814652,0.0295156799467551,{"$f":"VLOOKUP(A334,'[1]SD vs SY0.30'!$A$2:$E$20133,5,FALSE)","v":"NA"}]
["ENSGALG00000052679",22.1536429886695,-1.13535686141242,0.33601767882935,-3.37886049736396,0.000727869327335545,0.00553291366579708,{"$f":"VLOOKUP(A335,'[1]SD vs SY0.30'!$A$2:$E$20133,5,FALSE)","v":"NA"}]
["ENSGALG00000033411",51.1664534222448,-1.13619564181455,0.391692850883497,-2.90073111942627,0.0037229317981868,0.020611945203186,{"$f":"VLOOKUP(A336,'[1]SD vs SY0.30'!$A$2:$E$20133,5,FALSE)","v":"LOC100859549"}]
["ENSGALG00000033126",452.311074466912,-1.13629733775555,0.144254055023219,-7.87705647215706,{"v":3.35183446669392e-15,"d":"3.35E-15"},{"v":7.4962013724206e-13,"d":"7.50E-13"},{"$f":"VLOOKUP(A337,'[1]SD vs SY0.30'!$A$2:$E$20133,5,FALSE)","v":"DGCR8"}]
["ENSGALG00000000215",203.947069231499,-1.13902749804701,0.121716424561463,-9.3580426976134,{"v":8.12274225121482e-21,"d":"8.12E-21"},{"v":5.52249000175593e-18,"d":"5.52E-18"},{"$f":"VLOOKUP(A338,'[1]SD vs SY0.30'!$A$2:$E$20133,5,FALSE)","v":"DCP2"}]
["ENSGALG00000005303",15.3468137740755,-1.14117833770679,0.380739137062354,-2.99727090446156,0.0027240852040276,0.0160434082511632,{"$f":"VLOOKUP(A339,'[1]SD vs SY0.30'!$A$2:$E$20133,5,FALSE)","v":"NA"}]
["ENSGALG00000050414",73.3730777714565,-1.14539639101112,0.330747939963179,-3.46304920640965,0.000534090713293447,0.00429875616952102,{"$f":"VLOOKUP(A340,'[1]SD vs SY0.30'!$A$2:$E$20133,5,FALSE)","v":"NA"}]
["ENSGALG00000052725",105.155393226331,-1.14586709119589,0.185118844998281,-6.18989974362971,{"v":6.02024932148968e-10,"d":"6.02E-10"},{"v":3.81814095960299e-08,"d":"3.82E-08"},{"$f":"VLOOKUP(A341,'[1]SD vs SY0.30'!$A$2:$E$20133,5,FALSE)","v":"NA"}]
["ENSGALG00000001895",873.045559030811,-1.14631772711983,0.197188642754937,-5.81330502154961,{"v":6.12513056568743e-09,"d":"6.13E-09"},{"v":2.82904468002688e-07,"d":"2.83E-07"},{"$f":"VLOOKUP(A342,'[1]SD vs SY0.30'!$A$2:$E$20133,5,FALSE)","v":"PANK3"}]
["ENSGALG00000011855",55.1831836473265,-1.14906707962929,0.350030435659318,-3.28276333303676,1.02794926608636E-3,0.00737528648192057,{"$f":"VLOOKUP(A343,'[1]SD vs SY0.30'!$A$2:$E$20133,5,FALSE)","v":"RHOJ"}]
["ENSGALG00000035602",54.3361011440386,-1.16013637230056,0.289075881574967,-4.01325896155644,{"v":5.98861515100611e-05,"d":"5.99E-05"},0.000718845280520133,{"$f":"VLOOKUP(A344,'[1]SD vs SY0.30'!$A$2:$E$20133,5,FALSE)","v":"ZNF536"}]
["ENSGALG00000015333",130.776818963759,-1.16168967854306,0.166695230264217,-6.96894372263529,{"v":3.19329397465695e-12,"d":"3.19E-12"},{"v":3.77541255236026e-10,"d":"3.78E-10"},{"$f":"VLOOKUP(A345,'[1]SD vs SY0.30'!$A$2:$E$20133,5,FALSE)","v":"PCGF3"}]
["ENSGALG00000007525",31.932212405811,-1.16561442617711,0.382636534739285,-3.04627059977772,0.00231699207812508,0.0141508855019375,{"$f":"VLOOKUP(A346,'[1]SD vs SY0.30'!$A$2:$E$20133,5,FALSE)","v":"INCENPL"}]
["ENSGALG00000007337",158.675596086842,-1.16705740885231,0.169908145829394,-6.86875489786206,{"v":6.47646692461957e-12,"d":"6.48E-12"},{"v":7.01421978826625e-10,"d":"7.01E-10"},{"$f":"VLOOKUP(A347,'[1]SD vs SY0.30'!$A$2:$E$20133,5,FALSE)","v":"LPP"}]
["ENSGALG00000041736",26.826880534902,-1.16776364377696,0.29543900737834,-3.952638665217,{"v":7.72941105068744e-05,"d":"7.73E-05"},0.000886167182205055,{"$f":"VLOOKUP(A348,'[1]SD vs SY0.30'!$A$2:$E$20133,5,FALSE)","v":"FSTL5"}]
["ENSGALG00000011421",27.2335757082561,-1.16887120869045,0.417907699495567,-2.79696021418444,0.00515858851859484,0.0266506167326919,{"$f":"VLOOKUP(A349,'[1]SD vs SY0.30'!$A$2:$E$20133,5,FALSE)","v":"HAL"}]
["ENSGALG00000015605",48.6415007016578,-1.17221350042193,0.241282698872898,-4.85825757875587,{"v":1.18423286476952e-06,"d":"1.18E-06"},{"v":2.68021384853363e-05,"d":"2.68E-05"},{"$f":"VLOOKUP(A350,'[1]SD vs SY0.30'!$A$2:$E$20133,5,FALSE)","v":"BACH2"}]
["ENSGALG00000052249",18.9774256683506,-1.1739072876308,0.409869324129896,-2.86410135748232,0.00418194172340807,0.0226226809270423,{"$f":"VLOOKUP(A351,'[1]SD vs SY0.30'!$A$2:$E$20133,5,FALSE)","v":"NA"}]
["ENSGALG00000047341",161.839965877352,-1.17447300759066,0.313340225282929,-3.74823566470016,0.000178082888817194,1.76083470693767E-3,{"$f":"VLOOKUP(A352,'[1]SD vs SY0.30'!$A$2:$E$20133,5,FALSE)","v":"NA"}]
["ENSGALG00000004532",134.199272875859,-1.17636926546861,0.172342243300115,-6.8257743600337,{"v":8.74522931209643e-12,"d":"8.75E-12"},{"v":9.17547300109278e-10,"d":"9.18E-10"},{"$f":"VLOOKUP(A353,'[1]SD vs SY0.30'!$A$2:$E$20133,5,FALSE)","v":"ZNF507"}]
["ENSGALG00000046316",35.6948240198105,-1.17939252481555,0.46595102678964,-2.53115125197054,0.0113688811896795,0.048723367014872,{"$f":"VLOOKUP(A354,'[1]SD vs SY0.30'!$A$2:$E$20133,5,FALSE)","v":"CFAP97D1"}]
["ENSGALG00000039300",917.967531244196,-1.18016520598586,0.13166522760218,-8.96337801163165,{"v":3.14880878421578e-19,"d":"3.15E-19"},{"v":1.54674057789891e-16,"d":"1.55E-16"},{"$f":"VLOOKUP(A355,'[1]SD vs SY0.30'!$A$2:$E$20133,5,FALSE)","v":"NFAT5"}]
["ENSGALG00000002227",506.004603425062,-1.18039217801195,0.180370863123967,-6.54425087050052,{"v":5.97943506285408e-11,"d":"5.98E-11"},{"v":5.15900800829091E-9,"d":"5.16E-09"},{"$f":"VLOOKUP(A356,'[1]SD vs SY0.30'!$A$2:$E$20133,5,FALSE)","v":"DMXL1"}]
["ENSGALG00000008298",285.881691418666,-1.18100961920336,0.314502033024808,-3.75517324274405,0.000173221618810306,0.00172278985074241,{"$f":"VLOOKUP(A357,'[1]SD vs SY0.30'!$A$2:$E$20133,5,FALSE)","v":"LRRC17"}]
["ENSGALG00000050582",77.1384301664293,-1.18163931587842,0.171910599949023,-6.87356868179629,{"v":6.26153407179536e-12,"d":"6.26E-12"},{"v":6.86627707214876e-10,"d":"6.87E-10"},{"$f":"VLOOKUP(A358,'[1]SD vs SY0.30'!$A$2:$E$20133,5,FALSE)","v":"NA"}]
["ENSGALG00000050993",34.3659297772581,-1.18288359368712,0.320685938437497,-3.68860449401236,2.25487417301307E-4,0.00212424394104949,{"$f":"VLOOKUP(A359,'[1]SD vs SY0.30'!$A$2:$E$20133,5,FALSE)","v":"NA"}]
["ENSGALG00000012994",154.203356596619,-1.1838899573531,0.145946624526666,-8.11180088058006,{"v":4.98749834580498e-16,"d":"4.99E-16"},{"v":1.21103584833782E-13,"d":"1.21E-13"},{"$f":"VLOOKUP(A360,'[1]SD vs SY0.30'!$A$2:$E$20133,5,FALSE)","v":"ERC1"}]
["ENSGALG00000005527",290.117938752009,-1.18524939901541,0.197841665691084,-5.99089880726185,{"v":2.08684463924218e-09,"d":"2.09E-09"},{"v":1.12247146624048E-7,"d":"1.12E-07"},{"$f":"VLOOKUP(A361,'[1]SD vs SY0.30'!$A$2:$E$20133,5,FALSE)","v":"APPL1"}]
["ENSGALG00000041565",36.5458562263495,-1.18597815450501,0.291245189977223,-4.07209524935936,{"v":4.65921177765391e-05,"d":"4.66E-05"},5.90005011035119E-4,{"$f":"VLOOKUP(A362,'[1]SD vs SY0.30'!$A$2:$E$20133,5,FALSE)","v":"NA"}]
["ENSGALG00000053347",18.3957335601711,-1.18604854364746,0.353668706232182,-3.35355806931028,0.000797796715282092,0.00597890245575384,{"$f":"VLOOKUP(A363,'[1]SD vs SY0.30'!$A$2:$E$20133,5,FALSE)","v":"NA"}]
["ENSGALG00000016128",269.723346823024,-1.18890184586721,0.422164875098655,-2.81620266392219,0.00485950014484349,0.0254614438846809,{"$f":"VLOOKUP(A364,'[1]SD vs SY0.30'!$A$2:$E$20133,5,FALSE)","v":"B3GALT5"}]
["ENSGALG00000016529",36.5025995822688,-1.19034544252314,0.295220978944457,-4.03204896474209,{"v":5.52926629033326e-05,"d":"5.53E-05"},0.000673215896395375,{"$f":"VLOOKUP(A365,'[1]SD vs SY0.30'!$A$2:$E$20133,5,FALSE)","v":"CDKL5"}]
["ENSGALG00000030032",98.6832316726435,-1.19281771536903,0.371578857227334,-3.21013344050213,1.32673365604212E-3,0.00911284819780018,{"$f":"VLOOKUP(A366,'[1]SD vs SY0.30'!$A$2:$E$20133,5,FALSE)","v":"SLC4A10"}]
["ENSGALG00000024565",12.3304881136633,-1.19386493465476,0.414015930708495,-2.88362076457235,0.00393131876090223,0.0214942334553697,{"$f":"VLOOKUP(A367,'[1]SD vs SY0.30'!$A$2:$E$20133,5,FALSE)","v":"NA"}]
["ENSGALG00000010589",21.9544123712449,-1.1962619476106,0.374872372239404,-3.19111792758799,1.41723420555977E-3,0.00959749926385867,{"$f":"VLOOKUP(A368,'[1]SD vs SY0.30'!$A$2:$E$20133,5,FALSE)","v":"FLRT2"}]
["ENSGALG00000008501",73.4547564527761,-1.19722106622985,0.238866512365392,-5.01209254647832,{"v":5.38412963467587e-07,"d":"5.38E-07"},{"v":1.3679230403675e-05,"d":"1.37E-05"},{"$f":"VLOOKUP(A369,'[1]SD vs SY0.30'!$A$2:$E$20133,5,FALSE)","v":"KLF7"}]
["ENSGALG00000035293",27.1443706472651,-1.20070289586742,0.393065830649085,-3.05471196487533,0.00225276762098152,0.013833197707306,{"$f":"VLOOKUP(A370,'[1]SD vs SY0.30'!$A$2:$E$20133,5,FALSE)","v":"NA"}]
["ENSGALG00000006165",308.941118155344,-1.20216196814355,0.370129281423218,-3.24795153607142,1.16239067543489E-3,0.00815786365709148,{"$f":"VLOOKUP(A371,'[1]SD vs SY0.30'!$A$2:$E$20133,5,FALSE)","v":"NA"}]
["ENSGALG00000013177",118.441116467044,-1.20441681376085,0.316358115931343,-3.80713107427356,1.40588241225088E-4,0.00145263120735734,{"$f":"VLOOKUP(A372,'[1]SD vs SY0.30'!$A$2:$E$20133,5,FALSE)","v":"BCAT1"}]
["ENSGALG00000004087",133.153408144001,-1.20443551531406,0.269061286578732,-4.47643557580929,{"v":7.58995571455403e-06,"d":"7.59E-06"},1.27982616349479E-4,{"$f":"VLOOKUP(A373,'[1]SD vs SY0.30'!$A$2:$E$20133,5,FALSE)","v":"THSD4"}]
["ENSGALG00000037545",30.2633214521142,-1.20460872924819,0.368487890870627,-3.26905919866746,0.00107905722979883,0.00767073849221695,{"$f":"VLOOKUP(A374,'[1]SD vs SY0.30'!$A$2:$E$20133,5,FALSE)","v":"GRIP2"}]
["ENSGALG00000003016",25.0897193175366,-1.20947199486588,0.461585235492062,-2.6202571093431,0.00878634955652519,0.0403298902004479,{"$f":"VLOOKUP(A375,'[1]SD vs SY0.30'!$A$2:$E$20133,5,FALSE)","v":"MASP2"}]
["ENSGALG00000012223",22.6579335760471,-1.21031701891157,0.397159598394409,-3.04743237681904,0.00230805451329792,0.0141115117131384,{"$f":"VLOOKUP(A376,'[1]SD vs SY0.30'!$A$2:$E$20133,5,FALSE)","v":"ZRANB3"}]
["ENSGALG00000047062",9.33827548142052,-1.21522194055948,0.457764699195294,-2.65468687886096,0.00793820557986575,0.0372619939908805,{"$f":"VLOOKUP(A377,'[1]SD vs SY0.30'!$A$2:$E$20133,5,FALSE)","v":"NA"}]
["ENSGALG00000032452",128.804078148769,-1.22173925223162,0.188079081960089,-6.49588055991722,{"v":8.2549131797947e-11,"d":"8.25E-11"},{"v":6.81110482121216e-09,"d":"6.81E-09"},{"$f":"VLOOKUP(A378,'[1]SD vs SY0.30'!$A$2:$E$20133,5,FALSE)","v":"GAS7"}]
["ENSGALG00000008006",43.4632087771897,-1.23509167973335,0.417249927298103,-2.96007644083049,3.07562718710207E-3,0.0176093632035064,{"$f":"VLOOKUP(A379,'[1]SD vs SY0.30'!$A$2:$E$20133,5,FALSE)","v":"CAPN6"}]
["ENSGALG00000002142",101.336284222184,-1.23712907264868,0.154847163339796,-7.98935573610686,{"v":1.35645755549654E-15,"d":"1.36E-15"},{"v":3.20218181538537e-13,"d":"3.20E-13"},{"$f":"VLOOKUP(A380,'[1]SD vs SY0.30'!$A$2:$E$20133,5,FALSE)","v":"DGKQ"}]
["ENSGALG00000033416",26.257041080348,-1.23919077639615,0.46148104535545,-2.68524739827976,0.00724761365027013,0.0346703635990949,{"$f":"VLOOKUP(A381,'[1]SD vs SY0.30'!$A$2:$E$20133,5,FALSE)","v":"HIC2"}]
["ENSGALG00000015390",138.406244350133,-1.23985104979491,0.190068460695298,-6.52318141189418,{"v":6.88315262391597e-11,"d":"6.88E-11"},{"v":5.82054453476118E-9,"d":"5.82E-09"},{"$f":"VLOOKUP(A382,'[1]SD vs SY0.30'!$A$2:$E$20133,5,FALSE)","v":"HOOK3"}]
["ENSGALG00000052648",477.352203008984,-1.24202309777985,0.0814325676036366,-15.2521667230886,{"v":1.5925931249628e-52,"d":"1.59E-52"},{"v":1.35346526724964E-48,"d":"1.35E-48"},{"$f":"VLOOKUP(A383,'[1]SD vs SY0.30'!$A$2:$E$20133,5,FALSE)","v":"PRR14L"}]
["ENSGALG00000000636",852.949663647714,-1.24492700202248,0.0976193866861494,-12.7528664569976,{"v":3.00489504500123e-37,"d":"3.00E-37"},{"v":1.02148402159772E-33,"d":"1.02E-33"},{"$f":"VLOOKUP(A384,'[1]SD vs SY0.30'!$A$2:$E$20133,5,FALSE)","v":"MDM4"}]
["ENSGALG00000001730",1155.54842202281,-1.24536922038228,0.142314093529303,-8.75084954341402,{"v":2.11752538223674e-18,"d":"2.12E-18"},{"v":8.56942355282805E-16,"d":"8.57E-16"},{"$f":"VLOOKUP(A385,'[1]SD vs SY0.30'!$A$2:$E$20133,5,FALSE)","v":"DGKD"}]
["ENSGALG00000038433",974.775356066895,-1.25061015293824,0.28944511183616,-4.320716093648,{"v":1.55523667658965e-05,"d":"1.56E-05"},0.000234972069262172,{"$f":"VLOOKUP(A386,'[1]SD vs SY0.30'!$A$2:$E$20133,5,FALSE)","v":"SPON2"}]
["ENSGALG00000012847",26.8733709659437,-1.25091623526742,0.397891026263939,-3.14386641742864,1.66731531531609E-3,0.01086631841044,{"$f":"VLOOKUP(A387,'[1]SD vs SY0.30'!$A$2:$E$20133,5,FALSE)","v":"CGTL"}]
["ENSGALG00000002350",36.3097105288243,-1.25463510679116,0.361934916272747,-3.46646606995412,0.000527348288836765,0.00426014204627305,{"$f":"VLOOKUP(A388,'[1]SD vs SY0.30'!$A$2:$E$20133,5,FALSE)","v":"DNAH3"}]
["ENSGALG00000008786",837.00206015313,-1.26210887511001,0.14309275092312,-8.82021532864448,{"v":1.14239821636184E-18,"d":"1.14E-18"},{"v":4.97880576500057e-16,"d":"4.98E-16"},{"$f":"VLOOKUP(A389,'[1]SD vs SY0.30'!$A$2:$E$20133,5,FALSE)","v":"NBEAL1"}]
["ENSGALG00000007777",115.666411545218,-1.26389506809157,0.271641135383146,-4.65281175588103,{"v":3.27439147415976e-06,"d":"3.27E-06"},{"v":6.2886815690727e-05,"d":"6.29E-05"},{"$f":"VLOOKUP(A390,'[1]SD vs SY0.30'!$A$2:$E$20133,5,FALSE)","v":"SLC39A10"}]
["ENSGALG00000054084",22.1486944594258,-1.26448293588823,0.455246450818392,-2.77757889955008,5.47655421760082E-3,0.0279282904400124,{"$f":"VLOOKUP(A391,'[1]SD vs SY0.30'!$A$2:$E$20133,5,FALSE)","v":"NA"}]
["ENSGALG00000009315",34.664118168978,-1.26843643022517,0.346725094041147,-3.6583346634687,0.00025385942502384,2.34630160257216E-3,{"$f":"VLOOKUP(A392,'[1]SD vs SY0.30'!$A$2:$E$20133,5,FALSE)","v":"PAPLN"}]
["ENSGALG00000013311",39.5951522410293,-1.26916956392774,0.3366947525371,-3.76949612182593,1.63577450304286E-4,1.63934311487143E-3,{"$f":"VLOOKUP(A393,'[1]SD vs SY0.30'!$A$2:$E$20133,5,FALSE)","v":"ANO3"}]
["ENSGALG00000054272",30.6155001637977,-1.27258433063708,0.386354751388592,-3.29382342539675,0.000988345642699661,0.007130267779697,{"$f":"VLOOKUP(A394,'[1]SD vs SY0.30'!$A$2:$E$20133,5,FALSE)","v":"NA"}]
["ENSGALG00000002246",222.399814977224,-1.27536849606526,0.188737852908945,-6.75735405700811,{"v":1.40534481083352E-11,"d":"1.41E-11"},{"v":1.37279573274353e-09,"d":"1.37E-09"},{"$f":"VLOOKUP(A395,'[1]SD vs SY0.30'!$A$2:$E$20133,5,FALSE)","v":"DENND1B"}]
["ENSGALG00000006502",265.75828278311,-1.28292212816384,0.115343934042582,-11.1225799502401,{"v":9.74135845577953e-29,"d":"9.74E-29"},{"v":1.50521699702622e-25,"d":"1.51E-25"},{"$f":"VLOOKUP(A396,'[1]SD vs SY0.30'!$A$2:$E$20133,5,FALSE)","v":"PCGF5"}]
["ENSGALG00000005601",48.1836591289715,-1.28583765042097,0.280084899480156,-4.59088530944551,{"v":4.41369835156875e-06,"d":"4.41E-06"},{"v":8.11900767117035e-05,"d":"8.12E-05"},{"$f":"VLOOKUP(A397,'[1]SD vs SY0.30'!$A$2:$E$20133,5,FALSE)","v":"DNAH12"}]
["ENSGALG00000012457",33.427462419485,-1.28616009100468,0.379683811618675,-3.38745043019217,0.000705454638150418,0.00538903931894052,{"$f":"VLOOKUP(A398,'[1]SD vs SY0.30'!$A$2:$E$20133,5,FALSE)","v":"SSTR3"}]
["ENSGALG00000049235",84.0770002339145,-1.29278693713531,0.334737090332174,-3.86209647652855,1.12418152499797E-4,0.00121164954853459,{"$f":"VLOOKUP(A399,'[1]SD vs SY0.30'!$A$2:$E$20133,5,FALSE)","v":"NA"}]
["ENSGALG00000044811",64.723494759526,-1.29385966497717,0.341825837073215,-3.78514297238461,1.53620235013269E-4,1.56445963722022E-3,{"$f":"VLOOKUP(A400,'[1]SD vs SY0.30'!$A$2:$E$20133,5,FALSE)","v":"LOC100858647"}]
["ENSGALG00000029132",19.7409830360681,-1.29503535948539,0.29282121013977,-4.42261460113234,{"v":9.75135954174125e-06,"d":"9.75E-06"},0.000158152536384519,{"$f":"VLOOKUP(A401,'[1]SD vs SY0.30'!$A$2:$E$20133,5,FALSE)","v":"gga-mir-6626"}]
["ENSGALG00000010562",55.7815055528555,-1.29536010822715,0.235115348402961,-5.50946638331349,{"v":3.5992312064214E-8,"d":"3.60E-08"},{"v":1.340083027452e-06,"d":"1.34E-06"},{"$f":"VLOOKUP(A402,'[1]SD vs SY0.30'!$A$2:$E$20133,5,FALSE)","v":"CEP128"}]
["ENSGALG00000048496",11.9116823489213,-1.29701534948418,0.512197600064747,-2.53225581166376,0.0113331276383279,0.0485946444169172,{"$f":"VLOOKUP(A403,'[1]SD vs SY0.30'!$A$2:$E$20133,5,FALSE)","v":"NA"}]
["ENSGALG00000023670",55.756962056996,-1.29762486132376,0.254334661329633,-5.10203703474754,{"v":3.36016973834204e-07,"d":"3.36E-07"},{"v":9.09439570742033e-06,"d":"9.09E-06"},{"$f":"VLOOKUP(A404,'[1]SD vs SY0.30'!$A$2:$E$20133,5,FALSE)","v":"NAALADL2"}]
["ENSGALG00000016992",25.5365605863443,-1.2985768724696,0.29166003772598,-4.45236475519362,{"v":8.4929733665528e-06,"d":"8.49E-06"},1.40035881234463E-4,{"$f":"VLOOKUP(A405,'[1]SD vs SY0.30'!$A$2:$E$20133,5,FALSE)","v":"HTR2A"}]
["ENSGALG00000046643",26.4793128390709,-1.2989485529945,0.343968699869405,-3.77635684144421,1.59138956427795E-4,0.001610420203934,{"$f":"VLOOKUP(A406,'[1]SD vs SY0.30'!$A$2:$E$20133,5,FALSE)","v":"NA"}]
["ENSGALG00000054120",19.4843429058917,-1.30159827015059,0.407136917807404,-3.1969546686167,1.38886751329229E-3,0.00942754837197643,{"$f":"VLOOKUP(A407,'[1]SD vs SY0.30'!$A$2:$E$20133,5,FALSE)","v":"NA"}]
["ENSGALG00000025678",13.3207995284697,-1.30190278518649,0.500278119658635,-2.60235803651546,0.00925851379823533,0.0417418989465798,{"$f":"VLOOKUP(A408,'[1]SD vs SY0.30'!$A$2:$E$20133,5,FALSE)","v":"NA"}]
["ENSGALG00000023083",14.2804347389997,-1.30259266202721,0.449634887198745,-2.8970008758494,0.00376748703589394,0.0208181988522954,{"$f":"VLOOKUP(A409,'[1]SD vs SY0.30'!$A$2:$E$20133,5,FALSE)","v":"KIAA1958"}]
["ENSGALG00000011990",263.661938713501,-1.30410253618668,0.226657745941128,-5.75361998228554,{"v":8.73523997759114e-09,"d":"8.74E-09"},{"v":3.82662046131744e-07,"d":"3.83E-07"},{"$f":"VLOOKUP(A410,'[1]SD vs SY0.30'!$A$2:$E$20133,5,FALSE)","v":"USP53"}]
["ENSGALG00000037387",20.6769101209003,-1.30718049314026,0.50772036452762,-2.57460717447575,0.0100353990246403,0.0443273589453772,{"$f":"VLOOKUP(A411,'[1]SD vs SY0.30'!$A$2:$E$20133,5,FALSE)","v":"CLSTN2"}]
["ENSGALG00000051263",25.1529586256816,-1.3082087483404,0.350258110767696,-3.73498488150087,0.000187726464592172,0.0018327321761477,{"$f":"VLOOKUP(A412,'[1]SD vs SY0.30'!$A$2:$E$20133,5,FALSE)","v":"NA"}]
["ENSGALG00000013437",64.1413075203004,-1.31300463683282,0.276134042300774,-4.75495388360212,{"v":1.98491721383284E-6,"d":"1.98E-06"},{"v":4.1858111518011e-05,"d":"4.19E-05"},{"$f":"VLOOKUP(A413,'[1]SD vs SY0.30'!$A$2:$E$20133,5,FALSE)","v":"GAN"}]
["ENSGALG00000009966",101.060282082112,-1.31895669369621,0.15577846389382,-8.4668744364768,{"v":2.52065565994554e-17,"d":"2.52E-17"},{"v":7.78974259128989e-15,"d":"7.79E-15"},{"$f":"VLOOKUP(A414,'[1]SD vs SY0.30'!$A$2:$E$20133,5,FALSE)","v":"FRS2"}]
["ENSGALG00000038222",182.417148982713,-1.31967131848176,0.142803683447149,-9.24115741713461,{"v":2.43845079103421E-20,"d":"2.44E-20"},{"v":1.53504992945217E-17,"d":"1.54E-17"},{"$f":"VLOOKUP(A415,'[1]SD vs SY0.30'!$A$2:$E$20133,5,FALSE)","v":"NA"}]
["ENSGALG00000042339",21.159447469635,-1.3226813501528,0.470207222130444,-2.81297540297215,0.00490854057146296,0.025655124259888,{"$f":"VLOOKUP(A416,'[1]SD vs SY0.30'!$A$2:$E$20133,5,FALSE)","v":"NA"}]
["ENSGALG00000001172",91.5693579812307,-1.32305503211759,0.418810359836393,-3.15907904626437,0.00158268557141535,0.0104591394468688,{"$f":"VLOOKUP(A417,'[1]SD vs SY0.30'!$A$2:$E$20133,5,FALSE)","v":"KBP"}]
["ENSGALG00000031564",13.3921953635366,-1.32419321477823,0.381846185209224,-3.46787074500344,0.000524599549334083,0.0042419688582452,{"$f":"VLOOKUP(A418,'[1]SD vs SY0.30'!$A$2:$E$20133,5,FALSE)","v":"SOGA3"}]
["ENSGALG00000013402",109.97854564492,-1.32513598531683,0.152284122240269,-8.70173440160806,{"v":3.26849836041996e-18,"d":"3.27E-18"},{"v":1.2626060598195e-15,"d":"1.26E-15"},{"$f":"VLOOKUP(A419,'[1]SD vs SY0.30'!$A$2:$E$20133,5,FALSE)","v":"AHRR"}]
["ENSGALG00000025674",21.0776393698293,-1.32537655398042,0.363927624179626,-3.64186850879516,2.70666322852268E-4,0.00246808770896996,{"$f":"VLOOKUP(A420,'[1]SD vs SY0.30'!$A$2:$E$20133,5,FALSE)","v":"SNORD127"}]
["ENSGALG00000002504",114.423646334184,-1.3356439372693,0.147958569913506,-9.02714819459326,{"v":1.76203712932398e-19,"d":"1.76E-19"},{"v":9.98311502903992e-17,"d":"9.98E-17"},{"$f":"VLOOKUP(A421,'[1]SD vs SY0.30'!$A$2:$E$20133,5,FALSE)","v":"RO60"}]
["ENSGALG00000011389",161.939589691997,-1.33858142703396,0.206258906054144,-6.48981153173856,{"v":8.59438177379669e-11,"d":"8.59E-11"},{"v":6.98941181862307e-09,"d":"6.99E-09"},{"$f":"VLOOKUP(A422,'[1]SD vs SY0.30'!$A$2:$E$20133,5,FALSE)","v":"TRAF3"}]
["ENSGALG00000029616",484.592128177515,-1.33933294903014,0.0830266431928308,-16.1313633494674,{"v":1.53592103303621E-58,"d":"1.54E-58"},{"v":2.61060497985164e-54,"d":"2.61E-54"},{"$f":"VLOOKUP(A423,'[1]SD vs SY0.30'!$A$2:$E$20133,5,FALSE)","v":"HCFC2"}]
["ENSGALG00000025672",56.3830566702909,-1.3406856987901,0.264516664306644,-5.06843567797262,{"v":4.01098478498975e-07,"d":"4.01E-07"},{"v":1.06522981860111e-05,"d":"1.07E-05"},{"$f":"VLOOKUP(A424,'[1]SD vs SY0.30'!$A$2:$E$20133,5,FALSE)","v":"SNORD97"}]
["ENSGALG00000017870",31.6544357772791,-1.34079143993338,0.393202635360966,-3.4099248564357,0.000649807804990312,0.00504097821151088,{"$f":"VLOOKUP(A425,'[1]SD vs SY0.30'!$A$2:$E$20133,5,FALSE)","v":"SNORD24"}]
["ENSGALG00000051433",16.9372379853123,-1.34084346463876,0.355586372174803,-3.77079542288986,0.000162728036016182,1.63275586078338E-3,{"$f":"VLOOKUP(A426,'[1]SD vs SY0.30'!$A$2:$E$20133,5,FALSE)","v":"NA"}]
["ENSGALG00000014751",13.2624453437193,-1.34196118327729,0.438050474748804,-3.06348528453672,0.00218774964448462,0.0135218838935655,{"$f":"VLOOKUP(A427,'[1]SD vs SY0.30'!$A$2:$E$20133,5,FALSE)","v":"ADAMTS6"}]
["ENSGALG00000048321",91.2560972877268,-1.34718207886829,0.163331189167396,-8.24816182221986,{"v":1.60849463753581E-16,"d":"1.61E-16"},{"v":4.27180989909316e-14,"d":"4.27E-14"},{"$f":"VLOOKUP(A428,'[1]SD vs SY0.30'!$A$2:$E$20133,5,FALSE)","v":"NA"}]
["ENSGALG00000040957",78.883474219493,-1.35042627078237,0.208872837790979,-6.46530341170429,{"v":1.01095755222338E-10,"d":"1.01E-10"},{"v":8.10530448827394e-09,"d":"8.11E-09"},{"$f":"VLOOKUP(A429,'[1]SD vs SY0.30'!$A$2:$E$20133,5,FALSE)","v":"AGO2"}]
["ENSGALG00000016001",346.956495832796,-1.3558824886513,0.213124021484834,-6.36194117962336,{"v":1.99219739147367E-10,"d":"1.99E-10"},{"v":1.42875017142945E-8,"d":"1.43E-08"},{"$f":"VLOOKUP(A430,'[1]SD vs SY0.30'!$A$2:$E$20133,5,FALSE)","v":"LZTS3"}]
["ENSGALG00000053627",558.386469671537,-1.35628481512214,0.145406546071338,-9.3275361513417,{"v":1.08360489894438e-20,"d":"1.08E-20"},{"v":7.08385864129143e-18,"d":"7.08E-18"},{"$f":"VLOOKUP(A431,'[1]SD vs SY0.30'!$A$2:$E$20133,5,FALSE)","v":"NA"}]
["ENSGALG00000003886",60.6348610517281,-1.35649755563575,0.247018628370608,-5.49147877867966,{"v":3.98582222597927e-08,"d":"3.99E-08"},{"v":1.46321858261273E-6,"d":"1.46E-06"},{"$f":"VLOOKUP(A432,'[1]SD vs SY0.30'!$A$2:$E$20133,5,FALSE)","v":"SGCD"}]
["ENSGALG00000047605",20.25020942622,-1.36094119591712,0.498903705065295,-2.7278634776605,6.3745984597944E-3,0.0313147543413657,{"$f":"VLOOKUP(A433,'[1]SD vs SY0.30'!$A$2:$E$20133,5,FALSE)","v":"NA"}]
["ENSGALG00000016904",256.65973084796,-1.36176482793659,0.300378770684504,-4.53349224658385,{"v":5.80163967815099e-06,"d":"5.80E-06"},1.02081231479847E-4,{"$f":"VLOOKUP(A434,'[1]SD vs SY0.30'!$A$2:$E$20133,5,FALSE)","v":"SLITRK6"}]
["ENSGALG00000041491",224.478485900516,-1.36526683045866,0.364952733213908,-3.74094151435891,0.000183332183100292,1.79930678271137E-3,{"$f":"VLOOKUP(A435,'[1]SD vs SY0.30'!$A$2:$E$20133,5,FALSE)","v":"ACKR4"}]
["ENSGALG00000049699",27.5180287313849,-1.36533948889327,0.245673930910508,-5.55752693756759,{"v":2.73623766263904e-08,"d":"2.74E-08"},{"v":1.04044365887865e-06,"d":"1.04E-06"},{"$f":"VLOOKUP(A436,'[1]SD vs SY0.30'!$A$2:$E$20133,5,FALSE)","v":"NA"}]
["ENSGALG00000029701",156.29766191108,-1.36569699436968,0.163359127200581,-8.3600899305296,{"v":6.26704651453928e-17,"d":"6.27E-17"},{"v":1.77534982679374E-14,"d":"1.78E-14"},{"$f":"VLOOKUP(A437,'[1]SD vs SY0.30'!$A$2:$E$20133,5,FALSE)","v":"INO80D"}]
["ENSGALG00000054081",34.6391114560571,-1.36598455161662,0.249859360670043,-5.46701371504945,{"v":4.57680653101235e-08,"d":"4.58E-08"},{"v":1.66935580703041e-06,"d":"1.67E-06"},{"$f":"VLOOKUP(A438,'[1]SD vs SY0.30'!$A$2:$E$20133,5,FALSE)","v":"NA"}]
["ENSGALG00000021230",10.0089700495182,-1.36638956033625,0.515715561097049,-2.6495022904285,0.00806104258351266,0.0377245908154153,{"$f":"VLOOKUP(A439,'[1]SD vs SY0.30'!$A$2:$E$20133,5,FALSE)","v":"EPB42"}]
["ENSGALG00000028304",309.226763315984,-1.36673057886835,0.359530207014485,-3.80143462831007,1.43860696660722E-4,1.48283824205112E-3,{"$f":"VLOOKUP(A440,'[1]SD vs SY0.30'!$A$2:$E$20133,5,FALSE)","v":"MMR1L4"}]
["ENSGALG00000042388",47.8537541067291,-1.36910791927171,0.412328383954779,-3.32043092968798,0.000898785961369481,0.00659045081337234,{"$f":"VLOOKUP(A441,'[1]SD vs SY0.30'!$A$2:$E$20133,5,FALSE)","v":"NA"}]
["ENSGALG00000052183",19.1066634663124,-1.37154324640001,0.337830821151388,-4.05985233000807,{"v":4.91037611173131e-05,"d":"4.91E-05"},0.000613597505283338,{"$f":"VLOOKUP(A442,'[1]SD vs SY0.30'!$A$2:$E$20133,5,FALSE)","v":"NA"}]
["ENSGALG00000039245",24.2611252618365,-1.37220164335286,0.413897128254956,-3.31532052212646,0.000915381008903026,0.00669768876811224,{"$f":"VLOOKUP(A443,'[1]SD vs SY0.30'!$A$2:$E$20133,5,FALSE)","v":"STAB2"}]
["ENSGALG00000017204",142.235530527816,-1.37380219279129,0.160308896482519,-8.56971897963939,{"v":1.0373787926032E-17,"d":"1.04E-17"},{"v":3.3268542146937e-15,"d":"3.33E-15"},{"$f":"VLOOKUP(A444,'[1]SD vs SY0.30'!$A$2:$E$20133,5,FALSE)","v":"SESN3"}]
["ENSGALG00000020253",80.9271450182993,-1.37781757297103,0.162962459918057,-8.4548157512095,{"v":2.79528385772441E-17,"d":"2.80E-17"},{"v":8.48418566602533e-15,"d":"8.48E-15"},{"$f":"VLOOKUP(A445,'[1]SD vs SY0.30'!$A$2:$E$20133,5,FALSE)","v":"MAP9"}]
["ENSGALG00000046969",48.2564817324494,-1.38126979221048,0.275421964246623,-5.0151039913928,{"v":5.3004789494466e-07,"d":"5.30E-07"},{"v":1.35273634690306e-05,"d":"1.35E-05"},{"$f":"VLOOKUP(A446,'[1]SD vs SY0.30'!$A$2:$E$20133,5,FALSE)","v":"NA"}]
["ENSGALG00000029944",58.8486919321191,-1.38158759908772,0.425105799425136,-3.24998530002654,0.00115410974011173,0.0081175563521499,{"$f":"VLOOKUP(A447,'[1]SD vs SY0.30'!$A$2:$E$20133,5,FALSE)","v":"FAM222A"}]
["ENSGALG00000010583",15.7462052637016,-1.38918312393471,0.456107594907833,-3.04573556644114,0.00232111874657723,0.0141659085585541,{"$f":"VLOOKUP(A448,'[1]SD vs SY0.30'!$A$2:$E$20133,5,FALSE)","v":"VIT"}]
["ENSGALG00000053471",14.1159283209911,-1.39600863788172,0.345950849776551,-4.03528026823289,{"v":5.45371579462676E-5,"d":"5.45E-05"},0.000666883506196195,{"$f":"VLOOKUP(A449,'[1]SD vs SY0.30'!$A$2:$E$20133,5,FALSE)","v":"NA"}]
["ENSGALG00000027040",11.6530477680553,-1.39618703033873,0.552102300820516,-2.52885566364017,0.0114435076789123,0.0489567832918381,{"$f":"VLOOKUP(A450,'[1]SD vs SY0.30'!$A$2:$E$20133,5,FALSE)","v":"NA"}]
["ENSGALG00000017876",9.89604317188885,-1.39762965002553,0.460295444719394,-3.03637515004641,0.00239441246932638,0.0145245641474448,{"$f":"VLOOKUP(A451,'[1]SD vs SY0.30'!$A$2:$E$20133,5,FALSE)","v":"NA"}]
["ENSGALG00000047547",16.3361915334707,-1.39874445650259,0.485400644697728,-2.88162875715509,0.00395625557679944,0.0216081221204563,{"$f":"VLOOKUP(A452,'[1]SD vs SY0.30'!$A$2:$E$20133,5,FALSE)","v":"NA"}]
["ENSGALG00000009884",18.1157430469693,-1.41044483796923,0.442549968226731,-3.1870860676384,0.00143714002568415,0.00967993790927328,{"$f":"VLOOKUP(A453,'[1]SD vs SY0.30'!$A$2:$E$20133,5,FALSE)","v":"SYT14"}]
["ENSGALG00000053091",39.0203223971394,-1.41079156791829,0.2792316428909,-5.05240578507611,{"v":4.36279576460984e-07,"d":"4.36E-07"},{"v":1.14590368778105e-05,"d":"1.15E-05"},{"$f":"VLOOKUP(A454,'[1]SD vs SY0.30'!$A$2:$E$20133,5,FALSE)","v":"NA"}]
["ENSGALG00000009279",39.6857242816154,-1.4116813586425,0.243383051693658,-5.8002451231459,{"v":6.62180510813112e-09,"d":"6.62E-09"},{"v":3.00135523794412e-07,"d":"3.00E-07"},{"$f":"VLOOKUP(A455,'[1]SD vs SY0.30'!$A$2:$E$20133,5,FALSE)","v":"SFMBT2"}]
["ENSGALG00000011076",97.0870899854641,-1.41600152965476,0.309293278985677,-4.57818396280231,{"v":4.69030124115081e-06,"d":"4.69E-06"},{"v":8.52631552896689e-05,"d":"8.53E-05"},{"$f":"VLOOKUP(A456,'[1]SD vs SY0.30'!$A$2:$E$20133,5,FALSE)","v":"SYNE3"}]
["ENSGALG00000048828",70.6933467331579,-1.41615146001649,0.215859410639327,-6.56052685320583,{"v":5.36179976647745e-11,"d":"5.36E-11"},{"v":4.67356464773421e-09,"d":"4.67E-09"},{"$f":"VLOOKUP(A457,'[1]SD vs SY0.30'!$A$2:$E$20133,5,FALSE)","v":"NA"}]
["ENSGALG00000007097",110.830685120706,-1.41668814447399,0.142754311057551,-9.92396050234071,{"v":3.27497272676287e-23,"d":"3.27E-23"},{"v":3.27439479039932e-20,"d":"3.27E-20"},{"$f":"VLOOKUP(A458,'[1]SD vs SY0.30'!$A$2:$E$20133,5,FALSE)","v":"RPS6KA6"}]
["ENSGALG00000050226",19.0677809516055,-1.41999989125227,0.531206827501381,-2.67315820832249,0.00751408037574844,0.035675090543742,{"$f":"VLOOKUP(A459,'[1]SD vs SY0.30'!$A$2:$E$20133,5,FALSE)","v":"NA"}]
["ENSGALG00000007079",47.1619622905781,-1.42172361282093,0.307646297392544,-4.62129277963279,{"v":3.81356130043785E-6,"d":"3.81E-06"},{"v":7.14653819443684e-05,"d":"7.15E-05"},{"$f":"VLOOKUP(A460,'[1]SD vs SY0.30'!$A$2:$E$20133,5,FALSE)","v":"PAPPA"}]
["ENSGALG00000050687",21.0643543494707,-1.42233892092159,0.453451779576655,-3.13669277524832,1.70865068142762E-3,0.0110889406766802,{"$f":"VLOOKUP(A461,'[1]SD vs SY0.30'!$A$2:$E$20133,5,FALSE)","v":"NA"}]
["ENSGALG00000023407",151.860480705402,-1.43527441777319,0.172427075664721,-8.32395035547689,{"v":8.50792509707675e-17,"d":"8.51E-17"},{"v":2.33240649798409e-14,"d":"2.33E-14"},{"$f":"VLOOKUP(A462,'[1]SD vs SY0.30'!$A$2:$E$20133,5,FALSE)","v":"ZBTB34"}]
["ENSGALG00000050460",8.53120678004768,-1.43688198170035,0.556900324789824,-2.58014211473594,0.00987596632728879,0.0438395924954107,{"$f":"VLOOKUP(A463,'[1]SD vs SY0.30'!$A$2:$E$20133,5,FALSE)","v":"NA"}]
["ENSGALG00000018276",18.928069410332,-1.44130061130177,0.485636734677832,-2.96785747119792,0.00299883351250283,0.0172749313147698,{"$f":"VLOOKUP(A464,'[1]SD vs SY0.30'!$A$2:$E$20133,5,FALSE)","v":"gga-mir-126"}]
["ENSGALG00000054404",34.9495044770506,-1.44415615331232,0.374266606168768,-3.85862946228525,1.14024661555348E-4,0.00122689231244507,{"$f":"VLOOKUP(A465,'[1]SD vs SY0.30'!$A$2:$E$20133,5,FALSE)","v":"NA"}]
["ENSGALG00000035466",53.9736294903875,-1.44845162967727,0.358390888560082,-4.04154144514321,{"v":5.31009935006169e-05,"d":"5.31E-05"},0.000651666127458473,{"$f":"VLOOKUP(A466,'[1]SD vs SY0.30'!$A$2:$E$20133,5,FALSE)","v":"CACNB4"}]
["ENSGALG00000036522",16.274375030287,-1.45041234559035,0.530030955665545,-2.73646723853913,0.00621027784084976,0.0307206322645295,{"$f":"VLOOKUP(A467,'[1]SD vs SY0.30'!$A$2:$E$20133,5,FALSE)","v":"NA"}]
["ENSGALG00000015375",31.3308419875067,-1.45548186701579,0.355745991776172,-4.09135141551094,{"v":4.28866685064417E-5,"d":"4.29E-05"},0.000552230836821204,{"$f":"VLOOKUP(A468,'[1]SD vs SY0.30'!$A$2:$E$20133,5,FALSE)","v":"PLCXD2"}]
["ENSGALG00000029212",9.30223633691647,-1.45931951046434,0.533794073292126,-2.73386233283581,0.00625962099483345,0.0308797301717545,{"$f":"VLOOKUP(A469,'[1]SD vs SY0.30'!$A$2:$E$20133,5,FALSE)","v":"PADI2"}]
["ENSGALG00000049296",7.19442703396448,-1.46311208780578,0.577372837912833,-2.53408541540479,0.0112741246901549,0.0484516554636061,{"$f":"VLOOKUP(A470,'[1]SD vs SY0.30'!$A$2:$E$20133,5,FALSE)","v":"NA"}]
["ENSGALG00000009282",242.228337860522,-1.46575211823843,0.154886407636447,-9.46340056952498,{"v":2.98087900470575e-21,"d":"2.98E-21"},{"v":2.41266668776113e-18,"d":"2.41E-18"},{"$f":"VLOOKUP(A471,'[1]SD vs SY0.30'!$A$2:$E$20133,5,FALSE)","v":"ELMSAN1"}]
["ENSGALG00000047346",20.7253520511575,-1.47097985688211,0.358486664131202,-4.10330426222983,{"v":4.0729104805211e-05,"d":"4.07E-05"},5.27646794492509E-4,{"$f":"VLOOKUP(A472,'[1]SD vs SY0.30'!$A$2:$E$20133,5,FALSE)","v":"NA"}]
["ENSGALG00000013006",8.18260534326631,-1.47416514022286,0.567026274257802,-2.59981804573772,0.00932732017509762,0.0419852915826627,{"$f":"VLOOKUP(A473,'[1]SD vs SY0.30'!$A$2:$E$20133,5,FALSE)","v":"ROPN1L"}]
["ENSGALG00000054073",6.22352675351384,-1.4749377276783,0.580537511186848,-2.54064155934203,0.0110649291218264,0.0477558101411615,{"$f":"VLOOKUP(A474,'[1]SD vs SY0.30'!$A$2:$E$20133,5,FALSE)","v":"NA"}]
["ENSGALG00000015113",22.4669363901389,-1.47689391067254,0.341008316313237,-4.33096156316588,{"v":1.48459598072514E-5,"d":"1.48E-05"},0.000225703737785199,{"$f":"VLOOKUP(A475,'[1]SD vs SY0.30'!$A$2:$E$20133,5,FALSE)","v":"PTAR1"}]
["ENSGALG00000015016",83.7267112030273,-1.47848664326596,0.215076592963339,-6.8742331412976,{"v":6.23242085098369e-12,"d":"6.23E-12"},{"v":6.86627707214876e-10,"d":"6.87E-10"},{"$f":"VLOOKUP(A476,'[1]SD vs SY0.30'!$A$2:$E$20133,5,FALSE)","v":"SLC22A15"}]
["ENSGALG00000017235",248.186871418193,-1.49203456277762,0.256204674150644,-5.82360399053581,{"v":5.75919507870922e-09,"d":"5.76E-09"},{"v":2.68189147268002e-07,"d":"2.68E-07"},{"$f":"VLOOKUP(A477,'[1]SD vs SY0.30'!$A$2:$E$20133,5,FALSE)","v":"NOX4,NOX4"}]
["ENSGALG00000011259",29.8383187859776,-1.5030124051307,0.388113359691424,-3.8726118738239,1.07675224532387E-4,1.17392930813148E-3,{"$f":"VLOOKUP(A478,'[1]SD vs SY0.30'!$A$2:$E$20133,5,FALSE)","v":"RPE65"}]
["ENSGALG00000039121",68.8865397045522,-1.50380162684904,0.247183405269258,-6.08374832125538,{"v":1.17404851423354E-9,"d":"1.17E-09"},{"v":6.83400773850256e-08,"d":"6.83E-08"},{"$f":"VLOOKUP(A479,'[1]SD vs SY0.30'!$A$2:$E$20133,5,FALSE)","v":"PPM1F"}]
["ENSGALG00000029286",7.89195456322915,-1.5048295543813,0.548238134786318,-2.74484655279922,0.00605391973205183,0.0301313246517379,{"$f":"VLOOKUP(A480,'[1]SD vs SY0.30'!$A$2:$E$20133,5,FALSE)","v":"NA"}]
["ENSGALG00000021908",8.33411295259106,-1.51085228305289,0.529233107868258,-2.85479547781614,0.00430645515780326,0.0231269568142755,{"$f":"VLOOKUP(A481,'[1]SD vs SY0.30'!$A$2:$E$20133,5,FALSE)","v":"gga-mir-458a"}]
["ENSGALG00000051378",33.0802379441429,-1.51727198341188,0.327540348755588,-4.63232083978783,{"v":3.61589209857857E-6,"d":"3.62E-06"},{"v":6.82123396221309e-05,"d":"6.82E-05"},{"$f":"VLOOKUP(A482,'[1]SD vs SY0.30'!$A$2:$E$20133,5,FALSE)","v":"NA"}]
["ENSGALG00000052453",7.36392415605566,-1.51888925476989,0.539287210979811,-2.81647556968813,0.00485537355148326,0.0254476670535186,{"$f":"VLOOKUP(A483,'[1]SD vs SY0.30'!$A$2:$E$20133,5,FALSE)","v":"NA"}]
["ENSGALG00000014232",11.4871192298604,-1.518906409034,0.567474631775563,-2.67660671329311,0.00743718777275938,0.0353807213397555,{"$f":"VLOOKUP(A484,'[1]SD vs SY0.30'!$A$2:$E$20133,5,FALSE)","v":"RIBC2"}]
["ENSGALG00000050520",19.4529715363412,-1.52174195107229,0.544692494814271,-2.79376339046341,0.00520985826064774,0.0268826166107167,{"$f":"VLOOKUP(A485,'[1]SD vs SY0.30'!$A$2:$E$20133,5,FALSE)","v":"NA"}]
["ENSGALG00000015347",13.257172549539,-1.52383750542429,0.524483537344752,-2.90540578859512,0.00366777247077859,0.0203862422124996,{"$f":"VLOOKUP(A486,'[1]SD vs SY0.30'!$A$2:$E$20133,5,FALSE)","v":"ZPLD1"}]
["ENSGALG00000035803",113.860421969797,-1.52468524120477,0.535611021807272,-2.84662783088395,0.00441849853819735,0.0236093114284,{"$f":"VLOOKUP(A487,'[1]SD vs SY0.30'!$A$2:$E$20133,5,FALSE)","v":"THRSP"}]
["ENSGALG00000019060",12.0632748561133,-1.52749003720838,0.499094008279786,-3.06052569629746,0.00220948800187609,0.0136215696655379,{"$f":"VLOOKUP(A488,'[1]SD vs SY0.30'!$A$2:$E$20133,5,FALSE)","v":"MMP27"}]
["ENSGALG00000046779",25.1748715531346,-1.53112551000473,0.364869190844409,-4.19636831068493,{"v":2.71229046851049e-05,"d":"2.71E-05"},3.75413689684632E-4,{"$f":"VLOOKUP(A489,'[1]SD vs SY0.30'!$A$2:$E$20133,5,FALSE)","v":"NA"}]
["ENSGALG00000011177",48.7266283764101,-1.53648026819222,0.29911316445385,-5.13678584156493,{"v":2.79477130620456E-7,"d":"2.79E-07"},{"v":7.78733244123917e-06,"d":"7.79E-06"},{"$f":"VLOOKUP(A490,'[1]SD vs SY0.30'!$A$2:$E$20133,5,FALSE)","v":"NA"}]
["ENSGALG00000017875",10.894377461619,-1.54794953606217,0.454268529779111,-3.40756498543904,0.000655452986649373,0.0050708850314426,{"$f":"VLOOKUP(A491,'[1]SD vs SY0.30'!$A$2:$E$20133,5,FALSE)","v":"NA"}]
["ENSGALG00000034244",7.56059324051684,-1.55166030797097,0.57865488452435,-2.68149522188242,0.00732939611180996,0.0349839218512873,{"$f":"VLOOKUP(A492,'[1]SD vs SY0.30'!$A$2:$E$20133,5,FALSE)","v":"NA"}]
["ENSGALG00000040434",186.906863547846,-1.55756823633831,0.398711551963315,-3.90650390907565,{"v":9.36411291533897e-05,"d":"9.36E-05"},0.00104300017838805,{"$f":"VLOOKUP(A493,'[1]SD vs SY0.30'!$A$2:$E$20133,5,FALSE)","v":"RAB18L"}]
["ENSGALG00000052726",22.978795775883,-1.56053774892533,0.363533723024124,-4.2926904715846,{"v":1.7652100817487e-05,"d":"1.77E-05"},0.000262955966340778,{"$f":"VLOOKUP(A494,'[1]SD vs SY0.30'!$A$2:$E$20133,5,FALSE)","v":"NA"}]
["ENSGALG00000053469",19.0011647700471,-1.56076313077403,0.510777142389515,-3.05566361774231,0.00224563040291042,0.0138093270471304,{"$f":"VLOOKUP(A495,'[1]SD vs SY0.30'!$A$2:$E$20133,5,FALSE)","v":"NA"}]
["ENSGALG00000030510",25.9335688575909,-1.56155193438499,0.294382327621036,-5.30450298088274,{"v":1.12980397396082E-7,"d":"1.13E-07"},{"v":3.53651531223059e-06,"d":"3.54E-06"},{"$f":"VLOOKUP(A496,'[1]SD vs SY0.30'!$A$2:$E$20133,5,FALSE)","v":"NA"}]
["ENSGALG00000050196",10.9776741336282,-1.57384949815037,0.491707423238202,-3.20078449860606,0.0013705399397742,0.00932548733240278,{"$f":"VLOOKUP(A497,'[1]SD vs SY0.30'!$A$2:$E$20133,5,FALSE)","v":"NA"}]
["ENSGALG00000038484",7.8092277861271,-1.57475205718741,0.588465225603661,-2.67603248020645,7.44994248547749E-3,0.0354101432957665,{"$f":"VLOOKUP(A498,'[1]SD vs SY0.30'!$A$2:$E$20133,5,FALSE)","v":"NA"}]
["ENSGALG00000054253",15.5763373837664,-1.57481390728758,0.618688162972951,-2.54540817416032,0.0109150067353543,0.0472909430234048,{"$f":"VLOOKUP(A499,'[1]SD vs SY0.30'!$A$2:$E$20133,5,FALSE)","v":"NA"}]
["ENSGALG00000033619",11.2787286914422,-1.57937440814925,0.515297477706621,-3.0649760118726,0.00217687456249523,0.013472192456623,{"$f":"VLOOKUP(A500,'[1]SD vs SY0.30'!$A$2:$E$20133,5,FALSE)","v":"NA"}]
["ENSGALG00000031560",370.707339247467,-1.58173642659154,0.118719249924405,-13.3233357488252,{"v":1.69367603895221e-40,"d":"1.69E-40"},{"v":9.59580387802359e-37,"d":"9.60E-37"},{"$f":"VLOOKUP(A501,'[1]SD vs SY0.30'!$A$2:$E$20133,5,FALSE)","v":"USF3"}]
["ENSGALG00000000573",390.098329410574,-1.58738940294777,0.160541758569413,-9.88770409077981,{"v":4.70698946471195e-23,"d":"4.71E-23"},{"v":4.44470555176161e-20,"d":"4.44E-20"},{"$f":"VLOOKUP(A502,'[1]SD vs SY0.30'!$A$2:$E$20133,5,FALSE)","v":"PER3"}]
["ENSGALG00000051796",38.0216578286062,-1.59340724601807,0.290970041103186,-5.47619005715094,{"v":4.34580924025225e-08,"d":"4.35E-08"},{"v":1.59193361328809e-06,"d":"1.59E-06"},{"$f":"VLOOKUP(A503,'[1]SD vs SY0.30'!$A$2:$E$20133,5,FALSE)","v":"ANKRD31"}]
["ENSGALG00000015428",20.1113534772584,-1.60262106271631,0.303072493956858,-5.28791327049441,{"v":1.2371960993066e-07,"d":"1.24E-07"},{"v":3.81644684208972e-06,"d":"3.82E-06"},{"$f":"VLOOKUP(A504,'[1]SD vs SY0.30'!$A$2:$E$20133,5,FALSE)","v":"NA"}]
["ENSGALG00000008074",72.874137346634,-1.60849269577959,0.203997936560883,-7.88484787099568,{"v":3.14918930961553E-15,"d":"3.15E-15"},{"v":7.1369027594047e-13,"d":"7.14E-13"},{"$f":"VLOOKUP(A505,'[1]SD vs SY0.30'!$A$2:$E$20133,5,FALSE)","v":"AMMECR1"}]
["ENSGALG00000005821",38.1840304902131,-1.61058819642888,0.2402158003701,-6.70475544883997,{"v":2.01743943902576e-11,"d":"2.02E-11"},{"v":1.89449824006192e-09,"d":"1.89E-09"},{"$f":"VLOOKUP(A506,'[1]SD vs SY0.30'!$A$2:$E$20133,5,FALSE)","v":"FAM219A"}]
["ENSGALG00000046093",41.7096370654636,-1.61186992173264,0.254235757282394,-6.34005986790538,{"v":2.29675895902297E-10,"d":"2.30E-10"},{"v":1.63338962454031e-08,"d":"1.63E-08"},{"$f":"VLOOKUP(A507,'[1]SD vs SY0.30'!$A$2:$E$20133,5,FALSE)","v":"NA"}]
["ENSGALG00000044727",5.27015545119093,-1.6137323394542,0.61671080957556,-2.61667594340501,0.00887905915487841,0.0406456688541525,{"$f":"VLOOKUP(A508,'[1]SD vs SY0.30'!$A$2:$E$20133,5,FALSE)","v":"ANKRD34B"}]
["ENSGALG00000052123",12.2243883477837,-1.62267493115076,0.503868284638753,-3.22043474578705,1.27996328390793E-3,0.00883294191497489,{"$f":"VLOOKUP(A509,'[1]SD vs SY0.30'!$A$2:$E$20133,5,FALSE)","v":"NA"}]
["ENSGALG00000016684",12.955068853242,-1.62356136897685,0.568792467986865,-2.85440026082474,0.00431181684743666,0.0231411275515885,{"$f":"VLOOKUP(A510,'[1]SD vs SY0.30'!$A$2:$E$20133,5,FALSE)","v":"RHAG"}]
["ENSGALG00000054962",7.74219555345874,-1.62543951094455,0.574605922269106,-2.82879004192251,0.00467243411575064,0.0247026993328491,{"$f":"VLOOKUP(A511,'[1]SD vs SY0.30'!$A$2:$E$20133,5,FALSE)","v":"NA"}]
["ENSGALG00000035412",29.3970306289254,-1.62729506905658,0.285047310517736,-5.70885957878675,{"v":1.1373567684335E-8,"d":"1.14E-08"},{"v":4.84502581279806e-07,"d":"4.85E-07"},{"$f":"VLOOKUP(A512,'[1]SD vs SY0.30'!$A$2:$E$20133,5,FALSE)","v":"NA"}]
["ENSGALG00000048864",6.88774732050337,-1.63210088718223,0.639346203631598,-2.55276543117268,0.0106871443811553,0.0465447257717668,{"$f":"VLOOKUP(A513,'[1]SD vs SY0.30'!$A$2:$E$20133,5,FALSE)","v":"NA"}]
["ENSGALG00000049573",13.379765470137,-1.63240357648949,0.570015693898475,-2.86378707457174,0.0041860929921569,0.0226379327355045,{"$f":"VLOOKUP(A514,'[1]SD vs SY0.30'!$A$2:$E$20133,5,FALSE)","v":"NA"}]
["ENSGALG00000025506",7.8351928580642,-1.63534466132536,0.52512889439902,-3.11417764051418,0.00184458396988032,0.0117821847937075,{"$f":"VLOOKUP(A515,'[1]SD vs SY0.30'!$A$2:$E$20133,5,FALSE)","v":"gga-mir-1744"}]
["ENSGALG00000050781",30.5918749388641,-1.63725070748856,0.359272698073179,-4.55712531530876,{"v":5.18584865346786e-06,"d":"5.19E-06"},{"v":9.31176938784913e-05,"d":"9.31E-05"},{"$f":"VLOOKUP(A516,'[1]SD vs SY0.30'!$A$2:$E$20133,5,FALSE)","v":"NA"}]
["ENSGALG00000040130",26.1326192396067,-1.64923466494818,0.343105660036794,-4.80678361520274,{"v":1.5337784149824e-06,"d":"1.53E-06"},{"v":3.35948862364121e-05,"d":"3.36E-05"},{"$f":"VLOOKUP(A517,'[1]SD vs SY0.30'!$A$2:$E$20133,5,FALSE)","v":"NA"}]
["ENSGALG00000031565",7.39231314870542,-1.65349279231375,0.629295804316262,-2.62752870903102,0.00860075839483094,0.0396708522216938,{"$f":"VLOOKUP(A518,'[1]SD vs SY0.30'!$A$2:$E$20133,5,FALSE)","v":"NEBL"}]
["ENSGALG00000050216",22.6742190870465,-1.65386838660265,0.380004407370693,-4.35223474918623,{"v":1.34756859695728E-5,"d":"1.35E-05"},0.000210134160022779,{"$f":"VLOOKUP(A519,'[1]SD vs SY0.30'!$A$2:$E$20133,5,FALSE)","v":"NA"}]
["ENSGALG00000015615",10.058243089863,-1.65670960605939,0.606014893104645,-2.73377704889723,0.00626124242688587,0.0308797301717545,{"$f":"VLOOKUP(A520,'[1]SD vs SY0.30'!$A$2:$E$20133,5,FALSE)","v":"DOK7"}]
["ENSGALG00000011624",29.4897737524197,-1.66662646472531,0.334031722440185,-4.98942571247481,{"v":6.05590569631481e-07,"d":"6.06E-07"},{"v":1.51759048020339e-05,"d":"1.52E-05"},{"$f":"VLOOKUP(A521,'[1]SD vs SY0.30'!$A$2:$E$20133,5,FALSE)","v":"PNLDC1"}]
["ENSGALG00000025633",9.25598362003637,-1.66925801384527,0.555658145880173,-3.00410967826474,0.00266359285718207,0.0157855954649664,{"$f":"VLOOKUP(A522,'[1]SD vs SY0.30'!$A$2:$E$20133,5,FALSE)","v":"NA"}]
["ENSGALG00000015944",8.06536977630313,-1.68328365376752,0.510195530361807,-3.29929125912533,0.000969292852213778,0.00701962957353114,{"$f":"VLOOKUP(A523,'[1]SD vs SY0.30'!$A$2:$E$20133,5,FALSE)","v":"NA"}]
["ENSGALG00000016607",20.1472920991024,-1.68638738522325,0.370984342356222,-4.54571040522235,{"v":5.47502721996491e-06,"d":"5.48E-06"},{"v":9.71388702064129E-5,"d":"9.71E-05"},{"$f":"VLOOKUP(A524,'[1]SD vs SY0.30'!$A$2:$E$20133,5,FALSE)","v":"CLCN4"}]
["ENSGALG00000050631",154.606929664731,-1.68989583245537,0.222349484964712,-7.6001787578845,{"v":2.95721973552079E-14,"d":"2.96E-14"},{"v":4.7418739476082e-12,"d":"4.74E-12"},{"$f":"VLOOKUP(A525,'[1]SD vs SY0.30'!$A$2:$E$20133,5,FALSE)","v":"NA"}]
["ENSGALG00000054719",23.7700513098723,-1.69300334789795,0.351566435257117,-4.81560006335581,{"v":1.46758198311411e-06,"d":"1.47E-06"},{"v":3.23534253787166e-05,"d":"3.24E-05"},{"$f":"VLOOKUP(A526,'[1]SD vs SY0.30'!$A$2:$E$20133,5,FALSE)","v":"NA"}]
["ENSGALG00000014835",481.510697729032,-1.69368351905513,0.402446762195289,-4.20846600881152,{"v":2.57110196378931E-5,"d":"2.57E-05"},3.58498934196283E-4,{"$f":"VLOOKUP(A527,'[1]SD vs SY0.30'!$A$2:$E$20133,5,FALSE)","v":"C7"}]
["ENSGALG00000033788",5.49347597680843,-1.69475089736807,0.664776362736622,-2.54935492951561,0.0107922401446551,0.0468905178268668,{"$f":"VLOOKUP(A528,'[1]SD vs SY0.30'!$A$2:$E$20133,5,FALSE)","v":"NA"}]
["ENSGALG00000008427",16.8156781517826,-1.70208485155455,0.555839668923554,-3.06218671807076,2.19726344344912E-3,0.0135757494541275,{"$f":"VLOOKUP(A529,'[1]SD vs SY0.30'!$A$2:$E$20133,5,FALSE)","v":"GNAT3"}]
["ENSGALG00000053729",6.75742868615531,-1.70737609616177,0.527719647047168,-3.23538474588792,0.00121478917510143,0.00846567101648178,{"$f":"VLOOKUP(A530,'[1]SD vs SY0.30'!$A$2:$E$20133,5,FALSE)","v":"NA"}]
["ENSGALG00000051640",17.7721005626977,-1.7182167594239,0.426298542590024,-4.03054804969466,{"v":5.56469514779061e-05,"d":"5.56E-05"},0.000675593738764265,{"$f":"VLOOKUP(A531,'[1]SD vs SY0.30'!$A$2:$E$20133,5,FALSE)","v":"NA"}]
["ENSGALG00000028357",9.18987303731104,-1.72806351693575,0.518870914146688,-3.33043049787759,0.000867118077902818,0.0063968775911954,{"$f":"VLOOKUP(A532,'[1]SD vs SY0.30'!$A$2:$E$20133,5,FALSE)","v":"MMR1L2"}]
["ENSGALG00000052333",43.6176688786008,-1.74269226116752,0.32600481728898,-5.34560279096352,{"v":9.01166380887597e-08,"d":"9.01E-08"},{"v":2.96269341894516e-06,"d":"2.96E-06"},{"$f":"VLOOKUP(A533,'[1]SD vs SY0.30'!$A$2:$E$20133,5,FALSE)","v":"NA"}]
["ENSGALG00000041179",22.0735818422151,-1.7461893226948,0.330220961365155,-5.28794209633434,{"v":1.23700119924719e-07,"d":"1.24E-07"},{"v":3.81644684208972e-06,"d":"3.82E-06"},{"$f":"VLOOKUP(A534,'[1]SD vs SY0.30'!$A$2:$E$20133,5,FALSE)","v":"NA"}]
["ENSGALG00000009602",9.18025381975856,-1.75711452406427,0.593826158036506,-2.95897124147274,0.00308667905408016,0.0176587963252105,{"$f":"VLOOKUP(A535,'[1]SD vs SY0.30'!$A$2:$E$20133,5,FALSE)","v":"MYO3B"}]
["ENSGALG00000020869",33.0393058367005,-1.76691707227681,0.362842368639539,-4.86965477295772,{"v":1.11793390570448E-6,"d":"1.12E-06"},{"v":2.56777332368366e-05,"d":"2.57E-05"},{"$f":"VLOOKUP(A536,'[1]SD vs SY0.30'!$A$2:$E$20133,5,FALSE)","v":"NA"}]
["ENSGALG00000046568",8.04525372909945,-1.7701955874407,0.664958960057839,-2.66211254193301,0.00776519109150729,0.0366116374430928,{"$f":"VLOOKUP(A537,'[1]SD vs SY0.30'!$A$2:$E$20133,5,FALSE)","v":"NA"}]
["ENSGALG00000017840",10.8398835862957,-1.77169630051018,0.45155235447379,-3.92356784978964,{"v":8.72471788182018e-05,"d":"8.72E-05"},0.000980780620617048,{"$f":"VLOOKUP(A538,'[1]SD vs SY0.30'!$A$2:$E$20133,5,FALSE)","v":"NA"}]
["ENSGALG00000017040",277.102755904128,-1.779251697449,0.486399454024355,-3.65800512876379,0.000254185961663635,0.00234804282086783,{"$f":"VLOOKUP(A539,'[1]SD vs SY0.30'!$A$2:$E$20133,5,FALSE)","v":"C4A"}]
["ENSGALG00000012683",37.2530176370411,-1.79638821385686,0.234585897896541,-7.65769907724428,{"v":1.8929378491982e-14,"d":"1.89E-14"},{"v":3.28308822681856e-12,"d":"3.28E-12"},{"$f":"VLOOKUP(A540,'[1]SD vs SY0.30'!$A$2:$E$20133,5,FALSE)","v":"RNF144B"}]
["ENSGALG00000014726",10.4356504175328,-1.80283258013994,0.51668704487596,-3.48921576033078,0.000484439958181753,0.0039777903232924,{"$f":"VLOOKUP(A541,'[1]SD vs SY0.30'!$A$2:$E$20133,5,FALSE)","v":"RAB3C"}]
["ENSGALG00000044599",17.8430172870294,-1.80383665785077,0.48192969958476,-3.74294561925732,0.000181875600801896,1.7889696683043E-3,{"$f":"VLOOKUP(A542,'[1]SD vs SY0.30'!$A$2:$E$20133,5,FALSE)","v":"LOC776067"}]
["ENSGALG00000039177",148.195635777668,-1.82287602499882,0.161729412532658,-11.2711472604325,{"v":1.82180457296483e-29,"d":"1.82E-29"},{"v":3.44057914740924E-26,"d":"3.44E-26"},{"$f":"VLOOKUP(A543,'[1]SD vs SY0.30'!$A$2:$E$20133,5,FALSE)","v":"NA"}]
["ENSGALG00000028658",13.7051853839518,-1.82909073452147,0.461624234770038,-3.96229356422901,{"v":7.4233185062438e-05,"d":"7.42E-05"},0.000859215940829643,{"$f":"VLOOKUP(A544,'[1]SD vs SY0.30'!$A$2:$E$20133,5,FALSE)","v":"KBTBD3"}]
["ENSGALG00000048870",18.5838604464309,-1.83097048687988,0.563091027272268,-3.25164209372948,0.00114740406362115,0.00807553907634316,{"$f":"VLOOKUP(A545,'[1]SD vs SY0.30'!$A$2:$E$20133,5,FALSE)","v":"NA"}]
["ENSGALG00000005537",13.5101562657576,-1.83748041544127,0.456856949765081,-4.02200386004003,{"v":5.77051120160339e-05,"d":"5.77E-05"},0.000696846761829089,{"$f":"VLOOKUP(A546,'[1]SD vs SY0.30'!$A$2:$E$20133,5,FALSE)","v":"ASB14"}]
["ENSGALG00000014958",12.3762873208023,-1.84177676960553,0.667708357870671,-2.75835512300457,0.00580930495903385,0.0292305377112784,{"$f":"VLOOKUP(A547,'[1]SD vs SY0.30'!$A$2:$E$20133,5,FALSE)","v":"ANKDD1B"}]
["ENSGALG00000029256",73.6199492858539,-1.85954835548406,0.455656148133233,-4.08103426915757,{"v":4.48357432639612e-05,"d":"4.48E-05"},0.000572126973166328,{"$f":"VLOOKUP(A548,'[1]SD vs SY0.30'!$A$2:$E$20133,5,FALSE)","v":"NA"}]
["ENSGALG00000043130",8.29683164809163,-1.87417450555379,0.723570900669378,-2.59017396058905,0.00959274424445133,0.0428960468095078,{"$f":"VLOOKUP(A549,'[1]SD vs SY0.30'!$A$2:$E$20133,5,FALSE)","v":"NA"}]
["ENSGALG00000038614",17.0161740745128,-1.8789609081723,0.43606148687046,-4.3089357000025,{"v":1.64042048012644e-05,"d":"1.64E-05"},0.000246745370802736,{"$f":"VLOOKUP(A550,'[1]SD vs SY0.30'!$A$2:$E$20133,5,FALSE)","v":"NA"}]
["ENSGALG00000025509",9.0967178953608,-1.89834574186612,0.581270439982757,-3.26585632312978,1.09133606376724E-3,7.73708860119641E-3,{"$f":"VLOOKUP(A551,'[1]SD vs SY0.30'!$A$2:$E$20133,5,FALSE)","v":"gga-mir-1465"}]
["ENSGALG00000031693",42.1318486605282,-1.91771545134552,0.315672279973009,-6.07502011741257,{"v":1.23972178357124E-9,"d":"1.24E-09"},{"v":7.13342717953816e-08,"d":"7.13E-08"},{"$f":"VLOOKUP(A552,'[1]SD vs SY0.30'!$A$2:$E$20133,5,FALSE)","v":"KCNB2"}]
["ENSGALG00000051937",14.7790543891854,-1.92202075863714,0.416786778705524,-4.61152046282909,{"v":3.99734298383813e-06,"d":"4.00E-06"},{"v":7.46624601058205e-05,"d":"7.47E-05"},{"$f":"VLOOKUP(A553,'[1]SD vs SY0.30'!$A$2:$E$20133,5,FALSE)","v":"NA"}]
["ENSGALG00000004660",11.2735958662657,-1.92313447347005,0.574525706620098,-3.34734277563268,0.000815902551787941,0.00609310003195942,{"$f":"VLOOKUP(A554,'[1]SD vs SY0.30'!$A$2:$E$20133,5,FALSE)","v":"TRPV3"}]
["ENSGALG00000048005",9.33057518605018,-1.93076748779465,0.619005357451593,-3.11914503574492,0.00181376656755616,0.0116115217886072,{"$f":"VLOOKUP(A555,'[1]SD vs SY0.30'!$A$2:$E$20133,5,FALSE)","v":"NA"}]
["ENSGALG00000054381",41.8324744396188,-1.93147264685589,0.529444291901357,-3.64811308082957,0.000264173369085984,0.00241796163400886,{"$f":"VLOOKUP(A556,'[1]SD vs SY0.30'!$A$2:$E$20133,5,FALSE)","v":"SNORD14"}]
["ENSGALG00000009176",12.081345909795,-1.95338437269249,0.432266270977933,-4.51893775628913,{"v":6.21506613014348e-06,"d":"6.22E-06"},1.07573807549948E-4,{"$f":"VLOOKUP(A557,'[1]SD vs SY0.30'!$A$2:$E$20133,5,FALSE)","v":"TTBK2"}]
["ENSGALG00000005359",10.0645818714204,-1.95821668207458,0.463176480841782,-4.22779817860289,{"v":2.35989322056543E-5,"d":"2.36E-05"},0.000333980891506666,{"$f":"VLOOKUP(A558,'[1]SD vs SY0.30'!$A$2:$E$20133,5,FALSE)","v":"NA"}]
["ENSGALG00000047506",103.749099714832,-1.96551709256546,0.612089925775835,-3.21115739664255,1.32201503773517E-3,0.00909360161731472,{"$f":"VLOOKUP(A559,'[1]SD vs SY0.30'!$A$2:$E$20133,5,FALSE)","v":"NA"}]
["ENSGALG00000034377",9.24367844919739,-1.98139367768684,0.63407634454457,-3.12485033503338,0.0017789554620967,0.0114360461381459,{"$f":"VLOOKUP(A560,'[1]SD vs SY0.30'!$A$2:$E$20133,5,FALSE)","v":"SLC30A8"}]
["ENSGALG00000050022",7.67803913888977,-1.98159381843584,0.577321992992447,-3.43238927754093,0.000598288122144023,0.00471228137723909,{"$f":"VLOOKUP(A561,'[1]SD vs SY0.30'!$A$2:$E$20133,5,FALSE)","v":"NA"}]
["ENSGALG00000046996",7.49948435210613,-2.00031265129867,0.689100698149222,-2.90278714949945,3.69857918477842E-3,0.0205038324865228,{"$f":"VLOOKUP(A562,'[1]SD vs SY0.30'!$A$2:$E$20133,5,FALSE)","v":"IFN-A,IFN-A"}]
["ENSGALG00000004649",10.6596522599219,-2.00106271912339,0.726297431405236,-2.75515599064111,0.00586641590390314,0.0294568600055071,{"$f":"VLOOKUP(A563,'[1]SD vs SY0.30'!$A$2:$E$20133,5,FALSE)","v":"TRPV1"}]
["ENSGALG00000007278",8.44768741504521,-2.0041745092392,0.493971753530631,-4.05726541024764,{"v":4.96506476551333E-5,"d":"4.97E-05"},6.16444162304092E-4,{"$f":"VLOOKUP(A564,'[1]SD vs SY0.30'!$A$2:$E$20133,5,FALSE)","v":"GRIN2A"}]
["ENSGALG00000054579",23.0065337759641,-2.01192079754905,0.492554424514188,-4.08466698788348,{"v":4.41400738815002e-05,"d":"4.41E-05"},0.000565798518675611,{"$f":"VLOOKUP(A565,'[1]SD vs SY0.30'!$A$2:$E$20133,5,FALSE)","v":"NA"}]
["ENSGALG00000000242",5.84044760789218,-2.01813001179158,0.713585249736419,-2.8281554481921,0.00468170672423185,0.0247434605695798,{"$f":"VLOOKUP(A566,'[1]SD vs SY0.30'!$A$2:$E$20133,5,FALSE)","v":"EBF2"}]
["ENSGALG00000016959",39.7691977814988,-2.021142218325,0.435650105396977,-4.63937043348875,{"v":3.4947215268788e-06,"d":"3.49E-06"},{"v":6.62943993218293e-05,"d":"6.63E-05"},{"$f":"VLOOKUP(A567,'[1]SD vs SY0.30'!$A$2:$E$20133,5,FALSE)","v":"DGKH"}]
["ENSGALG00000049769",8.60064322647593,-2.03465814865769,0.7712895327178,-2.63799528237878,0.00833977420614835,0.0387828022385509,{"$f":"VLOOKUP(A568,'[1]SD vs SY0.30'!$A$2:$E$20133,5,FALSE)","v":"NA"}]
["ENSGALG00000049657",11.2194672031994,-2.05015354011085,0.558834843434697,-3.66862153317114,0.00024386176468754,0.00226622111229859,{"$f":"VLOOKUP(A569,'[1]SD vs SY0.30'!$A$2:$E$20133,5,FALSE)","v":"NA"}]
["ENSGALG00000002325",5.264911944878,-2.07949505391136,0.814243966910715,-2.55389679066468,0.010652482715519,0.0464593717278216,{"$f":"VLOOKUP(A570,'[1]SD vs SY0.30'!$A$2:$E$20133,5,FALSE)","v":"IGFALS"}]
["ENSGALG00000054690",9.32977168825757,-2.08546222702621,0.649982167190088,-3.20849145145288,1.33433275836537E-3,0.00915384996549207,{"$f":"VLOOKUP(A571,'[1]SD vs SY0.30'!$A$2:$E$20133,5,FALSE)","v":"NA"}]
["ENSGALG00000014736",9.29663115574281,-2.09502765371434,0.676563161345682,-3.09657364368958,0.00195771226830257,0.0124098720437277,{"$f":"VLOOKUP(A572,'[1]SD vs SY0.30'!$A$2:$E$20133,5,FALSE)","v":"KEL"}]
["ENSGALG00000054399",7.27956609207672,-2.10065129779779,0.667967819251658,-3.14483907346197,0.0016617821368847,0.0108427297430439,{"$f":"VLOOKUP(A573,'[1]SD vs SY0.30'!$A$2:$E$20133,5,FALSE)","v":"NA"}]
["ENSGALG00000049649",7.01038400051424,-2.11253069933221,0.779141583734938,-2.7113566307236,0.00670085120711528,0.0325691644173115,{"$f":"VLOOKUP(A574,'[1]SD vs SY0.30'!$A$2:$E$20133,5,FALSE)","v":"NA"}]
["ENSGALG00000047831",8.55146835986791,-2.181995619606,0.588435453597934,-3.7081307835284,0.000208794818023193,1.99151825024703E-3,{"$f":"VLOOKUP(A575,'[1]SD vs SY0.30'!$A$2:$E$20133,5,FALSE)","v":"NA"}]
["ENSGALG00000049782",4.21631922729146,-2.19518987227086,0.817590637186379,-2.6849498666292,0.00725406863039327,0.034682814208381,{"$f":"VLOOKUP(A576,'[1]SD vs SY0.30'!$A$2:$E$20133,5,FALSE)","v":"NA"}]
["ENSGALG00000054607",5.07928293543196,-2.23324177770797,0.744428040599017,-2.99994311862696,2.70030028552551E-3,0.0159364597059295,{"$f":"VLOOKUP(A577,'[1]SD vs SY0.30'!$A$2:$E$20133,5,FALSE)","v":"NA"}]
["ENSGALG00000012755",13.698050424092,-2.23443530731573,0.457730514107802,-4.88155200155499,{"v":1.05254158790989e-06,"d":"1.05E-06"},{"v":2.43402032240876E-5,"d":"2.43E-05"},{"$f":"VLOOKUP(A578,'[1]SD vs SY0.30'!$A$2:$E$20133,5,FALSE)","v":"IGF-I,IGF-I"}]
["ENSGALG00000031045",3.26150549189989,-2.23749481995775,0.839556275151706,-2.66509212804519,0.0076967234063973,0.0363594240518441,{"$f":"VLOOKUP(A579,'[1]SD vs SY0.30'!$A$2:$E$20133,5,FALSE)","v":"NA"}]
["ENSGALG00000010858",8.40634328132851,-2.24284536743206,0.485311152677184,-4.62145853244781,{"v":3.81051506944937e-06,"d":"3.81E-06"},{"v":7.14653819443684e-05,"d":"7.15E-05"},{"$f":"VLOOKUP(A580,'[1]SD vs SY0.30'!$A$2:$E$20133,5,FALSE)","v":"LRP2"}]
["ENSGALG00000040530",7.10284095481541,-2.2455614419239,0.728403998190517,-3.08285161462906,0.00205027359464967,0.0128687224107313,{"$f":"VLOOKUP(A581,'[1]SD vs SY0.30'!$A$2:$E$20133,5,FALSE)","v":"MUC6"}]
["ENSGALG00000054302",8.17591368525778,-2.25424223509757,0.535091911447848,-4.21281313895786,{"v":2.52209706024891E-5,"d":"2.52E-05"},0.000352823734428401,{"$f":"VLOOKUP(A582,'[1]SD vs SY0.30'!$A$2:$E$20133,5,FALSE)","v":"NA"}]
["ENSGALG00000053641",25.3340896766832,-2.29194058551413,0.480730005682196,-4.76762539975361,{"v":1.86409969433925e-06,"d":"1.86E-06"},{"v":3.97043891036142e-05,"d":"3.97E-05"},{"$f":"VLOOKUP(A583,'[1]SD vs SY0.30'!$A$2:$E$20133,5,FALSE)","v":"CIART"}]
["ENSGALG00000001935",5.70898506450021,-2.2952387081333,0.733170931297459,-3.13056425201081,0.00174470828328516,0.0112627446604625,{"$f":"VLOOKUP(A584,'[1]SD vs SY0.30'!$A$2:$E$20133,5,FALSE)","v":"NA"}]
["ENSGALG00000031737",466.314673071123,-2.30298674907246,0.382974343266981,-6.01342306491532,{"v":1.81646158500471E-9,"d":"1.82E-09"},{"v":9.99171442081718e-08,"d":"9.99E-08"},{"$f":"VLOOKUP(A585,'[1]SD vs SY0.30'!$A$2:$E$20133,5,FALSE)","v":"NA"}]
["ENSGALG00000034828",6.98512711038926,-2.30633065203223,0.558899474469574,-4.12655720283342,{"v":3.68234440582444e-05,"d":"3.68E-05"},0.000487831705890865,{"$f":"VLOOKUP(A586,'[1]SD vs SY0.30'!$A$2:$E$20133,5,FALSE)","v":"NA"}]
["ENSGALG00000041098",13.3568360510307,-2.3951179108865,0.548149557098711,-4.36946063326871,{"v":1.24553790133401E-5,"d":"1.25E-05"},0.000196521677771903,{"$f":"VLOOKUP(A587,'[1]SD vs SY0.30'!$A$2:$E$20133,5,FALSE)","v":"NA"}]
["ENSGALG00000029264",9.49911933515986,-2.40386873190706,0.620645707278214,-3.87317386347359,0.000107427132951108,0.00117231486540823,{"$f":"VLOOKUP(A588,'[1]SD vs SY0.30'!$A$2:$E$20133,5,FALSE)","v":"PI15"}]
["ENSGALG00000046709",4.25150399251071,-2.41555307124026,0.807263808238041,-2.99227222450678,0.00276909219035433,0.0162241502790254,{"$f":"VLOOKUP(A589,'[1]SD vs SY0.30'!$A$2:$E$20133,5,FALSE)","v":"NA"}]
["ENSGALG00000011590",3.58982710022137,-2.46885577707207,0.892046915921102,-2.76762996767138,0.00564655261840398,0.0285723295192059,{"$f":"VLOOKUP(A590,'[1]SD vs SY0.30'!$A$2:$E$20133,5,FALSE)","v":"TMEM179"}]
["ENSGALG00000050243",3.67513184922979,-2.50515393236575,0.88339046222581,-2.83583991393082,0.00457053493885925,0.0242549144071785,{"$f":"VLOOKUP(A591,'[1]SD vs SY0.30'!$A$2:$E$20133,5,FALSE)","v":"NA"}]
["ENSGALG00000050570",15.3844433437809,-2.55541715246491,0.721077542608732,-3.54388675484173,0.000394274558893251,3.35241854802831E-3,{"$f":"VLOOKUP(A592,'[1]SD vs SY0.30'!$A$2:$E$20133,5,FALSE)","v":"NA"}]
["ENSGALG00000050860",2.83420321972512,-2.56149274122775,1.0113807900873,-2.53266896734972,0.0113197798554532,0.0485724539657384,{"$f":"VLOOKUP(A593,'[1]SD vs SY0.30'!$A$2:$E$20133,5,FALSE)","v":"DUSP13L"}]
["ENSGALG00000044914",5.4322019288032,-2.57726263582484,0.96675974224572,-2.66587707700573,0.00767877639835456,0.03628472683982,{"$f":"VLOOKUP(A594,'[1]SD vs SY0.30'!$A$2:$E$20133,5,FALSE)","v":"C11orf16"}]
["ENSGALG00000050849",4.6476576786493,-2.60869254748111,0.728882068702683,-3.57903241072215,0.0003448687007735,0.00300293714500368,{"$f":"VLOOKUP(A595,'[1]SD vs SY0.30'!$A$2:$E$20133,5,FALSE)","v":"NA"}]
["ENSGALG00000055096",2.68533259532153,-2.62206968874401,0.984595691139999,-2.66309279264476,0.00774260598293215,0.0365355563275674,{"$f":"VLOOKUP(A596,'[1]SD vs SY0.30'!$A$2:$E$20133,5,FALSE)","v":"NA"}]
["ENSGALG00000049050",3.18781725705107,-2.64481169048117,0.941228458921187,-2.80995720583352,0.00495480876848654,0.0258413269831131,{"$f":"VLOOKUP(A597,'[1]SD vs SY0.30'!$A$2:$E$20133,5,FALSE)","v":"NA"}]
["ENSGALG00000017872",9.60940854694832,-2.6633400496714,0.671401315891354,-3.96683769696748,{"v":7.28325536240877e-05,"d":"7.28E-05"},0.000847748044759783,{"$f":"VLOOKUP(A598,'[1]SD vs SY0.30'!$A$2:$E$20133,5,FALSE)","v":"NA"}]
["ENSGALG00000038918",16.9637482574893,-2.71265744222493,1.02297134549252,-2.65174333003325,0.00800773895458992,0.0375365524024172,{"$f":"VLOOKUP(A599,'[1]SD vs SY0.30'!$A$2:$E$20133,5,FALSE)","v":"NA"}]
["ENSGALG00000036944",5.40248317069547,-2.7173155044601,0.76802035243282,-3.53807746871888,0.000403051787296595,3.41168885890449E-3,{"$f":"VLOOKUP(A600,'[1]SD vs SY0.30'!$A$2:$E$20133,5,FALSE)","v":"SNORA63"}]
["ENSGALG00000041014",5.57810426802579,-2.71739382264079,0.63482660746196,-4.28052918812736,{"v":1.86449430534177e-05,"d":"1.86E-05"},2.75151993481871E-4,{"$f":"VLOOKUP(A601,'[1]SD vs SY0.30'!$A$2:$E$20133,5,FALSE)","v":"NA"}]
["ENSGALG00000049923",8.60372314126232,-2.72635047871817,1.01686376498038,-2.68113642418045,0.00733725967734916,0.0350116234519662,{"$f":"VLOOKUP(A602,'[1]SD vs SY0.30'!$A$2:$E$20133,5,FALSE)","v":"NA"}]
["ENSGALG00000052890",4.63878913499797,-2.73453157571914,0.948077065598859,-2.88429250631841,0.00392294184507061,0.021467560380124,{"$f":"VLOOKUP(A603,'[1]SD vs SY0.30'!$A$2:$E$20133,5,FALSE)","v":"NA"}]
["ENSGALG00000051507",2.86139172438123,-2.81894809420149,1.01388396844289,-2.78034586002064,5.43010314616539E-3,0.0277580340377062,{"$f":"VLOOKUP(A604,'[1]SD vs SY0.30'!$A$2:$E$20133,5,FALSE)","v":"NA"}]
["ENSGALG00000025677",3.78103707607021,-2.82299197384878,0.992382465025534,-2.8446612806446,0.00444586722277967,0.0237331674577845,{"$f":"VLOOKUP(A605,'[1]SD vs SY0.30'!$A$2:$E$20133,5,FALSE)","v":"SCARNA8"}]
["ENSGALG00000048303",4.66359182128497,-2.83043893056561,0.78146092185372,-3.62198396799096,2.92352243713015E-4,0.00261945761011604,{"$f":"VLOOKUP(A606,'[1]SD vs SY0.30'!$A$2:$E$20133,5,FALSE)","v":"NA"}]
["ENSGALG00000051786",6.64905158841623,-3.0058512573227,0.774954920774157,-3.87874336525272,0.000104997451731799,0.00114841807405752,{"$f":"VLOOKUP(A607,'[1]SD vs SY0.30'!$A$2:$E$20133,5,FALSE)","v":"NA"}]
["ENSGALG00000053686",4.61204272285263,-3.05078413468918,0.829336493333585,-3.6785842166746,0.00023453224975218,0.00219150338044959,{"$f":"VLOOKUP(A608,'[1]SD vs SY0.30'!$A$2:$E$20133,5,FALSE)","v":"NA"}]
["ENSGALG00000053079",3.15878471368115,-3.12840527098512,1.11364283340267,-2.80916392325397,0.00496703486891348,0.0258824147832582,{"$f":"VLOOKUP(A609,'[1]SD vs SY0.30'!$A$2:$E$20133,5,FALSE)","v":"NA"}]
["ENSGALG00000027423",2.55485299594794,-3.15386658183445,1.23434584396873,-2.55509150635934,0.0106159885528029,0.0463498477862805,{"$f":"VLOOKUP(A610,'[1]SD vs SY0.30'!$A$2:$E$20133,5,FALSE)","v":"SLC26A1"}]
["ENSGALG00000049623",2.58811013724378,-3.29736039129702,1.08850950125354,-3.02924355506289,2.45166947038472E-3,0.014792696481409,{"$f":"VLOOKUP(A611,'[1]SD vs SY0.30'!$A$2:$E$20133,5,FALSE)","v":"NA"}]
["ENSGALG00000049497",1.98503193532295,-3.31308827541358,1.25666547945444,-2.63641225893458,0.00837878659563807,0.0389429137998524,{"$f":"VLOOKUP(A612,'[1]SD vs SY0.30'!$A$2:$E$20133,5,FALSE)","v":"NA"}]
["ENSGALG00000025640",1.88339258388681,-3.46725864455297,1.32193711161806,-2.62286202125684,0.00871945770426903,0.0400986533007199,{"$f":"VLOOKUP(A613,'[1]SD vs SY0.30'!$A$2:$E$20133,5,FALSE)","v":"U4"}]
["ENSGALG00000050982",2.14988244011136,-3.56042766459832,1.32130050210275,-2.69463884932471,0.0070464960827675,0.0338714066512441,{"$f":"VLOOKUP(A614,'[1]SD vs SY0.30'!$A$2:$E$20133,5,FALSE)","v":"NA"}]
["ENSGALG00000054155",2.72395909207252,-3.58526178738798,1.27695548353819,-2.80766387991376,0.00499022818765471,0.0259782261885351,{"$f":"VLOOKUP(A615,'[1]SD vs SY0.30'!$A$2:$E$20133,5,FALSE)","v":"NA"}]
["ENSGALG00000047967",5.60437251712063,-3.66334551535772,1.26459540693383,-2.89685182728914,0.00376927734747377,0.0208181988522954,{"$f":"VLOOKUP(A616,'[1]SD vs SY0.30'!$A$2:$E$20133,5,FALSE)","v":"NA"}]
["ENSGALG00000000299",1.69602334998436,-3.70723970351207,1.43063199975888,-2.59133005841956,0.00956057481350303,0.0427726356445943,{"$f":"VLOOKUP(A617,'[1]SD vs SY0.30'!$A$2:$E$20133,5,FALSE)","v":"PKP1"}]
["ENSGALG00000052804",12.0578487842633,-3.90233893951221,1.03194554517359,-3.78153571936373,0.000155863852220995,1.58399728697403E-3,{"$f":"VLOOKUP(A618,'[1]SD vs SY0.30'!$A$2:$E$20133,5,FALSE)","v":"NA"}]
["ENSGALG00000049342",5.06173218639591,-4.00528364459677,1.4228155501128,-2.81504067359908,0.00487710607799107,0.0255454730487682,{"$f":"VLOOKUP(A619,'[1]SD vs SY0.30'!$A$2:$E$20133,5,FALSE)","v":"NA"}]
["ENSGALG00000050542",2.16386311670555,-4.00746326347661,1.53713166216078,-2.60710475369639,0.00913114207116996,0.0413651443986343,{"$f":"VLOOKUP(A620,'[1]SD vs SY0.30'!$A$2:$E$20133,5,FALSE)","v":"NA"}]
["ENSGALG00000051817",3.07451621691739,-4.00978321212462,1.30081014667519,-3.08252762509075,0.00205250678734708,0.0128779837078399,{"$f":"VLOOKUP(A621,'[1]SD vs SY0.30'!$A$2:$E$20133,5,FALSE)","v":"gga-mir-1758"}]
["ENSGALG00000047595",2.00950497039373,-4.06279596137981,1.35972639368831,-2.98795109092449,0.00280854495058406,0.0164044118642877,{"$f":"VLOOKUP(A622,'[1]SD vs SY0.30'!$A$2:$E$20133,5,FALSE)","v":"NA"}]
["ENSGALG00000047694",3.91177671868998,-4.18067163685743,1.18594918887767,-3.52516927037477,0.000423212270269562,0.00354701132040027,{"$f":"VLOOKUP(A623,'[1]SD vs SY0.30'!$A$2:$E$20133,5,FALSE)","v":"NA"}]
["ENSGALG00000054595",2.03863590022421,-4.19003581993839,1.33213349256161,-3.14535731091124,0.00165884092717938,0.0108318552590349,{"$f":"VLOOKUP(A624,'[1]SD vs SY0.30'!$A$2:$E$20133,5,FALSE)","v":"NA"}]
["ENSGALG00000054661",5.99630027748857,-4.27668197470721,1.50401269873146,-2.84351453835085,0.00446189737448922,0.023788854979358,{"$f":"VLOOKUP(A625,'[1]SD vs SY0.30'!$A$2:$E$20133,5,FALSE)","v":"NA"}]
["ENSGALG00000047550",1.82094625592764,-4.39977547663941,1.71054303387548,-2.57215129318967,0.0101068713753479,0.0445729620590952,{"$f":"VLOOKUP(A626,'[1]SD vs SY0.30'!$A$2:$E$20133,5,FALSE)","v":"NA"}]
["ENSGALG00000017212",3.28358189306025,-4.46662912147983,1.26600909457828,-3.52811772096131,4.18525982710081E-4,3.51640441330858E-3,{"$f":"VLOOKUP(A627,'[1]SD vs SY0.30'!$A$2:$E$20133,5,FALSE)","v":"GPR83"}]
["ENSGALG00000053434",6.35218637617599,-4.89841507728915,1.5080227604695,-3.24823683414706,0.00116122571715487,0.00815596252982701,{"$f":"VLOOKUP(A628,'[1]SD vs SY0.30'!$A$2:$E$20133,5,FALSE)","v":"NA"}]

{"sheet":"SD vs SY0.45","index":2,"n_rows":3306,"n_cols":8,"rows_kept":3306}
["gene_id","baseMean","log2FoldChange","lfcSE","stat","pvalue","padj","gene"]
["ENSGALG00000039869",41.7155513503434,5.48575770028487,2.05647244974131,2.66755710779151,0.00764049030479799,0.019881054314505,{"$f":"VLOOKUP(A2,'[1]SD vs SY0.45'!$A$2:$E$20133,5,FALSE)","v":"PYURF"}]
["ENSGALG00000047478",3.28640334128874,5.48219000916387,1.52180581056969,3.60242415365177,0.000315263402106114,1.18492969572395E-3,{"$f":"VLOOKUP(A3,'[1]SD vs SY0.45'!$A$2:$E$20133,5,FALSE)","v":"NA"}]
["ENSGALG00000042868",2.72640481274753,4.63088114466661,1.41984071085447,3.26154977052299,0.00110804979014806,0.0036193240092625,{"$f":"VLOOKUP(A4,'[1]SD vs SY0.45'!$A$2:$E$20133,5,FALSE)","v":"NA"}]
["ENSGALG00000049341",2.74587542651811,4.41410071763167,1.70245223023127,2.59278976481592,0.00952009463403506,0.0241537845326087,{"$f":"VLOOKUP(A5,'[1]SD vs SY0.45'!$A$2:$E$20133,5,FALSE)","v":"NA"}]
["ENSGALG00000051440",35.0229720085019,4.39386789652634,1.42016892527891,3.09390511108628,0.00197540655505549,0.00605649687405215,{"$f":"VLOOKUP(A6,'[1]SD vs SY0.45'!$A$2:$E$20133,5,FALSE)","v":"NA"}]
["ENSGALG00000041327",1.39816976587802,4.38876413039124,1.63999491692115,2.67608398362021,0.00744879770498408,0.0194375274946058,{"$f":"VLOOKUP(A7,'[1]SD vs SY0.45'!$A$2:$E$20133,5,FALSE)","v":"TRIM55"}]
["ENSGALG00000053624",2.13498519995466,4.3438672186783,1.57837037947332,2.75212160286978,0.00592105298654971,0.0159142600521162,{"$f":"VLOOKUP(A8,'[1]SD vs SY0.45'!$A$2:$E$20133,5,FALSE)","v":"NA"}]
["ENSGALG00000049486",1.64050684476009,4.33515121535318,1.73873374574482,2.49328065666323,0.0126568758082045,0.0309167040850311,{"$f":"VLOOKUP(A9,'[1]SD vs SY0.45'!$A$2:$E$20133,5,FALSE)","v":"NA"}]
["ENSGALG00000045469",2.71288838634085,4.31020957854932,1.46373782464556,2.94465955991335,3.23310191865744E-3,0.00935144865845497,{"$f":"VLOOKUP(A10,'[1]SD vs SY0.45'!$A$2:$E$20133,5,FALSE)","v":"BCAN"}]
["ENSGALG00000031372",3.55204095069606,4.18899639698788,1.14637436766152,3.65412601254594,0.000258059511280805,0.000991356765938878,{"$f":"VLOOKUP(A11,'[1]SD vs SY0.45'!$A$2:$E$20133,5,FALSE)","v":"GOLGA7B"}]
["ENSGALG00000002577",1.59792073874109,4.15509253210317,1.63522778576576,2.54098699170365,0.0110540032128653,0.0274958446154635,{"$f":"VLOOKUP(A12,'[1]SD vs SY0.45'!$A$2:$E$20133,5,FALSE)","v":"STARD10"}]
["ENSGALG00000036484",2.03724581294451,4.01195305328044,1.41416500092754,2.83697662624165,0.0045542945947045,0.0126595555744408,{"$f":"VLOOKUP(A13,'[1]SD vs SY0.45'!$A$2:$E$20133,5,FALSE)","v":"NCAN"}]
["ENSGALG00000038425",1.91438625186072,3.97901260261068,1.56553062301081,2.54163830724582,0.0110334283932116,0.0274525213899213,{"$f":"VLOOKUP(A14,'[1]SD vs SY0.45'!$A$2:$E$20133,5,FALSE)","v":"NA"}]
["ENSGALG00000044547",2.69135594827177,3.90656166891873,1.33236947876757,2.9320407973712,0.00336742507148509,0.00969519407006904,{"$f":"VLOOKUP(A15,'[1]SD vs SY0.45'!$A$2:$E$20133,5,FALSE)","v":"NA"}]
["ENSGALG00000030907",1.66581764120594,3.89372124427892,1.37237825465593,2.83720703899898,0.00455100903858811,0.0126524454995093,{"$f":"VLOOKUP(A16,'[1]SD vs SY0.45'!$A$2:$E$20133,5,FALSE)","v":"CSF3"}]
["ENSGALG00000039816",1.15501877315869,3.8649988310036,1.63285482048096,2.36701927355989,0.0179319989479256,0.041760469556333,{"$f":"VLOOKUP(A17,'[1]SD vs SY0.45'!$A$2:$E$20133,5,FALSE)","v":"NA"}]
["ENSGALG00000049183",1.282162701528,3.81748538797452,1.58441534440897,2.40939688033541,0.0159789109413145,0.0378045073529235,{"$f":"VLOOKUP(A18,'[1]SD vs SY0.45'!$A$2:$E$20133,5,FALSE)","v":"NA"}]
["ENSGALG00000038218",5.52929510711513,3.71062887128811,0.860211069184877,4.31362604390135,{"v":1.60598509198552e-05,"d":"1.61E-05"},{"v":8.18623945891299e-05,"d":"8.19E-05"},{"$f":"VLOOKUP(A19,'[1]SD vs SY0.45'!$A$2:$E$20133,5,FALSE)","v":"NA"}]
["ENSGALG00000023819",12.3648576447027,3.64031927268972,1.01664244760693,3.58072720774021,3.42639242573154E-4,1.27377988253569E-3,{"$f":"VLOOKUP(A20,'[1]SD vs SY0.45'!$A$2:$E$20133,5,FALSE)","v":"NA"}]
["ENSGALG00000035557",9.73404984218977,3.61626636881155,1.13403295656339,3.18885473996312,1.42837633927829E-3,0.00453776345898622,{"$f":"VLOOKUP(A21,'[1]SD vs SY0.45'!$A$2:$E$20133,5,FALSE)","v":"BARX1,BARX1"}]
["ENSGALG00000040185",175.987933268106,3.58825386076632,0.883321089234117,4.06223048956921,{"v":4.86060493719164e-05,"d":"4.86E-05"},0.00022274996848432,{"$f":"VLOOKUP(A22,'[1]SD vs SY0.45'!$A$2:$E$20133,5,FALSE)","v":"NA"}]
["ENSGALG00000047313",160.213886053186,3.53053864166616,1.07820642474867,3.2744552069323,1.05865921519698E-3,0.0034723463072307,{"$f":"VLOOKUP(A23,'[1]SD vs SY0.45'!$A$2:$E$20133,5,FALSE)","v":"GLYATL3"}]
["ENSGALG00000048283",10.9962041843218,3.38932719694257,1.11206658817454,3.04777360724968,2.30543542916833E-3,0.00693505290777678,{"$f":"VLOOKUP(A24,'[1]SD vs SY0.45'!$A$2:$E$20133,5,FALSE)","v":"NA"}]
["ENSGALG00000047898",1.47452433489824,3.38855045974917,1.45871185297037,2.32297451539115,0.0201805215316196,0.0462661609758233,{"$f":"VLOOKUP(A25,'[1]SD vs SY0.45'!$A$2:$E$20133,5,FALSE)","v":"NA"}]
["ENSGALG00000054895",39.5883858808702,3.34605746699388,0.731112432646285,4.57666607430367,{"v":4.72444676294475e-06,"d":"4.72E-06"},{"v":2.70032728031954E-5,"d":"2.70E-05"},{"$f":"VLOOKUP(A26,'[1]SD vs SY0.45'!$A$2:$E$20133,5,FALSE)","v":"NA"}]
["ENSGALG00000032606",3.05818577602104,3.34046269283014,1.18391499786927,2.8215392987183,0.00477937813222727,0.0132008018403551,{"$f":"VLOOKUP(A27,'[1]SD vs SY0.45'!$A$2:$E$20133,5,FALSE)","v":"NPFF"}]
["ENSGALG00000050888",13.4535720243137,3.28542700569493,0.931746294457258,3.52609613286274,0.000421733854192062,0.00153147170485325,{"$f":"VLOOKUP(A28,'[1]SD vs SY0.45'!$A$2:$E$20133,5,FALSE)","v":"NA"}]
["ENSGALG00000051370",12.1384335673858,3.26802924123658,0.961812875946483,3.39778071490324,0.000679348504567644,2.33943997799913E-3,{"$f":"VLOOKUP(A29,'[1]SD vs SY0.45'!$A$2:$E$20133,5,FALSE)","v":"NA"}]
["ENSGALG00000049385",3.31015961275714,3.2321029100668,1.21661294263831,2.65664024834206,0.00789236149281327,0.0204568409772726,{"$f":"VLOOKUP(A30,'[1]SD vs SY0.45'!$A$2:$E$20133,5,FALSE)","v":"NA"}]
["ENSGALG00000053607",2.68747459851679,3.17819677571167,1.15412508300233,2.75377151274101,0.005891288142703,0.0158563199593153,{"$f":"VLOOKUP(A31,'[1]SD vs SY0.45'!$A$2:$E$20133,5,FALSE)","v":"NA"}]
["ENSGALG00000051234",3.54236889039488,3.04544598312435,1.21023290701732,2.51641313458416,0.0118556120876218,0.0292056570370474,{"$f":"VLOOKUP(A32,'[1]SD vs SY0.45'!$A$2:$E$20133,5,FALSE)","v":"NA"}]
["ENSGALG00000053116",11.2920280937293,3.04497628106841,0.608630548314362,5.00299613534294,{"v":5.64460729314897E-7,"d":"5.64E-07"},{"v":3.85478346449258e-06,"d":"3.85E-06"},{"$f":"VLOOKUP(A33,'[1]SD vs SY0.45'!$A$2:$E$20133,5,FALSE)","v":"LRRC61"}]
["ENSGALG00000053846",304.607997853229,2.93773927121844,0.253147133523649,11.6048687983425,{"v":3.89284219160675e-31,"d":"3.89E-31"},{"v":5.24688737871834e-29,"d":"5.25E-29"},{"$f":"VLOOKUP(A34,'[1]SD vs SY0.45'!$A$2:$E$20133,5,FALSE)","v":"NA"}]
["ENSGALG00000050528",2.41086199722229,2.93563604625912,1.14024674294971,2.57456209755524,0.0100367068111217,0.0252837179549367,{"$f":"VLOOKUP(A35,'[1]SD vs SY0.45'!$A$2:$E$20133,5,FALSE)","v":"NA"}]
["ENSGALG00000029140",16.8125903281021,2.86594680341084,0.934261735649615,3.06760589035371,2.1578099495849E-3,0.0065453317504244,{"$f":"VLOOKUP(A36,'[1]SD vs SY0.45'!$A$2:$E$20133,5,FALSE)","v":"CRABP2"}]
["ENSGALG00000045505",2.33323296362407,2.86528054365336,1.16039384273901,2.46923108182832,0.0135403748117675,0.0327572696329764,{"$f":"VLOOKUP(A37,'[1]SD vs SY0.45'!$A$2:$E$20133,5,FALSE)","v":"NA"}]
["ENSGALG00000047877",4.40604565926908,2.83874760158493,1.10320609763956,2.57317976002741,0.0100768854113833,0.0253555436537948,{"$f":"VLOOKUP(A38,'[1]SD vs SY0.45'!$A$2:$E$20133,5,FALSE)","v":"NA"}]
["ENSGALG00000054163",34.9429189848008,2.83218742981125,0.426084711244068,6.64700552512649,{"v":2.99115806542971e-11,"d":"2.99E-11"},{"v":4.15725541835542e-10,"d":"4.16E-10"},{"$f":"VLOOKUP(A39,'[1]SD vs SY0.45'!$A$2:$E$20133,5,FALSE)","v":"NA"}]
["ENSGALG00000004495",10.0097066399689,2.83042026745887,0.61987571124683,4.56610932821631,{"v":4.96859704256121e-06,"d":"4.97E-06"},{"v":2.82594035914333e-05,"d":"2.83E-05"},{"$f":"VLOOKUP(A40,'[1]SD vs SY0.45'!$A$2:$E$20133,5,FALSE)","v":"DNAI2"}]
["ENSGALG00000046614",2.41114936592172,2.80900818193373,1.12713474503666,2.49216714709861,0.0126966271965552,0.0309920338433954,{"$f":"VLOOKUP(A41,'[1]SD vs SY0.45'!$A$2:$E$20133,5,FALSE)","v":"S100A13"}]
["ENSGALG00000042656",50.5733596356552,2.74609724594199,0.8463645275019,3.24457979595066,0.0011762405617565,0.00381482832442834,{"$f":"VLOOKUP(A42,'[1]SD vs SY0.45'!$A$2:$E$20133,5,FALSE)","v":"NA"}]
["ENSGALG00000050575",215.405562873548,2.72805734146288,0.75528540027828,3.61195561367629,0.000303896590175795,0.00114542597298646,{"$f":"VLOOKUP(A43,'[1]SD vs SY0.45'!$A$2:$E$20133,5,FALSE)","v":"NA"}]
["ENSGALG00000032545",6.64098633957181,2.71781223558529,0.891193355923255,3.04963251523538,2.29121529081766E-3,6.89585602586925E-3,{"$f":"VLOOKUP(A44,'[1]SD vs SY0.45'!$A$2:$E$20133,5,FALSE)","v":"NKX6-1"}]
["ENSGALG00000023580",4.92017431939069,2.70253995538201,0.800725160177423,3.37511556997059,0.000737846982860281,2.51794808459111E-3,{"$f":"VLOOKUP(A45,'[1]SD vs SY0.45'!$A$2:$E$20133,5,FALSE)","v":"CLDN19"}]
["ENSGALG00000053318",4.36037987518394,2.68852019617528,0.92672843943836,2.90108739708544,0.00371870146062133,0.0105839028148344,{"$f":"VLOOKUP(A46,'[1]SD vs SY0.45'!$A$2:$E$20133,5,FALSE)","v":"NA"}]
["ENSGALG00000003403",5.66478833799865,2.6352689076277,0.733999719471329,3.59028598747391,0.00033031534391782,1.23390252868796E-3,{"$f":"VLOOKUP(A47,'[1]SD vs SY0.45'!$A$2:$E$20133,5,FALSE)","v":"ZNF385C"}]
["ENSGALG00000039032",68.9488252915175,2.60555402860445,0.650928431192503,4.00282719842344,{"v":6.2590018222445e-05,"d":"6.26E-05"},0.000278896116564237,{"$f":"VLOOKUP(A48,'[1]SD vs SY0.45'!$A$2:$E$20133,5,FALSE)","v":"FJX1"}]
["ENSGALG00000048231",3.75806167704747,2.58383630533962,1.07854690750072,2.3956642843908,0.0165902777355742,0.0390437410650283,{"$f":"VLOOKUP(A49,'[1]SD vs SY0.45'!$A$2:$E$20133,5,FALSE)","v":"H3-I,H3-I,H3-I"}]
["ENSGALG00000021353",3.72124595896878,2.58341037370246,1.04457915026518,2.47315904500547,0.0133924527234868,0.032440035595328,{"$f":"VLOOKUP(A50,'[1]SD vs SY0.45'!$A$2:$E$20133,5,FALSE)","v":"CD72AGL"}]
["ENSGALG00000049644",8.99246640427874,2.56570722278778,0.727172838155432,3.52833203904594,0.000418187240344625,1.52102815025151E-3,{"$f":"VLOOKUP(A51,'[1]SD vs SY0.45'!$A$2:$E$20133,5,FALSE)","v":"NA"}]
["ENSGALG00000053980",14.6946804068086,2.55192194266541,0.508664923275248,5.01690174788111,{"v":5.25114045238205e-07,"d":"5.25E-07"},{"v":3.61161309515691e-06,"d":"3.61E-06"},{"$f":"VLOOKUP(A52,'[1]SD vs SY0.45'!$A$2:$E$20133,5,FALSE)","v":"S100A14"}]
["ENSGALG00000040180",978.496930687291,2.53926623123542,0.490074136529393,5.18139204247339,{"v":2.20236044711403E-7,"d":"2.20E-07"},{"v":1.63287818866022E-6,"d":"1.63E-06"},{"$f":"VLOOKUP(A53,'[1]SD vs SY0.45'!$A$2:$E$20133,5,FALSE)","v":"CEBPD"}]
["ENSGALG00000027980",58.642431371031,2.53311831971997,0.496820950676232,5.09865438700218,{"v":3.42076470299104e-07,"d":"3.42E-07"},{"v":2.4375909404483e-06,"d":"2.44E-06"},{"$f":"VLOOKUP(A54,'[1]SD vs SY0.45'!$A$2:$E$20133,5,FALSE)","v":"NANOS1"}]
["ENSGALG00000049562",3.42022366465003,2.52863488393725,1.02687858580779,2.46244777024746,0.0137992269607725,0.0332816145327995,{"$f":"VLOOKUP(A55,'[1]SD vs SY0.45'!$A$2:$E$20133,5,FALSE)","v":"LOC768687"}]
["ENSGALG00000013239",26.5176308712929,2.52048034843289,0.669997398520507,3.76192557463452,1.68610225972991E-4,0.000678146194539069,{"$f":"VLOOKUP(A56,'[1]SD vs SY0.45'!$A$2:$E$20133,5,FALSE)","v":"NA"}]
["ENSGALG00000047453",30.4651963769181,2.51479603599919,0.342030814120462,7.35254232127018,{"v":1.94471929914005e-13,"d":"1.94E-13"},{"v":3.87317691341902e-12,"d":"3.87E-12"},{"$f":"VLOOKUP(A57,'[1]SD vs SY0.45'!$A$2:$E$20133,5,FALSE)","v":"NA"}]
["ENSGALG00000040113",44.2542023172926,2.51439867263103,0.768272723466346,3.27279440728599,1.06489905528547E-3,3.49083708036358E-3,{"$f":"VLOOKUP(A58,'[1]SD vs SY0.45'!$A$2:$E$20133,5,FALSE)","v":"SFT2D3"}]
["ENSGALG00000042103",1743.01471677478,2.50608049051222,0.375184802434265,6.67958956293627,{"v":2.39612367471411e-11,"d":"2.40E-11"},{"v":3.39815679708436e-10,"d":"3.40E-10"},{"$f":"VLOOKUP(A59,'[1]SD vs SY0.45'!$A$2:$E$20133,5,FALSE)","v":"C5H11ORF96"}]
["ENSGALG00000039970",3.7333216772275,2.49897693391873,0.944706104000964,2.64524270917189,0.00816323410878459,0.0210741130585654,{"$f":"VLOOKUP(A60,'[1]SD vs SY0.45'!$A$2:$E$20133,5,FALSE)","v":"ENDOU"}]
["ENSGALG00000052452",10.9633594679258,2.49640022240024,0.753783212371344,3.31182783249678,0.000926885692152735,3.0926427805526E-3,{"$f":"VLOOKUP(A61,'[1]SD vs SY0.45'!$A$2:$E$20133,5,FALSE)","v":"NA"}]
["ENSGALG00000052087",1828.28437151191,2.49243060939584,0.354881721899596,7.0232712917827,{"v":2.16732795064963e-12,"d":"2.17E-12"},{"v":3.63738716968582e-11,"d":"3.64E-11"},{"$f":"VLOOKUP(A62,'[1]SD vs SY0.45'!$A$2:$E$20133,5,FALSE)","v":"NA"}]
["ENSGALG00000054166",4.59914147159664,2.46521193589202,0.815068491497876,3.02454574260579,0.00249006813909491,7.41603541186077E-3,{"$f":"VLOOKUP(A63,'[1]SD vs SY0.45'!$A$2:$E$20133,5,FALSE)","v":"CACNG7"}]
["ENSGALG00000039712",3.26358427513556,2.4322111813993,0.994678790478299,2.44522272384007,0.0144762713255534,0.0346549538121157,{"$f":"VLOOKUP(A64,'[1]SD vs SY0.45'!$A$2:$E$20133,5,FALSE)","v":"DHRS7C"}]
["ENSGALG00000047711",47.4901586989422,2.42145903285683,0.355457174305887,6.81223845765749,{"v":9.60916512179245e-12,"d":"9.61E-12"},{"v":1.45662209217616e-10,"d":"1.46E-10"},{"$f":"VLOOKUP(A65,'[1]SD vs SY0.45'!$A$2:$E$20133,5,FALSE)","v":"gga-mir-143"}]
["ENSGALG00000047327",8.68123571838592,2.40494612493618,0.889379006548653,2.70407341215404,0.00684951546754926,0.0180782945134516,{"$f":"VLOOKUP(A66,'[1]SD vs SY0.45'!$A$2:$E$20133,5,FALSE)","v":"NA"}]
["ENSGALG00000054980",20.4315874960056,2.39385995347444,0.708450520403659,3.37900796813653,7.27478996113782E-4,0.00248500536452462,{"$f":"VLOOKUP(A67,'[1]SD vs SY0.45'!$A$2:$E$20133,5,FALSE)","v":"NA"}]
["ENSGALG00000037257",450.995722246351,2.38401368891921,0.360331595290478,6.61616610943417,{"v":3.68634133627811e-11,"d":"3.69E-11"},{"v":5.04680447353287e-10,"d":"5.05E-10"},{"$f":"VLOOKUP(A68,'[1]SD vs SY0.45'!$A$2:$E$20133,5,FALSE)","v":"HLX"}]
["ENSGALG00000032994",14.9160739655921,2.36860484176724,0.557161903662367,4.2511966920168,{"v":2.1263132492656e-05,"d":"2.13E-05"},1.05538705295407E-4,{"$f":"VLOOKUP(A69,'[1]SD vs SY0.45'!$A$2:$E$20133,5,FALSE)","v":"SOX17"}]
["ENSGALG00000048260",4.39472967414658,2.34805012747584,0.951237766607676,2.46841558430707,0.0135712657489586,0.0328091765262991,{"$f":"VLOOKUP(A70,'[1]SD vs SY0.45'!$A$2:$E$20133,5,FALSE)","v":"NA"}]
["ENSGALG00000030442",18.796578818144,2.34346819368443,0.491630254677359,4.76672900292187,{"v":1.87240885522011e-06,"d":"1.87E-06"},{"v":1.15643497458681E-5,"d":"1.16E-05"},{"$f":"VLOOKUP(A71,'[1]SD vs SY0.45'!$A$2:$E$20133,5,FALSE)","v":"FOXC1"}]
["ENSGALG00000053042",9.91594443057753,2.32834633456683,0.935773633316022,2.48815124905376,0.0128409109686786,0.0312564635324674,{"$f":"VLOOKUP(A72,'[1]SD vs SY0.45'!$A$2:$E$20133,5,FALSE)","v":"NA"}]
["ENSGALG00000024979",5.09847331292405,2.3232947767207,0.73759366174338,3.14983018052155,1.63365391854652E-3,0.00510410434533125,{"$f":"VLOOKUP(A73,'[1]SD vs SY0.45'!$A$2:$E$20133,5,FALSE)","v":"SNORD58"}]
["ENSGALG00000054662",72.6504671588804,2.32069790247831,0.273564470226502,8.48318460565019,{"v":2.19112603938727E-17,"d":"2.19E-17"},{"v":7.31230488422774e-16,"d":"7.31E-16"},{"$f":"VLOOKUP(A74,'[1]SD vs SY0.45'!$A$2:$E$20133,5,FALSE)","v":"NA"}]
["ENSGALG00000026631",69.8177833330172,2.30492616095605,0.751458601381599,3.06726964960986,0.00216023887478143,0.00655155648278821,{"$f":"VLOOKUP(A75,'[1]SD vs SY0.45'!$A$2:$E$20133,5,FALSE)","v":"HOXA10"}]
["ENSGALG00000011468",362.052202551205,2.29310188742285,0.238071921492643,9.63197118352199,{"v":5.85944957862664e-22,"d":"5.86E-22"},{"v":3.40729932520339E-20,"d":"3.41E-20"},{"$f":"VLOOKUP(A76,'[1]SD vs SY0.45'!$A$2:$E$20133,5,FALSE)","v":"IGFBP5"}]
["ENSGALG00000034326",144.208207993984,2.28508230506131,0.325550557623766,7.01913190301504,{"v":2.23250950009673e-12,"d":"2.23E-12"},{"v":3.73596175920903e-11,"d":"3.74E-11"},{"$f":"VLOOKUP(A77,'[1]SD vs SY0.45'!$A$2:$E$20133,5,FALSE)","v":"TMEM158"}]
["ENSGALG00000054250",31.1320414674172,2.28222680130667,0.399355981492936,5.71476804422683,{"v":1.09853764388533E-8,"d":"1.10E-08"},{"v":1.02524283490254e-07,"d":"1.03E-07"},{"$f":"VLOOKUP(A78,'[1]SD vs SY0.45'!$A$2:$E$20133,5,FALSE)","v":"LOC107050975"}]
["ENSGALG00000010722",3.56179888925367,2.28102447171349,0.912679461285425,2.49926131623568,0.0124452503168562,0.0304725485507926,{"$f":"VLOOKUP(A79,'[1]SD vs SY0.45'!$A$2:$E$20133,5,FALSE)","v":"LOC395159"}]
["ENSGALG00000054873",21.2966428579849,2.27268678882721,0.638486787644618,3.5594891434029,0.00037157689287789,0.00137080573657286,{"$f":"VLOOKUP(A80,'[1]SD vs SY0.45'!$A$2:$E$20133,5,FALSE)","v":"NPPC"}]
["ENSGALG00000050752",145.288807303424,2.27049501465301,0.485099585120681,4.68047197790978,{"v":2.86215232157777e-06,"d":"2.86E-06"},{"v":1.70717812745361E-5,"d":"1.71E-05"},{"$f":"VLOOKUP(A81,'[1]SD vs SY0.45'!$A$2:$E$20133,5,FALSE)","v":"NA"}]
["ENSGALG00000025194",5.03234997057155,2.26980874544153,0.86749156535917,2.61651967129128,0.00888312456820446,0.0227468169171386,{"$f":"VLOOKUP(A82,'[1]SD vs SY0.45'!$A$2:$E$20133,5,FALSE)","v":"gga-mir-1742"}]
["ENSGALG00000037148",8.57926949185683,2.26466119094581,0.652467622727178,3.47091734832758,0.000518683623696993,1.83785452725079E-3,{"$f":"VLOOKUP(A83,'[1]SD vs SY0.45'!$A$2:$E$20133,5,FALSE)","v":"CRH"}]
["ENSGALG00000042897",3.92535956520364,2.2484599520676,0.976470245272458,2.30264051869827,0.0212990774156723,0.0484024387696112,{"$f":"VLOOKUP(A84,'[1]SD vs SY0.45'!$A$2:$E$20133,5,FALSE)","v":"NA"}]
["ENSGALG00000009844",9.30820839401799,2.23635352144108,0.649184997712163,3.4448632197638,0.000571348430945837,2.00525538329739E-3,{"$f":"VLOOKUP(A85,'[1]SD vs SY0.45'!$A$2:$E$20133,5,FALSE)","v":"ACTC1"}]
["ENSGALG00000014858",14.1441300930154,2.23078041526478,0.566812910368044,3.93565561838788,{"v":8.29698798048411e-05,"d":"8.30E-05"},0.000359660259328539,{"$f":"VLOOKUP(A86,'[1]SD vs SY0.45'!$A$2:$E$20133,5,FALSE)","v":"ADCYAP1,ADCYAP1"}]
["ENSGALG00000040971",46.4672079192329,2.22529291206285,0.64030373258067,3.47537082611414,0.000510147615628689,1.81056064358767E-3,{"$f":"VLOOKUP(A87,'[1]SD vs SY0.45'!$A$2:$E$20133,5,FALSE)","v":"EGR2"}]
["ENSGALG00000004936",11.7849848676872,2.2167700464379,0.5590690048595,3.96510990086993,{"v":7.33621385890868e-05,"d":"7.34E-05"},0.000321458544266243,{"$f":"VLOOKUP(A88,'[1]SD vs SY0.45'!$A$2:$E$20133,5,FALSE)","v":"GLRA4"}]
["ENSGALG00000052868",237.628165472306,2.20442063994895,0.207770789694361,10.6098679376044,{"v":2.68127778447522e-26,"d":"2.68E-26"},{"v":2.36898332805756e-24,"d":"2.37E-24"},{"$f":"VLOOKUP(A89,'[1]SD vs SY0.45'!$A$2:$E$20133,5,FALSE)","v":"PEAR1"}]
["ENSGALG00000039817",4.20295321720689,2.18035850027229,0.892909902250349,2.44185722969054,0.0146119239336212,0.0349219960733844,{"$f":"VLOOKUP(A90,'[1]SD vs SY0.45'!$A$2:$E$20133,5,FALSE)","v":"NOG2"}]
["ENSGALG00000041459",1334.52185723205,2.17914081538605,0.387327921126729,5.62608760310121,{"v":1.84342753931473e-08,"d":"1.84E-08"},{"v":1.6479010090522e-07,"d":"1.65E-07"},{"$f":"VLOOKUP(A91,'[1]SD vs SY0.45'!$A$2:$E$20133,5,FALSE)","v":"DDIT4"}]
["ENSGALG00000017378",53.6001204957278,2.17531681840228,0.28690710056644,7.58195532319539,{"v":3.40385500789697e-14,"d":"3.40E-14"},{"v":7.66616930340734e-13,"d":"7.67E-13"},{"$f":"VLOOKUP(A92,'[1]SD vs SY0.45'!$A$2:$E$20133,5,FALSE)","v":"CRTAC1"}]
["ENSGALG00000026146",55.4587825496036,2.15204326935996,0.372934155227688,5.77057166578394,{"v":7.90030569497647e-09,"d":"7.90E-09"},{"v":7.56402065630815e-08,"d":"7.56E-08"},{"$f":"VLOOKUP(A93,'[1]SD vs SY0.45'!$A$2:$E$20133,5,FALSE)","v":"CRLF1"}]
["ENSGALG00000030932",1238.34320931091,2.15172178995916,0.359466256135326,5.98587976822259,{"v":2.15223314123938e-09,"d":"2.15E-09"},{"v":2.24466160354182e-08,"d":"2.24E-08"},{"$f":"VLOOKUP(A94,'[1]SD vs SY0.45'!$A$2:$E$20133,5,FALSE)","v":"NKX2-3"}]
["ENSGALG00000050981",25.5477635529509,2.14878791626859,0.498357667697893,4.31173844719732,{"v":1.6197597025617e-05,"d":"1.62E-05"},{"v":8.25139036976025e-05,"d":"8.25E-05"},{"$f":"VLOOKUP(A95,'[1]SD vs SY0.45'!$A$2:$E$20133,5,FALSE)","v":"NA"}]
["ENSGALG00000053649",4.93517211069511,2.14241266388791,0.934676774108812,2.29214282758939,0.0218974027589274,0.0495685725402751,{"$f":"VLOOKUP(A96,'[1]SD vs SY0.45'!$A$2:$E$20133,5,FALSE)","v":"NA"}]
["ENSGALG00000055025",6.02326579299572,2.14107444573809,0.633422623076889,3.38016731284035,0.000724417165015581,0.00247503266813242,{"$f":"VLOOKUP(A97,'[1]SD vs SY0.45'!$A$2:$E$20133,5,FALSE)","v":"LOC112533547"}]
["ENSGALG00000025438",51.1000847844365,2.12853987542553,0.301043553745148,7.07053796351166,{"v":1.54334204335817E-12,"d":"1.54E-12"},{"v":2.66211191546314e-11,"d":"2.66E-11"},{"$f":"VLOOKUP(A98,'[1]SD vs SY0.45'!$A$2:$E$20133,5,FALSE)","v":"gga-mir-1600"}]
["ENSGALG00000047833",248.344255202971,2.11639006988442,0.167797809452209,12.61273956313,{"v":1.7963821546962e-36,"d":"1.80E-36"},{"v":4.00432006714138e-34,"d":"4.00E-34"},{"$f":"VLOOKUP(A99,'[1]SD vs SY0.45'!$A$2:$E$20133,5,FALSE)","v":"MED11"}]
["ENSGALG00000050819",435.408724083519,2.11529753347472,0.200340723812601,10.5585000054875,{"v":4.64017173123866e-26,"d":"4.64E-26"},{"v":4.01386397467894E-24,"d":"4.01E-24"},{"$f":"VLOOKUP(A100,'[1]SD vs SY0.45'!$A$2:$E$20133,5,FALSE)","v":"NA"}]
["ENSGALG00000053882",5.49380137348651,2.11094594467577,0.745984387767734,2.82974547361844,0.00465850482087805,0.0129203099889307,{"$f":"VLOOKUP(A101,'[1]SD vs SY0.45'!$A$2:$E$20133,5,FALSE)","v":"NA"}]
["ENSGALG00000033791",33.5235837570718,2.10612732055766,0.381620007986065,5.51891220712559,{"v":3.41104543174272e-08,"d":"3.41E-08"},{"v":2.92013032603204E-7,"d":"2.92E-07"},{"$f":"VLOOKUP(A102,'[1]SD vs SY0.45'!$A$2:$E$20133,5,FALSE)","v":"MAP3K12"}]
["ENSGALG00000052245",3.70971345271948,2.09360098493977,0.877673858470039,2.38539745115496,0.0170606781809358,0.0399668568488184,{"$f":"VLOOKUP(A103,'[1]SD vs SY0.45'!$A$2:$E$20133,5,FALSE)","v":"NA"}]
["ENSGALG00000038372",9.11304850912592,2.09007268749777,0.763007573629591,2.73925549330447,6.15784991061725E-3,0.0164677677831632,{"$f":"VLOOKUP(A104,'[1]SD vs SY0.45'!$A$2:$E$20133,5,FALSE)","v":"PRDM8"}]
["ENSGALG00000024466",125.951460182829,2.08572751922885,0.57433086233715,3.63157833925432,0.000281693118293071,0.00107243228547441,{"$f":"VLOOKUP(A105,'[1]SD vs SY0.45'!$A$2:$E$20133,5,FALSE)","v":"CCL17"}]
["ENSGALG00000029558",30.5766144243992,2.0839924860935,0.407820832824818,5.11006873204218,{"v":3.22041632492355e-07,"d":"3.22E-07"},{"v":2.30900530480189e-06,"d":"2.31E-06"},{"$f":"VLOOKUP(A106,'[1]SD vs SY0.45'!$A$2:$E$20133,5,FALSE)","v":"NA"}]
["ENSGALG00000048331",321.608772299465,2.08172512182585,0.559382213806615,3.72147177805249,0.000198065004714832,0.000782899122334084,{"$f":"VLOOKUP(A107,'[1]SD vs SY0.45'!$A$2:$E$20133,5,FALSE)","v":"LRFN1"}]
["ENSGALG00000039356",23.1700695722112,2.07199917521763,0.383572986724235,5.40183810364954,{"v":6.59614701293048e-08,"d":"6.60E-08"},{"v":5.36422863020684e-07,"d":"5.36E-07"},{"$f":"VLOOKUP(A108,'[1]SD vs SY0.45'!$A$2:$E$20133,5,FALSE)","v":"HEPACAM"}]
["ENSGALG00000023195",5.9950426260541,2.06797609447029,0.692133232256432,2.98782950751904,2.80966241803908E-3,0.00827637206080262,{"$f":"VLOOKUP(A109,'[1]SD vs SY0.45'!$A$2:$E$20133,5,FALSE)","v":"DLX6"}]
["ENSGALG00000033311",5.52407431205769,2.06793116958623,0.838486550737805,2.46626635545508,0.0136529767201405,0.0329608867305031,{"$f":"VLOOKUP(A110,'[1]SD vs SY0.45'!$A$2:$E$20133,5,FALSE)","v":"NA"}]
["ENSGALG00000038241",15.4775092880836,2.06762953100866,0.517315350605717,3.99684549972799,{"v":6.41921666053763e-05,"d":"6.42E-05"},0.00028523107609703,{"$f":"VLOOKUP(A111,'[1]SD vs SY0.45'!$A$2:$E$20133,5,FALSE)","v":"CARTPT"}]
["ENSGALG00000048440",8.3613059171268,2.06706389444423,0.583601851644115,3.54190770406387,0.000397244442454163,1.45408192020011E-3,{"$f":"VLOOKUP(A112,'[1]SD vs SY0.45'!$A$2:$E$20133,5,FALSE)","v":"NA"}]
["ENSGALG00000029130",6.2201024611975,2.06610186542807,0.823803913321481,2.50800200389653,0.0121415978585596,0.0298340816798722,{"$f":"VLOOKUP(A113,'[1]SD vs SY0.45'!$A$2:$E$20133,5,FALSE)","v":"NA"}]
["ENSGALG00000055047",15.7304382176518,2.06585230522897,0.778941327826727,2.65212825591468,0.00799861523327703,0.0207013877732938,{"$f":"VLOOKUP(A114,'[1]SD vs SY0.45'!$A$2:$E$20133,5,FALSE)","v":"NA"}]
["ENSGALG00000048024",12.1131683038162,2.06018512713476,0.693418677932667,2.97105513984267,0.00296778490757258,0.0086753546565544,{"$f":"VLOOKUP(A115,'[1]SD vs SY0.45'!$A$2:$E$20133,5,FALSE)","v":"NA"}]
["ENSGALG00000000918",9.65896074180219,2.05915809901027,0.712976175167316,2.88811628036104,0.00387556572072,0.0109621703572732,{"$f":"VLOOKUP(A116,'[1]SD vs SY0.45'!$A$2:$E$20133,5,FALSE)","v":"CCDC103"}]
["ENSGALG00000049660",9.0679830348254,2.04714143300403,0.827795746645363,2.47300308234254,0.0133982987389816,0.0324451560131856,{"$f":"VLOOKUP(A117,'[1]SD vs SY0.45'!$A$2:$E$20133,5,FALSE)","v":"NA"}]
["ENSGALG00000049511",219.69599141199,2.04511600312517,0.471236583311724,4.33989226547872,{"v":1.42552587182945e-05,"d":"1.43E-05"},{"v":7.3482414270675e-05,"d":"7.35E-05"},{"$f":"VLOOKUP(A118,'[1]SD vs SY0.45'!$A$2:$E$20133,5,FALSE)","v":"AMIGO3"}]
["ENSGALG00000040754",6.96100972807611,2.04417922681878,0.802646138326946,2.54680005198769,0.0108715704533837,0.0271313327792425,{"$f":"VLOOKUP(A119,'[1]SD vs SY0.45'!$A$2:$E$20133,5,FALSE)","v":"CYP1C1"}]
["ENSGALG00000047998",327.753227001636,2.04274807591904,0.256783386814087,7.95514110653118,{"v":1.78927463378806e-15,"d":"1.79E-15"},{"v":4.82327411746868e-14,"d":"4.82E-14"},{"$f":"VLOOKUP(A120,'[1]SD vs SY0.45'!$A$2:$E$20133,5,FALSE)","v":"NA"}]
["ENSGALG00000015013",11.6683346532865,2.03918878578267,0.611785230665937,3.33317753284593,0.000858601366841864,0.00288195018634739,{"$f":"VLOOKUP(A121,'[1]SD vs SY0.45'!$A$2:$E$20133,5,FALSE)","v":"MSX1"}]
["ENSGALG00000026955",16.0680020961525,2.03780377668701,0.535034938824104,3.80873028809236,0.000139682218170006,0.00057293105150316,{"$f":"VLOOKUP(A122,'[1]SD vs SY0.45'!$A$2:$E$20133,5,FALSE)","v":"DIRAS1"}]
["ENSGALG00000041622",63.0475819348164,2.03272362834575,0.318455822362307,6.38306316168752,{"v":1.73580268272297e-10,"d":"1.74E-10"},{"v":2.1434944065699E-9,"d":"2.14E-09"},{"$f":"VLOOKUP(A123,'[1]SD vs SY0.45'!$A$2:$E$20133,5,FALSE)","v":"NA"}]
["ENSGALG00000029151",25.2531255119598,2.03183701356663,0.411794871191318,4.93409985337735,{"v":8.05212404125734e-07,"d":"8.05E-07"},{"v":5.35176914011244e-06,"d":"5.35E-06"},{"$f":"VLOOKUP(A124,'[1]SD vs SY0.45'!$A$2:$E$20133,5,FALSE)","v":"ISLR2"}]
["ENSGALG00000050220",5.23983078737047,2.03038351241004,0.777030185831001,2.61300468042773,0.00897500731189362,0.0229550532703581,{"$f":"VLOOKUP(A125,'[1]SD vs SY0.45'!$A$2:$E$20133,5,FALSE)","v":"NA"}]
["ENSGALG00000052196",893.131781121829,2.0277023604546,0.333109402421599,6.08719641569361,{"v":1.14904973226144e-09,"d":"1.15E-09"},{"v":1.25651117577545e-08,"d":"1.26E-08"},{"$f":"VLOOKUP(A126,'[1]SD vs SY0.45'!$A$2:$E$20133,5,FALSE)","v":"LOC112530215"}]
["ENSGALG00000035063",75.3167551919853,2.02538695475811,0.330899907207154,6.12084473474981,{"v":9.30805700861196e-10,"d":"9.31E-10"},{"v":1.03743068723549E-8,"d":"1.04E-08"},{"$f":"VLOOKUP(A127,'[1]SD vs SY0.45'!$A$2:$E$20133,5,FALSE)","v":"NA"}]
["ENSGALG00000049976",196.325041132675,2.02141768373163,0.317526334445739,6.36614184225106,{"v":1.93842185107293e-10,"d":"1.94E-10"},{"v":2.38186153530777e-09,"d":"2.38E-09"},{"$f":"VLOOKUP(A128,'[1]SD vs SY0.45'!$A$2:$E$20133,5,FALSE)","v":"AMIGO1"}]
["ENSGALG00000026585",24.1470695183859,2.02023806474951,0.362875031194903,5.56731075736216,{"v":2.5870079122913e-08,"d":"2.59E-08"},{"v":2.26137465745107e-07,"d":"2.26E-07"},{"$f":"VLOOKUP(A129,'[1]SD vs SY0.45'!$A$2:$E$20133,5,FALSE)","v":"TAFA3"}]
["ENSGALG00000041708",163.175084205578,2.02003846797552,0.288512840544598,7.00155481524664,{"v":2.5313735138564e-12,"d":"2.53E-12"},{"v":4.20774295271713e-11,"d":"4.21E-11"},{"$f":"VLOOKUP(A130,'[1]SD vs SY0.45'!$A$2:$E$20133,5,FALSE)","v":"WNT4"}]
["ENSGALG00000035350",9.64609154149563,2.01455323281564,0.738169219628483,2.72912115440082,0.0063503368476559,0.0169112125547853,{"$f":"VLOOKUP(A131,'[1]SD vs SY0.45'!$A$2:$E$20133,5,FALSE)","v":"PMEL"}]
["ENSGALG00000031398",197.827753288315,2.01169835630997,0.243417381460313,8.26439896872342,{"v":1.40400312363629e-16,"d":"1.40E-16"},{"v":4.30536195955276e-15,"d":"4.31E-15"},{"$f":"VLOOKUP(A132,'[1]SD vs SY0.45'!$A$2:$E$20133,5,FALSE)","v":"NA"}]
["ENSGALG00000053285",195.186147588421,2.0106845054944,0.30187085999851,6.66074395357114,{"v":2.72444928721453E-11,"d":"2.72E-11"},{"v":3.8201612707096e-10,"d":"3.82E-10"},{"$f":"VLOOKUP(A133,'[1]SD vs SY0.45'!$A$2:$E$20133,5,FALSE)","v":"LOC112530287"}]
["ENSGALG00000030712",31.4595923232016,1.9988496222027199,0.33019301426065,6.05357937895335,{"v":1.41662215439207E-9,"d":"1.42E-09"},{"v":1.53176675363277e-08,"d":"1.53E-08"},{"$f":"VLOOKUP(A134,'[1]SD vs SY0.45'!$A$2:$E$20133,5,FALSE)","v":"COL2A1"}]
["ENSGALG00000051167",727.274419062491,1.98329009203474,0.48240889030905,4.11122210198939,{"v":3.93570377975904e-05,"d":"3.94E-05"},1.84149842892008E-4,{"$f":"VLOOKUP(A135,'[1]SD vs SY0.45'!$A$2:$E$20133,5,FALSE)","v":"NA"}]
["ENSGALG00000054657",381.468817147212,1.98277667339546,0.217380063223864,9.12124434959584,{"v":7.42666426086253e-20,"d":"7.43E-20"},{"v":3.42513027861053E-18,"d":"3.43E-18"},{"$f":"VLOOKUP(A136,'[1]SD vs SY0.45'!$A$2:$E$20133,5,FALSE)","v":"NA"}]
["ENSGALG00000048328",142.153966487679,1.98135390560494,0.416204791809936,4.76052641534638,{"v":1.93088658872088e-06,"d":"1.93E-06"},{"v":1.18840088913592E-5,"d":"1.19E-05"},{"$f":"VLOOKUP(A137,'[1]SD vs SY0.45'!$A$2:$E$20133,5,FALSE)","v":"NA"}]
["ENSGALG00000032683",6.06441319403396,1.98040609830286,0.678379456927076,2.91931908916244,0.00350796943306323,0.0100615414933471,{"$f":"VLOOKUP(A138,'[1]SD vs SY0.45'!$A$2:$E$20133,5,FALSE)","v":"ADTRP"}]
["ENSGALG00000053468",56.765917700226,1.97693805196009,0.344215585844488,5.74331358967936,{"v":9.28415599519001E-9,"d":"9.28E-09"},{"v":8.7921361812837e-08,"d":"8.79E-08"},{"$f":"VLOOKUP(A139,'[1]SD vs SY0.45'!$A$2:$E$20133,5,FALSE)","v":"ANKRD66"}]
["ENSGALG00000032903",249.136039032475,1.97418967613941,0.296966730355812,6.64784797197323,{"v":2.97409254548989e-11,"d":"2.97E-11"},{"v":4.14015589178805E-10,"d":"4.14E-10"},{"$f":"VLOOKUP(A140,'[1]SD vs SY0.45'!$A$2:$E$20133,5,FALSE)","v":"RTN4RL2"}]
["ENSGALG00000039571",63.4562111835692,1.97216844524846,0.284592901952983,6.92978788899758,{"v":4.21472083434774E-12,"d":"4.21E-12"},{"v":6.78531029137075e-11,"d":"6.79E-11"},{"$f":"VLOOKUP(A141,'[1]SD vs SY0.45'!$A$2:$E$20133,5,FALSE)","v":"PRPH"}]
["ENSGALG00000001926",3745.03017982988,1.96671486964671,0.276818319469717,7.10471356597433,{"v":1.20572339005318E-12,"d":"1.21E-12"},{"v":2.11543012945051e-11,"d":"2.12E-11"},{"$f":"VLOOKUP(A142,'[1]SD vs SY0.45'!$A$2:$E$20133,5,FALSE)","v":"HSPB1"}]
["ENSGALG00000052105",10.7214835956123,1.9622371942053,0.799142641444698,2.4554279704784,0.0140716949828993,0.0338542355981278,{"$f":"VLOOKUP(A143,'[1]SD vs SY0.45'!$A$2:$E$20133,5,FALSE)","v":"NA"}]
["ENSGALG00000055048",17.5511875081907,1.95534975284798,0.580945128863036,3.36580798375017,0.000763198151200418,0.00259275620455679,{"$f":"VLOOKUP(A144,'[1]SD vs SY0.45'!$A$2:$E$20133,5,FALSE)","v":"NA"}]
["ENSGALG00000047749",40.6632226615831,1.94891460363304,0.388145267107625,5.02109588545529,{"v":5.1377502257993e-07,"d":"5.14E-07"},{"v":3.53782428419693e-06,"d":"3.54E-06"},{"$f":"VLOOKUP(A145,'[1]SD vs SY0.45'!$A$2:$E$20133,5,FALSE)","v":"FGF11"}]
["ENSGALG00000050667",21.5676350944715,1.93588807360136,0.485970558896612,3.98355011051856,{"v":6.78933472533543e-05,"d":"6.79E-05"},0.000300031819259479,{"$f":"VLOOKUP(A146,'[1]SD vs SY0.45'!$A$2:$E$20133,5,FALSE)","v":"NA"}]
["ENSGALG00000054625",23.2368203102397,1.93450051175491,0.404232297232081,4.78561590699484,{"v":1.70463776596211E-6,"d":"1.70E-06"},{"v":1.06269404219373E-5,"d":"1.06E-05"},{"$f":"VLOOKUP(A147,'[1]SD vs SY0.45'!$A$2:$E$20133,5,FALSE)","v":"NA"}]
["ENSGALG00000005194",32.3208463879713,1.93351042914379,0.587988571175359,3.28834695762675,1.00777559228421E-3,0.00332174298067213,{"$f":"VLOOKUP(A148,'[1]SD vs SY0.45'!$A$2:$E$20133,5,FALSE)","v":"CD72"}]
["ENSGALG00000044997",4.75832529551945,1.93074032200854,0.811607641633688,2.37890850574317,0.0173639852569444,0.0406008084538049,{"$f":"VLOOKUP(A149,'[1]SD vs SY0.45'!$A$2:$E$20133,5,FALSE)","v":"SH2D5"}]
["ENSGALG00000041834",3163.73990108633,1.9230803425855,0.257331075065162,7.47317572158176,{"v":7.82821988877053e-14,"d":"7.83E-14"},{"v":1.67416062984075E-12,"d":"1.67E-12"},{"$f":"VLOOKUP(A150,'[1]SD vs SY0.45'!$A$2:$E$20133,5,FALSE)","v":"AEBP1"}]
["ENSGALG00000051848",80.7959535965637,1.92299071612032,0.225482475299691,8.52833779460888,{"v":1.48465484410516e-17,"d":"1.48E-17"},{"v":5.09145833815708e-16,"d":"5.09E-16"},{"$f":"VLOOKUP(A151,'[1]SD vs SY0.45'!$A$2:$E$20133,5,FALSE)","v":"KIF5A"}]
["ENSGALG00000044226",173.500908559803,1.92141953893321,0.399165277906824,4.81359388023154,{"v":1.48239912725381e-06,"d":"1.48E-06"},{"v":9.35892288509876E-6,"d":"9.36E-06"},{"$f":"VLOOKUP(A152,'[1]SD vs SY0.45'!$A$2:$E$20133,5,FALSE)","v":"CLEC17A"}]
["ENSGALG00000029618",16.5893189265941,1.91743819823686,0.57905249572056,3.31133742174938,0.000928511756036149,0.00309721738709587,{"$f":"VLOOKUP(A153,'[1]SD vs SY0.45'!$A$2:$E$20133,5,FALSE)","v":"NA"}]
["ENSGALG00000047383",151.534212695541,1.90881243755141,0.295600758943868,6.45740032729034,{"v":1.06516860138384E-10,"d":"1.07E-10"},{"v":1.36177106413683E-9,"d":"1.36E-09"},{"$f":"VLOOKUP(A154,'[1]SD vs SY0.45'!$A$2:$E$20133,5,FALSE)","v":"WISP2"}]
["ENSGALG00000046793",5.80225191153608,1.90349946575957,0.689883195415978,2.75916195438247,0.00579498077662734,0.0156358365554345,{"$f":"VLOOKUP(A155,'[1]SD vs SY0.45'!$A$2:$E$20133,5,FALSE)","v":"HELT"}]
["ENSGALG00000028721",3361.44285405492,1.90317707283453,0.251029859176596,7.58147687720158,{"v":3.41643338247324e-14,"d":"3.42E-14"},{"v":7.68454427180624e-13,"d":"7.68E-13"},{"$f":"VLOOKUP(A156,'[1]SD vs SY0.45'!$A$2:$E$20133,5,FALSE)","v":"LMOD1"}]
["ENSGALG00000004917",19.9297724813674,1.89682639563871,0.453606289328567,4.18165805956177,{"v":2.89390966717841e-05,"d":"2.89E-05"},0.000139728984679897,{"$f":"VLOOKUP(A157,'[1]SD vs SY0.45'!$A$2:$E$20133,5,FALSE)","v":"DOC2B"}]
["ENSGALG00000050125",113.40535125799,1.89541792466367,0.288374585351059,6.57276341587535,{"v":4.93899028026429e-11,"d":"4.94E-11"},{"v":6.64147130726645e-10,"d":"6.64E-10"},{"$f":"VLOOKUP(A158,'[1]SD vs SY0.45'!$A$2:$E$20133,5,FALSE)","v":"NA"}]
["ENSGALG00000047262",11.4270512470841,1.89356635697271,0.686738174867918,2.75733376455576,0.00582748355360032,0.0157137804817694,{"$f":"VLOOKUP(A159,'[1]SD vs SY0.45'!$A$2:$E$20133,5,FALSE)","v":"CHIR-IG1-5"}]
["ENSGALG00000031572",20.1617893210226,1.89018520682501,0.406540888141421,4.64943444057092,{"v":3.32846458746143E-6,"d":"3.33E-06"},{"v":1.96576133771032E-5,"d":"1.97E-05"},{"$f":"VLOOKUP(A160,'[1]SD vs SY0.45'!$A$2:$E$20133,5,FALSE)","v":"NA"}]
["ENSGALG00000047567",67.6704875475156,1.88967161141967,0.303555593462949,6.22512532173229,{"v":4.81171236244713e-10,"d":"4.81E-10"},{"v":5.61484851314552e-09,"d":"5.61E-09"},{"$f":"VLOOKUP(A161,'[1]SD vs SY0.45'!$A$2:$E$20133,5,FALSE)","v":"NA"}]
["ENSGALG00000035960",290.337066704988,1.88722322205511,0.818280142605972,2.30632899882536,0.0210922559675136,0.0480391740250405,{"$f":"VLOOKUP(A162,'[1]SD vs SY0.45'!$A$2:$E$20133,5,FALSE)","v":"MYO7L2"}]
["ENSGALG00000034986",509.730156210668,1.87201179310983,0.266956642934687,7.01241884274005,{"v":2.34232736165193e-12,"d":"2.34E-12"},{"v":3.91596594586943e-11,"d":"3.92E-11"},{"$f":"VLOOKUP(A163,'[1]SD vs SY0.45'!$A$2:$E$20133,5,FALSE)","v":"HEYL"}]
["ENSGALG00000029768",337.474994598064,1.87059698904119,0.243151363770267,7.69313796984727,{"v":1.43569549261521E-14,"d":"1.44E-14"},{"v":3.42420267902616e-13,"d":"3.42E-13"},{"$f":"VLOOKUP(A164,'[1]SD vs SY0.45'!$A$2:$E$20133,5,FALSE)","v":"PTGDR"}]
["ENSGALG00000041555",28689.1116089171,1.86973029621198,0.262438451016267,7.1244525677226,{"v":1.0449516677076E-12,"d":"1.04E-12"},{"v":1.85016035096049E-11,"d":"1.85E-11"},{"$f":"VLOOKUP(A165,'[1]SD vs SY0.45'!$A$2:$E$20133,5,FALSE)","v":"COL1A1"}]
["ENSGALG00000006992",253.145842289821,1.86788154433513,0.548895693514189,3.40298086941876,0.000666549474381622,0.00230266157581428,{"$f":"VLOOKUP(A166,'[1]SD vs SY0.45'!$A$2:$E$20133,5,FALSE)","v":"MMP9"}]
["ENSGALG00000050069",154.726051766552,1.86664182456985,0.227295926642576,8.21238573054217,{"v":2.16836380637828e-16,"d":"2.17E-16"},{"v":6.51145794499121e-15,"d":"6.51E-15"},{"$f":"VLOOKUP(A167,'[1]SD vs SY0.45'!$A$2:$E$20133,5,FALSE)","v":"NA"}]
["ENSGALG00000035901",38.7570393856665,1.86575932627186,0.388892493611994,4.79762236844141,{"v":1.60560120557886e-06,"d":"1.61E-06"},{"v":1.00765672987686e-05,"d":"1.01E-05"},{"$f":"VLOOKUP(A168,'[1]SD vs SY0.45'!$A$2:$E$20133,5,FALSE)","v":"GDF6"}]
["ENSGALG00000044849",19.5972353559952,1.86416713248314,0.497709781061079,3.74549025038021,0.000180041839589762,0.000717435416335639,{"$f":"VLOOKUP(A169,'[1]SD vs SY0.45'!$A$2:$E$20133,5,FALSE)","v":"FOXI2"}]
["ENSGALG00000030845",186.14604300787,1.86363496139135,0.235460926440503,7.91483746184214,{"v":2.47576316109835E-15,"d":"2.48E-15"},{"v":6.56190458567332e-14,"d":"6.56E-14"},{"$f":"VLOOKUP(A170,'[1]SD vs SY0.45'!$A$2:$E$20133,5,FALSE)","v":"ENHO"}]
["ENSGALG00000054831",8.66299860952614,1.86088177781063,0.57340743195037,3.24530460214142,0.00117325051742343,3.80584081090321E-3,{"$f":"VLOOKUP(A171,'[1]SD vs SY0.45'!$A$2:$E$20133,5,FALSE)","v":"TMEM121"}]
["ENSGALG00000048115",335.431598785402,1.8600903264153,0.195137414113311,9.5322075208765,{"v":1.53973622786611e-21,"d":"1.54E-21"},{"v":8.4685207592783e-20,"d":"8.47E-20"},{"$f":"VLOOKUP(A172,'[1]SD vs SY0.45'!$A$2:$E$20133,5,FALSE)","v":"OLFM2"}]
["ENSGALG00000026836",801.482963897479,1.85832944544919,0.217963644496444,8.52586884267988,{"v":1.51667039272001E-17,"d":"1.52E-17"},{"v":5.19101340909897e-16,"d":"5.19E-16"},{"$f":"VLOOKUP(A173,'[1]SD vs SY0.45'!$A$2:$E$20133,5,FALSE)","v":"COL16A1"}]
["ENSGALG00000008085",71.8914210534811,1.85608927458058,0.374246650168284,4.95953477137596,{"v":7.06621996290878e-07,"d":"7.07E-07"},{"v":4.74730936998049e-06,"d":"4.75E-06"},{"$f":"VLOOKUP(A174,'[1]SD vs SY0.45'!$A$2:$E$20133,5,FALSE)","v":"NEFH"}]
["ENSGALG00000036498",4712.10720027401,1.85528313741565,0.19715629879444,9.41021488413117,{"v":4.95123630841167e-21,"d":"4.95E-21"},{"v":2.58519957040101E-19,"d":"2.59E-19"},{"$f":"VLOOKUP(A175,'[1]SD vs SY0.45'!$A$2:$E$20133,5,FALSE)","v":"EHD2"}]
["ENSGALG00000050515",15064.6083912951,1.85471347113837,0.466301399027629,3.97749926336481,{"v":6.96438385124696e-05,"d":"6.96E-05"},3.07100537716538E-4,{"$f":"VLOOKUP(A176,'[1]SD vs SY0.45'!$A$2:$E$20133,5,FALSE)","v":"LOC107051274"}]
["ENSGALG00000053999",93.7030685583214,1.84965087896076,0.260278491926911,7.10642998300513,{"v":1.19083026480828E-12,"d":"1.19E-12"},{"v":2.09141068830522e-11,"d":"2.09E-11"},{"$f":"VLOOKUP(A177,'[1]SD vs SY0.45'!$A$2:$E$20133,5,FALSE)","v":"VPS37D"}]
["ENSGALG00000027462",417.584061627282,1.84846036682457,0.248720481775756,7.43187836251913,{"v":1.070662376347E-13,"d":"1.07E-13"},{"v":2.23208713879439e-12,"d":"2.23E-12"},{"$f":"VLOOKUP(A178,'[1]SD vs SY0.45'!$A$2:$E$20133,5,FALSE)","v":"P3H4"}]
["ENSGALG00000011902",60742.5097286538,1.84512787591002,0.223594358031526,8.25212179839468,{"v":1.55606709793448e-16,"d":"1.56E-16"},{"v":4.72169958669927e-15,"d":"4.72E-15"},{"$f":"VLOOKUP(A179,'[1]SD vs SY0.45'!$A$2:$E$20133,5,FALSE)","v":"TAGLN"}]
["ENSGALG00000054259",9.48137314734993,1.84387568284398,0.566953936257577,3.25224954784734,1.14495450064856E-3,3.72447594065043E-3,{"$f":"VLOOKUP(A180,'[1]SD vs SY0.45'!$A$2:$E$20133,5,FALSE)","v":"NA"}]
["ENSGALG00000037896",863.94203816839,1.84188289956705,0.19960931000968,9.22743983974361,{"v":2.77177432850591e-20,"d":"2.77E-20"},{"v":1.34616872205956E-18,"d":"1.35E-18"},{"$f":"VLOOKUP(A181,'[1]SD vs SY0.45'!$A$2:$E$20133,5,FALSE)","v":"NA"}]
["ENSGALG00000041228",78.1427341025476,1.84044784116656,0.240365591581953,7.65686897635285,{"v":1.90520830297719E-14,"d":"1.91E-14"},{"v":4.46440118111379e-13,"d":"4.46E-13"},{"$f":"VLOOKUP(A182,'[1]SD vs SY0.45'!$A$2:$E$20133,5,FALSE)","v":"SELENOP2"}]
["ENSGALG00000051174",66.8383562665515,1.83876438871612,0.405736825315143,4.53191397474933,{"v":5.84516543881602e-06,"d":"5.85E-06"},{"v":3.26889326100657e-05,"d":"3.27E-05"},{"$f":"VLOOKUP(A183,'[1]SD vs SY0.45'!$A$2:$E$20133,5,FALSE)","v":"NA"}]
["ENSGALG00000010974",6.88075706897492,1.8336500178502,0.749085202862763,2.44785240830093,0.0143710510311918,0.034455248797481,{"$f":"VLOOKUP(A184,'[1]SD vs SY0.45'!$A$2:$E$20133,5,FALSE)","v":"GSC"}]
["ENSGALG00000048704",5.33869933639515,1.83263543476539,0.760293052442378,2.41043296249808,0.0159335992255396,0.0377281070045562,{"$f":"VLOOKUP(A185,'[1]SD vs SY0.45'!$A$2:$E$20133,5,FALSE)","v":"NA"}]
["ENSGALG00000000653",8.22999426963319,1.83013600993257,0.626381948187574,2.92175726843349,0.00348062683855062,0.00999135856725767,{"$f":"VLOOKUP(A186,'[1]SD vs SY0.45'!$A$2:$E$20133,5,FALSE)","v":"CNTN2"}]
["ENSGALG00000021620",27.4242453321166,1.82977056403599,0.452238739143031,4.04602791769523,{"v":5.20940230222016e-05,"d":"5.21E-05"},0.00023698044733684,{"$f":"VLOOKUP(A187,'[1]SD vs SY0.45'!$A$2:$E$20133,5,FALSE)","v":"TMEM59L"}]
["ENSGALG00000046995",54.2524256882151,1.82836100560458,0.362710849963115,5.04082247826474,{"v":4.63535309574122e-07,"d":"4.64E-07"},{"v":3.21762942833214e-06,"d":"3.22E-06"},{"$f":"VLOOKUP(A188,'[1]SD vs SY0.45'!$A$2:$E$20133,5,FALSE)","v":"NECTIN4"}]
["ENSGALG00000042356",183.766668873214,1.8272672124139,0.204203417960744,8.94826947884474,{"v":3.61098619887112e-19,"d":"3.61E-19"},{"v":1.52019895980078e-17,"d":"1.52E-17"},{"$f":"VLOOKUP(A189,'[1]SD vs SY0.45'!$A$2:$E$20133,5,FALSE)","v":"FSTL3"}]
["ENSGALG00000027899",223.808730713963,1.82708845309872,0.385264373264805,4.74242774543521,{"v":2.11172156745649e-06,"d":"2.11E-06"},{"v":1.29283460892134E-5,"d":"1.29E-05"},{"$f":"VLOOKUP(A190,'[1]SD vs SY0.45'!$A$2:$E$20133,5,FALSE)","v":"NA"}]
["ENSGALG00000030847",300.970270260181,1.82247462166133,0.310336339700235,5.87257883953173,{"v":4.29067539386505e-09,"d":"4.29E-09"},{"v":4.29982553735629e-08,"d":"4.30E-08"},{"$f":"VLOOKUP(A191,'[1]SD vs SY0.45'!$A$2:$E$20133,5,FALSE)","v":"FZD2"}]
["ENSGALG00000035579",22.6431935256835,1.81906193160572,0.51400413914102,3.53900249645002,0.00040164205451388,0.00146894202815162,{"$f":"VLOOKUP(A192,'[1]SD vs SY0.45'!$A$2:$E$20133,5,FALSE)","v":"NA"}]
["ENSGALG00000033279",21.8940369111277,1.81685519752775,0.511765047194651,3.55017445503016,0.000384975945215379,1.41453439549024E-3,{"$f":"VLOOKUP(A193,'[1]SD vs SY0.45'!$A$2:$E$20133,5,FALSE)","v":"RAX"}]
["ENSGALG00000042836",1212.92585840757,1.81366345039363,0.220119727126116,8.23944075377901,{"v":1.73017458855557E-16,"d":"1.73E-16"},{"v":5.24086159777276e-15,"d":"5.24E-15"},{"$f":"VLOOKUP(A194,'[1]SD vs SY0.45'!$A$2:$E$20133,5,FALSE)","v":"KCNH2"}]
["ENSGALG00000039864",145.098146157301,1.81361283322121,0.20110014144427,9.01845627852932,{"v":1.90758307739657e-19,"d":"1.91E-19"},{"v":8.29178674167353e-18,"d":"8.29E-18"},{"$f":"VLOOKUP(A195,'[1]SD vs SY0.45'!$A$2:$E$20133,5,FALSE)","v":"NA"}]
["ENSGALG00000037869",860.517321040296,1.80741331414576,0.150249586384784,12.0294062541845,{"v":2.48944576761334e-33,"d":"2.49E-33"},{"v":4.04523304313019e-31,"d":"4.05E-31"},{"$f":"VLOOKUP(A196,'[1]SD vs SY0.45'!$A$2:$E$20133,5,FALSE)","v":"LOC107055115"}]
["ENSGALG00000030687",14.0057736884571,1.80730601781903,0.557108226405557,3.24408424100951,1.17828892662467E-3,0.00382004653500337,{"$f":"VLOOKUP(A197,'[1]SD vs SY0.45'!$A$2:$E$20133,5,FALSE)","v":"LGI3"}]
["ENSGALG00000052987",12.0401604147724,1.80647798342095,0.618752598543443,2.91954811611853,0.00350539275217705,0.0100558098964036,{"$f":"VLOOKUP(A198,'[1]SD vs SY0.45'!$A$2:$E$20133,5,FALSE)","v":"NA"}]
["ENSGALG00000032893",411.458960019682,1.8061038983359,0.265874474556836,6.79306993026066,{"v":1.09772135686748e-11,"d":"1.10E-11"},{"v":1.64961808399783e-10,"d":"1.65E-10"},{"$f":"VLOOKUP(A199,'[1]SD vs SY0.45'!$A$2:$E$20133,5,FALSE)","v":"SHISA4"}]
["ENSGALG00000034737",1072.04508105577,1.80067451107147,0.191930991066968,9.38188512996939,{"v":6.48035593191726e-21,"d":"6.48E-21"},{"v":3.32371529758836e-19,"d":"3.32E-19"},{"$f":"VLOOKUP(A200,'[1]SD vs SY0.45'!$A$2:$E$20133,5,FALSE)","v":"GLIS2"}]
["ENSGALG00000052016",113.005324112954,1.80063203335085,0.291496706999835,6.17719511099611,{"v":6.52504174227081e-10,"d":"6.53E-10"},{"v":7.43452822889008e-09,"d":"7.43E-09"},{"$f":"VLOOKUP(A201,'[1]SD vs SY0.45'!$A$2:$E$20133,5,FALSE)","v":"ADRA2B"}]
["ENSGALG00000026875",17.2188822208276,1.79860394109244,0.762030864119337,2.36027702522396,0.018261292555609,0.0424250526007982,{"$f":"VLOOKUP(A202,'[1]SD vs SY0.45'!$A$2:$E$20133,5,FALSE)","v":"PERM1"}]
["ENSGALG00000040899",119.963775383763,1.79763904333809,0.236373801486179,7.60506888680385,{"v":2.84752178128576e-14,"d":"2.85E-14"},{"v":6.5058950343253e-13,"d":"6.51E-13"},{"$f":"VLOOKUP(A203,'[1]SD vs SY0.45'!$A$2:$E$20133,5,FALSE)","v":"GPAT2"}]
["ENSGALG00000051765",3094.4738274459,1.79742964684663,0.204405806241566,8.79343732889092,{"v":1.45052529088851e-18,"d":"1.45E-18"},{"v":5.69853322868328e-17,"d":"5.70E-17"},{"$f":"VLOOKUP(A204,'[1]SD vs SY0.45'!$A$2:$E$20133,5,FALSE)","v":"NA"}]
["ENSGALG00000045602",202.927337262105,1.79727151809118,0.237661286458074,7.56232344306625,{"v":3.95932347331561e-14,"d":"3.96E-14"},{"v":8.83706768042856e-13,"d":"8.84E-13"},{"$f":"VLOOKUP(A205,'[1]SD vs SY0.45'!$A$2:$E$20133,5,FALSE)","v":"REM1"}]
["ENSGALG00000032220",506.765761744003,1.79722200465879,0.20889853648127,8.60332501573044,{"v":7.74392804398129e-18,"d":"7.74E-18"},{"v":2.79343728009757e-16,"d":"2.79E-16"},{"$f":"VLOOKUP(A206,'[1]SD vs SY0.45'!$A$2:$E$20133,5,FALSE)","v":"ELN"}]
["ENSGALG00000052388",54.7677120923707,1.79679110250307,0.32156162379816,5.58770378529652,{"v":2.30091676822358E-8,"d":"2.30E-08"},{"v":2.02870384630341e-07,"d":"2.03E-07"},{"$f":"VLOOKUP(A207,'[1]SD vs SY0.45'!$A$2:$E$20133,5,FALSE)","v":"METRN"}]
["ENSGALG00000052538",184.369391055902,1.79402440323841,0.302074469932917,5.9390136598992,{"v":2.86741976522646e-09,"d":"2.87E-09"},{"v":2.93615002697246E-8,"d":"2.94E-08"},{"$f":"VLOOKUP(A208,'[1]SD vs SY0.45'!$A$2:$E$20133,5,FALSE)","v":"NA"}]
["ENSGALG00000045574",100.77465869364,1.79159517908489,0.253616237843026,7.06419744383156,{"v":1.61546910853517e-12,"d":"1.62E-12"},{"v":2.77551001878468e-11,"d":"2.78E-11"},{"$f":"VLOOKUP(A209,'[1]SD vs SY0.45'!$A$2:$E$20133,5,FALSE)","v":"CAMK2N2"}]
["ENSGALG00000021598",12.3282990202131,1.79068608868434,0.442380456736708,4.04784176474165,{"v":5.16920718823507e-05,"d":"5.17E-05"},0.000235280118800636,{"$f":"VLOOKUP(A210,'[1]SD vs SY0.45'!$A$2:$E$20133,5,FALSE)","v":"AADACL4L3"}]
["ENSGALG00000013101",195.957935162709,1.79052295668056,0.63586686982635,2.81587709888005,0.0048644271465754,0.0133952795054651,{"$f":"VLOOKUP(A211,'[1]SD vs SY0.45'!$A$2:$E$20133,5,FALSE)","v":"NA"}]
["ENSGALG00000037733",1097.92410478969,1.7886218606162,0.129865702162679,13.7728578895731,{"v":3.71231847866311e-43,"d":"3.71E-43"},{"v":1.34471002892741E-40,"d":"1.34E-40"},{"$f":"VLOOKUP(A212,'[1]SD vs SY0.45'!$A$2:$E$20133,5,FALSE)","v":"DAPK3"}]
["ENSGALG00000045052",53.5364680190803,1.78763848865783,0.267526151259328,6.68210745096457,{"v":2.35530220032059e-11,"d":"2.36E-11"},{"v":3.35119798338576e-10,"d":"3.35E-10"},{"$f":"VLOOKUP(A213,'[1]SD vs SY0.45'!$A$2:$E$20133,5,FALSE)","v":"MAB21L1"}]
["ENSGALG00000044866",43.1706549495023,1.7855236095081,0.27832653160463,6.41521165522402,{"v":1.40627345716831e-10,"d":"1.41E-10"},{"v":1.76795926245737e-09,"d":"1.77E-09"},{"$f":"VLOOKUP(A214,'[1]SD vs SY0.45'!$A$2:$E$20133,5,FALSE)","v":"LOC107057394"}]
["ENSGALG00000032206",296.940650751736,1.78550264429769,0.326027139451971,5.47654605472106,{"v":4.33707933402195E-8,"d":"4.34E-08"},{"v":3.63415895810312E-7,"d":"3.63E-07"},{"$f":"VLOOKUP(A215,'[1]SD vs SY0.45'!$A$2:$E$20133,5,FALSE)","v":"NA"}]
["ENSGALG00000005848",287.841074562277,1.7822342254057,0.240359024227474,7.41488376038255,{"v":1.2173152605254E-13,"d":"1.22E-13"},{"v":2.50182747455735e-12,"d":"2.50E-12"},{"$f":"VLOOKUP(A216,'[1]SD vs SY0.45'!$A$2:$E$20133,5,FALSE)","v":"IL11RA,IL11RA"}]
["ENSGALG00000041103",36.6987520958967,1.77744838060882,0.477882607512193,3.71942471365934,0.00019967705261278,0.000788325366434696,{"$f":"VLOOKUP(A217,'[1]SD vs SY0.45'!$A$2:$E$20133,5,FALSE)","v":"SLC18A3"}]
["ENSGALG00000027771",26.1866788661807,1.77569805004422,0.545790385006854,3.25344326104595,1.14015492065053E-3,3.7102514702135E-3,{"$f":"VLOOKUP(A218,'[1]SD vs SY0.45'!$A$2:$E$20133,5,FALSE)","v":"CACNG1"}]
["ENSGALG00000032184",18.698465434866,1.77517682022818,0.407504871564671,4.35621005808382,{"v":1.32333785822284e-05,"d":"1.32E-05"},{"v":6.86217576526114e-05,"d":"6.86E-05"},{"$f":"VLOOKUP(A219,'[1]SD vs SY0.45'!$A$2:$E$20133,5,FALSE)","v":"CSPG5"}]
["ENSGALG00000019802",17.6096115931874,1.77433326386024,0.40404151356711,4.39146276875217,{"v":1.12590617138949e-05,"d":"1.13E-05"},{"v":5.95200079110645e-05,"d":"5.95E-05"},{"$f":"VLOOKUP(A220,'[1]SD vs SY0.45'!$A$2:$E$20133,5,FALSE)","v":"PHLDA3"}]
["ENSGALG00000005968",286.449913948816,1.77389166074039,0.361285704048288,4.90994146976625,{"v":9.11035808470061e-07,"d":"9.11E-07"},{"v":5.98872574739847E-6,"d":"5.99E-06"},{"$f":"VLOOKUP(A221,'[1]SD vs SY0.45'!$A$2:$E$20133,5,FALSE)","v":"MMP11"}]
["ENSGALG00000030940",12332.7772213912,1.77296986895797,0.686050172043224,2.58431517286503,0.00975725855405509,0.0246906497568557,{"$f":"VLOOKUP(A222,'[1]SD vs SY0.45'!$A$2:$E$20133,5,FALSE)","v":"BLB2"}]
["ENSGALG00000004251",15.7274885364945,1.7729473170802,0.730587850012683,2.42674076368698,0.0152351377320452,0.0362470360901846,{"$f":"VLOOKUP(A223,'[1]SD vs SY0.45'!$A$2:$E$20133,5,FALSE)","v":"ARR3"}]
["ENSGALG00000054106",984.517063293528,1.7703883814261,0.101312649744369,17.474504772041,{"v":2.24082713714118E-68,"d":"2.24E-68"},{"v":4.32902904816374e-65,"d":"4.33E-65"},{"$f":"VLOOKUP(A224,'[1]SD vs SY0.45'!$A$2:$E$20133,5,FALSE)","v":"CIC"}]
["ENSGALG00000034756",147.955540826224,1.76663156658599,0.292588241715483,6.0379445059993,{"v":1.56089722489144E-9,"d":"1.56E-09"},{"v":1.68149442683938e-08,"d":"1.68E-08"},{"$f":"VLOOKUP(A225,'[1]SD vs SY0.45'!$A$2:$E$20133,5,FALSE)","v":"CTGFL"}]
["ENSGALG00000041266",14295.0422919249,1.76426335192572,0.244836511796307,7.20588338308588,{"v":5.76687431540471e-13,"d":"5.77E-13"},{"v":1.06896208658787E-11,"d":"1.07E-11"},{"$f":"VLOOKUP(A226,'[1]SD vs SY0.45'!$A$2:$E$20133,5,FALSE)","v":"CNN1"}]
["ENSGALG00000011086",1577.49862160579,1.76056572837995,0.271934699133699,6.47422242909263,{"v":9.53014268977949e-11,"d":"9.53E-11"},{"v":1.22923287052816e-09,"d":"1.23E-09"},{"$f":"VLOOKUP(A227,'[1]SD vs SY0.45'!$A$2:$E$20133,5,FALSE)","v":"ACTA1"}]
["ENSGALG00000053743",23.5336577083929,1.75957275889836,0.405747428719778,4.33662084920709,{"v":1.44689890685453e-05,"d":"1.45E-05"},{"v":7.44644498445662e-05,"d":"7.45E-05"},{"$f":"VLOOKUP(A228,'[1]SD vs SY0.45'!$A$2:$E$20133,5,FALSE)","v":"NA"}]
["ENSGALG00000035185",84.6676354142434,1.75946060765846,0.323644581395958,5.43639754470622,{"v":5.43685779688964e-08,"d":"5.44E-08"},{"v":4.48127420918743e-07,"d":"4.48E-07"},{"$f":"VLOOKUP(A229,'[1]SD vs SY0.45'!$A$2:$E$20133,5,FALSE)","v":44078}]
["ENSGALG00000000059",335.691913765608,1.75626770610018,0.213820334119658,8.21375438089691,{"v":2.14377870649305e-16,"d":"2.14E-16"},{"v":6.44876823006829e-15,"d":"6.45E-15"},{"$f":"VLOOKUP(A230,'[1]SD vs SY0.45'!$A$2:$E$20133,5,FALSE)","v":"TUBB3"}]
["ENSGALG00000037826",509.728339164234,1.75433608679919,0.266861385258601,6.57396005457724,{"v":4.8994380737855e-11,"d":"4.90E-11"},{"v":6.59338465858425e-10,"d":"6.59E-10"},{"$f":"VLOOKUP(A231,'[1]SD vs SY0.45'!$A$2:$E$20133,5,FALSE)","v":"TESPA1"}]
["ENSGALG00000000164",8.9369222189831,1.75004243550156,0.577443452998181,3.03067326578048,0.00244009140066874,0.00728091113496265,{"$f":"VLOOKUP(A232,'[1]SD vs SY0.45'!$A$2:$E$20133,5,FALSE)","v":"MYBPHL"}]
["ENSGALG00000027189",5.29749563963836,1.74589335404041,0.653512012692965,2.67155510553816,0.00755006747516191,0.0196693172296434,{"$f":"VLOOKUP(A233,'[1]SD vs SY0.45'!$A$2:$E$20133,5,FALSE)","v":"NA"}]
["ENSGALG00000036806",196.41118382832,1.74410151248992,0.318124193656954,5.48245479993468,{"v":4.19464192895226E-8,"d":"4.19E-08"},{"v":3.52841021861117e-07,"d":"3.53E-07"},{"$f":"VLOOKUP(A234,'[1]SD vs SY0.45'!$A$2:$E$20133,5,FALSE)","v":"GDF11"}]
["ENSGALG00000042871",334.802115887196,1.74324875257138,0.156615447866495,11.1307586596271,{"v":8.88758316075197e-29,"d":"8.89E-29"},{"v":9.53879064296263e-27,"d":"9.54E-27"},{"$f":"VLOOKUP(A235,'[1]SD vs SY0.45'!$A$2:$E$20133,5,FALSE)","v":"SLIT1"}]
["ENSGALG00000044485",335.542708333722,1.74295492434456,0.297832310865793,5.85213511347315,{"v":4.85302113385765e-09,"d":"4.85E-09"},{"v":4.81893080835997e-08,"d":"4.82E-08"},{"$f":"VLOOKUP(A236,'[1]SD vs SY0.45'!$A$2:$E$20133,5,FALSE)","v":"F2RL3"}]
["ENSGALG00000028031",13.3749675247388,1.73974132687752,0.485881536950587,3.58058743659248,0.000342822596247169,1.27418907245608E-3,{"$f":"VLOOKUP(A237,'[1]SD vs SY0.45'!$A$2:$E$20133,5,FALSE)","v":"C1QL1"}]
["ENSGALG00000049875",13.4839907536111,1.73972793763688,0.473861694601151,3.67138335395776,0.000241241175721207,0.000933139115075555,{"$f":"VLOOKUP(A238,'[1]SD vs SY0.45'!$A$2:$E$20133,5,FALSE)","v":"NA"}]
["ENSGALG00000028622",83.8129866713788,1.73311368488622,0.241703582276535,7.17040959245424,{"v":7.4773712137086e-13,"d":"7.48E-13"},{"v":1.35567313131128E-11,"d":"1.36E-11"},{"$f":"VLOOKUP(A239,'[1]SD vs SY0.45'!$A$2:$E$20133,5,FALSE)","v":"NA"}]
["ENSGALG00000004840",7.6503172010933,1.73304118691673,0.575918102674116,3.00917991441809,0.00261953941607381,0.00777101720308401,{"$f":"VLOOKUP(A240,'[1]SD vs SY0.45'!$A$2:$E$20133,5,FALSE)","v":"NA"}]
["ENSGALG00000041965",73.6086402826176,1.73255175589409,0.258044790142173,6.71415127172117,{"v":1.89163991072451E-11,"d":"1.89E-11"},{"v":2.72042540345467e-10,"d":"2.72E-10"},{"$f":"VLOOKUP(A241,'[1]SD vs SY0.45'!$A$2:$E$20133,5,FALSE)","v":"MIOX"}]
["ENSGALG00000047425",5.1716450882072,1.73203791988696,0.725809547717408,2.38635317671699,0.0170164005713664,0.0398792501326793,{"$f":"VLOOKUP(A242,'[1]SD vs SY0.45'!$A$2:$E$20133,5,FALSE)","v":"CSNK2B"}]
["ENSGALG00000025876",12.4038759065233,1.73186841612845,0.542330532310403,3.19338173484435,1.4061692338257E-3,0.00447457256012582,{"$f":"VLOOKUP(A243,'[1]SD vs SY0.45'!$A$2:$E$20133,5,FALSE)","v":"THPO"}]
["ENSGALG00000049504",347.678512649084,1.73121236648329,0.243454766884807,7.11102267018838,{"v":1.15186215559662e-12,"d":"1.15E-12"},{"v":2.02912130692588E-11,"d":"2.03E-11"},{"$f":"VLOOKUP(A244,'[1]SD vs SY0.45'!$A$2:$E$20133,5,FALSE)","v":"LOC107049937"}]
["ENSGALG00000027874",657.858224607943,1.73030671287122,0.447510789567449,3.86651395499018,1.10402149366996E-4,0.000464785029308466,{"$f":"VLOOKUP(A245,'[1]SD vs SY0.45'!$A$2:$E$20133,5,FALSE)","v":"CHAC1"}]
["ENSGALG00000019322",65.0820746424992,1.72875798527606,0.350931515815463,4.92619758376197,{"v":8.38452161248127e-07,"d":"8.38E-07"},{"v":5.55994192510343e-06,"d":"5.56E-06"},{"$f":"VLOOKUP(A246,'[1]SD vs SY0.45'!$A$2:$E$20133,5,FALSE)","v":"TNFRSF13C"}]
["ENSGALG00000046987",42.8780737375348,1.72828675790787,0.352831768462065,4.89833091119085,{"v":9.66541618026089E-7,"d":"9.67E-07"},{"v":6.32252035839714e-06,"d":"6.32E-06"},{"$f":"VLOOKUP(A247,'[1]SD vs SY0.45'!$A$2:$E$20133,5,FALSE)","v":"NA"}]
["ENSGALG00000050931",303.630253538336,1.72726069364848,0.254521951304322,6.78629361749338,{"v":1.15050887562791E-11,"d":"1.15E-11"},{"v":1.72447395004676e-10,"d":"1.72E-10"},{"$f":"VLOOKUP(A248,'[1]SD vs SY0.45'!$A$2:$E$20133,5,FALSE)","v":"NACAD"}]
["ENSGALG00000028983",179.914056953725,1.72672324223109,0.305185662125538,5.65794352921075,{"v":1.53197521269815E-8,"d":"1.53E-08"},{"v":1.38587164532688e-07,"d":"1.39E-07"},{"$f":"VLOOKUP(A249,'[1]SD vs SY0.45'!$A$2:$E$20133,5,FALSE)","v":"HOXA9"}]
["ENSGALG00000030287",15.6777803923826,1.72564599629775,0.558472271605996,3.08994033192608,0.00200196709440618,0.00612721650761586,{"$f":"VLOOKUP(A250,'[1]SD vs SY0.45'!$A$2:$E$20133,5,FALSE)","v":"NEUROD6"}]
["ENSGALG00000043009",27.7091768591658,1.72479323267752,0.36760821102669,4.69193337074914,{"v":2.7063527444179e-06,"d":"2.71E-06"},{"v":1.6214801918399e-05,"d":"1.62E-05"},{"$f":"VLOOKUP(A251,'[1]SD vs SY0.45'!$A$2:$E$20133,5,FALSE)","v":"WNT1"}]
["ENSGALG00000038529",218.013324976855,1.72292946766135,0.164621823966145,10.4659845587404,{"v":1.23782937642013e-25,"d":"1.24E-25"},{"v":1.01875032452188E-23,"d":"1.02E-23"},{"$f":"VLOOKUP(A252,'[1]SD vs SY0.45'!$A$2:$E$20133,5,FALSE)","v":"PLPPR3"}]
["ENSGALG00000029917",15.4045635488026,1.72074681802495,0.42838388435591,4.01683368787822,{"v":5.8985320770773E-5,"d":"5.90E-05"},0.000264528700603928,{"$f":"VLOOKUP(A253,'[1]SD vs SY0.45'!$A$2:$E$20133,5,FALSE)","v":"SGCA"}]
["ENSGALG00000040832",56878.934251815,1.71988286561396,0.300426026530451,5.72481314444183,{"v":1.03547645639371e-08,"d":"1.04E-08"},{"v":9.72129003634854e-08,"d":"9.72E-08"},{"$f":"VLOOKUP(A254,'[1]SD vs SY0.45'!$A$2:$E$20133,5,FALSE)","v":"CFD"}]
["ENSGALG00000022440",169.242783152556,1.71903894454818,0.247239197233295,6.95293854609184,{"v":3.57754562690594e-12,"d":"3.58E-12"},{"v":5.82423088155557e-11,"d":"5.82E-11"},{"$f":"VLOOKUP(A255,'[1]SD vs SY0.45'!$A$2:$E$20133,5,FALSE)","v":"EVA1B"}]
["ENSGALG00000054914",102.838336190435,1.71504731442086,0.483116117152037,3.54996915551285,3.8527628937272E-4,0.00141533886400243,{"$f":"VLOOKUP(A256,'[1]SD vs SY0.45'!$A$2:$E$20133,5,FALSE)","v":"NA"}]
["ENSGALG00000000318",25802.4041009068,1.71321440665952,0.241281320330333,7.10048504506687,{"v":1.24319787945967e-12,"d":"1.24E-12"},{"v":2.17459572738081E-11,"d":"2.17E-11"},{"$f":"VLOOKUP(A257,'[1]SD vs SY0.45'!$A$2:$E$20133,5,FALSE)","v":"CSRP1"}]
["ENSGALG00000047771",98.1918666797114,1.71205309860023,0.275527327546854,6.21373245929332,{"v":5.17405944781906e-10,"d":"5.17E-10"},{"v":6.00543201730507e-09,"d":"6.01E-09"},{"$f":"VLOOKUP(A258,'[1]SD vs SY0.45'!$A$2:$E$20133,5,FALSE)","v":"PGF"}]
["ENSGALG00000004521",13644.8677014149,1.70891935735029,0.262537052074081,6.50925019478044,{"v":7.55268390293586e-11,"d":"7.55E-11"},{"v":9.87357255792074e-10,"d":"9.87E-10"},{"$f":"VLOOKUP(A259,'[1]SD vs SY0.45'!$A$2:$E$20133,5,FALSE)","v":"GPX3"}]
["ENSGALG00000041634",79468.9717985357,1.70872371265744,0.26380897274846,6.47712507597947,{"v":9.34866970359242E-11,"d":"9.35E-11"},{"v":1.20672101066341e-09,"d":"1.21E-09"},{"$f":"VLOOKUP(A260,'[1]SD vs SY0.45'!$A$2:$E$20133,5,FALSE)","v":"ACTG2"}]
["ENSGALG00000034560",913.735385734827,1.70787244336627,0.244562179225111,6.98338741001418,{"v":2.8814638633924e-12,"d":"2.88E-12"},{"v":4.73535086888503E-11,"d":"4.74E-11"},{"$f":"VLOOKUP(A261,'[1]SD vs SY0.45'!$A$2:$E$20133,5,FALSE)","v":"SCARF2"}]
["ENSGALG00000031812",36.2283360316969,1.70748523925632,0.303030719832531,5.63469353932154,{"v":1.75369913642311E-8,"d":"1.75E-08"},{"v":1.57497762835685e-07,"d":"1.57E-07"},{"$f":"VLOOKUP(A262,'[1]SD vs SY0.45'!$A$2:$E$20133,5,FALSE)","v":"TDRKH"}]
["ENSGALG00000002467",1273.73377388547,1.70644118271215,0.183872583417307,9.28056348041462,{"v":1.68584619833461e-20,"d":"1.69E-20"},{"v":8.37480224298394E-19,"d":"8.37E-19"},{"$f":"VLOOKUP(A263,'[1]SD vs SY0.45'!$A$2:$E$20133,5,FALSE)","v":"MTSS2"}]
["ENSGALG00000045312",168.558267944412,1.70576361644602,0.255514779903244,6.67579236352568,{"v":2.45899916062971e-11,"d":"2.46E-11"},{"v":3.47598523624949e-10,"d":"3.48E-10"},{"$f":"VLOOKUP(A264,'[1]SD vs SY0.45'!$A$2:$E$20133,5,FALSE)","v":"SEMA6C"}]
["ENSGALG00000053676",464.287235401354,1.70522330088372,0.260527115354477,6.54528147123406,{"v":5.93834335792101e-11,"d":"5.94E-11"},{"v":7.8696628021473e-10,"d":"7.87E-10"},{"$f":"VLOOKUP(A265,'[1]SD vs SY0.45'!$A$2:$E$20133,5,FALSE)","v":"NA"}]
["ENSGALG00000016127",26.5682271522693,1.70404391516517,0.4366501271509,3.90253846090436,{"v":9.51891067434286e-05,"d":"9.52E-05"},0.000406761236279702,{"$f":"VLOOKUP(A266,'[1]SD vs SY0.45'!$A$2:$E$20133,5,FALSE)","v":"NA"}]
["ENSGALG00000010801",23.1574518494055,1.70283634533511,0.477442229295187,3.56658091985051,0.000361669165640056,0.00133822978995183,{"$f":"VLOOKUP(A267,'[1]SD vs SY0.45'!$A$2:$E$20133,5,FALSE)","v":"TMEM61"}]
["ENSGALG00000040807",114.840626329821,1.69638287202712,0.265357731917879,6.39281493614853,{"v":1.6285932844543e-10,"d":"1.63E-10"},{"v":2.02693997400193e-09,"d":"2.03E-09"},{"$f":"VLOOKUP(A268,'[1]SD vs SY0.45'!$A$2:$E$20133,5,FALSE)","v":"DMTN"}]
["ENSGALG00000002515",164.754210007162,1.69509227610098,0.332607527415295,5.09637376301614,{"v":3.4622124665137e-07,"d":"3.46E-07"},{"v":2.46508960504807e-06,"d":"2.47E-06"},{"$f":"VLOOKUP(A269,'[1]SD vs SY0.45'!$A$2:$E$20133,5,FALSE)","v":"OLFM1"}]
["ENSGALG00000031411",25.9613649843771,1.69208291528033,0.542902645265898,3.11673359862079,1.82866738589525E-3,0.00564190653449718,{"$f":"VLOOKUP(A270,'[1]SD vs SY0.45'!$A$2:$E$20133,5,FALSE)","v":"KCNN1"}]
["ENSGALG00000015419",103.798913153927,1.68990855702268,0.395246131139494,4.27558532236779,{"v":1.90635772307856e-05,"d":"1.91E-05"},{"v":9.55762448995586e-05,"d":"9.56E-05"},{"$f":"VLOOKUP(A271,'[1]SD vs SY0.45'!$A$2:$E$20133,5,FALSE)","v":"PENK"}]
["ENSGALG00000036042",93.0664425019817,1.68930630558183,0.345314985901004,4.89207354026079,{"v":9.97791461587984e-07,"d":"9.98E-07"},{"v":6.51957915919965e-06,"d":"6.52E-06"},{"$f":"VLOOKUP(A272,'[1]SD vs SY0.45'!$A$2:$E$20133,5,FALSE)","v":"NA"}]
["ENSGALG00000034498",79.0468698630445,1.68662679103973,0.271925497827505,6.20253269559017,{"v":5.55616367006264e-10,"d":"5.56E-10"},{"v":6.39344922113694e-09,"d":"6.39E-09"},{"$f":"VLOOKUP(A273,'[1]SD vs SY0.45'!$A$2:$E$20133,5,FALSE)","v":"NA"}]
["ENSGALG00000038075",13.0986939972641,1.68513435215616,0.476014334066712,3.54009161396386,0.000399988155455261,0.00146320093812342,{"$f":"VLOOKUP(A274,'[1]SD vs SY0.45'!$A$2:$E$20133,5,FALSE)","v":"NA"}]
["ENSGALG00000007515",377.455148052471,1.68251266303044,0.692660205598684,2.42905922619909,0.0151380592169005,0.0360390206538556,{"$f":"VLOOKUP(A275,'[1]SD vs SY0.45'!$A$2:$E$20133,5,FALSE)","v":"SFRP5"}]
["ENSGALG00000052892",49.7276324069924,1.67927115595428,0.269929653931248,6.22114366279296,{"v":4.93543986602003e-10,"d":"4.94E-10"},{"v":5.74380809574901e-09,"d":"5.74E-09"},{"$f":"VLOOKUP(A276,'[1]SD vs SY0.45'!$A$2:$E$20133,5,FALSE)","v":"NA"}]
["ENSGALG00000044344",26.6742480951393,1.67758908911241,0.352118296881158,4.76427696024728,{"v":1.89532030399909e-06,"d":"1.90E-06"},{"v":1.1685792243132e-05,"d":"1.17E-05"},{"$f":"VLOOKUP(A277,'[1]SD vs SY0.45'!$A$2:$E$20133,5,FALSE)","v":"NA"}]
["ENSGALG00000052838",20.9903248576331,1.67540920119286,0.415642229685157,4.03089263201663,{"v":5.55654237003303e-05,"d":"5.56E-05"},2.51134916006666E-4,{"$f":"VLOOKUP(A278,'[1]SD vs SY0.45'!$A$2:$E$20133,5,FALSE)","v":"NA"}]
["ENSGALG00000040655",183.123212390012,1.67522896487185,0.236902341090957,7.07139050275854,{"v":1.53388814084568E-12,"d":"1.53E-12"},{"v":2.64854830969528E-11,"d":"2.65E-11"},{"$f":"VLOOKUP(A279,'[1]SD vs SY0.45'!$A$2:$E$20133,5,FALSE)","v":"FAM20A"}]
["ENSGALG00000042686",98.5305041830927,1.67411133178485,0.317138762481168,5.27879757960605,{"v":1.30034354559105e-07,"d":"1.30E-07"},{"v":1.00440129840922E-6,"d":"1.00E-06"},{"$f":"VLOOKUP(A280,'[1]SD vs SY0.45'!$A$2:$E$20133,5,FALSE)","v":"FOXD3"}]
["ENSGALG00000045548",121.59132738398,1.67362605459616,0.260873711524296,6.41546457409254,{"v":1.40394060505447e-10,"d":"1.40E-10"},{"v":1.76630356729972e-09,"d":"1.77E-09"},{"$f":"VLOOKUP(A281,'[1]SD vs SY0.45'!$A$2:$E$20133,5,FALSE)","v":"NA"}]
["ENSGALG00000034067",135.782007956312,1.6724978873016,0.278702240367413,6.00102060570718,{"v":1.96081102655077E-9,"d":"1.96E-09"},{"v":2.06371799749626e-08,"d":"2.06E-08"},{"$f":"VLOOKUP(A282,'[1]SD vs SY0.45'!$A$2:$E$20133,5,FALSE)","v":"FMOD"}]
["ENSGALG00000000317",19.8983233014165,1.67210883630309,0.450361796868196,3.71281233872608,0.0002049688697745,0.000806470635611954,{"$f":"VLOOKUP(A283,'[1]SD vs SY0.45'!$A$2:$E$20133,5,FALSE)","v":"NEFM"}]
["ENSGALG00000048295",28.3773158338365,1.6712240193261,0.591135606550256,2.82714152354824,4.69655664950119E-3,0.0130071727405029,{"$f":"VLOOKUP(A284,'[1]SD vs SY0.45'!$A$2:$E$20133,5,FALSE)","v":"IRX6"}]
["ENSGALG00000043052",344.459574992983,1.67112700984246,0.380752109230531,4.38901576466555,{"v":1.13864815983181E-5,"d":"1.14E-05"},{"v":6.01570208295221e-05,"d":"6.02E-05"},{"$f":"VLOOKUP(A285,'[1]SD vs SY0.45'!$A$2:$E$20133,5,FALSE)","v":"CD1B"}]
["ENSGALG00000031707",30.0350887035584,1.66830701985196,0.30241799074523,5.51656009531989,{"v":3.45699312411252e-08,"d":"3.46E-08"},{"v":2.95364813016926E-7,"d":"2.95E-07"},{"$f":"VLOOKUP(A286,'[1]SD vs SY0.45'!$A$2:$E$20133,5,FALSE)","v":"DHH"}]
["ENSGALG00000006588",31.0076355640822,1.66741503914243,0.427905564075278,3.89668931448878,{"v":9.75165856810235e-05,"d":"9.75E-05"},0.000415467011819641,{"$f":"VLOOKUP(A287,'[1]SD vs SY0.45'!$A$2:$E$20133,5,FALSE)","v":"LRRC75B"}]
["ENSGALG00000049001",304.501907284393,1.6664532080153,0.301201564213719,5.53268444128284,{"v":3.15366538343675E-8,"d":"3.15E-08"},{"v":2.71046861205214e-07,"d":"2.71E-07"},{"$f":"VLOOKUP(A288,'[1]SD vs SY0.45'!$A$2:$E$20133,5,FALSE)","v":"ANKRD39"}]
["ENSGALG00000007038",41.4281359004991,1.66637714353268,0.293314648287734,5.68119305755918,{"v":1.33758389201891E-8,"d":"1.34E-08"},{"v":1.22467462509388E-7,"d":"1.22E-07"},{"$f":"VLOOKUP(A289,'[1]SD vs SY0.45'!$A$2:$E$20133,5,FALSE)","v":"ASTN2"}]
["ENSGALG00000053106",85.4989493568432,1.66442613659699,0.331680651765076,5.01815866478663,{"v":5.21690837888974e-07,"d":"5.22E-07"},{"v":3.58948895859738e-06,"d":"3.59E-06"},{"$f":"VLOOKUP(A290,'[1]SD vs SY0.45'!$A$2:$E$20133,5,FALSE)","v":"FAM181B"}]
["ENSGALG00000041028",40.0532425333817,1.66305490926538,0.311925734589946,5.33157327160458,{"v":9.73655203065958e-08,"d":"9.74E-08"},{"v":7.71250251285094e-07,"d":"7.71E-07"},{"$f":"VLOOKUP(A291,'[1]SD vs SY0.45'!$A$2:$E$20133,5,FALSE)","v":"DPYSL5"}]
["ENSGALG00000017326",960.440473112046,1.66175162757734,0.194614467993717,8.53868494315124,{"v":1.35757972071816e-17,"d":"1.36E-17"},{"v":4.71142487108317E-16,"d":"4.71E-16"},{"$f":"VLOOKUP(A292,'[1]SD vs SY0.45'!$A$2:$E$20133,5,FALSE)","v":"ARHGEF17"}]
["ENSGALG00000026159",3741.40370837889,1.66087881242039,0.194443983781968,8.5416827001588,{"v":1.32281244281276E-17,"d":"1.32E-17"},{"v":4.61842167533845e-16,"d":"4.62E-16"},{"$f":"VLOOKUP(A293,'[1]SD vs SY0.45'!$A$2:$E$20133,5,FALSE)","v":"PDLIM7"}]
["ENSGALG00000052702",219.84494370421,1.65818779222731,0.49258915345678,3.36626939629276,0.000761922581328951,0.00258892865381405,{"$f":"VLOOKUP(A294,'[1]SD vs SY0.45'!$A$2:$E$20133,5,FALSE)","v":"NA"}]
["ENSGALG00000036593",5.44458037386723,1.65757858942769,0.700807402195923,2.36524126919008,0.0180183283206589,0.0419166008176741,{"$f":"VLOOKUP(A295,'[1]SD vs SY0.45'!$A$2:$E$20133,5,FALSE)","v":"FOXC2"}]
["ENSGALG00000041898",432.602056264215,1.65550948724069,0.329107498317465,5.03030011684435,{"v":4.89712683045262e-07,"d":"4.90E-07"},{"v":3.38150691823192e-06,"d":"3.38E-06"},{"$f":"VLOOKUP(A296,'[1]SD vs SY0.45'!$A$2:$E$20133,5,FALSE)","v":"FAM43A"}]
["ENSGALG00000045096",51.2421659382619,1.65543772730486,0.526544375270571,3.1439662164356,0.00166674680625084,0.00519163860986803,{"$f":"VLOOKUP(A297,'[1]SD vs SY0.45'!$A$2:$E$20133,5,FALSE)","v":"NPW"}]
["ENSGALG00000047356",248.661095611312,1.65316969376153,0.211802264050462,7.80525034126954,{"v":5.93835489874072e-15,"d":"5.94E-15"},{"v":1.49421384405796e-13,"d":"1.49E-13"},{"$f":"VLOOKUP(A298,'[1]SD vs SY0.45'!$A$2:$E$20133,5,FALSE)","v":"VASN"}]
["ENSGALG00000044463",19.8715420667587,1.65135200443763,0.478502373321034,3.45108425058889,0.000558339245693592,0.00196356077363966,{"$f":"VLOOKUP(A299,'[1]SD vs SY0.45'!$A$2:$E$20133,5,FALSE)","v":"NA"}]
["ENSGALG00000040249",84.4986151528441,1.65024479680934,0.372614873248262,4.4288215937903,{"v":9.47493573825534e-06,"d":"9.47E-06"},{"v":5.10507306107981e-05,"d":"5.11E-05"},{"$f":"VLOOKUP(A300,'[1]SD vs SY0.45'!$A$2:$E$20133,5,FALSE)","v":"BHLHE22"}]
["ENSGALG00000002570",117.306389777725,1.65012789201696,0.472587756691615,3.49168565764124,0.000479982760402034,0.00171364686963248,{"$f":"VLOOKUP(A301,'[1]SD vs SY0.45'!$A$2:$E$20133,5,FALSE)","v":"PAR2L"}]
["ENSGALG00000004986",446.49094807783,1.64951728166629,0.193167853130868,8.53929499619576,{"v":1.35043215296129e-17,"d":"1.35E-17"},{"v":4.7054035758593e-16,"d":"4.71E-16"},{"$f":"VLOOKUP(A302,'[1]SD vs SY0.45'!$A$2:$E$20133,5,FALSE)","v":"CERCAM"}]
["ENSGALG00000047242",40.0016039947601,1.64842080016039,0.340732116336501,4.83787914648011,{"v":1.31231890575146e-06,"d":"1.31E-06"},{"v":8.38254548651748e-06,"d":"8.38E-06"},{"$f":"VLOOKUP(A303,'[1]SD vs SY0.45'!$A$2:$E$20133,5,FALSE)","v":"MAST1"}]
["ENSGALG00000030530",352.839033603511,1.64704138548694,0.242816779220119,6.78306248347795,{"v":1.17654719562719E-11,"d":"1.18E-11"},{"v":1.75593356998884e-10,"d":"1.76E-10"},{"$f":"VLOOKUP(A304,'[1]SD vs SY0.45'!$A$2:$E$20133,5,FALSE)","v":"HAND2"}]
["ENSGALG00000005014",24.4609815226246,1.64661618259173,0.514761716781055,3.19879301220858,0.0013800421336548,0.00440029205535596,{"$f":"VLOOKUP(A305,'[1]SD vs SY0.45'!$A$2:$E$20133,5,FALSE)","v":"AIPL1"}]
["ENSGALG00000006758",482.255230682689,1.64624886884756,0.269850756462038,6.10059015743081,{"v":1.05677554527247E-9,"d":"1.06E-09"},{"v":1.15925277007271E-8,"d":"1.16E-08"},{"$f":"VLOOKUP(A306,'[1]SD vs SY0.45'!$A$2:$E$20133,5,FALSE)","v":"C1QTNF5"}]
["ENSGALG00000033009",362.486569797965,1.6458601004169,0.235228281692315,6.99686316873124,{"v":2.61756695700765E-12,"d":"2.62E-12"},{"v":4.34686119211957e-11,"d":"4.35E-11"},{"$f":"VLOOKUP(A307,'[1]SD vs SY0.45'!$A$2:$E$20133,5,FALSE)","v":"NA"}]
["ENSGALG00000006751",1010.27399432563,1.64353160882191,0.268152676427028,6.12908896051672,{"v":8.83836997323662e-10,"d":"8.84E-10"},{"v":9.87038167363165e-09,"d":"9.87E-09"},{"$f":"VLOOKUP(A308,'[1]SD vs SY0.45'!$A$2:$E$20133,5,FALSE)","v":"THY1"}]
["ENSGALG00000050467",36.1404200031996,1.64130683432138,0.528940844310707,3.10300641740054,0.00191565486341633,0.00588574893170604,{"$f":"VLOOKUP(A309,'[1]SD vs SY0.45'!$A$2:$E$20133,5,FALSE)","v":"NA"}]
["ENSGALG00000046427",35.347132568573,1.63991081768366,0.320567632675136,5.11564690420741,{"v":3.12667486998575e-07,"d":"3.13E-07"},{"v":2.25387628376626e-06,"d":"2.25E-06"},{"$f":"VLOOKUP(A310,'[1]SD vs SY0.45'!$A$2:$E$20133,5,FALSE)","v":"SAMD14"}]
["ENSGALG00000003354",11.5551492960218,1.63837265769299,0.434557299419038,3.77021087871113,1.63109665221791E-4,0.000658307276975693,{"$f":"VLOOKUP(A311,'[1]SD vs SY0.45'!$A$2:$E$20133,5,FALSE)","v":"KCNH4"}]
["ENSGALG00000054919",27.2594796307873,1.63829338838989,0.359728682860795,4.55424731595247,{"v":5.25734758489332e-06,"d":"5.26E-06"},{"v":2.98042068661689E-5,"d":"2.98E-05"},{"$f":"VLOOKUP(A312,'[1]SD vs SY0.45'!$A$2:$E$20133,5,FALSE)","v":"PIRT"}]
["ENSGALG00000028978",93.8855822931693,1.63741756327291,0.281338267704101,5.82010252865804,{"v":5.88115398574419E-9,"d":"5.88E-09"},{"v":5.74743519119144e-08,"d":"5.75E-08"},{"$f":"VLOOKUP(A313,'[1]SD vs SY0.45'!$A$2:$E$20133,5,FALSE)","v":"BTBD19"}]
["ENSGALG00000034661",533.211401403408,1.63579569518548,0.497309762530188,3.28928932917576,1.00440716402745E-3,0.00331252415799417,{"$f":"VLOOKUP(A314,'[1]SD vs SY0.45'!$A$2:$E$20133,5,FALSE)","v":"ID1"}]
["ENSGALG00000049450",218132.705360922,1.63167077453454,0.383779653846675,4.25158227691355,{"v":2.12265500231079E-5,"d":"2.12E-05"},1.05387214520782E-4,{"$f":"VLOOKUP(A315,'[1]SD vs SY0.45'!$A$2:$E$20133,5,FALSE)","v":"NA"}]
["ENSGALG00000027513",29.4054923012061,1.62976935960728,0.369473573839689,4.41105798899279,{"v":1.02866762353471E-5,"d":"1.03E-05"},{"v":5.49644866945238e-05,"d":"5.50E-05"},{"$f":"VLOOKUP(A316,'[1]SD vs SY0.45'!$A$2:$E$20133,5,FALSE)","v":"HOXD9"}]
["ENSGALG00000030153",83.5758550611047,1.62904874546616,0.387255474290994,4.20665130286072,{"v":2.59182580790823E-5,"d":"2.59E-05"},0.000126412094446385,{"$f":"VLOOKUP(A317,'[1]SD vs SY0.45'!$A$2:$E$20133,5,FALSE)","v":"NUDT8"}]
["ENSGALG00000037402",2661.91384848466,1.62542474120557,0.376672900121747,4.31521551107129,{"v":1.59447272910829E-5,"d":"1.59E-05"},{"v":8.14427066422026e-05,"d":"8.14E-05"},{"$f":"VLOOKUP(A318,'[1]SD vs SY0.45'!$A$2:$E$20133,5,FALSE)","v":"NOV"}]
["ENSGALG00000021525",1235.77377224331,1.62440095560111,0.219511542488458,7.40007079894909,{"v":1.36111908915488E-13,"d":"1.36E-13"},{"v":2.78093743867637e-12,"d":"2.78E-12"},{"$f":"VLOOKUP(A319,'[1]SD vs SY0.45'!$A$2:$E$20133,5,FALSE)","v":"ISLR"}]
["ENSGALG00000037713",53.0424957824503,1.62327414709375,0.596779608632592,2.72005632165144,0.0065270797975824,0.017310301470495,{"$f":"VLOOKUP(A320,'[1]SD vs SY0.45'!$A$2:$E$20133,5,FALSE)","v":"FNDC10"}]
["ENSGALG00000040959",90.4050542704098,1.62317403153207,0.562289940103538,2.88672073918517,3.89279575389874E-3,0.0109985137567406,{"$f":"VLOOKUP(A321,'[1]SD vs SY0.45'!$A$2:$E$20133,5,FALSE)","v":"GRP"}]
["ENSGALG00000003138",101.463708053497,1.62308145750649,0.339032494739761,4.78739201312356,{"v":1.68962598327294e-06,"d":"1.69E-06"},{"v":1.05446974053003e-05,"d":"1.05E-05"},{"$f":"VLOOKUP(A322,'[1]SD vs SY0.45'!$A$2:$E$20133,5,FALSE)","v":"OXTR"}]
["ENSGALG00000012470",4.6617192351819,1.62136171461555,0.63924554915795,2.53636762391432,0.0112009081048977,0.027813508886012,{"$f":"VLOOKUP(A323,'[1]SD vs SY0.45'!$A$2:$E$20133,5,FALSE)","v":"LYPD6"}]
["ENSGALG00000047202",43.2734360659842,1.62046849973298,0.690846507794915,2.34562740268499,0.0189950855756617,0.0438738065244223,{"$f":"VLOOKUP(A324,'[1]SD vs SY0.45'!$A$2:$E$20133,5,FALSE)","v":"NA"}]
["ENSGALG00000055061",285.558685396033,1.62019992278385,0.252512347893285,6.41631958318556,{"v":1.39608221275616e-10,"d":"1.40E-10"},{"v":1.75896242269503E-9,"d":"1.76E-09"},{"$f":"VLOOKUP(A325,'[1]SD vs SY0.45'!$A$2:$E$20133,5,FALSE)","v":"NA"}]
["ENSGALG00000029999",556.572334939207,1.61998495648822,0.168743716271438,9.60026833759158,{"v":7.97365633177955e-22,"d":"7.97E-22"},{"v":4.54550697182463e-20,"d":"4.55E-20"},{"$f":"VLOOKUP(A326,'[1]SD vs SY0.45'!$A$2:$E$20133,5,FALSE)","v":"CCDC102A"}]
["ENSGALG00000047475",83.7468054688962,1.61889956598513,0.310330676650764,5.21669202496209,{"v":1.82146734258754e-07,"d":"1.82E-07"},{"v":1.3709892937476e-06,"d":"1.37E-06"},{"$f":"VLOOKUP(A327,'[1]SD vs SY0.45'!$A$2:$E$20133,5,FALSE)","v":"HS3ST2"}]
["ENSGALG00000050072",316.466716370159,1.61592345332526,0.261696221103586,6.17480621810598,{"v":6.62446701535666e-10,"d":"6.62E-10"},{"v":7.54286889299321e-09,"d":"7.54E-09"},{"$f":"VLOOKUP(A328,'[1]SD vs SY0.45'!$A$2:$E$20133,5,FALSE)","v":"EMID1"}]
["ENSGALG00000048951",134.13081666321,1.61574793518707,0.252921981994324,6.38832545295858,{"v":1.67712108891359e-10,"d":"1.68E-10"},{"v":2.08286459806719e-09,"d":"2.08E-09"},{"$f":"VLOOKUP(A329,'[1]SD vs SY0.45'!$A$2:$E$20133,5,FALSE)","v":"NA"}]
["ENSGALG00000054294",2115.94274670824,1.61433795036266,0.132409362257201,12.1920227002291,{"v":3.42805597196796e-34,"d":"3.43E-34"},{"v":6.14470197779452e-32,"d":"6.14E-32"},{"$f":"VLOOKUP(A330,'[1]SD vs SY0.45'!$A$2:$E$20133,5,FALSE)","v":"NA"}]
["ENSGALG00000021634",1285.8341940115,1.6141654660986,0.180540087292151,8.94075930896473,{"v":3.86505377779507e-19,"d":"3.87E-19"},{"v":1.61931783215718e-17,"d":"1.62E-17"},{"$f":"VLOOKUP(A331,'[1]SD vs SY0.45'!$A$2:$E$20133,5,FALSE)","v":"MAP7D1"}]
["ENSGALG00000049136",2149.24394113355,1.61407551177361,0.0949926100951526,16.9915902948326,{"v":9.47841059301197e-65,"d":"9.48E-65"},{"v":1.17715089271928e-61,"d":"1.18E-61"},{"$f":"VLOOKUP(A332,'[1]SD vs SY0.45'!$A$2:$E$20133,5,FALSE)","v":"NA"}]
["ENSGALG00000029528",2617.36304074598,1.61404583493554,0.246710017912301,6.54227926613539,{"v":6.05882250334786e-11,"d":"6.06E-11"},{"v":8.00491997459797e-10,"d":"8.00E-10"},{"$f":"VLOOKUP(A333,'[1]SD vs SY0.45'!$A$2:$E$20133,5,FALSE)","v":"KIRREL1"}]
["ENSGALG00000054634",954.812222648424,1.61316317079987,0.126457178281326,12.7565962859863,{"v":2.86446253581048e-37,"d":"2.86E-37"},{"v":6.64058801468491e-35,"d":"6.64E-35"},{"$f":"VLOOKUP(A334,'[1]SD vs SY0.45'!$A$2:$E$20133,5,FALSE)","v":"NA"}]
["ENSGALG00000051401",743.539371445554,1.61203874470724,0.150985258908002,10.6767955783649,{"v":1.30705766791779E-26,"d":"1.31E-26"},{"v":1.19609535116246E-24,"d":"1.20E-24"},{"$f":"VLOOKUP(A335,'[1]SD vs SY0.45'!$A$2:$E$20133,5,FALSE)","v":"RASIP1"}]
["ENSGALG00000003203",37.079255504057,1.61154855840619,0.344069130167863,4.68379292736885,{"v":2.81614514525224e-06,"d":"2.82E-06"},{"v":1.6820445084335498E-5,"d":"1.68E-05"},{"$f":"VLOOKUP(A336,'[1]SD vs SY0.45'!$A$2:$E$20133,5,FALSE)","v":"NA"}]
["ENSGALG00000028095",27.9503331560248,1.61022816858398,0.417524373391567,3.85660879029416,1.14970942049091E-4,0.000481222862158774,{"$f":"VLOOKUP(A337,'[1]SD vs SY0.45'!$A$2:$E$20133,5,FALSE)","v":"HOXA1"}]
["ENSGALG00000032656",156.442846369434,1.61016663565863,0.21850737133912,7.36893508805099,{"v":1.71996376962521e-13,"d":"1.72E-13"},{"v":3.46122801648999e-12,"d":"3.46E-12"},{"$f":"VLOOKUP(A338,'[1]SD vs SY0.45'!$A$2:$E$20133,5,FALSE)","v":"TCF7L1"}]
["ENSGALG00000051055",63.3481366047164,1.60925322151623,0.413454213685485,3.89221627993951,{"v":9.93326314629858E-5,"d":"9.93E-05"},4.22226182083174E-4,{"$f":"VLOOKUP(A339,'[1]SD vs SY0.45'!$A$2:$E$20133,5,FALSE)","v":"MAPK8IP2"}]
["ENSGALG00000030027",1821.33759359938,1.60911636510538,0.188481242712276,8.53727586867498,{"v":1.37423187441752E-17,"d":"1.37E-17"},{"v":4.75971505986004E-16,"d":"4.76E-16"},{"$f":"VLOOKUP(A340,'[1]SD vs SY0.45'!$A$2:$E$20133,5,FALSE)","v":"MCAM"}]
["ENSGALG00000048210",468.514011525475,1.60880498248923,0.232125179152056,6.93076463469465,{"v":4.18571960705368e-12,"d":"4.19E-12"},{"v":6.75112308050485e-11,"d":"6.75E-11"},{"$f":"VLOOKUP(A341,'[1]SD vs SY0.45'!$A$2:$E$20133,5,FALSE)","v":"NA"}]
["ENSGALG00000053371",1189.80171485503,1.60767201233417,0.222881251137344,7.21313257230187,{"v":5.46791321570371e-13,"d":"5.47E-13"},{"v":1.01788658545439E-11,"d":"1.02E-11"},{"$f":"VLOOKUP(A342,'[1]SD vs SY0.45'!$A$2:$E$20133,5,FALSE)","v":"NA"}]
["ENSGALG00000006272",124.813107748524,1.60719038803421,0.245503201260836,6.54651499361365,{"v":5.88952388400935e-11,"d":"5.89E-11"},{"v":7.82285345846223e-10,"d":"7.82E-10"},{"$f":"VLOOKUP(A343,'[1]SD vs SY0.45'!$A$2:$E$20133,5,FALSE)","v":"ECE2"}]
["ENSGALG00000030270",68.1143730281303,1.60558260170038,0.346652087599195,4.63168305957754,{"v":3.62705099391763e-06,"d":"3.63E-06"},{"v":2.12335136805541e-05,"d":"2.12E-05"},{"$f":"VLOOKUP(A344,'[1]SD vs SY0.45'!$A$2:$E$20133,5,FALSE)","v":"CD1C"}]
["ENSGALG00000028659",369.874042544345,1.60483097343589,0.28786397251411,5.574962922313,{"v":2.47582591876119e-08,"d":"2.48E-08"},{"v":2.17081115731219e-07,"d":"2.17E-07"},{"$f":"VLOOKUP(A345,'[1]SD vs SY0.45'!$A$2:$E$20133,5,FALSE)","v":"BLEC1"}]
["ENSGALG00000046819",31.8334481201292,1.60230071040911,0.434312436712038,3.68928120626554,0.000224888537662252,0.000876515804602909,{"$f":"VLOOKUP(A346,'[1]SD vs SY0.45'!$A$2:$E$20133,5,FALSE)","v":"NA"}]
["ENSGALG00000034973",444.602113367712,1.60065822655752,0.231630063243095,6.91040793300493,{"v":4.83261994208908e-12,"d":"4.83E-12"},{"v":7.72286424017489e-11,"d":"7.72E-11"},{"$f":"VLOOKUP(A347,'[1]SD vs SY0.45'!$A$2:$E$20133,5,FALSE)","v":"FZD7"}]
["ENSGALG00000001244",14.154412207665,1.5984316348857,0.649428842495492,2.46128833567597,0.0138439057780379,0.0333801122954854,{"$f":"VLOOKUP(A348,'[1]SD vs SY0.45'!$A$2:$E$20133,5,FALSE)","v":"CFAP52,CFAP52"}]
["ENSGALG00000033405",340.2595421151,1.59738361513767,0.246810386878311,6.47210854997467,{"v":9.66446487244378e-11,"d":"9.66E-11"},{"v":1.24287019776021e-09,"d":"1.24E-09"},{"$f":"VLOOKUP(A349,'[1]SD vs SY0.45'!$A$2:$E$20133,5,FALSE)","v":"DBN1"}]
["ENSGALG00000027415",17.8073012909531,1.59723382387247,0.497331551883827,3.21160766458986,1.31994500858148E-3,0.00423039333902419,{"$f":"VLOOKUP(A350,'[1]SD vs SY0.45'!$A$2:$E$20133,5,FALSE)","v":"GRIN2C"}]
["ENSGALG00000052171",101.780899115816,1.59387598733261,0.34240209133739,4.65498321317806,{"v":3.24007104176522e-06,"d":"3.24E-06"},{"v":1.9168123580528E-5,"d":"1.92E-05"},{"$f":"VLOOKUP(A351,'[1]SD vs SY0.45'!$A$2:$E$20133,5,FALSE)","v":"NA"}]
["ENSGALG00000044874",54.2286161846652,1.59386466218603,0.355722412769241,4.48064166038359,{"v":7.44189663782571E-6,"d":"7.44E-06"},{"v":4.08306269617784e-05,"d":"4.08E-05"},{"$f":"VLOOKUP(A352,'[1]SD vs SY0.45'!$A$2:$E$20133,5,FALSE)","v":"TNFRSF14"}]
["ENSGALG00000035047",454.083202606051,1.59298161806401,0.147418604770305,10.805838384823,{"v":3.22992819804588e-27,"d":"3.23E-27"},{"v":3.13736098209071e-25,"d":"3.14E-25"},{"$f":"VLOOKUP(A353,'[1]SD vs SY0.45'!$A$2:$E$20133,5,FALSE)","v":"LOC107052850"}]
["ENSGALG00000040672",1347.18082865433,1.59279896495052,0.233292378904817,6.8274796306157,{"v":8.64193926527338e-12,"d":"8.64E-12"},{"v":1.32281707463782e-10,"d":"1.32E-10"},{"$f":"VLOOKUP(A354,'[1]SD vs SY0.45'!$A$2:$E$20133,5,FALSE)","v":"IGFBP4"}]
["ENSGALG00000044235",3037.67971080222,1.59177495626724,0.219738529411457,7.24395016445509,{"v":4.35801609192048e-13,"d":"4.36E-13"},{"v":8.20940691118324e-12,"d":"8.21E-12"},{"$f":"VLOOKUP(A355,'[1]SD vs SY0.45'!$A$2:$E$20133,5,FALSE)","v":"MAB21L2"}]
["ENSGALG00000002470",308.450427941416,1.59152735129521,0.274140864262163,5.80550935220376,{"v":6.4170622583695e-09,"d":"6.42E-09"},{"v":6.23315427297601e-08,"d":"6.23E-08"},{"$f":"VLOOKUP(A356,'[1]SD vs SY0.45'!$A$2:$E$20133,5,FALSE)","v":"NA"}]
["ENSGALG00000036125",587.501549604919,1.58715232897556,0.270686767425662,5.8634278434443,{"v":4.53407930873995e-09,"d":"4.53E-09"},{"v":4.51770985335596e-08,"d":"4.52E-08"},{"$f":"VLOOKUP(A357,'[1]SD vs SY0.45'!$A$2:$E$20133,5,FALSE)","v":"SHE"}]
["ENSGALG00000045684",6627.06133261303,1.58646794649746,0.29703027929057,5.34109838999108,{"v":9.23850945870509e-08,"d":"9.24E-08"},{"v":7.3414060310103e-07,"d":"7.34E-07"},{"$f":"VLOOKUP(A358,'[1]SD vs SY0.45'!$A$2:$E$20133,5,FALSE)","v":"PLVAP"}]
["ENSGALG00000052385",6.60235965147407,1.58607736792378,0.635063834015554,2.49750856995729,0.0125069442004854,0.0305891459859108,{"$f":"VLOOKUP(A359,'[1]SD vs SY0.45'!$A$2:$E$20133,5,FALSE)","v":"NA"}]
["ENSGALG00000012396",352.641435719897,1.58493446887533,0.253906887215024,6.24218778096047,{"v":4.31492482392731e-10,"d":"4.31E-10"},{"v":5.05890747900365E-9,"d":"5.06E-09"},{"$f":"VLOOKUP(A360,'[1]SD vs SY0.45'!$A$2:$E$20133,5,FALSE)","v":"PTGER2"}]
["ENSGALG00000026789",29.7780933772497,1.58302991956306,0.366949455558351,4.31402716527898,{"v":1.60307235543974e-05,"d":"1.60E-05"},{"v":8.17618628454996e-05,"d":"8.18E-05"},{"$f":"VLOOKUP(A361,'[1]SD vs SY0.45'!$A$2:$E$20133,5,FALSE)","v":"NA"}]
["ENSGALG00000032750",85.868230648876,1.58262046077088,0.38303374862553,4.13180422469278,{"v":3.59926918343521e-05,"d":"3.60E-05"},0.000169871045853387,{"$f":"VLOOKUP(A362,'[1]SD vs SY0.45'!$A$2:$E$20133,5,FALSE)","v":"CELSR2"}]
["ENSGALG00000055086",300.883411352452,1.58261413666283,0.234127966247778,6.75961168597837,{"v":1.38362067418019E-11,"d":"1.38E-11"},{"v":2.03736909503001e-10,"d":"2.04E-10"},{"$f":"VLOOKUP(A363,'[1]SD vs SY0.45'!$A$2:$E$20133,5,FALSE)","v":"NA"}]
["ENSGALG00000006073",630.880765623902,1.57965464661595,0.431934401838675,3.65716330973317,2.55021911155235E-4,0.000981639576988284,{"$f":"VLOOKUP(A364,'[1]SD vs SY0.45'!$A$2:$E$20133,5,FALSE)","v":"NDUFAB1"}]
["ENSGALG00000028341",1226.72161712961,1.57893257027077,0.251229682343527,6.28481696725535,{"v":3.28240180449892e-10,"d":"3.28E-10"},{"v":3.90898083389196e-09,"d":"3.91E-09"},{"$f":"VLOOKUP(A365,'[1]SD vs SY0.45'!$A$2:$E$20133,5,FALSE)","v":"MADCAM1"}]
["ENSGALG00000026983",312.653474544659,1.57874097251064,0.227962987169065,6.92542676386229,{"v":4.34663157026727e-12,"d":"4.35E-12"},{"v":6.97829022273656e-11,"d":"6.98E-11"},{"$f":"VLOOKUP(A366,'[1]SD vs SY0.45'!$A$2:$E$20133,5,FALSE)","v":"CHRD"}]
["ENSGALG00000038951",576.036796987423,1.57811804971079,0.231445701579751,6.81852390836907,{"v":9.1980670538837e-12,"d":"9.20E-12"},{"v":1.40163708909619e-10,"d":"1.40E-10"},{"$f":"VLOOKUP(A367,'[1]SD vs SY0.45'!$A$2:$E$20133,5,FALSE)","v":"RASSF1"}]
["ENSGALG00000054776",62.4695785988084,1.57677432586828,0.299168932509847,5.27051493161436,{"v":1.36041557793474E-7,"d":"1.36E-07"},{"v":1.04615416424376E-6,"d":"1.05E-06"},{"$f":"VLOOKUP(A368,'[1]SD vs SY0.45'!$A$2:$E$20133,5,FALSE)","v":"NA"}]
["ENSGALG00000034939",347.25085092019,1.5762436667905,0.221131823243279,7.12807249391867,{"v":1.01784169238042e-12,"d":"1.02E-12"},{"v":1.80768268696817e-11,"d":"1.81E-11"},{"$f":"VLOOKUP(A369,'[1]SD vs SY0.45'!$A$2:$E$20133,5,FALSE)","v":"NA"}]
["ENSGALG00000011306",58811.2980819284,1.5758238782004,0.236738858617657,6.65638031458713,{"v":2.80653471806895E-11,"d":"2.81E-11"},{"v":3.93208856914301e-10,"d":"3.93E-10"},{"$f":"VLOOKUP(A370,'[1]SD vs SY0.45'!$A$2:$E$20133,5,FALSE)","v":"DES"}]
["ENSGALG00000045908",11.5718682342024,1.5754550086256,0.625179317714788,2.52000500333944,0.0117353166193709,0.0289791151911662,{"$f":"VLOOKUP(A371,'[1]SD vs SY0.45'!$A$2:$E$20133,5,FALSE)","v":"NA"}]
["ENSGALG00000001633",191.780331068023,1.57544310410321,0.310346819183074,5.07639520279359,{"v":3.84662798422614E-7,"d":"3.85E-07"},{"v":2.70774577982753e-06,"d":"2.71E-06"},{"$f":"VLOOKUP(A372,'[1]SD vs SY0.45'!$A$2:$E$20133,5,FALSE)","v":"DUSP26"}]
["ENSGALG00000007714",105.510839579337,1.57461492862017,0.257848785030271,6.10673782478871,{"v":1.01688069556081e-09,"d":"1.02E-09"},{"v":1.12185943234237e-08,"d":"1.12E-08"},{"$f":"VLOOKUP(A373,'[1]SD vs SY0.45'!$A$2:$E$20133,5,FALSE)","v":"NMUR1"}]
["ENSGALG00000041604",74.854621121891,1.5740755135928,0.264767399357427,5.94512586297624,{"v":2.7624451416177e-09,"d":"2.76E-09"},{"v":2.83868993364699e-08,"d":"2.84E-08"},{"$f":"VLOOKUP(A374,'[1]SD vs SY0.45'!$A$2:$E$20133,5,FALSE)","v":"NPTXR"}]
["ENSGALG00000028567",38562.176307587,1.57372370897472,0.23401353059126,6.72492613994817,{"v":1.75681534247625e-11,"d":"1.76E-11"},{"v":2.54124362392966e-10,"d":"2.54E-10"},{"$f":"VLOOKUP(A375,'[1]SD vs SY0.45'!$A$2:$E$20133,5,FALSE)","v":"MYL9"}]
["ENSGALG00000048448",29.3418890642007,1.57369380860769,0.383767295117942,4.10064596078738,{"v":4.119984734543e-05,"d":"4.12E-05"},0.000191945805411305,{"$f":"VLOOKUP(A376,'[1]SD vs SY0.45'!$A$2:$E$20133,5,FALSE)","v":"PDZD7"}]
["ENSGALG00000002008",27.1240866425862,1.57306160238311,0.337089034190044,4.66660568227281,{"v":3.06216178749381e-06,"d":"3.06E-06"},{"v":1.81712651874249e-05,"d":"1.82E-05"},{"$f":"VLOOKUP(A377,'[1]SD vs SY0.45'!$A$2:$E$20133,5,FALSE)","v":"RNF157"}]
["ENSGALG00000002532",217.463797959831,1.57214947189799,0.308809976921857,5.09099313295767,{"v":3.56192928307438e-07,"d":"3.56E-07"},{"v":2.52393769626454e-06,"d":"2.52E-06"},{"$f":"VLOOKUP(A378,'[1]SD vs SY0.45'!$A$2:$E$20133,5,FALSE)","v":"GJA4"}]
["ENSGALG00000049063",294.788852575764,1.57208494201438,0.388143694151224,4.05026531592158,{"v":5.11595949479448e-05,"d":"5.12E-05"},0.000233222830980576,{"$f":"VLOOKUP(A379,'[1]SD vs SY0.45'!$A$2:$E$20133,5,FALSE)","v":"INAFM2"}]
["ENSGALG00000028949",496.325753817981,1.57005708723645,0.245898377637846,6.38498351359112,{"v":1.71415935647212e-10,"d":"1.71E-10"},{"v":2.1197787148635E-9,"d":"2.12E-09"},{"$f":"VLOOKUP(A380,'[1]SD vs SY0.45'!$A$2:$E$20133,5,FALSE)","v":"CORO6"}]
["ENSGALG00000052568",18.614037529677,1.56973302131491,0.631870602939238,2.48426341408046,0.0129819739098795,0.0315600643695574,{"$f":"VLOOKUP(A381,'[1]SD vs SY0.45'!$A$2:$E$20133,5,FALSE)","v":"NA"}]
["ENSGALG00000021135",74.1173447865935,1.56931779259963,0.372175241202771,4.21660986240786,{"v":2.4800249057338e-05,"d":"2.48E-05"},1.21431126544617E-4,{"$f":"VLOOKUP(A382,'[1]SD vs SY0.45'!$A$2:$E$20133,5,FALSE)","v":"HAPLN3"}]
["ENSGALG00000011358",57.7184363528334,1.56888585056407,0.370676860957135,4.23248930756834,{"v":2.31118904189487E-5,"d":"2.31E-05"},1.13902051789756E-4,{"$f":"VLOOKUP(A383,'[1]SD vs SY0.45'!$A$2:$E$20133,5,FALSE)","v":"WNT6"}]
["ENSGALG00000043641",2028.62579892156,1.56880382418195,0.252926783464875,6.20260062098097,{"v":5.55376528015857e-10,"d":"5.55E-10"},{"v":6.39344922113694e-09,"d":"6.39E-09"},{"$f":"VLOOKUP(A384,'[1]SD vs SY0.45'!$A$2:$E$20133,5,FALSE)","v":"JUND"}]
["ENSGALG00000032335",1472.64023319761,1.56712740608716,0.171391641191237,9.14354629662816,{"v":6.04372090655006e-20,"d":"6.04E-20"},{"v":2.84005879465367E-18,"d":"2.84E-18"},{"$f":"VLOOKUP(A385,'[1]SD vs SY0.45'!$A$2:$E$20133,5,FALSE)","v":"MARCKSL1"}]
["ENSGALG00000029621",1123.40940580487,1.56641870955426,0.25992276573847,6.02647753883308,{"v":1.67571587514598E-9,"d":"1.68E-09"},{"v":1.79406846805192E-8,"d":"1.79E-08"},{"$f":"VLOOKUP(A386,'[1]SD vs SY0.45'!$A$2:$E$20133,5,FALSE)","v":"SEMA3F"}]
["ENSGALG00000048787",18.717784634756,1.56467384727269,0.461719113450906,3.38880025039089,0.000701991277310694,0.00240502903223666,{"$f":"VLOOKUP(A387,'[1]SD vs SY0.45'!$A$2:$E$20133,5,FALSE)","v":"NA"}]
["ENSGALG00000050508",398.747510778008,1.56408357138039,0.20794656133227,7.52156497015213,{"v":5.4124419321679e-14,"d":"5.41E-14"},{"v":1.18671031367722e-12,"d":"1.19E-12"},{"$f":"VLOOKUP(A388,'[1]SD vs SY0.45'!$A$2:$E$20133,5,FALSE)","v":"NOS3"}]
["ENSGALG00000030502",80.2681171164664,1.5636523331138,0.360510777978003,4.33732478647063,{"v":1.44227425160468E-5,"d":"1.44E-05"},{"v":7.42576914795695e-05,"d":"7.43E-05"},{"$f":"VLOOKUP(A389,'[1]SD vs SY0.45'!$A$2:$E$20133,5,FALSE)","v":"ADAMTS4"}]
["ENSGALG00000004793",992.303002617932,1.56275121817733,0.229977306735148,6.7952409755675,{"v":1.08131632448896E-11,"d":"1.08E-11"},{"v":1.62807191128163e-10,"d":"1.63E-10"},{"$f":"VLOOKUP(A390,'[1]SD vs SY0.45'!$A$2:$E$20133,5,FALSE)","v":"NA"}]
["ENSGALG00000004841",186.630560641789,1.5617363683174,0.393649665117763,3.96732553513081,{"v":7.26836827197405e-05,"d":"7.27E-05"},3.18646291338408E-4,{"$f":"VLOOKUP(A391,'[1]SD vs SY0.45'!$A$2:$E$20133,5,FALSE)","v":"APLNR"}]
["ENSGALG00000038593",155.083913967838,1.56075741843442,0.421855071547925,3.69974790799004,0.000215813734289267,8.43794332828309E-4,{"$f":"VLOOKUP(A392,'[1]SD vs SY0.45'!$A$2:$E$20133,5,FALSE)","v":"NA"}]
["ENSGALG00000007964",114.487730694165,1.56019083829363,0.19674816884248,7.92988746717506,{"v":2.19344555310523E-15,"d":"2.19E-15"},{"v":5.84930028095716e-14,"d":"5.85E-14"},{"$f":"VLOOKUP(A393,'[1]SD vs SY0.45'!$A$2:$E$20133,5,FALSE)","v":"CASTOR1"}]
["ENSGALG00000021567",6.64556556112156,1.5594304885785,0.625611708752123,2.49264914125252,0.0126794068520591,0.0309630403001054,{"$f":"VLOOKUP(A394,'[1]SD vs SY0.45'!$A$2:$E$20133,5,FALSE)","v":"EPHA8"}]
["ENSGALG00000006547",414.142356212395,1.55362413792806,0.284418331139532,5.46246133891373,{"v":4.6957782155457e-08,"d":"4.70E-08"},{"v":3.91585111912197e-07,"d":"3.92E-07"},{"$f":"VLOOKUP(A395,'[1]SD vs SY0.45'!$A$2:$E$20133,5,FALSE)","v":"PROCR"}]
["ENSGALG00000028015",603.270246440188,1.55169653873072,0.189878713615026,8.17204050516552,{"v":3.03216688557869e-16,"d":"3.03E-16"},{"v":8.96603497271371e-15,"d":"8.97E-15"},{"$f":"VLOOKUP(A396,'[1]SD vs SY0.45'!$A$2:$E$20133,5,FALSE)","v":"HES1"}]
["ENSGALG00000049293",78.8183164404981,1.55157542366605,0.290364773188953,5.34353877237157,{"v":9.11493213608948e-08,"d":"9.11E-08"},{"v":7.2509478570397e-07,"d":"7.25E-07"},{"$f":"VLOOKUP(A397,'[1]SD vs SY0.45'!$A$2:$E$20133,5,FALSE)","v":"NA"}]
["ENSGALG00000004360",39.4589958638241,1.55147318033096,0.390893846687769,3.96903965994179,{"v":7.2162871786917e-05,"d":"7.22E-05"},0.000316522666942262,{"$f":"VLOOKUP(A398,'[1]SD vs SY0.45'!$A$2:$E$20133,5,FALSE)","v":"LACAAT2L"}]
["ENSGALG00000054988",31.5603271942187,1.5512866947794,0.37037872853047,4.18837955660778,{"v":2.80953350763924e-05,"d":"2.81E-05"},1.35994874992549E-4,{"$f":"VLOOKUP(A399,'[1]SD vs SY0.45'!$A$2:$E$20133,5,FALSE)","v":"SLC22A31"}]
["ENSGALG00000047878",33.739570918578,1.54847123189937,0.397658038369885,3.89397694121059,{"v":9.86140278626751E-5,"d":"9.86E-05"},0.000419320641342219,{"$f":"VLOOKUP(A400,'[1]SD vs SY0.45'!$A$2:$E$20133,5,FALSE)","v":"LOC101748951"}]
["ENSGALG00000054310",107.934173863511,1.54757525200907,0.264378976584739,5.85362449011918,{"v":4.8097392463564e-09,"d":"4.81E-09"},{"v":4.77868207293707e-08,"d":"4.78E-08"},{"$f":"VLOOKUP(A401,'[1]SD vs SY0.45'!$A$2:$E$20133,5,FALSE)","v":"NA"}]
["ENSGALG00000046461",630.563609569892,1.5467951342823,0.271546888003466,5.69623590848352,{"v":1.22481374065343e-08,"d":"1.22E-08"},{"v":1.13110378149614E-7,"d":"1.13E-07"},{"$f":"VLOOKUP(A402,'[1]SD vs SY0.45'!$A$2:$E$20133,5,FALSE)","v":"LRRC15"}]
["ENSGALG00000026055",448.410936699775,1.54584958448163,0.233560527230059,6.61862517102025,{"v":3.62554845304972E-11,"d":"3.63E-11"},{"v":4.97532840987968e-10,"d":"4.98E-10"},{"$f":"VLOOKUP(A403,'[1]SD vs SY0.45'!$A$2:$E$20133,5,FALSE)","v":"PALM"}]
["ENSGALG00000046747",7.57644290377703,1.54496219916363,0.661144488785935,2.33679963361815,0.0194496049030978,0.0448026338699207,{"$f":"VLOOKUP(A404,'[1]SD vs SY0.45'!$A$2:$E$20133,5,FALSE)","v":"NA"}]
["ENSGALG00000001956",318.269035802155,1.54456407162296,0.234023470451439,6.60003916976125,{"v":4.11049164071894e-11,"d":"4.11E-11"},{"v":5.58789039540111E-10,"d":"5.59E-10"},{"$f":"VLOOKUP(A405,'[1]SD vs SY0.45'!$A$2:$E$20133,5,FALSE)","v":"OLFML3"}]
["ENSGALG00000034094",52.5610783681752,1.54381255049153,0.450390881727166,3.42771715220186,0.00060867928024675,2.12256450975737E-3,{"$f":"VLOOKUP(A406,'[1]SD vs SY0.45'!$A$2:$E$20133,5,FALSE)","v":"SP5"}]
["ENSGALG00000005063",531.045598328904,1.5434993054285,0.298268675481036,5.17486223767615,{"v":2.2807920439745E-7,"d":"2.28E-07"},{"v":1.68677717008016e-06,"d":"1.69E-06"},{"$f":"VLOOKUP(A407,'[1]SD vs SY0.45'!$A$2:$E$20133,5,FALSE)","v":"ST6GALNAC4"}]
["ENSGALG00000005043",65.4792978608216,1.54224808682338,0.347551252353196,4.43746951386635,{"v":9.10226085379768e-06,"d":"9.10E-06"},{"v":4.92105128933396E-5,"d":"4.92E-05"},{"$f":"VLOOKUP(A408,'[1]SD vs SY0.45'!$A$2:$E$20133,5,FALSE)","v":"NA"}]
["ENSGALG00000054317",221.05272844951,1.54138783415361,0.265644962222385,5.80243578217469,{"v":6.53584288660697E-9,"d":"6.54E-09"},{"v":6.33790854821168e-08,"d":"6.34E-08"},{"$f":"VLOOKUP(A409,'[1]SD vs SY0.45'!$A$2:$E$20133,5,FALSE)","v":"NA"}]
["ENSGALG00000051279",8.58187252841256,1.54071708577415,0.618668907353409,2.4903742009036,0.0127608661657888,0.0311182580679621,{"$f":"VLOOKUP(A410,'[1]SD vs SY0.45'!$A$2:$E$20133,5,FALSE)","v":"PPP1R1A"}]
["ENSGALG00000048059",34.8165192800695,1.54053376661077,0.388053821541859,3.96989716655734,{"v":7.19036579022337e-05,"d":"7.19E-05"},0.000315465278815578,{"$f":"VLOOKUP(A411,'[1]SD vs SY0.45'!$A$2:$E$20133,5,FALSE)","v":"NA"}]
["ENSGALG00000016485",1776.26990459026,1.53940160831296,0.229876367758436,6.69665013121589,{"v":2.13251353544793E-11,"d":"2.13E-11"},{"v":3.04667319973978e-10,"d":"3.05E-10"},{"$f":"VLOOKUP(A412,'[1]SD vs SY0.45'!$A$2:$E$20133,5,FALSE)","v":"RHOB"}]
["ENSGALG00000045776",94.3593225982387,1.53938218726068,0.48793498878521,3.1548919889783,0.00160557533637788,0.00502721742726495,{"$f":"VLOOKUP(A413,'[1]SD vs SY0.45'!$A$2:$E$20133,5,FALSE)","v":"CPN2"}]
["ENSGALG00000033941",869.759629193026,1.53933033440955,0.289221292926577,5.32232713170374,{"v":1.02448123917984E-7,"d":"1.02E-07"},{"v":8.0856356357784e-07,"d":"8.09E-07"},{"$f":"VLOOKUP(A414,'[1]SD vs SY0.45'!$A$2:$E$20133,5,FALSE)","v":"RORC"}]
["ENSGALG00000016222",53.9091585100952,1.53587013083738,0.301579060942268,5.09276116862567,{"v":3.52886114496621e-07,"d":"3.53E-07"},{"v":2.50433913173582e-06,"d":"2.50E-06"},{"$f":"VLOOKUP(A415,'[1]SD vs SY0.45'!$A$2:$E$20133,5,FALSE)","v":"NDP"}]
["ENSGALG00000049236",27.477792540391,1.53183447122703,0.46515720497026,3.2931543462279,0.000990700727422997,0.00327415197637401,{"$f":"VLOOKUP(A416,'[1]SD vs SY0.45'!$A$2:$E$20133,5,FALSE)","v":"PEBP4"}]
["ENSGALG00000000337",160.951392526841,1.53155619570951,0.222445914091334,6.88507227460545,{"v":5.77582032002532e-12,"d":"5.78E-12"},{"v":9.12117964616532E-11,"d":"9.12E-11"},{"$f":"VLOOKUP(A417,'[1]SD vs SY0.45'!$A$2:$E$20133,5,FALSE)","v":"CTXN1"}]
["ENSGALG00000035457",10.597456841898,1.52963752117822,0.561871809690312,2.7223959180677,6.48104451881575E-3,0.0172039574120075,{"$f":"VLOOKUP(A418,'[1]SD vs SY0.45'!$A$2:$E$20133,5,FALSE)","v":"ADRA2BL2"}]
["ENSGALG00000032060",79.2123857235521,1.52871671066845,0.289604715220018,5.27863197775306,{"v":1.30151907737136E-7,"d":"1.30E-07"},{"v":1.00486288624582e-06,"d":"1.00E-06"},{"$f":"VLOOKUP(A419,'[1]SD vs SY0.45'!$A$2:$E$20133,5,FALSE)","v":"GPR153"}]
["ENSGALG00000027658",300.273117809383,1.52739951457876,0.22204926744192,6.8786514460277,{"v":6.04217937728117e-12,"d":"6.04E-12"},{"v":9.49867747131896e-11,"d":"9.50E-11"},{"$f":"VLOOKUP(A420,'[1]SD vs SY0.45'!$A$2:$E$20133,5,FALSE)","v":"TESK1"}]
["ENSGALG00000043829",357.449606417096,1.52371298859165,0.247568897658367,6.15470280396166,{"v":7.52184143293165e-10,"d":"7.52E-10"},{"v":8.50893018831377e-09,"d":"8.51E-09"},{"$f":"VLOOKUP(A421,'[1]SD vs SY0.45'!$A$2:$E$20133,5,FALSE)","v":"EXTL1"}]
["ENSGALG00000015895",223.949116614628,1.52315107866076,0.318661453268084,4.77984099752211,{"v":1.75433883574483E-6,"d":"1.75E-06"},{"v":1.09094024810785E-5,"d":"1.09E-05"},{"$f":"VLOOKUP(A422,'[1]SD vs SY0.45'!$A$2:$E$20133,5,FALSE)","v":"HTR1B"}]
["ENSGALG00000029968",874.783978039832,1.52313354271097,0.159971118434382,9.52130333036168,{"v":1.71020513905284e-21,"d":"1.71E-21"},{"v":9.35073482789676e-20,"d":"9.35E-20"},{"$f":"VLOOKUP(A423,'[1]SD vs SY0.45'!$A$2:$E$20133,5,FALSE)","v":"GADD45B"}]
["ENSGALG00000028924",166.596447615022,1.52284611303211,0.314574505077136,4.84097117997117,{"v":1.29206112116848e-06,"d":"1.29E-06"},{"v":8.27841616956951e-06,"d":"8.28E-06"},{"$f":"VLOOKUP(A424,'[1]SD vs SY0.45'!$A$2:$E$20133,5,FALSE)","v":"S100A16"}]
["ENSGALG00000002678",826.63892003181,1.52284312038387,0.213035111799659,7.14831985919756,{"v":8.78464310174853E-13,"d":"8.78E-13"},{"v":1.56815800421049e-11,"d":"1.57E-11"},{"$f":"VLOOKUP(A425,'[1]SD vs SY0.45'!$A$2:$E$20133,5,FALSE)","v":"NA"}]
["ENSGALG00000002103",646.667504109558,1.52027729174807,0.268523197306964,5.66162367719075,{"v":1.4994737644634e-08,"d":"1.50E-08"},{"v":1.36142821633029E-7,"d":"1.36E-07"},{"$f":"VLOOKUP(A426,'[1]SD vs SY0.45'!$A$2:$E$20133,5,FALSE)","v":"TPPP3"}]
["ENSGALG00000043089",14.8084754416825,1.51951024091271,0.440923919023599,3.44619598836366,0.000568537864522005,0.00199660025256395,{"$f":"VLOOKUP(A427,'[1]SD vs SY0.45'!$A$2:$E$20133,5,FALSE)","v":"VWCE"}]
["ENSGALG00000038458",461.044683333995,1.51919857434336,0.285499408300243,5.3211969278259,{"v":1.03086736783817E-7,"d":"1.03E-07"},{"v":8.1286580156926e-07,"d":"8.13E-07"},{"$f":"VLOOKUP(A428,'[1]SD vs SY0.45'!$A$2:$E$20133,5,FALSE)","v":"LOXL1"}]
["ENSGALG00000022622",225.167517093339,1.51784188756351,0.231930772461253,6.5443747349959,{"v":5.97448172047478e-11,"d":"5.97E-11"},{"v":7.91152427066984e-10,"d":"7.91E-10"},{"$f":"VLOOKUP(A429,'[1]SD vs SY0.45'!$A$2:$E$20133,5,FALSE)","v":"HOXA4"}]
["ENSGALG00000040297",3470.61935083676,1.51719378492491,0.208817767596319,7.2656354983064,{"v":3.71288537378638e-13,"d":"3.71E-13"},{"v":7.06884578735077e-12,"d":"7.07E-12"},{"$f":"VLOOKUP(A430,'[1]SD vs SY0.45'!$A$2:$E$20133,5,FALSE)","v":"NBL1"}]
["ENSGALG00000034196",824.018541453388,1.51601040723558,0.337809382935486,4.48776879452488,{"v":7.1972975250136e-06,"d":"7.20E-06"},{"v":3.96512712507641e-05,"d":"3.97E-05"},{"$f":"VLOOKUP(A431,'[1]SD vs SY0.45'!$A$2:$E$20133,5,FALSE)","v":"WNT2B"}]
["ENSGALG00000040866",151.417246183226,1.5148172405791,0.289176228501412,5.23838784546464,{"v":1.61985367386902E-7,"d":"1.62E-07"},{"v":1.2298862806795e-06,"d":"1.23E-06"},{"$f":"VLOOKUP(A432,'[1]SD vs SY0.45'!$A$2:$E$20133,5,FALSE)","v":"P3H2"}]
["ENSGALG00000006479",84.2528310805898,1.51474501695115,0.291322786393058,5.19954184053226,{"v":1.99780353780892E-7,"d":"2.00E-07"},{"v":1.49144740712253E-6,"d":"1.49E-06"},{"$f":"VLOOKUP(A433,'[1]SD vs SY0.45'!$A$2:$E$20133,5,FALSE)","v":"CCM2L"}]
["ENSGALG00000029024",810.255739672044,1.51459434543437,0.279587651402756,5.41724335046738,{"v":6.05249380155505E-8,"d":"6.05E-08"},{"v":4.95688693959669e-07,"d":"4.96E-07"},{"$f":"VLOOKUP(A434,'[1]SD vs SY0.45'!$A$2:$E$20133,5,FALSE)","v":"TCF21"}]
["ENSGALG00000026518",21.9974079387318,1.51242243694065,0.345871259625473,4.37279014908143,{"v":1.22668624507917e-05,"d":"1.23E-05"},{"v":6.42808732465085e-05,"d":"6.43E-05"},{"$f":"VLOOKUP(A435,'[1]SD vs SY0.45'!$A$2:$E$20133,5,FALSE)","v":"RUNDC3A"}]
["ENSGALG00000038087",60.3991173341207,1.51234295687794,0.37961829504077,3.98385161261926,{"v":6.78072218261967e-05,"d":"6.78E-05"},0.000299762055909505,{"$f":"VLOOKUP(A436,'[1]SD vs SY0.45'!$A$2:$E$20133,5,FALSE)","v":"CACNG3"}]
["ENSGALG00000027786",499.152601541167,1.5115728890576,0.411484561916437,3.67346196906548,0.000239286305261455,9.26195678891566E-4,{"$f":"VLOOKUP(A437,'[1]SD vs SY0.45'!$A$2:$E$20133,5,FALSE)","v":"SOCS3"}]
["ENSGALG00000014250",34.5234948866686,1.51126519685886,0.33645124207007,4.49178070367807,{"v":7.06301303211529e-06,"d":"7.06E-06"},{"v":3.90092819657166e-05,"d":"3.90E-05"},{"$f":"VLOOKUP(A438,'[1]SD vs SY0.45'!$A$2:$E$20133,5,FALSE)","v":"PHOX2B"}]
["ENSGALG00000040521",108.041600083642,1.50974466816406,0.289207962048229,5.2202735272976,{"v":1.78659062685909e-07,"d":"1.79E-07"},{"v":1.34765515094139e-06,"d":"1.35E-06"},{"$f":"VLOOKUP(A439,'[1]SD vs SY0.45'!$A$2:$E$20133,5,FALSE)","v":"HOXA2"}]
["ENSGALG00000049721",271.875808516694,1.50905509695059,0.350986166672813,4.29947171780511,{"v":1.71205721360293E-5,"d":"1.71E-05"},{"v":8.66847372536812e-05,"d":"8.67E-05"},{"$f":"VLOOKUP(A440,'[1]SD vs SY0.45'!$A$2:$E$20133,5,FALSE)","v":"NA"}]
["ENSGALG00000024047",65.0981551705957,1.5073230406178,0.242522093932665,6.21519885539297,{"v":5.1259692195271e-10,"d":"5.13E-10"},{"v":5.95756863769503e-09,"d":"5.96E-09"},{"$f":"VLOOKUP(A441,'[1]SD vs SY0.45'!$A$2:$E$20133,5,FALSE)","v":"MYCL"}]
["ENSGALG00000053653",805.32307154232,1.50647723981304,0.224295692381033,6.71647869747692,{"v":1.86168510462147e-11,"d":"1.86E-11"},{"v":2.68178284292075e-10,"d":"2.68E-10"},{"$f":"VLOOKUP(A442,'[1]SD vs SY0.45'!$A$2:$E$20133,5,FALSE)","v":"ZNF467"}]
["ENSGALG00000028506",552.054446350741,1.50612547095614,0.185120116095429,8.13593629219495,{"v":4.08766740965845e-16,"d":"4.09E-16"},{"v":1.18849955270454e-14,"d":"1.19E-14"},{"$f":"VLOOKUP(A443,'[1]SD vs SY0.45'!$A$2:$E$20133,5,FALSE)","v":"NHSL2"}]
["ENSGALG00000011865",11602.5565356107,1.50494091012385,0.215415519438444,6.98622324912804,{"v":2.82384610030471e-12,"d":"2.82E-12"},{"v":4.6450531831597e-11,"d":"4.65E-11"},{"$f":"VLOOKUP(A444,'[1]SD vs SY0.45'!$A$2:$E$20133,5,FALSE)","v":"SMTN"}]
["ENSGALG00000013090",75.5807881671486,1.50454032519621,0.509717321277922,2.95171512206834,0.00316014334136335,0.009171325701266,{"$f":"VLOOKUP(A445,'[1]SD vs SY0.45'!$A$2:$E$20133,5,FALSE)","v":"LOXL4"}]
["ENSGALG00000053555",14.2944488148544,1.50445815053959,0.620019942988128,2.42646735408057,0.015246621977019,0.0362693961300355,{"$f":"VLOOKUP(A446,'[1]SD vs SY0.45'!$A$2:$E$20133,5,FALSE)","v":"NA"}]
["ENSGALG00000027070",5622.26543248728,1.50382946927863,0.290240631889008,5.18131958124221,{"v":2.20321632863455E-7,"d":"2.20E-07"},{"v":1.63287818866022E-6,"d":"1.63E-06"},{"$f":"VLOOKUP(A447,'[1]SD vs SY0.45'!$A$2:$E$20133,5,FALSE)","v":"TIMP2"}]
["ENSGALG00000035362",208.012331924689,1.50373961792322,0.218261116326988,6.88963587847866,{"v":5.59353746939707e-12,"d":"5.59E-12"},{"v":8.8574531858294e-11,"d":"8.86E-11"},{"$f":"VLOOKUP(A448,'[1]SD vs SY0.45'!$A$2:$E$20133,5,FALSE)","v":"NA"}]
["ENSGALG00000021074",244.297448778608,1.50223599195531,0.242152025431169,6.20368955940165,{"v":5.51545339292163e-10,"d":"5.52E-10"},{"v":6.35501578149293e-09,"d":"6.36E-09"},{"$f":"VLOOKUP(A449,'[1]SD vs SY0.45'!$A$2:$E$20133,5,FALSE)","v":"MYOC"}]
["ENSGALG00000029035",5.872968985516,1.50211661105615,0.599123652444354,2.50718963427281,0.0121695402749489,0.0298942917152495,{"$f":"VLOOKUP(A450,'[1]SD vs SY0.45'!$A$2:$E$20133,5,FALSE)","v":"CLEC5A"}]
["ENSGALG00000053766",196.266425829611,1.50186484541946,0.313662078356346,4.7881620031645,{"v":1.68315752553417e-06,"d":"1.68E-06"},{"v":1.05081005014228E-5,"d":"1.05E-05"},{"$f":"VLOOKUP(A451,'[1]SD vs SY0.45'!$A$2:$E$20133,5,FALSE)","v":"BOLA3"}]
["ENSGALG00000006792",95.8815601471601,1.50127698125832,0.267145747125091,5.61969261129711,{"v":1.91297505071912e-08,"d":"1.91E-08"},{"v":1.70568703624889e-07,"d":"1.71E-07"},{"$f":"VLOOKUP(A452,'[1]SD vs SY0.45'!$A$2:$E$20133,5,FALSE)","v":"VSTM2L"}]
["ENSGALG00000040755",505.300423701005,1.50127572162835,0.20458771468457,7.33805411504297,{"v":2.16721548206315E-13,"d":"2.17E-13"},{"v":4.29172842672347e-12,"d":"4.29E-12"},{"$f":"VLOOKUP(A453,'[1]SD vs SY0.45'!$A$2:$E$20133,5,FALSE)","v":"ANGPT4"}]
["ENSGALG00000043727",300.265468597632,1.50035026871305,0.37158932924161,4.03765703330386,{"v":5.39877047638686e-05,"d":"5.40E-05"},0.000244712128831071,{"$f":"VLOOKUP(A454,'[1]SD vs SY0.45'!$A$2:$E$20133,5,FALSE)","v":"NR4A1"}]
["ENSGALG00000050908",16.2425679739748,1.49994677360756,0.360253457727575,4.16358744498664,{"v":3.13285963353645E-5,"d":"3.13E-05"},0.000149727956152552,{"$f":"VLOOKUP(A455,'[1]SD vs SY0.45'!$A$2:$E$20133,5,FALSE)","v":"NA"}]
["ENSGALG00000027429",29.3091041817314,1.4998385874011,0.389284135465786,3.8528119970944,1.16769046373157E-4,0.000487809564942353,{"$f":"VLOOKUP(A456,'[1]SD vs SY0.45'!$A$2:$E$20133,5,FALSE)","v":"HSD17B1"}]
["ENSGALG00000006436",10.9994099510672,1.49921754982295,0.531649043793072,2.81993839230241,0.00480328703356953,0.0132563758715264,{"$f":"VLOOKUP(A457,'[1]SD vs SY0.45'!$A$2:$E$20133,5,FALSE)","v":"AQP12A"}]
["ENSGALG00000017168",213.809108918643,1.49786731058776,0.330186125183499,4.53643323066749,{"v":5.72135915953576e-06,"d":"5.72E-06"},{"v":3.2120526866919E-5,"d":"3.21E-05"},{"$f":"VLOOKUP(A458,'[1]SD vs SY0.45'!$A$2:$E$20133,5,FALSE)","v":"SLN"}]
["ENSGALG00000010258",1020.24185866614,1.49489964961116,0.189856639620605,7.8738339233142,{"v":3.43935430821778E-15,"d":"3.44E-15"},{"v":8.8855948524491e-14,"d":"8.89E-14"},{"$f":"VLOOKUP(A459,'[1]SD vs SY0.45'!$A$2:$E$20133,5,FALSE)","v":"LTBP2"}]
["ENSGALG00000015028",28.4115617931306,1.49485497989399,0.434581937307971,3.43975405225976,0.000582243037223365,0.00204060868538654,{"$f":"VLOOKUP(A460,'[1]SD vs SY0.45'!$A$2:$E$20133,5,FALSE)","v":"RLN3"}]
["ENSGALG00000001480",160.625588829877,1.49431815099669,0.19623100190992,7.61509718878495,{"v":2.63493127864542e-14,"d":"2.63E-14"},{"v":6.05999340500104e-13,"d":"6.06E-13"},{"$f":"VLOOKUP(A461,'[1]SD vs SY0.45'!$A$2:$E$20133,5,FALSE)","v":"INKA2"}]
["ENSGALG00000054838",9.11966622831895,1.49318985387077,0.579834138318222,2.57520169164529,0.0100181648914192,0.025251642935214,{"$f":"VLOOKUP(A462,'[1]SD vs SY0.45'!$A$2:$E$20133,5,FALSE)","v":"NA"}]
["ENSGALG00000032854",733.135428843349,1.49206813971847,0.335895307904457,4.442063061336,{"v":8.91004366837052e-06,"d":"8.91E-06"},{"v":4.82613486797378e-05,"d":"4.83E-05"},{"$f":"VLOOKUP(A463,'[1]SD vs SY0.45'!$A$2:$E$20133,5,FALSE)","v":"ACP5"}]
["ENSGALG00000030890",332.872649839356,1.49028166623109,0.455828725778926,3.26938953591501,0.00107779811516245,0.00352912915787751,{"$f":"VLOOKUP(A464,'[1]SD vs SY0.45'!$A$2:$E$20133,5,FALSE)","v":"RRS1"}]
["ENSGALG00000048627",197.928335042895,1.48898982004674,0.234357769447226,6.35349032190735,{"v":2.10483436634943e-10,"d":"2.10E-10"},{"v":2.57361147171009e-09,"d":"2.57E-09"},{"$f":"VLOOKUP(A465,'[1]SD vs SY0.45'!$A$2:$E$20133,5,FALSE)","v":"NA"}]
["ENSGALG00000001289",163.691349034021,1.48869967176342,0.220911879479861,6.7388846415529,{"v":1.59607052951613e-11,"d":"1.60E-11"},{"v":2.32224922984911e-10,"d":"2.32E-10"},{"$f":"VLOOKUP(A466,'[1]SD vs SY0.45'!$A$2:$E$20133,5,FALSE)","v":"SHC2"}]
["ENSGALG00000054600",252.316572960134,1.48763865321582,0.122537134123486,12.1403088448001,{"v":6.45818110362855e-34,"d":"6.46E-34"},{"v":1.13422621059383e-31,"d":"1.13E-31"},{"$f":"VLOOKUP(A467,'[1]SD vs SY0.45'!$A$2:$E$20133,5,FALSE)","v":"NA"}]
["ENSGALG00000004734",176.706085299899,1.48559629860911,0.319031075410021,4.65658806653807,{"v":3.21492793309233e-06,"d":"3.21E-06"},{"v":1.90258515904276e-05,"d":"1.90E-05"},{"$f":"VLOOKUP(A468,'[1]SD vs SY0.45'!$A$2:$E$20133,5,FALSE)","v":"EVA1CL"}]
["ENSGALG00000042422",246.258111776609,1.48557389166092,0.304340902961889,4.88128239485098,{"v":1.05398183013204e-06,"d":"1.05E-06"},{"v":6.85581072970659e-06,"d":"6.86E-06"},{"$f":"VLOOKUP(A469,'[1]SD vs SY0.45'!$A$2:$E$20133,5,FALSE)","v":"GLI1"}]
["ENSGALG00000033953",723.80393466127,1.48413049752814,0.191610430313227,7.7455621549517,{"v":9.51598893464158e-15,"d":"9.52E-15"},{"v":2.32053996643216E-13,"d":"2.32E-13"},{"$f":"VLOOKUP(A470,'[1]SD vs SY0.45'!$A$2:$E$20133,5,FALSE)","v":"SHROOM4"}]
["ENSGALG00000036142",705.002744925841,1.48258211254198,0.282032692762805,5.25677395063152,{"v":1.46604328026989e-07,"d":"1.47E-07"},{"v":1.12142958706786e-06,"d":"1.12E-06"},{"$f":"VLOOKUP(A471,'[1]SD vs SY0.45'!$A$2:$E$20133,5,FALSE)","v":"LOXL3"}]
["ENSGALG00000028037",2602.77546866036,1.48235741722803,0.477724515577558,3.10295446202064,0.00191599119764515,0.00588574893170604,{"$f":"VLOOKUP(A472,'[1]SD vs SY0.45'!$A$2:$E$20133,5,FALSE)","v":"FOS"}]
["ENSGALG00000011324",48.5213258175942,1.47984355761616,0.450760952104117,3.28298968823357,1.0271242273916E-3,0.00337893066282536,{"$f":"VLOOKUP(A473,'[1]SD vs SY0.45'!$A$2:$E$20133,5,FALSE)","v":"TUBA4B"}]
["ENSGALG00000008043",96.5339792800088,1.47953164516599,0.247422052387598,5.97978891084546,{"v":2.23426959912281E-9,"d":"2.23E-09"},{"v":2.32201108905848e-08,"d":"2.32E-08"},{"$f":"VLOOKUP(A474,'[1]SD vs SY0.45'!$A$2:$E$20133,5,FALSE)","v":"CORO2B"}]
["ENSGALG00000002244",8.63969396538914,1.47845795919345,0.544091252545523,2.71729779200916,6.58173592243753E-3,0.0174313240644968,{"$f":"VLOOKUP(A475,'[1]SD vs SY0.45'!$A$2:$E$20133,5,FALSE)","v":"AGRP"}]
["ENSGALG00000039206",586.975518125818,1.47809705388688,0.176712713603843,8.3644069730065,{"v":6.04180353614884e-17,"d":"6.04E-17"},{"v":1.91694960005511E-15,"d":"1.92E-15"},{"$f":"VLOOKUP(A476,'[1]SD vs SY0.45'!$A$2:$E$20133,5,FALSE)","v":"ARID5A"}]
["ENSGALG00000024449",691.535614460209,1.47788803591371,0.282322964853641,5.23474254628864,{"v":1.65214988246719e-07,"d":"1.65E-07"},{"v":1.25222013977581e-06,"d":"1.25E-06"},{"$f":"VLOOKUP(A477,'[1]SD vs SY0.45'!$A$2:$E$20133,5,FALSE)","v":"RAMP2"}]
["ENSGALG00000053404",272.395392907077,1.47704792493072,0.260127294833363,5.67817354913452,{"v":1.36140552455551e-08,"d":"1.36E-08"},{"v":1.24517400607294e-07,"d":"1.25E-07"},{"$f":"VLOOKUP(A478,'[1]SD vs SY0.45'!$A$2:$E$20133,5,FALSE)","v":"NA"}]
["ENSGALG00000024318",343.011409061036,1.47518607339709,0.241362530251437,6.11191004610503,{"v":9.84456732507887e-10,"d":"9.84E-10"},{"v":1.09162941378282E-8,"d":"1.09E-08"},{"$f":"VLOOKUP(A479,'[1]SD vs SY0.45'!$A$2:$E$20133,5,FALSE)","v":"TMEM200B"}]
["ENSGALG00000053568",31.5228652534783,1.47493721511318,0.586312018657414,2.51561825133759,0.0118823808747206,0.0292633082533665,{"$f":"VLOOKUP(A480,'[1]SD vs SY0.45'!$A$2:$E$20133,5,FALSE)","v":"TCD8AL3"}]
["ENSGALG00000037131",122.353657180092,1.47485621918551,0.354536665247766,4.15995400124503,{"v":3.18311695321627e-05,"d":"3.18E-05"},0.000151738267706931,{"$f":"VLOOKUP(A481,'[1]SD vs SY0.45'!$A$2:$E$20133,5,FALSE)","v":"NA"}]
["ENSGALG00000000112",35.6173748728816,1.47398202990348,0.302133777285131,4.87857413079784,{"v":1.0685550284659E-6,"d":"1.07E-06"},{"v":6.93762743836319E-6,"d":"6.94E-06"},{"$f":"VLOOKUP(A482,'[1]SD vs SY0.45'!$A$2:$E$20133,5,FALSE)","v":"PLP1"}]
["ENSGALG00000050375",162.537360493744,1.47338568191955,0.258432048190163,5.70124987298551,{"v":1.18932150302613e-08,"d":"1.19E-08"},{"v":1.10227787703173E-7,"d":"1.10E-07"},{"$f":"VLOOKUP(A483,'[1]SD vs SY0.45'!$A$2:$E$20133,5,FALSE)","v":"NA"}]
["ENSGALG00000017926",49.9980152008418,1.47313344107425,0.297885973512681,4.94529307205376,{"v":7.60293941329815e-07,"d":"7.60E-07"},{"v":5.08236476659035e-06,"d":"5.08E-06"},{"$f":"VLOOKUP(A484,'[1]SD vs SY0.45'!$A$2:$E$20133,5,FALSE)","v":"7SK"}]
["ENSGALG00000006702",3567.04354490456,1.47164820783192,0.169007684302239,8.70758163398146,{"v":3.10426642252492E-18,"d":"3.10E-18"},{"v":1.17334522366176e-16,"d":"1.17E-16"},{"$f":"VLOOKUP(A485,'[1]SD vs SY0.45'!$A$2:$E$20133,5,FALSE)","v":"MFGE8"}]
["ENSGALG00000048241",59.5006069693676,1.47142299076765,0.4662819664537,3.1556506505249,1.60140541963743E-3,0.00501618059536169,{"$f":"VLOOKUP(A486,'[1]SD vs SY0.45'!$A$2:$E$20133,5,FALSE)","v":"NA"}]
["ENSGALG00000047395",47464.4458164449,1.47109430614119,0.374029376813808,3.93309830011963,{"v":8.38579237948515e-05,"d":"8.39E-05"},0.000362966821264895,{"$f":"VLOOKUP(A487,'[1]SD vs SY0.45'!$A$2:$E$20133,5,FALSE)","v":"NA"}]
["ENSGALG00000030492",34.5875104083863,1.47074516782591,0.546556102611263,2.69093174662066,0.00712527707910046,0.0187056005698807,{"$f":"VLOOKUP(A488,'[1]SD vs SY0.45'!$A$2:$E$20133,5,FALSE)","v":"ASCL2"}]
["ENSGALG00000017652",134.408004990473,1.46707544337394,0.287011015349702,5.1115649397164,{"v":3.19500954750092e-07,"d":"3.20E-07"},{"v":2.29267977723477e-06,"d":"2.29E-06"},{"$f":"VLOOKUP(A489,'[1]SD vs SY0.45'!$A$2:$E$20133,5,FALSE)","v":"TTC9"}]
["ENSGALG00000008014",1172.69265872885,1.46562088022503,0.207166873142875,7.07459092272079,{"v":1.49890263296834E-12,"d":"1.50E-12"},{"v":2.5966784642431e-11,"d":"2.60E-11"},{"$f":"VLOOKUP(A490,'[1]SD vs SY0.45'!$A$2:$E$20133,5,FALSE)","v":"CEBPB"}]
["ENSGALG00000025764",936.678740045996,1.46452714141116,0.223542571308313,6.55144625401692,{"v":5.69824966068274E-11,"d":"5.70E-11"},{"v":7.59245368419331e-10,"d":"7.59E-10"},{"$f":"VLOOKUP(A491,'[1]SD vs SY0.45'!$A$2:$E$20133,5,FALSE)","v":"FKBP10"}]
["ENSGALG00000034456",2172.06746375872,1.46427078469632,0.240142842619391,6.09749917476028,{"v":1.07740675638353e-09,"d":"1.08E-09"},{"v":1.18039516529556E-8,"d":"1.18E-08"},{"$f":"VLOOKUP(A492,'[1]SD vs SY0.45'!$A$2:$E$20133,5,FALSE)","v":"PRELP"}]
["ENSGALG00000004518",17.7458020099218,1.46400653588394,0.536497201186081,2.72882418146326,0.0063560581918412,0.0169212653164206,{"$f":"VLOOKUP(A493,'[1]SD vs SY0.45'!$A$2:$E$20133,5,FALSE)","v":"BHMT"}]
["ENSGALG00000037549",962.746695223492,1.46399562122423,0.172714901857563,8.47637120757293,{"v":2.32326666260256e-17,"d":"2.32E-17"},{"v":7.70334564494418e-16,"d":"7.70E-16"},{"$f":"VLOOKUP(A494,'[1]SD vs SY0.45'!$A$2:$E$20133,5,FALSE)","v":"EML3"}]
["ENSGALG00000007539",12.8626642928102,1.46398193110939,0.56840652192208,2.57558960822424,0.0100069340058891,0.025234309145815,{"$f":"VLOOKUP(A495,'[1]SD vs SY0.45'!$A$2:$E$20133,5,FALSE)","v":"ANKRD2"}]
["ENSGALG00000005843",637.09332896225,1.46213275164216,0.356720531547029,4.09881860542529,{"v":4.15264318623118e-05,"d":"4.15E-05"},0.0001933535367026,{"$f":"VLOOKUP(A496,'[1]SD vs SY0.45'!$A$2:$E$20133,5,FALSE)","v":"EEF1A2"}]
["ENSGALG00000003301",140.882885756029,1.46194645893981,0.269507031461214,5.42452065541083,{"v":5.81102705301175e-08,"d":"5.81E-08"},{"v":4.77487369426821e-07,"d":"4.77E-07"},{"$f":"VLOOKUP(A497,'[1]SD vs SY0.45'!$A$2:$E$20133,5,FALSE)","v":"FAM167B"}]
["ENSGALG00000026449",154.523970248461,1.46027974056717,0.331025121392511,4.41138646645386,{"v":1.02710805941922e-05,"d":"1.03E-05"},{"v":5.48980259118413e-05,"d":"5.49E-05"},{"$f":"VLOOKUP(A498,'[1]SD vs SY0.45'!$A$2:$E$20133,5,FALSE)","v":"H2A2BL"}]
["ENSGALG00000005553",86.6924540425509,1.45960868756467,0.286273382314965,5.09865316768703,{"v":3.42078673416567E-7,"d":"3.42E-07"},{"v":2.4375909404483e-06,"d":"2.44E-06"},{"$f":"VLOOKUP(A499,'[1]SD vs SY0.45'!$A$2:$E$20133,5,FALSE)","v":"NLGN3"}]
["ENSGALG00000005852",16.6143695462075,1.45960499734385,0.524205862178901,2.78441181729044,0.00536249004454005,0.0146186287871461,{"$f":"VLOOKUP(A500,'[1]SD vs SY0.45'!$A$2:$E$20133,5,FALSE)","v":"SRMS"}]
["ENSGALG00000026948",63.0866136575224,1.45943670084609,0.270669630813312,5.39194846669999,{"v":6.96977584593902E-8,"d":"6.97E-08"},{"v":5.63644151782985e-07,"d":"5.64E-07"},{"$f":"VLOOKUP(A501,'[1]SD vs SY0.45'!$A$2:$E$20133,5,FALSE)","v":"ADD2"}]
["ENSGALG00000004239",382.769141893545,1.45916445165745,0.199525831689077,7.31316060334126,{"v":2.60930830297708e-13,"d":"2.61E-13"},{"v":5.08040800267217e-12,"d":"5.08E-12"},{"$f":"VLOOKUP(A502,'[1]SD vs SY0.45'!$A$2:$E$20133,5,FALSE)","v":"IFITM5"}]
["ENSGALG00000047569",143.006625519957,1.45874699147552,0.409129461126122,3.56548997341902,3.63177047175807E-4,0.00134323746420884,{"$f":"VLOOKUP(A503,'[1]SD vs SY0.45'!$A$2:$E$20133,5,FALSE)","v":"LOC107050990"}]
["ENSGALG00000039474",435.059588521955,1.45848667210553,0.303799446838983,4.80082069694663,{"v":1.58016704265558E-6,"d":"1.58E-06"},{"v":9.93647897672786e-06,"d":"9.94E-06"},{"$f":"VLOOKUP(A504,'[1]SD vs SY0.45'!$A$2:$E$20133,5,FALSE)","v":"ID4"}]
["ENSGALG00000047468",152.018521723141,1.45819955851431,0.193435102784373,7.53844332039256,{"v":4.7561461625195e-14,"d":"4.76E-14"},{"v":1.0521006784698E-12,"d":"1.05E-12"},{"$f":"VLOOKUP(A505,'[1]SD vs SY0.45'!$A$2:$E$20133,5,FALSE)","v":"NA"}]
["ENSGALG00000041981",236.251052487458,1.45811975040278,0.239878880067744,6.07856660824411,{"v":1.2126161078609e-09,"d":"1.21E-09"},{"v":1.32186559670078e-08,"d":"1.32E-08"},{"$f":"VLOOKUP(A506,'[1]SD vs SY0.45'!$A$2:$E$20133,5,FALSE)","v":"PRR7"}]
["ENSGALG00000039628",542.844558591726,1.45752903030303,0.197004398900039,7.39845931583786,{"v":1.37773588396389e-13,"d":"1.38E-13"},{"v":2.81158378104227e-12,"d":"2.81E-12"},{"$f":"VLOOKUP(A507,'[1]SD vs SY0.45'!$A$2:$E$20133,5,FALSE)","v":"AFAP1L1"}]
["ENSGALG00000031255",232.75249631398,1.45696455747097,0.213739023011288,6.81655851582152,{"v":9.3247256172825e-12,"d":"9.32E-12"},{"v":1.41473825748421e-10,"d":"1.41E-10"},{"$f":"VLOOKUP(A508,'[1]SD vs SY0.45'!$A$2:$E$20133,5,FALSE)","v":"FGF1"}]
["ENSGALG00000003829",26.5127761555087,1.45685208418384,0.373830717371204,3.8970903579794,{"v":9.7355302985128E-5,"d":"9.74E-05"},0.000414983244178088,{"$f":"VLOOKUP(A509,'[1]SD vs SY0.45'!$A$2:$E$20133,5,FALSE)","v":"HPCAL4"}]
["ENSGALG00000027822",100.095305594465,1.45655750942364,0.348343470831552,4.1813831215111,{"v":2.89741178354782e-05,"d":"2.90E-05"},1.39820423759495E-4,{"$f":"VLOOKUP(A510,'[1]SD vs SY0.45'!$A$2:$E$20133,5,FALSE)","v":"LOC101747660"}]
["ENSGALG00000043930",187.651049695756,1.45586527584655,0.172496109689033,8.43998904364345,{"v":3.17367411324045e-17,"d":"3.17E-17"},{"v":1.02757303178607e-15,"d":"1.03E-15"},{"$f":"VLOOKUP(A511,'[1]SD vs SY0.45'!$A$2:$E$20133,5,FALSE)","v":"LOC107052490"}]
["ENSGALG00000040070",54.8838285441138,1.45452389380776,0.340950734140154,4.26608230504602,{"v":1.98935415441114e-05,"d":"1.99E-05"},{"v":9.93648396516706E-5,"d":"9.94E-05"},{"$f":"VLOOKUP(A512,'[1]SD vs SY0.45'!$A$2:$E$20133,5,FALSE)","v":"PDIA2"}]
["ENSGALG00000050950",402.385660529393,1.45360435580115,0.371768885493902,3.90996775824854,{"v":9.23084413002165e-05,"d":"9.23E-05"},0.000395799474448055,{"$f":"VLOOKUP(A513,'[1]SD vs SY0.45'!$A$2:$E$20133,5,FALSE)","v":"gga-mir-145"}]
["ENSGALG00000048178",513.171752625679,1.45303793746942,0.207953767201276,6.98731240614189,{"v":2.80201853131751e-12,"d":"2.80E-12"},{"v":4.61351289810772e-11,"d":"4.61E-11"},{"$f":"VLOOKUP(A514,'[1]SD vs SY0.45'!$A$2:$E$20133,5,FALSE)","v":"SLC27A3"}]
["ENSGALG00000035879",751.009950808217,1.45096091578777,0.171153591778471,8.47753705143266,{"v":2.30011124552321e-17,"d":"2.30E-17"},{"v":7.64666046384553e-16,"d":"7.65E-16"},{"$f":"VLOOKUP(A515,'[1]SD vs SY0.45'!$A$2:$E$20133,5,FALSE)","v":"ITGA7"}]
["ENSGALG00000040291",444.021193311229,1.44988243129772,0.18140737430022,7.99241175773949,{"v":1.32324221200284e-15,"d":"1.32E-15"},{"v":3.64038169938186e-14,"d":"3.64E-14"},{"$f":"VLOOKUP(A516,'[1]SD vs SY0.45'!$A$2:$E$20133,5,FALSE)","v":"LOC107056274"}]
["ENSGALG00000015542",7.50738319788839,1.44988101640425,0.564143942448004,2.57005509996747,0.0101682340704079,0.0255521153031048,{"$f":"VLOOKUP(A517,'[1]SD vs SY0.45'!$A$2:$E$20133,5,FALSE)","v":"PLPPR1"}]
["ENSGALG00000007728",288.371289522002,1.44978454665129,0.237380564204273,6.10742733513647,{"v":1.01249883767263e-09,"d":"1.01E-09"},{"v":1.11844455467687E-8,"d":"1.12E-08"},{"$f":"VLOOKUP(A518,'[1]SD vs SY0.45'!$A$2:$E$20133,5,FALSE)","v":"PRODH"}]
["ENSGALG00000007582",1998.33145020881,1.44829069089119,0.213459915320499,6.78483680983692,{"v":1.16217802465684E-11,"d":"1.16E-11"},{"v":1.73896637820211E-10,"d":"1.74E-10"},{"$f":"VLOOKUP(A519,'[1]SD vs SY0.45'!$A$2:$E$20133,5,FALSE)","v":"DPYSL3"}]
["ENSGALG00000037526",70.4053616281156,1.44764430053306,0.24139453957017,5.99700516470155,{"v":2.00989670801968e-09,"d":"2.01E-09"},{"v":2.10899662416042e-08,"d":"2.11E-08"},{"$f":"VLOOKUP(A520,'[1]SD vs SY0.45'!$A$2:$E$20133,5,FALSE)","v":"USHBP1"}]
["ENSGALG00000000466",580.077582488647,1.44716781479796,0.234219255527559,6.17868847519961,{"v":6.46362932434766e-10,"d":"6.46E-10"},{"v":7.37422067338797e-09,"d":"7.37E-09"},{"$f":"VLOOKUP(A521,'[1]SD vs SY0.45'!$A$2:$E$20133,5,FALSE)","v":"LCK"}]
["ENSGALG00000033391",205.911055387116,1.44698014640056,0.237743402318609,6.08631041824415,{"v":1.15542324569394E-9,"d":"1.16E-09"},{"v":1.26268661048903E-8,"d":"1.26E-08"},{"$f":"VLOOKUP(A522,'[1]SD vs SY0.45'!$A$2:$E$20133,5,FALSE)","v":"ISL2"}]
["ENSGALG00000035153",28.8465019907493,1.44668637863047,0.438570866169945,3.2986376666203,0.000971552275586449,0.00322066337762089,{"$f":"VLOOKUP(A523,'[1]SD vs SY0.45'!$A$2:$E$20133,5,FALSE)","v":"STX3"}]
["ENSGALG00000033123",1349.36113079198,1.44646333657908,0.140403343858786,10.3022000532544,{"v":6.8867953244885e-25,"d":"6.89E-25"},{"v":5.18358053276543e-23,"d":"5.18E-23"},{"$f":"VLOOKUP(A524,'[1]SD vs SY0.45'!$A$2:$E$20133,5,FALSE)","v":"NA"}]
["ENSGALG00000050015",129.165784867386,1.44563660127558,0.194817960644405,7.42044828153321,{"v":1.16724581825734e-13,"d":"1.17E-13"},{"v":2.41318704423786e-12,"d":"2.41E-12"},{"$f":"VLOOKUP(A525,'[1]SD vs SY0.45'!$A$2:$E$20133,5,FALSE)","v":"NA"}]
["ENSGALG00000051635",13.1135586868829,1.44524920969221,0.599657546457869,2.41012427547888,0.0159470874229426,0.0377497629710963,{"$f":"VLOOKUP(A526,'[1]SD vs SY0.45'!$A$2:$E$20133,5,FALSE)","v":"NA"}]
["ENSGALG00000010497",63.0689297096283,1.44522570804277,0.33290440381537,4.34126341219654,{"v":1.41665764444523e-05,"d":"1.42E-05"},{"v":7.30686041648447e-05,"d":"7.31E-05"},{"$f":"VLOOKUP(A527,'[1]SD vs SY0.45'!$A$2:$E$20133,5,FALSE)","v":"SLC29A4"}]
["ENSGALG00000047861",244.285151754946,1.44488840809592,0.241155067998476,5.99153241973354,{"v":2.0787287396566e-09,"d":"2.08E-09"},{"v":2.1733527718827e-08,"d":"2.17E-08"},{"$f":"VLOOKUP(A528,'[1]SD vs SY0.45'!$A$2:$E$20133,5,FALSE)","v":"GRASP"}]
["ENSGALG00000042030",110.291329216002,1.44466493365069,0.257263943651303,5.61549711610112,{"v":1.95997925984931e-08,"d":"1.96E-08"},{"v":1.74580734585041e-07,"d":"1.75E-07"},{"$f":"VLOOKUP(A529,'[1]SD vs SY0.45'!$A$2:$E$20133,5,FALSE)","v":"P4HA3"}]
["ENSGALG00000030407",376.552318123306,1.44413322948602,0.294131325867474,4.90982463437675,{"v":9.11578754239466e-07,"d":"9.12E-07"},{"v":5.99003015871564e-06,"d":"5.99E-06"},{"$f":"VLOOKUP(A530,'[1]SD vs SY0.45'!$A$2:$E$20133,5,FALSE)","v":"IL6R"}]
["ENSGALG00000029694",700.282724949372,1.44374583326426,0.221278808229422,6.52455535537495,{"v":6.8203558529818e-11,"d":"6.82E-11"},{"v":8.96338074193458e-10,"d":"8.96E-10"},{"$f":"VLOOKUP(A531,'[1]SD vs SY0.45'!$A$2:$E$20133,5,FALSE)","v":"SNTA1"}]
["ENSGALG00000030344",494.482810297718,1.44326440774639,0.280112019851046,5.15245439490197,{"v":2.57099152610116e-07,"d":"2.57E-07"},{"v":1.88376863313615e-06,"d":"1.88E-06"},{"$f":"VLOOKUP(A532,'[1]SD vs SY0.45'!$A$2:$E$20133,5,FALSE)","v":"ISYNA1"}]
["ENSGALG00000044688",287.030914118449,1.44323528617782,0.318191434120402,4.53574525086591,{"v":5.74004322397706E-6,"d":"5.74E-06"},{"v":3.21838540907092e-05,"d":"3.22E-05"},{"$f":"VLOOKUP(A533,'[1]SD vs SY0.45'!$A$2:$E$20133,5,FALSE)","v":"NA"}]
["ENSGALG00000044151",39.0599115649214,1.44290376569938,0.37825844800068,3.81459759412113,1.36405023013399E-4,0.000560679464570679,{"$f":"VLOOKUP(A534,'[1]SD vs SY0.45'!$A$2:$E$20133,5,FALSE)","v":"MORN5"}]
["ENSGALG00000052061",13.9981832258955,1.44148174816459,0.502058562655296,2.8711426422863,0.00408990924552903,0.0114806671055882,{"$f":"VLOOKUP(A535,'[1]SD vs SY0.45'!$A$2:$E$20133,5,FALSE)","v":"NA"}]
["ENSGALG00000030964",95.2732280352631,1.44126311172698,0.299459496766505,4.81288163270629,{"v":1.48769411700545e-06,"d":"1.49E-06"},{"v":9.38894287200498e-06,"d":"9.39E-06"},{"$f":"VLOOKUP(A536,'[1]SD vs SY0.45'!$A$2:$E$20133,5,FALSE)","v":"LRRC20"}]
["ENSGALG00000026465",329.332127887304,1.43997196888635,0.247082947393565,5.82788890968142,{"v":5.6132922978053e-09,"d":"5.61E-09"},{"v":5.50780548430817E-8,"d":"5.51E-08"},{"$f":"VLOOKUP(A537,'[1]SD vs SY0.45'!$A$2:$E$20133,5,FALSE)","v":"TMEM100"}]
["ENSGALG00000023886",7.75022761179567,1.43922436313839,0.624319345709873,2.30526952757157,0.0211514830536679,0.0481488394676778,{"$f":"VLOOKUP(A538,'[1]SD vs SY0.45'!$A$2:$E$20133,5,FALSE)","v":"ZNF804A"}]
["ENSGALG00000026471",1166.78403862398,1.43876140112435,0.191607972174033,7.50888068382436,{"v":5.96350468760611e-14,"d":"5.96E-14"},{"v":1.30424472960261E-12,"d":"1.30E-12"},{"$f":"VLOOKUP(A539,'[1]SD vs SY0.45'!$A$2:$E$20133,5,FALSE)","v":"CRIP2"}]
["ENSGALG00000035717",13095.413353097,1.43868123526594,0.188473061809174,7.63335206345079,{"v":2.28727140779842E-14,"d":"2.29E-14"},{"v":5.28137954414224e-13,"d":"5.28E-13"},{"$f":"VLOOKUP(A540,'[1]SD vs SY0.45'!$A$2:$E$20133,5,FALSE)","v":"HSPG2"}]
["ENSGALG00000030792",111.288059462001,1.43577742337188,0.342626092667808,4.19050811977691,{"v":2.78330453609747e-05,"d":"2.78E-05"},0.000134837882332479,{"$f":"VLOOKUP(A541,'[1]SD vs SY0.45'!$A$2:$E$20133,5,FALSE)","v":"NA"}]
["ENSGALG00000012710",845.035230466876,1.435564249884,0.309594898358651,4.63691184026219,{"v":3.53653159171279e-06,"d":"3.54E-06"},{"v":2.0745504313465E-5,"d":"2.07E-05"},{"$f":"VLOOKUP(A542,'[1]SD vs SY0.45'!$A$2:$E$20133,5,FALSE)","v":"NCS1"}]
["ENSGALG00000034229",212.524159815311,1.43468923368623,0.180085934226161,7.96669234524707,{"v":1.62977734474015e-15,"d":"1.63E-15"},{"v":4.42073926567816E-14,"d":"4.42E-14"},{"$f":"VLOOKUP(A543,'[1]SD vs SY0.45'!$A$2:$E$20133,5,FALSE)","v":"ZNF703"}]
["ENSGALG00000043047",96.7672077404915,1.43452398699164,0.293898411793925,4.8810198674959,{"v":1.05538607696292E-6,"d":"1.06E-06"},{"v":6.8623776066396e-06,"d":"6.86E-06"},{"$f":"VLOOKUP(A544,'[1]SD vs SY0.45'!$A$2:$E$20133,5,FALSE)","v":"SOBP"}]
["ENSGALG00000047622",174.763201557592,1.43121655801308,0.202486154615233,7.06821935915915,{"v":1.5693434031814E-12,"d":"1.57E-12"},{"v":2.70160136149653E-11,"d":"2.70E-11"},{"$f":"VLOOKUP(A545,'[1]SD vs SY0.45'!$A$2:$E$20133,5,FALSE)","v":"NA"}]
["ENSGALG00000012429",1448.05814502614,1.43089054798077,0.248007433424234,5.76954701810542,{"v":7.94848995043497e-09,"d":"7.95E-09"},{"v":7.60178189044075e-08,"d":"7.60E-08"},{"$f":"VLOOKUP(A546,'[1]SD vs SY0.45'!$A$2:$E$20133,5,FALSE)","v":"BMP4"}]
["ENSGALG00000046487",40.339848785057,1.42864536585273,0.416569573968884,3.42954803981781,0.000604587395939914,0.00210998816804642,{"$f":"VLOOKUP(A547,'[1]SD vs SY0.45'!$A$2:$E$20133,5,FALSE)","v":"NA"}]
["ENSGALG00000040316",2033.76853687192,1.42809685170533,0.25348592232262,5.63383101759687,{"v":1.76249727075026e-08,"d":"1.76E-08"},{"v":1.58124561643626E-7,"d":"1.58E-07"},{"$f":"VLOOKUP(A548,'[1]SD vs SY0.45'!$A$2:$E$20133,5,FALSE)","v":"GPC1"}]
["ENSGALG00000026276",70.1703367317048,1.42781117785691,0.389806983452969,3.66286710722611,0.00024940794614121,0.000961733413075453,{"$f":"VLOOKUP(A549,'[1]SD vs SY0.45'!$A$2:$E$20133,5,FALSE)","v":"TCF15"}]
["ENSGALG00000045212",445.379204312458,1.42749538874579,0.155773477282024,9.16391810501444,{"v":5.00464494738679e-20,"d":"5.00E-20"},{"v":2.3774798278747e-18,"d":"2.38E-18"},{"$f":"VLOOKUP(A550,'[1]SD vs SY0.45'!$A$2:$E$20133,5,FALSE)","v":"PLCD3"}]
["ENSGALG00000033854",680.549846359966,1.42710904371714,0.230626520594167,6.18796589412375,{"v":6.09455097832768e-10,"d":"6.09E-10"},{"v":6.9714445960647e-09,"d":"6.97E-09"},{"$f":"VLOOKUP(A551,'[1]SD vs SY0.45'!$A$2:$E$20133,5,FALSE)","v":"CSF1"}]
["ENSGALG00000054900",15.9831982127673,1.42533942568145,0.441457035634836,3.22871607116136,0.00124347283607344,0.0040104363199423,{"$f":"VLOOKUP(A552,'[1]SD vs SY0.45'!$A$2:$E$20133,5,FALSE)","v":"NA"}]
["ENSGALG00000055075",493.441705577559,1.425264445544,0.244603273689755,5.82684125214018,{"v":5.64862966120168e-09,"d":"5.65E-09"},{"v":5.53935273092575e-08,"d":"5.54E-08"},{"$f":"VLOOKUP(A553,'[1]SD vs SY0.45'!$A$2:$E$20133,5,FALSE)","v":"FMNL3"}]
["ENSGALG00000048338",12.7324874163932,1.42255470098295,0.48207151304979,2.95092048062178,0.00316828473578529,0.00919188498266291,{"$f":"VLOOKUP(A554,'[1]SD vs SY0.45'!$A$2:$E$20133,5,FALSE)","v":"NA"}]
["ENSGALG00000043576",548.396917114062,1.42172144058085,0.187680513800656,7.57522137908751,{"v":3.58515750639529e-14,"d":"3.59E-14"},{"v":8.02253971218724e-13,"d":"8.02E-13"},{"$f":"VLOOKUP(A555,'[1]SD vs SY0.45'!$A$2:$E$20133,5,FALSE)","v":"AGAP3"}]
["ENSGALG00000039008",1045.73506549695,1.42146303056816,0.270512609943495,5.25470154927371,{"v":1.48264701120958e-07,"d":"1.48E-07"},{"v":1.13363164397102e-06,"d":"1.13E-06"},{"$f":"VLOOKUP(A556,'[1]SD vs SY0.45'!$A$2:$E$20133,5,FALSE)","v":"LOC776594"}]
["ENSGALG00000047455",150.256299215202,1.42132445888538,0.263127351895188,5.40165987552499,{"v":6.60270545053608e-08,"d":"6.60E-08"},{"v":5.36705187790888e-07,"d":"5.37E-07"},{"$f":"VLOOKUP(A557,'[1]SD vs SY0.45'!$A$2:$E$20133,5,FALSE)","v":"NA"}]
["ENSGALG00000046085",205.032415290249,1.42044243095099,0.284852223366222,4.98659415104789,{"v":6.14529660968117e-07,"d":"6.15E-07"},{"v":4.17376063095807e-06,"d":"4.17E-06"},{"$f":"VLOOKUP(A558,'[1]SD vs SY0.45'!$A$2:$E$20133,5,FALSE)","v":"FAM110D"}]
["ENSGALG00000049557",161.648208604324,1.41996280817712,0.243104060072607,5.84096706469249,{"v":5.18986651537384E-9,"d":"5.19E-09"},{"v":5.12414588885889e-08,"d":"5.12E-08"},{"$f":"VLOOKUP(A559,'[1]SD vs SY0.45'!$A$2:$E$20133,5,FALSE)","v":"TSFM"}]
["ENSGALG00000047060",262.800140832747,1.41982260128939,0.163780575110946,8.66905370388151,{"v":4.35726426701028e-18,"d":"4.36E-18"},{"v":1.61879815834418e-16,"d":"1.62E-16"},{"$f":"VLOOKUP(A560,'[1]SD vs SY0.45'!$A$2:$E$20133,5,FALSE)","v":"SCN1B"}]
["ENSGALG00000027630",714.403043839808,1.41981394227348,0.169049159506815,8.39882284192159,{"v":4.50976586892311e-17,"d":"4.51E-17"},{"v":1.44670293658609e-15,"d":"1.45E-15"},{"$f":"VLOOKUP(A561,'[1]SD vs SY0.45'!$A$2:$E$20133,5,FALSE)","v":"NPR2"}]
["ENSGALG00000015084",10.7773188562891,1.41909277507367,0.555557062692868,2.55436006554416,0.0106383181529285,0.0266179936285749,{"$f":"VLOOKUP(A562,'[1]SD vs SY0.45'!$A$2:$E$20133,5,FALSE)","v":"IGSF11"}]
["ENSGALG00000025163",12.7430507175755,1.41870773772577,0.528220822611054,2.68582319552066,0.00723513630771326,0.0189453787623811,{"$f":"VLOOKUP(A563,'[1]SD vs SY0.45'!$A$2:$E$20133,5,FALSE)","v":"gga-mir-1627"}]
["ENSGALG00000034458",22.9296555968972,1.4184566143835,0.457659095280842,3.09937381122747,0.00193930169054605,5.95314945154027E-3,{"$f":"VLOOKUP(A564,'[1]SD vs SY0.45'!$A$2:$E$20133,5,FALSE)","v":"S100A1"}]
["ENSGALG00000049965",372.702614701501,1.41779039090558,0.26410163427703,5.36835144843665,{"v":7.94595998447726E-8,"d":"7.95E-08"},{"v":6.35786499080102e-07,"d":"6.36E-07"},{"$f":"VLOOKUP(A565,'[1]SD vs SY0.45'!$A$2:$E$20133,5,FALSE)","v":"NA"}]
["ENSGALG00000051412",247.508215617109,1.41738825446228,0.24045701956376,5.89455968901937,{"v":3.75681782438691e-09,"d":"3.76E-09"},{"v":3.78885101581295e-08,"d":"3.79E-08"},{"$f":"VLOOKUP(A566,'[1]SD vs SY0.45'!$A$2:$E$20133,5,FALSE)","v":"PEA15"}]
["ENSGALG00000008661",975.266573578561,1.41716980635067,0.324504401189503,4.36718208183277,{"v":1.25859800665855E-5,"d":"1.26E-05"},{"v":6.56366033046559E-5,"d":"6.56E-05"},{"$f":"VLOOKUP(A567,'[1]SD vs SY0.45'!$A$2:$E$20133,5,FALSE)","v":"CYR61,CYR61"}]
["ENSGALG00000045540",535.471659772404,1.4163907726883,0.389265226613847,3.63862650925499,2.74095974205428E-4,1.04671792301994E-3,{"$f":"VLOOKUP(A568,'[1]SD vs SY0.45'!$A$2:$E$20133,5,FALSE)","v":"CLC2DL5"}]
["ENSGALG00000003123",571.646601665833,1.41465677780978,0.293145193333901,4.8257887558076,{"v":1.39450257570236E-6,"d":"1.39E-06"},{"v":8.86516134688736e-06,"d":"8.87E-06"},{"$f":"VLOOKUP(A569,'[1]SD vs SY0.45'!$A$2:$E$20133,5,FALSE)","v":"CNTNAP1"}]
["ENSGALG00000030087",14.2393768075222,1.41444959204416,0.530639020474379,2.6655589533911,7.68604542529962E-3,0.0199936073922329,{"$f":"VLOOKUP(A570,'[1]SD vs SY0.45'!$A$2:$E$20133,5,FALSE)","v":"ACTL6B"}]
["ENSGALG00000010490",30.0791475598231,1.41427895528465,0.366149661328789,3.86257070442756,1.12200076924053E-4,4.71213221613167E-4,{"$f":"VLOOKUP(A571,'[1]SD vs SY0.45'!$A$2:$E$20133,5,FALSE)","v":"DPYSL4"}]
["ENSGALG00000002667",1073.22385075456,1.4139976246231,0.234485633209631,6.03021006135153,{"v":1.63746697533925e-09,"d":"1.64E-09"},{"v":1.75636263419022E-8,"d":"1.76E-08"},{"$f":"VLOOKUP(A572,'[1]SD vs SY0.45'!$A$2:$E$20133,5,FALSE)","v":"OLFML2B"}]
["ENSGALG00000031548",18.8716460349328,1.41249867163344,0.445950460552727,3.16738919807986,1.53814312162359E-3,0.00484399464873564,{"$f":"VLOOKUP(A573,'[1]SD vs SY0.45'!$A$2:$E$20133,5,FALSE)","v":"NA"}]
["ENSGALG00000049395",103.850515280535,1.41216311616306,0.293237278063636,4.81576941884108,{"v":1.46633770671066E-6,"d":"1.47E-06"},{"v":9.26761675993391e-06,"d":"9.27E-06"},{"$f":"VLOOKUP(A574,'[1]SD vs SY0.45'!$A$2:$E$20133,5,FALSE)","v":"ARHGDIG"}]
["ENSGALG00000000209",1827.52780403554,1.40982413300474,0.208107118662301,6.77451180943254,{"v":1.24827038629287e-11,"d":"1.25E-11"},{"v":1.85501514585248E-10,"d":"1.86E-10"},{"$f":"VLOOKUP(A575,'[1]SD vs SY0.45'!$A$2:$E$20133,5,FALSE)","v":"PRNP"}]
["ENSGALG00000036731",556.544205894714,1.40899315763154,0.172893913075922,8.14946652871935,{"v":3.65533187057679E-16,"d":"3.66E-16"},{"v":1.07538502933534E-14,"d":"1.08E-14"},{"$f":"VLOOKUP(A576,'[1]SD vs SY0.45'!$A$2:$E$20133,5,FALSE)","v":"GAS2L1"}]
["ENSGALG00000041140",4713.20044572632,1.4085794122511,0.233907283137635,6.02195619288291,{"v":1.72321540659954e-09,"d":"1.72E-09"},{"v":1.83587906094033e-08,"d":"1.84E-08"},{"$f":"VLOOKUP(A577,'[1]SD vs SY0.45'!$A$2:$E$20133,5,FALSE)","v":"HTRA1"}]
["ENSGALG00000053954",56.076056496622,1.40779616375001,0.294382984710017,4.7821927110929,{"v":1.73393327593932e-06,"d":"1.73E-06"},{"v":1.07940916107257e-05,"d":"1.08E-05"},{"$f":"VLOOKUP(A578,'[1]SD vs SY0.45'!$A$2:$E$20133,5,FALSE)","v":"NA"}]
["ENSGALG00000003142",50.3614820322695,1.40754226384598,0.261833927917065,5.37570617774108,{"v":7.62831036683518e-08,"d":"7.63E-08"},{"v":6.13192012705332E-7,"d":"6.13E-07"},{"$f":"VLOOKUP(A579,'[1]SD vs SY0.45'!$A$2:$E$20133,5,FALSE)","v":"PRLHRL"}]
["ENSGALG00000049996",74.1899053458719,1.4052669048349,0.315042896777654,4.46055733745581,{"v":8.17467838664786e-06,"d":"8.17E-06"},{"v":4.46117806367377e-05,"d":"4.46E-05"},{"$f":"VLOOKUP(A580,'[1]SD vs SY0.45'!$A$2:$E$20133,5,FALSE)","v":"OVOL1"}]
["ENSGALG00000026119",225.19213383624,1.40489881011098,0.288856662191122,4.8636538255829596,{"v":1.15238389065156E-6,"d":"1.15E-06"},{"v":7.44574459559969e-06,"d":"7.45E-06"},{"$f":"VLOOKUP(A581,'[1]SD vs SY0.45'!$A$2:$E$20133,5,FALSE)","v":"MN1"}]
["ENSGALG00000033653",27.7750708992242,1.40446370925376,0.351338375097319,3.99746742400324,{"v":6.40237985112996e-05,"d":"6.40E-05"},0.000284684231889967,{"$f":"VLOOKUP(A582,'[1]SD vs SY0.45'!$A$2:$E$20133,5,FALSE)","v":"HCN3"}]
["ENSGALG00000025937",3977.15162529035,1.40357774577447,0.21642912539504,6.48516110395299,{"v":8.86370211866295e-11,"d":"8.86E-11"},{"v":1.14924078103798E-9,"d":"1.15E-09"},{"$f":"VLOOKUP(A583,'[1]SD vs SY0.45'!$A$2:$E$20133,5,FALSE)","v":"FXYD6"}]
["ENSGALG00000032385",60.3804124540165,1.40313042129062,0.274517144460715,5.11126699954222,{"v":3.20005332453804e-07,"d":"3.20E-07"},{"v":2.29535178026992e-06,"d":"2.30E-06"},{"$f":"VLOOKUP(A584,'[1]SD vs SY0.45'!$A$2:$E$20133,5,FALSE)","v":"PFKFB4"}]
["ENSGALG00000050875",218.315440950267,1.40306931352767,0.333331938247972,4.2092255572699,{"v":2.56247483330216e-05,"d":"2.56E-05"},0.000125115838041631,{"$f":"VLOOKUP(A585,'[1]SD vs SY0.45'!$A$2:$E$20133,5,FALSE)","v":"ITGB7"}]
["ENSGALG00000051505",296.463275931337,1.40227995827087,0.294924115945517,4.7547144585827,{"v":1.98727089434217e-06,"d":"1.99E-06"},{"v":1.22180618953067e-05,"d":"1.22E-05"},{"$f":"VLOOKUP(A586,'[1]SD vs SY0.45'!$A$2:$E$20133,5,FALSE)","v":"ZNF503"}]
["ENSGALG00000047805",19.175410475738,1.40106802896304,0.423702768838815,3.30672379791795,9.4393914742407E-4,3.14290883880933E-3,{"$f":"VLOOKUP(A587,'[1]SD vs SY0.45'!$A$2:$E$20133,5,FALSE)","v":"NA"}]
["ENSGALG00000041643",1273.61249514133,1.40001638281877,0.125364894802605,11.1675312696045,{"v":5.87922409381214e-29,"d":"5.88E-29"},{"v":6.51095982924279e-27,"d":"6.51E-27"},{"$f":"VLOOKUP(A588,'[1]SD vs SY0.45'!$A$2:$E$20133,5,FALSE)","v":"NFIC,NFIC"}]
["ENSGALG00000039156",658.871929814293,1.39968460841825,0.191521215707959,7.30824834859317,{"v":2.7064723417088e-13,"d":"2.71E-13"},{"v":5.25194582648336e-12,"d":"5.25E-12"},{"$f":"VLOOKUP(A589,'[1]SD vs SY0.45'!$A$2:$E$20133,5,FALSE)","v":"NA"}]
["ENSGALG00000040340",326.741863333466,1.39966349692439,0.276604135443044,5.06016836907558,{"v":4.18886423013774e-07,"d":"4.19E-07"},{"v":2.93085643337645e-06,"d":"2.93E-06"},{"$f":"VLOOKUP(A590,'[1]SD vs SY0.45'!$A$2:$E$20133,5,FALSE)","v":"PCYOX1L"}]
["ENSGALG00000012821",229.334603078093,1.39788805679324,0.229847965216218,6.0817943525332,{"v":1.18844939241079e-09,"d":"1.19E-09"},{"v":1.29796291368382e-08,"d":"1.30E-08"},{"$f":"VLOOKUP(A591,'[1]SD vs SY0.45'!$A$2:$E$20133,5,FALSE)","v":"TUBB2B"}]
["ENSGALG00000051456",79.0087421567451,1.39776136706895,0.255203135688372,5.47705404676436,{"v":4.32465159725272e-08,"d":"4.32E-08"},{"v":3.62724154951438e-07,"d":"3.63E-07"},{"$f":"VLOOKUP(A592,'[1]SD vs SY0.45'!$A$2:$E$20133,5,FALSE)","v":"RTN2"}]
["ENSGALG00000047270",45.8249530102635,1.3974046374703,0.448304355278263,3.11708914048566,1.82646336481431E-3,0.00563662025630571,{"$f":"VLOOKUP(A593,'[1]SD vs SY0.45'!$A$2:$E$20133,5,FALSE)","v":"NA"}]
["ENSGALG00000043690",110.544516480756,1.39631758693609,0.351287141097728,3.97486108535819,{"v":7.04203470524752e-05,"d":"7.04E-05"},3.10052816966672E-4,{"$f":"VLOOKUP(A594,'[1]SD vs SY0.45'!$A$2:$E$20133,5,FALSE)","v":"ECRG4"}]
["ENSGALG00000004514",26.1696023921597,1.39432538588788,0.371948447975728,3.74870601954729,1.77749291501747E-4,0.000709813259380082,{"$f":"VLOOKUP(A595,'[1]SD vs SY0.45'!$A$2:$E$20133,5,FALSE)","v":"PDE6G"}]
["ENSGALG00000002544",145.061530408949,1.39422459785548,0.300578640131054,4.63846864583456,{"v":3.51000170513435E-6,"d":"3.51E-06"},{"v":2.06177025835037e-05,"d":"2.06E-05"},{"$f":"VLOOKUP(A596,'[1]SD vs SY0.45'!$A$2:$E$20133,5,FALSE)","v":"PCDH12"}]
["ENSGALG00000027482",445.053528570188,1.39398509459504,0.204475058296624,6.81738450746808,{"v":9.27128825647145e-12,"d":"9.27E-12"},{"v":1.40908993807053E-10,"d":"1.41E-10"},{"$f":"VLOOKUP(A597,'[1]SD vs SY0.45'!$A$2:$E$20133,5,FALSE)","v":"SNTB2"}]
["ENSGALG00000033867",815.044839956955,1.39217625717127,0.259827463955609,5.35807968863954,{"v":8.41111428961508e-08,"d":"8.41E-08"},{"v":6.71152107175481e-07,"d":"6.71E-07"},{"$f":"VLOOKUP(A598,'[1]SD vs SY0.45'!$A$2:$E$20133,5,FALSE)","v":"PCOLCE"}]
["ENSGALG00000054978",211.061686234775,1.39214871383738,0.210375607247339,6.61744359078964,{"v":3.65463600595901e-11,"d":"3.65E-11"},{"v":5.01012826254368e-10,"d":"5.01E-10"},{"$f":"VLOOKUP(A599,'[1]SD vs SY0.45'!$A$2:$E$20133,5,FALSE)","v":"LOC101748032"}]
["ENSGALG00000033522",1200.40628401634,1.39111866904341,0.207905489413161,6.69111081660238,{"v":2.21482855229794e-11,"d":"2.21E-11"},{"v":3.16167685047655e-10,"d":"3.16E-10"},{"$f":"VLOOKUP(A600,'[1]SD vs SY0.45'!$A$2:$E$20133,5,FALSE)","v":"AOC3"}]
["ENSGALG00000036114",1319.10371302818,1.39083907307104,0.158346968175805,8.78349038882044,{"v":1.58478433067103e-18,"d":"1.58E-18"},{"v":6.15059043691455e-17,"d":"6.15E-17"},{"$f":"VLOOKUP(A601,'[1]SD vs SY0.45'!$A$2:$E$20133,5,FALSE)","v":"SMO"}]
["ENSGALG00000037082",245.512401947223,1.39021040953987,0.337117889983108,4.12381084139299,{"v":3.72654969563582e-05,"d":"3.73E-05"},0.000175164962308786,{"$f":"VLOOKUP(A602,'[1]SD vs SY0.45'!$A$2:$E$20133,5,FALSE)","v":"ASCL1"}]
["ENSGALG00000054344",43.191431903841,1.38972524454696,0.393880872633892,3.52828822393387,0.000418256471883133,1.52102815025151E-3,{"$f":"VLOOKUP(A603,'[1]SD vs SY0.45'!$A$2:$E$20133,5,FALSE)","v":"NA"}]
["ENSGALG00000052930",600.718748392716,1.3895744494799,0.157016308712332,8.84987337223501,{"v":8.76186527854418e-19,"d":"8.76E-19"},{"v":3.5346299674721E-17,"d":"3.53E-17"},{"$f":"VLOOKUP(A604,'[1]SD vs SY0.45'!$A$2:$E$20133,5,FALSE)","v":"PABPN1"}]
["ENSGALG00000028236",85.8749155931834,1.38948223755309,0.288334766382284,4.81898958972873,{"v":1.44287081451959e-06,"d":"1.44E-06"},{"v":9.13923309728674e-06,"d":"9.14E-06"},{"$f":"VLOOKUP(A605,'[1]SD vs SY0.45'!$A$2:$E$20133,5,FALSE)","v":"PRRX2"}]
["ENSGALG00000046739",66.7011760825799,1.38938690462755,0.266010947845577,5.2230440734872,{"v":1.76005477109548e-07,"d":"1.76E-07"},{"v":1.32994664515589e-06,"d":"1.33E-06"},{"$f":"VLOOKUP(A606,'[1]SD vs SY0.45'!$A$2:$E$20133,5,FALSE)","v":"LOC112533545"}]
["ENSGALG00000003360",53.9051212216021,1.38896791946867,0.29301614844502,4.74024359012175,{"v":2.13461432708862e-06,"d":"2.13E-06"},{"v":1.30593030630154e-05,"d":"1.31E-05"},{"$f":"VLOOKUP(A607,'[1]SD vs SY0.45'!$A$2:$E$20133,5,FALSE)","v":"ARL10"}]
["ENSGALG00000050491",50.0444401546682,1.38896129387762,0.243839419196135,5.6962130998204,{"v":1.22497752375753E-8,"d":"1.22E-08"},{"v":1.13110378149614E-7,"d":"1.13E-07"},{"$f":"VLOOKUP(A608,'[1]SD vs SY0.45'!$A$2:$E$20133,5,FALSE)","v":"SLC35E4"}]
["ENSGALG00000032108",10.0508782640178,1.38887020123823,0.555835801658146,2.49870590756301,0.0124647705857938,0.0305117508341823,{"$f":"VLOOKUP(A609,'[1]SD vs SY0.45'!$A$2:$E$20133,5,FALSE)","v":"TMEM136-1"}]
["ENSGALG00000006944",11.2457065270568,1.38818037095272,0.50393635081746,2.75467401528166,0.00587506386313048,0.0158224497193695,{"$f":"VLOOKUP(A610,'[1]SD vs SY0.45'!$A$2:$E$20133,5,FALSE)","v":"LOC395991"}]
["ENSGALG00000001171",122.337144975466,1.38763459871224,0.240331803957114,5.7738284149852,{"v":7.7490348910556e-09,"d":"7.75E-09"},{"v":7.43556675776952e-08,"d":"7.44E-08"},{"$f":"VLOOKUP(A611,'[1]SD vs SY0.45'!$A$2:$E$20133,5,FALSE)","v":"SEMA6B"}]
["ENSGALG00000008609",2377.61250508181,1.38756441213031,0.173629539765106,7.99152272134958,{"v":1.33282146700544E-15,"d":"1.33E-15"},{"v":3.66094262982996e-14,"d":"3.66E-14"},{"$f":"VLOOKUP(A612,'[1]SD vs SY0.45'!$A$2:$E$20133,5,FALSE)","v":"PTK7"}]
["ENSGALG00000055081",791.898119852237,1.38519122409621,0.170744281238946,8.11266540844035,{"v":4.95212929697859e-16,"d":"4.95E-16"},{"v":1.43265677348697E-14,"d":"1.43E-14"},{"$f":"VLOOKUP(A613,'[1]SD vs SY0.45'!$A$2:$E$20133,5,FALSE)","v":"SEMA4C"}]
["ENSGALG00000023396",259.191063210894,1.38473653295138,0.282287854223342,4.90540599687226,{"v":9.32342850077868e-07,"d":"9.32E-07"},{"v":6.1172245789826e-06,"d":"6.12E-06"},{"$f":"VLOOKUP(A614,'[1]SD vs SY0.45'!$A$2:$E$20133,5,FALSE)","v":"ASPHD2"}]
["ENSGALG00000004465",1312.75291690419,1.38416661437843,0.206286977811229,6.70990786265269,{"v":1.94747342128967E-11,"d":"1.95E-11"},{"v":2.79609581965016e-10,"d":"2.80E-10"},{"$f":"VLOOKUP(A615,'[1]SD vs SY0.45'!$A$2:$E$20133,5,FALSE)","v":"PALD1"}]
["ENSGALG00000054723",541.991596022894,1.38361384492845,0.276273591279855,5.00812921900631,{"v":5.49616319665316e-07,"d":"5.50E-07"},{"v":3.76375697125673e-06,"d":"3.76E-06"},{"$f":"VLOOKUP(A616,'[1]SD vs SY0.45'!$A$2:$E$20133,5,FALSE)","v":"AMOTL2"}]
["ENSGALG00000047532",69.9047922067773,1.38263997258331,0.216263584131998,6.39330924867782,{"v":1.62333475606852E-10,"d":"1.62E-10"},{"v":2.02184250743291e-09,"d":"2.02E-09"},{"$f":"VLOOKUP(A617,'[1]SD vs SY0.45'!$A$2:$E$20133,5,FALSE)","v":"LOC112530289"}]
["ENSGALG00000035635",1691.85054125027,1.38172204727857,0.275149098655526,5.02172114693502,{"v":5.1210495764754e-07,"d":"5.12E-07"},{"v":3.52772143368375e-06,"d":"3.53E-06"},{"$f":"VLOOKUP(A618,'[1]SD vs SY0.45'!$A$2:$E$20133,5,FALSE)","v":"ACVRL1"}]
["ENSGALG00000006202",16.7819875983221,1.38161193721038,0.397840447316638,3.47277896586207,0.000515099383681246,1.82627100001342E-3,{"$f":"VLOOKUP(A619,'[1]SD vs SY0.45'!$A$2:$E$20133,5,FALSE)","v":"SCNN1B"}]
["ENSGALG00000003345",164.993984177253,1.38121765428896,0.196125141587168,7.04253235006626,{"v":1.88776986482124e-12,"d":"1.89E-12"},{"v":3.19286523731974E-11,"d":"3.19E-11"},{"$f":"VLOOKUP(A620,'[1]SD vs SY0.45'!$A$2:$E$20133,5,FALSE)","v":"PIBPPDD4L"}]
["ENSGALG00000042297",1548.74912061116,1.38119363953202,0.177038103885232,7.80167438094229,{"v":6.10911135463657e-15,"d":"6.11E-15"},{"v":1.53495836883043e-13,"d":"1.53E-13"},{"$f":"VLOOKUP(A621,'[1]SD vs SY0.45'!$A$2:$E$20133,5,FALSE)","v":"ANKRD13D,ANKRD13D"}]
["ENSGALG00000003114",44.0551202842959,1.3805652932883,0.355191825133173,3.88681606838975,1.01567653722805E-4,0.000431036562186576,{"$f":"VLOOKUP(A622,'[1]SD vs SY0.45'!$A$2:$E$20133,5,FALSE)","v":"NOG"}]
["ENSGALG00000029276",889.07468578106,1.37924174366962,0.178035955497117,7.74698425280704,{"v":9.41006207166744e-15,"d":"9.41E-15"},{"v":2.29793187134946e-13,"d":"2.30E-13"},{"$f":"VLOOKUP(A623,'[1]SD vs SY0.45'!$A$2:$E$20133,5,FALSE)","v":"PPP1R9B"}]
["ENSGALG00000051812",35.8270254682581,1.37845699984451,0.352198508246633,3.91386382272585,{"v":9.08308735380883e-05,"d":"9.08E-05"},3.89944789680677E-4,{"$f":"VLOOKUP(A624,'[1]SD vs SY0.45'!$A$2:$E$20133,5,FALSE)","v":"NA"}]
["ENSGALG00000035419",893.207831301908,1.37741892145095,0.225711365506498,6.10256784526562,{"v":1.04377780345752e-09,"d":"1.04E-09"},{"v":1.14861801700734E-8,"d":"1.15E-08"},{"$f":"VLOOKUP(A625,'[1]SD vs SY0.45'!$A$2:$E$20133,5,FALSE)","v":"CDON"}]
["ENSGALG00000054154",231.001048724307,1.37721023796338,0.227013682857239,6.06663977531897,{"v":1.3061405750067e-09,"d":"1.31E-09"},{"v":1.41582706843151e-08,"d":"1.42E-08"},{"$f":"VLOOKUP(A626,'[1]SD vs SY0.45'!$A$2:$E$20133,5,FALSE)","v":"NA"}]
["ENSGALG00000051443",114.986943969591,1.37673770429268,0.253920355622391,5.42192728471144,{"v":5.89598672496246E-8,"d":"5.90E-08"},{"v":4.84010959333911e-07,"d":"4.84E-07"},{"$f":"VLOOKUP(A627,'[1]SD vs SY0.45'!$A$2:$E$20133,5,FALSE)","v":"C1orf216"}]
["ENSGALG00000050075",169.186296870012,1.37632785059809,0.196392357304523,7.00805199086225,{"v":2.41659015557741e-12,"d":"2.42E-12"},{"v":4.02849981160348e-11,"d":"4.03E-11"},{"$f":"VLOOKUP(A628,'[1]SD vs SY0.45'!$A$2:$E$20133,5,FALSE)","v":"TMEM35A"}]
["ENSGALG00000001626",8.78077429481459,1.37475662397808,0.474406657430147,2.89784429127769,3.75737081983435E-3,0.01067997489692,{"$f":"VLOOKUP(A629,'[1]SD vs SY0.45'!$A$2:$E$20133,5,FALSE)","v":"UTS2R"}]
["ENSGALG00000050634",131.066960834266,1.37390635101536,0.255130209173671,5.38511827143185,{"v":7.23970275526048e-08,"d":"7.24E-08"},{"v":5.84349769137152e-07,"d":"5.84E-07"},{"$f":"VLOOKUP(A630,'[1]SD vs SY0.45'!$A$2:$E$20133,5,FALSE)","v":"LOC112530469"}]
["ENSGALG00000030587",2456.58561170763,1.37333326697138,0.197810837626699,6.94265937826462,{"v":3.84786441720026e-12,"d":"3.85E-12"},{"v":6.24093457293479e-11,"d":"6.24E-11"},{"$f":"VLOOKUP(A631,'[1]SD vs SY0.45'!$A$2:$E$20133,5,FALSE)","v":"SPTBB4L"}]
["ENSGALG00000053244",93.1086943832063,1.37248879712249,0.201251392096863,6.81977293584088,{"v":9.11845182871149e-12,"d":"9.12E-12"},{"v":1.3907238767176E-10,"d":"1.39E-10"},{"$f":"VLOOKUP(A632,'[1]SD vs SY0.45'!$A$2:$E$20133,5,FALSE)","v":"LOC101751955"}]
["ENSGALG00000051156",532.815705398106,1.3720602998743,0.174247623950761,7.87419804508794,{"v":3.42935361316892e-15,"d":"3.43E-15"},{"v":8.87294215359642e-14,"d":"8.87E-14"},{"$f":"VLOOKUP(A633,'[1]SD vs SY0.45'!$A$2:$E$20133,5,FALSE)","v":"NA"}]
["ENSGALG00000044654",196.576095549727,1.37164693208266,0.21073614545693,6.50883563001772,{"v":7.57355361814741e-11,"d":"7.57E-11"},{"v":9.89341673619302e-10,"d":"9.89E-10"},{"$f":"VLOOKUP(A634,'[1]SD vs SY0.45'!$A$2:$E$20133,5,FALSE)","v":"C22orf39"}]
["ENSGALG00000048093",132.861377310989,1.3716352350137,0.256608726394218,5.34524002471573,{"v":9.02973154713383e-08,"d":"9.03E-08"},{"v":7.18864205174065e-07,"d":"7.19E-07"},{"$f":"VLOOKUP(A635,'[1]SD vs SY0.45'!$A$2:$E$20133,5,FALSE)","v":"NA"}]
["ENSGALG00000005649",327.705822075649,1.37139828150314,0.268821923525078,5.10151204752914,{"v":3.36950567853438E-7,"d":"3.37E-07"},{"v":2.40499159411648e-06,"d":"2.40E-06"},{"$f":"VLOOKUP(A636,'[1]SD vs SY0.45'!$A$2:$E$20133,5,FALSE)","v":"TMEM150A"}]
["ENSGALG00000000684",246.483902502885,1.37077394230191,0.202492937679033,6.76949012648871,{"v":1.29237032424117E-11,"d":"1.29E-11"},{"v":1.91237811298563E-10,"d":"1.91E-10"},{"$f":"VLOOKUP(A637,'[1]SD vs SY0.45'!$A$2:$E$20133,5,FALSE)","v":"KLHDC8A"}]
["ENSGALG00000035202",154.582190555561,1.37071060154341,0.200056307456515,6.85162402010923,{"v":7.30162566098074E-12,"d":"7.30E-12"},{"v":1.13250102914783E-10,"d":"1.13E-10"},{"$f":"VLOOKUP(A638,'[1]SD vs SY0.45'!$A$2:$E$20133,5,FALSE)","v":"AP3B2"}]
["ENSGALG00000001640",158.531196154496,1.37042750147188,0.296262433927153,4.62572147033955,{"v":3.73296677061063e-06,"d":"3.73E-06"},{"v":2.18315147126159e-05,"d":"2.18E-05"},{"$f":"VLOOKUP(A639,'[1]SD vs SY0.45'!$A$2:$E$20133,5,FALSE)","v":"RNF122"}]
["ENSGALG00000046861",363.568839778155,1.36868339286679,0.270023129081714,5.06876354452067,{"v":4.00408282946909e-07,"d":"4.00E-07"},{"v":2.80948297643176e-06,"d":"2.81E-06"},{"$f":"VLOOKUP(A640,'[1]SD vs SY0.45'!$A$2:$E$20133,5,FALSE)","v":"NA"}]
["ENSGALG00000039786",1001.34687874491,1.36826046985195,0.207590292500644,6.5911582539328,{"v":4.36408393597366E-11,"d":"4.36E-11"},{"v":5.90492820192794e-10,"d":"5.90E-10"},{"$f":"VLOOKUP(A641,'[1]SD vs SY0.45'!$A$2:$E$20133,5,FALSE)","v":"FGFR1"}]
["ENSGALG00000051119",14.3493229400755,1.36692295311072,0.531109690232241,2.57371119045671,0.0100614221001533,0.0253312982993579,{"$f":"VLOOKUP(A642,'[1]SD vs SY0.45'!$A$2:$E$20133,5,FALSE)","v":"PCP4L1"}]
["ENSGALG00000042275",196.84595464911,1.36682317286778,0.263787279094112,5.18153558261669,{"v":2.20066595990842e-07,"d":"2.20E-07"},{"v":1.63237965208736e-06,"d":"1.63E-06"},{"$f":"VLOOKUP(A643,'[1]SD vs SY0.45'!$A$2:$E$20133,5,FALSE)","v":"TLE1L"}]
["ENSGALG00000001727",34.4273736909809,1.36654552346093,0.374423628568107,3.64973099771227,0.000262515076198699,0.00100669378691371,{"$f":"VLOOKUP(A644,'[1]SD vs SY0.45'!$A$2:$E$20133,5,FALSE)","v":"LZTS1"}]
["ENSGALG00000041298",2049.7766126754,1.3660476417096,0.274311764209977,4.97990906676512,{"v":6.36141561277159e-07,"d":"6.36E-07"},{"v":4.3138039492691e-06,"d":"4.31E-06"},{"$f":"VLOOKUP(A645,'[1]SD vs SY0.45'!$A$2:$E$20133,5,FALSE)","v":"ITGAD"}]
["ENSGALG00000043234",497.317989735716,1.36507520844903,0.573241493173583,2.3813265869707,0.0172504106852964,0.0403623860295045,{"$f":"VLOOKUP(A646,'[1]SD vs SY0.45'!$A$2:$E$20133,5,FALSE)","v":"HBA1"}]
["ENSGALG00000039322",540.15402766374,1.36321991734784,0.200972719871013,6.7831092609125,{"v":1.17616615019274E-11,"d":"1.18E-11"},{"v":1.75593356998884e-10,"d":"1.76E-10"},{"$f":"VLOOKUP(A647,'[1]SD vs SY0.45'!$A$2:$E$20133,5,FALSE)","v":"DDR2"}]
["ENSGALG00000037888",296.879172590504,1.3631007557478,0.19725099260677,6.91048870139381,{"v":4.82986908594866e-12,"d":"4.83E-12"},{"v":7.72286424017489e-11,"d":"7.72E-11"},{"$f":"VLOOKUP(A648,'[1]SD vs SY0.45'!$A$2:$E$20133,5,FALSE)","v":"TBXA2R"}]
["ENSGALG00000050416",491.924839447898,1.36268344148306,0.176155670776945,7.73567740097644,{"v":1.02853967794689e-14,"d":"1.03E-14"},{"v":2.48723496251218e-13,"d":"2.49E-13"},{"$f":"VLOOKUP(A649,'[1]SD vs SY0.45'!$A$2:$E$20133,5,FALSE)","v":"SYDE1"}]
["ENSGALG00000033694",4278.00987049484,1.36161229889856,0.256719625191117,5.30388862123376,{"v":1.13361494263598E-7,"d":"1.13E-07"},{"v":8.88750324857945e-07,"d":"8.89E-07"},{"$f":"VLOOKUP(A650,'[1]SD vs SY0.45'!$A$2:$E$20133,5,FALSE)","v":"IFI30"}]
["ENSGALG00000047017",13.4725614845246,1.36098839067739,0.525992361072485,2.58746797748615,0.00966841819194405,0.0244836567292938,{"$f":"VLOOKUP(A651,'[1]SD vs SY0.45'!$A$2:$E$20133,5,FALSE)","v":"PHYHIP"}]
["ENSGALG00000051871",10.5788288477145,1.36077370502834,0.564633714107447,2.41001143047118,0.0159520207340453,0.0377563006401915,{"$f":"VLOOKUP(A652,'[1]SD vs SY0.45'!$A$2:$E$20133,5,FALSE)","v":"INHBC"}]
["ENSGALG00000032619",104.350710542179,1.36009495714133,0.26557546230184,5.12131258420067,{"v":3.03416202710113e-07,"d":"3.03E-07"},{"v":2.19264235931868e-06,"d":"2.19E-06"},{"$f":"VLOOKUP(A653,'[1]SD vs SY0.45'!$A$2:$E$20133,5,FALSE)","v":"SYPL2"}]
["ENSGALG00000031920",729.542602797576,1.3600559020945,0.244166087403052,5.57020803568604,{"v":2.54435348528505e-08,"d":"2.54E-08"},{"v":2.22528541492209e-07,"d":"2.23E-07"},{"$f":"VLOOKUP(A654,'[1]SD vs SY0.45'!$A$2:$E$20133,5,FALSE)","v":"FOXF2"}]
["ENSGALG00000030416",21.4193264933643,1.3585987614573,0.390216594788967,3.48165295787085,0.000498329080624615,1.77318988489534E-3,{"$f":"VLOOKUP(A655,'[1]SD vs SY0.45'!$A$2:$E$20133,5,FALSE)","v":"HOXC5"}]
["ENSGALG00000047290",284.909040201067,1.35829375433813,0.215738144356792,6.29602965385555,{"v":3.05365979537746e-10,"d":"3.05E-10"},{"v":3.65409379643688e-09,"d":"3.65E-09"},{"$f":"VLOOKUP(A656,'[1]SD vs SY0.45'!$A$2:$E$20133,5,FALSE)","v":"KIAA1755"}]
["ENSGALG00000017099",98.885350568361,1.35769561093824,0.306243154665098,4.43339088647711,{"v":9.27624638217186e-06,"d":"9.28E-06"},{"v":5.00577578667977e-05,"d":"5.01E-05"},{"$f":"VLOOKUP(A657,'[1]SD vs SY0.45'!$A$2:$E$20133,5,FALSE)","v":"RASL11A"}]
["ENSGALG00000006802",2822.66413734384,1.35752335707286,0.141756809027051,9.57642434525884,{"v":1.00462859075624e-21,"d":"1.00E-21"},{"v":5.65290527750119e-20,"d":"5.65E-20"},{"$f":"VLOOKUP(A658,'[1]SD vs SY0.45'!$A$2:$E$20133,5,FALSE)","v":"LAMB2"}]
["ENSGALG00000042551",643.197724424003,1.35684409833552,0.217378727992392,6.24184395072461,{"v":4.32442273118573E-10,"d":"4.32E-10"},{"v":5.06662655169314e-09,"d":"5.07E-09"},{"$f":"VLOOKUP(A659,'[1]SD vs SY0.45'!$A$2:$E$20133,5,FALSE)","v":"NA"}]
["ENSGALG00000036106",2397.48462571383,1.35678440238472,0.165563361467094,8.19495563729772,{"v":2.50685602977305e-16,"d":"2.51E-16"},{"v":7.47627886615163e-15,"d":"7.48E-15"},{"$f":"VLOOKUP(A660,'[1]SD vs SY0.45'!$A$2:$E$20133,5,FALSE)","v":"SMPD1"}]
["ENSGALG00000049677",141.313671631787,1.35661847253548,0.178429829061487,7.60309237346178,{"v":2.89136948882209E-14,"d":"2.89E-14"},{"v":6.59740699503277e-13,"d":"6.60E-13"},{"$f":"VLOOKUP(A661,'[1]SD vs SY0.45'!$A$2:$E$20133,5,FALSE)","v":"NA"}]
["ENSGALG00000012312",161.6862057339,1.35647184583287,0.358679622579787,3.78184809071815,0.000155668352321242,0.000632384495749868,{"$f":"VLOOKUP(A662,'[1]SD vs SY0.45'!$A$2:$E$20133,5,FALSE)","v":"GCAT"}]
["ENSGALG00000037029",135.228137844192,1.35462032521519,0.230162065680419,5.8855064635025,{"v":3.96836876585135e-09,"d":"3.97E-09"},{"v":3.9837198459502e-08,"d":"3.98E-08"},{"$f":"VLOOKUP(A663,'[1]SD vs SY0.45'!$A$2:$E$20133,5,FALSE)","v":"PDE4C"}]
["ENSGALG00000047543",9.01178996356911,1.3545264006052,0.551107457688555,2.45782629450585,0.0139780765899057,0.0336569474683133,{"$f":"VLOOKUP(A664,'[1]SD vs SY0.45'!$A$2:$E$20133,5,FALSE)","v":"NA"}]
["ENSGALG00000050532",19.9014232679439,1.35434883331963,0.503466361384752,2.69004830748688,0.00714416765096838,0.0187353910931203,{"$f":"VLOOKUP(A665,'[1]SD vs SY0.45'!$A$2:$E$20133,5,FALSE)","v":"B3GNT3"}]
["ENSGALG00000046210",95.2604624603489,1.35397212217578,0.299578407922055,4.51959182094344,{"v":6.1958971498248E-6,"d":"6.20E-06"},{"v":3.44950572347114e-05,"d":"3.45E-05"},{"$f":"VLOOKUP(A666,'[1]SD vs SY0.45'!$A$2:$E$20133,5,FALSE)","v":"NA"}]
["ENSGALG00000000604",96.7426609466808,1.35215848197154,0.444201057620447,3.044023553692,0.00233436863184592,0.00700268834207757,{"$f":"VLOOKUP(A667,'[1]SD vs SY0.45'!$A$2:$E$20133,5,FALSE)","v":"NKAIN1"}]
["ENSGALG00000043016",538.862535200947,1.35204102945967,0.259500848849658,5.21016033455434,{"v":1.88677506876673e-07,"d":"1.89E-07"},{"v":1.41463381287828E-6,"d":"1.41E-06"},{"$f":"VLOOKUP(A668,'[1]SD vs SY0.45'!$A$2:$E$20133,5,FALSE)","v":"CD6"}]
["ENSGALG00000001876",731.736066281005,1.35146410255098,0.208330073717018,6.48712919089504,{"v":8.7487318182888e-11,"d":"8.75E-11"},{"v":1.13602838031805E-9,"d":"1.14E-09"},{"$f":"VLOOKUP(A669,'[1]SD vs SY0.45'!$A$2:$E$20133,5,FALSE)","v":"RASA4B"}]
["ENSGALG00000053923",100.414069144289,1.35124782969849,0.186392432604832,7.24947794722576,{"v":4.18381071521126e-13,"d":"4.18E-13"},{"v":7.91555134987792e-12,"d":"7.92E-12"},{"$f":"VLOOKUP(A670,'[1]SD vs SY0.45'!$A$2:$E$20133,5,FALSE)","v":"NA"}]
["ENSGALG00000040648",122.067266662225,1.35114636680327,0.239812106382961,5.63418747778145,{"v":1.75885602186562E-8,"d":"1.76E-08"},{"v":1.57879347713875E-7,"d":"1.58E-07"},{"$f":"VLOOKUP(A671,'[1]SD vs SY0.45'!$A$2:$E$20133,5,FALSE)","v":"RGS11"}]
["ENSGALG00000050256",172.150355420704,1.35096279761688,0.198163151588499,6.81742688682233,{"v":9.26855463962762e-12,"d":"9.27E-12"},{"v":1.40908993807053E-10,"d":"1.41E-10"},{"$f":"VLOOKUP(A672,'[1]SD vs SY0.45'!$A$2:$E$20133,5,FALSE)","v":"TRPT1"}]
["ENSGALG00000052986",179.701890497234,1.35057253066989,0.181528414156652,7.44000622130926,{"v":1.0068055856163E-13,"d":"1.01E-13"},{"v":2.11417013491675e-12,"d":"2.11E-12"},{"$f":"VLOOKUP(A673,'[1]SD vs SY0.45'!$A$2:$E$20133,5,FALSE)","v":"NA"}]
["ENSGALG00000028140",601.440187992921,1.34886638668962,0.245968721109909,5.48389397075772,{"v":4.1606420025492e-08,"d":"4.16E-08"},{"v":3.50489740786448e-07,"d":"3.50E-07"},{"$f":"VLOOKUP(A674,'[1]SD vs SY0.45'!$A$2:$E$20133,5,FALSE)","v":"CNTFR"}]
["ENSGALG00000032856",200.160761658289,1.34876726444394,0.28720203497679,4.69623157284709,{"v":2.65005091158068e-06,"d":"2.65E-06"},{"v":1.59158670810547e-05,"d":"1.59E-05"},{"$f":"VLOOKUP(A675,'[1]SD vs SY0.45'!$A$2:$E$20133,5,FALSE)","v":"GFRA2"}]
["ENSGALG00000002371",564.971064160903,1.34871467749681,0.256358891465453,5.26104115128211,{"v":1.43241967915319e-07,"d":"1.43E-07"},{"v":1.09715775160513e-06,"d":"1.10E-06"},{"$f":"VLOOKUP(A676,'[1]SD vs SY0.45'!$A$2:$E$20133,5,FALSE)","v":"RUSC2"}]
["ENSGALG00000028283",33.015829793108,1.34760758733123,0.312836910685105,4.30770008685996,{"v":1.64960850518953e-05,"d":"1.65E-05"},{"v":8.38647458471646e-05,"d":"8.39E-05"},{"$f":"VLOOKUP(A677,'[1]SD vs SY0.45'!$A$2:$E$20133,5,FALSE)","v":"CCDC92B"}]
["ENSGALG00000000433",62.9736967786096,1.34756170697703,0.244137417376865,5.51968527174535,{"v":3.3960736352178E-8,"d":"3.40E-08"},{"v":2.90943072843478e-07,"d":"2.91E-07"},{"$f":"VLOOKUP(A678,'[1]SD vs SY0.45'!$A$2:$E$20133,5,FALSE)","v":"TUBA4A"}]
["ENSGALG00000043662",794.157292423802,1.3474170406286,0.269919974501239,4.99191304059052,{"v":5.97841722743845e-07,"d":"5.98E-07"},{"v":4.07155269617988e-06,"d":"4.07E-06"},{"$f":"VLOOKUP(A679,'[1]SD vs SY0.45'!$A$2:$E$20133,5,FALSE)","v":"NDRG4"}]
["ENSGALG00000043072",82.6590309023849,1.34659678390293,0.195262025363542,6.89635776027527,{"v":5.33527331928072e-12,"d":"5.34E-12"},{"v":8.48713606608727e-11,"d":"8.49E-11"},{"$f":"VLOOKUP(A680,'[1]SD vs SY0.45'!$A$2:$E$20133,5,FALSE)","v":"POU6F1"}]
["ENSGALG00000052421",109.334234600003,1.34641486930258,0.28638287263695,4.70145039368134,{"v":2.58320024223977E-6,"d":"2.58E-06"},{"v":1.55519745885813e-05,"d":"1.56E-05"},{"$f":"VLOOKUP(A681,'[1]SD vs SY0.45'!$A$2:$E$20133,5,FALSE)","v":"NA"}]
["ENSGALG00000002651",892.074956373351,1.34555718187459,0.201790263120906,6.66809766271221,{"v":2.5914032826913e-11,"d":"2.59E-11"},{"v":3.64536641392829e-10,"d":"3.65E-10"},{"$f":"VLOOKUP(A682,'[1]SD vs SY0.45'!$A$2:$E$20133,5,FALSE)","v":"ST3GAL2"}]
["ENSGALG00000027546",47.3240965620985,1.34351239538705,0.328269205476655,4.09271528663871,{"v":4.26351091361827e-05,"d":"4.26E-05"},0.000197863922970366,{"$f":"VLOOKUP(A683,'[1]SD vs SY0.45'!$A$2:$E$20133,5,FALSE)","v":"BZFP1"}]
["ENSGALG00000039452",251.284830922963,1.34330225031605,0.366783101552494,3.66238860141106,0.000249874424210801,0.000963318539634854,{"$f":"VLOOKUP(A684,'[1]SD vs SY0.45'!$A$2:$E$20133,5,FALSE)","v":"GJA5"}]
["ENSGALG00000043628",935.699849213279,1.3411764848431,0.221666027135309,6.05043768851604,{"v":1.44452828781991e-09,"d":"1.44E-09"},{"v":1.56018910718531e-08,"d":"1.56E-08"},{"$f":"VLOOKUP(A685,'[1]SD vs SY0.45'!$A$2:$E$20133,5,FALSE)","v":"UBE2M"}]
["ENSGALG00000028204",3419.57287358942,1.34097829151785,0.175383275451443,7.64598727025781,{"v":2.07348181794963E-14,"d":"2.07E-14"},{"v":4.83265795826947e-13,"d":"4.83E-13"},{"$f":"VLOOKUP(A686,'[1]SD vs SY0.45'!$A$2:$E$20133,5,FALSE)","v":"GPX1"}]
["ENSGALG00000053942",35.584396543788,1.34016936430378,0.277371704021109,4.83167296762829,{"v":1.35390520373853e-06,"d":"1.35E-06"},{"v":8.63050359610835e-06,"d":"8.63E-06"},{"$f":"VLOOKUP(A687,'[1]SD vs SY0.45'!$A$2:$E$20133,5,FALSE)","v":"NA"}]
["ENSGALG00000030008",558.830417069847,1.33942596402233,0.271052945259126,4.94156579904285,{"v":7.74976530037264e-07,"d":"7.75E-07"},{"v":5.16660925144092E-6,"d":"5.17E-06"},{"$f":"VLOOKUP(A688,'[1]SD vs SY0.45'!$A$2:$E$20133,5,FALSE)","v":"HHEX"}]
["ENSGALG00000001177",764.025307451886,1.33938508327375,0.252115299650074,5.31258945860392,{"v":1.08078339836183e-07,"d":"1.08E-07"},{"v":8.4914509477258e-07,"d":"8.49E-07"},{"$f":"VLOOKUP(A689,'[1]SD vs SY0.45'!$A$2:$E$20133,5,FALSE)","v":"CD34"}]
["ENSGALG00000054874",536.781262533377,1.3384491130778,0.39790377844476,3.36375069950138,0.000768909655990594,2.61062921083938E-3,{"$f":"VLOOKUP(A690,'[1]SD vs SY0.45'!$A$2:$E$20133,5,FALSE)","v":"NA"}]
["ENSGALG00000034118",457.391550910183,1.33794950341078,0.325194859072086,4.11430090631967,{"v":3.88354575123728e-05,"d":"3.88E-05"},0.000181954217129514,{"$f":"VLOOKUP(A691,'[1]SD vs SY0.45'!$A$2:$E$20133,5,FALSE)","v":"SOX18"}]
["ENSGALG00000002790",235.492044821916,1.33698391403229,0.201914904935027,6.62152164775804,{"v":3.55519944044092e-11,"d":"3.56E-11"},{"v":4.88650218742658e-10,"d":"4.89E-10"},{"$f":"VLOOKUP(A692,'[1]SD vs SY0.45'!$A$2:$E$20133,5,FALSE)","v":"ABLIM3"}]
["ENSGALG00000004357",5476.54563639964,1.33657882620722,0.21890927738833,6.10562897175079,{"v":1.0239662964325e-09,"d":"1.02E-09"},{"v":1.1282447399285E-8,"d":"1.13E-08"},{"$f":"VLOOKUP(A693,'[1]SD vs SY0.45'!$A$2:$E$20133,5,FALSE)","v":"ANXA6"}]
["ENSGALG00000047321",44.5010384146414,1.33536744296515,0.332760607200098,4.01299737430205,{"v":5.99525804643453e-05,"d":"6.00E-05"},0.000268312874268616,{"$f":"VLOOKUP(A694,'[1]SD vs SY0.45'!$A$2:$E$20133,5,FALSE)","v":"NA"}]
["ENSGALG00000005613",19.1918932930119,1.33529002107054,0.568905553034287,2.34712073726245,0.0189191230376595,0.0437196693588231,{"$f":"VLOOKUP(A695,'[1]SD vs SY0.45'!$A$2:$E$20133,5,FALSE)","v":"NA"}]
["ENSGALG00000026207",166.512265063062,1.33466302976697,0.165796872413504,8.04998918458644,{"v":8.28013530720922e-16,"d":"8.28E-16"},{"v":2.3220437513943e-14,"d":"2.32E-14"},{"$f":"VLOOKUP(A696,'[1]SD vs SY0.45'!$A$2:$E$20133,5,FALSE)","v":"CNTF"}]
["ENSGALG00000047031",205.077115076977,1.33398709098085,0.18572921169293,7.18243015636312,{"v":6.84830493903368e-13,"d":"6.85E-13"},{"v":1.2507508190649e-11,"d":"1.25E-11"},{"$f":"VLOOKUP(A697,'[1]SD vs SY0.45'!$A$2:$E$20133,5,FALSE)","v":"NA"}]
["ENSGALG00000022702",18.671489158612,1.33394632178161,0.549654174827495,2.42688290723937,0.0152291701711218,0.0362377968749548,{"$f":"VLOOKUP(A698,'[1]SD vs SY0.45'!$A$2:$E$20133,5,FALSE)","v":"CHRNA10"}]
["ENSGALG00000007666",130.548109963915,1.33384229446933,0.294565676074381,4.52816605194871,{"v":5.94978192346722e-06,"d":"5.95E-06"},{"v":3.32419210486261e-05,"d":"3.32E-05"},{"$f":"VLOOKUP(A699,'[1]SD vs SY0.45'!$A$2:$E$20133,5,FALSE)","v":"KCNIP2,KCNIP2"}]
["ENSGALG00000028466",383.627083109178,1.3331933957311,0.339476631411214,3.92720226481858,{"v":8.59397060320935e-05,"d":"8.59E-05"},0.0003711459684004,{"$f":"VLOOKUP(A700,'[1]SD vs SY0.45'!$A$2:$E$20133,5,FALSE)","v":"IL34"}]
["ENSGALG00000021589",23.060662769586,1.33236812609129,0.390267498840507,3.41398689373258,6.40196553517198E-4,0.00221867599681154,{"$f":"VLOOKUP(A701,'[1]SD vs SY0.45'!$A$2:$E$20133,5,FALSE)","v":"NA"}]
["ENSGALG00000029066",1181.22744476716,1.33231507982679,0.197103685426984,6.7594630559069,{"v":1.38504070301114E-11,"d":"1.39E-11"},{"v":2.03736909503001e-10,"d":"2.04E-10"},{"$f":"VLOOKUP(A702,'[1]SD vs SY0.45'!$A$2:$E$20133,5,FALSE)","v":"LOC419584"}]
["ENSGALG00000028147",1689.98770377769,1.33158071157306,0.303899777496057,4.38164424648298,{"v":1.17787022363703E-5,"d":"1.18E-05"},{"v":6.19655963037127E-5,"d":"6.20E-05"},{"$f":"VLOOKUP(A703,'[1]SD vs SY0.45'!$A$2:$E$20133,5,FALSE)","v":"CTSK"}]
["ENSGALG00000007837",94.2695668675097,1.33154919241855,0.290671532468034,4.58094117821802,{"v":4.62888034372258e-06,"d":"4.63E-06"},{"v":2.65355563917918E-5,"d":"2.65E-05"},{"$f":"VLOOKUP(A704,'[1]SD vs SY0.45'!$A$2:$E$20133,5,FALSE)","v":"KAZALD1"}]
["ENSGALG00000031067",518.83564014376,1.33150523139684,0.183668217649279,7.24951354370626,{"v":4.18271137293643e-13,"d":"4.18E-13"},{"v":7.91555134987792e-12,"d":"7.92E-12"},{"$f":"VLOOKUP(A705,'[1]SD vs SY0.45'!$A$2:$E$20133,5,FALSE)","v":"TMEM132A"}]
["ENSGALG00000025842",21142.8827747872,1.32964576252195,0.211087730606157,6.29901964791489,{"v":2.99534026622995e-10,"d":"3.00E-10"},{"v":3.59172284199587e-09,"d":"3.59E-09"},{"$f":"VLOOKUP(A706,'[1]SD vs SY0.45'!$A$2:$E$20133,5,FALSE)","v":"TPM2,TPM2"}]
["ENSGALG00000001918",1212.31659579627,1.32923134401528,0.262075441080295,5.07194164602407,{"v":3.93777148547095e-07,"d":"3.94E-07"},{"v":2.76630435627812e-06,"d":"2.77E-06"},{"$f":"VLOOKUP(A707,'[1]SD vs SY0.45'!$A$2:$E$20133,5,FALSE)","v":"DNAJB5"}]
["ENSGALG00000005169",379.020596188944,1.32899969890493,0.209920636084494,6.33096261374706,{"v":2.43636379372482e-10,"d":"2.44E-10"},{"v":2.96231169800654e-09,"d":"2.96E-09"},{"$f":"VLOOKUP(A708,'[1]SD vs SY0.45'!$A$2:$E$20133,5,FALSE)","v":"FUT11"}]
["ENSGALG00000023542",615.811204822303,1.32867268072525,0.287576614702586,4.62023896518626,{"v":3.83298313470532e-06,"d":"3.83E-06"},{"v":2.23263242087509E-5,"d":"2.23E-05"},{"$f":"VLOOKUP(A709,'[1]SD vs SY0.45'!$A$2:$E$20133,5,FALSE)","v":"ALPL"}]
["ENSGALG00000036971",168.918627773476,1.32829089697976,0.28457371511534,4.66765139022552,{"v":3.04662252495687E-6,"d":"3.05E-06"},{"v":1.80852256201519e-05,"d":"1.81E-05"},{"$f":"VLOOKUP(A710,'[1]SD vs SY0.45'!$A$2:$E$20133,5,FALSE)","v":"FGF12,FGF12"}]
["ENSGALG00000036551",11.630310476413,1.32818857386051,0.49347920724501,2.69147829201458,0.00711361276779665,0.0186806200262318,{"$f":"VLOOKUP(A711,'[1]SD vs SY0.45'!$A$2:$E$20133,5,FALSE)","v":"NA"}]
["ENSGALG00000026903",11.4076184864937,1.3274953280836,0.52843989866681,2.51210276028119,0.0120014136125222,0.02951465042163,{"$f":"VLOOKUP(A712,'[1]SD vs SY0.45'!$A$2:$E$20133,5,FALSE)","v":"CALB2"}]
["ENSGALG00000004833",1026.00760537618,1.32723776352905,0.150082824118888,8.84336879533714,{"v":9.28750465610041e-19,"d":"9.29E-19"},{"v":3.73800563554671e-17,"d":"3.74E-17"},{"$f":"VLOOKUP(A713,'[1]SD vs SY0.45'!$A$2:$E$20133,5,FALSE)","v":"P3H1"}]
["ENSGALG00000037272",30.0296508307622,1.3271111595704,0.479959764946201,2.76504669035988,0.00569146487664041,0.0153995486788277,{"$f":"VLOOKUP(A714,'[1]SD vs SY0.45'!$A$2:$E$20133,5,FALSE)","v":"HOXD8"}]
["ENSGALG00000046164",723.045099946365,1.32630193725282,0.149470087928412,8.87336025310991,{"v":7.09712827584213e-19,"d":"7.10E-19"},{"v":2.9034769254604e-17,"d":"2.90E-17"},{"$f":"VLOOKUP(A715,'[1]SD vs SY0.45'!$A$2:$E$20133,5,FALSE)","v":"APBB1"}]
["ENSGALG00000034507",283.642645491213,1.32585937542274,0.266288027862127,4.97904237778655,{"v":6.38996514949757e-07,"d":"6.39E-07"},{"v":4.33147462200056e-06,"d":"4.33E-06"},{"$f":"VLOOKUP(A716,'[1]SD vs SY0.45'!$A$2:$E$20133,5,FALSE)","v":"CHST2"}]
["ENSGALG00000007945",71.7643407566764,1.32573178822039,0.226854249573147,5.84398040025661,{"v":5.09680274239293e-09,"d":"5.10E-09"},{"v":5.04084808202422E-8,"d":"5.04E-08"},{"$f":"VLOOKUP(A717,'[1]SD vs SY0.45'!$A$2:$E$20133,5,FALSE)","v":"CRYAB"}]
["ENSGALG00000054364",42.1571449200463,1.32311353717218,0.347271922556221,3.81002163213463,0.000138954632966376,0.000570350378514254,{"$f":"VLOOKUP(A718,'[1]SD vs SY0.45'!$A$2:$E$20133,5,FALSE)","v":"LOC107055293"}]
["ENSGALG00000034025",83.4266562798169,1.32283510077716,0.277575268451726,4.76568070403296,{"v":1.88217121929256e-06,"d":"1.88E-06"},{"v":1.16148303716007e-05,"d":"1.16E-05"},{"$f":"VLOOKUP(A719,'[1]SD vs SY0.45'!$A$2:$E$20133,5,FALSE)","v":"ASIC1"}]
["ENSGALG00000030115",28.4405451425002,1.32203300208774,0.567350875408557,2.33018588564921,0.0197963286368377,0.0454969449951724,{"$f":"VLOOKUP(A720,'[1]SD vs SY0.45'!$A$2:$E$20133,5,FALSE)","v":"WISP1"}]
["ENSGALG00000010083",315.068208073586,1.32194353523813,0.241853600903985,5.46588320495149,{"v":4.60607557655408e-08,"d":"4.61E-08"},{"v":3.84658194282161e-07,"d":"3.85E-07"},{"$f":"VLOOKUP(A721,'[1]SD vs SY0.45'!$A$2:$E$20133,5,FALSE)","v":"ST3GAL3"}]
["ENSGALG00000004184",21983.5787149648,1.32189189645147,0.276341585680368,4.78354313990382,{"v":1.72231905545741e-06,"d":"1.72E-06"},{"v":1.0729473814847E-5,"d":"1.07E-05"},{"$f":"VLOOKUP(A722,'[1]SD vs SY0.45'!$A$2:$E$20133,5,FALSE)","v":"SPARC"}]
["ENSGALG00000047227",59221.7701515772,1.32161134507525,0.416596681334792,3.17240007971441,1.51184574315173E-3,0.00477328162995809,{"$f":"VLOOKUP(A723,'[1]SD vs SY0.45'!$A$2:$E$20133,5,FALSE)","v":"NA"}]
["ENSGALG00000039409",427.359145441988,1.32118264496624,0.145236866147116,9.09674437362184,{"v":9.30801033540155e-20,"d":"9.31E-20"},{"v":4.23660669375986e-18,"d":"4.24E-18"},{"$f":"VLOOKUP(A724,'[1]SD vs SY0.45'!$A$2:$E$20133,5,FALSE)","v":"RELA"}]
["ENSGALG00000031996",72.9670598263875,1.32115563390764,0.302186269464155,4.37199094535418,{"v":1.23118632725487e-05,"d":"1.23E-05"},{"v":6.44584061185801e-05,"d":"6.45E-05"},{"$f":"VLOOKUP(A725,'[1]SD vs SY0.45'!$A$2:$E$20133,5,FALSE)","v":"ADPRHL"}]
["ENSGALG00000011349",393.701749459658,1.32092516168619,0.302182768532005,4.37127890548891,{"v":1.23520888178373e-05,"d":"1.24E-05"},{"v":6.46300837423221e-05,"d":"6.46E-05"},{"$f":"VLOOKUP(A726,'[1]SD vs SY0.45'!$A$2:$E$20133,5,FALSE)","v":"MNR2"}]
["ENSGALG00000012374",711.423003202165,1.3203057547633,0.20352510626151,6.4871886275634,{"v":8.74528246973298e-11,"d":"8.75E-11"},{"v":1.13602838031805E-9,"d":"1.14E-09"},{"$f":"VLOOKUP(A727,'[1]SD vs SY0.45'!$A$2:$E$20133,5,FALSE)","v":"FRMD6"}]
["ENSGALG00000020479",232.393598076124,1.31943348348652,0.229756393507124,5.74274980271921,{"v":9.31513127766853e-09,"d":"9.32E-09"},{"v":8.81666780211338e-08,"d":"8.82E-08"},{"$f":"VLOOKUP(A728,'[1]SD vs SY0.45'!$A$2:$E$20133,5,FALSE)","v":"SLC43A3"}]
["ENSGALG00000000251",314.458144519451,1.31931529070871,0.261545440207112,5.04430621946218,{"v":4.55169854586891e-07,"d":"4.55E-07"},{"v":3.16434956485497e-06,"d":"3.16E-06"},{"$f":"VLOOKUP(A729,'[1]SD vs SY0.45'!$A$2:$E$20133,5,FALSE)","v":"CD79B"}]
["ENSGALG00000033971",119.964186416293,1.31925191375518,0.313971025817043,4.20182693712615,{"v":2.64769517677391E-5,"d":"2.65E-05"},1.28842642145446E-4,{"$f":"VLOOKUP(A730,'[1]SD vs SY0.45'!$A$2:$E$20133,5,FALSE)","v":"TLE2"}]
["ENSGALG00000003435",17.218952558863,1.31878446432905,0.431550935826958,3.05591844402315,0.00224372277351092,0.00677049772006845,{"$f":"VLOOKUP(A731,'[1]SD vs SY0.45'!$A$2:$E$20133,5,FALSE)","v":"PGC"}]
["ENSGALG00000032803",167.7099798895,1.318563976555,0.236377234815352,5.57821897521142,{"v":2.42993647640373e-08,"d":"2.43E-08"},{"v":2.13488153184597E-7,"d":"2.13E-07"},{"$f":"VLOOKUP(A732,'[1]SD vs SY0.45'!$A$2:$E$20133,5,FALSE)","v":"LOC776507"}]
["ENSGALG00000042642",1298.08015141805,1.31801663508235,0.231429084193024,5.69512098999216,{"v":1.23284463439032E-8,"d":"1.23E-08"},{"v":1.13716019406602e-07,"d":"1.14E-07"},{"$f":"VLOOKUP(A733,'[1]SD vs SY0.45'!$A$2:$E$20133,5,FALSE)","v":"RARRES2"}]
["ENSGALG00000039964",1051.56285056877,1.31640169627748,0.409478009135043,3.21482879888512,1.30522340835582E-3,0.0041893888501168,{"$f":"VLOOKUP(A734,'[1]SD vs SY0.45'!$A$2:$E$20133,5,FALSE)","v":"NA"}]
["ENSGALG00000026043",314.001424087154,1.31618167509233,0.156787047991765,8.39470920558096,{"v":4.67048716714022e-17,"d":"4.67E-17"},{"v":1.49275294807109E-15,"d":"1.49E-15"},{"$f":"VLOOKUP(A735,'[1]SD vs SY0.45'!$A$2:$E$20133,5,FALSE)","v":"SNRKL"}]
["ENSGALG00000003529",501.320810509155,1.31540435947278,0.169866044299047,7.74377460133835,{"v":9.65080302753552e-15,"d":"9.65E-15"},{"v":2.35011921904426e-13,"d":"2.35E-13"},{"$f":"VLOOKUP(A736,'[1]SD vs SY0.45'!$A$2:$E$20133,5,FALSE)","v":"SYNC"}]
["ENSGALG00000009641",15836.3488231841,1.3147447826385,0.242229306323204,5.42768669322055,{"v":5.70891389075957e-08,"d":"5.71E-08"},{"v":4.69318609071568e-07,"d":"4.69E-07"},{"$f":"VLOOKUP(A737,'[1]SD vs SY0.45'!$A$2:$E$20133,5,FALSE)","v":"COL1A2"}]
["ENSGALG00000007383",1498.54198771308,1.31449829169636,0.259707375412717,5.06145922736084,{"v":4.16059722603822e-07,"d":"4.16E-07"},{"v":2.91342343814444e-06,"d":"2.91E-06"},{"$f":"VLOOKUP(A738,'[1]SD vs SY0.45'!$A$2:$E$20133,5,FALSE)","v":"HSPB8"}]
["ENSGALG00000002312",31.4900707287444,1.31388659926963,0.27523345825197,4.77371685700652,{"v":1.80856607016394e-06,"d":"1.81E-06"},{"v":1.12025430217102e-05,"d":"1.12E-05"},{"$f":"VLOOKUP(A739,'[1]SD vs SY0.45'!$A$2:$E$20133,5,FALSE)","v":"TMEM132E"}]
["ENSGALG00000010406",548.115287324029,1.31306160330724,0.215358148501508,6.09710666832763,{"v":1.08005453466766E-9,"d":"1.08E-09"},{"v":1.18255089384551e-08,"d":"1.18E-08"},{"$f":"VLOOKUP(A740,'[1]SD vs SY0.45'!$A$2:$E$20133,5,FALSE)","v":"TMEM63C"}]
["ENSGALG00000006546",6440.16048523996,1.31245116645871,0.201239129963276,6.52184874133683,{"v":6.94460307330344e-11,"d":"6.94E-11"},{"v":9.11289159513411e-10,"d":"9.11E-10"},{"$f":"VLOOKUP(A741,'[1]SD vs SY0.45'!$A$2:$E$20133,5,FALSE)","v":"CD81"}]
["ENSGALG00000046192",1272.88398824455,1.31241482860567,0.334335760915559,3.92543957909768,{"v":8.65714989659979e-05,"d":"8.66E-05"},0.00037341072997316,{"$f":"VLOOKUP(A742,'[1]SD vs SY0.45'!$A$2:$E$20133,5,FALSE)","v":"CCL19"}]
["ENSGALG00000004530",33.817844008127,1.31215720505136,0.360424348140516,3.64058979872191,0.000272014214596646,1.03922459881167E-3,{"$f":"VLOOKUP(A743,'[1]SD vs SY0.45'!$A$2:$E$20133,5,FALSE)","v":"MMD2"}]
["ENSGALG00000003034",121.479806727255,1.31155771838731,0.356555785976687,3.6784081761418,0.000234694154968168,0.000910854301882041,{"$f":"VLOOKUP(A744,'[1]SD vs SY0.45'!$A$2:$E$20133,5,FALSE)","v":"SS2"}]
["ENSGALG00000023725",554.825570127543,1.31113912243051,0.253230283145959,5.17765531887347,{"v":2.24691862617572E-7,"d":"2.25E-07"},{"v":1.66455791023934e-06,"d":"1.66E-06"},{"$f":"VLOOKUP(A745,'[1]SD vs SY0.45'!$A$2:$E$20133,5,FALSE)","v":"IER5"}]
["ENSGALG00000029795",15.6000596665153,1.31067681811702,0.361578123149704,3.62487864780017,0.000289097168302045,1.09719860264153E-3,{"$f":"VLOOKUP(A746,'[1]SD vs SY0.45'!$A$2:$E$20133,5,FALSE)","v":"FAM131A"}]
["ENSGALG00000004035",19.4960309039959,1.30838032859908,0.452923902628514,2.88874206242149,0.00386786203104745,0.0109457221897497,{"$f":"VLOOKUP(A747,'[1]SD vs SY0.45'!$A$2:$E$20133,5,FALSE)","v":"CRYBA1"}]
["ENSGALG00000048707",26.8438510816102,1.30810332470926,0.348257778432975,3.75613527024499,0.000172557448889178,6.91462632826951E-4,{"$f":"VLOOKUP(A748,'[1]SD vs SY0.45'!$A$2:$E$20133,5,FALSE)","v":"NA"}]
["ENSGALG00000020151",208.171381289065,1.30802967012808,0.309490056697088,4.22640289024958,{"v":2.37456677881244e-05,"d":"2.37E-05"},1.16859871449793E-4,{"$f":"VLOOKUP(A749,'[1]SD vs SY0.45'!$A$2:$E$20133,5,FALSE)","v":"NMU"}]
["ENSGALG00000044125",103.382894880854,1.30799087090603,0.207882721599599,6.29196530063397,{"v":3.13471566412427e-10,"d":"3.13E-10"},{"v":3.74078937900677e-09,"d":"3.74E-09"},{"$f":"VLOOKUP(A750,'[1]SD vs SY0.45'!$A$2:$E$20133,5,FALSE)","v":"MLLT11"}]
["ENSGALG00000038672",1659.55187571261,1.30739824508715,0.454301246043242,2.87782227425964,0.0040043066487627,0.0112694852220843,{"$f":"VLOOKUP(A751,'[1]SD vs SY0.45'!$A$2:$E$20133,5,FALSE)","v":"ATPIF1"}]
["ENSGALG00000044018",164.428833407575,1.30685837097639,0.361207868144698,3.61802298961237,0.000296862032435867,1.12183007128068E-3,{"$f":"VLOOKUP(A752,'[1]SD vs SY0.45'!$A$2:$E$20133,5,FALSE)","v":"ISOC2"}]
["ENSGALG00000030652",64.3904366216191,1.30660925320642,0.310231018166179,4.21172989383841,{"v":2.53422462018352E-5,"d":"2.53E-05"},1.23945326219778E-4,{"$f":"VLOOKUP(A753,'[1]SD vs SY0.45'!$A$2:$E$20133,5,FALSE)","v":"TPBGL"}]
["ENSGALG00000011376",192.240761521274,1.30626244736219,0.362949034795717,3.5990244418129,0.00031941317093667,0.00119742061299609,{"$f":"VLOOKUP(A754,'[1]SD vs SY0.45'!$A$2:$E$20133,5,FALSE)","v":"ANKRD9"}]
["ENSGALG00000001437",199.1435285353,1.30541806134918,0.228378566215227,5.71602704659654,{"v":1.09043389671027E-8,"d":"1.09E-08"},{"v":1.01932119151083E-7,"d":"1.02E-07"},{"$f":"VLOOKUP(A755,'[1]SD vs SY0.45'!$A$2:$E$20133,5,FALSE)","v":"NTM"}]
["ENSGALG00000035104",233.846490828713,1.30457488966086,0.350895027086403,3.71784946766892,0.000200925930916112,0.000792176680462233,{"$f":"VLOOKUP(A756,'[1]SD vs SY0.45'!$A$2:$E$20133,5,FALSE)","v":"HAND1"}]
["ENSGALG00000053511",326.86783248977,1.30361078625742,0.403175054175397,3.23336171907674,0.00122342548371304,0.00395311259716013,{"$f":"VLOOKUP(A757,'[1]SD vs SY0.45'!$A$2:$E$20133,5,FALSE)","v":"APOLD1"}]
["ENSGALG00000050696",12.6814767976388,1.30243159313357,0.553708499463086,2.35219722001107,0.0186628768194097,0.0431964109769805,{"$f":"VLOOKUP(A758,'[1]SD vs SY0.45'!$A$2:$E$20133,5,FALSE)","v":"gga-mir-12277"}]
["ENSGALG00000011166",10.7541155531062,1.30058331788056,0.524396330414138,2.48015335434067,0.0131325887561778,0.0318860942191961,{"$f":"VLOOKUP(A759,'[1]SD vs SY0.45'!$A$2:$E$20133,5,FALSE)","v":"PKDCCB"}]
["ENSGALG00000041524",24.7596858856911,1.30037490787274,0.380485577777674,3.41767200604007,0.000631591707375911,2.19480447062935E-3,{"$f":"VLOOKUP(A760,'[1]SD vs SY0.45'!$A$2:$E$20133,5,FALSE)","v":"NA"}]
["ENSGALG00000037332",5431.27874927878,1.30013948868009,0.369896373951365,3.51487492237768,0.000439961151239915,1.58870291518347E-3,{"$f":"VLOOKUP(A761,'[1]SD vs SY0.45'!$A$2:$E$20133,5,FALSE)","v":"IGFBP7"}]
["ENSGALG00000026940",353.949932259461,1.30001466362474,0.34513773518504,3.76665467462651,1.65449597046055E-4,0.000666513471695958,{"$f":"VLOOKUP(A762,'[1]SD vs SY0.45'!$A$2:$E$20133,5,FALSE)","v":"TTYH2"}]
["ENSGALG00000047792",998.334664670437,1.2999212767387,0.195134881655113,6.66165508551269,{"v":2.7076087469537e-11,"d":"2.71E-11"},{"v":3.7996120486912e-10,"d":"3.80E-10"},{"$f":"VLOOKUP(A763,'[1]SD vs SY0.45'!$A$2:$E$20133,5,FALSE)","v":"SELENOM"}]
["ENSGALG00000037777",135.477453013332,1.29887155813652,0.460820015778712,2.81860924799812,0.00482321944967096,0.0133007639288547,{"$f":"VLOOKUP(A764,'[1]SD vs SY0.45'!$A$2:$E$20133,5,FALSE)","v":"MSC"}]
["ENSGALG00000026499",834.518065860865,1.29854073034568,0.241634741237417,5.37398191872504,{"v":7.70165842106208e-08,"d":"7.70E-08"},{"v":6.18516096845295e-07,"d":"6.19E-07"},{"$f":"VLOOKUP(A765,'[1]SD vs SY0.45'!$A$2:$E$20133,5,FALSE)","v":"TNFRSF25"}]
["ENSGALG00000023472",391.798031775788,1.29851021143002,0.438233320583188,2.96305677921066,0.00304600376741864,0.00888456089651198,{"$f":"VLOOKUP(A766,'[1]SD vs SY0.45'!$A$2:$E$20133,5,FALSE)","v":"SULT2B1L1"}]
["ENSGALG00000052552",328.632784502836,1.29823376958847,0.249178275109579,5.21006002235773,{"v":1.88779548670153e-07,"d":"1.89E-07"},{"v":1.41478879858963E-6,"d":"1.41E-06"},{"$f":"VLOOKUP(A767,'[1]SD vs SY0.45'!$A$2:$E$20133,5,FALSE)","v":"NA"}]
["ENSGALG00000032098",40.5914614433252,1.29797716677484,0.339643008187555,3.82159248235749,1.3259267080217E-4,0.000546689297424078,{"$f":"VLOOKUP(A768,'[1]SD vs SY0.45'!$A$2:$E$20133,5,FALSE)","v":"ARTN"}]
["ENSGALG00000037851",134.741159394105,1.29771563358391,0.279982287737618,4.6349918920587,{"v":3.56951470488294e-06,"d":"3.57E-06"},{"v":2.09178133379844e-05,"d":"2.09E-05"},{"$f":"VLOOKUP(A769,'[1]SD vs SY0.45'!$A$2:$E$20133,5,FALSE)","v":"KK34"}]
["ENSGALG00000047412",137.801973953934,1.29764485775108,0.31907380841643,4.06691123972639,{"v":4.76403779781696e-05,"d":"4.76E-05"},2.1901725328039E-4,{"$f":"VLOOKUP(A770,'[1]SD vs SY0.45'!$A$2:$E$20133,5,FALSE)","v":"LOC112530987"}]
["ENSGALG00000000769",86.8428540890399,1.29681285724301,0.340053552263519,3.81355480220969,0.000136982132986451,0.00056286923228701,{"$f":"VLOOKUP(A771,'[1]SD vs SY0.45'!$A$2:$E$20133,5,FALSE)","v":"RAB7B"}]
["ENSGALG00000046369",110.400189893961,1.29662433585067,0.249445713424182,5.198022118928,{"v":2.01420166166993E-7,"d":"2.01E-07"},{"v":1.50175490100579e-06,"d":"1.50E-06"},{"$f":"VLOOKUP(A772,'[1]SD vs SY0.45'!$A$2:$E$20133,5,FALSE)","v":"NA"}]
["ENSGALG00000053552",454.572325834046,1.29542996837263,0.258847131433362,5.00461396345868,{"v":5.59740893938614e-07,"d":"5.60E-07"},{"v":3.82706052808127e-06,"d":"3.83E-06"},{"$f":"VLOOKUP(A773,'[1]SD vs SY0.45'!$A$2:$E$20133,5,FALSE)","v":"IER5L"}]
["ENSGALG00000054931",308.220884761791,1.29223990624391,0.257644429911568,5.01559419191576,{"v":5.28698150262103e-07,"d":"5.29E-07"},{"v":3.63482591483084e-06,"d":"3.63E-06"},{"$f":"VLOOKUP(A774,'[1]SD vs SY0.45'!$A$2:$E$20133,5,FALSE)","v":"ZNF853"}]
["ENSGALG00000006221",283.749506383837,1.29134307811225,0.183288888130163,7.04539752128999,{"v":1.84932775388719E-12,"d":"1.85E-12"},{"v":3.13394363127062e-11,"d":"3.13E-11"},{"$f":"VLOOKUP(A775,'[1]SD vs SY0.45'!$A$2:$E$20133,5,FALSE)","v":"KIF1A"}]
["ENSGALG00000031325",1607.11588422974,1.28980947529333,0.258427178512614,4.99099778404451,{"v":6.00681869139471e-07,"d":"6.01E-07"},{"v":4.08769301711467e-06,"d":"4.09E-06"},{"$f":"VLOOKUP(A776,'[1]SD vs SY0.45'!$A$2:$E$20133,5,FALSE)","v":"TGFB1"}]
["ENSGALG00000012011",113.280700511583,1.2889564025089,0.324584210164936,3.97110014024997,{"v":7.154149761875e-05,"d":"7.15E-05"},0.000314193488026574,{"$f":"VLOOKUP(A777,'[1]SD vs SY0.45'!$A$2:$E$20133,5,FALSE)","v":"L3HYPDH"}]
["ENSGALG00000031679",162.285596497896,1.28839655395596,0.186427976058566,6.9109614404182,{"v":4.81379902604165e-12,"d":"4.81E-12"},{"v":7.71172650487111e-11,"d":"7.71E-11"},{"$f":"VLOOKUP(A778,'[1]SD vs SY0.45'!$A$2:$E$20133,5,FALSE)","v":"POLE4"}]
["ENSGALG00000051638",10.5353135506953,1.28802628281532,0.534539055732986,2.40960182235723,0.0159699390884918,0.0377884228268382,{"$f":"VLOOKUP(A779,'[1]SD vs SY0.45'!$A$2:$E$20133,5,FALSE)","v":"NA"}]
["ENSGALG00000043198",1045.19354662409,1.2877705050844,0.162319474557903,7.93355516084439,{"v":2.12959908415245e-15,"d":"2.13E-15"},{"v":5.68776332967107e-14,"d":"5.69E-14"},{"$f":"VLOOKUP(A780,'[1]SD vs SY0.45'!$A$2:$E$20133,5,FALSE)","v":"SPEG"}]
["ENSGALG00000033234",1457.6432705781,1.2872130217338,0.227048653457767,5.66932682546491,{"v":1.43359669132566e-08,"d":"1.43E-08"},{"v":1.30639128260374e-07,"d":"1.31E-07"},{"$f":"VLOOKUP(A781,'[1]SD vs SY0.45'!$A$2:$E$20133,5,FALSE)","v":"JAK3"}]
["ENSGALG00000055006",440.405554987669,1.28691312555236,0.187039819540742,6.88042326341125,{"v":5.96749846713064E-12,"d":"5.97E-12"},{"v":9.38976433013578e-11,"d":"9.39E-11"},{"$f":"VLOOKUP(A782,'[1]SD vs SY0.45'!$A$2:$E$20133,5,FALSE)","v":"AHDC1"}]
["ENSGALG00000052286",1209.48406271598,1.28668193175778,0.178334788470334,7.2149799979818,{"v":5.39419048173421e-13,"d":"5.39E-13"},{"v":1.00631748826087E-11,"d":"1.01E-11"},{"$f":"VLOOKUP(A783,'[1]SD vs SY0.45'!$A$2:$E$20133,5,FALSE)","v":"MGAT1"}]
["ENSGALG00000035679",30.4325641846824,1.28661165520553,0.4322585667944,2.97648619146395,0.00291572212414877,0.00855045717196402,{"$f":"VLOOKUP(A784,'[1]SD vs SY0.45'!$A$2:$E$20133,5,FALSE)","v":"LMO1"}]
["ENSGALG00000029197",81.1526361338733,1.28650298105047,0.559935400487724,2.29759179349954,0.0215850331697747,0.0489690725108133,{"$f":"VLOOKUP(A785,'[1]SD vs SY0.45'!$A$2:$E$20133,5,FALSE)","v":"KIRREL3"}]
["ENSGALG00000054889",1950.67460816648,1.28628283921742,0.147214875235556,8.73745154597496,{"v":2.38427902024427E-18,"d":"2.38E-18"},{"v":9.15131552427972e-17,"d":"9.15E-17"},{"$f":"VLOOKUP(A786,'[1]SD vs SY0.45'!$A$2:$E$20133,5,FALSE)","v":"NA"}]
["ENSGALG00000012218",213.369426461087,1.28621276061139,0.286772411739749,4.48513423173582,{"v":7.28680466435114e-06,"d":"7.29E-06"},{"v":4.01062591639992e-05,"d":"4.01E-05"},{"$f":"VLOOKUP(A787,'[1]SD vs SY0.45'!$A$2:$E$20133,5,FALSE)","v":"CBY1"}]
["ENSGALG00000013604",1314.0800467095,1.28598123308559,0.31983449131981,4.02077095493653,{"v":5.80079854725395e-05,"d":"5.80E-05"},0.000260683598710531,{"$f":"VLOOKUP(A788,'[1]SD vs SY0.45'!$A$2:$E$20133,5,FALSE)","v":"VIP"}]
["ENSGALG00000036925",944.700985691622,1.28578301437122,0.222880132954411,5.7689440387862,{"v":7.97697859610384e-09,"d":"7.98E-09"},{"v":7.62483380156446e-08,"d":"7.62E-08"},{"$f":"VLOOKUP(A789,'[1]SD vs SY0.45'!$A$2:$E$20133,5,FALSE)","v":"CADM3"}]
["ENSGALG00000033271",28.7606481876704,1.28533051811593,0.466953723579327,2.75258650528263,0.00591265233048436,0.0158994292765587,{"$f":"VLOOKUP(A790,'[1]SD vs SY0.45'!$A$2:$E$20133,5,FALSE)","v":"PFKM"}]
["ENSGALG00000045228",107.86436833556,1.28375066496002,0.36405474849728,3.52625716395403,4.21477489625193E-4,1.53086047882039E-3,{"$f":"VLOOKUP(A791,'[1]SD vs SY0.45'!$A$2:$E$20133,5,FALSE)","v":"PTCRA"}]
["ENSGALG00000003241",40.1415250556067,1.2835166789888,0.315500858016165,4.06818760195903,{"v":4.7380228822803e-05,"d":"4.74E-05"},0.000217936518132824,{"$f":"VLOOKUP(A792,'[1]SD vs SY0.45'!$A$2:$E$20133,5,FALSE)","v":"CCDC28B"}]
["ENSGALG00000029380",32.0228609374096,1.28190414202438,0.325765183179062,3.93505570335846,{"v":8.31774023701736e-05,"d":"8.32E-05"},0.000360469963860969,{"$f":"VLOOKUP(A793,'[1]SD vs SY0.45'!$A$2:$E$20133,5,FALSE)","v":"NA"}]
["ENSGALG00000017036",497.323996871987,1.28129677892697,0.266277640668177,4.81188272403113,{"v":1.49515084782692e-06,"d":"1.50E-06"},{"v":9.42915770444927e-06,"d":"9.43E-06"},{"$f":"VLOOKUP(A794,'[1]SD vs SY0.45'!$A$2:$E$20133,5,FALSE)","v":"LHFPL6"}]
["ENSGALG00000047800",74.013064929753,1.28056912113211,0.302530515010613,4.23285935664104,{"v":2.30738810132384e-05,"d":"2.31E-05"},1.13746971697526E-4,{"$f":"VLOOKUP(A795,'[1]SD vs SY0.45'!$A$2:$E$20133,5,FALSE)","v":"NA"}]
["ENSGALG00000043947",33.0777856350725,1.28028356003808,0.413436288444005,3.09668888731687,0.00195695140803848,0.00600309000204042,{"$f":"VLOOKUP(A796,'[1]SD vs SY0.45'!$A$2:$E$20133,5,FALSE)","v":"LOC431250"}]
["ENSGALG00000012367",85.9695389391688,1.28024331559404,0.308735882544597,4.14672666177411,{"v":3.37262291401118e-05,"d":"3.37E-05"},0.000159825005739745,{"$f":"VLOOKUP(A797,'[1]SD vs SY0.45'!$A$2:$E$20133,5,FALSE)","v":"TRIM9"}]
["ENSGALG00000008508",5213.62268449027,1.27958820005135,0.249964929841042,5.11907090672709,{"v":3.07044513481349e-07,"d":"3.07E-07"},{"v":2.21701949995856e-06,"d":"2.22E-06"},{"$f":"VLOOKUP(A798,'[1]SD vs SY0.45'!$A$2:$E$20133,5,FALSE)","v":"PYGB"}]
["ENSGALG00000048647",49.1663560315882,1.27924736195961,0.403313054075442,3.17184715206446,1.51472707261439E-3,0.00478064251434859,{"$f":"VLOOKUP(A799,'[1]SD vs SY0.45'!$A$2:$E$20133,5,FALSE)","v":"NA"}]
["ENSGALG00000033039",3129.91481008747,1.27778249491593,0.261262482206577,4.89079979690923,{"v":1.00427070988263e-06,"d":"1.00E-06"},{"v":6.55698641859905e-06,"d":"6.56E-06"},{"$f":"VLOOKUP(A800,'[1]SD vs SY0.45'!$A$2:$E$20133,5,FALSE)","v":"ENG"}]
["ENSGALG00000039022",54.2148191911454,1.27524748117308,0.263385618106555,4.8417506253404,{"v":1.28700216889576e-06,"d":"1.29E-06"},{"v":8.25114554225315e-06,"d":"8.25E-06"},{"$f":"VLOOKUP(A801,'[1]SD vs SY0.45'!$A$2:$E$20133,5,FALSE)","v":"PDE1B"}]
["ENSGALG00000054216",40.9511681696272,1.27521860859415,0.327433582480918,3.89458710658814,{"v":9.83661396383009e-05,"d":"9.84E-05"},0.00041877866549734,{"$f":"VLOOKUP(A802,'[1]SD vs SY0.45'!$A$2:$E$20133,5,FALSE)","v":"NXPH4"}]
["ENSGALG00000004476",1386.93194108166,1.27413569652762,0.240702746794152,5.29339907208143,{"v":1.20063517581477E-7,"d":"1.20E-07"},{"v":9.36538528572963E-7,"d":"9.37E-07"},{"$f":"VLOOKUP(A803,'[1]SD vs SY0.45'!$A$2:$E$20133,5,FALSE)","v":"SEMA3G"}]
["ENSGALG00000002138",392.394273683622,1.27364453362804,0.202095984542173,6.30217634711222,{"v":2.9349495731434e-10,"d":"2.93E-10"},{"v":3.52416907653621E-9,"d":"3.52E-09"},{"$f":"VLOOKUP(A804,'[1]SD vs SY0.45'!$A$2:$E$20133,5,FALSE)","v":"HYAL2"}]
["ENSGALG00000029502",3183.54525433604,1.27351351472613,0.194386893926165,6.55143713140383,{"v":5.69859783624102e-11,"d":"5.70E-11"},{"v":7.59245368419331e-10,"d":"7.59E-10"},{"$f":"VLOOKUP(A805,'[1]SD vs SY0.45'!$A$2:$E$20133,5,FALSE)","v":"CLIC2"}]
["ENSGALG00000051597",615.145524868414,1.27206222227072,0.202676866290055,6.27630693899839,{"v":3.46709418329951e-10,"d":"3.47E-10"},{"v":4.10927341279577e-09,"d":"4.11E-09"},{"$f":"VLOOKUP(A806,'[1]SD vs SY0.45'!$A$2:$E$20133,5,FALSE)","v":"LOC107051197"}]
["ENSGALG00000004893",1991.97154082067,1.27158941154443,0.171710205264698,7.40543877158743,{"v":1.30717540872693E-13,"d":"1.31E-13"},{"v":2.67701517450355e-12,"d":"2.68E-12"},{"$f":"VLOOKUP(A807,'[1]SD vs SY0.45'!$A$2:$E$20133,5,FALSE)","v":"TMEM119"}]
["ENSGALG00000005849",1712.33217941607,1.2715095715841,0.222324541985308,5.7191597483112,{"v":1.0705211309707e-08,"d":"1.07E-08"},{"v":1.00232368897079e-07,"d":"1.00E-07"},{"$f":"VLOOKUP(A808,'[1]SD vs SY0.45'!$A$2:$E$20133,5,FALSE)","v":"PPDPF"}]
["ENSGALG00000009355",43.2563637743181,1.2706620270176,0.28090778455739,4.52341336506467,{"v":6.08502333525312e-06,"d":"6.09E-06"},{"v":3.39341798887404e-05,"d":"3.39E-05"},{"$f":"VLOOKUP(A809,'[1]SD vs SY0.45'!$A$2:$E$20133,5,FALSE)","v":"CLDN11"}]
["ENSGALG00000049819",418.084461658546,1.26960266441735,0.212065441806915,5.98684374785272,{"v":2.13952138607408e-09,"d":"2.14E-09"},{"v":2.2328846542419E-8,"d":"2.23E-08"},{"$f":"VLOOKUP(A810,'[1]SD vs SY0.45'!$A$2:$E$20133,5,FALSE)","v":"NA"}]
["ENSGALG00000038133",127.917555104745,1.26935257074304,0.238523060111211,5.32171845418724,{"v":1.02791575078861E-7,"d":"1.03E-07"},{"v":8.10906132439271e-07,"d":"8.11E-07"},{"$f":"VLOOKUP(A811,'[1]SD vs SY0.45'!$A$2:$E$20133,5,FALSE)","v":"SMIM3"}]
["ENSGALG00000037904",1143.4965958128,1.26933159563451,0.221352179432552,5.73444363135936,{"v":9.78329539419019e-09,"d":"9.78E-09"},{"v":9.22963413015653e-08,"d":"9.23E-08"},{"$f":"VLOOKUP(A812,'[1]SD vs SY0.45'!$A$2:$E$20133,5,FALSE)","v":"EIF4EBP2"}]
["ENSGALG00000048923",265.194493039812,1.26889377017952,0.249086639377543,5.09418639775475,{"v":3.50242052632723e-07,"d":"3.50E-07"},{"v":2.48859385293745e-06,"d":"2.49E-06"},{"$f":"VLOOKUP(A813,'[1]SD vs SY0.45'!$A$2:$E$20133,5,FALSE)","v":"CBARP"}]
["ENSGALG00000006203",59.1456699841993,1.26852064006518,0.297323084508941,4.26647208426573,{"v":1.98588330668042e-05,"d":"1.99E-05"},{"v":9.92484997219101e-05,"d":"9.92E-05"},{"$f":"VLOOKUP(A814,'[1]SD vs SY0.45'!$A$2:$E$20133,5,FALSE)","v":"C20H20orf96"}]
["ENSGALG00000050047",401.862744634527,1.26841795433867,0.180480588642174,7.02800209087014,{"v":2.09511759047748e-12,"d":"2.10E-12"},{"v":3.52982650635968e-11,"d":"3.53E-11"},{"$f":"VLOOKUP(A815,'[1]SD vs SY0.45'!$A$2:$E$20133,5,FALSE)","v":"LOC107049913"}]
["ENSGALG00000010182",617.428310493905,1.26742589995124,0.210716127895003,6.01484999089761,{"v":1.80053354867561e-09,"d":"1.80E-09"},{"v":1.9088949274892E-8,"d":"1.91E-08"},{"$f":"VLOOKUP(A816,'[1]SD vs SY0.45'!$A$2:$E$20133,5,FALSE)","v":"SLC29A1"}]
["ENSGALG00000052302",290.002816053889,1.26642017866608,0.185446885323399,6.82901832757983,{"v":8.54976526160281e-12,"d":"8.55E-12"},{"v":1.3124199389367E-10,"d":"1.31E-10"},{"$f":"VLOOKUP(A817,'[1]SD vs SY0.45'!$A$2:$E$20133,5,FALSE)","v":"PDE4DIP"}]
["ENSGALG00000030377",34.6246098691805,1.26633542106308,0.362805995903736,3.4903927591072,0.000482311143207648,1.72127138345947E-3,{"$f":"VLOOKUP(A818,'[1]SD vs SY0.45'!$A$2:$E$20133,5,FALSE)","v":"MDFI"}]
["ENSGALG00000030776",230.711110935507,1.26549509650887,0.283456605090526,4.46451087673442,{"v":8.02518720691216e-06,"d":"8.03E-06"},{"v":4.38785943291137e-05,"d":"4.39E-05"},{"$f":"VLOOKUP(A819,'[1]SD vs SY0.45'!$A$2:$E$20133,5,FALSE)","v":"METTL7A"}]
["ENSGALG00000028519",147.483294300532,1.26495701263238,0.314011383951298,4.02837947056268,{"v":5.6162641199042e-05,"d":"5.62E-05"},2.53570460277264E-4,{"$f":"VLOOKUP(A820,'[1]SD vs SY0.45'!$A$2:$E$20133,5,FALSE)","v":"CCR10"}]
["ENSGALG00000000293",110.324187129967,1.26456181012927,0.335081677555431,3.77389124751556,0.000160720844681061,0.000649419783051269,{"$f":"VLOOKUP(A821,'[1]SD vs SY0.45'!$A$2:$E$20133,5,FALSE)","v":"A2ML4"}]
["ENSGALG00000030917",13.2675107440326,1.26448853889699,0.428662768759211,2.94984456559435,0.00317933834797413,0.009216264730948,{"$f":"VLOOKUP(A822,'[1]SD vs SY0.45'!$A$2:$E$20133,5,FALSE)","v":"CCDC65"}]
["ENSGALG00000054174",137.194630171368,1.26390390014959,0.415090790260864,3.04488543182393,0.00232768961227174,0.00698990315864746,{"$f":"VLOOKUP(A823,'[1]SD vs SY0.45'!$A$2:$E$20133,5,FALSE)","v":"LOC100858579"}]
["ENSGALG00000029424",88.8053248544542,1.26294772547075,0.280235803921068,4.50673221551118,{"v":6.58336310731436e-06,"d":"6.58E-06"},{"v":3.64770345273661e-05,"d":"3.65E-05"},{"$f":"VLOOKUP(A824,'[1]SD vs SY0.45'!$A$2:$E$20133,5,FALSE)","v":"JPH3"}]
["ENSGALG00000011469",843.661874766229,1.26225718966092,0.312658123910495,4.03718020780507,{"v":5.40975135017413e-05,"d":"5.41E-05"},2.45137729281933E-4,{"$f":"VLOOKUP(A825,'[1]SD vs SY0.45'!$A$2:$E$20133,5,FALSE)","v":"IGFBP2"}]
["ENSGALG00000008007",624.788590647392,1.26222347113562,0.252157648789133,5.00569178526548,{"v":5.5661761035e-07,"d":"5.57E-07"},{"v":3.80720314364888E-6,"d":"3.81E-06"},{"$f":"VLOOKUP(A826,'[1]SD vs SY0.45'!$A$2:$E$20133,5,FALSE)","v":"ITGA11"}]
["ENSGALG00000029072",436.086751369889,1.26043643547683,0.275276749695796,4.57879728988997,{"v":4.67657136210615e-06,"d":"4.68E-06"},{"v":2.67648276079459e-05,"d":"2.68E-05"},{"$f":"VLOOKUP(A827,'[1]SD vs SY0.45'!$A$2:$E$20133,5,FALSE)","v":"NTN3"}]
["ENSGALG00000051676",22.5858473833986,1.26041342705029,0.396153810635756,3.1816264117908,1.46450595280316E-3,0.00464236371948742,{"$f":"VLOOKUP(A828,'[1]SD vs SY0.45'!$A$2:$E$20133,5,FALSE)","v":"INA"}]
["ENSGALG00000030064",880.837853177571,1.25969838554218,0.173256313765281,7.27072138478458,{"v":3.57572770525951e-13,"d":"3.58E-13"},{"v":6.82449809125654e-12,"d":"6.82E-12"},{"$f":"VLOOKUP(A829,'[1]SD vs SY0.45'!$A$2:$E$20133,5,FALSE)","v":"FYTTD1L"}]
["ENSGALG00000039170",127.041796810189,1.25945845270426,0.306101361215925,4.11451438079635,{"v":3.87995370862589e-05,"d":"3.88E-05"},0.000181834919492933,{"$f":"VLOOKUP(A830,'[1]SD vs SY0.45'!$A$2:$E$20133,5,FALSE)","v":"LHFPL5"}]
["ENSGALG00000000400",37.4108076181236,1.25870604757393,0.408634566740766,3.08027306063034,0.00206810893382302,0.00630928938830911,{"$f":"VLOOKUP(A831,'[1]SD vs SY0.45'!$A$2:$E$20133,5,FALSE)","v":"KCNC4"}]
["ENSGALG00000030534",47.7833238016862,1.2586190961441,0.29628853361773,4.24795074171841,{"v":2.15734811802545E-5,"d":"2.16E-05"},0.000106956976698342,{"$f":"VLOOKUP(A832,'[1]SD vs SY0.45'!$A$2:$E$20133,5,FALSE)","v":"SYT17"}]
["ENSGALG00000005981",21.2414294944532,1.25848157807628,0.510085432578021,2.46719764513916,0.0136175170558607,0.0328889802820184,{"$f":"VLOOKUP(A833,'[1]SD vs SY0.45'!$A$2:$E$20133,5,FALSE)","v":"GDF2"}]
["ENSGALG00000031359",43.2936351012945,1.2581291417229,0.337253271918735,3.73051722987009,0.000191087074134844,0.000756990421048651,{"$f":"VLOOKUP(A834,'[1]SD vs SY0.45'!$A$2:$E$20133,5,FALSE)","v":"GCK"}]
["ENSGALG00000041626",996.683872367039,1.25745212045186,0.175833326223129,7.15138675620674,{"v":8.59055743508399e-13,"d":"8.59E-13"},{"v":1.53824945544599e-11,"d":"1.54E-11"},{"$f":"VLOOKUP(A835,'[1]SD vs SY0.45'!$A$2:$E$20133,5,FALSE)","v":"MEIS1"}]
["ENSGALG00000012481",18.0494422296361,1.25696493742682,0.471605593262682,2.66528844310526,7.69223135335042E-3,0.0200067055408682,{"$f":"VLOOKUP(A836,'[1]SD vs SY0.45'!$A$2:$E$20133,5,FALSE)","v":"TNFAIP6"}]
["ENSGALG00000050763",1828.81060766393,1.25644457827619,0.101726789482908,12.351167127783,{"v":4.80098240537691e-35,"d":"4.80E-35"},{"v":9.48575921389639e-33,"d":"9.49E-33"},{"$f":"VLOOKUP(A837,'[1]SD vs SY0.45'!$A$2:$E$20133,5,FALSE)","v":"PBXIP1"}]
["ENSGALG00000000639",13.4653518573099,1.25569057924767,0.438144704308206,2.86592663770819,0.00415790588827107,0.0116621244844925,{"$f":"VLOOKUP(A838,'[1]SD vs SY0.45'!$A$2:$E$20133,5,FALSE)","v":"LRRN2"}]
["ENSGALG00000032415",22.2705453326247,1.25532485321448,0.37462588360639,3.35087592221317,8.0556388026719E-4,0.00272126271346525,{"$f":"VLOOKUP(A839,'[1]SD vs SY0.45'!$A$2:$E$20133,5,FALSE)","v":"SEZ6L"}]
["ENSGALG00000040759",647.413282978349,1.25475104363929,0.167662614840868,7.48378548688504,{"v":7.22117889749265e-14,"d":"7.22E-14"},{"v":1.55197326935358e-12,"d":"1.55E-12"},{"$f":"VLOOKUP(A840,'[1]SD vs SY0.45'!$A$2:$E$20133,5,FALSE)","v":"CPXM1"}]
["ENSGALG00000027864",2442.23962739507,1.25386658659865,0.18988627251213,6.60325030351288,{"v":4.0223953508695e-11,"d":"4.02E-11"},{"v":5.48098651767775e-10,"d":"5.48E-10"},{"$f":"VLOOKUP(A841,'[1]SD vs SY0.45'!$A$2:$E$20133,5,FALSE)","v":"NFKBIA"}]
["ENSGALG00000051358",218.420000407798,1.2528225910986,0.170929903956474,7.32945237843008,{"v":2.31095077309261e-13,"d":"2.31E-13"},{"v":4.54016961488826e-12,"d":"4.54E-12"},{"$f":"VLOOKUP(A842,'[1]SD vs SY0.45'!$A$2:$E$20133,5,FALSE)","v":"NA"}]
["ENSGALG00000026315",195.324508983241,1.25257217396423,0.283738396569881,4.41453179797518,{"v":1.01228836688309e-05,"d":"1.01E-05"},{"v":5.41558702615271E-5,"d":"5.42E-05"},{"$f":"VLOOKUP(A843,'[1]SD vs SY0.45'!$A$2:$E$20133,5,FALSE)","v":"RAB34"}]
["ENSGALG00000043088",215.99555467978,1.25109072685219,0.226940947705222,5.512847018147,{"v":3.53075113321153e-08,"d":"3.53E-08"},{"v":3.00632565882218e-07,"d":"3.01E-07"},{"$f":"VLOOKUP(A844,'[1]SD vs SY0.45'!$A$2:$E$20133,5,FALSE)","v":"ROBO4"}]
["ENSGALG00000003833",132.562979574673,1.25048112374406,0.161209183741448,7.75688515208676,{"v":8.70406847605677e-15,"d":"8.70E-15"},{"v":2.14663317153474e-13,"d":"2.15E-13"},{"$f":"VLOOKUP(A845,'[1]SD vs SY0.45'!$A$2:$E$20133,5,FALSE)","v":"CACNA1E"}]
["ENSGALG00000005831",11.7135895102666,1.25046917003788,0.504700424227341,2.47764636210135,0.0132252153919567,0.0320975460664365,{"$f":"VLOOKUP(A846,'[1]SD vs SY0.45'!$A$2:$E$20133,5,FALSE)","v":"DNAI1"}]
["ENSGALG00000022926",301.721642302588,1.24907134282865,0.217897448438607,5.73238168587632,{"v":9.9030110887576e-09,"d":"9.90E-09"},{"v":9.33244736044599e-08,"d":"9.33E-08"},{"$f":"VLOOKUP(A847,'[1]SD vs SY0.45'!$A$2:$E$20133,5,FALSE)","v":"GPR162"}]
["ENSGALG00000014662",497.377145515649,1.24826930278019,0.282652946945416,4.41626141269721,{"v":1.00422628754002e-05,"d":"1.00E-05"},{"v":5.37576430463617e-05,"d":"5.38E-05"},{"$f":"VLOOKUP(A848,'[1]SD vs SY0.45'!$A$2:$E$20133,5,FALSE)","v":"RBP5"}]
["ENSGALG00000038850",212.16926901869,1.24622290177989,0.241564114787573,5.15897364505401,{"v":2.483072570337e-07,"d":"2.48E-07"},{"v":1.8231918403906e-06,"d":"1.82E-06"},{"$f":"VLOOKUP(A849,'[1]SD vs SY0.45'!$A$2:$E$20133,5,FALSE)","v":"WNK2"}]
["ENSGALG00000049138",710.477977680747,1.24544808803657,0.153020989845275,8.13906699529189,{"v":3.98335525615693e-16,"d":"3.98E-16"},{"v":1.16205701071813e-14,"d":"1.16E-14"},{"$f":"VLOOKUP(A850,'[1]SD vs SY0.45'!$A$2:$E$20133,5,FALSE)","v":"TAF6"}]
["ENSGALG00000001569",548.286052947219,1.24541665337081,0.218813486757852,5.69168140329959,{"v":1.25794412623754E-8,"d":"1.26E-08"},{"v":1.15601873799641E-7,"d":"1.16E-07"},{"$f":"VLOOKUP(A851,'[1]SD vs SY0.45'!$A$2:$E$20133,5,FALSE)","v":"RHOC"}]
["ENSGALG00000026161",63.4484388150919,1.24415832394199,0.279754514156902,4.44732170878999,{"v":8.69475721723391e-06,"d":"8.69E-06"},{"v":4.71981716316097e-05,"d":"4.72E-05"},{"$f":"VLOOKUP(A852,'[1]SD vs SY0.45'!$A$2:$E$20133,5,FALSE)","v":"NA"}]
["ENSGALG00000005298",710.384853393884,1.24376491802101,0.212706458953307,5.84733027920907,{"v":4.99525073752895e-09,"d":"5.00E-09"},{"v":4.9545022574681e-08,"d":"4.95E-08"},{"$f":"VLOOKUP(A853,'[1]SD vs SY0.45'!$A$2:$E$20133,5,FALSE)","v":"ST6GALNAC6"}]
["ENSGALG00000000621",2287.09937995474,1.24371525630911,0.221824194795758,5.60676105442082,{"v":2.06147948358609E-8,"d":"2.06E-08"},{"v":1.83152497604044E-7,"d":"1.83E-07"},{"$f":"VLOOKUP(A854,'[1]SD vs SY0.45'!$A$2:$E$20133,5,FALSE)","v":"KANK3"}]
["ENSGALG00000008625",602.644274184557,1.2425387524508,0.143181828704956,8.6780477920226,{"v":4.0261986129956e-18,"d":"4.03E-18"},{"v":1.51195497373984E-16,"d":"1.51E-16"},{"$f":"VLOOKUP(A855,'[1]SD vs SY0.45'!$A$2:$E$20133,5,FALSE)","v":"ANAPC2"}]
["ENSGALG00000009957",1148.40270003196,1.24252877071923,0.240555328685264,5.16525149332659,{"v":2.40115851302813E-7,"d":"2.40E-07"},{"v":1.77052345487787E-6,"d":"1.77E-06"},{"$f":"VLOOKUP(A856,'[1]SD vs SY0.45'!$A$2:$E$20133,5,FALSE)","v":"TIE1"}]
["ENSGALG00000012911",45.7100024533193,1.24142123875455,0.302362570509677,4.10573715080526,{"v":4.03027562297178e-05,"d":"4.03E-05"},1.88119200688887E-4,{"$f":"VLOOKUP(A857,'[1]SD vs SY0.45'!$A$2:$E$20133,5,FALSE)","v":"SYT10"}]
["ENSGALG00000023818",184.352017954289,1.241371231534,0.364519102000603,3.40550392207414,0.000660420648899193,2.28330360358128E-3,{"$f":"VLOOKUP(A858,'[1]SD vs SY0.45'!$A$2:$E$20133,5,FALSE)","v":"HSPB9"}]
["ENSGALG00000034427",23.9201080763783,1.24048565891411,0.379146068458555,3.27178826872026,1.0686957802243E-3,0.00350196259531848,{"$f":"VLOOKUP(A859,'[1]SD vs SY0.45'!$A$2:$E$20133,5,FALSE)","v":"SCN4A"}]
["ENSGALG00000054034",1683.94221460404,1.23842150651643,0.136469116288479,9.07473822794133,{"v":1.13951080398517E-19,"d":"1.14E-19"},{"v":5.10635936827067e-18,"d":"5.11E-18"},{"$f":"VLOOKUP(A860,'[1]SD vs SY0.45'!$A$2:$E$20133,5,FALSE)","v":"TNKS1BP1"}]
["ENSGALG00000050796",857.922734732189,1.23772947086574,0.119160679413519,10.3870628881738,{"v":2.83963099643624E-25,"d":"2.84E-25"},{"v":2.26480110711178e-23,"d":"2.26E-23"},{"$f":"VLOOKUP(A861,'[1]SD vs SY0.45'!$A$2:$E$20133,5,FALSE)","v":"ACBD4"}]
["ENSGALG00000049538",1681.40513170944,1.23666280889128,0.349471063596148,3.53867011524702,0.000402148068996993,0.00147017419588955,{"$f":"VLOOKUP(A862,'[1]SD vs SY0.45'!$A$2:$E$20133,5,FALSE)","v":"RPS28"}]
["ENSGALG00000042684",22.5868744825063,1.23617270555334,0.439028764817284,2.81569866172167,0.00486712947680403,0.0134005986085814,{"$f":"VLOOKUP(A863,'[1]SD vs SY0.45'!$A$2:$E$20133,5,FALSE)","v":"NA"}]
["ENSGALG00000034478",57.3285964966003,1.23596439412774,0.511355710720146,2.41703449911046,0.0156475339931326,0.0371316600980752,{"$f":"VLOOKUP(A864,'[1]SD vs SY0.45'!$A$2:$E$20133,5,FALSE)","v":"CCL4"}]
["ENSGALG00000010044",59.9504627854314,1.23578959987183,0.2876193082341,4.29661557653838,{"v":1.73425565238574e-05,"d":"1.73E-05"},{"v":8.77320425604621e-05,"d":"8.77E-05"},{"$f":"VLOOKUP(A865,'[1]SD vs SY0.45'!$A$2:$E$20133,5,FALSE)","v":"KCNMB4"}]
["ENSGALG00000014176",70597.2368956892,1.23479645428817,0.34032417330188,3.62829487634679,0.000285299295038292,1.08473624378543E-3,{"$f":"VLOOKUP(A866,'[1]SD vs SY0.45'!$A$2:$E$20133,5,FALSE)","v":"PLA2G2E"}]
["ENSGALG00000048001",31.6118716400339,1.23243138786993,0.382248928511924,3.22415916943893,1.26343153640063E-3,0.00406726238166964,{"$f":"VLOOKUP(A867,'[1]SD vs SY0.45'!$A$2:$E$20133,5,FALSE)","v":"NA"}]
["ENSGALG00000040221",87.9132014067082,1.23217664261257,0.187583165765529,6.5686952109164,{"v":5.0758058426175e-11,"d":"5.08E-11"},{"v":6.80964785382642e-10,"d":"6.81E-10"},{"$f":"VLOOKUP(A868,'[1]SD vs SY0.45'!$A$2:$E$20133,5,FALSE)","v":"NA"}]
["ENSGALG00000027330",466.93177593792,1.23074244415675,0.238205028284985,5.16673578646842,{"v":2.38217634197918E-7,"d":"2.38E-07"},{"v":1.7587643336727e-06,"d":"1.76E-06"},{"$f":"VLOOKUP(A869,'[1]SD vs SY0.45'!$A$2:$E$20133,5,FALSE)","v":"SYNPO"}]
["ENSGALG00000041926",1993.40293105738,1.22991623560561,0.157402397846259,7.81383417555633,{"v":5.54740681864802e-15,"d":"5.55E-15"},{"v":1.40192968540455E-13,"d":"1.40E-13"},{"$f":"VLOOKUP(A870,'[1]SD vs SY0.45'!$A$2:$E$20133,5,FALSE)","v":"HEXIM1"}]
["ENSGALG00000005675",1666.53380895357,1.22863902031296,0.129056913161651,9.5201333288827,{"v":1.72957013241516e-21,"d":"1.73E-21"},{"v":9.42697049915436e-20,"d":"9.43E-20"},{"$f":"VLOOKUP(A871,'[1]SD vs SY0.45'!$A$2:$E$20133,5,FALSE)","v":"PTTG1IP"}]
["ENSGALG00000003261",7848.20995496065,1.22754693429255,0.214314330526094,5.72778745723252,{"v":1.01748932536515e-08,"d":"1.02E-08"},{"v":9.56792152521569e-08,"d":"9.57E-08"},{"$f":"VLOOKUP(A872,'[1]SD vs SY0.45'!$A$2:$E$20133,5,FALSE)","v":"PTRF"}]
["ENSGALG00000003939",1965.88121948601,1.22669433574553,0.354660756908623,3.45878226403714,5.42623371044895E-4,1.91448712507256E-3,{"$f":"VLOOKUP(A873,'[1]SD vs SY0.45'!$A$2:$E$20133,5,FALSE)","v":"KLF2"}]
["ENSGALG00000011035",250.451442727761,1.22578121064959,0.224186204003906,5.46769243047727,{"v":4.55932120893391e-08,"d":"4.56E-08"},{"v":3.81119797402567e-07,"d":"3.81E-07"},{"$f":"VLOOKUP(A874,'[1]SD vs SY0.45'!$A$2:$E$20133,5,FALSE)","v":"AK4"}]
["ENSGALG00000053936",243.510362753854,1.22574423508448,0.264556277293574,4.63320790428378,{"v":3.60042632500263E-6,"d":"3.60E-06"},{"v":2.10918505770959E-5,"d":"2.11E-05"},{"$f":"VLOOKUP(A875,'[1]SD vs SY0.45'!$A$2:$E$20133,5,FALSE)","v":"NA"}]
["ENSGALG00000026077",9469.2632466769,1.22484058503102,0.136788711833075,8.95425191609164,{"v":3.42046996286419E-19,"d":"3.42E-19"},{"v":1.45052954254438e-17,"d":"1.45E-17"},{"$f":"VLOOKUP(A876,'[1]SD vs SY0.45'!$A$2:$E$20133,5,FALSE)","v":"ALDOC"}]
["ENSGALG00000007015",449.847645105194,1.22482061889716,0.281121834272061,4.35690319846097,{"v":1.31915573565631E-5,"d":"1.32E-05"},{"v":6.84661515697202e-05,"d":"6.85E-05"},{"$f":"VLOOKUP(A877,'[1]SD vs SY0.45'!$A$2:$E$20133,5,FALSE)","v":"CD40"}]
["ENSGALG00000010165",17.5635453105942,1.22481897125219,0.500965869774282,2.44491500349924,0.0144886282819955,0.0346728731838823,{"$f":"VLOOKUP(A878,'[1]SD vs SY0.45'!$A$2:$E$20133,5,FALSE)","v":"TCTE1"}]
["ENSGALG00000011484",45.4478030758226,1.22454755472909,0.362826053579635,3.37502652482568,0.000738085765845917,0.00251826868343072,{"$f":"VLOOKUP(A879,'[1]SD vs SY0.45'!$A$2:$E$20133,5,FALSE)","v":"CMTM8"}]
["ENSGALG00000005631",28.8531973049387,1.2243841645857,0.371394679540129,3.29671972173044,0.000978210662817665,0.00323779721957181,{"$f":"VLOOKUP(A880,'[1]SD vs SY0.45'!$A$2:$E$20133,5,FALSE)","v":"TRPM2"}]
["ENSGALG00000055092",176.48109286727,1.22425785377976,0.225702266314207,5.42421604254265,{"v":5.8209444443346e-08,"d":"5.82E-08"},{"v":4.78076339412592e-07,"d":"4.78E-07"},{"$f":"VLOOKUP(A881,'[1]SD vs SY0.45'!$A$2:$E$20133,5,FALSE)","v":"DCAF11"}]
["ENSGALG00000035839",101.032182850048,1.22379187149928,0.22521636436689,5.43384968911787,{"v":5.5151043520609e-08,"d":"5.52E-08"},{"v":4.54244999380781e-07,"d":"4.54E-07"},{"$f":"VLOOKUP(A882,'[1]SD vs SY0.45'!$A$2:$E$20133,5,FALSE)","v":"TMEM255B"}]
["ENSGALG00000051049",864.253337041309,1.22313578847762,0.166012839914794,7.36771799762832,{"v":1.73573461861809e-13,"d":"1.74E-13"},{"v":3.4808786405897e-12,"d":"3.48E-12"},{"$f":"VLOOKUP(A883,'[1]SD vs SY0.45'!$A$2:$E$20133,5,FALSE)","v":"LOC107050371"}]
["ENSGALG00000051860",132.175052413282,1.22284386147958,0.2839626289535,4.30635491010272,{"v":1.65966700391689e-05,"d":"1.66E-05"},{"v":8.43021624221532e-05,"d":"8.43E-05"},{"$f":"VLOOKUP(A884,'[1]SD vs SY0.45'!$A$2:$E$20133,5,FALSE)","v":"NA"}]
["ENSGALG00000032882",166.680737496602,1.22258728874164,0.274537455318681,4.45326226005288,{"v":8.45753450414996e-06,"d":"8.46E-06"},{"v":4.60542287578e-05,"d":"4.61E-05"},{"$f":"VLOOKUP(A885,'[1]SD vs SY0.45'!$A$2:$E$20133,5,FALSE)","v":"EVA1C"}]
["ENSGALG00000041752",84.2246333239158,1.22222406538548,0.362162848703164,3.37479139498166,7.38716633812394E-4,0.00251992664549659,{"$f":"VLOOKUP(A886,'[1]SD vs SY0.45'!$A$2:$E$20133,5,FALSE)","v":"CD164L2"}]
["ENSGALG00000020342",425.146665459818,1.22136585749545,0.245371228330609,4.97762458053884,{"v":6.43693512641822e-07,"d":"6.44E-07"},{"v":4.35991394791716e-06,"d":"4.36E-06"},{"$f":"VLOOKUP(A887,'[1]SD vs SY0.45'!$A$2:$E$20133,5,FALSE)","v":"ABHD12B"}]
["ENSGALG00000001664",560.794421098638,1.22118546854211,0.106658412284298,11.4494997852307,{"v":2.36506315228591e-30,"d":"2.37E-30"},{"v":3.02362889917611e-28,"d":"3.02E-28"},{"$f":"VLOOKUP(A888,'[1]SD vs SY0.45'!$A$2:$E$20133,5,FALSE)","v":"PTPN9"}]
["ENSGALG00000046708",734.331657179803,1.22109295158414,0.223561966832491,5.46198876707449,{"v":4.70829878554789e-08,"d":"4.71E-08"},{"v":3.92440992254655e-07,"d":"3.92E-07"},{"$f":"VLOOKUP(A889,'[1]SD vs SY0.45'!$A$2:$E$20133,5,FALSE)","v":"PTGES"}]
["ENSGALG00000020320",556.45838252079,1.21987158963449,0.180383195249738,6.76266759742001,{"v":1.35473818983085E-11,"d":"1.35E-11"},{"v":1.99786538647913e-10,"d":"2.00E-10"},{"$f":"VLOOKUP(A890,'[1]SD vs SY0.45'!$A$2:$E$20133,5,FALSE)","v":"NA"}]
["ENSGALG00000016473",127.118536152369,1.21973330885382,0.306160570657204,3.98396601572678,{"v":6.77745691291596e-05,"d":"6.78E-05"},0.000299755872466978,{"$f":"VLOOKUP(A891,'[1]SD vs SY0.45'!$A$2:$E$20133,5,FALSE)","v":"OSR1"}]
["ENSGALG00000049390",23.5704994175647,1.21937794883299,0.41920806089931,2.90876550946351,0.00362858912354698,0.0103571445256048,{"$f":"VLOOKUP(A892,'[1]SD vs SY0.45'!$A$2:$E$20133,5,FALSE)","v":"NA"}]
["ENSGALG00000048769",125.891344923926,1.21897073363424,0.255075868178351,4.77885557085283,{"v":1.76295771029454E-6,"d":"1.76E-06"},{"v":1.09590796242014E-5,"d":"1.10E-05"},{"$f":"VLOOKUP(A893,'[1]SD vs SY0.45'!$A$2:$E$20133,5,FALSE)","v":"RRP8"}]
["ENSGALG00000020747",407.114634629819,1.21884936999954,0.132201854223668,9.21960873511962,{"v":2.98186280572811E-20,"d":"2.98E-20"},{"v":1.44416848476865e-18,"d":"1.44E-18"},{"$f":"VLOOKUP(A894,'[1]SD vs SY0.45'!$A$2:$E$20133,5,FALSE)","v":"MBD4"}]
["ENSGALG00000005797",125.851832453601,1.21875386903937,0.251787502868788,4.8404065140377,{"v":1.29573800002572e-06,"d":"1.30E-06"},{"v":8.28881405682381e-06,"d":"8.29E-06"},{"$f":"VLOOKUP(A895,'[1]SD vs SY0.45'!$A$2:$E$20133,5,FALSE)","v":"COL20A1"}]
["ENSGALG00000042607",429.947857853839,1.21868035056036,0.251921238211107,4.83754509629365,{"v":1.31452566709734e-06,"d":"1.31E-06"},{"v":8.39355775755472e-06,"d":"8.39E-06"},{"$f":"VLOOKUP(A896,'[1]SD vs SY0.45'!$A$2:$E$20133,5,FALSE)","v":"RSPO3"}]
["ENSGALG00000047773",43.1219652486752,1.21816312647024,0.37018066878898,3.29072593243557,0.000999292196015898,0.00329815744345642,{"$f":"VLOOKUP(A897,'[1]SD vs SY0.45'!$A$2:$E$20133,5,FALSE)","v":"C4H2orf81"}]
["ENSGALG00000041611",2224.2932343988,1.21709173418523,0.247012987362695,4.927237823322,{"v":8.34002190057105e-07,"d":"8.34E-07"},{"v":5.53254333404154E-6,"d":"5.53E-06"},{"$f":"VLOOKUP(A898,'[1]SD vs SY0.45'!$A$2:$E$20133,5,FALSE)","v":"NA"}]
["ENSGALG00000027629",809.049368215684,1.21689080938521,0.206602949420448,5.88999727641244,{"v":3.8620198372979e-09,"d":"3.86E-09"},{"v":3.88368646102363e-08,"d":"3.88E-08"},{"$f":"VLOOKUP(A899,'[1]SD vs SY0.45'!$A$2:$E$20133,5,FALSE)","v":"GNG2"}]
["ENSGALG00000023904",1070.36809514123,1.21688593182675,0.29955578412253,4.06230156894248,{"v":4.85912474287177e-05,"d":"4.86E-05"},0.000222740843407096,{"$f":"VLOOKUP(A900,'[1]SD vs SY0.45'!$A$2:$E$20133,5,FALSE)","v":"FIBIN"}]
["ENSGALG00000050539",64.810435758927,1.21670143851848,0.242785480063903,5.01142588180413,{"v":5.40281931351659E-7,"d":"5.40E-07"},{"v":3.70713573023335e-06,"d":"3.71E-06"},{"$f":"VLOOKUP(A901,'[1]SD vs SY0.45'!$A$2:$E$20133,5,FALSE)","v":"NA"}]
["ENSGALG00000052816",266.957421177093,1.21581320118236,0.293850825662587,4.13751841071364,{"v":3.51082286802078e-05,"d":"3.51E-05"},0.000165967039712554,{"$f":"VLOOKUP(A902,'[1]SD vs SY0.45'!$A$2:$E$20133,5,FALSE)","v":"CCNQ"}]
["ENSGALG00000053140",91.5103797633696,1.21530867742398,0.34463771978574,3.52633681008431,4.2135074526321E-4,1.53086047882039E-3,{"$f":"VLOOKUP(A903,'[1]SD vs SY0.45'!$A$2:$E$20133,5,FALSE)","v":"LOC112533501"}]
["ENSGALG00000002804",27.6235690791423,1.21331308207546,0.403084532584893,3.01007104960031,0.00261186584360504,0.00774957532811618,{"$f":"VLOOKUP(A904,'[1]SD vs SY0.45'!$A$2:$E$20133,5,FALSE)","v":"RND2"}]
["ENSGALG00000010379",16.3285469991242,1.21240738859507,0.416911999554266,2.90806546679225,3.63672196013074E-3,0.0103777588578358,{"$f":"VLOOKUP(A905,'[1]SD vs SY0.45'!$A$2:$E$20133,5,FALSE)","v":"SNCA"}]
["ENSGALG00000045199",3485.91411371043,1.21222653001783,0.274995252164588,4.40817257925709,{"v":1.04246466174143E-5,"d":"1.04E-05"},{"v":5.55821314740825E-5,"d":"5.56E-05"},{"$f":"VLOOKUP(A906,'[1]SD vs SY0.45'!$A$2:$E$20133,5,FALSE)","v":"LOC107053353"}]
["ENSGALG00000055069",325.607584717324,1.21207331477324,0.141945830580433,8.53898497628944,{"v":1.35405978786516E-17,"d":"1.35E-17"},{"v":4.70860750632229e-16,"d":"4.71E-16"},{"$f":"VLOOKUP(A907,'[1]SD vs SY0.45'!$A$2:$E$20133,5,FALSE)","v":"NA"}]
["ENSGALG00000030913",34.5982544891819,1.21167753652023,0.298985460384352,4.05263030169625,{"v":5.06449999750674e-05,"d":"5.06E-05"},2.31119321408529E-4,{"$f":"VLOOKUP(A908,'[1]SD vs SY0.45'!$A$2:$E$20133,5,FALSE)","v":"NA"}]
["ENSGALG00000002234",689.418678177673,1.21133427879054,0.188826263474998,6.41507307563137,{"v":1.40755328221049E-10,"d":"1.41E-10"},{"v":1.7682896616903E-9,"d":"1.77E-09"},{"$f":"VLOOKUP(A909,'[1]SD vs SY0.45'!$A$2:$E$20133,5,FALSE)","v":"UNC13D"}]
["ENSGALG00000054999",299.5818423378,1.21087194883691,0.236084773984098,5.12897095565541,{"v":2.9133028163215e-07,"d":"2.91E-07"},{"v":2.11144627208762E-6,"d":"2.11E-06"},{"$f":"VLOOKUP(A910,'[1]SD vs SY0.45'!$A$2:$E$20133,5,FALSE)","v":"NA"}]
["ENSGALG00000048374",84.9371343694179,1.20935545041028,0.20598435306087,5.87110347188798,{"v":4.32903962138707e-09,"d":"4.33E-09"},{"v":4.32580528144006e-08,"d":"4.33E-08"},{"$f":"VLOOKUP(A911,'[1]SD vs SY0.45'!$A$2:$E$20133,5,FALSE)","v":"NA"}]
["ENSGALG00000001314",479.376423125947,1.20922861484093,0.243536393143755,4.96528916779657,{"v":6.85987800671532e-07,"d":"6.86E-07"},{"v":4.62476537040556e-06,"d":"4.62E-06"},{"$f":"VLOOKUP(A912,'[1]SD vs SY0.45'!$A$2:$E$20133,5,FALSE)","v":"PTGS1"}]
["ENSGALG00000051645",155.531851062612,1.20798856284121,0.390678238800998,3.09202930408554,0.00198793223679622,0.00608953097272303,{"$f":"VLOOKUP(A913,'[1]SD vs SY0.45'!$A$2:$E$20133,5,FALSE)","v":"CDC6"}]
["ENSGALG00000009737",232.099679720248,1.20664513224261,0.308004686813033,3.91761938666563,{"v":8.94277586997151e-05,"d":"8.94E-05"},3.84680960047488E-4,{"$f":"VLOOKUP(A914,'[1]SD vs SY0.45'!$A$2:$E$20133,5,FALSE)","v":"TAC1"}]
["ENSGALG00000047001",60.5034031553817,1.20630226770478,0.261506136656446,4.61290233234398,{"v":3.97084917349949E-6,"d":"3.97E-06"},{"v":2.30521384239184e-05,"d":"2.31E-05"},{"$f":"VLOOKUP(A915,'[1]SD vs SY0.45'!$A$2:$E$20133,5,FALSE)","v":"NA"}]
["ENSGALG00000028565",1988.17171715284,1.20627405510965,0.215785148320603,5.59016255056361,{"v":2.26857144864063e-08,"d":"2.27E-08"},{"v":2.00119998871205e-07,"d":"2.00E-07"},{"$f":"VLOOKUP(A916,'[1]SD vs SY0.45'!$A$2:$E$20133,5,FALSE)","v":"PCDHGC3,PCDHGC3"}]
["ENSGALG00000041630",1117.48510308606,1.20541749896716,0.1801831831458,6.68995562139536,{"v":2.23238285462133e-11,"d":"2.23E-11"},{"v":3.18151153223779E-10,"d":"3.18E-10"},{"$f":"VLOOKUP(A917,'[1]SD vs SY0.45'!$A$2:$E$20133,5,FALSE)","v":"NFIX"}]
["ENSGALG00000039990",4516.96170772762,1.20499872238942,0.222651758217169,5.41203326682962,{"v":6.2313108705603e-08,"d":"6.23E-08"},{"v":5.08895265882724e-07,"d":"5.09E-07"},{"$f":"VLOOKUP(A918,'[1]SD vs SY0.45'!$A$2:$E$20133,5,FALSE)","v":"TNC"}]
["ENSGALG00000031642",3974.75140985492,1.20421801755039,0.118384380371961,10.1721022128659,{"v":2.64145226735645E-24,"d":"2.64E-24"},{"v":1.92162889424797e-22,"d":"1.92E-22"},{"$f":"VLOOKUP(A919,'[1]SD vs SY0.45'!$A$2:$E$20133,5,FALSE)","v":"ILK"}]
["ENSGALG00000032955",577.190510567888,1.20308333991201,0.246533407227239,4.8800012681571,{"v":1.0608515844402e-06,"d":"1.06E-06"},{"v":6.89276027603208e-06,"d":"6.89E-06"},{"$f":"VLOOKUP(A920,'[1]SD vs SY0.45'!$A$2:$E$20133,5,FALSE)","v":"TUFT1"}]
["ENSGALG00000007900",467.30367199058,1.2027095388402,0.180872032780531,6.64950529029306,{"v":2.94079778745156e-11,"d":"2.94E-11"},{"v":4.10037298559906e-10,"d":"4.10E-10"},{"$f":"VLOOKUP(A921,'[1]SD vs SY0.45'!$A$2:$E$20133,5,FALSE)","v":"COMMD3"}]
["ENSGALG00000026970",7631.14872833632,1.20255500249238,0.287813522825763,4.17824357481765,{"v":2.93768954487223E-5,"d":"2.94E-05"},0.000141489219159816,{"$f":"VLOOKUP(A922,'[1]SD vs SY0.45'!$A$2:$E$20133,5,FALSE)","v":"IFITM3"}]
["ENSGALG00000008787",233.020452537137,1.2020229611826,0.187527494632392,6.40984919858769,{"v":1.45663644855801e-10,"d":"1.46E-10"},{"v":1.82731153903883E-9,"d":"1.83E-09"},{"$f":"VLOOKUP(A923,'[1]SD vs SY0.45'!$A$2:$E$20133,5,FALSE)","v":"CEP68"}]
["ENSGALG00000043506",30.8677243301284,1.201870779467,0.367449600464382,3.2708452477512,1.07226569191649E-3,0.00351233677192012,{"$f":"VLOOKUP(A924,'[1]SD vs SY0.45'!$A$2:$E$20133,5,FALSE)","v":"NMB"}]
["ENSGALG00000025729",30.3403230614065,1.20138380794643,0.345139170522329,3.48086775003912,0.000499792199749112,0.00177707300143922,{"$f":"VLOOKUP(A925,'[1]SD vs SY0.45'!$A$2:$E$20133,5,FALSE)","v":"NA"}]
["ENSGALG00000046727",138.310756194701,1.20127063263333,0.183854247008264,6.5338204157956,{"v":6.41128158507014e-11,"d":"6.41E-11"},{"v":8.44492067572838e-10,"d":"8.44E-10"},{"$f":"VLOOKUP(A926,'[1]SD vs SY0.45'!$A$2:$E$20133,5,FALSE)","v":"INPP1"}]
["ENSGALG00000036283",656.059775608968,1.20092870800783,0.0958693316223327,12.5267245289533,{"v":5.33196432478994e-36,"d":"5.33E-36"},{"v":1.15883579643903E-33,"d":"1.16E-33"},{"$f":"VLOOKUP(A927,'[1]SD vs SY0.45'!$A$2:$E$20133,5,FALSE)","v":"RBM8A"}]
["ENSGALG00000003885",88.3896125673743,1.20086699503445,0.267114625338545,4.49569915354674,{"v":6.93417212751194e-06,"d":"6.93E-06"},{"v":3.83352784677425e-05,"d":"3.83E-05"},{"$f":"VLOOKUP(A928,'[1]SD vs SY0.45'!$A$2:$E$20133,5,FALSE)","v":"KIAA1614"}]
["ENSGALG00000006796",62.8158641945053,1.20086615469573,0.350807110473199,3.42315226471864,0.000618993934642286,0.00215593901074227,{"$f":"VLOOKUP(A929,'[1]SD vs SY0.45'!$A$2:$E$20133,5,FALSE)","v":"SRPX2"}]
["ENSGALG00000008018",43.7652964465195,1.20011444613072,0.379137085374821,3.16538395325866,0.00154878428293665,0.00487133001581396,{"$f":"VLOOKUP(A930,'[1]SD vs SY0.45'!$A$2:$E$20133,5,FALSE)","v":"SNAI1"}]
["ENSGALG00000049378",33.8618069045431,1.19973480713477,0.43114082243536,2.78269823849642,0.00539089204271148,0.0146868442410881,{"$f":"VLOOKUP(A931,'[1]SD vs SY0.45'!$A$2:$E$20133,5,FALSE)","v":"NA"}]
["ENSGALG00000001442",45.7075189819853,1.19962286802757,0.255309602073375,4.69869859294519,{"v":2.61824518262865E-6,"d":"2.62E-06"},{"v":1.5746602902236E-5,"d":"1.57E-05"},{"$f":"VLOOKUP(A932,'[1]SD vs SY0.45'!$A$2:$E$20133,5,FALSE)","v":"OPCML"}]
["ENSGALG00000029439",101.62852070389,1.19956278561442,0.276614728102868,4.33658321030657,{"v":1.44714658092132E-5,"d":"1.45E-05"},{"v":7.44644498445662e-05,"d":"7.45E-05"},{"$f":"VLOOKUP(A933,'[1]SD vs SY0.45'!$A$2:$E$20133,5,FALSE)","v":"HOXC9"}]
["ENSGALG00000039587",134.89834581322,1.19896740124336,0.419275382766603,2.85961792779708,0.00424151683819155,0.0118774767701138,{"$f":"VLOOKUP(A934,'[1]SD vs SY0.45'!$A$2:$E$20133,5,FALSE)","v":"SYNDIG1"}]
["ENSGALG00000052537",161.034395207465,1.19885904376605,0.243536725187206,4.92270331238333,{"v":8.53568101073197e-07,"d":"8.54E-07"},{"v":5.64940562366185e-06,"d":"5.65E-06"},{"$f":"VLOOKUP(A935,'[1]SD vs SY0.45'!$A$2:$E$20133,5,FALSE)","v":"NA"}]
["ENSGALG00000001483",877.19286788743,1.19781078014773,0.249717831454474,4.79665698348861,{"v":1.61335527027172e-06,"d":"1.61E-06"},{"v":1.0108615525843E-5,"d":"1.01E-05"},{"$f":"VLOOKUP(A936,'[1]SD vs SY0.45'!$A$2:$E$20133,5,FALSE)","v":"LOC419409"}]
["ENSGALG00000017658",73.4523793553007,1.19768668453304,0.371643408996647,3.22267704885853,0.00126998652592755,0.00408760750209224,{"$f":"VLOOKUP(A937,'[1]SD vs SY0.45'!$A$2:$E$20133,5,FALSE)","v":"GAS1"}]
["ENSGALG00000053250",3117.70151224774,1.1969816262896,0.110319872377408,10.8500998097123,{"v":1.99207696690189e-27,"d":"1.99E-27"},{"v":1.96796830815473E-25,"d":"1.97E-25"},{"$f":"VLOOKUP(A938,'[1]SD vs SY0.45'!$A$2:$E$20133,5,FALSE)","v":"ESYT1"}]
["ENSGALG00000026677",299.67552921744,1.19576050584605,0.311597737664031,3.83751343899466,0.000124286434633866,0.000515375206052715,{"$f":"VLOOKUP(A939,'[1]SD vs SY0.45'!$A$2:$E$20133,5,FALSE)","v":"F10"}]
["ENSGALG00000011181",438.506161536016,1.19575410252789,0.376243678378761,3.1781373913853,1.48224494391796E-3,0.00469260612525522,{"$f":"VLOOKUP(A940,'[1]SD vs SY0.45'!$A$2:$E$20133,5,FALSE)","v":"FKBP14"}]
["ENSGALG00000033404",780.172517337183,1.19539259225302,0.199985269522418,5.9774032112851,{"v":2.26722547891854e-09,"d":"2.27E-09"},{"v":2.35485360824114e-08,"d":"2.35E-08"},{"$f":"VLOOKUP(A941,'[1]SD vs SY0.45'!$A$2:$E$20133,5,FALSE)","v":"RARG"}]
["ENSGALG00000045362",31.0784773105748,1.19524900198626,0.412572323151379,2.89706539899843,0.00376671224940986,0.0107030275993609,{"$f":"VLOOKUP(A942,'[1]SD vs SY0.45'!$A$2:$E$20133,5,FALSE)","v":"NA"}]
["ENSGALG00000048310",18.5998238786951,1.1944496422519,0.414822206464591,2.8794255072115,0.00398400404503946,0.0112196110027698,{"$f":"VLOOKUP(A943,'[1]SD vs SY0.45'!$A$2:$E$20133,5,FALSE)","v":"NA"}]
["ENSGALG00000017715",1946.55687457401,1.19422927524399,0.201032200119627,5.94048751659356,{"v":2.84175698688451e-09,"d":"2.84E-09"},{"v":2.91415415956173e-08,"d":"2.91E-08"},{"$f":"VLOOKUP(A944,'[1]SD vs SY0.45'!$A$2:$E$20133,5,FALSE)","v":"TINAGL1"}]
["ENSGALG00000043606",423.626827179411,1.19395002519844,0.234307062422907,5.09566383894757,{"v":3.47521317366621E-7,"d":"3.48E-07"},{"v":2.4733332562642e-06,"d":"2.47E-06"},{"$f":"VLOOKUP(A945,'[1]SD vs SY0.45'!$A$2:$E$20133,5,FALSE)","v":"NA"}]
["ENSGALG00000029367",2213.74395815098,1.1939366028072,0.134217991013909,8.89550345514761,{"v":5.81550478561806e-19,"d":"5.82E-19"},{"v":2.39607065657681e-17,"d":"2.40E-17"},{"$f":"VLOOKUP(A946,'[1]SD vs SY0.45'!$A$2:$E$20133,5,FALSE)","v":"CYBA"}]
["ENSGALG00000034688",315.695539310268,1.19343204740961,0.272155014750653,4.38511871075764,{"v":1.15922542932253E-5,"d":"1.16E-05"},{"v":6.10401348868288e-05,"d":"6.10E-05"},{"$f":"VLOOKUP(A947,'[1]SD vs SY0.45'!$A$2:$E$20133,5,FALSE)","v":"TIMELESS"}]
["ENSGALG00000046261",223.193561076222,1.19257620249138,0.29011714248685,4.11067126978003,{"v":3.94510526752573e-05,"d":"3.95E-05"},1.84540073409927E-4,{"$f":"VLOOKUP(A948,'[1]SD vs SY0.45'!$A$2:$E$20133,5,FALSE)","v":"LRMPL"}]
["ENSGALG00000029731",4162.89874390848,1.19180760267375,0.184818694812529,6.44852299104624,{"v":1.12945431828403e-10,"d":"1.13E-10"},{"v":1.43972303753698e-09,"d":"1.44E-09"},{"$f":"VLOOKUP(A949,'[1]SD vs SY0.45'!$A$2:$E$20133,5,FALSE)","v":"TPP1"}]
["ENSGALG00000005094",643.545290927422,1.19154097771155,0.325974969902578,3.65531432694865,0.000256867060429041,0.000987648735002154,{"$f":"VLOOKUP(A950,'[1]SD vs SY0.45'!$A$2:$E$20133,5,FALSE)","v":"GRAPL"}]
["ENSGALG00000002707",61.715022717678,1.19123809082757,0.298092012870912,3.99620935614746,{"v":6.43648176943234e-05,"d":"6.44E-05"},0.0002859251623023,{"$f":"VLOOKUP(A951,'[1]SD vs SY0.45'!$A$2:$E$20133,5,FALSE)","v":"CHRNB2"}]
["ENSGALG00000029614",317.6214879667,1.19118687992126,0.23155303027194,5.14433725407225,{"v":2.68466868760387e-07,"d":"2.68E-07"},{"v":1.95652072755316e-06,"d":"1.96E-06"},{"$f":"VLOOKUP(A952,'[1]SD vs SY0.45'!$A$2:$E$20133,5,FALSE)","v":"FAM174C"}]
["ENSGALG00000039733",205.28352030529,1.19092643887352,0.178710831354274,6.66398577998131,{"v":2.6649926216167e-11,"d":"2.66E-11"},{"v":3.74282929822695e-10,"d":"3.74E-10"},{"$f":"VLOOKUP(A953,'[1]SD vs SY0.45'!$A$2:$E$20133,5,FALSE)","v":"LOC426514"}]
["ENSGALG00000007381",2858.32229992686,1.19066744791735,0.274686916729633,4.33463472557485,{"v":1.46002349853261E-5,"d":"1.46E-05"},{"v":7.50160418705274e-05,"d":"7.50E-05"},{"$f":"VLOOKUP(A954,'[1]SD vs SY0.45'!$A$2:$E$20133,5,FALSE)","v":"NA"}]
["ENSGALG00000040703",2659.24317295334,1.1905698764345,0.0886991685179298,13.4225596059994,{"v":4.46037103058882e-41,"d":"4.46E-41"},{"v":1.36056966857628e-38,"d":"1.36E-38"},{"$f":"VLOOKUP(A955,'[1]SD vs SY0.45'!$A$2:$E$20133,5,FALSE)","v":"FLOT1"}]
["ENSGALG00000026914",36.4196658011967,1.19004824580493,0.399417833309821,2.97945696601342,0.00288759787487336,0.00847942311272135,{"$f":"VLOOKUP(A956,'[1]SD vs SY0.45'!$A$2:$E$20133,5,FALSE)","v":"DOK3"}]
["ENSGALG00000010226",245.647558619587,1.18979471570121,0.191746534347196,6.20503895808015,{"v":5.4683354649807e-10,"d":"5.47E-10"},{"v":6.3049037619111e-09,"d":"6.30E-09"},{"$f":"VLOOKUP(A957,'[1]SD vs SY0.45'!$A$2:$E$20133,5,FALSE)","v":"MUTYH"}]
["ENSGALG00000032644",1429.27606235267,1.18969104182782,0.115412080349347,10.308202037661,{"v":6.47003982303203e-25,"d":"6.47E-25"},{"v":4.93397291241482e-23,"d":"4.93E-23"},{"$f":"VLOOKUP(A958,'[1]SD vs SY0.45'!$A$2:$E$20133,5,FALSE)","v":"NA"}]
["ENSGALG00000054572",97.8083457718596,1.18946117104802,0.331146711370663,3.59194619848305,0.000328217620637966,1.22698769512628E-3,{"$f":"VLOOKUP(A959,'[1]SD vs SY0.45'!$A$2:$E$20133,5,FALSE)","v":"NA"}]
["ENSGALG00000015902",91.1914086741061,1.18918977612439,0.3350013999454,3.54980539280792,0.000385516023994394,0.00141592038639428,{"$f":"VLOOKUP(A960,'[1]SD vs SY0.45'!$A$2:$E$20133,5,FALSE)","v":"CD8BP"}]
["ENSGALG00000006937",169.188201551872,1.18809401733022,0.179096509507706,6.63382005934124,{"v":3.27108565196311e-11,"d":"3.27E-11"},{"v":4.51742384675795e-10,"d":"4.52E-10"},{"$f":"VLOOKUP(A961,'[1]SD vs SY0.45'!$A$2:$E$20133,5,FALSE)","v":"P4HTM"}]
["ENSGALG00000010847",183.782614056735,1.18694269002473,0.310658159248214,3.82073560500425,1.33054230690649E-4,0.000548202348108605,{"$f":"VLOOKUP(A962,'[1]SD vs SY0.45'!$A$2:$E$20133,5,FALSE)","v":"VEGFC"}]
["ENSGALG00000048830",104.843409236134,1.18650249626075,0.171854900551353,6.90409463130908,{"v":5.05246125601521e-12,"d":"5.05E-12"},{"v":8.05937099617766e-11,"d":"8.06E-11"},{"$f":"VLOOKUP(A963,'[1]SD vs SY0.45'!$A$2:$E$20133,5,FALSE)","v":"EIF4EBP3"}]
["ENSGALG00000023612",313.018176971835,1.18567533867055,0.167597474311691,7.07454180643242,{"v":1.49943358722038e-12,"d":"1.50E-12"},{"v":2.5966784642431e-11,"d":"2.60E-11"},{"$f":"VLOOKUP(A964,'[1]SD vs SY0.45'!$A$2:$E$20133,5,FALSE)","v":"LZTS2"}]
["ENSGALG00000009628",797.75541623299,1.18404772557758,0.202694625111794,5.84153489479326,{"v":5.17220416278965e-09,"d":"5.17E-09"},{"v":5.10960873741043e-08,"d":"5.11E-08"},{"$f":"VLOOKUP(A965,'[1]SD vs SY0.45'!$A$2:$E$20133,5,FALSE)","v":"KCTD12"}]
["ENSGALG00000038885",410.755576213077,1.18369995981567,0.246149913854768,4.80885790808797,{"v":1.51795053011616E-6,"d":"1.52E-06"},{"v":9.55215557985151e-06,"d":"9.55E-06"},{"$f":"VLOOKUP(A966,'[1]SD vs SY0.45'!$A$2:$E$20133,5,FALSE)","v":"FEZ1"}]
["ENSGALG00000000584",290.680453387243,1.18324440909943,0.266415885609714,4.44134330200123,{"v":8.93990360448014e-06,"d":"8.94E-06"},{"v":4.83778723844059e-05,"d":"4.84E-05"},{"$f":"VLOOKUP(A967,'[1]SD vs SY0.45'!$A$2:$E$20133,5,FALSE)","v":"PTPRVP"}]
["ENSGALG00000021079",346.472342586996,1.18280844375188,0.313898605901422,3.76812264060623,1.64479894378225E-4,6.62914215010244E-4,{"$f":"VLOOKUP(A968,'[1]SD vs SY0.45'!$A$2:$E$20133,5,FALSE)","v":"RGS19"}]
["ENSGALG00000008150",42.9155184060484,1.18263195301567,0.372498219025254,3.17486606005891,1.49905678405753E-3,0.0047393941144721,{"$f":"VLOOKUP(A969,'[1]SD vs SY0.45'!$A$2:$E$20133,5,FALSE)","v":"RASAL1"}]
["ENSGALG00000040453",487.224037832526,1.18259682436779,0.229591707502481,5.1508690676688,{"v":2.592821599182e-07,"d":"2.59E-07"},{"v":1.8973648630041E-6,"d":"1.90E-06"},{"$f":"VLOOKUP(A970,'[1]SD vs SY0.45'!$A$2:$E$20133,5,FALSE)","v":"SRA1"}]
["ENSGALG00000028996",623.561141228997,1.18225459780488,0.162243726403597,7.28690485611695,{"v":3.1715671347585e-13,"d":"3.17E-13"},{"v":6.08653838543555e-12,"d":"6.09E-12"},{"$f":"VLOOKUP(A971,'[1]SD vs SY0.45'!$A$2:$E$20133,5,FALSE)","v":"SIGMAR1"}]
["ENSGALG00000015057",19.2761952024007,1.18196675395996,0.483467073401124,2.44477197928908,0.0144943747920335,0.0346786565690911,{"$f":"VLOOKUP(A972,'[1]SD vs SY0.45'!$A$2:$E$20133,5,FALSE)","v":"DDO"}]
["ENSGALG00000052971",284.22553644977,1.18122367074022,0.153678531356233,7.68632846966825,{"v":1.51417460361238E-14,"d":"1.51E-14"},{"v":3.59167173710892e-13,"d":"3.59E-13"},{"$f":"VLOOKUP(A973,'[1]SD vs SY0.45'!$A$2:$E$20133,5,FALSE)","v":"NA"}]
["ENSGALG00000001048",1458.20069720025,1.18110674250861,0.184558222074356,6.39964304615356,{"v":1.55740613110428E-10,"d":"1.56E-10"},{"v":1.94670168235155e-09,"d":"1.95E-09"},{"$f":"VLOOKUP(A974,'[1]SD vs SY0.45'!$A$2:$E$20133,5,FALSE)","v":"OLFML2A"}]
["ENSGALG00000049157",123.980286854766,1.18095428769129,0.223186629475268,5.29133080448331,{"v":1.21429497482318E-7,"d":"1.21E-07"},{"v":9.45496942554887e-07,"d":"9.45E-07"},{"$f":"VLOOKUP(A975,'[1]SD vs SY0.45'!$A$2:$E$20133,5,FALSE)","v":"DOK4"}]
["ENSGALG00000030988",1808.92503171416,1.18079342644172,0.191919969551624,6.15253029270674,{"v":7.62564001125209e-10,"d":"7.63E-10"},{"v":8.60954564127533e-09,"d":"8.61E-09"},{"$f":"VLOOKUP(A976,'[1]SD vs SY0.45'!$A$2:$E$20133,5,FALSE)","v":"RBPMS2"}]
["ENSGALG00000052151",31.9957339789948,1.18062635129696,0.390474062582526,3.02357176681212,2.49809769919311E-3,0.00743867523477831,{"$f":"VLOOKUP(A977,'[1]SD vs SY0.45'!$A$2:$E$20133,5,FALSE)","v":"GDF15"}]
["ENSGALG00000042177",86.4384304585207,1.1805024244227,0.313352353843638,3.76733223779057,1.65001348840795E-4,0.000664861750242157,{"$f":"VLOOKUP(A978,'[1]SD vs SY0.45'!$A$2:$E$20133,5,FALSE)","v":"GPR182"}]
["ENSGALG00000049559",336.849528183093,1.17999184687222,0.243095246373047,4.85403093839786,{"v":1.20976849957923e-06,"d":"1.21E-06"},{"v":7.79623606456046e-06,"d":"7.80E-06"},{"$f":"VLOOKUP(A979,'[1]SD vs SY0.45'!$A$2:$E$20133,5,FALSE)","v":"NA"}]
["ENSGALG00000048236",657.102654691189,1.17982051958688,0.241053298997231,4.89443838559715,{"v":9.85868569997987e-07,"d":"9.86E-07"},{"v":6.44409655133646e-06,"d":"6.44E-06"},{"$f":"VLOOKUP(A980,'[1]SD vs SY0.45'!$A$2:$E$20133,5,FALSE)","v":"NA"}]
["ENSGALG00000032145",489.900667363363,1.17896484009426,0.202613202461268,5.81879574367635,{"v":5.9273111693618e-09,"d":"5.93E-09"},{"v":5.780042585625e-08,"d":"5.78E-08"},{"$f":"VLOOKUP(A981,'[1]SD vs SY0.45'!$A$2:$E$20133,5,FALSE)","v":"B4GALT7"}]
["ENSGALG00000003677",205.840116757106,1.17893627822396,0.224646864172623,5.2479534159802,{"v":1.53798172658987E-7,"d":"1.54E-07"},{"v":1.17079195622671E-6,"d":"1.17E-06"},{"$f":"VLOOKUP(A982,'[1]SD vs SY0.45'!$A$2:$E$20133,5,FALSE)","v":"NTNG2"}]
["ENSGALG00000051548",96.1873275451745,1.17887913025089,0.23624304615672,4.99011145271484,{"v":6.03444650333267e-07,"d":"6.03E-07"},{"v":4.1034319074243e-06,"d":"4.10E-06"},{"$f":"VLOOKUP(A983,'[1]SD vs SY0.45'!$A$2:$E$20133,5,FALSE)","v":"NA"}]
["ENSGALG00000031859",61.993848384062,1.17773373681423,0.311528250533697,3.78050380598418,0.000156511326650299,0.000635363632143065,{"$f":"VLOOKUP(A984,'[1]SD vs SY0.45'!$A$2:$E$20133,5,FALSE)","v":"NKX3-2"}]
["ENSGALG00000008440",28.6923841186358,1.17660745453395,0.300394725769304,3.91687121510102,{"v":8.9705639210339e-05,"d":"8.97E-05"},0.000385780843173427,{"$f":"VLOOKUP(A985,'[1]SD vs SY0.45'!$A$2:$E$20133,5,FALSE)","v":"CHST1"}]
["ENSGALG00000008537",1010.76906336609,1.17641856989132,0.183901172959176,6.39701504325084,{"v":1.58443722943643E-10,"d":"1.58E-10"},{"v":1.97622741091903e-09,"d":"1.98E-09"},{"$f":"VLOOKUP(A986,'[1]SD vs SY0.45'!$A$2:$E$20133,5,FALSE)","v":"EPHB3"}]
["ENSGALG00000039982",233.944566833846,1.17605679156576,0.355368356487369,3.3094021178207,0.000934954508547064,0.00311657477762803,{"$f":"VLOOKUP(A987,'[1]SD vs SY0.45'!$A$2:$E$20133,5,FALSE)","v":"IRF5"}]
["ENSGALG00000049516",242.271243044525,1.17479300340911,0.150345471787155,7.81395667887006,{"v":5.54201497698747e-15,"d":"5.54E-15"},{"v":1.40192968540455E-13,"d":"1.40E-13"},{"$f":"VLOOKUP(A988,'[1]SD vs SY0.45'!$A$2:$E$20133,5,FALSE)","v":"NA"}]
["ENSGALG00000000461",3030.27923508019,1.17306146476911,0.232273286378695,5.05035031388229,{"v":4.41000566515282e-07,"d":"4.41E-07"},{"v":3.07444941860514e-06,"d":"3.07E-06"},{"$f":"VLOOKUP(A989,'[1]SD vs SY0.45'!$A$2:$E$20133,5,FALSE)","v":"MRC2"}]
["ENSGALG00000010413",26.9807875527604,1.17278009635517,0.305541382048206,3.83836745285826,0.000123855042138535,0.000513954085361029,{"$f":"VLOOKUP(A990,'[1]SD vs SY0.45'!$A$2:$E$20133,5,FALSE)","v":"NGB"}]
["ENSGALG00000035465",300.687028581426,1.17237939405602,0.232241102261564,5.04811328674979,{"v":4.46194551578719E-7,"d":"4.46E-07"},{"v":3.10567841004771E-6,"d":"3.11E-06"},{"$f":"VLOOKUP(A991,'[1]SD vs SY0.45'!$A$2:$E$20133,5,FALSE)","v":"WDR76"}]
["ENSGALG00000040030",746.132868642184,1.17146551237621,0.172543807903443,6.78938019631379,{"v":1.12616303727813E-11,"d":"1.13E-11"},{"v":1.69089781771631e-10,"d":"1.69E-10"},{"$f":"VLOOKUP(A992,'[1]SD vs SY0.45'!$A$2:$E$20133,5,FALSE)","v":"PHLDB1"}]
["ENSGALG00000054103",235.865173534538,1.17134460294746,0.129345466787575,9.05593858091037,{"v":1.35398265088049E-19,"d":"1.35E-19"},{"v":6.02089420738085e-18,"d":"6.02E-18"},{"$f":"VLOOKUP(A993,'[1]SD vs SY0.45'!$A$2:$E$20133,5,FALSE)","v":"LOC107050733"}]
["ENSGALG00000017321",796.314866232653,1.17116025413039,0.1928256738452,6.07367385668049,{"v":1.25016510270872e-09,"d":"1.25E-09"},{"v":1.36023908891092E-8,"d":"1.36E-08"},{"$f":"VLOOKUP(A994,'[1]SD vs SY0.45'!$A$2:$E$20133,5,FALSE)","v":"PLEKHB1"}]
["ENSGALG00000048164",45.4747276230035,1.17107256653237,0.257905867930257,4.5406976426339,{"v":5.60683907238185e-06,"d":"5.61E-06"},{"v":3.16000359648309e-05,"d":"3.16E-05"},{"$f":"VLOOKUP(A995,'[1]SD vs SY0.45'!$A$2:$E$20133,5,FALSE)","v":"LHFPL4"}]
["ENSGALG00000009612",423.291518387658,1.17105390558709,0.204482868050438,5.72690473657793,{"v":1.02279563855226e-08,"d":"1.02E-08"},{"v":9.61262041486928e-08,"d":"9.61E-08"},{"$f":"VLOOKUP(A996,'[1]SD vs SY0.45'!$A$2:$E$20133,5,FALSE)","v":"TGFB2"}]
["ENSGALG00000025938",813.763824647711,1.17050553978459,0.172466385554769,6.7868618920693,{"v":1.14598813472507E-11,"d":"1.15E-11"},{"v":1.71917995672691e-10,"d":"1.72E-10"},{"$f":"VLOOKUP(A997,'[1]SD vs SY0.45'!$A$2:$E$20133,5,FALSE)","v":"KIAA0513"}]
["ENSGALG00000038313",184.0462639146,1.17031295295345,0.236804731502368,4.94210122208536,{"v":7.72850700384241e-07,"d":"7.73E-07"},{"v":5.15441316746483e-06,"d":"5.15E-06"},{"$f":"VLOOKUP(A998,'[1]SD vs SY0.45'!$A$2:$E$20133,5,FALSE)","v":"EFHD2"}]
["ENSGALG00000045634",20.2864340577746,1.16977963076334,0.39586032281493,2.95503126568769,0.00312637365992956,0.00908395814414266,{"$f":"VLOOKUP(A999,'[1]SD vs SY0.45'!$A$2:$E$20133,5,FALSE)","v":"XKR5"}]
["ENSGALG00000027533",326.45691953223,1.16977357981321,0.201740905618368,5.7983956016638,{"v":6.69523622268268e-09,"d":"6.70E-09"},{"v":6.48524079129715e-08,"d":"6.49E-08"},{"$f":"VLOOKUP(A1000,'[1]SD vs SY0.45'!$A$2:$E$20133,5,FALSE)","v":"RNF24"}]
["ENSGALG00000028496",51.4713904424696,1.16948215094828,0.317732888680287,3.68070852156906,0.000232586762961674,0.00090348213753678,{"$f":"VLOOKUP(A1001,'[1]SD vs SY0.45'!$A$2:$E$20133,5,FALSE)","v":"LOC101751887"}]
["ENSGALG00000054746",137.22065285523001,1.16874883834046,0.288217225661556,4.05509710829319,{"v":5.01134793047261e-05,"d":"5.01E-05"},2.28934068489562E-4,{"$f":"VLOOKUP(A1002,'[1]SD vs SY0.45'!$A$2:$E$20133,5,FALSE)","v":"NA"}]
["ENSGALG00000039051",180.964082772835,1.16866465473444,0.220863563171503,5.29134203013358,{"v":1.21422043115374E-7,"d":"1.21E-07"},{"v":9.45496942554887e-07,"d":"9.45E-07"},{"$f":"VLOOKUP(A1003,'[1]SD vs SY0.45'!$A$2:$E$20133,5,FALSE)","v":"HOXC6"}]
["ENSGALG00000052376",68.7022886835854,1.16842944579956,0.453833317048836,2.57457837912289,0.0100362344274025,0.0252837179549367,{"$f":"VLOOKUP(A1004,'[1]SD vs SY0.45'!$A$2:$E$20133,5,FALSE)","v":"NA"}]
["ENSGALG00000047574",211.868829717942,1.16815939988622,0.252776543791135,4.62131249350197,{"v":3.81319887361589e-06,"d":"3.81E-06"},{"v":2.22259768070934E-5,"d":"2.22E-05"},{"$f":"VLOOKUP(A1005,'[1]SD vs SY0.45'!$A$2:$E$20133,5,FALSE)","v":"NA"}]
["ENSGALG00000002722",1000.91541126141,1.16696372103087,0.405051270019392,2.88102718694105,0.00396381448359804,0.0111736125853306,{"$f":"VLOOKUP(A1006,'[1]SD vs SY0.45'!$A$2:$E$20133,5,FALSE)","v":"MST1"}]
["ENSGALG00000007409",143.517266004008,1.16561387572717,0.308600807420515,3.77709276093645,0.000158669648159559,0.000642683558969,{"$f":"VLOOKUP(A1007,'[1]SD vs SY0.45'!$A$2:$E$20133,5,FALSE)","v":"SCN4B"}]
["ENSGALG00000054150",43.395042690922,1.16557293096211,0.292569588475637,3.98391691028123,{"v":6.77885828803219e-05,"d":"6.78E-05"},0.000299755872466978,{"$f":"VLOOKUP(A1008,'[1]SD vs SY0.45'!$A$2:$E$20133,5,FALSE)","v":"GPR27"}]
["ENSGALG00000032723",239.064180263434,1.16542227366681,0.236225140724381,4.93352346025939,{"v":8.07593368110637e-07,"d":"8.08E-07"},{"v":5.36554294663341e-06,"d":"5.37E-06"},{"$f":"VLOOKUP(A1009,'[1]SD vs SY0.45'!$A$2:$E$20133,5,FALSE)","v":"ANKRD13B"}]
["ENSGALG00000051392",218.623374018288,1.16288472433235,0.209279535236944,5.5566098377261,{"v":2.75064657561438e-08,"d":"2.75E-08"},{"v":2.38769306091899e-07,"d":"2.39E-07"},{"$f":"VLOOKUP(A1010,'[1]SD vs SY0.45'!$A$2:$E$20133,5,FALSE)","v":"CCDC142"}]
["ENSGALG00000001149",254.207640816732,1.16133270244671,0.286035575500886,4.0600988195719,{"v":4.90519511377297e-05,"d":"4.91E-05"},2.24556680998343E-4,{"$f":"VLOOKUP(A1011,'[1]SD vs SY0.45'!$A$2:$E$20133,5,FALSE)","v":"ADGRG5"}]
["ENSGALG00000014179",21.991911011438,1.16125217627911,0.460401475739613,2.52225989157315,0.0116603523898375,0.0288144609155918,{"$f":"VLOOKUP(A1012,'[1]SD vs SY0.45'!$A$2:$E$20133,5,FALSE)","v":"SBK1"}]
["ENSGALG00000031482",785.18990348857,1.15971129741862,0.147885712538476,7.84194279157896,{"v":4.43628482743937e-15,"d":"4.44E-15"},{"v":1.13265322018632E-13,"d":"1.13E-13"},{"$f":"VLOOKUP(A1013,'[1]SD vs SY0.45'!$A$2:$E$20133,5,FALSE)","v":"Pou5f3,Pou5f3"}]
["ENSGALG00000046896",1490.4166879055,1.15912976257749,0.123373012562199,9.39532672911847,{"v":5.70405113580828E-21,"d":"5.70E-21"},{"v":2.96048767457608E-19,"d":"2.96E-19"},{"$f":"VLOOKUP(A1014,'[1]SD vs SY0.45'!$A$2:$E$20133,5,FALSE)","v":"LOC425607"}]
["ENSGALG00000033790",685.339766185221,1.15904247381906,0.171874009776345,6.74355869934779,{"v":1.54553493535894e-11,"d":"1.55E-11"},{"v":2.26006862246306e-10,"d":"2.26E-10"},{"$f":"VLOOKUP(A1015,'[1]SD vs SY0.45'!$A$2:$E$20133,5,FALSE)","v":"MAN2A2"}]
["ENSGALG00000053631",58.3629808904133,1.15863511638101,0.40743829053248,2.84370699392733,0.00445920341263266,0.0124270187106017,{"$f":"VLOOKUP(A1016,'[1]SD vs SY0.45'!$A$2:$E$20133,5,FALSE)","v":"KIF12"}]
["ENSGALG00000002461",165.938431543433,1.15732113973838,0.289061253116575,4.00372283472958,{"v":6.23534129059617e-05,"d":"6.24E-05"},0.000278055601486524,{"$f":"VLOOKUP(A1017,'[1]SD vs SY0.45'!$A$2:$E$20133,5,FALSE)","v":"NA"}]
["ENSGALG00000044505",216.740625782384,1.15699629565355,0.260473021477262,4.44190453618455,{"v":8.9166120480413e-06,"d":"8.92E-06"},{"v":4.8281885294081e-05,"d":"4.83E-05"},{"$f":"VLOOKUP(A1018,'[1]SD vs SY0.45'!$A$2:$E$20133,5,FALSE)","v":"SH2D7"}]
["ENSGALG00000004631",103.632846246819,1.156472778058,0.192463577373672,6.00878770850596,{"v":1.86915682054338E-9,"d":"1.87E-09"},{"v":1.97442464391177e-08,"d":"1.97E-08"},{"$f":"VLOOKUP(A1019,'[1]SD vs SY0.45'!$A$2:$E$20133,5,FALSE)","v":"DRAXIN"}]
["ENSGALG00000021542",25.0362767336142,1.15588345210707,0.396874045206131,2.91246924828939,0.00358583506033578,0.0102561135374335,{"$f":"VLOOKUP(A1020,'[1]SD vs SY0.45'!$A$2:$E$20133,5,FALSE)","v":"SNCB"}]
["ENSGALG00000036297",53.6045926893982,1.15507315151177,0.31880510707814,3.62313252161503,0.000291056604846435,0.00110348913834822,{"$f":"VLOOKUP(A1021,'[1]SD vs SY0.45'!$A$2:$E$20133,5,FALSE)","v":"ABHD8"}]
["ENSGALG00000026902",56.6789622367543,1.15453919863688,0.340259844855066,3.39311034226991,0.000691037959976498,2.37452114824335E-3,{"$f":"VLOOKUP(A1022,'[1]SD vs SY0.45'!$A$2:$E$20133,5,FALSE)","v":"P2RX6"}]
["ENSGALG00000030886",851.465231232347,1.15376591553124,0.372783596645978,3.09500183460844,0.00196811679721817,6.03521106758947E-3,{"$f":"VLOOKUP(A1023,'[1]SD vs SY0.45'!$A$2:$E$20133,5,FALSE)","v":"PTGDS"}]
["ENSGALG00000044213",1171.23059669015,1.15363069709888,0.140623136204673,8.20370479733723,{"v":2.33090054134558E-16,"d":"2.33E-16"},{"v":6.9634652426762E-15,"d":"6.96E-15"},{"$f":"VLOOKUP(A1024,'[1]SD vs SY0.45'!$A$2:$E$20133,5,FALSE)","v":"METTL3"}]
["ENSGALG00000033083",157.827125012895,1.15308566318834,0.361861969995978,3.1865345319409,1.43988297952709E-3,0.00457097779168112,{"$f":"VLOOKUP(A1025,'[1]SD vs SY0.45'!$A$2:$E$20133,5,FALSE)","v":"ATOH8"}]
["ENSGALG00000040238",488.576877132954,1.15276958171955,0.232718148207714,4.95350100796883,{"v":7.28899805699878e-07,"d":"7.29E-07"},{"v":4.88753602842413e-06,"d":"4.89E-06"},{"$f":"VLOOKUP(A1026,'[1]SD vs SY0.45'!$A$2:$E$20133,5,FALSE)","v":"IMP3"}]
["ENSGALG00000042418",279.277584913,1.15148299590302,0.22522091024026,5.11268245330615,{"v":3.17615965011412E-7,"d":"3.18E-07"},{"v":2.28298639520623E-6,"d":"2.28E-06"},{"$f":"VLOOKUP(A1027,'[1]SD vs SY0.45'!$A$2:$E$20133,5,FALSE)","v":"CHEK1"}]
["ENSGALG00000054976",38.086976078816,1.15093833402078,0.304785802069741,3.77622030358693,1.5922617245952E-4,0.000644428645380278,{"$f":"VLOOKUP(A1028,'[1]SD vs SY0.45'!$A$2:$E$20133,5,FALSE)","v":"IL11"}]
["ENSGALG00000034505",89.872137619438,1.15071518046028,0.293684290308526,3.91820474718415,{"v":8.92109154854434e-05,"d":"8.92E-05"},0.000383843154552191,{"$f":"VLOOKUP(A1029,'[1]SD vs SY0.45'!$A$2:$E$20133,5,FALSE)","v":"CDKN2A"}]
["ENSGALG00000012277",517.127563860847,1.14922026244712,0.266798769944769,4.30744213207965,{"v":1.65153283691122e-05,"d":"1.65E-05"},{"v":8.39380340116205e-05,"d":"8.39E-05"},{"$f":"VLOOKUP(A1030,'[1]SD vs SY0.45'!$A$2:$E$20133,5,FALSE)","v":"MAFF"}]
["ENSGALG00000049174",58.2614817627269,1.14883681158172,0.403937051966135,2.84409861880666,0.00445372606186353,0.0124157343334329,{"$f":"VLOOKUP(A1031,'[1]SD vs SY0.45'!$A$2:$E$20133,5,FALSE)","v":"NA"}]
["ENSGALG00000029199",565.495188389143,1.14856900615243,0.102794616073756,11.1734354387619,{"v":5.50112145934213e-29,"d":"5.50E-29"},{"v":6.25150319043017e-27,"d":"6.25E-27"},{"$f":"VLOOKUP(A1032,'[1]SD vs SY0.45'!$A$2:$E$20133,5,FALSE)","v":"WDR55"}]
["ENSGALG00000045529",92.5431398928205,1.1470730824665,0.273483879884911,4.19429870217295,{"v":2.73717098245854e-05,"d":"2.74E-05"},0.000132862065527657,{"$f":"VLOOKUP(A1033,'[1]SD vs SY0.45'!$A$2:$E$20133,5,FALSE)","v":"RAB15"}]
["ENSGALG00000006246",647.6139928019,1.14694903935415,0.168225408382582,6.81792988575027,{"v":9.23616969272343e-12,"d":"9.24E-12"},{"v":1.40621087957428E-10,"d":"1.41E-10"},{"$f":"VLOOKUP(A1034,'[1]SD vs SY0.45'!$A$2:$E$20133,5,FALSE)","v":"MUL1L"}]
["ENSGALG00000035031",238.580853857002,1.14568420022179,0.292792989027615,3.91294956899987,{"v":9.11755811561168e-05,"d":"9.12E-05"},0.000391231448559082,{"$f":"VLOOKUP(A1035,'[1]SD vs SY0.45'!$A$2:$E$20133,5,FALSE)","v":"HEY1"}]
["ENSGALG00000051668",109.874701990149,1.14557713896716,0.22067358588064,5.19127440828731,{"v":2.08859538583588e-07,"d":"2.09E-07"},{"v":1.55388994324042E-6,"d":"1.55E-06"},{"$f":"VLOOKUP(A1036,'[1]SD vs SY0.45'!$A$2:$E$20133,5,FALSE)","v":"NA"}]
["ENSGALG00000006775",7735.24472437086,1.14521122961123,0.200585239137984,5.70934947423239,{"v":1.13408807882569e-08,"d":"1.13E-08"},{"v":1.05671969059712E-7,"d":"1.06E-07"},{"$f":"VLOOKUP(A1037,'[1]SD vs SY0.45'!$A$2:$E$20133,5,FALSE)","v":"TGM2"}]
["ENSGALG00000027655",97.021254629583,1.14472480648261,0.343092322713674,3.33649204805417,0.000848428557698238,0.0028505560063187,{"$f":"VLOOKUP(A1038,'[1]SD vs SY0.45'!$A$2:$E$20133,5,FALSE)","v":"TRABD2B"}]
["ENSGALG00000008365",320.804866436869,1.14382467109473,0.319026742891143,3.58535670310568,0.000336617795906192,1.25434496729982E-3,{"$f":"VLOOKUP(A1039,'[1]SD vs SY0.45'!$A$2:$E$20133,5,FALSE)","v":"CHRM4"}]
["ENSGALG00000017681",179.764355892815,1.14381000164587,0.202085195943109,5.66003856100312,{"v":1.51338985650177e-08,"d":"1.51E-08"},{"v":1.3726296001563E-7,"d":"1.37E-07"},{"$f":"VLOOKUP(A1040,'[1]SD vs SY0.45'!$A$2:$E$20133,5,FALSE)","v":"POLR3K"}]
["ENSGALG00000038556",662.849007139145,1.14335455964268,0.21729525703346,5.26175571087876,{"v":1.42686267430976E-7,"d":"1.43E-07"},{"v":1.09338304619761e-06,"d":"1.09E-06"},{"$f":"VLOOKUP(A1041,'[1]SD vs SY0.45'!$A$2:$E$20133,5,FALSE)","v":"CDC42EP1"}]
["ENSGALG00000000528",138.492089846543,1.14187189999626,0.18659444410512,6.11953858257953,{"v":9.38467061880942e-10,"d":"9.38E-10"},{"v":1.04463039724225E-8,"d":"1.04E-08"},{"$f":"VLOOKUP(A1042,'[1]SD vs SY0.45'!$A$2:$E$20133,5,FALSE)","v":"DBNDD1"}]
["ENSGALG00000031527",144.297773590764,1.14087866189276,0.365790748386911,3.1189379909795,0.00181504155165861,0.00560634703476429,{"$f":"VLOOKUP(A1043,'[1]SD vs SY0.45'!$A$2:$E$20133,5,FALSE)","v":"ARL8BL"}]
["ENSGALG00000043133",46.0398137124323,1.1404826592779,0.3625790013489,3.1454735520672,0.00165818186902514,0.00516959084754171,{"$f":"VLOOKUP(A1044,'[1]SD vs SY0.45'!$A$2:$E$20133,5,FALSE)","v":"gga-mir-1564"}]
["ENSGALG00000046358",43.5150326580742,1.14015308601545,0.309661729625313,3.68193088437186,0.000231474170281763,0.000899763335275882,{"$f":"VLOOKUP(A1045,'[1]SD vs SY0.45'!$A$2:$E$20133,5,FALSE)","v":"FBLN7"}]
["ENSGALG00000051594",557.272503347686,1.13885864761259,0.154954930647397,7.34961219274843,{"v":1.98782743286332E-13,"d":"1.99E-13"},{"v":3.94998349430795e-12,"d":"3.95E-12"},{"$f":"VLOOKUP(A1046,'[1]SD vs SY0.45'!$A$2:$E$20133,5,FALSE)","v":"FBXO46"}]
["ENSGALG00000006895",430.253626688156,1.13783749501355,0.161949857852345,7.02586288189859,{"v":2.12747312292711e-12,"d":"2.13E-12"},{"v":3.5739492935588e-11,"d":"3.57E-11"},{"$f":"VLOOKUP(A1047,'[1]SD vs SY0.45'!$A$2:$E$20133,5,FALSE)","v":"CEP131"}]
["ENSGALG00000021355",159.11423603882,1.13766039232549,0.419019324766459,2.71505471247553,0.00662648220008665,0.0175444869823217,{"$f":"VLOOKUP(A1048,'[1]SD vs SY0.45'!$A$2:$E$20133,5,FALSE)","v":"LOC100858919"}]
["ENSGALG00000052976",224.631207882986,1.13697530954279,0.228055874394174,4.98551204858522,{"v":6.17979278918156e-07,"d":"6.18E-07"},{"v":4.19391324065182e-06,"d":"4.19E-06"},{"$f":"VLOOKUP(A1049,'[1]SD vs SY0.45'!$A$2:$E$20133,5,FALSE)","v":"NAGK"}]
["ENSGALG00000048926",779.488348223411,1.13684283994536,0.156643351648458,7.25752371857242,{"v":3.94240872448492e-13,"d":"3.94E-13"},{"v":7.47509929036198e-12,"d":"7.48E-12"},{"$f":"VLOOKUP(A1050,'[1]SD vs SY0.45'!$A$2:$E$20133,5,FALSE)","v":"WAS"}]
["ENSGALG00000032610",659.84772548049,1.13530468278444,0.114089657163733,9.95098689055688,{"v":2.49694592662179e-23,"d":"2.50E-23"},{"v":1.63827920098766e-21,"d":"1.64E-21"},{"$f":"VLOOKUP(A1051,'[1]SD vs SY0.45'!$A$2:$E$20133,5,FALSE)","v":"NAGLU"}]
["ENSGALG00000049399",542.189855329086,1.134510339151,0.137239384262346,8.26665279248324,{"v":1.37772455924394e-16,"d":"1.38E-16"},{"v":4.23973396665032e-15,"d":"4.24E-15"},{"$f":"VLOOKUP(A1052,'[1]SD vs SY0.45'!$A$2:$E$20133,5,FALSE)","v":"DCAF15"}]
["ENSGALG00000029150",166.933994937175,1.13431451346982,0.298973851549411,3.79402582396862,0.000148224248024683,6.04828678809003E-4,{"$f":"VLOOKUP(A1053,'[1]SD vs SY0.45'!$A$2:$E$20133,5,FALSE)","v":"AK1"}]
["ENSGALG00000044797",16.8603039709491,1.13244865205878,0.420482745826516,2.69321075192468,7.07675201013296E-3,0.0185950562490829,{"$f":"VLOOKUP(A1054,'[1]SD vs SY0.45'!$A$2:$E$20133,5,FALSE)","v":"NA"}]
["ENSGALG00000049951",461.877584544029,1.13183061243115,0.245134667654293,4.61717888890094,{"v":3.88991930992822e-06,"d":"3.89E-06"},{"v":2.26200759336863E-5,"d":"2.26E-05"},{"$f":"VLOOKUP(A1055,'[1]SD vs SY0.45'!$A$2:$E$20133,5,FALSE)","v":"SPOCK2"}]
["ENSGALG00000048646",130.165691542181,1.13164045064398,0.317933750336264,3.55935929874414,0.000371760638505977,1.37119266476526E-3,{"$f":"VLOOKUP(A1056,'[1]SD vs SY0.45'!$A$2:$E$20133,5,FALSE)","v":"NA"}]
["ENSGALG00000002556",25.6828658957369,1.13123467233294,0.381109832368653,2.96826420169261,0.00299486787379865,0.00874714727393533,{"$f":"VLOOKUP(A1057,'[1]SD vs SY0.45'!$A$2:$E$20133,5,FALSE)","v":"NGF"}]
["ENSGALG00000046858",1282.59158206852,1.13109340511003,0.134974774764014,8.38003550728351,{"v":5.29117386414709e-17,"d":"5.29E-17"},{"v":1.68185813484324e-15,"d":"1.68E-15"},{"$f":"VLOOKUP(A1058,'[1]SD vs SY0.45'!$A$2:$E$20133,5,FALSE)","v":"MOGS"}]
["ENSGALG00000054913",1041.08283357842,1.1310316085072,0.164511433818959,6.87509422446516,{"v":6.19488987451912e-12,"d":"6.19E-12"},{"v":9.72116879496967e-11,"d":"9.72E-11"},{"$f":"VLOOKUP(A1059,'[1]SD vs SY0.45'!$A$2:$E$20133,5,FALSE)","v":"LOC107056280"}]
["ENSGALG00000039134",641.462066553819,1.1299542785208,0.15200991142052,7.43342501789174,{"v":1.05821189276187E-13,"d":"1.06E-13"},{"v":2.21143391579936E-12,"d":"2.21E-12"},{"$f":"VLOOKUP(A1060,'[1]SD vs SY0.45'!$A$2:$E$20133,5,FALSE)","v":"ATF7"}]
["ENSGALG00000048365",389.905444509978,1.12927501047656,0.159141572067496,7.09604031055827,{"v":1.28382045793261e-12,"d":"1.28E-12"},{"v":2.23665193407557e-11,"d":"2.24E-11"},{"$f":"VLOOKUP(A1061,'[1]SD vs SY0.45'!$A$2:$E$20133,5,FALSE)","v":"GPATCH4"}]
["ENSGALG00000027778",164.170176111414,1.12862204543882,0.268611878071763,4.20168331177556,{"v":2.64937588280526e-05,"d":"2.65E-05"},0.000128888356111737,{"$f":"VLOOKUP(A1062,'[1]SD vs SY0.45'!$A$2:$E$20133,5,FALSE)","v":"LOC770492"}]
["ENSGALG00000002562",1032.74836971806,1.12770200050509,0.20839616604266,5.41133755922477,{"v":6.25557246543035e-08,"d":"6.26E-08"},{"v":5.10636800264965e-07,"d":"5.11E-07"},{"$f":"VLOOKUP(A1063,'[1]SD vs SY0.45'!$A$2:$E$20133,5,FALSE)","v":"ARAP3"}]
["ENSGALG00000050178",639.009429176497,1.12751698643291,0.143300367430919,7.86820722547313,{"v":3.59759318140989e-15,"d":"3.60E-15"},{"v":9.28061611946199E-14,"d":"9.28E-14"},{"$f":"VLOOKUP(A1064,'[1]SD vs SY0.45'!$A$2:$E$20133,5,FALSE)","v":"ATRAID"}]
["ENSGALG00000053950",210.257478104805,1.12702443795963,0.157478907414506,7.15666914676482,{"v":8.26608714217441e-13,"d":"8.27E-13"},{"v":1.49089685830899e-11,"d":"1.49E-11"},{"$f":"VLOOKUP(A1065,'[1]SD vs SY0.45'!$A$2:$E$20133,5,FALSE)","v":"NA"}]
["ENSGALG00000028145",825.334679954066,1.12695788765777,0.382587759242938,2.94561930023006,0.00322308827473776,0.00932662473424816,{"$f":"VLOOKUP(A1066,'[1]SD vs SY0.45'!$A$2:$E$20133,5,FALSE)","v":"BORCS6"}]
["ENSGALG00000047610",3396.85585032314,1.1264687080289,0.136492370434161,8.25297930166922,{"v":1.54493818356553e-16,"d":"1.54E-16"},{"v":4.7043502973124e-15,"d":"4.70E-15"},{"$f":"VLOOKUP(A1067,'[1]SD vs SY0.45'!$A$2:$E$20133,5,FALSE)","v":"NA"}]
["ENSGALG00000016102",56.161412424615,1.12520961668248,0.436142859055088,2.57991067220558,9.88258749773035E-3,0.0249569424579575,{"$f":"VLOOKUP(A1068,'[1]SD vs SY0.45'!$A$2:$E$20133,5,FALSE)","v":"CYP26B1"}]
["ENSGALG00000009670",775.891823236602,1.12503345459214,0.258926702428979,4.34498815316555,{"v":1.39283179822621e-05,"d":"1.39E-05"},{"v":7.19678052771443e-05,"d":"7.20E-05"},{"$f":"VLOOKUP(A1069,'[1]SD vs SY0.45'!$A$2:$E$20133,5,FALSE)","v":"SGCE"}]
["ENSGALG00000051336",210.129723346897,1.12446562510699,0.203892669244219,5.51498800459631,{"v":3.48803748384502e-08,"d":"3.49E-08"},{"v":2.9757854627877e-07,"d":"2.98E-07"},{"$f":"VLOOKUP(A1070,'[1]SD vs SY0.45'!$A$2:$E$20133,5,FALSE)","v":"ANKLE1"}]
["ENSGALG00000048605",27.1234437256326,1.12406592593401,0.380142827418261,2.95695681954097,0.00310691624215146,0.00903548424673835,{"$f":"VLOOKUP(A1071,'[1]SD vs SY0.45'!$A$2:$E$20133,5,FALSE)","v":"NA"}]
["ENSGALG00000042570",17.1394847971324,1.12378835226,0.434961099842766,2.58365254425337,0.00977602249757437,0.024719937570754,{"$f":"VLOOKUP(A1072,'[1]SD vs SY0.45'!$A$2:$E$20133,5,FALSE)","v":"NA"}]
["ENSGALG00000049911",156.883890333429,1.12323440318208,0.218785627758967,5.13394967799044,{"v":2.83723986770399e-07,"d":"2.84E-07"},{"v":2.06061359982328e-06,"d":"2.06E-06"},{"$f":"VLOOKUP(A1073,'[1]SD vs SY0.45'!$A$2:$E$20133,5,FALSE)","v":"NA"}]
["ENSGALG00000023621",731.559988120519,1.12312959992256,0.18725320514927,5.99791922935176,{"v":1.99861880504186e-09,"d":"2.00E-09"},{"v":2.09842905575259e-08,"d":"2.10E-08"},{"$f":"VLOOKUP(A1074,'[1]SD vs SY0.45'!$A$2:$E$20133,5,FALSE)","v":"SFXN3"}]
["ENSGALG00000000379",442.104217112041,1.12272128804306,0.232949166562097,4.81959778870374,{"v":1.43847931595548E-6,"d":"1.44E-06"},{"v":9.11473756068437e-06,"d":"9.11E-06"},{"$f":"VLOOKUP(A1075,'[1]SD vs SY0.45'!$A$2:$E$20133,5,FALSE)","v":"ITGB3"}]
["ENSGALG00000054125",306.695072484787,1.12270422727552,0.158719529988239,7.07351028168189,{"v":1.51062724949171e-12,"d":"1.51E-12"},{"v":2.61346029720521e-11,"d":"2.61E-11"},{"$f":"VLOOKUP(A1076,'[1]SD vs SY0.45'!$A$2:$E$20133,5,FALSE)","v":"PNKP"}]
["ENSGALG00000042215",617.260460775388,1.12185720852552,0.14856803157067,7.55113463283575,{"v":4.31482512601417e-14,"d":"4.31E-14"},{"v":9.59358880639493e-13,"d":"9.59E-13"},{"$f":"VLOOKUP(A1077,'[1]SD vs SY0.45'!$A$2:$E$20133,5,FALSE)","v":"FAAP100"}]
["ENSGALG00000028810",938.31398355636,1.12173582891653,0.247281422902601,4.53627213783205,{"v":5.72572887076218e-06,"d":"5.73E-06"},{"v":3.21243136095328e-05,"d":"3.21E-05"},{"$f":"VLOOKUP(A1078,'[1]SD vs SY0.45'!$A$2:$E$20133,5,FALSE)","v":"CHCHD10"}]
["ENSGALG00000006609",528.891307749049,1.12150797245224,0.240563791624165,4.66199823705964,{"v":3.13153873878306e-06,"d":"3.13E-06"},{"v":1.85449809438764e-05,"d":"1.85E-05"},{"$f":"VLOOKUP(A1079,'[1]SD vs SY0.45'!$A$2:$E$20133,5,FALSE)","v":"EPHB1"}]
["ENSGALG00000042011",7200.88037689951,1.11997917879203,0.143696399976285,7.79406567580581,{"v":6.48867937492588e-15,"d":"6.49E-15"},{"v":1.61400097699337e-13,"d":"1.61E-13"},{"$f":"VLOOKUP(A1080,'[1]SD vs SY0.45'!$A$2:$E$20133,5,FALSE)","v":"HNRNPA1"}]
["ENSGALG00000038708",66.013442787762,1.11973829451536,0.234253828167074,4.78002132676672,{"v":1.75276600453251E-6,"d":"1.75E-06"},{"v":1.09035214743495E-5,"d":"1.09E-05"},{"$f":"VLOOKUP(A1081,'[1]SD vs SY0.45'!$A$2:$E$20133,5,FALSE)","v":"KCNQ4"}]
["ENSGALG00000028602",129.976877105407,1.11899178019858,0.219376760495533,5.10077629768521,{"v":3.38263179440842e-07,"d":"3.38E-07"},{"v":2.41336967621581e-06,"d":"2.41E-06"},{"$f":"VLOOKUP(A1082,'[1]SD vs SY0.45'!$A$2:$E$20133,5,FALSE)","v":"HMP19"}]
["ENSGALG00000037043",596.445704628875,1.11887039748975,0.22543096082748,4.96325080362858,{"v":6.93229693849076e-07,"d":"6.93E-07"},{"v":4.668158283096e-06,"d":"4.67E-06"},{"$f":"VLOOKUP(A1083,'[1]SD vs SY0.45'!$A$2:$E$20133,5,FALSE)","v":"PIK3C2B"}]
["ENSGALG00000050005",500.259816006117,1.11880007579656,0.302720681902586,3.69581644955657,0.000219181286142023,0.000855998432648551,{"$f":"VLOOKUP(A1084,'[1]SD vs SY0.45'!$A$2:$E$20133,5,FALSE)","v":"NA"}]
["ENSGALG00000052519",830.07789159316,1.11828224957087,0.134199153955224,8.33300521360954,{"v":7.88156898108704e-17,"d":"7.88E-17"},{"v":2.46469136464317e-15,"d":"2.46E-15"},{"$f":"VLOOKUP(A1085,'[1]SD vs SY0.45'!$A$2:$E$20133,5,FALSE)","v":"NA"}]
["ENSGALG00000030647",44.579416746083,1.11801777426445,0.425776178007055,2.62583449242651,0.00864368350485148,0.0222056331410834,{"$f":"VLOOKUP(A1086,'[1]SD vs SY0.45'!$A$2:$E$20133,5,FALSE)","v":"MFAP2"}]
["ENSGALG00000033593",168.934985789631,1.11801405641075,0.236565889862296,4.72601547527219,{"v":2.28968206899043e-06,"d":"2.29E-06"},{"v":1.39344424688613E-5,"d":"1.39E-05"},{"$f":"VLOOKUP(A1087,'[1]SD vs SY0.45'!$A$2:$E$20133,5,FALSE)","v":"UBE2E2"}]
["ENSGALG00000047979",678.858167237938,1.11786569676012,0.147977104289887,7.55431525792139,{"v":4.21069157002842e-14,"d":"4.21E-14"},{"v":9.3740453685127e-13,"d":"9.37E-13"},{"$f":"VLOOKUP(A1088,'[1]SD vs SY0.45'!$A$2:$E$20133,5,FALSE)","v":"EBF4"}]
["ENSGALG00000042148",1325.12837742834,1.11770455475051,0.297312393282506,3.75936079357604,1.70348029660037E-4,0.000683554394576292,{"$f":"VLOOKUP(A1089,'[1]SD vs SY0.45'!$A$2:$E$20133,5,FALSE)","v":"FKBP5"}]
["ENSGALG00000047573",44.0337140816962,1.11654175371747,0.243317585830413,4.58882472430773,{"v":4.457484967898e-06,"d":"4.46E-06"},{"v":2.56545154375513e-05,"d":"2.57E-05"},{"$f":"VLOOKUP(A1090,'[1]SD vs SY0.45'!$A$2:$E$20133,5,FALSE)","v":"NA"}]
["ENSGALG00000051271",623.472199731534,1.11631573212984,0.379917447789713,2.93831130584909,0.0033000547475191,0.0095159499962571,{"$f":"VLOOKUP(A1091,'[1]SD vs SY0.45'!$A$2:$E$20133,5,FALSE)","v":"NA"}]
["ENSGALG00000049618",19.8257935996081,1.11598669701998,0.420975671524676,2.65095294694379,0.0080265022591977,0.0207594778238816,{"$f":"VLOOKUP(A1092,'[1]SD vs SY0.45'!$A$2:$E$20133,5,FALSE)","v":"TMEM107"}]
["ENSGALG00000046585",60.7813396785035,1.11513372965716,0.346768816731491,3.21578433772672,0.00130088552617637,0.00417777921012717,{"$f":"VLOOKUP(A1093,'[1]SD vs SY0.45'!$A$2:$E$20133,5,FALSE)","v":"NA"}]
["ENSGALG00000051213",15.6823623272734,1.11465087037898,0.38093390732081,2.92610043096075,3.43240110949643E-3,0.00986758566316376,{"$f":"VLOOKUP(A1094,'[1]SD vs SY0.45'!$A$2:$E$20133,5,FALSE)","v":"DUSP21"}]
["ENSGALG00000040120",316.963633687637,1.11463421820767,0.45624711234845,2.44304936522291,0.0145637450209402,0.0348307888141798,{"$f":"VLOOKUP(A1095,'[1]SD vs SY0.45'!$A$2:$E$20133,5,FALSE)","v":"GLYATL3W"}]
["ENSGALG00000006019",20.1658983480827,1.113635985397,0.390577732332603,2.85125313915403,0.00435472857086575,0.0121670682406625,{"$f":"VLOOKUP(A1096,'[1]SD vs SY0.45'!$A$2:$E$20133,5,FALSE)","v":"EPHX4"}]
["ENSGALG00000027897",43.0175460917009,1.1133632770469,0.259804361492366,4.28539101750072,{"v":1.82418056532629e-05,"d":"1.82E-05"},{"v":9.18003689995027e-05,"d":"9.18E-05"},{"$f":"VLOOKUP(A1097,'[1]SD vs SY0.45'!$A$2:$E$20133,5,FALSE)","v":"DTX1"}]
["ENSGALG00000047864",342.94309193943,1.11330738884324,0.372313468704597,2.99024204715668,0.00278756461053527,0.00821899031429147,{"$f":"VLOOKUP(A1098,'[1]SD vs SY0.45'!$A$2:$E$20133,5,FALSE)","v":"NA"}]
["ENSGALG00000037675",126.650055948302,1.11314734434749,0.347094533768284,3.20704371878876,1.34106613637112E-3,0.00428859976330413,{"$f":"VLOOKUP(A1099,'[1]SD vs SY0.45'!$A$2:$E$20133,5,FALSE)","v":"COL14A1"}]
["ENSGALG00000001621",529.897876101328,1.11287480640729,0.286924031335593,3.87863923850159,1.0504239719127E-4,4.44480934525336E-4,{"$f":"VLOOKUP(A1100,'[1]SD vs SY0.45'!$A$2:$E$20133,5,FALSE)","v":"CLDN5"}]
["ENSGALG00000026605",2584.87256391207,1.11268123400999,0.242871652627106,4.58135489248863,{"v":4.61973101076411e-06,"d":"4.62E-06"},{"v":2.64918413865949e-05,"d":"2.65E-05"},{"$f":"VLOOKUP(A1101,'[1]SD vs SY0.45'!$A$2:$E$20133,5,FALSE)","v":"BAG2"}]
["ENSGALG00000049536",685.756817765186,1.11242985991013,0.283839617753711,3.91921983517959,{"v":8.88360594244633e-05,"d":"8.88E-05"},0.000382324892379491,{"$f":"VLOOKUP(A1102,'[1]SD vs SY0.45'!$A$2:$E$20133,5,FALSE)","v":"LOC107052467"}]
["ENSGALG00000031735",790.427134890806,1.11103158274432,0.210135463029894,5.2872160021189,{"v":1.24191959932589e-07,"d":"1.24E-07"},{"v":9.63984646137468e-07,"d":"9.64E-07"},{"$f":"VLOOKUP(A1103,'[1]SD vs SY0.45'!$A$2:$E$20133,5,FALSE)","v":"CD5"}]
["ENSGALG00000036133",348.686753535796,1.11082849130484,0.284498152104988,3.9045191790733,{"v":9.44129050512666E-5,"d":"9.44E-05"},0.000404025887306515,{"$f":"VLOOKUP(A1104,'[1]SD vs SY0.45'!$A$2:$E$20133,5,FALSE)","v":"KLF15"}]
["ENSGALG00000048991",18.7431982911037,1.11078126182135,0.396705296525421,2.80001621241316,0.00511000400953846,0.0139961625258105,{"$f":"VLOOKUP(A1105,'[1]SD vs SY0.45'!$A$2:$E$20133,5,FALSE)","v":"NA"}]
["ENSGALG00000010346",1325.14452676475,1.10965385613082,0.266455303130661,4.16450280063176,{"v":3.12031797000611e-05,"d":"3.12E-05"},0.000149264324856472,{"$f":"VLOOKUP(A1106,'[1]SD vs SY0.45'!$A$2:$E$20133,5,FALSE)","v":"TGFB3"}]
["ENSGALG00000002517",294.974547886936,1.10934171736208,0.351164437789838,3.1590377554859,0.00158290982514453,0.00496698305897634,{"$f":"VLOOKUP(A1107,'[1]SD vs SY0.45'!$A$2:$E$20133,5,FALSE)","v":"TMEM35B"}]
["ENSGALG00000017327",223.404631711427,1.10920684467102,0.321953840034715,3.44523564170384,0.000570561761094264,0.00200289871595921,{"$f":"VLOOKUP(A1108,'[1]SD vs SY0.45'!$A$2:$E$20133,5,FALSE)","v":"P2RY6"}]
["ENSGALG00000022696",786.101200236886,1.10910145752207,0.208818372942572,5.31132123046993,{"v":1.08833297953032E-7,"d":"1.09E-07"},{"v":8.54690402669093e-07,"d":"8.55E-07"},{"$f":"VLOOKUP(A1109,'[1]SD vs SY0.45'!$A$2:$E$20133,5,FALSE)","v":"KCNE3"}]
["ENSGALG00000052765",209.817876860828,1.1079019447016,0.149395730674998,7.41588758725492,{"v":1.2081294097057E-13,"d":"1.21E-13"},{"v":2.49178482165517e-12,"d":"2.49E-12"},{"$f":"VLOOKUP(A1110,'[1]SD vs SY0.45'!$A$2:$E$20133,5,FALSE)","v":"NA"}]
["ENSGALG00000045288",24.018513414359,1.10742502747622,0.42210737021364,2.6235624052613,0.00870155026242186,0.0223377904049504,{"$f":"VLOOKUP(A1111,'[1]SD vs SY0.45'!$A$2:$E$20133,5,FALSE)","v":"CAMK2N1"}]
["ENSGALG00000052945",937.70565049125,1.10676516047499,0.165741245856687,6.6776688853418,{"v":2.42772772397026e-11,"d":"2.43E-11"},{"v":3.43736986454974E-10,"d":"3.44E-10"},{"$f":"VLOOKUP(A1112,'[1]SD vs SY0.45'!$A$2:$E$20133,5,FALSE)","v":"NA"}]
["ENSGALG00000039048",281.363396713367,1.10646287854874,0.192256274841439,5.75514572651155,{"v":8.6567085505077e-09,"d":"8.66E-09"},{"v":8.23832466161343e-08,"d":"8.24E-08"},{"$f":"VLOOKUP(A1113,'[1]SD vs SY0.45'!$A$2:$E$20133,5,FALSE)","v":"ZNF282"}]
["ENSGALG00000029940",72.5693291660206,1.10508748305621,0.381342865898094,2.89788424507073,0.00375689221327495,0.01067997489692,{"$f":"VLOOKUP(A1114,'[1]SD vs SY0.45'!$A$2:$E$20133,5,FALSE)","v":"IL1B"}]
["ENSGALG00000037932",1221.84142998865,1.10476460264969,0.141956699678658,7.78240551626303,{"v":7.11583454124677e-15,"d":"7.12E-15"},{"v":1.76495028771266e-13,"d":"1.76E-13"},{"$f":"VLOOKUP(A1115,'[1]SD vs SY0.45'!$A$2:$E$20133,5,FALSE)","v":"NA"}]
["ENSGALG00000038853",638.842320585803,1.10450910628197,0.228740976110783,4.82864559320161,{"v":1.37464810569286e-06,"d":"1.37E-06"},{"v":8.75174171134448e-06,"d":"8.75E-06"},{"$f":"VLOOKUP(A1116,'[1]SD vs SY0.45'!$A$2:$E$20133,5,FALSE)","v":"NA"}]
["ENSGALG00000024298",94.3673617978855,1.10393573955841,0.208665728203423,5.29045066031262,{"v":1.22015335557918e-07,"d":"1.22E-07"},{"v":9.49208339751911e-07,"d":"9.49E-07"},{"$f":"VLOOKUP(A1117,'[1]SD vs SY0.45'!$A$2:$E$20133,5,FALSE)","v":"ADAMTSL5"}]
["ENSGALG00000034501",1322.98226535892,1.10389534902232,0.181123770599127,6.09470168035272,{"v":1.09641723297764E-9,"d":"1.10E-09"},{"v":1.19971091439787E-8,"d":"1.20E-08"},{"$f":"VLOOKUP(A1118,'[1]SD vs SY0.45'!$A$2:$E$20133,5,FALSE)","v":"ATP8B2,ATP8B2"}]
["ENSGALG00000040351",796.532814244624,1.10381200983735,0.204135981484654,5.40723885034608,{"v":6.40037655871131e-08,"d":"6.40E-08"},{"v":5.21233476469852e-07,"d":"5.21E-07"},{"$f":"VLOOKUP(A1119,'[1]SD vs SY0.45'!$A$2:$E$20133,5,FALSE)","v":"ACAP1"}]
["ENSGALG00000001812",34.7504227243996,1.10345932656467,0.315314576653158,3.49955063377377,0.000466043083399711,1.67005175001459E-3,{"$f":"VLOOKUP(A1120,'[1]SD vs SY0.45'!$A$2:$E$20133,5,FALSE)","v":"ATCAY"}]
["ENSGALG00000034399",1404.36875310756,1.10245648255078,0.211148160692335,5.22124596745683,{"v":1.7772329933843e-07,"d":"1.78E-07"},{"v":1.34234361667997E-6,"d":"1.34E-06"},{"$f":"VLOOKUP(A1121,'[1]SD vs SY0.45'!$A$2:$E$20133,5,FALSE)","v":"TNS2"}]
["ENSGALG00000043035",531.834563798163,1.10236365038334,0.269810814394342,4.08569112716208,{"v":4.39458078615616e-05,"d":"4.39E-05"},0.000203322448453691,{"$f":"VLOOKUP(A1122,'[1]SD vs SY0.45'!$A$2:$E$20133,5,FALSE)","v":"SHISA2"}]
["ENSGALG00000037805",8433.813203068239,1.10201305079599,0.113154308700535,9.73902861898517,{"v":2.05509364368147e-22,"d":"2.06E-22"},{"v":1.2406914299545E-20,"d":"1.24E-20"},{"$f":"VLOOKUP(A1123,'[1]SD vs SY0.45'!$A$2:$E$20133,5,FALSE)","v":"RPS19"}]
["ENSGALG00000001342",49.3838406420931,1.10197965606268,0.258921722808511,4.25603400174217,{"v":2.08085075234529e-05,"d":"2.08E-05"},1.0354823134238E-4,{"$f":"VLOOKUP(A1124,'[1]SD vs SY0.45'!$A$2:$E$20133,5,FALSE)","v":"HCN2"}]
["ENSGALG00000022733",18.1015719936791,1.10191838409452,0.450014637898874,2.44862786961642,0.0143401519335318,0.0343953954570724,{"$f":"VLOOKUP(A1125,'[1]SD vs SY0.45'!$A$2:$E$20133,5,FALSE)","v":"ARL11"}]
["ENSGALG00000046828",910.686092692949,1.10183364791021,0.211292565930845,5.2147298370679,{"v":1.84085328852393e-07,"d":"1.84E-07"},{"v":1.38438218544833E-6,"d":"1.38E-06"},{"$f":"VLOOKUP(A1126,'[1]SD vs SY0.45'!$A$2:$E$20133,5,FALSE)","v":"NA"}]
["ENSGALG00000031002",1195.76731524886,1.10163835158994,0.14017980406584,7.85875225701209,{"v":3.87978729372678e-15,"d":"3.88E-15"},{"v":9.96423363013701e-14,"d":"9.96E-14"},{"$f":"VLOOKUP(A1127,'[1]SD vs SY0.45'!$A$2:$E$20133,5,FALSE)","v":"LOC107050229"}]
["ENSGALG00000035086",19697.6160843776,1.10141980080927,0.177945428415285,6.18964932461655,{"v":6.02982077974521e-10,"d":"6.03E-10"},{"v":6.90194166540026E-9,"d":"6.90E-09"},{"$f":"VLOOKUP(A1128,'[1]SD vs SY0.45'!$A$2:$E$20133,5,FALSE)","v":"MYL6"}]
["ENSGALG00000050728",66.4000899162747,1.10130203355194,0.389458909178473,2.82777465760133,0.00468727878584195,0.0129876838644516,{"$f":"VLOOKUP(A1129,'[1]SD vs SY0.45'!$A$2:$E$20133,5,FALSE)","v":"NA"}]
["ENSGALG00000013001",19.8585224593339,1.10122296591948,0.453599988724992,2.42774028503588,0.0151932188201608,0.0361621486141186,{"$f":"VLOOKUP(A1130,'[1]SD vs SY0.45'!$A$2:$E$20133,5,FALSE)","v":"NA"}]
["ENSGALG00000054583",50.9419636655979,1.1007728076414,0.252297396432509,4.36299709472376,{"v":1.28292647871658e-05,"d":"1.28E-05"},{"v":6.67252249041137e-05,"d":"6.67E-05"},{"$f":"VLOOKUP(A1131,'[1]SD vs SY0.45'!$A$2:$E$20133,5,FALSE)","v":"CDHR4"}]
["ENSGALG00000026239",147.926888290355,1.10047191887054,0.275591690986809,3.99312444772951,{"v":6.5208322229231e-05,"d":"6.52E-05"},0.000289081361193177,{"$f":"VLOOKUP(A1132,'[1]SD vs SY0.45'!$A$2:$E$20133,5,FALSE)","v":"MPV17"}]
["ENSGALG00000041659",135.52612919655,1.09999597036151,0.160049445459834,6.87285086931196,{"v":6.29313471701479e-12,"d":"6.29E-12"},{"v":9.85754354276902e-11,"d":"9.86E-11"},{"$f":"VLOOKUP(A1133,'[1]SD vs SY0.45'!$A$2:$E$20133,5,FALSE)","v":"NA"}]
["ENSGALG00000040908",919.877664348144,1.09981426224722,0.198107184959485,5.55161218646434,{"v":2.83046975579863e-08,"d":"2.83E-08"},{"v":2.45330895533753E-7,"d":"2.45E-07"},{"$f":"VLOOKUP(A1134,'[1]SD vs SY0.45'!$A$2:$E$20133,5,FALSE)","v":"HIP1"}]
["ENSGALG00000003174",104.592459792687,1.09962434880315,0.282035743201766,3.8988829441256,{"v":9.66374746222967e-05,"d":"9.66E-05"},4.12429006199772E-4,{"$f":"VLOOKUP(A1135,'[1]SD vs SY0.45'!$A$2:$E$20133,5,FALSE)","v":"RIMS3"}]
["ENSGALG00000001709",49.9404254011064,1.09911491387221,0.342621665409508,3.20795508526447,0.00133682374184457,0.00427660614525328,{"$f":"VLOOKUP(A1136,'[1]SD vs SY0.45'!$A$2:$E$20133,5,FALSE)","v":"MUSTN1"}]
["ENSGALG00000007886",528.741672123315,1.09865708216595,0.253502062748122,4.33391772144107,{"v":1.46478939487699E-5,"d":"1.46E-05"},{"v":7.52386800848631E-5,"d":"7.52E-05"},{"$f":"VLOOKUP(A1137,'[1]SD vs SY0.45'!$A$2:$E$20133,5,FALSE)","v":"NA"}]
["ENSGALG00000001805",600.67303320353,1.09820042890062,0.222556168189426,4.93448659650674,{"v":8.03618637787545e-07,"d":"8.04E-07"},{"v":5.34526291324103e-06,"d":"5.35E-06"},{"$f":"VLOOKUP(A1138,'[1]SD vs SY0.45'!$A$2:$E$20133,5,FALSE)","v":"MXRA7"}]
["ENSGALG00000021592",47.6453227153354,1.09765959567354,0.303565268430822,3.61589321910085,0.000299313746697174,0.00113011251114522,{"$f":"VLOOKUP(A1139,'[1]SD vs SY0.45'!$A$2:$E$20133,5,FALSE)","v":"TLCD2"}]
["ENSGALG00000005648",205.298642328488,1.09750350869678,0.249509247202035,4.39864863127937,{"v":1.08927015631124E-5,"d":"1.09E-05"},{"v":5.78647730149204e-05,"d":"5.79E-05"},{"$f":"VLOOKUP(A1140,'[1]SD vs SY0.45'!$A$2:$E$20133,5,FALSE)","v":"SESN2"}]
["ENSGALG00000030055",1136.313502166,1.09749410221073,0.195940235892856,5.60116760710066,{"v":2.12912741033647e-08,"d":"2.13E-08"},{"v":1.88776839793576E-7,"d":"1.89E-07"},{"$f":"VLOOKUP(A1141,'[1]SD vs SY0.45'!$A$2:$E$20133,5,FALSE)","v":"RIPOR1"}]
["ENSGALG00000038589",2659.5295070041,1.09708947294048,0.327513743041922,3.3497509531991,0.00080884249138258,0.00273127682999979,{"$f":"VLOOKUP(A1142,'[1]SD vs SY0.45'!$A$2:$E$20133,5,FALSE)","v":"ABHD14B"}]
["ENSGALG00000000638",469.221808843874,1.09681309781186,0.117861281418442,9.30596617151861,{"v":1.32779565162442E-20,"d":"1.33E-20"},{"v":6.63401810195222e-19,"d":"6.63E-19"},{"$f":"VLOOKUP(A1143,'[1]SD vs SY0.45'!$A$2:$E$20133,5,FALSE)","v":"UTP4"}]
["ENSGALG00000054037",84.1032434338163,1.09585043576905,0.273070428723631,4.01306886612077,{"v":5.99344184999791e-05,"d":"5.99E-05"},0.000268300652538398,{"$f":"VLOOKUP(A1144,'[1]SD vs SY0.45'!$A$2:$E$20133,5,FALSE)","v":"LOC107054771"}]
["ENSGALG00000031895",677.777238555471,1.09524139887186,0.220533330470457,4.96633047047996,{"v":6.82316451545354e-07,"d":"6.82E-07"},{"v":4.60179834872733e-06,"d":"4.60E-06"},{"$f":"VLOOKUP(A1145,'[1]SD vs SY0.45'!$A$2:$E$20133,5,FALSE)","v":"SDK2"}]
["ENSGALG00000011242",41.1366080708464,1.09519197034178,0.426900001921869,2.56545318672127,0.0103041124654566,0.0258422079721908,{"$f":"VLOOKUP(A1146,'[1]SD vs SY0.45'!$A$2:$E$20133,5,FALSE)","v":"OBSL1"}]
["ENSGALG00000050240",369.747585297664,1.0944924891577,0.26219357751068,4.17436803581931,{"v":2.9881436473671e-05,"d":"2.99E-05"},0.000143640734301276,{"$f":"VLOOKUP(A1147,'[1]SD vs SY0.45'!$A$2:$E$20133,5,FALSE)","v":"TBX21"}]
["ENSGALG00000051244",36.4042593607893,1.0942444917748,0.290562896030284,3.76594708658449,1.65918931249774E-4,0.000667939906839504,{"$f":"VLOOKUP(A1148,'[1]SD vs SY0.45'!$A$2:$E$20133,5,FALSE)","v":"NA"}]
["ENSGALG00000002015",86.1855072086121,1.0931507122504,0.202616722593871,5.39516530647638,{"v":6.84604940583734e-08,"d":"6.85E-08"},{"v":5.54412021515109e-07,"d":"5.54E-07"},{"$f":"VLOOKUP(A1149,'[1]SD vs SY0.45'!$A$2:$E$20133,5,FALSE)","v":"SNCG"}]
["ENSGALG00000048910",81.5490071236754,1.09297601703334,0.279742064276995,3.9070849779356,{"v":9.34163064774332e-05,"d":"9.34E-05"},0.000400056482936732,{"$f":"VLOOKUP(A1150,'[1]SD vs SY0.45'!$A$2:$E$20133,5,FALSE)","v":"NA"}]
["ENSGALG00000042023",990.496110913525,1.09284142533707,0.349023251242713,3.13114218449905,0.00174127833600025,0.0054005719636169,{"$f":"VLOOKUP(A1151,'[1]SD vs SY0.45'!$A$2:$E$20133,5,FALSE)","v":"NA"}]
["ENSGALG00000049153",142.034297785699,1.09222518438639,0.201728854997128,5.41432302484414,{"v":6.15210163549458e-08,"d":"6.15E-08"},{"v":5.02662552332445e-07,"d":"5.03E-07"},{"$f":"VLOOKUP(A1152,'[1]SD vs SY0.45'!$A$2:$E$20133,5,FALSE)","v":"PDF"}]
["ENSGALG00000010752",168.099361163694,1.09204168881119,0.476121781459039,2.29361842145662,0.0218124263170214,0.0494204660377967,{"$f":"VLOOKUP(A1153,'[1]SD vs SY0.45'!$A$2:$E$20133,5,FALSE)","v":"CDCP2"}]
["ENSGALG00000016580",84.9095698587587,1.09196948589635,0.455686742236271,2.39631611957271,0.0165608005690126,0.03898582593518,{"$f":"VLOOKUP(A1154,'[1]SD vs SY0.45'!$A$2:$E$20133,5,FALSE)","v":"SCARA5"}]
["ENSGALG00000027747",106.437793266859,1.09192375134986,0.30536128165242,3.57584218091131,0.000349102217740735,1.2950373927583E-3,{"$f":"VLOOKUP(A1155,'[1]SD vs SY0.45'!$A$2:$E$20133,5,FALSE)","v":"TROJANZ"}]
["ENSGALG00000042387",1463.16507973973,1.09191687161767,0.163846478351884,6.66426817714458,{"v":2.6598738740009E-11,"d":"2.66E-11"},{"v":3.7386602301741e-10,"d":"3.74E-10"},{"$f":"VLOOKUP(A1156,'[1]SD vs SY0.45'!$A$2:$E$20133,5,FALSE)","v":"CRELD1"}]
["ENSGALG00000039473",1610.64032891737,1.09156027658739,0.201806643509049,5.40894124002634,{"v":6.33984246176425e-08,"d":"6.34E-08"},{"v":5.16787814733685e-07,"d":"5.17E-07"},{"$f":"VLOOKUP(A1157,'[1]SD vs SY0.45'!$A$2:$E$20133,5,FALSE)","v":"NOP53"}]
["ENSGALG00000039209",174.513564395039,1.09094011414698,0.403009134148624,2.70698607477382,0.00678971053053102,0.0179398120714568,{"$f":"VLOOKUP(A1158,'[1]SD vs SY0.45'!$A$2:$E$20133,5,FALSE)","v":"WIF1"}]
["ENSGALG00000046885",358.241465408346,1.08984820412494,0.138720759041751,7.85641753731268,{"v":3.9527589044084e-15,"d":"3.95E-15"},{"v":1.01217406584608E-13,"d":"1.01E-13"},{"$f":"VLOOKUP(A1159,'[1]SD vs SY0.45'!$A$2:$E$20133,5,FALSE)","v":"SCO2"}]
["ENSGALG00000036711",617.721898413489,1.08976750554128,0.231475741819158,4.70791235823175,{"v":2.50266652596729e-06,"d":"2.50E-06"},{"v":1.51142281649855e-05,"d":"1.51E-05"},{"$f":"VLOOKUP(A1160,'[1]SD vs SY0.45'!$A$2:$E$20133,5,FALSE)","v":"S100A11"}]
["ENSGALG00000051904",428.661612748232,1.08973528367034,0.120220689038286,9.06445714450447,{"v":1.25226247662731e-19,"d":"1.25E-19"},{"v":5.5971947766373e-18,"d":"5.60E-18"},{"$f":"VLOOKUP(A1161,'[1]SD vs SY0.45'!$A$2:$E$20133,5,FALSE)","v":"NLGN2"}]
["ENSGALG00000043219",102.501759882726,1.08965571491168,0.233657120364077,4.66348174287955,{"v":3.10903779882898E-6,"d":"3.11E-06"},{"v":1.84180034781055e-05,"d":"1.84E-05"},{"$f":"VLOOKUP(A1162,'[1]SD vs SY0.45'!$A$2:$E$20133,5,FALSE)","v":"HOXB3"}]
["ENSGALG00000001311",73.735297824868,1.08866681005117,0.403146694435685,2.70042350607653,6.92512599248168E-3,0.0182379832825324,{"$f":"VLOOKUP(A1163,'[1]SD vs SY0.45'!$A$2:$E$20133,5,FALSE)","v":"ARHGAP44"}]
["ENSGALG00000023296",198.406658999295,1.087557520359,0.258156380486139,4.21278574758059,{"v":2.5224030411862e-05,"d":"2.52E-05"},0.000123401861781386,{"$f":"VLOOKUP(A1164,'[1]SD vs SY0.45'!$A$2:$E$20133,5,FALSE)","v":"TAL1"}]
["ENSGALG00000039118",1363.59927649916,1.08728277560382,0.250888541467256,4.33372831315901,{"v":1.46605085867983E-5,"d":"1.47E-05"},{"v":7.52812353215186e-05,"d":"7.53E-05"},{"$f":"VLOOKUP(A1165,'[1]SD vs SY0.45'!$A$2:$E$20133,5,FALSE)","v":"MEIS2"}]
["ENSGALG00000047434",78.2992025203316,1.08697790802794,0.283310939446799,3.83669585844586,1.2470075010636E-4,0.000516846708486121,{"$f":"VLOOKUP(A1166,'[1]SD vs SY0.45'!$A$2:$E$20133,5,FALSE)","v":"NA"}]
["ENSGALG00000027907",341.756099196233,1.08678380966408,0.187480685687313,5.7967774423263,{"v":6.76013070449942e-09,"d":"6.76E-09"},{"v":6.5408120511481e-08,"d":"6.54E-08"},{"$f":"VLOOKUP(A1167,'[1]SD vs SY0.45'!$A$2:$E$20133,5,FALSE)","v":"NR2F1"}]
["ENSGALG00000003118",1011.84430378439,1.08594375999143,0.223351429408036,4.86204078867808,{"v":1.1618167415471E-6,"d":"1.16E-06"},{"v":7.49833247412006e-06,"d":"7.50E-06"},{"$f":"VLOOKUP(A1168,'[1]SD vs SY0.45'!$A$2:$E$20133,5,FALSE)","v":"ADGRA2"}]
["ENSGALG00000037493",207.471501916641,1.0851440045636,0.233834755566449,4.64064463785512,{"v":3.4732396942042E-6,"d":"3.47E-06"},{"v":2.04086578449235e-05,"d":"2.04E-05"},{"$f":"VLOOKUP(A1169,'[1]SD vs SY0.45'!$A$2:$E$20133,5,FALSE)","v":"NA"}]
["ENSGALG00000026431",24.8464327401438,1.08457144884566,0.32169747395355,3.37140181897188,0.000747866903721053,0.00254714238099862,{"$f":"VLOOKUP(A1170,'[1]SD vs SY0.45'!$A$2:$E$20133,5,FALSE)","v":"SEZ6"}]
["ENSGALG00000005644",1534.98108156729,1.08444097770406,0.222587791880302,4.87196970032942,{"v":1.10491117076808E-6,"d":"1.10E-06"},{"v":7.15763432419698e-06,"d":"7.16E-06"},{"$f":"VLOOKUP(A1171,'[1]SD vs SY0.45'!$A$2:$E$20133,5,FALSE)","v":"MYO1G"}]
["ENSGALG00000046448",68.664543972091,1.08425946137102,0.248878340509777,4.35658426181293,{"v":1.32107849907546e-05,"d":"1.32E-05"},{"v":6.85454845223069e-05,"d":"6.85E-05"},{"$f":"VLOOKUP(A1172,'[1]SD vs SY0.45'!$A$2:$E$20133,5,FALSE)","v":"ZNF385A"}]
["ENSGALG00000003644",61.1689392612822,1.08412451806642,0.441629816326235,2.45482636812178,0.0140952651240226,0.0339015596502118,{"$f":"VLOOKUP(A1173,'[1]SD vs SY0.45'!$A$2:$E$20133,5,FALSE)","v":"C2CD4A"}]
["ENSGALG00000001791",116.154652578653,1.08352661691514,0.221332181136566,4.89547706687346,{"v":9.8067528433988e-07,"d":"9.81E-07"},{"v":6.41256155277078e-06,"d":"6.41E-06"},{"$f":"VLOOKUP(A1174,'[1]SD vs SY0.45'!$A$2:$E$20133,5,FALSE)","v":"LOC415664,NADB-LER5"}]
["ENSGALG00000038311",1673.05750344736,1.08321199242974,0.333876968667387,3.24434475595365,0.00117721168357575,0.00381726586018866,{"$f":"VLOOKUP(A1175,'[1]SD vs SY0.45'!$A$2:$E$20133,5,FALSE)","v":"COL18A1"}]
["ENSGALG00000031143",505.891593069547,1.08275440512856,0.175096973131709,6.18374141918548,{"v":6.25998782555274e-10,"d":"6.26E-10"},{"v":7.15127518547211e-09,"d":"7.15E-09"},{"$f":"VLOOKUP(A1176,'[1]SD vs SY0.45'!$A$2:$E$20133,5,FALSE)","v":"DCPS"}]
["ENSGALG00000050713",91.9869686821647,1.08263371984218,0.25626692179539,4.22463309840113,{"v":2.39330372097409E-5,"d":"2.39E-05"},0.000117715337472635,{"$f":"VLOOKUP(A1177,'[1]SD vs SY0.45'!$A$2:$E$20133,5,FALSE)","v":"NA"}]
["ENSGALG00000027777",1421.80679656086,1.08201354943987,0.279964639837831,3.8648221792103,1.11170160938606E-4,0.000467452379259865,{"$f":"VLOOKUP(A1178,'[1]SD vs SY0.45'!$A$2:$E$20133,5,FALSE)","v":"CNN2"}]
["ENSGALG00000043329",8605.2891804927,1.08182353445924,0.189869680025522,5.69771610882697,{"v":1.21423018030024E-8,"d":"1.21E-08"},{"v":1.12356679855669E-7,"d":"1.12E-07"},{"$f":"VLOOKUP(A1179,'[1]SD vs SY0.45'!$A$2:$E$20133,5,FALSE)","v":"PTMA"}]
["ENSGALG00000026081",790.79281668809,1.08133889351401,0.213006185673332,5.07656099326787,{"v":3.84327463741322e-07,"d":"3.84E-07"},{"v":2.70648100934401E-6,"d":"2.71E-06"},{"$f":"VLOOKUP(A1180,'[1]SD vs SY0.45'!$A$2:$E$20133,5,FALSE)","v":"RBM38"}]
["ENSGALG00000002958",42.1867391134161,1.08052358528387,0.400944754031546,2.69494381562318,0.00704005008277299,0.0185098065611937,{"$f":"VLOOKUP(A1181,'[1]SD vs SY0.45'!$A$2:$E$20133,5,FALSE)","v":"DNER"}]
["ENSGALG00000036359",1117.41044115211,1.08048504174493,0.147362845081372,7.33214020907574,{"v":2.26505936102379e-13,"d":"2.27E-13"},{"v":4.46514593085269e-12,"d":"4.47E-12"},{"$f":"VLOOKUP(A1182,'[1]SD vs SY0.45'!$A$2:$E$20133,5,FALSE)","v":"RUVBL2"}]
["ENSGALG00000046464",1475.43729471501,1.08011363645555,0.129148233155746,8.3633636331129,{"v":6.09549728994428e-17,"d":"6.10E-17"},{"v":1.93046286667142E-15,"d":"1.93E-15"},{"$f":"VLOOKUP(A1183,'[1]SD vs SY0.45'!$A$2:$E$20133,5,FALSE)","v":"RUSC1"}]
["ENSGALG00000039708",428.974302203106,1.07967373432865,0.275223262542286,3.92290144501419,{"v":8.74889462891094e-05,"d":"8.75E-05"},0.000376993880824968,{"$f":"VLOOKUP(A1184,'[1]SD vs SY0.45'!$A$2:$E$20133,5,FALSE)","v":"PRAM1"}]
["ENSGALG00000007090",227.417655516793,1.07869305944002,0.237982479225489,4.53265745844238,{"v":5.82462276646055e-06,"d":"5.82E-06"},{"v":3.25950164275667E-5,"d":"3.26E-05"},{"$f":"VLOOKUP(A1185,'[1]SD vs SY0.45'!$A$2:$E$20133,5,FALSE)","v":"CPN1"}]
["ENSGALG00000011406",370.351555491889,1.07847932499275,0.258579442261851,4.17078525484878,{"v":3.03551815474643e-05,"d":"3.04E-05"},0.000145515726927423,{"$f":"VLOOKUP(A1186,'[1]SD vs SY0.45'!$A$2:$E$20133,5,FALSE)","v":"NTN4"}]
["ENSGALG00000027418",149.795991487508,1.07842254409316,0.222897520381906,4.83819892767502,{"v":1.31020974492524e-06,"d":"1.31E-06"},{"v":8.37214878170347e-06,"d":"8.37E-06"},{"$f":"VLOOKUP(A1187,'[1]SD vs SY0.45'!$A$2:$E$20133,5,FALSE)","v":"HINT2Z"}]
["ENSGALG00000034955",2200.3481477033,1.07776573030108,0.0977752785766385,11.022885804987,{"v":2.96401431463154e-28,"d":"2.96E-28"},{"v":3.0494270348224e-26,"d":"3.05E-26"},{"$f":"VLOOKUP(A1188,'[1]SD vs SY0.45'!$A$2:$E$20133,5,FALSE)","v":"DCTN2"}]
["ENSGALG00000054882",683.755130468902,1.07770056568499,0.150490675548737,7.16124478646499,{"v":7.99477423837336e-13,"d":"7.99E-13"},{"v":1.44646347224347E-11,"d":"1.45E-11"},{"$f":"VLOOKUP(A1189,'[1]SD vs SY0.45'!$A$2:$E$20133,5,FALSE)","v":"PREB"}]
["ENSGALG00000052348",975.575261164804,1.07633327216847,0.141601354164026,7.60115098137891,{"v":2.9350843078626e-14,"d":"2.94E-14"},{"v":6.67962184041976e-13,"d":"6.68E-13"},{"$f":"VLOOKUP(A1190,'[1]SD vs SY0.45'!$A$2:$E$20133,5,FALSE)","v":"NA"}]
["ENSGALG00000043190",13.298097602585,1.07630091646432,0.44656513380439,2.41017678047336,0.0159447924887655,0.0377494699077022,{"$f":"VLOOKUP(A1191,'[1]SD vs SY0.45'!$A$2:$E$20133,5,FALSE)","v":"NA"}]
["ENSGALG00000043823",548.173731019317,1.07590615186999,0.162553951696426,6.61876343602691,{"v":3.62215955616578e-11,"d":"3.62E-11"},{"v":4.97460412346401e-10,"d":"4.97E-10"},{"$f":"VLOOKUP(A1192,'[1]SD vs SY0.45'!$A$2:$E$20133,5,FALSE)","v":"ECSIT"}]
["ENSGALG00000052652",534.672370182846,1.07500985654413,0.160032990524699,6.71742653198883,{"v":1.84961966965939e-11,"d":"1.85E-11"},{"v":2.66661170782487e-10,"d":"2.67E-10"},{"$f":"VLOOKUP(A1193,'[1]SD vs SY0.45'!$A$2:$E$20133,5,FALSE)","v":"INO80E"}]
["ENSGALG00000029166",97.5313358067856,1.07500443242752,0.247463582767794,4.34409144329024,{"v":1.39853255409083e-05,"d":"1.40E-05"},{"v":7.22408957753337e-05,"d":"7.22E-05"},{"$f":"VLOOKUP(A1194,'[1]SD vs SY0.45'!$A$2:$E$20133,5,FALSE)","v":"UBTD1"}]
["ENSGALG00000010106",460.425400417352,1.07425854126099,0.10948285436312,9.81211667808747,{"v":9.98517119385562e-23,"d":"9.99E-23"},{"v":6.22265847840744e-21,"d":"6.22E-21"},{"$f":"VLOOKUP(A1195,'[1]SD vs SY0.45'!$A$2:$E$20133,5,FALSE)","v":"ERI3"}]
["ENSGALG00000005616",51.9271574964388,1.07421608842627,0.298855263991422,3.59443589542094,0.000325095173466903,1.21609935048817E-3,{"$f":"VLOOKUP(A1196,'[1]SD vs SY0.45'!$A$2:$E$20133,5,FALSE)","v":"ARSI"}]
["ENSGALG00000042782",19.4896085858105,1.07358078212727,0.382991959013352,2.80314183329851,0.00506074081947258,0.013876533768833,{"$f":"VLOOKUP(A1197,'[1]SD vs SY0.45'!$A$2:$E$20133,5,FALSE)","v":"NA"}]
["ENSGALG00000005774",288.807334112069,1.07152190218586,0.305941805461006,3.50237163754473,0.000461135920318428,1.65511365789797E-3,{"$f":"VLOOKUP(A1198,'[1]SD vs SY0.45'!$A$2:$E$20133,5,FALSE)","v":"NKAIN4"}]
["ENSGALG00000015089",49.5765851203132,1.07122001088364,0.31257694959091,3.42706016002017,0.000610153876844041,0.00212685353983307,{"$f":"VLOOKUP(A1199,'[1]SD vs SY0.45'!$A$2:$E$20133,5,FALSE)","v":"GAP43"}]
["ENSGALG00000013818",369.703038874272,1.07117335200345,0.272858648176346,3.92574455368247,{"v":8.64618750139863e-05,"d":"8.65E-05"},0.000373123013370112,{"$f":"VLOOKUP(A1200,'[1]SD vs SY0.45'!$A$2:$E$20133,5,FALSE)","v":"CITED2"}]
["ENSGALG00000052628",167.260616514319,1.07069525038132,0.285773939179469,3.74665112380633,1.79211055604E-4,0.000714665739400632,{"$f":"VLOOKUP(A1201,'[1]SD vs SY0.45'!$A$2:$E$20133,5,FALSE)","v":"NA"}]
["ENSGALG00000023468",80.8694137041384,1.07046166558237,0.265025167042865,4.03909439064418,{"v":5.36579703332262e-05,"d":"5.37E-05"},0.000243526789398017,{"$f":"VLOOKUP(A1202,'[1]SD vs SY0.45'!$A$2:$E$20133,5,FALSE)","v":"VPS9D1"}]
["ENSGALG00000039611",1250.17297055456,1.07004078394922,0.189025982527605,5.66081323657688,{"v":1.50657320384995e-08,"d":"1.51E-08"},{"v":1.36716014067532e-07,"d":"1.37E-07"},{"$f":"VLOOKUP(A1203,'[1]SD vs SY0.45'!$A$2:$E$20133,5,FALSE)","v":"GAAGSD"}]
["ENSGALG00000054971",1467.47332131769,1.06948488022609,0.225776817455909,4.73691184186768,{"v":2.16999504254209e-06,"d":"2.17E-06"},{"v":1.32570990178072E-5,"d":"1.33E-05"},{"$f":"VLOOKUP(A1204,'[1]SD vs SY0.45'!$A$2:$E$20133,5,FALSE)","v":"ARHGAP30"}]
["ENSGALG00000050204",282.53655275163,1.06932094690924,0.156666294211862,6.82546907928505,{"v":8.76384771643384e-12,"d":"8.76E-12"},{"v":1.34016728448228e-10,"d":"1.34E-10"},{"$f":"VLOOKUP(A1205,'[1]SD vs SY0.45'!$A$2:$E$20133,5,FALSE)","v":"MRPL4"}]
["ENSGALG00000054002",344.780458777799,1.06921370747403,0.193581835632705,5.52331629659056,{"v":3.32660085182676e-08,"d":"3.33E-08"},{"v":2.85205172636646e-07,"d":"2.85E-07"},{"$f":"VLOOKUP(A1206,'[1]SD vs SY0.45'!$A$2:$E$20133,5,FALSE)","v":"G6PC3"}]
["ENSGALG00000047187",895.075492569159,1.06854351471859,0.129454198673078,8.25422060984731,{"v":1.52896703091497e-16,"d":"1.53E-16"},{"v":4.67208256002083e-15,"d":"4.67E-15"},{"$f":"VLOOKUP(A1207,'[1]SD vs SY0.45'!$A$2:$E$20133,5,FALSE)","v":"LOC112533016"}]
["ENSGALG00000047890",586.274460968926,1.06833596270577,0.30437390677075,3.50994595443566,0.000448197782909455,0.00161542596423024,{"$f":"VLOOKUP(A1208,'[1]SD vs SY0.45'!$A$2:$E$20133,5,FALSE)","v":"PCP4"}]
["ENSGALG00000003821",132.081029456505,1.0682226060109,0.259728098083634,4.11284960654094,{"v":3.90804994724466e-05,"d":"3.91E-05"},1.82954400734365E-4,{"$f":"VLOOKUP(A1209,'[1]SD vs SY0.45'!$A$2:$E$20133,5,FALSE)","v":"RAMP1"}]
["ENSGALG00000016105",1935.1768168158,1.06750410129121,0.223035601275396,4.78624979683444,{"v":1.69926542983806e-06,"d":"1.70E-06"},{"v":1.05972482168559E-5,"d":"1.06E-05"},{"$f":"VLOOKUP(A1210,'[1]SD vs SY0.45'!$A$2:$E$20133,5,FALSE)","v":"DYSF"}]
["ENSGALG00000048409",11987.7951242715,1.06747867687182,0.19271717651988,5.53909462637702,{"v":3.04039340350699e-08,"d":"3.04E-08"},{"v":2.62088845348419e-07,"d":"2.62E-07"},{"$f":"VLOOKUP(A1211,'[1]SD vs SY0.45'!$A$2:$E$20133,5,FALSE)","v":"TXNIP"}]
["ENSGALG00000007027",776.720259068557,1.06630288407635,0.155035880713019,6.87778131857193,{"v":6.07918927364456E-12,"d":"6.08E-12"},{"v":9.54822618797272e-11,"d":"9.55E-11"},{"$f":"VLOOKUP(A1212,'[1]SD vs SY0.45'!$A$2:$E$20133,5,FALSE)","v":"SGSH"}]
["ENSGALG00000050830",22.2971747600285,1.06601563554171,0.415704400890388,2.56435975481239,0.0103366343389198,0.0259153657174907,{"$f":"VLOOKUP(A1213,'[1]SD vs SY0.45'!$A$2:$E$20133,5,FALSE)","v":"SV2A"}]
["ENSGALG00000046929",19.0353689273536,1.06542052338664,0.342484000958379,3.11086217284677,0.0018654198500874,0.0057435903902018,{"$f":"VLOOKUP(A1214,'[1]SD vs SY0.45'!$A$2:$E$20133,5,FALSE)","v":"NA"}]
["ENSGALG00000001076",265.437097410932,1.06525372186958,0.21274363886751,5.00721773652178,{"v":5.52224467448215e-07,"d":"5.52E-07"},{"v":3.78012866752839e-06,"d":"3.78E-06"},{"$f":"VLOOKUP(A1215,'[1]SD vs SY0.45'!$A$2:$E$20133,5,FALSE)","v":"LIMK1"}]
["ENSGALG00000038393",1641.92402058464,1.06520034434784,0.225114447842963,4.7318168805003,{"v":2.22519109840424e-06,"d":"2.23E-06"},{"v":1.35657074431818e-05,"d":"1.36E-05"},{"$f":"VLOOKUP(A1216,'[1]SD vs SY0.45'!$A$2:$E$20133,5,FALSE)","v":"DMB2"}]
["ENSGALG00000002179",507.601715155274,1.06481081428536,0.145394805924126,7.3235822113276,{"v":2.41437567394278e-13,"d":"2.41E-13"},{"v":4.73266627315029e-12,"d":"4.73E-12"},{"$f":"VLOOKUP(A1217,'[1]SD vs SY0.45'!$A$2:$E$20133,5,FALSE)","v":"FBF1"}]
["ENSGALG00000034111",646.19614907948,1.06467929032569,0.2130893821857,4.99639765907184,{"v":5.84111507928352E-7,"d":"5.84E-07"},{"v":3.98585038789256e-06,"d":"3.99E-06"},{"$f":"VLOOKUP(A1218,'[1]SD vs SY0.45'!$A$2:$E$20133,5,FALSE)","v":"FOXF1"}]
["ENSGALG00000031853",252.812743496447,1.06412971613403,0.272986650354757,3.89810166449953,{"v":9.69497159221172e-05,"d":"9.69E-05"},0.000413558564950405,{"$f":"VLOOKUP(A1219,'[1]SD vs SY0.45'!$A$2:$E$20133,5,FALSE)","v":"PIGBOS1"}]
["ENSGALG00000019761",159.114365562402,1.06394659774,0.369001647946226,2.8833112363093,0.0039351841795548,0.0110998018732598,{"$f":"VLOOKUP(A1220,'[1]SD vs SY0.45'!$A$2:$E$20133,5,FALSE)","v":"CHAD"}]
["ENSGALG00000011328",218.482775049953,1.06242098258523,0.283746139221472,3.74426586208449,0.000180922001218538,0.000720497213739513,{"$f":"VLOOKUP(A1221,'[1]SD vs SY0.45'!$A$2:$E$20133,5,FALSE)","v":"GLB1L"}]
["ENSGALG00000005287",173.002802788231,1.06219154256807,0.251526910385495,4.22297376030315,{"v":2.41099898661956e-05,"d":"2.41E-05"},1.18502349107992E-4,{"$f":"VLOOKUP(A1222,'[1]SD vs SY0.45'!$A$2:$E$20133,5,FALSE)","v":"ZBTB47"}]
["ENSGALG00000053583",555.450907620848,1.06177958444251,0.204189444520088,5.19997293169602,{"v":1.99317551208193e-07,"d":"1.99E-07"},{"v":1.48863155620999E-6,"d":"1.49E-06"},{"$f":"VLOOKUP(A1223,'[1]SD vs SY0.45'!$A$2:$E$20133,5,FALSE)","v":"KMT5C"}]
["ENSGALG00000008623",973.232955380142,1.06133055742514,0.173430728935231,6.11962230650314,{"v":9.37974132042326e-10,"d":"9.38E-10"},{"v":1.04463039724225E-8,"d":"1.04E-08"},{"$f":"VLOOKUP(A1224,'[1]SD vs SY0.45'!$A$2:$E$20133,5,FALSE)","v":"TOR4A"}]
["ENSGALG00000049986",83.4201071936076,1.06104173391767,0.254301126928276,4.17238313779447,{"v":3.01430210204772e-05,"d":"3.01E-05"},0.000144698151983169,{"$f":"VLOOKUP(A1225,'[1]SD vs SY0.45'!$A$2:$E$20133,5,FALSE)","v":"NA"}]
["ENSGALG00000027069",3940.5232639727,1.06093549791237,0.225714378499142,4.70034521046874,{"v":2.59722061306225e-06,"d":"2.60E-06"},{"v":1.56255622142953e-05,"d":"1.56E-05"},{"$f":"VLOOKUP(A1226,'[1]SD vs SY0.45'!$A$2:$E$20133,5,FALSE)","v":"TSC22D4"}]
["ENSGALG00000041384",365.992510861787,1.06084631642643,0.14444938402257,7.34406950645549,{"v":2.07195436091735e-13,"d":"2.07E-13"},{"v":4.10776174153592e-12,"d":"4.11E-12"},{"$f":"VLOOKUP(A1227,'[1]SD vs SY0.45'!$A$2:$E$20133,5,FALSE)","v":"SHKBP1"}]
["ENSGALG00000036085",760.221874873319,1.0607488402474,0.205932480802285,5.15095450758843,{"v":2.59164053445852e-07,"d":"2.59E-07"},{"v":1.89729911463706E-6,"d":"1.90E-06"},{"$f":"VLOOKUP(A1228,'[1]SD vs SY0.45'!$A$2:$E$20133,5,FALSE)","v":"LOC776273"}]
["ENSGALG00000025977",852.439710595718,1.060061436668,0.244255723011097,4.33996560489941,{"v":1.4250501939988e-05,"d":"1.43E-05"},{"v":7.34796788940011e-05,"d":"7.35E-05"},{"$f":"VLOOKUP(A1229,'[1]SD vs SY0.45'!$A$2:$E$20133,5,FALSE)","v":"GADD45A"}]
["ENSGALG00000051258",596.720044867442,1.05965762834996,0.218897935557125,4.84087538629813,{"v":1.29268418360736e-06,"d":"1.29E-06"},{"v":8.27841616956951e-06,"d":"8.28E-06"},{"$f":"VLOOKUP(A1230,'[1]SD vs SY0.45'!$A$2:$E$20133,5,FALSE)","v":"NA"}]
["ENSGALG00000012055",266.968275526876,1.05946299396761,0.222715200930457,4.75703045657142,{"v":1.96461537930522e-06,"d":"1.96E-06"},{"v":1.20830447824478e-05,"d":"1.21E-05"},{"$f":"VLOOKUP(A1231,'[1]SD vs SY0.45'!$A$2:$E$20133,5,FALSE)","v":"AMHR2"}]
["ENSGALG00000016820",627.617227406302,1.0593612022112,0.259448342360022,4.08312958400476,{"v":4.44332294284866e-05,"d":"4.44E-05"},2.05359000551062E-4,{"$f":"VLOOKUP(A1232,'[1]SD vs SY0.45'!$A$2:$E$20133,5,FALSE)","v":"GAS6"}]
["ENSGALG00000047211",157.81043462296,1.05881174707251,0.391730758722663,2.7029068397004,6.8736008417377E-3,0.0181297478512278,{"$f":"VLOOKUP(A1233,'[1]SD vs SY0.45'!$A$2:$E$20133,5,FALSE)","v":"FCER1G"}]
["ENSGALG00000050805",537.583422994741,1.05816139223626,0.169440971140992,6.24501491646764,{"v":4.2375967294801E-10,"d":"4.24E-10"},{"v":4.97159880806144e-09,"d":"4.97E-09"},{"$f":"VLOOKUP(A1234,'[1]SD vs SY0.45'!$A$2:$E$20133,5,FALSE)","v":"LOC107050626"}]
["ENSGALG00000054713",753.331329286073,1.05759174799405,0.131220076239089,8.05967942029751,{"v":7.64947903055931e-16,"d":"7.65E-16"},{"v":2.15561575209619e-14,"d":"2.16E-14"},{"$f":"VLOOKUP(A1235,'[1]SD vs SY0.45'!$A$2:$E$20133,5,FALSE)","v":"GRIPAP1"}]
["ENSGALG00000029829",31.3242921250895,1.05749980291202,0.455936367492804,2.31940217606947,0.0203732397752596,0.0465993519832974,{"$f":"VLOOKUP(A1236,'[1]SD vs SY0.45'!$A$2:$E$20133,5,FALSE)","v":"RNLS"}]
["ENSGALG00000025659",59.9883611706996,1.05623852969835,0.235031314253282,4.49403320172093,{"v":6.98867247490911e-06,"d":"6.99E-06"},{"v":3.86120267941674e-05,"d":"3.86E-05"},{"$f":"VLOOKUP(A1237,'[1]SD vs SY0.45'!$A$2:$E$20133,5,FALSE)","v":"gga-mir-2129"}]
["ENSGALG00000052329",67.3920735652731,1.05616253025045,0.29277345303564,3.6074395383173,0.000309233566106114,0.00116402771463239,{"$f":"VLOOKUP(A1238,'[1]SD vs SY0.45'!$A$2:$E$20133,5,FALSE)","v":"PEX11B"}]
["ENSGALG00000010133",1702.66224940523,1.05605316200184,0.272852782541271,3.87041375266937,1.08650791946374E-4,0.000458188532517972,{"$f":"VLOOKUP(A1239,'[1]SD vs SY0.45'!$A$2:$E$20133,5,FALSE)","v":"PTCH2"}]
["ENSGALG00000050026",1324.95757270712,1.05586081208649,0.139221444987574,7.58403859535235,{"v":3.34961447141217e-14,"d":"3.35E-14"},{"v":7.553793361147e-13,"d":"7.55E-13"},{"$f":"VLOOKUP(A1240,'[1]SD vs SY0.45'!$A$2:$E$20133,5,FALSE)","v":"NA"}]
["ENSGALG00000028478",24.7721280161635,1.05572685152491,0.305907827194262,3.45112729284462,0.000558250206136922,0.00196356077363966,{"$f":"VLOOKUP(A1241,'[1]SD vs SY0.45'!$A$2:$E$20133,5,FALSE)","v":"CELF3"}]
["ENSGALG00000036263",625.536179505164,1.05508394269057,0.129599140483128,8.14113379731807,{"v":3.91593354988061e-16,"d":"3.92E-16"},{"v":1.14430817868528E-14,"d":"1.14E-14"},{"$f":"VLOOKUP(A1242,'[1]SD vs SY0.45'!$A$2:$E$20133,5,FALSE)","v":"NA"}]
["ENSGALG00000053058",411.131368310747,1.05505536700428,0.181092932816412,5.82604384718798,{"v":5.67567098836149e-09,"d":"5.68E-09"},{"v":5.5627334540384e-08,"d":"5.56E-08"},{"$f":"VLOOKUP(A1243,'[1]SD vs SY0.45'!$A$2:$E$20133,5,FALSE)","v":"LAMTOR2"}]
["ENSGALG00000015066",38.8611359959804,1.0537660034104,0.39826380578757,2.64589949700944,0.00814740189732527,0.0210363642395002,{"$f":"VLOOKUP(A1244,'[1]SD vs SY0.45'!$A$2:$E$20133,5,FALSE)","v":"WASF1"}]
["ENSGALG00000004653",37.6741308639061,1.05316879464841,0.304935460184097,3.45374327410984,0.000552863405587868,0.00194627172159471,{"$f":"VLOOKUP(A1245,'[1]SD vs SY0.45'!$A$2:$E$20133,5,FALSE)","v":"NA"}]
["ENSGALG00000036824",41.3806881714191,1.05301848663972,0.323363342309896,3.25645597029533,0.00112812425559678,3.67660664143602E-3,{"$f":"VLOOKUP(A1246,'[1]SD vs SY0.45'!$A$2:$E$20133,5,FALSE)","v":"CDH23"}]
["ENSGALG00000052101",165.033113142782,1.05295324288084,0.137797033743168,7.64133460843124,{"v":2.14981555155217E-14,"d":"2.15E-14"},{"v":4.98646402257907e-13,"d":"4.99E-13"},{"$f":"VLOOKUP(A1247,'[1]SD vs SY0.45'!$A$2:$E$20133,5,FALSE)","v":"NA"}]
["ENSGALG00000007905",5692.71019173688,1.05288411108325,0.24200155077299,4.35073290943869,{"v":1.35683245775388e-05,"d":"1.36E-05"},{"v":7.02120414969247e-05,"d":"7.02E-05"},{"$f":"VLOOKUP(A1248,'[1]SD vs SY0.45'!$A$2:$E$20133,5,FALSE)","v":"LAMB1"}]
["ENSGALG00000051082",632.541551145868,1.05209599146322,0.14018812894062,7.50488646516472,{"v":6.14818646552096e-14,"d":"6.15E-14"},{"v":1.33623147595016E-12,"d":"1.34E-12"},{"$f":"VLOOKUP(A1249,'[1]SD vs SY0.45'!$A$2:$E$20133,5,FALSE)","v":"NA"}]
["ENSGALG00000005842",1258.63953172835,1.05177872598899,0.204328673544209,5.14748472519901,{"v":2.64002494417144e-07,"d":"2.64E-07"},{"v":1.92866023967684E-6,"d":"1.93E-06"},{"$f":"VLOOKUP(A1250,'[1]SD vs SY0.45'!$A$2:$E$20133,5,FALSE)","v":"GDPD2"}]
["ENSGALG00000016538",2032.00360148326,1.05115453073221,0.150818406917144,6.9696700304605,{"v":3.17685211852267e-12,"d":"3.18E-12"},{"v":5.20602523890232E-11,"d":"5.21E-11"},{"$f":"VLOOKUP(A1251,'[1]SD vs SY0.45'!$A$2:$E$20133,5,FALSE)","v":"RAI2"}]
["ENSGALG00000018998",28.6769846654842,1.05075994177955,0.378829391775922,2.77370226437201,0.00554223756042505,0.0150543484554148,{"$f":"VLOOKUP(A1252,'[1]SD vs SY0.45'!$A$2:$E$20133,5,FALSE)","v":"UNC5A"}]
["ENSGALG00000037929",724.077049691396,1.05011822434244,0.25263115464474,4.15672495270491,{"v":3.22842275557079e-05,"d":"3.23E-05"},0.000153745785952093,{"$f":"VLOOKUP(A1253,'[1]SD vs SY0.45'!$A$2:$E$20133,5,FALSE)","v":"BIN2"}]
["ENSGALG00000048263",614.838177881777,1.05000137632296,0.122546895756521,8.56815972237378,{"v":1.05151884492598e-17,"d":"1.05E-17"},{"v":3.71600775543251e-16,"d":"3.72E-16"},{"$f":"VLOOKUP(A1254,'[1]SD vs SY0.45'!$A$2:$E$20133,5,FALSE)","v":"MEPCE"}]
["ENSGALG00000003527",412.233994779695,1.04935408106995,0.219494341410978,4.78077965165012,{"v":1.74616671543188E-6,"d":"1.75E-06"},{"v":1.08663567219807e-05,"d":"1.09E-05"},{"$f":"VLOOKUP(A1255,'[1]SD vs SY0.45'!$A$2:$E$20133,5,FALSE)","v":"ARRDC2"}]
["ENSGALG00000041296",283.251116542508,1.04914423812971,0.251709103938747,4.16808220963281,{"v":3.07173155676019E-5,"d":"3.07E-05"},0.000147170560973793,{"$f":"VLOOKUP(A1256,'[1]SD vs SY0.45'!$A$2:$E$20133,5,FALSE)","v":"SOX7"}]
["ENSGALG00000002386",38.9215454785909,1.0491314223589,0.239020279832162,4.38929877872953,{"v":1.13716744538016E-5,"d":"1.14E-05"},{"v":6.00970528049388e-05,"d":"6.01E-05"},{"$f":"VLOOKUP(A1257,'[1]SD vs SY0.45'!$A$2:$E$20133,5,FALSE)","v":"TMEM8B"}]
["ENSGALG00000031570",118.203931062009,1.04896144683386,0.289875329647092,3.61866409297719,0.000296127708807877,1.11978522684701E-3,{"$f":"VLOOKUP(A1258,'[1]SD vs SY0.45'!$A$2:$E$20133,5,FALSE)","v":"WDR54"}]
["ENSGALG00000034575",1264.56579474174,1.0482396130131,0.182379744945474,5.74756595545456,{"v":9.05372879162912e-09,"d":"9.05E-09"},{"v":8.60203183060412e-08,"d":"8.60E-08"},{"$f":"VLOOKUP(A1259,'[1]SD vs SY0.45'!$A$2:$E$20133,5,FALSE)","v":"MRI1"}]
["ENSGALG00000041323",48.0106202006371,1.04819815895272,0.271485134252001,3.86097810416296,1.12934024767309E-4,0.000473609235076991,{"$f":"VLOOKUP(A1260,'[1]SD vs SY0.45'!$A$2:$E$20133,5,FALSE)","v":"SPC24"}]
["ENSGALG00000033143",796.089225295735,1.04798326585435,0.189974488338733,5.51644210240349,{"v":3.45931381870628e-08,"d":"3.46E-08"},{"v":2.95417924193743e-07,"d":"2.95E-07"},{"$f":"VLOOKUP(A1261,'[1]SD vs SY0.45'!$A$2:$E$20133,5,FALSE)","v":"NA"}]
["ENSGALG00000026452",152.37318645883,1.04758573122507,0.270346045853643,3.87498077849529,0.000106633116206654,0.00045055406840464,{"$f":"VLOOKUP(A1262,'[1]SD vs SY0.45'!$A$2:$E$20133,5,FALSE)","v":"CAVIN4"}]
["ENSGALG00000005653",2003.73035227602,1.04742641709385,0.188638229191669,5.55256705696486,{"v":2.81504673282382e-08,"d":"2.82E-08"},{"v":2.44115798222482e-07,"d":"2.44E-07"},{"$f":"VLOOKUP(A1263,'[1]SD vs SY0.45'!$A$2:$E$20133,5,FALSE)","v":"NFKB2"}]
["ENSGALG00000017810",21.4107348772727,1.04694309428586,0.366570836576512,2.85604578930365,0.00428953266613115,0.012000338610784,{"$f":"VLOOKUP(A1264,'[1]SD vs SY0.45'!$A$2:$E$20133,5,FALSE)","v":"NA"}]
["ENSGALG00000038242",200.113450486023,1.04673094129251,0.198746130950975,5.2666732996715,{"v":1.38918105733107E-7,"d":"1.39E-07"},{"v":1.06685914504485E-6,"d":"1.07E-06"},{"$f":"VLOOKUP(A1265,'[1]SD vs SY0.45'!$A$2:$E$20133,5,FALSE)","v":"CACNA2D2"}]
["ENSGALG00000039532",1930.50271116293,1.04653227189976,0.10312423304126,10.1482672019587,{"v":3.37298972737627e-24,"d":"3.37E-24"},{"v":2.40353165532341E-22,"d":"2.40E-22"},{"$f":"VLOOKUP(A1266,'[1]SD vs SY0.45'!$A$2:$E$20133,5,FALSE)","v":"PHC2"}]
["ENSGALG00000046740",478.497579168164,1.04633944477774,0.162445506223054,6.44117199118457,{"v":1.18554432100594E-10,"d":"1.19E-10"},{"v":1.50790483608853E-9,"d":"1.51E-09"},{"$f":"VLOOKUP(A1267,'[1]SD vs SY0.45'!$A$2:$E$20133,5,FALSE)","v":"PBDC1"}]
["ENSGALG00000054336",1968.97719278912,1.04597685013227,0.122175497367582,8.561265332813,{"v":1.11635453061742E-17,"d":"1.12E-17"},{"v":3.92916117891602e-16,"d":"3.93E-16"},{"$f":"VLOOKUP(A1268,'[1]SD vs SY0.45'!$A$2:$E$20133,5,FALSE)","v":"CDC25B"}]
["ENSGALG00000038515",1171.78958117686,1.04566906252711,0.242199188177742,4.31739292932611,{"v":1.57882952746628e-05,"d":"1.58E-05"},{"v":8.07385558648712e-05,"d":"8.07E-05"},{"$f":"VLOOKUP(A1269,'[1]SD vs SY0.45'!$A$2:$E$20133,5,FALSE)","v":"LFNG"}]
["ENSGALG00000015075",59.8116135138112,1.04393994455431,0.260350768309627,4.00974405158191,{"v":6.07845994099509E-5,"d":"6.08E-05"},0.000271617021316067,{"$f":"VLOOKUP(A1270,'[1]SD vs SY0.45'!$A$2:$E$20133,5,FALSE)","v":"B3GAT1L"}]
["ENSGALG00000025941",30.6383929241536,1.04358704231676,0.353745558688302,2.95010641599689,3.1766449479924E-3,0.00921306517276795,{"$f":"VLOOKUP(A1271,'[1]SD vs SY0.45'!$A$2:$E$20133,5,FALSE)","v":"RGS20"}]
["ENSGALG00000029017",550.961579132778,1.04340417560825,0.203331717394189,5.13153672717696,{"v":2.8738613295423e-07,"d":"2.87E-07"},{"v":2.0854685699813e-06,"d":"2.09E-06"},{"$f":"VLOOKUP(A1272,'[1]SD vs SY0.45'!$A$2:$E$20133,5,FALSE)","v":"ZNRF1"}]
["ENSGALG00000037479",162.9841611753,1.04247941514758,0.252875511844457,4.12250046492761,{"v":3.74781854351065e-05,"d":"3.75E-05"},1.76069497476411E-4,{"$f":"VLOOKUP(A1273,'[1]SD vs SY0.45'!$A$2:$E$20133,5,FALSE)","v":"IGSF21"}]
["ENSGALG00000012692",437.250574484949,1.04224013986273,0.229752620836095,4.53635800135773,{"v":5.72339938893266e-06,"d":"5.72E-06"},{"v":3.21216091592551e-05,"d":"3.21E-05"},{"$f":"VLOOKUP(A1274,'[1]SD vs SY0.45'!$A$2:$E$20133,5,FALSE)","v":"SIRT5"}]
["ENSGALG00000029396",252.189261049432,1.04219365606032,0.255138999018751,4.08480734058116,{"v":4.41134027006777e-05,"d":"4.41E-05"},2.03989290626777E-4,{"$f":"VLOOKUP(A1275,'[1]SD vs SY0.45'!$A$2:$E$20133,5,FALSE)","v":"NA"}]
["ENSGALG00000028608",53.9880011215951,1.03983429739689,0.325226723237413,3.19725970561716,0.00138739952261083,0.00442099011264366,{"$f":"VLOOKUP(A1276,'[1]SD vs SY0.45'!$A$2:$E$20133,5,FALSE)","v":"BTC"}]
["ENSGALG00000031159",234.274358034071,1.03972396626778,0.280699526886205,3.70404602316725,2.12187735679311E-4,0.000831674517641161,{"$f":"VLOOKUP(A1277,'[1]SD vs SY0.45'!$A$2:$E$20133,5,FALSE)","v":"HIST1H110"}]
["ENSGALG00000007536",220.343396915128,1.03940707224237,0.204587530375318,5.08050060693128,{"v":3.76441532176165e-07,"d":"3.76E-07"},{"v":2.65524905474523E-6,"d":"2.66E-06"},{"$f":"VLOOKUP(A1278,'[1]SD vs SY0.45'!$A$2:$E$20133,5,FALSE)","v":"LOC424919"}]
["ENSGALG00000049229",856.890414082517,1.03930830920183,0.186552164759282,5.57114043968827,{"v":2.53077216053989E-8,"d":"2.53E-08"},{"v":2.21563623138505e-07,"d":"2.22E-07"},{"$f":"VLOOKUP(A1279,'[1]SD vs SY0.45'!$A$2:$E$20133,5,FALSE)","v":"NA"}]
["ENSGALG00000007186",191.640192934706,1.03876873822862,0.425138514304094,2.44336540510562,0.0145509961091101,0.0348050858920205,{"$f":"VLOOKUP(A1280,'[1]SD vs SY0.45'!$A$2:$E$20133,5,FALSE)","v":"TMEM268"}]
["ENSGALG00000034671",425.202604694387,1.0379033210069,0.135260877902697,7.67334455535279,{"v":1.67568572113722E-14,"d":"1.68E-14"},{"v":3.94250982860796e-13,"d":"3.94E-13"},{"$f":"VLOOKUP(A1281,'[1]SD vs SY0.45'!$A$2:$E$20133,5,FALSE)","v":"WDR74"}]
["ENSGALG00000043359",627.365295137899,1.03756895872506,0.124330923136797,8.34522042101669,{"v":7.10811845207265e-17,"d":"7.11E-17"},{"v":2.2348798467665e-15,"d":"2.23E-15"},{"$f":"VLOOKUP(A1282,'[1]SD vs SY0.45'!$A$2:$E$20133,5,FALSE)","v":"RRP9"}]
["ENSGALG00000031890",2715.57182998718,1.0368584246432,0.153302537361875,6.76347856001672,{"v":1.3471731787173E-11,"d":"1.35E-11"},{"v":1.99008496672538e-10,"d":"1.99E-10"},{"$f":"VLOOKUP(A1283,'[1]SD vs SY0.45'!$A$2:$E$20133,5,FALSE)","v":"YBX3"}]
["ENSGALG00000004113",173.726873984764,1.03681849980858,0.303453285617722,3.41673182973779,0.000633776764517768,2.19993543714722E-3,{"$f":"VLOOKUP(A1284,'[1]SD vs SY0.45'!$A$2:$E$20133,5,FALSE)","v":"LOC422147"}]
["ENSGALG00000005346",492.779560937385,1.03680517884413,0.222301722041787,4.66395477876341,{"v":3.10189573803252E-6,"d":"3.10E-06"},{"v":1.83819567815853e-05,"d":"1.84E-05"},{"$f":"VLOOKUP(A1285,'[1]SD vs SY0.45'!$A$2:$E$20133,5,FALSE)","v":"PPIC"}]
["ENSGALG00000036749",158.902869065981,1.03641939863501,0.25020180725912,4.14233378243206,{"v":3.43789514136676e-05,"d":"3.44E-05"},0.000162740764560152,{"$f":"VLOOKUP(A1286,'[1]SD vs SY0.45'!$A$2:$E$20133,5,FALSE)","v":"MRPS28"}]
["ENSGALG00000012290",141.788045375086,1.03627774570556,0.20137567364112,5.14599269598151,{"v":2.66109776440221E-7,"d":"2.66E-07"},{"v":1.94160750439199e-06,"d":"1.94E-06"},{"$f":"VLOOKUP(A1287,'[1]SD vs SY0.45'!$A$2:$E$20133,5,FALSE)","v":"SOX10"}]
["ENSGALG00000018702",443.490966459131,1.03546159524378,0.25468937540315,4.06558614235378,{"v":4.79118928945924E-5,"d":"4.79E-05"},2.20090906673257E-4,{"$f":"VLOOKUP(A1288,'[1]SD vs SY0.45'!$A$2:$E$20133,5,FALSE)","v":"NA"}]
["ENSGALG00000037784",4907.74824018766,1.03543433340839,0.12216943341624,8.47539605001358,{"v":2.34281128479631E-17,"d":"2.34E-17"},{"v":7.74419387999114e-16,"d":"7.74E-16"},{"$f":"VLOOKUP(A1289,'[1]SD vs SY0.45'!$A$2:$E$20133,5,FALSE)","v":"DAG1"}]
["ENSGALG00000053799",178.276280301396,1.03509758112497,0.332661789448191,3.11156139345597,1.86100772812798E-3,0.00573305127019158,{"$f":"VLOOKUP(A1290,'[1]SD vs SY0.45'!$A$2:$E$20133,5,FALSE)","v":"NA"}]
["ENSGALG00000050232",17.2840632261882,1.03459180940491,0.38975753177428,2.6544498183144,0.00794378540636217,0.0205717302443281,{"$f":"VLOOKUP(A1291,'[1]SD vs SY0.45'!$A$2:$E$20133,5,FALSE)","v":"NA"}]
["ENSGALG00000006776",186.932879174345,1.03408509837975,0.209922682370623,4.92602841532887,{"v":8.39177993881071e-07,"d":"8.39E-07"},{"v":5.56263354159748e-06,"d":"5.56E-06"},{"$f":"VLOOKUP(A1292,'[1]SD vs SY0.45'!$A$2:$E$20133,5,FALSE)","v":"KLHDC8B"}]
["ENSGALG00000048002",1103.93577069154,1.03407728137931,0.139499977600845,7.41274155855521,{"v":1.2371483214981e-13,"d":"1.24E-13"},{"v":2.53958652489817E-12,"d":"2.54E-12"},{"$f":"VLOOKUP(A1293,'[1]SD vs SY0.45'!$A$2:$E$20133,5,FALSE)","v":"CCS"}]
["ENSGALG00000049966",925.842296477314,1.03341380019275,0.137643659880162,7.50789248914538,{"v":6.00868186702567e-14,"d":"6.01E-14"},{"v":1.31082749839367e-12,"d":"1.31E-12"},{"$f":"VLOOKUP(A1294,'[1]SD vs SY0.45'!$A$2:$E$20133,5,FALSE)","v":"UFC1"}]
["ENSGALG00000023294",20879.1448274781,1.03325202813478,0.130809089764475,7.89893141214551,{"v":2.81304612648871E-15,"d":"2.81E-15"},{"v":7.39946036327675e-14,"d":"7.40E-14"},{"$f":"VLOOKUP(A1295,'[1]SD vs SY0.45'!$A$2:$E$20133,5,FALSE)","v":"RPLP0"}]
["ENSGALG00000003986",766.368306736627,1.03321790005071,0.0868409076570967,11.897824745574,{"v":1.21472241112602E-32,"d":"1.21E-32"},{"v":1.82072228984897e-30,"d":"1.82E-30"},{"$f":"VLOOKUP(A1296,'[1]SD vs SY0.45'!$A$2:$E$20133,5,FALSE)","v":"PITHD1"}]
["ENSGALG00000047910",430.548381230453,1.03305838462242,0.26752799893031,3.86149632469506,1.12694707880912E-4,0.000472887997903903,{"$f":"VLOOKUP(A1297,'[1]SD vs SY0.45'!$A$2:$E$20133,5,FALSE)","v":"NA"}]
["ENSGALG00000005330",118.143919454857,1.03272679161214,0.205088363253736,5.03552115404252,{"v":4.76550494876031e-07,"d":"4.77E-07"},{"v":3.29454610513302E-6,"d":"3.29E-06"},{"$f":"VLOOKUP(A1298,'[1]SD vs SY0.45'!$A$2:$E$20133,5,FALSE)","v":"SNCAIP"}]
["ENSGALG00000027506",971.997039814863,1.03271341866869,0.16790683066588,6.15051463107954,{"v":7.7231933221402e-10,"d":"7.72E-10"},{"v":8.70273248814333e-09,"d":"8.70E-09"},{"$f":"VLOOKUP(A1299,'[1]SD vs SY0.45'!$A$2:$E$20133,5,FALSE)","v":"DNAJB2"}]
["ENSGALG00000006471",2214.05373545824,1.02940955666417,0.255999127076399,4.0211447922514,{"v":5.79159905284616e-05,"d":"5.79E-05"},2.60337468282927E-4,{"$f":"VLOOKUP(A1300,'[1]SD vs SY0.45'!$A$2:$E$20133,5,FALSE)","v":"SLCO2A1"}]
["ENSGALG00000004309",32.9800280135413,1.02874436881399,0.351802242291058,2.92421208606987,0.00345329373410175,0.00991780940780097,{"$f":"VLOOKUP(A1301,'[1]SD vs SY0.45'!$A$2:$E$20133,5,FALSE)","v":"GDAP1L1"}]
["ENSGALG00000035111",128.344584885554,1.02868915367376,0.280110279302642,3.67244342562066,2.40242347981453E-4,0.000929482355218852,{"$f":"VLOOKUP(A1302,'[1]SD vs SY0.45'!$A$2:$E$20133,5,FALSE)","v":"PDRG1"}]
["ENSGALG00000032402",27.7859625759543,1.02821858263354,0.34763186597668,2.95778000599782,0.00309863181393491,0.00901839828404526,{"$f":"VLOOKUP(A1303,'[1]SD vs SY0.45'!$A$2:$E$20133,5,FALSE)","v":"VSTM2B"}]
["ENSGALG00000034282",204.821205394389,1.0281942155759,0.146335850254736,7.02626330995482,{"v":2.12137959258342E-12,"d":"2.12E-12"},{"v":3.56715928203559E-11,"d":"3.57E-11"},{"$f":"VLOOKUP(A1304,'[1]SD vs SY0.45'!$A$2:$E$20133,5,FALSE)","v":"LRFN3"}]
["ENSGALG00000037400",116.212091964944,1.02767789677277,0.233367997827298,4.40367962334449,{"v":1.06430083703148E-5,"d":"1.06E-05"},{"v":5.66595182286172e-05,"d":"5.67E-05"},{"$f":"VLOOKUP(A1305,'[1]SD vs SY0.45'!$A$2:$E$20133,5,FALSE)","v":"NA"}]
["ENSGALG00000012265",1659.53420719935,1.02750511159984,0.120964564530082,8.49426537094934,{"v":1.99188735630365E-17,"d":"1.99E-17"},{"v":6.67301454027968e-16,"d":"6.67E-16"},{"$f":"VLOOKUP(A1306,'[1]SD vs SY0.45'!$A$2:$E$20133,5,FALSE)","v":"MICALL1"}]
["ENSGALG00000006044",29.6136493505555,1.02739871240207,0.384291289338482,2.67348946204487,0.0075066634613146,0.0195679696554538,{"$f":"VLOOKUP(A1307,'[1]SD vs SY0.45'!$A$2:$E$20133,5,FALSE)","v":"MAB21L4"}]
["ENSGALG00000051278",75.711917006317,1.02723787382452,0.324087935644504,3.16962700811953,0.00152634734281285,0.0048129490840564,{"$f":"VLOOKUP(A1308,'[1]SD vs SY0.45'!$A$2:$E$20133,5,FALSE)","v":"NA"}]
["ENSGALG00000030002",5056.9727530769,1.02660144878688,0.196414005219547,5.22672223724255,{"v":1.72541401960188e-07,"d":"1.73E-07"},{"v":1.30547317488329e-06,"d":"1.31E-06"},{"$f":"VLOOKUP(A1309,'[1]SD vs SY0.45'!$A$2:$E$20133,5,FALSE)","v":"KRT18"}]
["ENSGALG00000037812",312.416632834333,1.02589113158353,0.252390031405784,4.06470543178521,{"v":4.80931630226582E-5,"d":"4.81E-05"},0.000220806925132019,{"$f":"VLOOKUP(A1310,'[1]SD vs SY0.45'!$A$2:$E$20133,5,FALSE)","v":"USP43"}]
["ENSGALG00000046823",348.37923508704,1.02551902861286,0.287936127018092,3.56161986074231,3.68573776157142E-4,0.00136117082541296,{"$f":"VLOOKUP(A1311,'[1]SD vs SY0.45'!$A$2:$E$20133,5,FALSE)","v":"SNX22"}]
["ENSGALG00000002201",905.049467778784,1.02527850740274,0.220382231643759,4.65227391407885,{"v":3.28294592084973E-6,"d":"3.28E-06"},{"v":1.94151635121817e-05,"d":"1.94E-05"},{"$f":"VLOOKUP(A1312,'[1]SD vs SY0.45'!$A$2:$E$20133,5,FALSE)","v":"PPL"}]
["ENSGALG00000054023",106.776541594002,1.02520255639602,0.221317839224317,4.63226353550708,{"v":3.6168933731921e-06,"d":"3.62E-06"},{"v":2.11811805590068e-05,"d":"2.12E-05"},{"$f":"VLOOKUP(A1313,'[1]SD vs SY0.45'!$A$2:$E$20133,5,FALSE)","v":"LOC112531384"}]
["ENSGALG00000003113",1004.28563252693,1.02507787668042,0.147964162044934,6.92787944400429,{"v":4.27195538102583e-12,"d":"4.27E-12"},{"v":6.86474013030463e-11,"d":"6.86E-11"},{"$f":"VLOOKUP(A1314,'[1]SD vs SY0.45'!$A$2:$E$20133,5,FALSE)","v":"RGS14"}]
["ENSGALG00000013784",808.107719550595,1.02426289688788,0.281146371307599,3.64316598547609,2.69305049973084E-4,0.00103023254210825,{"$f":"VLOOKUP(A1315,'[1]SD vs SY0.45'!$A$2:$E$20133,5,FALSE)","v":"CDT1"}]
["ENSGALG00000027920",119.376058566413,1.02397083217883,0.196447657400474,5.21243595229739,{"v":1.86376924655804E-7,"d":"1.86E-07"},{"v":1.4010097661005e-06,"d":"1.40E-06"},{"$f":"VLOOKUP(A1316,'[1]SD vs SY0.45'!$A$2:$E$20133,5,FALSE)","v":"CPLX2"}]
["ENSGALG00000050081",62.0636396669281,1.02364119345014,0.250998583742252,4.07827477824062,{"v":4.53711249180621e-05,"d":"4.54E-05"},0.000209359805984699,{"$f":"VLOOKUP(A1317,'[1]SD vs SY0.45'!$A$2:$E$20133,5,FALSE)","v":"NA"}]
["ENSGALG00000026395",58.4350310702872,1.02351000566677,0.244201901500644,4.19124502871271,{"v":2.77427843680787E-5,"d":"2.77E-05"},0.000134475548315524,{"$f":"VLOOKUP(A1318,'[1]SD vs SY0.45'!$A$2:$E$20133,5,FALSE)","v":"TRABD2A"}]
["ENSGALG00000026849",16.9543844075759,1.0233938350998,0.428554731147697,2.38801198707825,0.0169397892533205,0.0397318380881538,{"$f":"VLOOKUP(A1319,'[1]SD vs SY0.45'!$A$2:$E$20133,5,FALSE)","v":"SIAH3"}]
["ENSGALG00000052038",229.393973772053,1.02310990854954,0.215221093544806,4.75376224373911,{"v":1.99665825598028e-06,"d":"2.00E-06"},{"v":1.22714376446551e-05,"d":"1.23E-05"},{"$f":"VLOOKUP(A1320,'[1]SD vs SY0.45'!$A$2:$E$20133,5,FALSE)","v":"MBLAC1"}]
["ENSGALG00000026316",27.4511217368762,1.02251421532663,0.358154875719604,2.85494986846736,0.00430436226808537,0.0120398884741313,{"$f":"VLOOKUP(A1321,'[1]SD vs SY0.45'!$A$2:$E$20133,5,FALSE)","v":"TMEM136"}]
["ENSGALG00000050390",724.960614795973,1.02138199063076,0.148376565865293,6.88371499012884,{"v":5.83114845102113E-12,"d":"5.83E-12"},{"v":9.20019765135248e-11,"d":"9.20E-11"},{"$f":"VLOOKUP(A1322,'[1]SD vs SY0.45'!$A$2:$E$20133,5,FALSE)","v":"CYB561D2"}]
["ENSGALG00000001094",27.3356328396907,1.02093619778263,0.408565663810658,2.49883014705751,0.0124604017396512,0.0305053513161526,{"$f":"VLOOKUP(A1323,'[1]SD vs SY0.45'!$A$2:$E$20133,5,FALSE)","v":"ADGRD2"}]
["ENSGALG00000002708",446.196406147112,1.02089502700541,0.176424183485944,5.78659346373986,{"v":7.18281293918848e-09,"d":"7.18E-09"},{"v":6.92281422248726e-08,"d":"6.92E-08"},{"$f":"VLOOKUP(A1324,'[1]SD vs SY0.45'!$A$2:$E$20133,5,FALSE)","v":"LINGO1"}]
["ENSGALG00000002112",972.099779733234,1.01941573122928,0.407551379914617,2.50131831584731,0.0123731910672403,0.0303302795835483,{"$f":"VLOOKUP(A1325,'[1]SD vs SY0.45'!$A$2:$E$20133,5,FALSE)","v":"CSF3R"}]
["ENSGALG00000012023",886.923681084193,1.01941547921527,0.225990445458197,4.51087866634539,{"v":6.45596427877618e-06,"d":"6.46E-06"},{"v":3.58396714288255e-05,"d":"3.58E-05"},{"$f":"VLOOKUP(A1326,'[1]SD vs SY0.45'!$A$2:$E$20133,5,FALSE)","v":"DACT1"}]
["ENSGALG00000028517",3737.02608115467,1.01935967266316,0.11284460478271,9.0333044687959,{"v":1.66564442087435E-19,"d":"1.67E-19"},{"v":7.29485127096786e-18,"d":"7.29E-18"},{"$f":"VLOOKUP(A1327,'[1]SD vs SY0.45'!$A$2:$E$20133,5,FALSE)","v":"EIF1"}]
["ENSGALG00000023626",45.9824888991776,1.01929726812405,0.402606395188602,2.53174634160136,0.011349606279567,0.0281345315629927,{"$f":"VLOOKUP(A1328,'[1]SD vs SY0.45'!$A$2:$E$20133,5,FALSE)","v":"NTN1"}]
["ENSGALG00000001038",1020.54529725502,1.01893992082631,0.232303064192882,4.38625260655315,{"v":1.15320188977714E-5,"d":"1.15E-05"},{"v":6.08519613279369e-05,"d":"6.09E-05"},{"$f":"VLOOKUP(A1329,'[1]SD vs SY0.45'!$A$2:$E$20133,5,FALSE)","v":"MAN1C1"}]
["ENSGALG00000049426",1395.93995259568,1.01807690744266,0.132829674818173,7.66452909589881,{"v":1.79488516131136e-14,"d":"1.79E-14"},{"v":4.21725247293521e-13,"d":"4.22E-13"},{"$f":"VLOOKUP(A1330,'[1]SD vs SY0.45'!$A$2:$E$20133,5,FALSE)","v":"WBP1"}]
["ENSGALG00000011619",179.075550027243,1.01696160543105,0.371227625330253,2.73945562248052,6.15410222957393E-3,0.0164642830382523,{"$f":"VLOOKUP(A1331,'[1]SD vs SY0.45'!$A$2:$E$20133,5,FALSE)","v":"SIVA1"}]
["ENSGALG00000052684",741.888240531473,1.01634908189308,0.136540821949797,7.44355473608303,{"v":9.80114645582892e-14,"d":"9.80E-14"},{"v":2.06560646578785E-12,"d":"2.07E-12"},{"$f":"VLOOKUP(A1332,'[1]SD vs SY0.45'!$A$2:$E$20133,5,FALSE)","v":"NA"}]
["ENSGALG00000031958",376.726861921854,1.01634144852435,0.131557825634738,7.72543513561982,{"v":1.11471893350695e-14,"d":"1.11E-14"},{"v":2.68815784977605e-13,"d":"2.69E-13"},{"$f":"VLOOKUP(A1333,'[1]SD vs SY0.45'!$A$2:$E$20133,5,FALSE)","v":"NABP2"}]
["ENSGALG00000002581",501.931128452819,1.01603758323941,0.146111861259043,6.95383368936808,{"v":3.55490670564576e-12,"d":"3.55E-12"},{"v":5.79279877142107e-11,"d":"5.79E-11"},{"$f":"VLOOKUP(A1334,'[1]SD vs SY0.45'!$A$2:$E$20133,5,FALSE)","v":"HTATIP2"}]
["ENSGALG00000035028",310.86062395449,1.01566903953008,0.176020867319863,5.77016268011233,{"v":7.9195041709169e-09,"d":"7.92E-09"},{"v":7.57822889486693E-8,"d":"7.58E-08"},{"$f":"VLOOKUP(A1335,'[1]SD vs SY0.45'!$A$2:$E$20133,5,FALSE)","v":"NAB2"}]
["ENSGALG00000040360",2627.36520146412,1.01536197357726,0.224264690003091,4.52751600603405,{"v":5.96810818478995e-06,"d":"5.97E-06"},{"v":3.33336000671195e-05,"d":"3.33E-05"},{"$f":"VLOOKUP(A1336,'[1]SD vs SY0.45'!$A$2:$E$20133,5,FALSE)","v":"DUSP1"}]
["ENSGALG00000009594",5211.06867885796,1.0149878793664,0.383576494749184,2.64611594626017,0.00814219030029844,0.0210322779306625,{"$f":"VLOOKUP(A1337,'[1]SD vs SY0.45'!$A$2:$E$20133,5,FALSE)","v":"RARRES1"}]
["ENSGALG00000034917",614.258887824595,1.01489393814562,0.138659810838548,7.31930854375202,{"v":2.49251910948646E-13,"d":"2.49E-13"},{"v":4.86937412995968e-12,"d":"4.87E-12"},{"$f":"VLOOKUP(A1338,'[1]SD vs SY0.45'!$A$2:$E$20133,5,FALSE)","v":"GCDH"}]
["ENSGALG00000054420",449.554265070297,1.01413160898439,0.228081547274606,4.44635535448815,{"v":8.7339427937344e-06,"d":"8.73E-06"},{"v":4.73960871893446e-05,"d":"4.74E-05"},{"$f":"VLOOKUP(A1339,'[1]SD vs SY0.45'!$A$2:$E$20133,5,FALSE)","v":"TUBB2A"}]
["ENSGALG00000039999",351.981089552364,1.01410458603395,0.153430718612057,6.6095277087118,{"v":3.85548054336939e-11,"d":"3.86E-11"},{"v":5.27006605405374e-10,"d":"5.27E-10"},{"$f":"VLOOKUP(A1340,'[1]SD vs SY0.45'!$A$2:$E$20133,5,FALSE)","v":"NA"}]
["ENSGALG00000054005",740.63141688316,1.01382592155752,0.121805116863726,8.32334427043629,{"v":8.55156050837309e-17,"d":"8.55E-17"},{"v":2.66940722727258e-15,"d":"2.67E-15"},{"$f":"VLOOKUP(A1341,'[1]SD vs SY0.45'!$A$2:$E$20133,5,FALSE)","v":"PPP1R37"}]
["ENSGALG00000033356",1021.50462630986,1.01331576739526,0.180702566270374,5.60764458584997,{"v":2.05098656893803E-8,"d":"2.05E-08"},{"v":1.82313412444404E-7,"d":"1.82E-07"},{"$f":"VLOOKUP(A1342,'[1]SD vs SY0.45'!$A$2:$E$20133,5,FALSE)","v":"FAHD2A"}]
["ENSGALG00000026070",402.501533472562,1.01307265591816,0.250850075141961,4.0385583115526,{"v":5.37807248633937e-05,"d":"5.38E-05"},2.44020214822501E-4,{"$f":"VLOOKUP(A1343,'[1]SD vs SY0.45'!$A$2:$E$20133,5,FALSE)","v":"LOC100857512"}]
["ENSGALG00000039865",485.621846678691,1.01304536087088,0.224615166153629,4.51013784250877,{"v":6.47855151260306e-06,"d":"6.48E-06"},{"v":3.59421107688671e-05,"d":"3.59E-05"},{"$f":"VLOOKUP(A1344,'[1]SD vs SY0.45'!$A$2:$E$20133,5,FALSE)","v":"HAX1"}]
["ENSGALG00000002437",143.856295965931,1.01279147865786,0.272442625096927,3.7174486859299,0.0002012448456166,0.000792753419141818,{"$f":"VLOOKUP(A1345,'[1]SD vs SY0.45'!$A$2:$E$20133,5,FALSE)","v":"DIPK1B"}]
["ENSGALG00000004889",1307.34091623718,1.01246194631536,0.202332163349501,5.00395947710238,{"v":5.61645684965178e-07,"d":"5.62E-07"},{"v":3.83706621787409e-06,"d":"3.84E-06"},{"$f":"VLOOKUP(A1346,'[1]SD vs SY0.45'!$A$2:$E$20133,5,FALSE)","v":"SLC2A1"}]
["ENSGALG00000043041",69.5977286667627,1.01235688761954,0.242272848049168,4.1785816932077,{"v":2.93332633087001e-05,"d":"2.93E-05"},0.000141357386127596,{"$f":"VLOOKUP(A1347,'[1]SD vs SY0.45'!$A$2:$E$20133,5,FALSE)","v":"NRN1"}]
["ENSGALG00000007675",132.817588829843,1.01181666530874,0.359380098534137,2.81544990787137,0.0048708989801078,0.0134067311329958,{"$f":"VLOOKUP(A1348,'[1]SD vs SY0.45'!$A$2:$E$20133,5,FALSE)","v":"CXCR5"}]
["ENSGALG00000026517",813.45815060798,1.01159468194099,0.161700673360355,6.25597074470198,{"v":3.95050803128365e-10,"d":"3.95E-10"},{"v":4.65677851796127e-09,"d":"4.66E-09"},{"$f":"VLOOKUP(A1349,'[1]SD vs SY0.45'!$A$2:$E$20133,5,FALSE)","v":"RFC5"}]
["ENSGALG00000003973",499.018955548602,1.0114411697688,0.204644141480204,4.9424389208163,{"v":7.7151280004037e-07,"d":"7.72E-07"},{"v":5.14944071182415e-06,"d":"5.15E-06"},{"$f":"VLOOKUP(A1350,'[1]SD vs SY0.45'!$A$2:$E$20133,5,FALSE)","v":"TLCD1"}]
["ENSGALG00000005608",1853.94897296494,1.010190022375,0.245012275607862,4.12301799927689,{"v":3.73940466061486e-05,"d":"3.74E-05"},1.7572169955165E-4,{"$f":"VLOOKUP(A1351,'[1]SD vs SY0.45'!$A$2:$E$20133,5,FALSE)","v":"SLC9A3R2"}]
["ENSGALG00000008226",168.038899289691,1.00986829733187,0.177382840285548,5.69315665318137,{"v":1.24711864824441E-8,"d":"1.25E-08"},{"v":1.14849851361364E-7,"d":"1.15E-07"},{"$f":"VLOOKUP(A1352,'[1]SD vs SY0.45'!$A$2:$E$20133,5,FALSE)","v":"NIF3L1"}]
["ENSGALG00000025948",366.654307270242,1.00930222246167,0.272444053636331,3.70462195445427,0.000211706235158898,8.29974365435797E-4,{"$f":"VLOOKUP(A1353,'[1]SD vs SY0.45'!$A$2:$E$20133,5,FALSE)","v":"SLA2"}]
["ENSGALG00000052844",543.900352243632,1.00884043042801,0.13064961749098,7.72172509802914,{"v":1.14765705470951E-14,"d":"1.15E-14"},{"v":2.75612060914838e-13,"d":"2.76E-13"},{"$f":"VLOOKUP(A1354,'[1]SD vs SY0.45'!$A$2:$E$20133,5,FALSE)","v":"NA"}]
["ENSGALG00000049949",801.530200387049,1.0080634923107,0.193210885682444,5.21742596826313,{"v":1.81426699644802E-7,"d":"1.81E-07"},{"v":1.36675304450787e-06,"d":"1.37E-06"},{"$f":"VLOOKUP(A1355,'[1]SD vs SY0.45'!$A$2:$E$20133,5,FALSE)","v":"LOC101749299"}]
["ENSGALG00000049533",429.819784818697,1.00796339381095,0.20715143596509,4.86582865870559,{"v":1.1397823140642e-06,"d":"1.14E-06"},{"v":7.37528660016161e-06,"d":"7.38E-06"},{"$f":"VLOOKUP(A1356,'[1]SD vs SY0.45'!$A$2:$E$20133,5,FALSE)","v":"NA"}]
["ENSGALG00000041429",761.20097323906,1.00781961923499,0.170680359012426,5.90471935415614,{"v":3.53247572622182e-09,"d":"3.53E-09"},{"v":3.58338129823914e-08,"d":"3.58E-08"},{"$f":"VLOOKUP(A1357,'[1]SD vs SY0.45'!$A$2:$E$20133,5,FALSE)","v":"MPV17L2"}]
["ENSGALG00000003409",701.134481089866,1.00767079322247,0.162319965472655,6.20792882926176,{"v":5.36874530150207e-10,"d":"5.37E-10"},{"v":6.20241691410077e-09,"d":"6.20E-09"},{"$f":"VLOOKUP(A1358,'[1]SD vs SY0.45'!$A$2:$E$20133,5,FALSE)","v":"SOGA1"}]
["ENSGALG00000012787",631.830912406403,1.00728900641308,0.396006191878997,2.54361933492411,0.0109710574259692,0.0273168803473186,{"$f":"VLOOKUP(A1359,'[1]SD vs SY0.45'!$A$2:$E$20133,5,FALSE)","v":"BMP6"}]
["ENSGALG00000041618",1742.90867318757,1.00666838286418,0.11801280932678,8.53016201043644,{"v":1.4614290508831e-17,"d":"1.46E-17"},{"v":5.03977234673099e-16,"d":"5.04E-16"},{"$f":"VLOOKUP(A1360,'[1]SD vs SY0.45'!$A$2:$E$20133,5,FALSE)","v":"LOC420374"}]
["ENSGALG00000030904",8439.85979328178,1.00556202406534,0.174156914745839,5.77388515140406,{"v":7.74642469732269e-09,"d":"7.75E-09"},{"v":7.43556675776952e-08,"d":"7.44E-08"},{"$f":"VLOOKUP(A1361,'[1]SD vs SY0.45'!$A$2:$E$20133,5,FALSE)","v":"LRP1"}]
["ENSGALG00000034988",245.980561583581,1.00549596451696,0.166736996595694,6.03043106836752,{"v":1.63522909158356E-9,"d":"1.64E-09"},{"v":1.75504495156563E-8,"d":"1.76E-08"},{"$f":"VLOOKUP(A1362,'[1]SD vs SY0.45'!$A$2:$E$20133,5,FALSE)","v":"RDH5"}]
["ENSGALG00000003313",928.187500278612,1.00533370739337,0.17412553260863,5.77361454309512,{"v":7.75888188868453e-09,"d":"7.76E-09"},{"v":7.44090895744942E-8,"d":"7.44E-08"},{"$f":"VLOOKUP(A1363,'[1]SD vs SY0.45'!$A$2:$E$20133,5,FALSE)","v":"MTMR9LP"}]
["ENSGALG00000024056",181.2545652713,1.00477955367751,0.221358229110529,4.53915608972371,{"v":5.64798164697707E-6,"d":"5.65E-06"},{"v":3.17804067624564e-05,"d":"3.18E-05"},{"$f":"VLOOKUP(A1364,'[1]SD vs SY0.45'!$A$2:$E$20133,5,FALSE)","v":"CHST3"}]
["ENSGALG00000014554",895.030542911795,1.00441822030029,0.168234725151239,5.97033828418802,{"v":2.36762158920534E-9,"d":"2.37E-09"},{"v":2.44888974250525E-8,"d":"2.45E-08"},{"$f":"VLOOKUP(A1365,'[1]SD vs SY0.45'!$A$2:$E$20133,5,FALSE)","v":"NA"}]
["ENSGALG00000003333",661.532830219658,1.00427617708912,0.142392679932673,7.05286379583534,{"v":1.75272401107058e-12,"d":"1.75E-12"},{"v":2.98478084040002e-11,"d":"2.98E-11"},{"$f":"VLOOKUP(A1366,'[1]SD vs SY0.45'!$A$2:$E$20133,5,FALSE)","v":"GHDC"}]
["ENSGALG00000035596",416.800485354556,1.00399016320834,0.270931652657343,3.70569534183637,0.000210811579470992,0.000826839822301407,{"$f":"VLOOKUP(A1367,'[1]SD vs SY0.45'!$A$2:$E$20133,5,FALSE)","v":"NT5DC2"}]
["ENSGALG00000000881",136.264850716832,1.00377705451801,0.198377274182533,5.05993974690066,{"v":4.1938898373646e-07,"d":"4.19E-07"},{"v":2.93215716039073E-6,"d":"2.93E-06"},{"$f":"VLOOKUP(A1368,'[1]SD vs SY0.45'!$A$2:$E$20133,5,FALSE)","v":"GPATCH3"}]
["ENSGALG00000018557",510.201616754253,1.00336618901006,0.338958405321138,2.96014547289199,3.07493807321851E-3,0.00896143953721928,{"$f":"VLOOKUP(A1369,'[1]SD vs SY0.45'!$A$2:$E$20133,5,FALSE)","v":"SOD3"}]
["ENSGALG00000047566",904.552765236074,1.00334473390558,0.146665285253045,6.84105125609296,{"v":7.86141198370099e-12,"d":"7.86E-12"},{"v":1.21283380799121E-10,"d":"1.21E-10"},{"$f":"VLOOKUP(A1370,'[1]SD vs SY0.45'!$A$2:$E$20133,5,FALSE)","v":"NA"}]
["ENSGALG00000050325",39.7035639662053,1.00314839840625,0.272464150724212,3.68176288785103,0.000231626783840217,0.000900155317530142,{"$f":"VLOOKUP(A1371,'[1]SD vs SY0.45'!$A$2:$E$20133,5,FALSE)","v":"NA"}]
["ENSGALG00000047403",68.7702424979081,1.00313694101897,0.287890308055415,3.48444151452948,0.000493165229497849,0.00175710324698342,{"$f":"VLOOKUP(A1372,'[1]SD vs SY0.45'!$A$2:$E$20133,5,FALSE)","v":"PIH1D2"}]
["ENSGALG00000036642",384.508447093095,1.00175086098269,0.199958170822212,5.00980208442383,{"v":5.44860393095639e-07,"d":"5.45E-07"},{"v":3.73707599793052e-06,"d":"3.74E-06"},{"$f":"VLOOKUP(A1373,'[1]SD vs SY0.45'!$A$2:$E$20133,5,FALSE)","v":"RAD9A"}]
["ENSGALG00000028222",73.7168542797201,1.00155743493295,0.30270588376687,3.30868175560242,0.000937363200301164,0.00312400497673689,{"$f":"VLOOKUP(A1374,'[1]SD vs SY0.45'!$A$2:$E$20133,5,FALSE)","v":"LOC422295"}]
["ENSGALG00000012021",84.4042065575402,1.00115067271076,0.312442930304352,3.2042673256698,0.00135406687129104,0.00432619637837879,{"$f":"VLOOKUP(A1375,'[1]SD vs SY0.45'!$A$2:$E$20133,5,FALSE)","v":"KCNK4"}]
["ENSGALG00000048192",19.7703770984735,1.00095106062902,0.38278095336115,2.61494479241927,0.00892418789119179,0.0228418747039823,{"$f":"VLOOKUP(A1376,'[1]SD vs SY0.45'!$A$2:$E$20133,5,FALSE)","v":"NA"}]
["ENSGALG00000027641",390.224020150653,1.00083410698059,0.192226354908763,5.20653948547073,{"v":1.92394769847476E-7,"d":"1.92E-07"},{"v":1.44002060410593e-06,"d":"1.44E-06"},{"$f":"VLOOKUP(A1377,'[1]SD vs SY0.45'!$A$2:$E$20133,5,FALSE)","v":"DUSP14"}]
["ENSGALG00000012339",493.40515642903,1.00081685015279,0.24116920092875,4.14985348999213,{"v":3.3268814781335e-05,"d":"3.33E-05"},0.000157872511627476,{"$f":"VLOOKUP(A1378,'[1]SD vs SY0.45'!$A$2:$E$20133,5,FALSE)","v":"ATL1"}]
["ENSGALG00000007358",267.438190295113,1.00049053178418,0.285676840930713,3.50217584500257,4.61474940251491E-4,1.65572942347352E-3,{"$f":"VLOOKUP(A1379,'[1]SD vs SY0.45'!$A$2:$E$20133,5,FALSE)","v":"CILP"}]
["ENSGALG00000045352",6341.85282265093,1.0002061397924,0.102956670413826,9.71482601148773,{"v":2.60693867606666e-22,"d":"2.61E-22"},{"v":1.55762346256945e-20,"d":"1.56E-20"},{"$f":"VLOOKUP(A1380,'[1]SD vs SY0.45'!$A$2:$E$20133,5,FALSE)","v":"EIF4B"}]
["ENSGALG00000054447",43.8835370206144,-1.00201961595097,0.360967967919561,-2.77592391847429,0.00550450877027225,0.0149682349059624,{"$f":"VLOOKUP(A1381,'[1]SD vs SY0.45'!$A$2:$E$20133,5,FALSE)","v":"MED15"}]
["ENSGALG00000015910",121.29796227441,-1.00213766891126,0.279453206760691,-3.58606609144922,3.35703911426679E-4,0.00125120769731526,{"$f":"VLOOKUP(A1382,'[1]SD vs SY0.45'!$A$2:$E$20133,5,FALSE)","v":"CD109"}]
["ENSGALG00000005390",196.727751028946,-1.00249115317805,0.160463609854382,-6.24746728612046,{"v":4.17161618499017E-10,"d":"4.17E-10"},{"v":4.90080341948811e-09,"d":"4.90E-09"},{"$f":"VLOOKUP(A1383,'[1]SD vs SY0.45'!$A$2:$E$20133,5,FALSE)","v":"DCAF10"}]
["ENSGALG00000035068",1350.59675470878,-1.00289857875436,0.109379012917338,-9.1690220272174,{"v":4.7732969200769E-20,"d":"4.77E-20"},{"v":2.28003608652135E-18,"d":"2.28E-18"},{"$f":"VLOOKUP(A1384,'[1]SD vs SY0.45'!$A$2:$E$20133,5,FALSE)","v":"DNAJC13"}]
["ENSGALG00000016727",379.435821841104,-1.00311597027971,0.127584754036245,-7.8623498384042,{"v":3.76993373210038e-15,"d":"3.77E-15"},{"v":9.71079078518953e-14,"d":"9.71E-14"},{"$f":"VLOOKUP(A1385,'[1]SD vs SY0.45'!$A$2:$E$20133,5,FALSE)","v":"JADE3"}]
["ENSGALG00000012850",175.573461450373,-1.00340529109205,0.260333826287387,-3.8543023985841,1.16060075468516E-4,0.000484964319195165,{"$f":"VLOOKUP(A1386,'[1]SD vs SY0.45'!$A$2:$E$20133,5,FALSE)","v":"RAB19"}]
["ENSGALG00000000273",392.053910127851,-1.00361439982508,0.175511578145413,-5.7182233242389,{"v":1.07643610596377e-08,"d":"1.08E-08"},{"v":1.0073194065873E-7,"d":"1.01E-07"},{"$f":"VLOOKUP(A1387,'[1]SD vs SY0.45'!$A$2:$E$20133,5,FALSE)","v":"FER"}]
["ENSGALG00000031538",1380.11667188079,-1.00377847459484,0.223600500522433,-4.48916023107979,{"v":7.15044988591155e-06,"d":"7.15E-06"},{"v":3.94431701035356e-05,"d":"3.94E-05"},{"$f":"VLOOKUP(A1388,'[1]SD vs SY0.45'!$A$2:$E$20133,5,FALSE)","v":"PI4K2B"}]
["ENSGALG00000015322",71.3909336725495,-1.00468181321733,0.343012126000092,-2.9289979480698,0.00340056667190035,9.78091856481908E-3,{"$f":"VLOOKUP(A1389,'[1]SD vs SY0.45'!$A$2:$E$20133,5,FALSE)","v":"IMPG2"}]
["ENSGALG00000034488",285.780762230828,-1.00470822646099,0.162036373323061,-6.20051045241459,{"v":5.62803219605483e-10,"d":"5.63E-10"},{"v":6.47186480111147e-09,"d":"6.47E-09"},{"$f":"VLOOKUP(A1390,'[1]SD vs SY0.45'!$A$2:$E$20133,5,FALSE)","v":"ZFRL1"}]
["ENSGALG00000008976",72.0189323623066,-1.00483696714548,0.410557336688211,-2.44749484993026,0.0143853181028392,0.0344799456650213,{"$f":"VLOOKUP(A1391,'[1]SD vs SY0.45'!$A$2:$E$20133,5,FALSE)","v":"ADAM22"}]
["ENSGALG00000002419",93.2876050097957,-1.00514911097663,0.198297921364195,-5.06888374856218,{"v":4.00155527278384e-07,"d":"4.00E-07"},{"v":2.80884301687092E-6,"d":"2.81E-06"},{"$f":"VLOOKUP(A1392,'[1]SD vs SY0.45'!$A$2:$E$20133,5,FALSE)","v":"KIAA1328"}]
["ENSGALG00000031323",521.372575838636,-1.00520018958844,0.121328499245291,-8.28494703092147,{"v":1.18161663261659e-16,"d":"1.18E-16"},{"v":3.65565273866631e-15,"d":"3.66E-15"},{"$f":"VLOOKUP(A1393,'[1]SD vs SY0.45'!$A$2:$E$20133,5,FALSE)","v":"ATP9B"}]
["ENSGALG00000012705",1176.08418875903,-1.00522475009201,0.322366181742771,-3.11826986521222,0.00181916149746577,0.00561607971527653,{"$f":"VLOOKUP(A1394,'[1]SD vs SY0.45'!$A$2:$E$20133,5,FALSE)","v":"GMPR2"}]
["ENSGALG00000044342",382.651209163854,-1.00593688577111,0.326630655608795,-3.07973813387532,0.00207182669383645,0.00631758167761038,{"$f":"VLOOKUP(A1395,'[1]SD vs SY0.45'!$A$2:$E$20133,5,FALSE)","v":"HINT3"}]
["ENSGALG00000008139",45.0700897784951,-1.00645104351581,0.32427720800215,-3.10367493823105,1.91133201438487E-3,0.00587351179464648,{"$f":"VLOOKUP(A1396,'[1]SD vs SY0.45'!$A$2:$E$20133,5,FALSE)","v":"EML6"}]
["ENSGALG00000014974",581.792373522507,-1.00760465170053,0.119927576353614,-8.40177615805007,{"v":4.39775529072208e-17,"d":"4.40E-17"},{"v":1.41337839629917e-15,"d":"1.41E-15"},{"$f":"VLOOKUP(A1397,'[1]SD vs SY0.45'!$A$2:$E$20133,5,FALSE)","v":"MIB1"}]
["ENSGALG00000033106",987.91228515027,-1.00778421033907,0.25020785372866,-4.02778807827497,{"v":5.63040583822333e-05,"d":"5.63E-05"},0.000254142955112121,{"$f":"VLOOKUP(A1398,'[1]SD vs SY0.45'!$A$2:$E$20133,5,FALSE)","v":"TMTC3"}]
["ENSGALG00000043584",33.5543698428957,-1.00785960764445,0.379510344822722,-2.65568415036288,0.00791477066751346,0.0205088103719905,{"$f":"VLOOKUP(A1399,'[1]SD vs SY0.45'!$A$2:$E$20133,5,FALSE)","v":"NA"}]
["ENSGALG00000053399",100.326724376164,-1.00958237419818,0.197604313286897,-5.10911101789762,{"v":3.23678132609298e-07,"d":"3.24E-07"},{"v":2.31882640777827e-06,"d":"2.32E-06"},{"$f":"VLOOKUP(A1400,'[1]SD vs SY0.45'!$A$2:$E$20133,5,FALSE)","v":"NA"}]
["ENSGALG00000007840",767.508984209579,-1.01009251667129,0.433487821064812,-2.33015200793904,0.019798118469746,0.0454969449951724,{"$f":"VLOOKUP(A1401,'[1]SD vs SY0.45'!$A$2:$E$20133,5,FALSE)","v":"NA"}]
["ENSGALG00000015086",1615.99020799487,-1.01025896547551,0.323097238560557,-3.12679541916343,0.00176722855198798,0.00547230631508687,{"$f":"VLOOKUP(A1402,'[1]SD vs SY0.45'!$A$2:$E$20133,5,FALSE)","v":"OSBPL1A"}]
["ENSGALG00000012629",108.351911486622,-1.01118287845091,0.200122554774213,-5.05281815731254,{"v":4.35338332897028e-07,"d":"4.35E-07"},{"v":3.0386301060139E-6,"d":"3.04E-06"},{"$f":"VLOOKUP(A1403,'[1]SD vs SY0.45'!$A$2:$E$20133,5,FALSE)","v":"ZNF367"}]
["ENSGALG00000053926",36.5641930894872,-1.01181525460489,0.298595737757957,-3.38857902729032,0.000702557805540201,0.00240649577717247,{"$f":"VLOOKUP(A1404,'[1]SD vs SY0.45'!$A$2:$E$20133,5,FALSE)","v":"NA"}]
["ENSGALG00000002267",171.045830678182,-1.01199401874258,0.157377790016434,-6.43034839056328,{"v":1.2731180661139e-10,"d":"1.27E-10"},{"v":1.61104103460861E-9,"d":"1.61E-09"},{"$f":"VLOOKUP(A1405,'[1]SD vs SY0.45'!$A$2:$E$20133,5,FALSE)","v":"DCUN1D3"}]
["ENSGALG00000017376",182.631211272702,-1.01263553494647,0.152299176538591,-6.6489889043483,{"v":2.95113242199725e-11,"d":"2.95E-11"},{"v":4.11148553055017e-10,"d":"4.11E-10"},{"$f":"VLOOKUP(A1406,'[1]SD vs SY0.45'!$A$2:$E$20133,5,FALSE)","v":"NA"}]
["ENSGALG00000002489",479.66277113235,-1.01264974852825,0.111931056042495,-9.04708473530163,{"v":1.46836079200929e-19,"d":"1.47E-19"},{"v":6.49628221136526e-18,"d":"6.50E-18"},{"$f":"VLOOKUP(A1407,'[1]SD vs SY0.45'!$A$2:$E$20133,5,FALSE)","v":"PPP1R26"}]
["ENSGALG00000015464",749.109528644703,-1.01320028616109,0.216535897362775,-4.67913310680127,{"v":2.88090378223756e-06,"d":"2.88E-06"},{"v":1.71768370314395e-05,"d":"1.72E-05"},{"$f":"VLOOKUP(A1408,'[1]SD vs SY0.45'!$A$2:$E$20133,5,FALSE)","v":"PTGFRN"}]
["ENSGALG00000029298",185.899733136025,-1.01327075203783,0.280528140287228,-3.61201108380912,0.000303831576554857,0.00114542597298646,{"$f":"VLOOKUP(A1409,'[1]SD vs SY0.45'!$A$2:$E$20133,5,FALSE)","v":"F5"}]
["ENSGALG00000043623",158.315091619552,-1.01353582842167,0.44066675954322,-2.30000517731873,0.0214479267288918,0.0487088691268601,{"$f":"VLOOKUP(A1410,'[1]SD vs SY0.45'!$A$2:$E$20133,5,FALSE)","v":"ARL14"}]
["ENSGALG00000001169",67.4614780283022,-1.0138434733135,0.29575263339235,-3.42801165177967,0.00060801936305807,0.00212153976831039,{"$f":"VLOOKUP(A1411,'[1]SD vs SY0.45'!$A$2:$E$20133,5,FALSE)","v":"CRB2"}]
["ENSGALG00000006681",66.9187303466288,-1.0139710269745,0.31851096005657,-3.18347295425694,0.00145519707140008,4.61622176253114E-3,{"$f":"VLOOKUP(A1412,'[1]SD vs SY0.45'!$A$2:$E$20133,5,FALSE)","v":"BRSK1"}]
["ENSGALG00000005078",683.25353859666,-1.01588671465921,0.238199477216054,-4.26485702879092,{"v":2.00030247179783E-5,"d":"2.00E-05"},{"v":9.98829956265043E-5,"d":"9.99E-05"},{"$f":"VLOOKUP(A1413,'[1]SD vs SY0.45'!$A$2:$E$20133,5,FALSE)","v":"NUP210"}]
["ENSGALG00000014138",125.380553238602,-1.01603936670825,0.201609383326446,-5.03964324449661,{"v":4.66400434202035e-07,"d":"4.66E-07"},{"v":3.23079854560589E-6,"d":"3.23E-06"},{"$f":"VLOOKUP(A1414,'[1]SD vs SY0.45'!$A$2:$E$20133,5,FALSE)","v":"NFXL1"}]
["ENSGALG00000014824",304.918003796293,-1.01629773958206,0.276561822291537,-3.67475789377297,2.38075061895637E-4,0.000921917839906334,{"$f":"VLOOKUP(A1415,'[1]SD vs SY0.45'!$A$2:$E$20133,5,FALSE)","v":"PTGER4"}]
["ENSGALG00000006048",122.730950530339,-1.01651090151045,0.193022398435706,-5.26628468897119,{"v":1.39212346082072e-07,"d":"1.39E-07"},{"v":1.06864682619381e-06,"d":"1.07E-06"},{"$f":"VLOOKUP(A1416,'[1]SD vs SY0.45'!$A$2:$E$20133,5,FALSE)","v":"PIMREG"}]
["ENSGALG00000034586",85.3109802210706,-1.01831349031649,0.225188585439156,-4.52204754664011,{"v":6.12442977139268e-06,"d":"6.12E-06"},{"v":3.41408978631627E-5,"d":"3.41E-05"},{"$f":"VLOOKUP(A1417,'[1]SD vs SY0.45'!$A$2:$E$20133,5,FALSE)","v":"NA"}]
["ENSGALG00000007970",658.006525522842,-1.01853973648655,0.141912726708135,-7.17722617352934,{"v":7.1139948601324e-13,"d":"7.11E-13"},{"v":1.29655166282099e-11,"d":"1.30E-11"},{"$f":"VLOOKUP(A1418,'[1]SD vs SY0.45'!$A$2:$E$20133,5,FALSE)","v":"PIAS1"}]
["ENSGALG00000051385",91.2238091723804,-1.0186806208432,0.201371639270714,-5.05870948129759,{"v":4.22103375946522e-07,"d":"4.22E-07"},{"v":2.94861848034639E-6,"d":"2.95E-06"},{"$f":"VLOOKUP(A1419,'[1]SD vs SY0.45'!$A$2:$E$20133,5,FALSE)","v":"NA"}]
["ENSGALG00000002145",524.534598465841,-1.01869765389623,0.163991939439703,-6.21187637256272,{"v":5.23556121950068e-10,"d":"5.24E-10"},{"v":6.06467041462081e-09,"d":"6.06E-09"},{"$f":"VLOOKUP(A1420,'[1]SD vs SY0.45'!$A$2:$E$20133,5,FALSE)","v":"CAMSAP2"}]
["ENSGALG00000012790",7627.30692155876,-1.01888254089479,0.302135831451818,-3.37226649351344,0.000745522738478064,0.00254015745680405,{"$f":"VLOOKUP(A1421,'[1]SD vs SY0.45'!$A$2:$E$20133,5,FALSE)","v":"DSP"}]
["ENSGALG00000017365",353.891136836458,-1.01982753604962,0.175372406079199,-5.81521094937284,{"v":6.05574697284293e-09,"d":"6.06E-09"},{"v":5.89867073483585e-08,"d":"5.90E-08"},{"$f":"VLOOKUP(A1422,'[1]SD vs SY0.45'!$A$2:$E$20133,5,FALSE)","v":"REEP2"}]
["ENSGALG00000009787",771.886862103134,-1.02064542431076,0.350432827494321,-2.91252800603364,0.00358516049889507,0.0102558712725055,{"$f":"VLOOKUP(A1423,'[1]SD vs SY0.45'!$A$2:$E$20133,5,FALSE)","v":"CLRN3"}]
["ENSGALG00000052889",63.5853949932118,-1.02111080459467,0.281201299980553,-3.63124496460467,0.000282057300977292,0.00107358368916204,{"$f":"VLOOKUP(A1424,'[1]SD vs SY0.45'!$A$2:$E$20133,5,FALSE)","v":"NA"}]
["ENSGALG00000009305",1677.11401424596,-1.02170370171485,0.145543063621093,-7.01994087725644,{"v":2.21962149152546e-12,"d":"2.22E-12"},{"v":3.71797291648875e-11,"d":"3.72E-11"},{"$f":"VLOOKUP(A1425,'[1]SD vs SY0.45'!$A$2:$E$20133,5,FALSE)","v":"LBR"}]
["ENSGALG00000026188",793.743532122984,-1.02178269216597,0.232949810824661,-4.38627826547176,{"v":1.1530659294555E-5,"d":"1.15E-05"},{"v":6.08519613279369e-05,"d":"6.09E-05"},{"$f":"VLOOKUP(A1426,'[1]SD vs SY0.45'!$A$2:$E$20133,5,FALSE)","v":"PGAP6"}]
["ENSGALG00000006642",111.788706181832,-1.02194030419851,0.227701615293906,-4.48806787285826,{"v":7.18720329437899e-06,"d":"7.19E-06"},{"v":3.96207684462167e-05,"d":"3.96E-05"},{"$f":"VLOOKUP(A1427,'[1]SD vs SY0.45'!$A$2:$E$20133,5,FALSE)","v":"ADORA2A"}]
["ENSGALG00000027885",296.860345975366,-1.0221587223717,0.242049016741801,-4.2229410229832,{"v":2.41134934804208e-05,"d":"2.41E-05"},1.18502349107992E-4,{"$f":"VLOOKUP(A1428,'[1]SD vs SY0.45'!$A$2:$E$20133,5,FALSE)","v":"C4orf19"}]
["ENSGALG00000009838",705.408645748915,-1.02231517111768,0.114489779914009,-8.92931379451968,{"v":4.28659370187467e-19,"d":"4.29E-19"},{"v":1.78731426125887e-17,"d":"1.79E-17"},{"$f":"VLOOKUP(A1429,'[1]SD vs SY0.45'!$A$2:$E$20133,5,FALSE)","v":"AQR"}]
["ENSGALG00000004814",416.881861015314,-1.02238907597244,0.244172931146214,-4.18715158626744,{"v":2.82477174046648E-5,"d":"2.82E-05"},1.36618376221115E-4,{"$f":"VLOOKUP(A1430,'[1]SD vs SY0.45'!$A$2:$E$20133,5,FALSE)","v":"RHPN2"}]
["ENSGALG00000030563",652.52024008715,-1.02260018154155,0.0951361695098625,-10.7488054943765,{"v":6.00340161682881E-27,"d":"6.00E-27"},{"v":5.58187935357233e-25,"d":"5.58E-25"},{"$f":"VLOOKUP(A1431,'[1]SD vs SY0.45'!$A$2:$E$20133,5,FALSE)","v":"NA"}]
["ENSGALG00000009823",357.04316947668,-1.0228056565505,0.190425956251769,-5.37114622755638,{"v":7.82377328056206e-08,"d":"7.82E-08"},{"v":6.26586577748192e-07,"d":"6.27E-07"},{"$f":"VLOOKUP(A1432,'[1]SD vs SY0.45'!$A$2:$E$20133,5,FALSE)","v":"PTPRE"}]
["ENSGALG00000049199",22553.2051264729,-1.02323042645933,0.342868602558106,-2.98432232880211,0.00284207203566721,0.00836693303151807,{"$f":"VLOOKUP(A1433,'[1]SD vs SY0.45'!$A$2:$E$20133,5,FALSE)","v":"NA"}]
["ENSGALG00000052300",513.916945131244,-1.02339438995558,0.373395479034373,-2.74077873840935,0.00612937678577368,0.0164057072312572,{"$f":"VLOOKUP(A1434,'[1]SD vs SY0.45'!$A$2:$E$20133,5,FALSE)","v":"NA"}]
["ENSGALG00000010628",1050.99019821782,-1.02382245499966,0.332968730870535,-3.0748306374683,0.00210622119650094,0.00641009416130961,{"$f":"VLOOKUP(A1435,'[1]SD vs SY0.45'!$A$2:$E$20133,5,FALSE)","v":"ACSL1"}]
["ENSGALG00000004150",1901.70526775642,-1.02431990436456,0.314203341223748,-3.26005414320254,1.1139094751862E-3,0.00363504955800723,{"$f":"VLOOKUP(A1436,'[1]SD vs SY0.45'!$A$2:$E$20133,5,FALSE)","v":"MYO1E"}]
["ENSGALG00000048011",534.287424468467,-1.02440246004883,0.221746923734784,-4.61969186672482,{"v":3.84310353023042e-06,"d":"3.84E-06"},{"v":2.23702849280603E-5,"d":"2.24E-05"},{"$f":"VLOOKUP(A1437,'[1]SD vs SY0.45'!$A$2:$E$20133,5,FALSE)","v":"SCLT1"}]
["ENSGALG00000015177",656.289798298974,-1.0262258739321,0.135062121861691,-7.59817674849653,{"v":3.00331957804654e-14,"d":"3.00E-14"},{"v":6.81706494823697e-13,"d":"6.82E-13"},{"$f":"VLOOKUP(A1438,'[1]SD vs SY0.45'!$A$2:$E$20133,5,FALSE)","v":"GNAQ"}]
["ENSGALG00000006410",841.010760525006,-1.02683167961898,0.107668438325424,-9.53697941188125,{"v":1.47053024740673E-21,"d":"1.47E-21"},{"v":8.11686013068595e-20,"d":"8.12E-20"},{"$f":"VLOOKUP(A1439,'[1]SD vs SY0.45'!$A$2:$E$20133,5,FALSE)","v":"HTATSF1"}]
["ENSGALG00000034119",63.6649548047885,-1.02693097602257,0.380323941791486,-2.70014811895693,6.93086114731397E-3,0.0182475594743107,{"$f":"VLOOKUP(A1440,'[1]SD vs SY0.45'!$A$2:$E$20133,5,FALSE)","v":"COL15A1"}]
["ENSGALG00000010793",65.732073283,-1.02729696574352,0.357487529352319,-2.8736581877548,0.00405747828844773,0.0113951502182589,{"$f":"VLOOKUP(A1441,'[1]SD vs SY0.45'!$A$2:$E$20133,5,FALSE)","v":"SLC24A4"}]
["ENSGALG00000012543",1595.38884880978,-1.0274873526177,0.356218531111147,-2.88442981731656,3.92123151323119E-3,0.011067930571518,{"$f":"VLOOKUP(A1442,'[1]SD vs SY0.45'!$A$2:$E$20133,5,FALSE)","v":"GPD2"}]
["ENSGALG00000015389",105.35377339444,-1.02754242774445,0.244063061781333,-4.21015134467613,{"v":2.55199675149199E-5,"d":"2.55E-05"},1.2470929600391E-4,{"$f":"VLOOKUP(A1443,'[1]SD vs SY0.45'!$A$2:$E$20133,5,FALSE)","v":"TMPRSS7"}]
["ENSGALG00000005889",258.663028812082,-1.02789976133345,0.196352660607317,-5.23496731928238,{"v":1.65014058133242e-07,"d":"1.65E-07"},{"v":1.25124266409188e-06,"d":"1.25E-06"},{"$f":"VLOOKUP(A1444,'[1]SD vs SY0.45'!$A$2:$E$20133,5,FALSE)","v":"CCDC18"}]
["ENSGALG00000013795",1283.88679927385,-1.02837980417941,0.159116657061949,-6.46305561698063,{"v":1.02609557100496E-10,"d":"1.03E-10"},{"v":1.31471803191329E-9,"d":"1.31E-09"},{"$f":"VLOOKUP(A1445,'[1]SD vs SY0.45'!$A$2:$E$20133,5,FALSE)","v":"HIVEP2"}]
["ENSGALG00000006061",1014.23198889827,-1.02856197525341,0.227235509017642,-4.52641393812073,{"v":5.9993014620377e-06,"d":"6.00E-06"},{"v":3.34870766350819E-5,"d":"3.35E-05"},{"$f":"VLOOKUP(A1446,'[1]SD vs SY0.45'!$A$2:$E$20133,5,FALSE)","v":"RAP2C"}]
["ENSGALG00000036391",5254.04459815063,-1.02866475235853,0.174680469844907,-5.88883664711827,{"v":3.88923631678141e-09,"d":"3.89E-09"},{"v":3.90879490403921e-08,"d":"3.91E-08"},{"$f":"VLOOKUP(A1447,'[1]SD vs SY0.45'!$A$2:$E$20133,5,FALSE)","v":"GFPT1"}]
["ENSGALG00000002765",2411.97527303433,-1.02974948236401,0.201358090906416,-5.11402088552081,{"v":3.15372464499365e-07,"d":"3.15E-07"},{"v":2.26961135771956e-06,"d":"2.27E-06"},{"$f":"VLOOKUP(A1448,'[1]SD vs SY0.45'!$A$2:$E$20133,5,FALSE)","v":"NBR1"}]
["ENSGALG00000007796",1308.82540036085,-1.03011106813831,0.291400692777124,-3.53503301011774,0.00040772422055212,1.48774418105765E-3,{"$f":"VLOOKUP(A1449,'[1]SD vs SY0.45'!$A$2:$E$20133,5,FALSE)","v":"BCAS1"}]
["ENSGALG00000026816",118.170464372925,-1.03035808281774,0.279942249438193,-3.68060942885731,0.000232677176550935,0.000903631464974561,{"$f":"VLOOKUP(A1450,'[1]SD vs SY0.45'!$A$2:$E$20133,5,FALSE)","v":"NA"}]
["ENSGALG00000005460",1040.9664865989,-1.03211494882648,0.33546996987032,-3.07662396495715,2.09359228598826E-3,0.00637835799482703,{"$f":"VLOOKUP(A1451,'[1]SD vs SY0.45'!$A$2:$E$20133,5,FALSE)","v":"SLCO4A1"}]
["ENSGALG00000012607",720.160450028198,-1.03258714004117,0.164944022835674,-6.26022769597347,{"v":3.84415769457521e-10,"d":"3.84E-10"},{"v":4.53756753805697e-09,"d":"4.54E-09"},{"$f":"VLOOKUP(A1452,'[1]SD vs SY0.45'!$A$2:$E$20133,5,FALSE)","v":"ZCCHC6"}]
["ENSGALG00000012865",448.015045742521,-1.03287050776294,0.140759761039649,-7.33782510096758,{"v":2.17092597343721E-13,"d":"2.17E-13"},{"v":4.29418542663854e-12,"d":"4.29E-12"},{"$f":"VLOOKUP(A1453,'[1]SD vs SY0.45'!$A$2:$E$20133,5,FALSE)","v":"BRAF"}]
["ENSGALG00000051380",396.939784075092,-1.03336984650534,0.3690057782977,-2.80041643594984,0.00510367194588508,0.0139832247278764,{"$f":"VLOOKUP(A1454,'[1]SD vs SY0.45'!$A$2:$E$20133,5,FALSE)","v":"NA"}]
["ENSGALG00000034316",2073.32130035081,-1.03360093008639,0.0613307990165784,-16.8528854451577,{"v":9.99183624828227e-64,"d":"9.99E-64"},{"v":1.08580035530552E-60,"d":"1.09E-60"},{"$f":"VLOOKUP(A1455,'[1]SD vs SY0.45'!$A$2:$E$20133,5,FALSE)","v":"CNOT6"}]
["ENSGALG00000042088",950.932979960559,-1.03362852872149,0.112171839705638,-9.21468820903662,{"v":3.12184254262936e-20,"d":"3.12E-20"},{"v":1.50358660079492E-18,"d":"1.50E-18"},{"$f":"VLOOKUP(A1456,'[1]SD vs SY0.45'!$A$2:$E$20133,5,FALSE)","v":"ATG2B"}]
["ENSGALG00000004196",6849.28426098843,-1.03377271643921,0.297279262296603,-3.47744645372467,0.00050621414962779,0.00179810134553669,{"$f":"VLOOKUP(A1457,'[1]SD vs SY0.45'!$A$2:$E$20133,5,FALSE)","v":"UGT1A1"}]
["ENSGALG00000001720",315.706471914754,-1.03403753251653,0.127936082201296,-8.08245425938215,{"v":6.34761500837257e-16,"d":"6.35E-16"},{"v":1.8033657214146E-14,"d":"1.80E-14"},{"$f":"VLOOKUP(A1458,'[1]SD vs SY0.45'!$A$2:$E$20133,5,FALSE)","v":"NA"}]
["ENSGALG00000008834",21.7936519733729,-1.0345665835429,0.376679907794723,-2.74654039712333,0.00602274683377296,0.0161476482958844,{"$f":"VLOOKUP(A1459,'[1]SD vs SY0.45'!$A$2:$E$20133,5,FALSE)","v":"LOC101747367"}]
["ENSGALG00000008725",835.637282938715,-1.03461307230163,0.173355163116929,-5.96816993332803,{"v":2.39929415480634E-9,"d":"2.40E-09"},{"v":2.47870038440985e-08,"d":"2.48E-08"},{"$f":"VLOOKUP(A1460,'[1]SD vs SY0.45'!$A$2:$E$20133,5,FALSE)","v":"KIF16B"}]
["ENSGALG00000050863",99.032976543572,-1.03468916957041,0.370929693268209,-2.78944821174576,0.00527979397571302,0.0144127499175272,{"$f":"VLOOKUP(A1461,'[1]SD vs SY0.45'!$A$2:$E$20133,5,FALSE)","v":"NA"}]
["ENSGALG00000030550",4286.21307468527,-1.03539326501769,0.257856775702459,-4.01538126038009,{"v":5.9349773627598e-05,"d":"5.93E-05"},0.000265820328197591,{"$f":"VLOOKUP(A1462,'[1]SD vs SY0.45'!$A$2:$E$20133,5,FALSE)","v":"ATP2B1"}]
["ENSGALG00000032780",531.987053283071,-1.03552383929127,0.128012430391329,-8.08924442826146,{"v":6.00359843944677e-16,"d":"6.00E-16"},{"v":1.71967983635356E-14,"d":"1.72E-14"},{"$f":"VLOOKUP(A1463,'[1]SD vs SY0.45'!$A$2:$E$20133,5,FALSE)","v":"TTC13"}]
["ENSGALG00000009830",2122.27134574058,-1.03561883421039,0.234656129722251,-4.41334660823133,{"v":1.01784842428843e-05,"d":"1.02E-05"},{"v":5.44365750633742e-05,"d":"5.44E-05"},{"$f":"VLOOKUP(A1464,'[1]SD vs SY0.45'!$A$2:$E$20133,5,FALSE)","v":"MGAT4D"}]
["ENSGALG00000013627",44.3619992861283,-1.03633609703694,0.318880725585629,-3.249917645959,0.00115438433012346,0.00374953864148263,{"$f":"VLOOKUP(A1465,'[1]SD vs SY0.45'!$A$2:$E$20133,5,FALSE)","v":"SLC7A2"}]
["ENSGALG00000036466",1063.57411658924,-1.03690813816179,0.151431180459518,-6.84738859602952,{"v":7.52102185722341e-12,"d":"7.52E-12"},{"v":1.16445242236459e-10,"d":"1.16E-10"},{"$f":"VLOOKUP(A1466,'[1]SD vs SY0.45'!$A$2:$E$20133,5,FALSE)","v":"NA"}]
["ENSGALG00000007023",927.08802431124,-1.03714711141077,0.0929229594482848,-11.1613654748909,{"v":6.30161681587579e-29,"d":"6.30E-29"},{"v":6.89095670299574e-27,"d":"6.89E-27"},{"$f":"VLOOKUP(A1467,'[1]SD vs SY0.45'!$A$2:$E$20133,5,FALSE)","v":"PRKAR2A"}]
["ENSGALG00000016050",1677.55888667187,-1.03754681626611,0.194827280038564,-5.32546990370516,{"v":1.006923882405E-7,"d":"1.01E-07"},{"v":7.96152139307671e-07,"d":"7.96E-07"},{"$f":"VLOOKUP(A1468,'[1]SD vs SY0.45'!$A$2:$E$20133,5,FALSE)","v":"TTC3"}]
["ENSGALG00000040995",18.7578716270435,-1.03758611820073,0.444456429658101,-2.33450581196204,0.0195692520961472,0.0450424392633983,{"$f":"VLOOKUP(A1469,'[1]SD vs SY0.45'!$A$2:$E$20133,5,FALSE)","v":"NA"}]
["ENSGALG00000001545",426.720984488842,-1.03837803275777,0.393226456895513,-2.64066167102709,0.00827443035919241,0.0213389974273626,{"$f":"VLOOKUP(A1470,'[1]SD vs SY0.45'!$A$2:$E$20133,5,FALSE)","v":"RAB40B"}]
["ENSGALG00000030187",7706.7506127071,-1.03870051106774,0.295437964888069,-3.51579903233245,0.000438432718155897,0.00158384161034211,{"$f":"VLOOKUP(A1471,'[1]SD vs SY0.45'!$A$2:$E$20133,5,FALSE)","v":"CAT"}]
["ENSGALG00000026137",2541.04102687631,-1.03898758166087,0.385036095057621,-2.69841605760464,0.00696703060485497,0.0183344575641915,{"$f":"VLOOKUP(A1472,'[1]SD vs SY0.45'!$A$2:$E$20133,5,FALSE)","v":"CDKN2B"}]
["ENSGALG00000002663",532.152453547131,-1.04060280019115,0.120729842317277,-8.61926745051529,{"v":6.73838008807055E-18,"d":"6.74E-18"},{"v":2.45105051446198E-16,"d":"2.45E-16"},{"$f":"VLOOKUP(A1473,'[1]SD vs SY0.45'!$A$2:$E$20133,5,FALSE)","v":"ATR"}]
["ENSGALG00000000401",124.391807842694,-1.04270781300102,0.162676231539643,-6.40971212040227,{"v":1.45794669040716E-10,"d":"1.46E-10"},{"v":1.82763656136332e-09,"d":"1.83E-09"},{"$f":"VLOOKUP(A1474,'[1]SD vs SY0.45'!$A$2:$E$20133,5,FALSE)","v":"RBM15"}]
["ENSGALG00000048563",83.2237190949023,-1.04360901316155,0.31398740650168,-3.3237288870564,0.000888224999995046,0.00297736033832926,{"$f":"VLOOKUP(A1475,'[1]SD vs SY0.45'!$A$2:$E$20133,5,FALSE)","v":"NA"}]
["ENSGALG00000042552",1929.13948083276,-1.04473297753937,0.137315348325219,-7.60827533324983,{"v":2.77777597381786e-14,"d":"2.78E-14"},{"v":6.37166106289857e-13,"d":"6.37E-13"},{"$f":"VLOOKUP(A1476,'[1]SD vs SY0.45'!$A$2:$E$20133,5,FALSE)","v":"TJP1"}]
["ENSGALG00000011206",207.859248914779,-1.04548579933876,0.235788122900055,-4.4340053539589,{"v":9.24983273754163e-06,"d":"9.25E-06"},{"v":4.99307177297846E-5,"d":"4.99E-05"},{"$f":"VLOOKUP(A1477,'[1]SD vs SY0.45'!$A$2:$E$20133,5,FALSE)","v":"KITLG"}]
["ENSGALG00000005893",242.380173299578,-1.04591323268371,0.155489922628916,-6.7265660372076,{"v":1.7371382921975E-11,"d":"1.74E-11"},{"v":2.51487289645611e-10,"d":"2.51E-10"},{"$f":"VLOOKUP(A1478,'[1]SD vs SY0.45'!$A$2:$E$20133,5,FALSE)","v":"ZFAND4"}]
["ENSGALG00000015128",29.4619669842613,-1.04655162796995,0.456725599900152,-2.29142318319521,0.0219389500058715,0.0496553662785848,{"$f":"VLOOKUP(A1479,'[1]SD vs SY0.45'!$A$2:$E$20133,5,FALSE)","v":"AQP4"}]
["ENSGALG00000012050",409.507358470841,-1.04657472713309,0.178235875823749,-5.87185224240722,{"v":4.30952768447681e-09,"d":"4.31E-09"},{"v":4.31374541450768e-08,"d":"4.31E-08"},{"$f":"VLOOKUP(A1480,'[1]SD vs SY0.45'!$A$2:$E$20133,5,FALSE)","v":"TNRC6B"}]
["ENSGALG00000004059",59.8865601566094,-1.0467986427859,0.258491673329651,-4.04964163565505,{"v":5.12961244115085e-05,"d":"5.13E-05"},0.000233661439649698,{"$f":"VLOOKUP(A1481,'[1]SD vs SY0.45'!$A$2:$E$20133,5,FALSE)","v":"LRRC49"}]
["ENSGALG00000028989",26.5460477788807,-1.04699682634037,0.365579422099003,-2.86393807487565,0.00418409800805717,0.0117299116520623,{"$f":"VLOOKUP(A1482,'[1]SD vs SY0.45'!$A$2:$E$20133,5,FALSE)","v":"NA"}]
["ENSGALG00000044716",2116.92549744308,-1.04718378903148,0.16317946974146,-6.41737462862592,{"v":1.38644451856913e-10,"d":"1.39E-10"},{"v":1.74808635564622e-09,"d":"1.75E-09"},{"$f":"VLOOKUP(A1483,'[1]SD vs SY0.45'!$A$2:$E$20133,5,FALSE)","v":"KIAA1109"}]
["ENSGALG00000027785",101.909989549657,-1.04749797479676,0.313695980865859,-3.33921388442873,0.000840158490497408,0.00282634668669611,{"$f":"VLOOKUP(A1484,'[1]SD vs SY0.45'!$A$2:$E$20133,5,FALSE)","v":"CCBE1"}]
["ENSGALG00000052601",190.280364310908,-1.04972082609242,0.284977426205162,-3.68352272694294,0.000230032764196639,0.00089436039156685,{"$f":"VLOOKUP(A1485,'[1]SD vs SY0.45'!$A$2:$E$20133,5,FALSE)","v":"NA"}]
["ENSGALG00000005198",774.4201678867,-1.04973963973141,0.135684044279651,-7.73664763093186,{"v":1.02072444436225E-14,"d":"1.02E-14"},{"v":2.47177380419589e-13,"d":"2.47E-13"},{"$f":"VLOOKUP(A1486,'[1]SD vs SY0.45'!$A$2:$E$20133,5,FALSE)","v":"RPS6KB1"}]
["ENSGALG00000006083",211.433149487189,-1.04981080099342,0.452587865252069,-2.31957346096481,0.0203639628978198,0.04659405486306,{"$f":"VLOOKUP(A1487,'[1]SD vs SY0.45'!$A$2:$E$20133,5,FALSE)","v":"LMINA"}]
["ENSGALG00000000478",123.361607377672,-1.05004610764867,0.174454136180424,-6.01903818756522,{"v":1.75456477288692E-9,"d":"1.75E-09"},{"v":1.86356858315118e-08,"d":"1.86E-08"},{"$f":"VLOOKUP(A1488,'[1]SD vs SY0.45'!$A$2:$E$20133,5,FALSE)","v":"TANC2"}]
["ENSGALG00000042265",44.0217350907403,-1.05012249248133,0.285872975500097,-3.6733884713806,2.39355173246537E-4,0.000926256042118302,{"$f":"VLOOKUP(A1489,'[1]SD vs SY0.45'!$A$2:$E$20133,5,FALSE)","v":"NA"}]
["ENSGALG00000008844",2833.95397182653,-1.05056968700102,0.322160267549196,-3.26101568946765,0.00111013897476802,0.00362410558661126,{"$f":"VLOOKUP(A1490,'[1]SD vs SY0.45'!$A$2:$E$20133,5,FALSE)","v":"SLC31A1"}]
["ENSGALG00000010149",651.049194925877,-1.05346818291269,0.205303332958486,-5.13127657370138,{"v":2.87783684228725e-07,"d":"2.88E-07"},{"v":2.08748223516264E-6,"d":"2.09E-06"},{"$f":"VLOOKUP(A1491,'[1]SD vs SY0.45'!$A$2:$E$20133,5,FALSE)","v":"CMTR1"}]
["ENSGALG00000008624",372.509559504775,-1.05418914970467,0.122105680260579,-8.63341613146077,{"v":5.95463200912538e-18,"d":"5.95E-18"},{"v":2.18886229899922e-16,"d":"2.19E-16"},{"$f":"VLOOKUP(A1492,'[1]SD vs SY0.45'!$A$2:$E$20133,5,FALSE)","v":"RPAP1"}]
["ENSGALG00000041993",3286.64605690432,-1.05450678865421,0.230342429931525,-4.57799628565041,{"v":4.69451027264503e-06,"d":"4.69E-06"},{"v":2.68498191152892e-05,"d":"2.68E-05"},{"$f":"VLOOKUP(A1493,'[1]SD vs SY0.45'!$A$2:$E$20133,5,FALSE)","v":"UGDH"}]
["ENSGALG00000027296",108.118303941252,-1.05467066316507,0.450501208777109,-2.34110506834817,0.0192267554501425,0.0443421669998179,{"$f":"VLOOKUP(A1494,'[1]SD vs SY0.45'!$A$2:$E$20133,5,FALSE)","v":"CPA5"}]
["ENSGALG00000047814",51.4485738721988,-1.0567057657749,0.362787679439343,-2.91273884330346,0.00358274095625451,0.01025063633477,{"$f":"VLOOKUP(A1495,'[1]SD vs SY0.45'!$A$2:$E$20133,5,FALSE)","v":"LOC101748328"}]
["ENSGALG00000035845",341.267642118629,-1.05675433178933,0.145275404479517,-7.27414482565305,{"v":3.48621821043841e-13,"d":"3.49E-13"},{"v":6.66097538735084E-12,"d":"6.66E-12"},{"$f":"VLOOKUP(A1496,'[1]SD vs SY0.45'!$A$2:$E$20133,5,FALSE)","v":"JPH1"}]
["ENSGALG00000049903",431.516044090547,-1.05767260760727,0.304814915334787,-3.46988468869905,5.20681851002342E-4,1.84380760557591E-3,{"$f":"VLOOKUP(A1497,'[1]SD vs SY0.45'!$A$2:$E$20133,5,FALSE)","v":"NA"}]
["ENSGALG00000006413",62.839062112161,-1.05841660659195,0.300140777468902,-3.52640056282129,0.000421249318399111,1.53086047882039E-3,{"$f":"VLOOKUP(A1498,'[1]SD vs SY0.45'!$A$2:$E$20133,5,FALSE)","v":"CEMIP"}]
["ENSGALG00000051335",209.804657782098,-1.05851711815471,0.164283183886342,-6.44324691739016,{"v":1.16944203731803e-10,"d":"1.17E-10"},{"v":1.48851308219974e-09,"d":"1.49E-09"},{"$f":"VLOOKUP(A1499,'[1]SD vs SY0.45'!$A$2:$E$20133,5,FALSE)","v":"INO80C"}]
["ENSGALG00000008415",459.561558594159,-1.05914451796753,0.124160225186773,-8.53046550434543,{"v":1.45759992952675e-17,"d":"1.46E-17"},{"v":5.03842743035421e-16,"d":"5.04E-16"},{"$f":"VLOOKUP(A1500,'[1]SD vs SY0.45'!$A$2:$E$20133,5,FALSE)","v":"ALS2"}]
["ENSGALG00000025851",259.019164751573,-1.05944257754317,0.221714143816108,-4.77841674558158,{"v":1.76680890592599e-06,"d":"1.77E-06"},{"v":1.09790945129861e-05,"d":"1.10E-05"},{"$f":"VLOOKUP(A1501,'[1]SD vs SY0.45'!$A$2:$E$20133,5,FALSE)","v":"GPRIN3"}]
["ENSGALG00000046580",133.747446920931,-1.05950152381289,0.328405251292624,-3.22620152888123,1.25444994442301E-3,0.00404358939259972,{"$f":"VLOOKUP(A1502,'[1]SD vs SY0.45'!$A$2:$E$20133,5,FALSE)","v":"MGARP"}]
["ENSGALG00000043711",363.121513238409,-1.05996961914274,0.163821784491956,-6.47026048721125,{"v":9.78341138121114E-11,"d":"9.78E-11"},{"v":1.25723705606148E-9,"d":"1.26E-09"},{"$f":"VLOOKUP(A1503,'[1]SD vs SY0.45'!$A$2:$E$20133,5,FALSE)","v":"AGO3"}]
["ENSGALG00000014952",511.698128253226,-1.06032037372777,0.133145075673901,-7.96364693445144,{"v":1.67041443803321e-15,"d":"1.67E-15"},{"v":4.5239090084242E-14,"d":"4.52E-14"},{"$f":"VLOOKUP(A1504,'[1]SD vs SY0.45'!$A$2:$E$20133,5,FALSE)","v":"CERT1"}]
["ENSGALG00000003548",1785.63486549157,-1.060504998351,0.38848407792571,-2.72985447438029,0.00633622888919332,0.0168788128843886,{"$f":"VLOOKUP(A1505,'[1]SD vs SY0.45'!$A$2:$E$20133,5,FALSE)","v":"BAIAP2L1"}]
["ENSGALG00000010177",2189.8239392371,-1.06054114522121,0.147014359131466,-7.2138609553971,{"v":5.4387292317537e-13,"d":"5.44E-13"},{"v":1.01353896197751e-11,"d":"1.01E-11"},{"$f":"VLOOKUP(A1506,'[1]SD vs SY0.45'!$A$2:$E$20133,5,FALSE)","v":"ZFC3H1"}]
["ENSGALG00000009562",609.606865309516,-1.06070799988713,0.382378988923719,-2.77397040792618,5.53767151660763E-3,0.0150442960405089,{"$f":"VLOOKUP(A1507,'[1]SD vs SY0.45'!$A$2:$E$20133,5,FALSE)","v":"PLEK2"}]
["ENSGALG00000008238",970.641424390197,-1.06077957943921,0.166058434447865,-6.38798976376146,{"v":1.68080587101953E-10,"d":"1.68E-10"},{"v":2.08595086933738e-09,"d":"2.09E-09"},{"$f":"VLOOKUP(A1508,'[1]SD vs SY0.45'!$A$2:$E$20133,5,FALSE)","v":"MED13L"}]
["ENSGALG00000047341",161.839965877352,-1.06079672497696,0.33932655433062,-3.12618246771037,1.77091634420989E-3,0.00548271411623527,{"$f":"VLOOKUP(A1509,'[1]SD vs SY0.45'!$A$2:$E$20133,5,FALSE)","v":"NA"}]
["ENSGALG00000008026",443.099783934183,-1.06099397381272,0.190391161099605,-5.57270604205019,{"v":2.50812580796852e-08,"d":"2.51E-08"},{"v":2.1980233580216E-7,"d":"2.20E-07"},{"$f":"VLOOKUP(A1510,'[1]SD vs SY0.45'!$A$2:$E$20133,5,FALSE)","v":"SPATA2"}]
["ENSGALG00000004042",276.459901478032,-1.06106650973407,0.208030145755882,-5.10054206749056,{"v":3.38682091738131e-07,"d":"3.39E-07"},{"v":2.41536732118576E-6,"d":"2.42E-06"},{"$f":"VLOOKUP(A1511,'[1]SD vs SY0.45'!$A$2:$E$20133,5,FALSE)","v":"NUFIP2"}]
["ENSGALG00000010311",254.526276119984,-1.06106962862038,0.202130473162544,-5.24942930187036,{"v":1.52571139073664e-07,"d":"1.53E-07"},{"v":1.16297869139579e-06,"d":"1.16E-06"},{"$f":"VLOOKUP(A1512,'[1]SD vs SY0.45'!$A$2:$E$20133,5,FALSE)","v":"NAV3"}]
["ENSGALG00000008813",2241.19352292373,-1.06149239395607,0.343414158930545,-3.09099775402898,0.00199485142835378,0.00610857375568637,{"$f":"VLOOKUP(A1513,'[1]SD vs SY0.45'!$A$2:$E$20133,5,FALSE)","v":"CROT"}]
["ENSGALG00000014071",1267.51101868236,-1.06174531870162,0.113905758738872,-9.32126110617161,{"v":1.14965590742068e-20,"d":"1.15E-20"},{"v":5.77718707003566e-19,"d":"5.78E-19"},{"$f":"VLOOKUP(A1514,'[1]SD vs SY0.45'!$A$2:$E$20133,5,FALSE)","v":"ITPR2"}]
["ENSGALG00000016321",952.149250632157,-1.06203404957504,0.167049813392168,-6.35758896109507,{"v":2.04944984835693E-10,"d":"2.05E-10"},{"v":2.50942144460436e-09,"d":"2.51E-09"},{"$f":"VLOOKUP(A1515,'[1]SD vs SY0.45'!$A$2:$E$20133,5,FALSE)","v":"ICK"}]
["ENSGALG00000010061",2057.45697262795,-1.06219893443447,0.120810122295656,-8.79230079607878,{"v":1.4652783947021E-18,"d":"1.47E-18"},{"v":5.73801699294718e-17,"d":"5.74E-17"},{"$f":"VLOOKUP(A1516,'[1]SD vs SY0.45'!$A$2:$E$20133,5,FALSE)","v":"LRBA"}]
["ENSGALG00000053721",25.8814314355746,-1.06262379090059,0.399668676204666,-2.65876175484024,0.00784284012719235,0.0203540808930719,{"$f":"VLOOKUP(A1517,'[1]SD vs SY0.45'!$A$2:$E$20133,5,FALSE)","v":"NA"}]
["ENSGALG00000013208",414.402900858331,-1.06357743285227,0.238881292264696,-4.45232618581853,{"v":8.49449949240785e-06,"d":"8.49E-06"},{"v":4.62120972072889e-05,"d":"4.62E-05"},{"$f":"VLOOKUP(A1518,'[1]SD vs SY0.45'!$A$2:$E$20133,5,FALSE)","v":"CENPE"}]
["ENSGALG00000013579",4978.20683173126,-1.06370310829897,0.223394863984227,-4.76153788555351,{"v":1.92123221079838e-06,"d":"1.92E-06"},{"v":1.1828776363014E-5,"d":"1.18E-05"},{"$f":"VLOOKUP(A1519,'[1]SD vs SY0.45'!$A$2:$E$20133,5,FALSE)","v":"FAT1"}]
["ENSGALG00000012030",699.672693519682,-1.06390784617343,0.108672858417904,-9.79000517389681,{"v":1.24289527038047e-22,"d":"1.24E-22"},{"v":7.69046977441467e-21,"d":"7.69E-21"},{"$f":"VLOOKUP(A1520,'[1]SD vs SY0.45'!$A$2:$E$20133,5,FALSE)","v":"QSER1"}]
["ENSGALG00000008053",261.04247845756,-1.06392873502298,0.156433488541707,-6.80115712397048,{"v":1.037821538024E-11,"d":"1.04E-11"},{"v":1.56773267433738e-10,"d":"1.57E-10"},{"$f":"VLOOKUP(A1521,'[1]SD vs SY0.45'!$A$2:$E$20133,5,FALSE)","v":"PRDM11"}]
["ENSGALG00000005609",448.465509041934,-1.06424257929397,0.208867879604587,-5.09529077093479,{"v":3.48206397360229E-7,"d":"3.48E-07"},{"v":2.47719502082745e-06,"d":"2.48E-06"},{"$f":"VLOOKUP(A1522,'[1]SD vs SY0.45'!$A$2:$E$20133,5,FALSE)","v":"OGFR"}]
["ENSGALG00000052952",313.50720749794,-1.06483613667617,0.257476459804667,-4.13566404277891,{"v":3.53929673829221e-05,"d":"3.54E-05"},0.000167222153230127,{"$f":"VLOOKUP(A1523,'[1]SD vs SY0.45'!$A$2:$E$20133,5,FALSE)","v":"NA"}]
["ENSGALG00000014832",823.921404313106,-1.06504448066863,0.177128624246288,-6.01283098765415,{"v":1.82311086473013E-9,"d":"1.82E-09"},{"v":1.92930180189062e-08,"d":"1.93E-08"},{"$f":"VLOOKUP(A1524,'[1]SD vs SY0.45'!$A$2:$E$20133,5,FALSE)","v":"PRKAA1"}]
["ENSGALG00000028570",453.294489003329,-1.06541761797694,0.362151395987201,-2.9419122217455,0.0032619237439462,0.00942423864007852,{"$f":"VLOOKUP(A1525,'[1]SD vs SY0.45'!$A$2:$E$20133,5,FALSE)","v":"C6orf132"}]
["ENSGALG00000009906",1091.89995444063,-1.06552531479821,0.13878495662155,-7.67752745496599,{"v":1.62188494317701E-14,"d":"1.62E-14"},{"v":3.82109939119494e-13,"d":"3.82E-13"},{"$f":"VLOOKUP(A1526,'[1]SD vs SY0.45'!$A$2:$E$20133,5,FALSE)","v":"UBR2"}]
["ENSGALG00000015576",706.13121626852,-1.06588946554564,0.150248810385555,-7.09416242837768,{"v":1.30137214253037E-12,"d":"1.30E-12"},{"v":2.26496070492248e-11,"d":"2.26E-11"},{"$f":"VLOOKUP(A1527,'[1]SD vs SY0.45'!$A$2:$E$20133,5,FALSE)","v":"ZFYVE16"}]
["ENSGALG00000008285",5627.61764774185,-1.06634209201443,0.207006085725017,-5.15125962736641,{"v":2.58742700131489E-7,"d":"2.59E-07"},{"v":1.89501235349039E-6,"d":"1.90E-06"},{"$f":"VLOOKUP(A1528,'[1]SD vs SY0.45'!$A$2:$E$20133,5,FALSE)","v":"NAPEPLD"}]
["ENSGALG00000017136",438.815674791821,-1.06653759714317,0.306858424059552,-3.4756666707517,5.0958523262175E-4,1.80893394030101E-3,{"$f":"VLOOKUP(A1529,'[1]SD vs SY0.45'!$A$2:$E$20133,5,FALSE)","v":"GJB6"}]
["ENSGALG00000052737",1238.36948232268,-1.06799438784216,0.343733770875656,-3.10703945417253,1.88971176284301E-3,0.00581015356685258,{"$f":"VLOOKUP(A1530,'[1]SD vs SY0.45'!$A$2:$E$20133,5,FALSE)","v":"LOC112531693,LOC112531693,LOC112531693"}]
["ENSGALG00000043243",445.218228233484,-1.06854306985512,0.144054528550455,-7.41762914784634,{"v":1.19235402266487E-13,"d":"1.19E-13"},{"v":2.46216857388054e-12,"d":"2.46E-12"},{"$f":"VLOOKUP(A1531,'[1]SD vs SY0.45'!$A$2:$E$20133,5,FALSE)","v":"CDK13"}]
["ENSGALG00000033500",3967.87989300772,-1.0696242788527,0.181538980194277,-5.89198131281791,{"v":3.81592338751305e-09,"d":"3.82E-09"},{"v":3.84177532939719e-08,"d":"3.84E-08"},{"$f":"VLOOKUP(A1532,'[1]SD vs SY0.45'!$A$2:$E$20133,5,FALSE)","v":"PDCD6IP"}]
["ENSGALG00000012386",861.000075728135,-1.06963961514333,0.183944340112214,-5.81501781729629,{"v":6.06274281433528e-09,"d":"6.06E-09"},{"v":5.90217857294779e-08,"d":"5.90E-08"},{"$f":"VLOOKUP(A1533,'[1]SD vs SY0.45'!$A$2:$E$20133,5,FALSE)","v":"LATS1"}]
["ENSGALG00000014712",144.618111032152,-1.07042424692242,0.156336829309692,-6.84691030033611,{"v":7.54620000043985e-12,"d":"7.55E-12"},{"v":1.16731120469437e-10,"d":"1.17E-10"},{"$f":"VLOOKUP(A1534,'[1]SD vs SY0.45'!$A$2:$E$20133,5,FALSE)","v":"SLC38A9"}]
["ENSGALG00000014984",1267.11733395696,-1.07154113197494,0.371033533711718,-2.88798999178197,0.00387712208543678,0.010963005643111,{"$f":"VLOOKUP(A1535,'[1]SD vs SY0.45'!$A$2:$E$20133,5,FALSE)","v":"F2RL1"}]
["ENSGALG00000003294",318.242567155837,-1.07159114026441,0.196047916335771,-5.46596546544826,{"v":4.60393973507753e-08,"d":"4.60E-08"},{"v":3.84658194282161e-07,"d":"3.85E-07"},{"$f":"VLOOKUP(A1536,'[1]SD vs SY0.45'!$A$2:$E$20133,5,FALSE)","v":"ATAD5"}]
["ENSGALG00000006525",129.459663469999,-1.07244263699364,0.327466200409755,-3.27497199910007,0.00105672447130572,3.4666544118099E-3,{"$f":"VLOOKUP(A1537,'[1]SD vs SY0.45'!$A$2:$E$20133,5,FALSE)","v":"NCAPG2"}]
["ENSGALG00000007157",21.318986339047,-1.07263127991721,0.389610775269739,-2.75308422662231,0.0059036705530008,0.015884729171313,{"$f":"VLOOKUP(A1538,'[1]SD vs SY0.45'!$A$2:$E$20133,5,FALSE)","v":"TENT5D"}]
["ENSGALG00000036867",126.324063224615,-1.07317732426338,0.243003459796779,-4.41630471089121,{"v":1.00402525495727e-05,"d":"1.00E-05"},{"v":5.37576430463617e-05,"d":"5.38E-05"},{"$f":"VLOOKUP(A1539,'[1]SD vs SY0.45'!$A$2:$E$20133,5,FALSE)","v":"CBX6"}]
["ENSGALG00000004611",200.682600430723,-1.07323232795428,0.194543488370002,-5.51667052414062,{"v":3.45482256878388e-08,"d":"3.45E-08"},{"v":2.9532448379275e-07,"d":"2.95E-07"},{"$f":"VLOOKUP(A1540,'[1]SD vs SY0.45'!$A$2:$E$20133,5,FALSE)","v":"FBXL18"}]
["ENSGALG00000054939",513.511814960355,-1.07359221457957,0.16409822711455,-6.54237546289965,{"v":6.05492529122691e-11,"d":"6.05E-11"},{"v":8.00491997459797e-10,"d":"8.00E-10"},{"$f":"VLOOKUP(A1541,'[1]SD vs SY0.45'!$A$2:$E$20133,5,FALSE)","v":"RAPH1"}]
["ENSGALG00000013100",338.378848525621,-1.07375608837709,0.132771929949026,-8.08722211682342,{"v":6.10408897110002e-16,"d":"6.10E-16"},{"v":1.74558873257428e-14,"d":"1.75E-14"},{"$f":"VLOOKUP(A1542,'[1]SD vs SY0.45'!$A$2:$E$20133,5,FALSE)","v":"GRB10"}]
["ENSGALG00000011618",333.888672316853,-1.07405908412453,0.159168610241363,-6.74793278961114,{"v":1.49966380811735E-11,"d":"1.50E-11"},{"v":2.20039279592713e-10,"d":"2.20E-10"},{"$f":"VLOOKUP(A1543,'[1]SD vs SY0.45'!$A$2:$E$20133,5,FALSE)","v":"ADSS1"}]
["ENSGALG00000036128",419.690777149121,-1.07417057404926,0.121183646419468,-8.8639895380859,{"v":7.72010036279358e-19,"d":"7.72E-19"},{"v":3.13620058429654e-17,"d":"3.14E-17"},{"$f":"VLOOKUP(A1544,'[1]SD vs SY0.45'!$A$2:$E$20133,5,FALSE)","v":"ZNF407"}]
["ENSGALG00000054256",121.054245178095,-1.07509171974818,0.20832962214944,-5.16053218287408,{"v":2.46248824434642e-07,"d":"2.46E-07"},{"v":1.80884170276515e-06,"d":"1.81E-06"},{"$f":"VLOOKUP(A1545,'[1]SD vs SY0.45'!$A$2:$E$20133,5,FALSE)","v":"HAUS3"}]
["ENSGALG00000035940",529.959698135845,-1.07556899268557,0.154119958365412,-6.97877811604021,{"v":2.97758300131946e-12,"d":"2.98E-12"},{"v":4.8840788343341e-11,"d":"4.88E-11"},{"$f":"VLOOKUP(A1546,'[1]SD vs SY0.45'!$A$2:$E$20133,5,FALSE)","v":"SLC2A13"}]
["ENSGALG00000005506",98.9716461319599,-1.07638261985323,0.32695387213114,-3.29215437283917,0.000994230210273973,0.00328372863817539,{"$f":"VLOOKUP(A1547,'[1]SD vs SY0.45'!$A$2:$E$20133,5,FALSE)","v":"HESX1"}]
["ENSGALG00000005037",13.8840046651696,-1.07664688499687,0.445470619780127,-2.41687518141663,0.0156543841639285,0.0371428462688626,{"$f":"VLOOKUP(A1548,'[1]SD vs SY0.45'!$A$2:$E$20133,5,FALSE)","v":"NA"}]
["ENSGALG00000034777",1798.19794285762,-1.0768638616017,0.212529450704808,-5.0668924143478,{"v":4.04362668423643e-07,"d":"4.04E-07"},{"v":2.83608459696728e-06,"d":"2.84E-06"},{"$f":"VLOOKUP(A1549,'[1]SD vs SY0.45'!$A$2:$E$20133,5,FALSE)","v":"VPS13D"}]
["ENSGALG00000010646",40.5367008109994,-1.07712717128622,0.354866875835753,-3.03529927595935,0.00240297113215303,0.00718371029483231,{"$f":"VLOOKUP(A1550,'[1]SD vs SY0.45'!$A$2:$E$20133,5,FALSE)","v":"STOX2"}]
["ENSGALG00000017840",10.8398835862957,-1.07854113931775,0.459341371649,-2.34801654256804,0.0188736830439887,0.0436320605086866,{"$f":"VLOOKUP(A1551,'[1]SD vs SY0.45'!$A$2:$E$20133,5,FALSE)","v":"NA"}]
["ENSGALG00000027207",1702.54316156856,-1.07914255557911,0.424205640986837,-2.54391373266201,0.0109618153523239,0.0273045028390647,{"$f":"VLOOKUP(A1552,'[1]SD vs SY0.45'!$A$2:$E$20133,5,FALSE)","v":"PERP2"}]
["ENSGALG00000029610",292.614624405678,-1.07927159387836,0.200615765311326,-5.37979451516928,{"v":7.4570906146213e-08,"d":"7.46E-08"},{"v":6.00261270909355e-07,"d":"6.00E-07"},{"$f":"VLOOKUP(A1553,'[1]SD vs SY0.45'!$A$2:$E$20133,5,FALSE)","v":"RGS9"}]
["ENSGALG00000015491",2291.40742612701,-1.07981927729778,0.379860286295777,-2.84267483665555,0.00447366864497909,0.0124633354799313,{"$f":"VLOOKUP(A1554,'[1]SD vs SY0.45'!$A$2:$E$20133,5,FALSE)","v":"GPR89A,GPR89A"}]
["ENSGALG00000007448",56.902798960094,-1.08036731255712,0.429896995538669,-2.51308411961196,0.0119680793875503,0.02944933432088,{"$f":"VLOOKUP(A1555,'[1]SD vs SY0.45'!$A$2:$E$20133,5,FALSE)","v":"SPRY3"}]
["ENSGALG00000023444",30.5416714884674,-1.08058700980555,0.40273504140265,-2.68312140419188,0.00729385071040793,0.019076140538788,{"$f":"VLOOKUP(A1556,'[1]SD vs SY0.45'!$A$2:$E$20133,5,FALSE)","v":"APELA"}]
["ENSGALG00000003478",22.0941865596123,-1.08103850832179,0.362384339371733,-2.9831270032143,0.00285319572003772,0.00839539382848482,{"$f":"VLOOKUP(A1557,'[1]SD vs SY0.45'!$A$2:$E$20133,5,FALSE)","v":"GFI1B"}]
["ENSGALG00000015033",1303.13564657783,-1.08270220522566,0.127908530883495,-8.46465984518134,{"v":2.5690136226851e-17,"d":"2.57E-17"},{"v":8.41194724249073e-16,"d":"8.41E-16"},{"$f":"VLOOKUP(A1558,'[1]SD vs SY0.45'!$A$2:$E$20133,5,FALSE)","v":"REV3L"}]
["ENSGALG00000004329",409.984496464425,-1.0831224025519,0.140615198560238,-7.70274062577879,{"v":1.33178511466899e-14,"d":"1.33E-14"},{"v":3.18073458636673E-13,"d":"3.18E-13"},{"$f":"VLOOKUP(A1559,'[1]SD vs SY0.45'!$A$2:$E$20133,5,FALSE)","v":"IQCE"}]
["ENSGALG00000028253",344.105104212865,-1.08326226120488,0.163355332066665,-6.63132477832312,{"v":3.32687309079248e-11,"d":"3.33E-11"},{"v":4.58718020853362e-10,"d":"4.59E-10"},{"$f":"VLOOKUP(A1560,'[1]SD vs SY0.45'!$A$2:$E$20133,5,FALSE)","v":"ATXN1L"}]
["ENSGALG00000052223",524.467856990686,-1.08329479746311,0.20124017977116,-5.3830939661005,{"v":7.32162916618011e-08,"d":"7.32E-08"},{"v":5.89903458352055e-07,"d":"5.90E-07"},{"$f":"VLOOKUP(A1561,'[1]SD vs SY0.45'!$A$2:$E$20133,5,FALSE)","v":"YPEL1"}]
["ENSGALG00000010763",884.977815481264,-1.08400994796564,0.116452947143726,-9.30856603077424,{"v":1.29569774561675E-20,"d":"1.30E-20"},{"v":6.49230452537129e-19,"d":"6.49E-19"},{"$f":"VLOOKUP(A1562,'[1]SD vs SY0.45'!$A$2:$E$20133,5,FALSE)","v":"TRIP11"}]
["ENSGALG00000042099",168.709953903597,-1.08466045818849,0.455400387593912,-2.38177324336338,0.0172295031781196,0.0403243197951226,{"$f":"VLOOKUP(A1563,'[1]SD vs SY0.45'!$A$2:$E$20133,5,FALSE)","v":"NA"}]
["ENSGALG00000000378",136.12379416693,-1.0847073933959,0.31944633929024,-3.39558561167409,0.000684819534360717,0.00235454958353367,{"$f":"VLOOKUP(A1564,'[1]SD vs SY0.45'!$A$2:$E$20133,5,FALSE)","v":"SLC25A37"}]
["ENSGALG00000017132",384.794871945471,-1.0849526180367,0.133957404365251,-8.09923589649771,{"v":5.53054510970588e-16,"d":"5.53E-16"},{"v":1.58941467475134e-14,"d":"1.59E-14"},{"$f":"VLOOKUP(A1565,'[1]SD vs SY0.45'!$A$2:$E$20133,5,FALSE)","v":"XPO4"}]
["ENSGALG00000005809",768.838301434532,-1.08504182013789,0.278931203069326,-3.88999799304709,1.00245051050871E-4,4.25735393898754E-4,{"$f":"VLOOKUP(A1566,'[1]SD vs SY0.45'!$A$2:$E$20133,5,FALSE)","v":"SEPTIN2"}]
["ENSGALG00000011813",371.362868705874,-1.08506245303056,0.227796913215798,-4.76328865792247,{"v":1.90463077918955E-6,"d":"1.90E-06"},{"v":1.17388276084739e-05,"d":"1.17E-05"},{"$f":"VLOOKUP(A1567,'[1]SD vs SY0.45'!$A$2:$E$20133,5,FALSE)","v":"HEG1"}]
["ENSGALG00000016865",854.128297116682,-1.08624483472327,0.0979071464061921,-11.0946429815932,{"v":1.33190748107107e-28,"d":"1.33E-28"},{"v":1.42072855051428e-26,"d":"1.42E-26"},{"$f":"VLOOKUP(A1568,'[1]SD vs SY0.45'!$A$2:$E$20133,5,FALSE)","v":"TPP2"}]
["ENSGALG00000009260",309.002140676007,-1.08652776832636,0.162908470028815,-6.66955971125493,{"v":2.56571977458876e-11,"d":"2.57E-11"},{"v":3.61215949156071e-10,"d":"3.61E-10"},{"$f":"VLOOKUP(A1569,'[1]SD vs SY0.45'!$A$2:$E$20133,5,FALSE)","v":"TMEM62"}]
["ENSGALG00000019178",330.515890587307,-1.08689959425767,0.14972499021405,-7.25930649722409,{"v":3.89079952459967E-13,"d":"3.89E-13"},{"v":7.39336954472289e-12,"d":"7.39E-12"},{"$f":"VLOOKUP(A1570,'[1]SD vs SY0.45'!$A$2:$E$20133,5,FALSE)","v":"PRDM15"}]
["ENSGALG00000047837",42.2746325108724,-1.0870900422855,0.347504501792972,-3.12827614225598,1.75834896324436E-3,0.00544671537928553,{"$f":"VLOOKUP(A1571,'[1]SD vs SY0.45'!$A$2:$E$20133,5,FALSE)","v":"NA"}]
["ENSGALG00000037611",619.852906555011,-1.08790463792755,0.324962031344761,-3.34778999695924,0.000814587123920914,0.00274792794106134,{"$f":"VLOOKUP(A1572,'[1]SD vs SY0.45'!$A$2:$E$20133,5,FALSE)","v":"MYO3AL"}]
["ENSGALG00000034253",933.000886287544,-1.08828354986808,0.137904936357716,-7.89154890761236,{"v":2.98458822009425e-15,"d":"2.98E-15"},{"v":7.82700382847342e-14,"d":"7.83E-14"},{"$f":"VLOOKUP(A1573,'[1]SD vs SY0.45'!$A$2:$E$20133,5,FALSE)","v":"ZNF644"}]
["ENSGALG00000002860",261.856728876016,-1.0886290771964,0.292544235383557,-3.72124603914716,0.000198242170677522,0.000783193960820286,{"$f":"VLOOKUP(A1574,'[1]SD vs SY0.45'!$A$2:$E$20133,5,FALSE)","v":"MLN"}]
["ENSGALG00000053091",39.0203223971394,-1.0891942419192,0.3006932291477,-3.62227724583777,0.000292020895659099,0.0011069037089219,{"$f":"VLOOKUP(A1575,'[1]SD vs SY0.45'!$A$2:$E$20133,5,FALSE)","v":"NA"}]
["ENSGALG00000030773",526.855837389609,-1.08981638967364,0.123656254015037,-8.81327352469464,{"v":1.21543512582884E-18,"d":"1.22E-18"},{"v":4.8081766027431e-17,"d":"4.81E-17"},{"$f":"VLOOKUP(A1576,'[1]SD vs SY0.45'!$A$2:$E$20133,5,FALSE)","v":"CP"}]
["ENSGALG00000014924",208.325513744787,-1.09054319292196,0.216854315158308,-5.02892087771385,{"v":4.93247856077298e-07,"d":"4.93E-07"},{"v":3.4045654917094e-06,"d":"3.40E-06"},{"$f":"VLOOKUP(A1577,'[1]SD vs SY0.45'!$A$2:$E$20133,5,FALSE)","v":"POLQ"}]
["ENSGALG00000042725",371.833690551635,-1.09134959067439,0.0978440132389933,-11.1539741119231,{"v":6.84780959248222e-29,"d":"6.85E-29"},{"v":7.44142908653052e-27,"d":"7.44E-27"},{"$f":"VLOOKUP(A1578,'[1]SD vs SY0.45'!$A$2:$E$20133,5,FALSE)","v":"ZC4H2"}]
["ENSGALG00000047909",41.4781257817018,-1.09141389838415,0.403532497951893,-2.70464932545349,0.0068376529854413,0.0180541036382487,{"$f":"VLOOKUP(A1579,'[1]SD vs SY0.45'!$A$2:$E$20133,5,FALSE)","v":"NA"}]
["ENSGALG00000011275",155.744201365065,-1.09153740681614,0.233666402538898,-4.67134938936902,{"v":2.99227462270896E-6,"d":"2.99E-06"},{"v":1.77990690609102e-05,"d":"1.78E-05"},{"$f":"VLOOKUP(A1580,'[1]SD vs SY0.45'!$A$2:$E$20133,5,FALSE)","v":"DEPDC1"}]
["ENSGALG00000026192",155.365965912789,-1.09158729777204,0.255658865713041,-4.26970249878707,{"v":1.95733871462369E-5,"d":"1.96E-05"},{"v":9.7878194510101e-05,"d":"9.79E-05"},{"$f":"VLOOKUP(A1581,'[1]SD vs SY0.45'!$A$2:$E$20133,5,FALSE)","v":"ST8SIA4"}]
["ENSGALG00000042105",386.59621015784,-1.09178217201358,0.261459616994645,-4.1757200770165,{"v":2.97044913818488e-05,"d":"2.97E-05"},1.4294824014841E-4,{"$f":"VLOOKUP(A1582,'[1]SD vs SY0.45'!$A$2:$E$20133,5,FALSE)","v":"PLCB2"}]
["ENSGALG00000012608",839.128053735238,-1.0918351818766,0.203115208570361,-5.37544770557337,{"v":7.63926221782184e-08,"d":"7.64E-08"},{"v":6.13788596031739e-07,"d":"6.14E-07"},{"$f":"VLOOKUP(A1583,'[1]SD vs SY0.45'!$A$2:$E$20133,5,FALSE)","v":"DAPK1"}]
["ENSGALG00000017050",58.8846195428732,-1.09184829064629,0.309417617197828,-3.52872050575002,4.17573898380874E-4,0.00151953900610051,{"$f":"VLOOKUP(A1584,'[1]SD vs SY0.45'!$A$2:$E$20133,5,FALSE)","v":"SMAD9"}]
["ENSGALG00000014209",241.384754387615,-1.09266044291968,0.156283747792012,-6.9915167658625,{"v":2.71930122094976E-12,"d":"2.72E-12"},{"v":4.49007505495284E-11,"d":"4.49E-11"},{"$f":"VLOOKUP(A1585,'[1]SD vs SY0.45'!$A$2:$E$20133,5,FALSE)","v":"GPR155"}]
["ENSGALG00000006860",207.189264511751,-1.09273929417887,0.163663956975013,-6.67672537298914,{"v":2.44340198142678E-11,"d":"2.44E-11"},{"v":3.45674778283706E-10,"d":"3.46E-10"},{"$f":"VLOOKUP(A1586,'[1]SD vs SY0.45'!$A$2:$E$20133,5,FALSE)","v":"KIF3A"}]
["ENSGALG00000010562",55.7815055528555,-1.09315028566835,0.255811353997386,-4.27326726740799,{"v":1.92629330873112e-05,"d":"1.93E-05"},{"v":9.64922551394641e-05,"d":"9.65E-05"},{"$f":"VLOOKUP(A1587,'[1]SD vs SY0.45'!$A$2:$E$20133,5,FALSE)","v":"CEP128"}]
["ENSGALG00000039720",1011.87468853301,-1.0932301418923,0.148554945556262,-7.35909624414533,{"v":1.85159501152349e-13,"d":"1.85E-13"},{"v":3.70468152650851e-12,"d":"3.70E-12"},{"$f":"VLOOKUP(A1588,'[1]SD vs SY0.45'!$A$2:$E$20133,5,FALSE)","v":"MAP4K3"}]
["ENSGALG00000053914",65.4024594980057,-1.09353252446934,0.462036834672764,-2.36676481701687,0.0179443315921632,0.0417835935975547,{"$f":"VLOOKUP(A1589,'[1]SD vs SY0.45'!$A$2:$E$20133,5,FALSE)","v":"SLC16A13"}]
["ENSGALG00000009505",733.646530508124,-1.09398765148036,0.330224772646351,-3.31285761123665,0.000923479819552959,0.00308187017707626,{"$f":"VLOOKUP(A1590,'[1]SD vs SY0.45'!$A$2:$E$20133,5,FALSE)","v":"PNPLA8"}]
["ENSGALG00000043044",134.689284435847,-1.09453564445325,0.201510356792789,-5.43165950313288,{"v":5.5832379398692e-08,"d":"5.58E-08"},{"v":4.59204153550169e-07,"d":"4.59E-07"},{"$f":"VLOOKUP(A1591,'[1]SD vs SY0.45'!$A$2:$E$20133,5,FALSE)","v":"IL1R1"}]
["ENSGALG00000010309",21.3524760875975,-1.09459612602819,0.35841461618656,-3.05399410792566,0.00225816515888325,0.00680817021284949,{"$f":"VLOOKUP(A1592,'[1]SD vs SY0.45'!$A$2:$E$20133,5,FALSE)","v":"ZC2HC1C"}]
["ENSGALG00000016506",421.742347241902,-1.09638721848678,0.135996737091078,-8.06186414422958,{"v":7.51396821329664e-16,"d":"7.51E-16"},{"v":2.12086632020436e-14,"d":"2.12E-14"},{"$f":"VLOOKUP(A1593,'[1]SD vs SY0.45'!$A$2:$E$20133,5,FALSE)","v":"ZNF512"}]
["ENSGALG00000028186",154.480822029587,-1.09703564346786,0.305141867664738,-3.59516592024396,0.000324184899200903,0.00121347746876342,{"$f":"VLOOKUP(A1594,'[1]SD vs SY0.45'!$A$2:$E$20133,5,FALSE)","v":"RERG"}]
["ENSGALG00000006562",373.080321403544,-1.0977469643172,0.373971407359504,-2.93537672323146,0.00333142956292764,9.60112146703513E-3,{"$f":"VLOOKUP(A1595,'[1]SD vs SY0.45'!$A$2:$E$20133,5,FALSE)","v":"MCF2"}]
["ENSGALG00000005206",631.17363221069,-1.09775984530126,0.217824275818464,-5.03965795904279,{"v":4.66364577996406e-07,"d":"4.66E-07"},{"v":3.23079854560589E-6,"d":"3.23E-06"},{"$f":"VLOOKUP(A1596,'[1]SD vs SY0.45'!$A$2:$E$20133,5,FALSE)","v":"ACSL3"}]
["ENSGALG00000008875",213.740987485431,-1.09795242450306,0.185874238478774,-5.90696394233479,{"v":3.48469984791288e-09,"d":"3.48E-09"},{"v":3.53698051696796e-08,"d":"3.54E-08"},{"$f":"VLOOKUP(A1597,'[1]SD vs SY0.45'!$A$2:$E$20133,5,FALSE)","v":"PLCB1"}]
["ENSGALG00000005652",1740.72531921415,-1.09842830665751,0.157947928185875,-6.95436983108048,{"v":3.54141455718595E-12,"d":"3.54E-12"},{"v":5.77622653900489e-11,"d":"5.78E-11"},{"$f":"VLOOKUP(A1598,'[1]SD vs SY0.45'!$A$2:$E$20133,5,FALSE)","v":"DIDO1"}]
["ENSGALG00000009915",2801.43774414375,-1.0987252123707,0.166084382275526,-6.61546376195665,{"v":3.70388714149684e-11,"d":"3.70E-11"},{"v":5.06683601331279e-10,"d":"5.07E-10"},{"$f":"VLOOKUP(A1599,'[1]SD vs SY0.45'!$A$2:$E$20133,5,FALSE)","v":"EML4"}]
["ENSGALG00000051869",46.2581273914809,-1.09878641008136,0.294106682539307,-3.73601307047661,0.000186960954457117,0.000741827958727953,{"$f":"VLOOKUP(A1600,'[1]SD vs SY0.45'!$A$2:$E$20133,5,FALSE)","v":"LOC107050650"}]
["ENSGALG00000015438",170.510257558589,-1.09894122219655,0.197482890069807,-5.56474144067919,{"v":2.62541393741906e-08,"d":"2.63E-08"},{"v":2.29272085032171e-07,"d":"2.29E-07"},{"$f":"VLOOKUP(A1601,'[1]SD vs SY0.45'!$A$2:$E$20133,5,FALSE)","v":"MPZL1"}]
["ENSGALG00000049498",13.5452232970852,-1.09942012332825,0.438523766876909,-2.50709358618835,0.0121728477268295,0.029898192319026,{"$f":"VLOOKUP(A1602,'[1]SD vs SY0.45'!$A$2:$E$20133,5,FALSE)","v":"NA"}]
["ENSGALG00000052067",12.9742588205181,-1.09992311296617,0.445847674382446,-2.4670379059164,0.0136235934789881,0.0328990860859953,{"$f":"VLOOKUP(A1603,'[1]SD vs SY0.45'!$A$2:$E$20133,5,FALSE)","v":"NA"}]
["ENSGALG00000011806",8440.90036123251,-1.10024023574179,0.362979284787614,-3.0311378137889,0.00243634018699715,0.00727214277655519,{"$f":"VLOOKUP(A1604,'[1]SD vs SY0.45'!$A$2:$E$20133,5,FALSE)","v":"MUC13"}]
["ENSGALG00000007575",498.936799926845,-1.10067898959536,0.110490346867203,-9.96176608005634,{"v":2.24046819880694e-23,"d":"2.24E-23"},{"v":1.47556896108547E-21,"d":"1.48E-21"},{"$f":"VLOOKUP(A1605,'[1]SD vs SY0.45'!$A$2:$E$20133,5,FALSE)","v":"NA"}]
["ENSGALG00000006840",928.282837919412,-1.10110271000762,0.172130892024663,-6.39689190624687,{"v":1.58571497217212E-10,"d":"1.59E-10"},{"v":1.97640331334456E-9,"d":"1.98E-09"},{"$f":"VLOOKUP(A1606,'[1]SD vs SY0.45'!$A$2:$E$20133,5,FALSE)","v":"AKAP13"}]
["ENSGALG00000016889",178.012580231072,-1.10145624537973,0.147937214804472,-7.44543046072295,{"v":9.66288203251676e-14,"d":"9.66E-14"},{"v":2.04141591615272e-12,"d":"2.04E-12"},{"$f":"VLOOKUP(A1607,'[1]SD vs SY0.45'!$A$2:$E$20133,5,FALSE)","v":"RAP2A"}]
["ENSGALG00000036418",3680.46547417333,-1.10189418681495,0.271820695086439,-4.05375384116558,{"v":5.04022526772459e-05,"d":"5.04E-05"},2.30071926305927E-4,{"$f":"VLOOKUP(A1608,'[1]SD vs SY0.45'!$A$2:$E$20133,5,FALSE)","v":"ANXA13"}]
["ENSGALG00000017000",197.347124352296,-1.10297634964295,0.16255842253134,-6.7851073630485,{"v":1.16000214022689E-11,"d":"1.16E-11"},{"v":1.73720561689275E-10,"d":"1.74E-10"},{"$f":"VLOOKUP(A1609,'[1]SD vs SY0.45'!$A$2:$E$20133,5,FALSE)","v":"RCBTB2"}]
["ENSGALG00000008098",984.120038533049,-1.10315682780969,0.199353915449707,-5.53366020086019,{"v":3.13616271167675e-08,"d":"3.14E-08"},{"v":2.69675870761245e-07,"d":"2.70E-07"},{"$f":"VLOOKUP(A1610,'[1]SD vs SY0.45'!$A$2:$E$20133,5,FALSE)","v":"NAMPTP1"}]
["ENSGALG00000031009",299.561561942501,-1.10331313794621,0.154133511020526,-7.15816522079539,{"v":8.17639765761018E-13,"d":"8.18E-13"},{"v":1.47625156877329e-11,"d":"1.48E-11"},{"$f":"VLOOKUP(A1611,'[1]SD vs SY0.45'!$A$2:$E$20133,5,FALSE)","v":"ARHGEF7"}]
["ENSGALG00000016883",1079.31939861757,-1.10369035903589,0.109719837477908,-10.0591687374502,{"v":8.37020885734288e-24,"d":"8.37E-24"},{"v":5.77511196042145e-22,"d":"5.78E-22"},{"$f":"VLOOKUP(A1612,'[1]SD vs SY0.45'!$A$2:$E$20133,5,FALSE)","v":"DOCK9"}]
["ENSGALG00000011366",14.8692099270828,-1.10395596093467,0.421323287458054,-2.62021111530556,0.0087875347511666,0.0225352310794298,{"$f":"VLOOKUP(A1613,'[1]SD vs SY0.45'!$A$2:$E$20133,5,FALSE)","v":"MOK"}]
["ENSGALG00000014773",1419.89999654871,-1.1049034273711,0.0917850360835731,-12.0379473007457,{"v":2.24471738577266e-33,"d":"2.24E-33"},{"v":3.6819718100405e-31,"d":"3.68E-31"},{"$f":"VLOOKUP(A1614,'[1]SD vs SY0.45'!$A$2:$E$20133,5,FALSE)","v":"ERBIN"}]
["ENSGALG00000014064",36.7571363910614,-1.10522366013506,0.289713864357568,-3.81488011485353,0.000136249063000882,0.00056017083433349,{"$f":"VLOOKUP(A1615,'[1]SD vs SY0.45'!$A$2:$E$20133,5,FALSE)","v":"NA"}]
["ENSGALG00000013720",83.1249914371422,-1.10670460120875,0.362990005433684,-3.04885695099651,0.00229713834928629,0.00691248606421613,{"$f":"VLOOKUP(A1616,'[1]SD vs SY0.45'!$A$2:$E$20133,5,FALSE)","v":"FBXO15"}]
["ENSGALG00000012917",65.4071932158074,-1.10784033848749,0.28789415972758,-3.84808201575116,1.19046201695403E-4,0.000496214779743337,{"$f":"VLOOKUP(A1617,'[1]SD vs SY0.45'!$A$2:$E$20133,5,FALSE)","v":"CDH6"}]
["ENSGALG00000016622",383.312711528386,-1.10802062767356,0.177408086681186,-6.24560384141195,{"v":4.22165948205916e-10,"d":"4.22E-10"},{"v":4.95624533521692e-09,"d":"4.96E-09"},{"$f":"VLOOKUP(A1618,'[1]SD vs SY0.45'!$A$2:$E$20133,5,FALSE)","v":"STS"}]
["ENSGALG00000004108",759.127354654535,-1.10839617136915,0.136587153624374,-8.11493718082255,{"v":4.86036175474988e-16,"d":"4.86E-16"},{"v":1.40845183049727e-14,"d":"1.41E-14"},{"$f":"VLOOKUP(A1619,'[1]SD vs SY0.45'!$A$2:$E$20133,5,FALSE)","v":"NA"}]
["ENSGALG00000029435",98.6842455527451,-1.10880135589257,0.278846473597942,-3.97638650970107,{"v":6.99703680232143e-05,"d":"7.00E-05"},3.08462167550615E-4,{"$f":"VLOOKUP(A1620,'[1]SD vs SY0.45'!$A$2:$E$20133,5,FALSE)","v":"CYP7B1"}]
["ENSGALG00000038782",309.478036796522,-1.11091981045098,0.289528741651608,-3.83699319146613,0.000124549923810883,5.16344665069105E-4,{"$f":"VLOOKUP(A1621,'[1]SD vs SY0.45'!$A$2:$E$20133,5,FALSE)","v":"ZC3H12D"}]
["ENSGALG00000009740",602.725809232869,-1.11156570898172,0.252123714390925,-4.40881061770414,{"v":1.03939864695711e-05,"d":"1.04E-05"},{"v":5.54356572841817e-05,"d":"5.54E-05"},{"$f":"VLOOKUP(A1622,'[1]SD vs SY0.45'!$A$2:$E$20133,5,FALSE)","v":"RASGRP1"}]
["ENSGALG00000040189",582.881363723035,-1.1123393183681,0.405380178035057,-2.7439410672712,0.00607064350894848,0.0162660315441651,{"$f":"VLOOKUP(A1623,'[1]SD vs SY0.45'!$A$2:$E$20133,5,FALSE)","v":"RIPK4"}]
["ENSGALG00000014614",611.270862883792,-1.11253769733985,0.1363326288176,-8.16046537786869,{"v":3.33736217419168E-16,"d":"3.34E-16"},{"v":9.85173448602219e-15,"d":"9.85E-15"},{"$f":"VLOOKUP(A1624,'[1]SD vs SY0.45'!$A$2:$E$20133,5,FALSE)","v":"TNKS2"}]
["ENSGALG00000040152",264.158698344386,-1.11266414877312,0.241347139039489,-4.61022307205005,{"v":4.02237126802621e-06,"d":"4.02E-06"},{"v":2.33278749957211E-5,"d":"2.33E-05"},{"$f":"VLOOKUP(A1625,'[1]SD vs SY0.45'!$A$2:$E$20133,5,FALSE)","v":"CCNJL"}]
["ENSGALG00000006925",357.449354491228,-1.11300789441668,0.141591370227656,-7.86070431147852,{"v":3.81979520307659e-15,"d":"3.82E-15"},{"v":9.82467147868234e-14,"d":"9.82E-14"},{"$f":"VLOOKUP(A1626,'[1]SD vs SY0.45'!$A$2:$E$20133,5,FALSE)","v":"CCP110"}]
["ENSGALG00000037629",1081.65872448776,-1.1137253209398,0.304669373062286,-3.65552109733101,2.5666009877356E-4,0.00098716315421255,{"$f":"VLOOKUP(A1627,'[1]SD vs SY0.45'!$A$2:$E$20133,5,FALSE)","v":"TRANK1"}]
["ENSGALG00000012579",1044.83808554464,-1.11378705535879,0.146632748035412,-7.59575927124963,{"v":3.059929078547e-14,"d":"3.06E-14"},{"v":6.93650415758757E-13,"d":"6.94E-13"},{"$f":"VLOOKUP(A1628,'[1]SD vs SY0.45'!$A$2:$E$20133,5,FALSE)","v":"BAZ2B"}]
["ENSGALG00000010119",754.183058116361,-1.11503698677655,0.337368116917357,-3.3051048124079,0.000949408881711408,0.00315930568924713,{"$f":"VLOOKUP(A1629,'[1]SD vs SY0.45'!$A$2:$E$20133,5,FALSE)","v":"CDKL2"}]
["ENSGALG00000042354",159.479542565246,-1.11647600867322,0.264456468045983,-4.22177614683672,{"v":2.42384766289342e-05,"d":"2.42E-05"},1.19049263600926E-4,{"$f":"VLOOKUP(A1630,'[1]SD vs SY0.45'!$A$2:$E$20133,5,FALSE)","v":"PREX2"}]
["ENSGALG00000002326",1957.3383388549,-1.1165528416132,0.105746740490206,-10.5587447559824,{"v":4.62809051250408e-26,"d":"4.63E-26"},{"v":4.01386397467894E-24,"d":"4.01E-24"},{"$f":"VLOOKUP(A1631,'[1]SD vs SY0.45'!$A$2:$E$20133,5,FALSE)","v":"ATP8B4"}]
["ENSGALG00000014510",2475.22972221647,-1.1168137101868,0.260965257240396,-4.27954940054726,{"v":1.87272069418498e-05,"d":"1.87E-05"},{"v":9.40253962165587e-05,"d":"9.40E-05"},{"$f":"VLOOKUP(A1632,'[1]SD vs SY0.45'!$A$2:$E$20133,5,FALSE)","v":"FBXL5"}]
["ENSGALG00000005932",13.319854580623,-1.11682057417002,0.464799000564335,-2.40280330382388,0.0162699360928212,0.0383866302166416,{"$f":"VLOOKUP(A1633,'[1]SD vs SY0.45'!$A$2:$E$20133,5,FALSE)","v":"MYT1"}]
["ENSGALG00000004285",2075.45601807401,-1.11766479345417,0.36306668594656,-3.07840084677634,0.00208114772352244,0.00634266704099644,{"$f":"VLOOKUP(A1634,'[1]SD vs SY0.45'!$A$2:$E$20133,5,FALSE)","v":"HNF4A"}]
["ENSGALG00000039935",88.8391406568613,-1.11770146649823,0.298247861636062,-3.74755902814186,0.000178563823373284,0.000712902226634052,{"$f":"VLOOKUP(A1635,'[1]SD vs SY0.45'!$A$2:$E$20133,5,FALSE)","v":"PDE1C"}]
["ENSGALG00000005403",1290.50413260872,-1.11773510600501,0.324609980956135,-3.44331712386889,0.000574625073964495,0.00201553483175725,{"$f":"VLOOKUP(A1636,'[1]SD vs SY0.45'!$A$2:$E$20133,5,FALSE)","v":"DHRS11"}]
["ENSGALG00000011168",192.741549211167,-1.1177773304134,0.170575227517469,-6.55298748054686,{"v":5.6397246363046e-11,"d":"5.64E-11"},{"v":7.52554813901981e-10,"d":"7.53E-10"},{"$f":"VLOOKUP(A1637,'[1]SD vs SY0.45'!$A$2:$E$20133,5,FALSE)","v":"C12orf29"}]
["ENSGALG00000054345",145.645985930154,-1.11823061089557,0.211378400724527,-5.29018389325819,{"v":1.2219343938226e-07,"d":"1.22E-07"},{"v":9.5016875247735e-07,"d":"9.50E-07"},{"$f":"VLOOKUP(A1638,'[1]SD vs SY0.45'!$A$2:$E$20133,5,FALSE)","v":"RFKL"}]
["ENSGALG00000009800",401.004198041112,-1.11853420823886,0.199018116529455,-5.62026325916572,{"v":1.90666697383082E-8,"d":"1.91E-08"},{"v":1.70093477034359e-07,"d":"1.70E-07"},{"$f":"VLOOKUP(A1639,'[1]SD vs SY0.45'!$A$2:$E$20133,5,FALSE)","v":"SETD7"}]
["ENSGALG00000054252",28.7605158582251,-1.11876420818803,0.477002403593105,-2.34540580877736,0.019006380246921,0.0438921414999623,{"$f":"VLOOKUP(A1640,'[1]SD vs SY0.45'!$A$2:$E$20133,5,FALSE)","v":"TM4SF1"}]
["ENSGALG00000041787",327.122825217555,-1.11898819817375,0.216716306991752,-5.16337793729727,{"v":2.42532756712274e-07,"d":"2.43E-07"},{"v":1.78456074522062e-06,"d":"1.78E-06"},{"$f":"VLOOKUP(A1641,'[1]SD vs SY0.45'!$A$2:$E$20133,5,FALSE)","v":"PLA2G15"}]
["ENSGALG00000011342",205.025310072843,-1.11922548811381,0.221891143707097,-5.04402956068955,{"v":4.55828832033789e-07,"d":"4.56E-07"},{"v":3.16766422964488E-6,"d":"3.17E-06"},{"$f":"VLOOKUP(A1642,'[1]SD vs SY0.45'!$A$2:$E$20133,5,FALSE)","v":"FGD6"}]
["ENSGALG00000015453",12.5455711299056,-1.11948502719895,0.432580447952866,-2.58792331575958,0.00965564734593471,0.0244548784273513,{"$f":"VLOOKUP(A1643,'[1]SD vs SY0.45'!$A$2:$E$20133,5,FALSE)","v":"DUSP27"}]
["ENSGALG00000015433",489.742733328883,-1.12063311362491,0.294143466179218,-3.80981814140357,1.39069048818183E-4,0.000570685284824582,{"$f":"VLOOKUP(A1644,'[1]SD vs SY0.45'!$A$2:$E$20133,5,FALSE)","v":"ABCA1"}]
["ENSGALG00000014453",408.623321011597,-1.12092817535201,0.351905312275854,-3.18531189001583,0.00144598076198068,0.00458865988475234,{"$f":"VLOOKUP(A1645,'[1]SD vs SY0.45'!$A$2:$E$20133,5,FALSE)","v":"FAM46C"}]
["ENSGALG00000040879",305.362533465792,-1.12154930155195,0.119888185524826,-9.35496101339946,{"v":8.36305534476384e-21,"d":"8.36E-21"},{"v":4.23931321514311E-19,"d":"4.24E-19"},{"$f":"VLOOKUP(A1646,'[1]SD vs SY0.45'!$A$2:$E$20133,5,FALSE)","v":"NUDCD1"}]
["ENSGALG00000051905",379.737281400742,-1.12182693149302,0.416792366294486,-2.6915726443521,0.00711160084672384,0.0186781576921431,{"$f":"VLOOKUP(A1647,'[1]SD vs SY0.45'!$A$2:$E$20133,5,FALSE)","v":"PPP1R14D"}]
["ENSGALG00000015331",3026.67490202364,-1.12252575963617,0.180815700147377,-6.20812107975819,{"v":5.36218316242413e-10,"d":"5.36E-10"},{"v":6.19895469714551E-9,"d":"6.20E-09"},{"$f":"VLOOKUP(A1648,'[1]SD vs SY0.45'!$A$2:$E$20133,5,FALSE)","v":"GNE"}]
["ENSGALG00000006192",1964.80640289505,-1.12272453794448,0.323652096930063,-3.46892403477023,5.22547184744962E-4,1.84928310628143E-3,{"$f":"VLOOKUP(A1649,'[1]SD vs SY0.45'!$A$2:$E$20133,5,FALSE)","v":"USH1C"}]
["ENSGALG00000051773",27.2094327540052,-1.12282232911179,0.451120110619794,-2.48896536128514,0.0128115447260559,0.0312024552671151,{"$f":"VLOOKUP(A1650,'[1]SD vs SY0.45'!$A$2:$E$20133,5,FALSE)","v":"JHY"}]
["ENSGALG00000039349",97.1608703880503,-1.1230654305806,0.274179767072545,-4.09609156274265,{"v":4.20183797395853E-5,"d":"4.20E-05"},0.000195236122002183,{"$f":"VLOOKUP(A1651,'[1]SD vs SY0.45'!$A$2:$E$20133,5,FALSE)","v":"DISC1"}]
["ENSGALG00000009036",828.906337933019,-1.12340139914559,0.178607433184239,-6.2897796531613,{"v":3.17916904885307E-10,"d":"3.18E-10"},{"v":3.79123540825846E-9,"d":"3.79E-09"},{"$f":"VLOOKUP(A1652,'[1]SD vs SY0.45'!$A$2:$E$20133,5,FALSE)","v":"GANC"}]
["ENSGALG00000005929",416.834439765831,-1.12476416465209,0.183512737662297,-6.12907953409696,{"v":8.83889357902138e-10,"d":"8.84E-10"},{"v":9.87038167363165e-09,"d":"9.87E-09"},{"$f":"VLOOKUP(A1653,'[1]SD vs SY0.45'!$A$2:$E$20133,5,FALSE)","v":"NA"}]
["ENSGALG00000013742",10033.4290984255,-1.12570686548872,0.362855739938922,-3.10235374994538,1.91988385975273E-3,0.00589562357285777,{"$f":"VLOOKUP(A1654,'[1]SD vs SY0.45'!$A$2:$E$20133,5,FALSE)","v":"EZR"}]
["ENSGALG00000028254",523.819472655213,-1.12583667704716,0.147107722082893,-7.65314465553868,{"v":1.96123078446051e-14,"d":"1.96E-14"},{"v":4.58949120449729e-13,"d":"4.59E-13"},{"$f":"VLOOKUP(A1655,'[1]SD vs SY0.45'!$A$2:$E$20133,5,FALSE)","v":"WASHC4"}]
["ENSGALG00000011673",13.2153263721544,-1.1272958715071,0.492081016032193,-2.29087454053165,0.0219706708652995,0.0496964390070966,{"$f":"VLOOKUP(A1656,'[1]SD vs SY0.45'!$A$2:$E$20133,5,FALSE)","v":"STX11"}]
["ENSGALG00000015682",439.352403474637,-1.12909238692244,0.207352056104325,-5.44529149184979,{"v":5.17206170240896e-08,"d":"5.17E-08"},{"v":4.28018261874272e-07,"d":"4.28E-07"},{"$f":"VLOOKUP(A1657,'[1]SD vs SY0.45'!$A$2:$E$20133,5,FALSE)","v":"UGCG"}]
["ENSGALG00000009428",1352.55937871891,-1.12910621725001,0.128445012784912,-8.79058044192622,{"v":1.48789231869856e-18,"d":"1.49E-18"},{"v":5.81347949330602e-17,"d":"5.81E-17"},{"$f":"VLOOKUP(A1658,'[1]SD vs SY0.45'!$A$2:$E$20133,5,FALSE)","v":"SUSD6"}]
["ENSGALG00000016132",1183.79890824601,-1.12913850094167,0.275141247166806,-4.1038503407565,{"v":4.0633037064442e-05,"d":"4.06E-05"},1.89457392180062E-4,{"$f":"VLOOKUP(A1659,'[1]SD vs SY0.45'!$A$2:$E$20133,5,FALSE)","v":"IGSF5"}]
["ENSGALG00000004355",1355.94415309101,-1.12922174210565,0.288535027620974,-3.91363832466477,{"v":9.09157801342692e-05,"d":"9.09E-05"},0.000390212952158613,{"$f":"VLOOKUP(A1660,'[1]SD vs SY0.45'!$A$2:$E$20133,5,FALSE)","v":"MCU"}]
["ENSGALG00000005840",415.814079064863,-1.13067281034289,0.150752470873172,-7.50019421767309,{"v":6.37233446793382e-14,"d":"6.37E-14"},{"v":1.38321821965E-12,"d":"1.38E-12"},{"$f":"VLOOKUP(A1661,'[1]SD vs SY0.45'!$A$2:$E$20133,5,FALSE)","v":"DENND5A"}]
["ENSGALG00000012207",459.109417403919,-1.13073028836944,0.127993958264262,-8.83424736373016,{"v":1.00774433962299e-18,"d":"1.01E-18"},{"v":4.0465706311836E-17,"d":"4.05E-17"},{"$f":"VLOOKUP(A1662,'[1]SD vs SY0.45'!$A$2:$E$20133,5,FALSE)","v":"CCNT2"}]
["ENSGALG00000002159",10319.2801940024,-1.13267470827322,0.341270413419204,-3.31899474356684,0.00090342129974948,0.00302363544537906,{"$f":"VLOOKUP(A1663,'[1]SD vs SY0.45'!$A$2:$E$20133,5,FALSE)","v":"ACOX1"}]
["ENSGALG00000016897",279.32282408691,-1.13307214222206,0.234346042042606,-4.8350385282635,{"v":1.33119849493539E-6,"d":"1.33E-06"},{"v":8.49689729494923e-06,"d":"8.50E-06"},{"$f":"VLOOKUP(A1664,'[1]SD vs SY0.45'!$A$2:$E$20133,5,FALSE)","v":"GPR180"}]
["ENSGALG00000029322",104.064666863527,-1.13431132112525,0.263114970134884,-4.31108621658339,{"v":1.62454543555604e-05,"d":"1.62E-05"},{"v":8.26872701639722e-05,"d":"8.27E-05"},{"$f":"VLOOKUP(A1665,'[1]SD vs SY0.45'!$A$2:$E$20133,5,FALSE)","v":"FBXO39"}]
["ENSGALG00000035761",539.250173832487,-1.13509877237756,0.398416723739808,-2.84902391075043,0.00438535845425697,0.0122487112360106,{"$f":"VLOOKUP(A1666,'[1]SD vs SY0.45'!$A$2:$E$20133,5,FALSE)","v":"ACCSL"}]
["ENSGALG00000042522",804.415974191604,-1.13580404147151,0.211359499404992,-5.3738017201449,{"v":7.70936317068082e-08,"d":"7.71E-08"},{"v":6.18849018691724E-7,"d":"6.19E-07"},{"$f":"VLOOKUP(A1667,'[1]SD vs SY0.45'!$A$2:$E$20133,5,FALSE)","v":"ZDHHC7"}]
["ENSGALG00000004621",865.146791270315,-1.13597253429681,0.200800845918502,-5.6572099041747,{"v":1.53853557416496E-8,"d":"1.54E-08"},{"v":1.39108258075955e-07,"d":"1.39E-07"},{"$f":"VLOOKUP(A1668,'[1]SD vs SY0.45'!$A$2:$E$20133,5,FALSE)","v":"PREX1"}]
["ENSGALG00000034860",5865.78828026866,-1.13618503791627,0.311778535983714,-3.64420544323687,2.68219115502174E-4,1.02652999366856E-3,{"$f":"VLOOKUP(A1669,'[1]SD vs SY0.45'!$A$2:$E$20133,5,FALSE)","v":"BCHE"}]
["ENSGALG00000040156",2847.43168134088,-1.13678005543445,0.122345143397753,-9.29158300741609,{"v":1.52010418601622e-20,"d":"1.52E-20"},{"v":7.57308065394387e-19,"d":"7.57E-19"},{"$f":"VLOOKUP(A1670,'[1]SD vs SY0.45'!$A$2:$E$20133,5,FALSE)","v":"CCDC88C"}]
["ENSGALG00000000430",493.477359959926,-1.13783741459744,0.155470191916888,-7.31868534133999,{"v":2.50411990495246e-13,"d":"2.50E-13"},{"v":4.88654688972037e-12,"d":"4.89E-12"},{"$f":"VLOOKUP(A1671,'[1]SD vs SY0.45'!$A$2:$E$20133,5,FALSE)","v":"SPPL2C"}]
["ENSGALG00000002551",56.0504331370275,-1.13932250835237,0.322899579219204,-3.52841125128543,0.000418062105548907,0.00152099724402152,{"$f":"VLOOKUP(A1672,'[1]SD vs SY0.45'!$A$2:$E$20133,5,FALSE)","v":"CFAP70"}]
["ENSGALG00000014831",211.417138009975,-1.1396588666995,0.166521596226974,-6.84391029465098,{"v":7.70601870460769e-12,"d":"7.71E-12"},{"v":1.18991604988467e-10,"d":"1.19E-10"},{"$f":"VLOOKUP(A1673,'[1]SD vs SY0.45'!$A$2:$E$20133,5,FALSE)","v":"TRMT11"}]
["ENSGALG00000008010",436.792903131595,-1.13971201379971,0.169033332457589,-6.74252821753758,{"v":1.55653999975376e-11,"d":"1.56E-11"},{"v":2.27424882148896e-10,"d":"2.27E-10"},{"$f":"VLOOKUP(A1674,'[1]SD vs SY0.45'!$A$2:$E$20133,5,FALSE)","v":"PTPN1"}]
["ENSGALG00000011084",26.5499617990022,-1.13999785901296,0.365344327083432,-3.12033819743046,0.00180643508884498,0.00558472384241602,{"$f":"VLOOKUP(A1675,'[1]SD vs SY0.45'!$A$2:$E$20133,5,FALSE)","v":"CCSAP"}]
["ENSGALG00000009177",929.203927273219,-1.14011297601027,0.114667900876355,-9.94273870278342,{"v":2.71264778400042e-23,"d":"2.71E-23"},{"v":1.76647217304927e-21,"d":"1.77E-21"},{"$f":"VLOOKUP(A1676,'[1]SD vs SY0.45'!$A$2:$E$20133,5,FALSE)","v":"FMR1"}]
["ENSGALG00000004627",729.055116307113,-1.140197419345,0.403050456195664,-2.82891980847054,0.00467054003124733,0.0129474935464441,{"$f":"VLOOKUP(A1677,'[1]SD vs SY0.45'!$A$2:$E$20133,5,FALSE)","v":"NA"}]
["ENSGALG00000032776",237.712993962623,-1.14029393468699,0.204090537246546,-5.58719649657,{"v":2.30764569201975E-8,"d":"2.31E-08"},{"v":2.03360545601355e-07,"d":"2.03E-07"},{"$f":"VLOOKUP(A1678,'[1]SD vs SY0.45'!$A$2:$E$20133,5,FALSE)","v":"WDR7"}]
["ENSGALG00000017120",519.403405990274,-1.14039663742882,0.151270066821389,-7.53881228052435,{"v":4.74271095048304e-14,"d":"4.74E-14"},{"v":1.05046516300699e-12,"d":"1.05E-12"},{"$f":"VLOOKUP(A1679,'[1]SD vs SY0.45'!$A$2:$E$20133,5,FALSE)","v":"SACS"}]
["ENSGALG00000004899",10491.4040734607,-1.14094499116363,0.405098381777384,-2.81646395662626,0.00485554908736061,0.0133793077625894,{"$f":"VLOOKUP(A1680,'[1]SD vs SY0.45'!$A$2:$E$20133,5,FALSE)","v":"PEPD"}]
["ENSGALG00000031734",755.475117624055,-1.14140642190597,0.387960476208418,-2.9420688237654,0.00326027459029256,0.00942103943849374,{"$f":"VLOOKUP(A1681,'[1]SD vs SY0.45'!$A$2:$E$20133,5,FALSE)","v":"AQP11"}]
["ENSGALG00000017309",157.576139322194,-1.14143765492195,0.235859490462738,-4.83948156032446,{"v":1.30178268446482E-6,"d":"1.30E-06"},{"v":8.32441910069502e-06,"d":"8.32E-06"},{"$f":"VLOOKUP(A1682,'[1]SD vs SY0.45'!$A$2:$E$20133,5,FALSE)","v":"RNF169"}]
["ENSGALG00000009168",304.202400084281,-1.14225766827308,0.178466308347962,-6.40041069290224,{"v":1.5495956779943e-10,"d":"1.55E-10"},{"v":1.93972786560741e-09,"d":"1.94E-09"},{"$f":"VLOOKUP(A1683,'[1]SD vs SY0.45'!$A$2:$E$20133,5,FALSE)","v":"AFF2"}]
["ENSGALG00000006652",646.996805063345,-1.14317759015249,0.164452960438734,-6.95139562767785,{"v":3.61689958486854E-12,"d":"3.62E-12"},{"v":5.88279074668936e-11,"d":"5.88E-11"},{"$f":"VLOOKUP(A1684,'[1]SD vs SY0.45'!$A$2:$E$20133,5,FALSE)","v":"DIP2C"}]
["ENSGALG00000013134",680.731040687763,-1.14334972966645,0.178341269053575,-6.41102160892989,{"v":1.44547704409621E-10,"d":"1.45E-10"},{"v":1.81462161485205E-9,"d":"1.81E-09"},{"$f":"VLOOKUP(A1685,'[1]SD vs SY0.45'!$A$2:$E$20133,5,FALSE)","v":"PLEKHA5"}]
["ENSGALG00000006966",412.113072420515,-1.14335868032379,0.147170788094981,-7.76892408557253,{"v":7.91555878586232e-15,"d":"7.92E-15"},{"v":1.9605102650967e-13,"d":"1.96E-13"},{"$f":"VLOOKUP(A1686,'[1]SD vs SY0.45'!$A$2:$E$20133,5,FALSE)","v":"ZNF518A"}]
["ENSGALG00000008081",577.136085394461,-1.14349482582048,0.215893957139057,-5.29655781464951,{"v":1.18005987827877E-7,"d":"1.18E-07"},{"v":9.21637733223979e-07,"d":"9.22E-07"},{"$f":"VLOOKUP(A1687,'[1]SD vs SY0.45'!$A$2:$E$20133,5,FALSE)","v":"PIK3CG"}]
["ENSGALG00000016792",194.127190287365,-1.14375013618315,0.203789739639877,-5.61240295121976,{"v":1.99536122091314e-08,"d":"2.00E-08"},{"v":1.77641298248934E-7,"d":"1.78E-07"},{"$f":"VLOOKUP(A1688,'[1]SD vs SY0.45'!$A$2:$E$20133,5,FALSE)","v":"MFSD9"}]
["ENSGALG00000041821",875.333605540663,-1.14375117542914,0.151907355702711,-7.52926788922266,{"v":5.10256022953565e-14,"d":"5.10E-14"},{"v":1.12443871623494e-12,"d":"1.12E-12"},{"$f":"VLOOKUP(A1689,'[1]SD vs SY0.45'!$A$2:$E$20133,5,FALSE)","v":"NAA25"}]
["ENSGALG00000000830",88.1161188511889,-1.14516506992157,0.222484710834071,-5.14716299213764,{"v":2.64455529723789e-07,"d":"2.64E-07"},{"v":1.93115846085994e-06,"d":"1.93E-06"},{"$f":"VLOOKUP(A1690,'[1]SD vs SY0.45'!$A$2:$E$20133,5,FALSE)","v":"NA"}]
["ENSGALG00000012256",2266.48964423936,-1.14523145908239,0.10942761077012,-10.4656535130629,{"v":1.24216408120227E-25,"d":"1.24E-25"},{"v":1.01875032452188E-23,"d":"1.02E-23"},{"$f":"VLOOKUP(A1691,'[1]SD vs SY0.45'!$A$2:$E$20133,5,FALSE)","v":"UTRN"}]
["ENSGALG00000052678",126.908316988427,-1.14604791071712,0.425382180611971,-2.69416059945993,0.0070566154091149,0.0185505552038525,{"$f":"VLOOKUP(A1692,'[1]SD vs SY0.45'!$A$2:$E$20133,5,FALSE)","v":"NA"}]
["ENSGALG00000014675",34.7303423159012,-1.1461790420538,0.286889047015952,-3.99519972608112,{"v":6.46397366764546e-05,"d":"6.46E-05"},0.000286780071853411,{"$f":"VLOOKUP(A1693,'[1]SD vs SY0.45'!$A$2:$E$20133,5,FALSE)","v":"RHOBTB3"}]
["ENSGALG00000002242",71.6884792396397,-1.14673132752988,0.361961821760376,-3.16810022104771,1.53438616095371E-3,0.00483479017406708,{"$f":"VLOOKUP(A1694,'[1]SD vs SY0.45'!$A$2:$E$20133,5,FALSE)","v":"GALNT9"}]
["ENSGALG00000028994",152.015758018296,-1.14732356920574,0.258534836443636,-4.4377909955507,{"v":9.08868050996594e-06,"d":"9.09E-06"},{"v":4.91523757470538e-05,"d":"4.92E-05"},{"$f":"VLOOKUP(A1695,'[1]SD vs SY0.45'!$A$2:$E$20133,5,FALSE)","v":"SAP30L"}]
["ENSGALG00000039161",67.9781663494228,-1.14786658179613,0.25726776326041,-4.4617583145629,{"v":8.12898784783137e-06,"d":"8.13E-06"},{"v":4.43902989039711E-5,"d":"4.44E-05"},{"$f":"VLOOKUP(A1696,'[1]SD vs SY0.45'!$A$2:$E$20133,5,FALSE)","v":"RUFY2"}]
["ENSGALG00000005284",16.6430493815631,-1.1484588642661,0.418521873550106,-2.74408325310292,0.00606801467032324,0.0162614936918789,{"$f":"VLOOKUP(A1697,'[1]SD vs SY0.45'!$A$2:$E$20133,5,FALSE)","v":"LRRC39"}]
["ENSGALG00000016224",10217.4405392849,-1.14964373037923,0.259680750631558,-4.42714266491925,{"v":9.54895790027326e-06,"d":"9.55E-06"},{"v":5.14176930975693E-5,"d":"5.14E-05"},{"$f":"VLOOKUP(A1698,'[1]SD vs SY0.45'!$A$2:$E$20133,5,FALSE)","v":"MAOA"}]
["ENSGALG00000039102",235.096701364831,-1.15029824119563,0.183652734808424,-6.26344193782662,{"v":3.76571409395333e-10,"d":"3.77E-10"},{"v":4.44799395051403E-9,"d":"4.45E-09"},{"$f":"VLOOKUP(A1699,'[1]SD vs SY0.45'!$A$2:$E$20133,5,FALSE)","v":"TOX"}]
["ENSGALG00000043642",213.413793083917,-1.15057628032417,0.266865441690306,-4.31144727109103,{"v":1.62189454034555e-05,"d":"1.62E-05"},{"v":8.2576516465558E-5,"d":"8.26E-05"},{"$f":"VLOOKUP(A1700,'[1]SD vs SY0.45'!$A$2:$E$20133,5,FALSE)","v":"ANLN"}]
["ENSGALG00000014978",3924.8860968693,-1.1506269925638,0.238991293965298,-4.81451425896239,{"v":1.47558368017058e-06,"d":"1.48E-06"},{"v":9.31927840433195e-06,"d":"9.32E-06"},{"$f":"VLOOKUP(A1701,'[1]SD vs SY0.45'!$A$2:$E$20133,5,FALSE)","v":"IQGAP2"}]
["ENSGALG00000016543",209.366909722105,-1.15063063922683,0.229102918899666,-5.02233077061207,{"v":5.10481702018722E-7,"d":"5.10E-07"},{"v":3.51793315616311E-6,"d":"3.52E-06"},{"$f":"VLOOKUP(A1702,'[1]SD vs SY0.45'!$A$2:$E$20133,5,FALSE)","v":"NHS"}]
["ENSGALG00000031900",13.1013532189413,-1.15143835767771,0.461880257867906,-2.49293694212627,0.0126691343674717,0.0309423007792149,{"$f":"VLOOKUP(A1703,'[1]SD vs SY0.45'!$A$2:$E$20133,5,FALSE)","v":"NA"}]
["ENSGALG00000007098",969.126244510677,-1.15208588513437,0.205818068288361,-5.59759351895306,{"v":2.17347614962777e-08,"d":"2.17E-08"},{"v":1.92414612085428E-7,"d":"1.92E-07"},{"$f":"VLOOKUP(A1704,'[1]SD vs SY0.45'!$A$2:$E$20133,5,FALSE)","v":"KIF21A"}]
["ENSGALG00000003536",625.116113321327,-1.15235170077786,0.113310856754124,-10.1698260324549,{"v":2.70391163219981e-24,"d":"2.70E-24"},{"v":1.95887131454409e-22,"d":"1.96E-22"},{"$f":"VLOOKUP(A1705,'[1]SD vs SY0.45'!$A$2:$E$20133,5,FALSE)","v":"KLHL11"}]
["ENSGALG00000048601",618.795651224174,-1.15285120811961,0.280824207078352,-4.10524156771841,{"v":4.0389259106557E-5,"d":"4.04E-05"},0.000188421799862009,{"$f":"VLOOKUP(A1706,'[1]SD vs SY0.45'!$A$2:$E$20133,5,FALSE)","v":"LRRC66"}]
["ENSGALG00000008474",80.4897097931337,-1.15301429675872,0.250984084231855,-4.59397375848575,{"v":4.34884090615427e-06,"d":"4.35E-06"},{"v":2.50857385246732E-5,"d":"2.51E-05"},{"$f":"VLOOKUP(A1707,'[1]SD vs SY0.45'!$A$2:$E$20133,5,FALSE)","v":"CARF"}]
["ENSGALG00000039178",1164.55406924171,-1.1531045455954,0.126862156462204,-9.08942885531784,{"v":9.95606719763241e-20,"d":"9.96E-20"},{"v":4.50797240534466e-18,"d":"4.51E-18"},{"$f":"VLOOKUP(A1708,'[1]SD vs SY0.45'!$A$2:$E$20133,5,FALSE)","v":"CHD9"}]
["ENSGALG00000037618",286.849102950332,-1.15311415913707,0.184446628500411,-6.2517497257181,{"v":4.05879453351426e-10,"d":"4.06E-10"},{"v":4.7747131633432e-09,"d":"4.77E-09"},{"$f":"VLOOKUP(A1709,'[1]SD vs SY0.45'!$A$2:$E$20133,5,FALSE)","v":"ASAP1"}]
["ENSGALG00000037791",1094.11870307363,-1.15316764014845,0.274941857691454,-4.19422364361326,{"v":2.7380773902699E-5,"d":"2.74E-05"},0.000132868968977457,{"$f":"VLOOKUP(A1710,'[1]SD vs SY0.45'!$A$2:$E$20133,5,FALSE)","v":"FRMD4B"}]
["ENSGALG00000010699",400.061597111951,-1.15407263620198,0.139502144815718,-8.27279492889883,{"v":1.30854659838309E-16,"d":"1.31E-16"},{"v":4.03398930958987e-15,"d":"4.03E-15"},{"$f":"VLOOKUP(A1711,'[1]SD vs SY0.45'!$A$2:$E$20133,5,FALSE)","v":"MIOS"}]
["ENSGALG00000017405",206.000563497585,-1.15429982618056,0.239554158387347,-4.81853387121803,{"v":1.44616977406298e-06,"d":"1.45E-06"},{"v":9.1567931032895e-06,"d":"9.16E-06"},{"$f":"VLOOKUP(A1712,'[1]SD vs SY0.45'!$A$2:$E$20133,5,FALSE)","v":"NPR3"}]
["ENSGALG00000003227",228.209242055134,-1.15543297715465,0.252275513137099,-4.58004410648739,{"v":4.64877883670053e-06,"d":"4.65E-06"},{"v":2.66320651181918e-05,"d":"2.66E-05"},{"$f":"VLOOKUP(A1713,'[1]SD vs SY0.45'!$A$2:$E$20133,5,FALSE)","v":"RAB11FIP4"}]
["ENSGALG00000026322",191.787938910435,-1.15552660437426,0.153440278940655,-7.53079056133087,{"v":5.04340280985599e-14,"d":"5.04E-14"},{"v":1.1128127494285e-12,"d":"1.11E-12"},{"$f":"VLOOKUP(A1714,'[1]SD vs SY0.45'!$A$2:$E$20133,5,FALSE)","v":"ARMT1"}]
["ENSGALG00000009723",405.450001748449,-1.15590525297713,0.17071351236903,-6.77102378678976,{"v":1.27874245824306E-11,"d":"1.28E-11"},{"v":1.89473459221567E-10,"d":"1.89E-10"},{"$f":"VLOOKUP(A1715,'[1]SD vs SY0.45'!$A$2:$E$20133,5,FALSE)","v":"FMN1"}]
["ENSGALG00000040834",1494.77916623324,-1.15643404051554,0.290852419611675,-3.97601657245803,{"v":7.00792438513008e-05,"d":"7.01E-05"},3.08707325270476E-4,{"$f":"VLOOKUP(A1716,'[1]SD vs SY0.45'!$A$2:$E$20133,5,FALSE)","v":"LGR4"}]
["ENSGALG00000013468",475.410635322388,-1.15671517221391,0.209816544977265,-5.5129836035535,{"v":3.52801110934591e-08,"d":"3.53E-08"},{"v":3.00546443695235E-7,"d":"3.01E-07"},{"$f":"VLOOKUP(A1717,'[1]SD vs SY0.45'!$A$2:$E$20133,5,FALSE)","v":"TLR3"}]
["ENSGALG00000047577",164.936145805112,-1.15721328828747,0.148354937223569,-7.80030182981756,{"v":6.17592806293998e-15,"d":"6.18E-15"},{"v":1.54727465749766E-13,"d":"1.55E-13"},{"$f":"VLOOKUP(A1718,'[1]SD vs SY0.45'!$A$2:$E$20133,5,FALSE)","v":"NA"}]
["ENSGALG00000013091",2471.02854460377,-1.1574771456934,0.340428979409748,-3.40005468306574,0.000673723780837203,0.00232421336853501,{"$f":"VLOOKUP(A1719,'[1]SD vs SY0.45'!$A$2:$E$20133,5,FALSE)","v":"EPS8"}]
["ENSGALG00000015665",899.620672762799,-1.15762122382461,0.305658587165848,-3.78730149399169,1.52292266073761E-4,0.000619683040071259,{"$f":"VLOOKUP(A1720,'[1]SD vs SY0.45'!$A$2:$E$20133,5,FALSE)","v":"SH3BP2"}]
["ENSGALG00000038043",111.940134888106,-1.15769969467577,0.21117930180185,-5.48206990362173,{"v":4.20378053649122e-08,"d":"4.20E-08"},{"v":3.53438743655575e-07,"d":"3.53E-07"},{"$f":"VLOOKUP(A1721,'[1]SD vs SY0.45'!$A$2:$E$20133,5,FALSE)","v":"HECTD2"}]
["ENSGALG00000041680",25.7366172872021,-1.15796808174834,0.349457606569297,-3.31361532838381,0.000920981168286659,0.00307412163044733,{"$f":"VLOOKUP(A1722,'[1]SD vs SY0.45'!$A$2:$E$20133,5,FALSE)","v":"KCNT2"}]
["ENSGALG00000011566",93.2650345473626,-1.1582260698221,0.272034486498216,-4.25764425948877,{"v":2.06592347061573e-05,"d":"2.07E-05"},1.02893759334276E-4,{"$f":"VLOOKUP(A1723,'[1]SD vs SY0.45'!$A$2:$E$20133,5,FALSE)","v":"GYPC"}]
["ENSGALG00000010764",622.968454195084,-1.15842723095393,0.36204272736604,-3.19969755885391,0.001375718666608,0.00438972663907384,{"$f":"VLOOKUP(A1724,'[1]SD vs SY0.45'!$A$2:$E$20133,5,FALSE)","v":"FBXO8"}]
["ENSGALG00000009705",281.538777363,-1.15864167397353,0.235977135252608,-4.909974319051,{"v":9.10883210637519e-07,"d":"9.11E-07"},{"v":5.98872574739847E-6,"d":"5.99E-06"},{"$f":"VLOOKUP(A1725,'[1]SD vs SY0.45'!$A$2:$E$20133,5,FALSE)","v":"RYR3"}]
["ENSGALG00000036598",57.4215938683226,-1.15885152481295,0.316902424041927,-3.65680864801348,0.00025537487131872,0.000982563152825533,{"$f":"VLOOKUP(A1726,'[1]SD vs SY0.45'!$A$2:$E$20133,5,FALSE)","v":"SHISAL1"}]
["ENSGALG00000004710",1855.26958334572,-1.15886452710842,0.180576282097756,-6.41758991627187,{"v":1.38448589877318E-10,"d":"1.38E-10"},{"v":1.74688362278442e-09,"d":"1.75E-09"},{"$f":"VLOOKUP(A1727,'[1]SD vs SY0.45'!$A$2:$E$20133,5,FALSE)","v":"TMOD3"}]
["ENSGALG00000011609",44.5740162232152,-1.15909905165149,0.317460730041117,-3.65115726755043,0.000261061311813919,0.00100178173218023,{"$f":"VLOOKUP(A1728,'[1]SD vs SY0.45'!$A$2:$E$20133,5,FALSE)","v":"NA"}]
["ENSGALG00000006855",3248.94478550298,-1.15937397128176,0.34137980315431,-3.39614107386928,0.000683431254580318,0.00235024114386629,{"$f":"VLOOKUP(A1729,'[1]SD vs SY0.45'!$A$2:$E$20133,5,FALSE)","v":"MELTF"}]
["ENSGALG00000014159",1679.51188951442,-1.15952843357414,0.110675689399889,-10.4768123863641,{"v":1.10402308817475E-25,"d":"1.10E-25"},{"v":9.18452126033225e-24,"d":"9.18E-24"},{"$f":"VLOOKUP(A1730,'[1]SD vs SY0.45'!$A$2:$E$20133,5,FALSE)","v":"PACSIN2"}]
["ENSGALG00000016382",123.355948359088,-1.16042779410991,0.170026106219163,-6.8249977601329,{"v":8.79266873001775e-12,"d":"8.79E-12"},{"v":1.34339306861879E-10,"d":"1.34E-10"},{"$f":"VLOOKUP(A1731,'[1]SD vs SY0.45'!$A$2:$E$20133,5,FALSE)","v":"MBTPS2"}]
["ENSGALG00000039855",140.669536843328,-1.16043539712507,0.17927353955423,-6.47298759209272,{"v":9.60838459138669e-11,"d":"9.61E-11"},{"v":1.23741971701644E-9,"d":"1.24E-09"},{"$f":"VLOOKUP(A1732,'[1]SD vs SY0.45'!$A$2:$E$20133,5,FALSE)","v":"SNX29"}]
["ENSGALG00000016144",2372.06626679567,-1.16086061875305,0.310139255128954,-3.74303026642134,0.000181814319414483,0.000723553575568693,{"$f":"VLOOKUP(A1733,'[1]SD vs SY0.45'!$A$2:$E$20133,5,FALSE)","v":"TMPRSS2"}]
["ENSGALG00000029198",213.798834256126,-1.16140136077292,0.172443669291061,-6.73496084575093,{"v":1.63974084620243e-11,"d":"1.64E-11"},{"v":2.38180234694417E-10,"d":"2.38E-10"},{"$f":"VLOOKUP(A1734,'[1]SD vs SY0.45'!$A$2:$E$20133,5,FALSE)","v":"YDJC"}]
["ENSGALG00000009886",519.157686184152,-1.16166819003512,0.208805412359685,-5.56340076105906,{"v":2.64567345509524E-8,"d":"2.65E-08"},{"v":2.3057806698617e-07,"d":"2.31E-07"},{"$f":"VLOOKUP(A1735,'[1]SD vs SY0.45'!$A$2:$E$20133,5,FALSE)","v":"USP38"}]
["ENSGALG00000003792",587.694901410355,-1.16190498140879,0.278439984537502,-4.17290994804053,{"v":3.00733827033462e-05,"d":"3.01E-05"},1.44443620183171E-4,{"$f":"VLOOKUP(A1736,'[1]SD vs SY0.45'!$A$2:$E$20133,5,FALSE)","v":"FYB"}]
["ENSGALG00000007791",239.096187769366,-1.16205786505722,0.500999156235331,-2.31948068294025,0.0203689873455207,0.0465993519832974,{"$f":"VLOOKUP(A1737,'[1]SD vs SY0.45'!$A$2:$E$20133,5,FALSE)","v":"OTOP2"}]
["ENSGALG00000013138",367.453183702456,-1.1628073389512,0.149889338554876,-7.75777216820183,{"v":8.64342446511003e-15,"d":"8.64E-15"},{"v":2.13470484623392E-13,"d":"2.13E-13"},{"$f":"VLOOKUP(A1738,'[1]SD vs SY0.45'!$A$2:$E$20133,5,FALSE)","v":"TMEM245"}]
["ENSGALG00000012416",1034.30599383903,-1.16307447989541,0.369562619002631,-3.14716483781368,0.00164861991803036,0.00514439241112596,{"$f":"VLOOKUP(A1739,'[1]SD vs SY0.45'!$A$2:$E$20133,5,FALSE)","v":"LOC100858460"}]
["ENSGALG00000004231",640.373932992104,-1.16344013165221,0.292917038908604,-3.97191005339648,{"v":7.12986425165008E-5,"d":"7.13E-05"},0.000313206037755028,{"$f":"VLOOKUP(A1740,'[1]SD vs SY0.45'!$A$2:$E$20133,5,FALSE)","v":"IFNLR1"}]
["ENSGALG00000009858",284.017108884303,-1.16351427565775,0.209282408642076,-5.55954168918056,{"v":2.70483984117791e-08,"d":"2.70E-08"},{"v":2.35262883034318E-7,"d":"2.35E-07"},{"$f":"VLOOKUP(A1741,'[1]SD vs SY0.45'!$A$2:$E$20133,5,FALSE)","v":"SLC30A1"}]
["ENSGALG00000008784",19.3298582765366,-1.16414373542647,0.438221838285882,-2.6565169366731,0.00789524849537078,0.020461273750039,{"$f":"VLOOKUP(A1742,'[1]SD vs SY0.45'!$A$2:$E$20133,5,FALSE)","v":"NA"}]
["ENSGALG00000025355",12.3027868277926,-1.16417658520581,0.49405424446508,-2.35637401813293,0.018454326199363,0.0427934608733428,{"$f":"VLOOKUP(A1743,'[1]SD vs SY0.45'!$A$2:$E$20133,5,FALSE)","v":"NA"}]
["ENSGALG00000006011",594.795781575858,-1.16445018224257,0.170547004636388,-6.82773751861088,{"v":8.62642312872365e-12,"d":"8.63E-12"},{"v":1.32264214232026E-10,"d":"1.32E-10"},{"$f":"VLOOKUP(A1744,'[1]SD vs SY0.45'!$A$2:$E$20133,5,FALSE)","v":"KIAA0753"}]
["ENSGALG00000011838",8086.5667378538,-1.16526790113524,0.31013773511617,-3.75725933736751,1.71784443479633E-4,0.000688841355807284,{"$f":"VLOOKUP(A1745,'[1]SD vs SY0.45'!$A$2:$E$20133,5,FALSE)","v":"GUCY2C"}]
["ENSGALG00000012875",14.1246878302618,-1.1659071417546,0.499820599880008,-2.33265123933366,0.0196664573222251,0.0452362340867214,{"$f":"VLOOKUP(A1746,'[1]SD vs SY0.45'!$A$2:$E$20133,5,FALSE)","v":"WEE2"}]
["ENSGALG00000009443",251.896977710312,-1.1663924598906,0.169508783282734,-6.88101487900544,{"v":5.9427643195608e-12,"d":"5.94E-12"},{"v":9.35931550943874e-11,"d":"9.36E-11"},{"$f":"VLOOKUP(A1747,'[1]SD vs SY0.45'!$A$2:$E$20133,5,FALSE)","v":"TMEM168"}]
["ENSGALG00000046150",919.489695654361,-1.16769116928702,0.144466253530057,-8.08279539860899,{"v":6.3298772822818495E-16,"d":"6.33E-16"},{"v":1.8033657214146E-14,"d":"1.80E-14"},{"$f":"VLOOKUP(A1748,'[1]SD vs SY0.45'!$A$2:$E$20133,5,FALSE)","v":"DIP2A"}]
["ENSGALG00000034397",109.527413674709,-1.16806291481864,0.352193037700544,-3.31654175347951,0.000911389678747461,0.00304561451938922,{"$f":"VLOOKUP(A1749,'[1]SD vs SY0.45'!$A$2:$E$20133,5,FALSE)","v":"NA"}]
["ENSGALG00000002781",349.185950525534,-1.16916462096272,0.243105785057132,-4.809283418278,{"v":1.51472314364507e-06,"d":"1.51E-06"},{"v":9.53875092305574e-06,"d":"9.54E-06"},{"$f":"VLOOKUP(A1750,'[1]SD vs SY0.45'!$A$2:$E$20133,5,FALSE)","v":"BRCA1"}]
["ENSGALG00000015877",182.250332049223,-1.16976887269882,0.199465655795165,-5.86451270538561,{"v":4.50453606239163e-09,"d":"4.50E-09"},{"v":4.49084681862404e-08,"d":"4.49E-08"},{"$f":"VLOOKUP(A1751,'[1]SD vs SY0.45'!$A$2:$E$20133,5,FALSE)","v":"SH3BGRL2"}]
["ENSGALG00000029709",608.610331085834,-1.17009119083292,0.17192311799685,-6.80589791801216,{"v":1.00420902674979e-11,"d":"1.00E-11"},{"v":1.51959811558734e-10,"d":"1.52E-10"},{"$f":"VLOOKUP(A1752,'[1]SD vs SY0.45'!$A$2:$E$20133,5,FALSE)","v":"INPP4A"}]
["ENSGALG00000034829",1499.7056049676,-1.17050885101902,0.118125459505448,-9.90903109219255,{"v":3.80316386997888e-23,"d":"3.80E-23"},{"v":2.44005941724438E-21,"d":"2.44E-21"},{"$f":"VLOOKUP(A1753,'[1]SD vs SY0.45'!$A$2:$E$20133,5,FALSE)","v":"PDXDC1"}]
["ENSGALG00000015107",929.675424875854,-1.17084623533748,0.213043068558813,-5.49581942870983,{"v":3.88900294333609e-08,"d":"3.89E-08"},{"v":3.29202016435174e-07,"d":"3.29E-07"},{"$f":"VLOOKUP(A1754,'[1]SD vs SY0.45'!$A$2:$E$20133,5,FALSE)","v":"PIP5K1B"}]
["ENSGALG00000002818",437.413552148426,-1.17139461176091,0.181869076813493,-6.4408674211404,{"v":1.18792607721379e-10,"d":"1.19E-10"},{"v":1.5098297298623e-09,"d":"1.51E-09"},{"$f":"VLOOKUP(A1755,'[1]SD vs SY0.45'!$A$2:$E$20133,5,FALSE)","v":"VAT1"}]
["ENSGALG00000010629",1720.83775247432,-1.17178744256617,0.135749756241301,-8.63196719472013,{"v":6.03056825232075E-18,"d":"6.03E-18"},{"v":2.20744189901265e-16,"d":"2.21E-16"},{"$f":"VLOOKUP(A1756,'[1]SD vs SY0.45'!$A$2:$E$20133,5,FALSE)","v":"TUT4"}]
["ENSGALG00000038688",45.7330425609201,-1.17247546822064,0.362999850250468,-3.22996130001607,1.23806975319302E-3,0.00399671719249294,{"$f":"VLOOKUP(A1757,'[1]SD vs SY0.45'!$A$2:$E$20133,5,FALSE)","v":"ADAMTS17"}]
["ENSGALG00000012909",180.017394205188,-1.17322433088378,0.209173877852991,-5.60884725629235,{"v":2.03678681659297E-8,"d":"2.04E-08"},{"v":1.8123650143348E-7,"d":"1.81E-07"},{"$f":"VLOOKUP(A1758,'[1]SD vs SY0.45'!$A$2:$E$20133,5,FALSE)","v":"C5orf22"}]
["ENSGALG00000011291",776.720632782347,-1.17393194735245,0.180397738426534,-6.50746488061171,{"v":7.64296116716946e-11,"d":"7.64E-11"},{"v":9.97658902504319e-10,"d":"9.98E-10"},{"$f":"VLOOKUP(A1759,'[1]SD vs SY0.45'!$A$2:$E$20133,5,FALSE)","v":"NR1D2"}]
["ENSGALG00000027397",21.2519109595774,-1.17523038673618,0.357979818467232,-3.28295151321152,0.00102726332798613,0.00337893066282536,{"$f":"VLOOKUP(A1760,'[1]SD vs SY0.45'!$A$2:$E$20133,5,FALSE)","v":"NA"}]
["ENSGALG00000008293",202.77136312119,-1.1776069604501,0.22832532743303,-5.15758358343097,{"v":2.50157191500737e-07,"d":"2.50E-07"},{"v":1.83599961529055e-06,"d":"1.84E-06"},{"$f":"VLOOKUP(A1761,'[1]SD vs SY0.45'!$A$2:$E$20133,5,FALSE)","v":"SH3PXD2A"}]
["ENSGALG00000041795",1387.05551163864,-1.1783291314471,0.220952762901494,-5.33294590198191,{"v":9.66321070214555e-08,"d":"9.66E-08"},{"v":7.66488341597649e-07,"d":"7.66E-07"},{"$f":"VLOOKUP(A1762,'[1]SD vs SY0.45'!$A$2:$E$20133,5,FALSE)","v":"WWP1"}]
["ENSGALG00000012813",1592.06368428555,-1.17856509542057,0.105378958960625,-11.1840647036657,{"v":4.8802374390594E-29,"d":"4.88E-29"},{"v":5.61938333463084e-27,"d":"5.62E-27"},{"$f":"VLOOKUP(A1763,'[1]SD vs SY0.45'!$A$2:$E$20133,5,FALSE)","v":"PRPF4B"}]
["ENSGALG00000035919",1975.66076378109,-1.17867537877508,0.196125400038306,-6.00980484192701,{"v":1.85746787657066E-9,"d":"1.86E-09"},{"v":1.96327015014796e-08,"d":"1.96E-08"},{"$f":"VLOOKUP(A1764,'[1]SD vs SY0.45'!$A$2:$E$20133,5,FALSE)","v":"EPN2"}]
["ENSGALG00000030598",869.93893212558,-1.17878307489531,0.105519301624491,-11.1712554646183,{"v":5.63783153292648e-29,"d":"5.64E-29"},{"v":6.31798086907863e-27,"d":"6.32E-27"},{"$f":"VLOOKUP(A1765,'[1]SD vs SY0.45'!$A$2:$E$20133,5,FALSE)","v":"BTAF1"}]
["ENSGALG00000025674",21.0776393698293,-1.17893038145878,0.398742370155746,-2.95662179316009,0.00311029367686252,0.00904160021779191,{"$f":"VLOOKUP(A1766,'[1]SD vs SY0.45'!$A$2:$E$20133,5,FALSE)","v":"SNORD127"}]
["ENSGALG00000051487",26.3647718534224,-1.18029227652385,0.473829287851056,-2.49096522056878,0.0127396589771621,0.0310796198450845,{"$f":"VLOOKUP(A1767,'[1]SD vs SY0.45'!$A$2:$E$20133,5,FALSE)","v":"NA"}]
["ENSGALG00000053254",2934.023285435,-1.18042332972117,0.394204172353325,-2.99444656476938,2.74943210310408E-3,0.00812308852619721,{"$f":"VLOOKUP(A1768,'[1]SD vs SY0.45'!$A$2:$E$20133,5,FALSE)","v":"EHHADH"}]
["ENSGALG00000012395",558.8699312975,-1.18092444355786,0.160664663257092,-7.3502437911202,{"v":1.97845668020228e-13,"d":"1.98E-13"},{"v":3.93586113257175e-12,"d":"3.94E-12"},{"$f":"VLOOKUP(A1769,'[1]SD vs SY0.45'!$A$2:$E$20133,5,FALSE)","v":"PLEKHG1"}]
["ENSGALG00000001983",38.8252537649353,-1.18118493557061,0.365425597513949,-3.23235411970703,0.00122774805228598,0.00396560568179385,{"$f":"VLOOKUP(A1770,'[1]SD vs SY0.45'!$A$2:$E$20133,5,FALSE)","v":"FNDC7"}]
["ENSGALG00000039454",319.020770277172,-1.18132776633946,0.157683047355355,-7.49178675927806,{"v":6.79422463152629e-14,"d":"6.79E-14"},{"v":1.4674681201037E-12,"d":"1.47E-12"},{"$f":"VLOOKUP(A1771,'[1]SD vs SY0.45'!$A$2:$E$20133,5,FALSE)","v":"SP4"}]
["ENSGALG00000004806",1317.21940590895,-1.18172149229587,0.164286803510073,-7.1930396541157,{"v":6.33645292970197e-13,"d":"6.34E-13"},{"v":1.16707528695687e-11,"d":"1.17E-11"},{"$f":"VLOOKUP(A1772,'[1]SD vs SY0.45'!$A$2:$E$20133,5,FALSE)","v":"EDEM3"}]
["ENSGALG00000009759",66.9450886678631,-1.18209747128197,0.263654724614719,-4.48350574035563,{"v":7.34266265009503e-06,"d":"7.34E-06"},{"v":4.03625910519135e-05,"d":"4.04E-05"},{"$f":"VLOOKUP(A1773,'[1]SD vs SY0.45'!$A$2:$E$20133,5,FALSE)","v":"SLC16A7"}]
["ENSGALG00000003558",215.717421110438,-1.18224838692919,0.164045528786196,-7.20683090649814,{"v":5.72690462289851e-13,"d":"5.73E-13"},{"v":1.06268613317328e-11,"d":"1.06E-11"},{"$f":"VLOOKUP(A1774,'[1]SD vs SY0.45'!$A$2:$E$20133,5,FALSE)","v":"NADK2"}]
["ENSGALG00000014426",326.781113693136,-1.18249305755548,0.165263941862201,-7.15517882625272,{"v":8.35639158481839e-13,"d":"8.36E-13"},{"v":1.50095640997146e-11,"d":"1.50E-11"},{"$f":"VLOOKUP(A1775,'[1]SD vs SY0.45'!$A$2:$E$20133,5,FALSE)","v":"KPNA1"}]
["ENSGALG00000017902",33.8472803161413,-1.18264828762901,0.342629847762149,-3.45167910896657,5.57109860237908E-4,0.00196003017805676,{"$f":"VLOOKUP(A1776,'[1]SD vs SY0.45'!$A$2:$E$20133,5,FALSE)","v":"U2"}]
["ENSGALG00000026422",2637.14966616307,-1.18273435262061,0.288697711770289,-4.09679157263874,{"v":4.18915758188698e-05,"d":"4.19E-05"},1.94855224388093E-4,{"$f":"VLOOKUP(A1777,'[1]SD vs SY0.45'!$A$2:$E$20133,5,FALSE)","v":"PARP14"}]
["ENSGALG00000036754",1112.65008923468,-1.18381388655356,0.3445655373802,-3.4356711804504,0.000591087910845858,0.00206744025465237,{"$f":"VLOOKUP(A1778,'[1]SD vs SY0.45'!$A$2:$E$20133,5,FALSE)","v":"CHKA"}]
["ENSGALG00000007955",745.387125731472,-1.18523993482025,0.501491634266047,-2.36342912590136,0.0181066896456104,0.0421052578398057,{"$f":"VLOOKUP(A1779,'[1]SD vs SY0.45'!$A$2:$E$20133,5,FALSE)","v":"SLC16A5"}]
["ENSGALG00000047720",380.502314753516,-1.18560870861801,0.26025068405649,-4.55564108473451,{"v":5.22260473120425e-06,"d":"5.22E-06"},{"v":2.96265671978624e-05,"d":"2.96E-05"},{"$f":"VLOOKUP(A1780,'[1]SD vs SY0.45'!$A$2:$E$20133,5,FALSE)","v":"KLHDC7A"}]
["ENSGALG00000016805",4439.26693970104,-1.18589650949782,0.304709209804168,-3.89189585132651,{"v":9.94639430850911e-05,"d":"9.95E-05"},0.000422624530405787,{"$f":"VLOOKUP(A1781,'[1]SD vs SY0.45'!$A$2:$E$20133,5,FALSE)","v":"SULT1C3"}]
["ENSGALG00000009287",703.298644004919,-1.18686952518864,0.118863112014365,-9.98517963289745,{"v":1.76980228031636E-23,"d":"1.77E-23"},{"v":1.18809082038072e-21,"d":"1.19E-21"},{"$f":"VLOOKUP(A1782,'[1]SD vs SY0.45'!$A$2:$E$20133,5,FALSE)","v":"ATF2"}]
["ENSGALG00000036677",1135.69023088562,-1.18695707721149,0.13354825414715,-8.88785169668816,{"v":6.23017613257806e-19,"d":"6.23E-19"},{"v":2.56085277581879e-17,"d":"2.56E-17"},{"$f":"VLOOKUP(A1783,'[1]SD vs SY0.45'!$A$2:$E$20133,5,FALSE)","v":"ITSN1"}]
["ENSGALG00000027152",1044.8531923512,-1.18739981534615,0.120125104982909,-9.88469325804198,{"v":4.85065054370479E-23,"d":"4.85E-23"},{"v":3.10067136041894e-21,"d":"3.10E-21"},{"$f":"VLOOKUP(A1784,'[1]SD vs SY0.45'!$A$2:$E$20133,5,FALSE)","v":"HELZ"}]
["ENSGALG00000034100",1558.38497902387,-1.18809737164665,0.233817864459989,-5.08129425606807,{"v":3.74871891548978e-07,"d":"3.75E-07"},{"v":2.64525064056903e-06,"d":"2.65E-06"},{"$f":"VLOOKUP(A1785,'[1]SD vs SY0.45'!$A$2:$E$20133,5,FALSE)","v":"UACA"}]
["ENSGALG00000041253",900.056770389569,-1.18851639471501,0.232313917400351,-5.11599308390475,{"v":3.12094495877028e-07,"d":"3.12E-07"},{"v":2.25067897130397E-6,"d":"2.25E-06"},{"$f":"VLOOKUP(A1786,'[1]SD vs SY0.45'!$A$2:$E$20133,5,FALSE)","v":"MYRF"}]
["ENSGALG00000015556",250.562911814881,-1.18940604128045,0.2185445733099,-5.442395678221,{"v":5.25687471872028e-08,"d":"5.26E-08"},{"v":4.34803539459583e-07,"d":"4.35E-07"},{"$f":"VLOOKUP(A1787,'[1]SD vs SY0.45'!$A$2:$E$20133,5,FALSE)","v":"AFAP1"}]
["ENSGALG00000007703",562.36010257516,-1.19049338442355,0.237437504842947,-5.01392307508874,{"v":5.33313151335803e-07,"d":"5.33E-07"},{"v":3.66365695862331e-06,"d":"3.66E-06"},{"$f":"VLOOKUP(A1788,'[1]SD vs SY0.45'!$A$2:$E$20133,5,FALSE)","v":"LOC422320"}]
["ENSGALG00000014907",514.088445424961,-1.19068160342545,0.291558056876526,-4.08385765833837,{"v":4.429416917117e-05,"d":"4.43E-05"},0.000204770731023433,{"$f":"VLOOKUP(A1789,'[1]SD vs SY0.45'!$A$2:$E$20133,5,FALSE)","v":"DCBLD1"}]
["ENSGALG00000011008",317.959558360784,-1.19149136453625,0.252020211699041,-4.72776114464624,{"v":2.27009002734065E-6,"d":"2.27E-06"},{"v":1.38200473758305e-05,"d":"1.38E-05"},{"$f":"VLOOKUP(A1790,'[1]SD vs SY0.45'!$A$2:$E$20133,5,FALSE)","v":"MAP3K21"}]
["ENSGALG00000005958",93.0489260407114,-1.19167808923756,0.327799829970632,-3.635383487979,0.000277567422881243,1.05857968450015E-3,{"$f":"VLOOKUP(A1791,'[1]SD vs SY0.45'!$A$2:$E$20133,5,FALSE)","v":"NA"}]
["ENSGALG00000015570",50.8955573815888,-1.19189581845941,0.317707161118749,-3.7515547785022,0.00017574134454838,0.000702601691805628,{"$f":"VLOOKUP(A1792,'[1]SD vs SY0.45'!$A$2:$E$20133,5,FALSE)","v":"GPR63"}]
["ENSGALG00000006237",1331.63666467408,-1.19295207271886,0.101472370042806,-11.7564226815203,{"v":6.54489939668649e-32,"d":"6.54E-32"},{"v":9.10369326481504e-30,"d":"9.10E-30"},{"$f":"VLOOKUP(A1793,'[1]SD vs SY0.45'!$A$2:$E$20133,5,FALSE)","v":"PKN2"}]
["ENSGALG00000004949",384.87863253242,-1.19368294538313,0.150684791080443,-7.9217214745042,{"v":2.34244563224473e-15,"d":"2.34E-15"},{"v":6.22753856388978e-14,"d":"6.23E-14"},{"$f":"VLOOKUP(A1794,'[1]SD vs SY0.45'!$A$2:$E$20133,5,FALSE)","v":"KIAA0355"}]
["ENSGALG00000023070",135.491465011475,-1.19396563989948,0.391923646560387,-3.04642409402444,0.00231580943051532,0.0069578328267444,{"$f":"VLOOKUP(A1795,'[1]SD vs SY0.45'!$A$2:$E$20133,5,FALSE)","v":"SPIA1"}]
["ENSGALG00000042992",28.5665125992754,-1.1943665875959,0.476019247896708,-2.50907204461419,0.0121048793158115,0.0297524330749417,{"$f":"VLOOKUP(A1796,'[1]SD vs SY0.45'!$A$2:$E$20133,5,FALSE)","v":"NA"}]
["ENSGALG00000003432",20.2096300176472,-1.19575993029338,0.487433280438547,-2.4531766259734,0.0141600791366409,0.034033908757088,{"$f":"VLOOKUP(A1797,'[1]SD vs SY0.45'!$A$2:$E$20133,5,FALSE)","v":"AGXT2"}]
["ENSGALG00000008507",2121.95136967067,-1.19614183948979,0.0850395273158017,-14.0657159940202,{"v":6.169526711432E-45,"d":"6.17E-45"},{"v":2.6817390232917e-42,"d":"2.68E-42"},{"$f":"VLOOKUP(A1798,'[1]SD vs SY0.45'!$A$2:$E$20133,5,FALSE)","v":"THOC2"}]
["ENSGALG00000049079",11.2462612479773,-1.19625083495148,0.518185485084619,-2.3085379065686,0.020969237019096,0.0478216322207531,{"$f":"VLOOKUP(A1799,'[1]SD vs SY0.45'!$A$2:$E$20133,5,FALSE)","v":"NA"}]
["ENSGALG00000040089",521.772643677382,-1.19641343639577,0.106457764168139,-11.2383859058524,{"v":2.64168131562778E-29,"d":"2.64E-29"},{"v":3.14595294759042E-27,"d":"3.15E-27"},{"$f":"VLOOKUP(A1800,'[1]SD vs SY0.45'!$A$2:$E$20133,5,FALSE)","v":"HPS3"}]
["ENSGALG00000042851",62.7312182224584,-1.19755063375186,0.376065544007902,-3.18441998431715,0.00145044404161392,0.00460198367728856,{"$f":"VLOOKUP(A1801,'[1]SD vs SY0.45'!$A$2:$E$20133,5,FALSE)","v":"PPARGC1A"}]
["ENSGALG00000053878",37.6769771521029,-1.19792958207639,0.384163518893158,-3.11828042789651,0.00181909629668641,0.00561607971527653,{"$f":"VLOOKUP(A1802,'[1]SD vs SY0.45'!$A$2:$E$20133,5,FALSE)","v":"NA"}]
["ENSGALG00000043018",766.409272646257,-1.19818353468098,0.252286592494206,-4.7492953265382,{"v":2.04126668143034e-06,"d":"2.04E-06"},{"v":1.25177259520752e-05,"d":"1.25E-05"},{"$f":"VLOOKUP(A1803,'[1]SD vs SY0.45'!$A$2:$E$20133,5,FALSE)","v":"DLG5"}]
["ENSGALG00000009859",631.165485452757,-1.19824186434224,0.201326875541352,-5.9517233410605,{"v":2.65333621752788e-09,"d":"2.65E-09"},{"v":2.73141248159605e-08,"d":"2.73E-08"},{"$f":"VLOOKUP(A1804,'[1]SD vs SY0.45'!$A$2:$E$20133,5,FALSE)","v":"TBC1D30"}]
["ENSGALG00000054815",15.3320019199689,-1.19847716159741,0.498089110554229,-2.40615009684482,0.0161216394461899,0.0381110734263635,{"$f":"VLOOKUP(A1805,'[1]SD vs SY0.45'!$A$2:$E$20133,5,FALSE)","v":"NA"}]
["ENSGALG00000012171",270.147913252726,-1.19852373298538,0.23037763949576,-5.20243082448737,{"v":1.96698584984381e-07,"d":"1.97E-07"},{"v":1.47033460753372e-06,"d":"1.47E-06"},{"$f":"VLOOKUP(A1806,'[1]SD vs SY0.45'!$A$2:$E$20133,5,FALSE)","v":"GPR39"}]
["ENSGALG00000051796",38.0216578286062,-1.19855802593178,0.311471739908431,-3.84804742248573,1.19063009139816E-4,0.000496214779743337,{"$f":"VLOOKUP(A1807,'[1]SD vs SY0.45'!$A$2:$E$20133,5,FALSE)","v":"ANKRD31"}]
["ENSGALG00000006094",360.352931265625,-1.20007766232334,0.16237704478521,-7.39068545009415,{"v":1.46073809270799E-13,"d":"1.46E-13"},{"v":2.97747399975543e-12,"d":"2.98E-12"},{"$f":"VLOOKUP(A1808,'[1]SD vs SY0.45'!$A$2:$E$20133,5,FALSE)","v":"PHF6"}]
["ENSGALG00000034999",351.617346254243,-1.20093193619501,0.152330923367185,-7.88370417279117,{"v":3.17816192920506e-15,"d":"3.18E-15"},{"v":8.25989558491606e-14,"d":"8.26E-14"},{"$f":"VLOOKUP(A1809,'[1]SD vs SY0.45'!$A$2:$E$20133,5,FALSE)","v":"ZHX1"}]
["ENSGALG00000005248",611.898813042746,-1.20138375546698,0.242101534866844,-4.96231366780777,{"v":6.96583813228712e-07,"d":"6.97E-07"},{"v":4.68711407144258e-06,"d":"4.69E-06"},{"$f":"VLOOKUP(A1810,'[1]SD vs SY0.45'!$A$2:$E$20133,5,FALSE)","v":"CDC14A"}]
["ENSGALG00000031932",467.885007949334,-1.20157370956846,0.198319166738836,-6.05878760649895,{"v":1.37151345340558e-09,"d":"1.37E-09"},{"v":1.4848383819653e-08,"d":"1.48E-08"},{"$f":"VLOOKUP(A1811,'[1]SD vs SY0.45'!$A$2:$E$20133,5,FALSE)","v":"AGPAT3"}]
["ENSGALG00000008951",98.0756199437951,-1.20169964360415,0.213778276884345,-5.6212430052202,{"v":1.8958837038267e-08,"d":"1.90E-08"},{"v":1.69218326275333E-7,"d":"1.69E-07"},{"$f":"VLOOKUP(A1812,'[1]SD vs SY0.45'!$A$2:$E$20133,5,FALSE)","v":"MIGA1"}]
["ENSGALG00000003849",15.9622848450521,-1.20181917410448,0.402879163465228,-2.98307602648754,0.00285367099133521,0.00839539382848482,{"$f":"VLOOKUP(A1813,'[1]SD vs SY0.45'!$A$2:$E$20133,5,FALSE)","v":"TRPM1"}]
["ENSGALG00000011153",2762.5387377705,-1.20205183533719,0.186392118192986,-6.44904863462418,{"v":1.12554442957573E-10,"d":"1.13E-10"},{"v":1.43579170924676e-09,"d":"1.44E-09"},{"$f":"VLOOKUP(A1814,'[1]SD vs SY0.45'!$A$2:$E$20133,5,FALSE)","v":"LY75"}]
["ENSGALG00000030419",394.552574635356,-1.20623141712749,0.170866736215989,-7.05948649714192,{"v":1.6711901493685e-12,"d":"1.67E-12"},{"v":2.85712715113766e-11,"d":"2.86E-11"},{"$f":"VLOOKUP(A1815,'[1]SD vs SY0.45'!$A$2:$E$20133,5,FALSE)","v":"GLS2"}]
["ENSGALG00000034946",19.1850115773948,-1.20764585893629,0.482121746272899,-2.50485664310342,0.0122501033441429,0.0300667062174778,{"$f":"VLOOKUP(A1816,'[1]SD vs SY0.45'!$A$2:$E$20133,5,FALSE)","v":"NA"}]
["ENSGALG00000049622",145.337480176553,-1.20768011988606,0.206415809632121,-5.85071522398606,{"v":4.89463644128046e-09,"d":"4.89E-09"},{"v":4.85747966920909e-08,"d":"4.86E-08"},{"$f":"VLOOKUP(A1817,'[1]SD vs SY0.45'!$A$2:$E$20133,5,FALSE)","v":"NA"}]
["ENSGALG00000015221",14.5077125543319,-1.20833537551922,0.433482656009757,-2.78750570240122,0.00531155194628184,0.0144911272069673,{"$f":"VLOOKUP(A1818,'[1]SD vs SY0.45'!$A$2:$E$20133,5,FALSE)","v":"CCDC181"}]
["ENSGALG00000006933",36.3948455325893,-1.20873373270588,0.264624190885373,-4.56773709410968,{"v":4.9301786604334e-06,"d":"4.93E-06"},{"v":2.80776339236671e-05,"d":"2.81E-05"},{"$f":"VLOOKUP(A1819,'[1]SD vs SY0.45'!$A$2:$E$20133,5,FALSE)","v":"MOSMO"}]
["ENSGALG00000005268",122.810341133075,-1.20899655916164,0.196978414782371,-6.13771087810501,{"v":8.37190486188399e-10,"d":"8.37E-10"},{"v":9.37297552051365e-09,"d":"9.37E-09"},{"$f":"VLOOKUP(A1820,'[1]SD vs SY0.45'!$A$2:$E$20133,5,FALSE)","v":"SEC22C"}]
["ENSGALG00000010694",456.036706506186,-1.21162648230498,0.109824621720718,-11.0323756487514,{"v":2.66724764588392e-28,"d":"2.67E-28"},{"v":2.76044254874903e-26,"d":"2.76E-26"},{"$f":"VLOOKUP(A1821,'[1]SD vs SY0.45'!$A$2:$E$20133,5,FALSE)","v":"SECISBP2"}]
["ENSGALG00000004559",106.594416939746,-1.21252477996935,0.224876116882366,-5.39196779444402,{"v":6.96902603227401e-08,"d":"6.97E-08"},{"v":5.63644151782985e-07,"d":"5.64E-07"},{"$f":"VLOOKUP(A1822,'[1]SD vs SY0.45'!$A$2:$E$20133,5,FALSE)","v":"DPY19L3"}]
["ENSGALG00000009551",1322.86746666854,-1.21276823648396,0.10732036326898,-11.3004484847332,{"v":1.30549567941586E-29,"d":"1.31E-29"},{"v":1.58731841804221E-27,"d":"1.59E-27"},{"$f":"VLOOKUP(A1823,'[1]SD vs SY0.45'!$A$2:$E$20133,5,FALSE)","v":"DYNC1I2"}]
["ENSGALG00000047235",60.0982827471441,-1.21289740680496,0.21747987324068,-5.57705588444349,{"v":2.44623300891861e-08,"d":"2.45E-08"},{"v":2.14811380434687e-07,"d":"2.15E-07"},{"$f":"VLOOKUP(A1824,'[1]SD vs SY0.45'!$A$2:$E$20133,5,FALSE)","v":"NA"}]
["ENSGALG00000006542",1121.92447909581,-1.21293521353257,0.122292345557412,-9.9183248796478,{"v":3.46522790475981e-23,"d":"3.47E-23"},{"v":2.23147842889107e-21,"d":"2.23E-21"},{"$f":"VLOOKUP(A1825,'[1]SD vs SY0.45'!$A$2:$E$20133,5,FALSE)","v":"ESYT2"}]
["ENSGALG00000007843",1061.06640141721,-1.21300056075351,0.126743604061552,-9.57050708582046,{"v":1.06382603412719E-21,"d":"1.06E-21"},{"v":5.94750586989369e-20,"d":"5.95E-20"},{"$f":"VLOOKUP(A1826,'[1]SD vs SY0.45'!$A$2:$E$20133,5,FALSE)","v":"ATRX"}]
["ENSGALG00000040212",719.173783727603,-1.21471595237643,0.121580023771856,-9.99108171467242,{"v":1.66751993467395E-23,"d":"1.67E-23"},{"v":1.1237662443479e-21,"d":"1.12E-21"},{"$f":"VLOOKUP(A1827,'[1]SD vs SY0.45'!$A$2:$E$20133,5,FALSE)","v":"FYCO1"}]
["ENSGALG00000008482",1473.5408844675,-1.21674855139765,0.103969876458318,-11.7028950388861,{"v":1.2317812928224E-31,"d":"1.23E-31"},{"v":1.68637648333095e-29,"d":"1.69E-29"},{"$f":"VLOOKUP(A1828,'[1]SD vs SY0.45'!$A$2:$E$20133,5,FALSE)","v":"STAG2"}]
["ENSGALG00000050831",1546.39197857069,-1.217200890307,0.444488305875936,-2.7384317522332,0.00617329718979455,0.0165041338722037,{"$f":"VLOOKUP(A1829,'[1]SD vs SY0.45'!$A$2:$E$20133,5,FALSE)","v":"LOC769704"}]
["ENSGALG00000011854",660.638040377288,-1.2182800736032,0.181441080261686,-6.71446660175369,{"v":1.88755403068279e-11,"d":"1.89E-11"},{"v":2.71679651750676e-10,"d":"2.72E-10"},{"$f":"VLOOKUP(A1830,'[1]SD vs SY0.45'!$A$2:$E$20133,5,FALSE)","v":"UBN2"}]
["ENSGALG00000029279",25.7213263623342,-1.21846706223538,0.339094278248413,-3.59329879740039,0.000326517797016887,0.00122089568531884,{"$f":"VLOOKUP(A1831,'[1]SD vs SY0.45'!$A$2:$E$20133,5,FALSE)","v":"MAPK15"}]
["ENSGALG00000003568",240.785870057987,-1.21888571001891,0.229322460385016,-5.31516061694301,{"v":1.06563288592957E-7,"d":"1.07E-07"},{"v":8.38757763135239e-07,"d":"8.39E-07"},{"$f":"VLOOKUP(A1832,'[1]SD vs SY0.45'!$A$2:$E$20133,5,FALSE)","v":"PPP1R16B"}]
["ENSGALG00000048343",6275.85040008966,-1.2200131222501,0.462901616349145,-2.63557758098192,0.00839942224591528,0.0216452874743929,{"$f":"VLOOKUP(A1833,'[1]SD vs SY0.45'!$A$2:$E$20133,5,FALSE)","v":"CES1L2"}]
["ENSGALG00000015386",59.7197550099341,-1.22090981471964,0.223388897489103,-5.4654006015639,{"v":4.61862542836768e-08,"d":"4.62E-08"},{"v":3.85336086003018E-7,"d":"3.85E-07"},{"$f":"VLOOKUP(A1834,'[1]SD vs SY0.45'!$A$2:$E$20133,5,FALSE)","v":"RNF170"}]
["ENSGALG00000032308",37.9046355533031,-1.22111686243839,0.355660754598117,-3.43337533492612,5.96116263817062E-4,0.00208460850341658,{"$f":"VLOOKUP(A1835,'[1]SD vs SY0.45'!$A$2:$E$20133,5,FALSE)","v":"LRMDA"}]
["ENSGALG00000033304",120.060449821686,-1.22126198324242,0.275406060003216,-4.43440490462759,{"v":9.23269612817654e-06,"d":"9.23E-06"},{"v":4.98846760660676e-05,"d":"4.99E-05"},{"$f":"VLOOKUP(A1836,'[1]SD vs SY0.45'!$A$2:$E$20133,5,FALSE)","v":"MYBL1"}]
["ENSGALG00000016456",112.369141270768,-1.22206416228505,0.231263190148142,-5.28430037440122,{"v":1.26186062427852e-07,"d":"1.26E-07"},{"v":9.78152950259948e-07,"d":"9.78E-07"},{"$f":"VLOOKUP(A1837,'[1]SD vs SY0.45'!$A$2:$E$20133,5,FALSE)","v":"LPIN1,LPIN1"}]
["ENSGALG00000004437",242.903597258174,-1.22240831742601,0.34637081336233,-3.52918973039245,0.000416834169638794,1.51716468652077E-3,{"$f":"VLOOKUP(A1838,'[1]SD vs SY0.45'!$A$2:$E$20133,5,FALSE)","v":"LHFPL2"}]
["ENSGALG00000032366",579.645818739765,-1.22365973391226,0.195041378383716,-6.27384683215727,{"v":3.52235030173422e-10,"d":"3.52E-10"},{"v":4.16903367571497e-09,"d":"4.17E-09"},{"$f":"VLOOKUP(A1839,'[1]SD vs SY0.45'!$A$2:$E$20133,5,FALSE)","v":"MEF2A"}]
["ENSGALG00000012200",354.264875540675,-1.22407314517674,0.393992983457461,-3.10683996053676,1.8909874102553E-3,0.00581304775496975,{"$f":"VLOOKUP(A1840,'[1]SD vs SY0.45'!$A$2:$E$20133,5,FALSE)","v":"GCH1"}]
["ENSGALG00000012588",111.530702430152,-1.22409692102691,0.241214627030649,-5.07472094912129,{"v":3.88065074708155e-07,"d":"3.88E-07"},{"v":2.72948521599947e-06,"d":"2.73E-06"},{"$f":"VLOOKUP(A1841,'[1]SD vs SY0.45'!$A$2:$E$20133,5,FALSE)","v":"KIF27"}]
["ENSGALG00000017234",583.092041067113,-1.22441993755114,0.291504282695877,-4.20034973835553,{"v":2.66502989955417e-05,"d":"2.67E-05"},0.000129577390558021,{"$f":"VLOOKUP(A1842,'[1]SD vs SY0.45'!$A$2:$E$20133,5,FALSE)","v":"FOLH1"}]
["ENSGALG00000031130",633.314596945326,-1.22581162622074,0.154843897395251,-7.91643485368855,{"v":2.44417710028563e-15,"d":"2.44E-15"},{"v":6.48807744162843e-14,"d":"6.49E-14"},{"$f":"VLOOKUP(A1843,'[1]SD vs SY0.45'!$A$2:$E$20133,5,FALSE)","v":"GGH"}]
["ENSGALG00000032659",460.723944376533,-1.22606249463611,0.123223638547659,-9.94989686302689,{"v":2.5244470490529e-23,"d":"2.52E-23"},{"v":1.65009627225123e-21,"d":"1.65E-21"},{"$f":"VLOOKUP(A1844,'[1]SD vs SY0.45'!$A$2:$E$20133,5,FALSE)","v":"ZBED4"}]
["ENSGALG00000014862",1899.53466908162,-1.22690728817893,0.28389220592749,-4.3217364286933,{"v":1.54806049285855e-05,"d":"1.55E-05"},{"v":7.92116768373505E-5,"d":"7.92E-05"},{"$f":"VLOOKUP(A1845,'[1]SD vs SY0.45'!$A$2:$E$20133,5,FALSE)","v":"HMGCS1"}]
["ENSGALG00000006978",775.653336113616,-1.22704841652883,0.119010913584531,-10.3103856576757,{"v":6.32470050587549e-25,"d":"6.32E-25"},{"v":4.86582157945386e-23,"d":"4.87E-23"},{"$f":"VLOOKUP(A1846,'[1]SD vs SY0.45'!$A$2:$E$20133,5,FALSE)","v":"APOOL"}]
["ENSGALG00000003135",2001.89110329604,-1.22839460431299,0.280930457077107,-4.37259319296886,{"v":1.22779378754139E-5,"d":"1.23E-05"},{"v":6.43014755680859e-05,"d":"6.43E-05"},{"$f":"VLOOKUP(A1847,'[1]SD vs SY0.45'!$A$2:$E$20133,5,FALSE)","v":"ANK3"}]
["ENSGALG00000016350",141.016542589882,-1.22882781206477,0.258670313563218,-4.75055600751978,{"v":2.02858097668919E-6,"d":"2.03E-06"},{"v":1.24588263658407E-5,"d":"1.25E-05"},{"$f":"VLOOKUP(A1848,'[1]SD vs SY0.45'!$A$2:$E$20133,5,FALSE)","v":"ARHGEF10"}]
["ENSGALG00000011432",3447.60003103992,-1.22901010735567,0.203589912805772,-6.03669450228689,{"v":1.573031206525e-09,"d":"1.57E-09"},{"v":1.69142199059061E-8,"d":"1.69E-08"},{"$f":"VLOOKUP(A1849,'[1]SD vs SY0.45'!$A$2:$E$20133,5,FALSE)","v":"CDC42BPB"}]
["ENSGALG00000042883",784.394141584392,-1.23025487536132,0.226263574271539,-5.43726439097478,{"v":5.41048241246914E-8,"d":"5.41E-08"},{"v":4.46473933106791e-07,"d":"4.46E-07"},{"$f":"VLOOKUP(A1850,'[1]SD vs SY0.45'!$A$2:$E$20133,5,FALSE)","v":"VCPIP1"}]
["ENSGALG00000016289",3636.11599182127,-1.23230655346555,0.212365879263594,-5.80275210753596,{"v":6.52352019504449e-09,"d":"6.52E-09"},{"v":6.32948915352893e-08,"d":"6.33E-08"},{"$f":"VLOOKUP(A1851,'[1]SD vs SY0.45'!$A$2:$E$20133,5,FALSE)","v":"DST"}]
["ENSGALG00000008608",412.146807118922,-1.2328067570381,0.418456698318126,-2.94607963498502,0.00321829531497446,0.00932078288985639,{"$f":"VLOOKUP(A1852,'[1]SD vs SY0.45'!$A$2:$E$20133,5,FALSE)","v":"FETUB"}]
["ENSGALG00000016164",98.9521504960068,-1.23352117805056,0.328361660191248,-3.75659319462605,1.72242146551346E-4,0.000690428337730347,{"$f":"VLOOKUP(A1853,'[1]SD vs SY0.45'!$A$2:$E$20133,5,FALSE)","v":"ABCG1"}]
["ENSGALG00000017304",293.481339547969,-1.23367228894622,0.28049825708321,-4.39814600552134,{"v":1.09179524305113E-5,"d":"1.09E-05"},{"v":5.79634927967328e-05,"d":"5.80E-05"},{"$f":"VLOOKUP(A1854,'[1]SD vs SY0.45'!$A$2:$E$20133,5,FALSE)","v":"PGM2L1"}]
["ENSGALG00000004280",1061.54612915953,-1.23368476115601,0.251078030071249,-4.91355122073375,{"v":8.94413520119427e-07,"d":"8.94E-07"},{"v":5.89505984621549e-06,"d":"5.90E-06"},{"$f":"VLOOKUP(A1855,'[1]SD vs SY0.45'!$A$2:$E$20133,5,FALSE)","v":"NA"}]
["ENSGALG00000003641",1275.35993139786,-1.23545934259792,0.0827389606951816,-14.93201427982,{"v":2.04009169488994e-50,"d":"2.04E-50"},{"v":1.10847107184536e-47,"d":"1.11E-47"},{"$f":"VLOOKUP(A1856,'[1]SD vs SY0.45'!$A$2:$E$20133,5,FALSE)","v":"KAT6A"}]
["ENSGALG00000006167",1200.57542866332,-1.23553450444617,0.194161261713738,-6.36344497115899,{"v":1.97278092834414E-10,"d":"1.97E-10"},{"v":2.42065928024838e-09,"d":"2.42E-09"},{"$f":"VLOOKUP(A1857,'[1]SD vs SY0.45'!$A$2:$E$20133,5,FALSE)","v":"LRRC8B"}]
["ENSGALG00000016375",13.5015602798116,-1.23569765564331,0.44085798098766,-2.80293815453893,5.0639378937402E-3,0.0138831107156198,{"$f":"VLOOKUP(A1858,'[1]SD vs SY0.45'!$A$2:$E$20133,5,FALSE)","v":"PHEX"}]
["ENSGALG00000026728",68.6946442263864,-1.23609030565379,0.231922678794196,-5.32975176071798,{"v":9.8347099952951e-08,"d":"9.83E-08"},{"v":7.78316352700027e-07,"d":"7.78E-07"},{"$f":"VLOOKUP(A1859,'[1]SD vs SY0.45'!$A$2:$E$20133,5,FALSE)","v":"NA"}]
["ENSGALG00000050210",406.868955921737,-1.23626748467743,0.133802254932035,-9.23951158599973,{"v":2.47624949012919e-20,"d":"2.48E-20"},{"v":1.21280422210919e-18,"d":"1.21E-18"},{"$f":"VLOOKUP(A1860,'[1]SD vs SY0.45'!$A$2:$E$20133,5,FALSE)","v":"NA"}]
["ENSGALG00000015058",51.5572837342678,-1.23662021962544,0.283356854723573,-4.36417965195097,{"v":1.27600684627463e-05,"d":"1.28E-05"},{"v":6.64050614671568e-05,"d":"6.64E-05"},{"$f":"VLOOKUP(A1861,'[1]SD vs SY0.45'!$A$2:$E$20133,5,FALSE)","v":"PTPRD"}]
["ENSGALG00000011421",27.2335757082561,-1.23743931589783,0.461240767069646,-2.6828489679252,0.00729979486678356,0.0190853770279093,{"$f":"VLOOKUP(A1862,'[1]SD vs SY0.45'!$A$2:$E$20133,5,FALSE)","v":"HAL"}]
["ENSGALG00000012570",1238.45824191297,-1.23752913419264,0.144448470488271,-8.56727059836281,{"v":1.05966680436527E-17,"d":"1.06E-17"},{"v":3.73720623275841e-16,"d":"3.74E-16"},{"$f":"VLOOKUP(A1863,'[1]SD vs SY0.45'!$A$2:$E$20133,5,FALSE)","v":"TANC1"}]
["ENSGALG00000016468",300.781445452068,-1.2377064585009,0.131835227625259,-9.38828324413464,{"v":6.09861399962845e-21,"d":"6.10E-21"},{"v":3.14648669470445e-19,"d":"3.15E-19"},{"$f":"VLOOKUP(A1864,'[1]SD vs SY0.45'!$A$2:$E$20133,5,FALSE)","v":"GEN1"}]
["ENSGALG00000009572",18.2751999756529,-1.23868370594458,0.508058698680319,-2.43807203608964,0.014765831193692,0.0352704364562058,{"$f":"VLOOKUP(A1865,'[1]SD vs SY0.45'!$A$2:$E$20133,5,FALSE)","v":"ADAMTS20"}]
["ENSGALG00000008444",202.78621492284,-1.23901276298654,0.536610041675136,-2.3089630583854,0.0209456312624978,0.0477740641166272,{"$f":"VLOOKUP(A1866,'[1]SD vs SY0.45'!$A$2:$E$20133,5,FALSE)","v":"TUBAL3"}]
["ENSGALG00000042626",25.672478904468,-1.23994988884736,0.335744195222015,-3.6931387243417,0.000221503109991424,8.64289625992119E-4,{"$f":"VLOOKUP(A1867,'[1]SD vs SY0.45'!$A$2:$E$20133,5,FALSE)","v":"SYT4"}]
["ENSGALG00000049653",2305.14398389361,-1.24028752490909,0.176062142158933,-7.04460089886599,{"v":1.8599383130764E-12,"d":"1.86E-12"},{"v":3.14885564259585e-11,"d":"3.15E-11"},{"$f":"VLOOKUP(A1868,'[1]SD vs SY0.45'!$A$2:$E$20133,5,FALSE)","v":"KMT2C"}]
["ENSGALG00000021274",556.956563630101,-1.24133528601507,0.461561109648516,-2.68942781370892,0.0071574625297516,0.0187645960501796,{"$f":"VLOOKUP(A1869,'[1]SD vs SY0.45'!$A$2:$E$20133,5,FALSE)","v":"LOC427778"}]
["ENSGALG00000040651",264.831500320096,-1.24138440033859,0.1801966777617,-6.88905264935155,{"v":5.61651514394081e-12,"d":"5.62E-12"},{"v":8.88574602435841e-11,"d":"8.89E-11"},{"$f":"VLOOKUP(A1870,'[1]SD vs SY0.45'!$A$2:$E$20133,5,FALSE)","v":"IGF1R"}]
["ENSGALG00000012197",37.9047758695419,-1.24140279071864,0.35789015702406,-3.46866983166343,0.000523041820406676,1.85065692539904E-3,{"$f":"VLOOKUP(A1871,'[1]SD vs SY0.45'!$A$2:$E$20133,5,FALSE)","v":"ACMSD"}]
["ENSGALG00000043591",610.543018991257,-1.24158967414348,0.149741614464055,-8.29154726685227,{"v":1.11784694241718e-16,"d":"1.12E-16"},{"v":3.46452848267514e-15,"d":"3.46E-15"},{"$f":"VLOOKUP(A1872,'[1]SD vs SY0.45'!$A$2:$E$20133,5,FALSE)","v":"PLA2G4F"}]
["ENSGALG00000052375",33.0515496564476,-1.2418657779796,0.418574101721794,-2.96689588025446,0.00300822812067299,0.0087802689834046,{"$f":"VLOOKUP(A1873,'[1]SD vs SY0.45'!$A$2:$E$20133,5,FALSE)","v":"NA"}]
["ENSGALG00000049429",37.7853088558568,-1.24202385467019,0.441068056609092,-2.81594605653106,0.00486338318549997,0.0133945261280355,{"$f":"VLOOKUP(A1874,'[1]SD vs SY0.45'!$A$2:$E$20133,5,FALSE)","v":"NA"}]
["ENSGALG00000029935",926.960073664938,-1.24210211048109,0.251970005079208,-4.9295633823186,{"v":8.24135951904971E-7,"d":"8.24E-07"},{"v":5.47126834508275e-06,"d":"5.47E-06"},{"$f":"VLOOKUP(A1875,'[1]SD vs SY0.45'!$A$2:$E$20133,5,FALSE)","v":"EPB41L4B"}]
["ENSGALG00000015351",688.091948529419,-1.24270055036104,0.178647556764598,-6.95615754767099,{"v":3.4967880178072e-12,"d":"3.50E-12"},{"v":5.70879373386044e-11,"d":"5.71E-11"},{"$f":"VLOOKUP(A1876,'[1]SD vs SY0.45'!$A$2:$E$20133,5,FALSE)","v":"CBLB"}]
["ENSGALG00000005074",767.551508099947,-1.24282961600494,0.25922082043864,-4.79448222523905,{"v":1.63095523915155e-06,"d":"1.63E-06"},{"v":1.02041809079266E-5,"d":"1.02E-05"},{"$f":"VLOOKUP(A1877,'[1]SD vs SY0.45'!$A$2:$E$20133,5,FALSE)","v":"FAM102A"}]
["ENSGALG00000012061",5343.75915973055,-1.24347218299796,0.324957989382797,-3.82656289005151,0.000129944961789173,0.000536918500624607,{"$f":"VLOOKUP(A1878,'[1]SD vs SY0.45'!$A$2:$E$20133,5,FALSE)","v":"GPD1L2"}]
["ENSGALG00000043053",110.553630359885,-1.24450014271441,0.429197068972055,-2.89960074912682,0.00373638246087578,0.010629005537835,{"$f":"VLOOKUP(A1879,'[1]SD vs SY0.45'!$A$2:$E$20133,5,FALSE)","v":"DAO"}]
["ENSGALG00000010668",335.193217998602,-1.24487360745807,0.320031502467703,-3.88984708648704,0.000100307408060814,0.000425896191441603,{"$f":"VLOOKUP(A1880,'[1]SD vs SY0.45'!$A$2:$E$20133,5,FALSE)","v":"WWC2"}]
["ENSGALG00000043573",2268.64166577401,-1.2451753485755,0.300432952143752,-4.14460311257637,{"v":3.40402760618491E-5,"d":"3.40E-05"},0.000161225355458287,{"$f":"VLOOKUP(A1881,'[1]SD vs SY0.45'!$A$2:$E$20133,5,FALSE)","v":"CHMP4C"}]
["ENSGALG00000030357",215.330837770772,-1.24631683735323,0.186762249191058,-6.67328029487505,{"v":2.50147965834869e-11,"d":"2.50E-11"},{"v":3.52743121003315e-10,"d":"3.53E-10"},{"$f":"VLOOKUP(A1882,'[1]SD vs SY0.45'!$A$2:$E$20133,5,FALSE)","v":"ABL2"}]
["ENSGALG00000049684",281.840533686643,-1.24761378989802,0.390396639722328,-3.19575955055709,0.00139463282985874,0.00444274111629791,{"$f":"VLOOKUP(A1883,'[1]SD vs SY0.45'!$A$2:$E$20133,5,FALSE)","v":"SPAG1"}]
["ENSGALG00000012973",20.9641681704445,-1.24764706196102,0.394086628160107,-3.16592082250032,0.0015459286720179,0.00486410818320218,{"$f":"VLOOKUP(A1884,'[1]SD vs SY0.45'!$A$2:$E$20133,5,FALSE)","v":"ESR1"}]
["ENSGALG00000001256",1265.91437582236,-1.24841745874594,0.26572037646786,-4.69823758095172,{"v":2.62416074749298e-06,"d":"2.62E-06"},{"v":1.5771269587508E-5,"d":"1.58E-05"},{"$f":"VLOOKUP(A1885,'[1]SD vs SY0.45'!$A$2:$E$20133,5,FALSE)","v":"NLRC5"}]
["ENSGALG00000011893",398.907420278832,-1.24845090602106,0.16126281238738,-7.74171606918325,{"v":9.80838345368598e-15,"d":"9.81E-15"},{"v":2.38182071381618E-13,"d":"2.38E-13"},{"$f":"VLOOKUP(A1886,'[1]SD vs SY0.45'!$A$2:$E$20133,5,FALSE)","v":"SLC38A6"}]
["ENSGALG00000016557",168.338214526615,-1.24853896129622,0.440290000148659,-2.83571955046597,0.00457225765353348,0.0127033946663449,{"$f":"VLOOKUP(A1887,'[1]SD vs SY0.45'!$A$2:$E$20133,5,FALSE)","v":"BMX"}]
["ENSGALG00000002023",497.292655569283,-1.24873238779371,0.244242371059039,-5.11267714270535,{"v":3.17624897337314e-07,"d":"3.18E-07"},{"v":2.28298639520623E-6,"d":"2.28E-06"},{"$f":"VLOOKUP(A1888,'[1]SD vs SY0.45'!$A$2:$E$20133,5,FALSE)","v":"PIGO"}]
["ENSGALG00000011965",1034.48300416013,-1.24992870870083,0.131506928086711,-9.50466052919027,{"v":2.0070154982981e-21,"d":"2.01E-21"},{"v":1.09049932715341E-19,"d":"1.09E-19"},{"$f":"VLOOKUP(A1889,'[1]SD vs SY0.45'!$A$2:$E$20133,5,FALSE)","v":"ZC3H7B"}]
["ENSGALG00000011400",739.290133908098,-1.25056566661174,0.174251904201225,-7.17676901348291,{"v":7.13781297283474E-13,"d":"7.14E-13"},{"v":1.29953041003851E-11,"d":"1.30E-11"},{"$f":"VLOOKUP(A1890,'[1]SD vs SY0.45'!$A$2:$E$20133,5,FALSE)","v":"USP44"}]
["ENSGALG00000009692",372.985956538263,-1.25083523290336,0.19601790963144,-6.38122932366344,{"v":1.7567200726042e-10,"d":"1.76E-10"},{"v":2.16778508888355e-09,"d":"2.17E-09"},{"$f":"VLOOKUP(A1891,'[1]SD vs SY0.45'!$A$2:$E$20133,5,FALSE)","v":"SH3RF1"}]
["ENSGALG00000050793",28.4596454303697,-1.25103375546558,0.481441300296845,-2.59851773143313,0.009362720941982,0.0238031333554966,{"$f":"VLOOKUP(A1892,'[1]SD vs SY0.45'!$A$2:$E$20133,5,FALSE)","v":"NA"}]
["ENSGALG00000042478",6808.95861257592,-1.25125598074673,0.256762173247618,-4.87320996282439,{"v":1.09799420032683E-6,"d":"1.10E-06"},{"v":7.11547713793615e-06,"d":"7.12E-06"},{"$f":"VLOOKUP(A1893,'[1]SD vs SY0.45'!$A$2:$E$20133,5,FALSE)","v":"ND4L,ND4L"}]
["ENSGALG00000009173",64.1092468773122,-1.2523545498118,0.277749036117306,-4.50894291954582,{"v":6.51514333738253e-06,"d":"6.52E-06"},{"v":3.61335876258597e-05,"d":"3.61E-05"},{"$f":"VLOOKUP(A1894,'[1]SD vs SY0.45'!$A$2:$E$20133,5,FALSE)","v":"GFRA1"}]
["ENSGALG00000003304",298.946449833989,-1.25264729101135,0.173329755573871,-7.22696046540889,{"v":4.93923810025321e-13,"d":"4.94E-13"},{"v":9.23425084398952e-12,"d":"9.23E-12"},{"$f":"VLOOKUP(A1895,'[1]SD vs SY0.45'!$A$2:$E$20133,5,FALSE)","v":"CRTC1"}]
["ENSGALG00000011544",1524.13238796992,-1.25323236837931,0.274044392486424,-4.57309984345472,{"v":4.80560996566816e-06,"d":"4.81E-06"},{"v":2.74401118138169e-05,"d":"2.74E-05"},{"$f":"VLOOKUP(A1896,'[1]SD vs SY0.45'!$A$2:$E$20133,5,FALSE)","v":"BCL2L14"}]
["ENSGALG00000011133",296.443287290056,-1.25359843851243,0.206559529939837,-6.06894505849021,{"v":1.28753179471649e-09,"d":"1.29E-09"},{"v":1.39739795972133E-8,"d":"1.40E-08"},{"$f":"VLOOKUP(A1897,'[1]SD vs SY0.45'!$A$2:$E$20133,5,FALSE)","v":"LIN54"}]
["ENSGALG00000053867",129.493170606388,-1.2542922306842,0.370940326091628,-3.38138547485497,0.000721212898410006,0.00246553847122587,{"$f":"VLOOKUP(A1898,'[1]SD vs SY0.45'!$A$2:$E$20133,5,FALSE)","v":"NA"}]
["ENSGALG00000007788",350.555436077084,-1.25501570340571,0.13043510443721,-9.6217633191674,{"v":6.47121602819819E-22,"d":"6.47E-22"},{"v":3.72566334709543e-20,"d":"3.73E-20"},{"$f":"VLOOKUP(A1899,'[1]SD vs SY0.45'!$A$2:$E$20133,5,FALSE)","v":"ABCB7"}]
["ENSGALG00000028626",49.8290676704294,-1.25520717328684,0.255248408346752,-4.91759059896528,{"v":8.7615910372727e-07,"d":"8.76E-07"},{"v":5.78790970231993e-06,"d":"5.79E-06"},{"$f":"VLOOKUP(A1900,'[1]SD vs SY0.45'!$A$2:$E$20133,5,FALSE)","v":"DCLRE1B"}]
["ENSGALG00000025896",32.024155381572,-1.25535264341687,0.431503392328956,-2.90925324281078,0.00362293259833768,0.0103435023131851,{"$f":"VLOOKUP(A1901,'[1]SD vs SY0.45'!$A$2:$E$20133,5,FALSE)","v":"PLPPR4"}]
["ENSGALG00000034166",628.047254382086,-1.25547428823031,0.294283038772625,-4.26621355232212,{"v":1.9881847987049E-5,"d":"1.99E-05"},{"v":9.9334968664029e-05,"d":"9.93E-05"},{"$f":"VLOOKUP(A1902,'[1]SD vs SY0.45'!$A$2:$E$20133,5,FALSE)","v":"ZCCHC14"}]
["ENSGALG00000008933",2489.12765273298,-1.25673653130587,0.248749719649815,-5.05221285505399,{"v":4.36720614908415E-7,"d":"4.37E-07"},{"v":3.04705510891357e-06,"d":"3.05E-06"},{"$f":"VLOOKUP(A1903,'[1]SD vs SY0.45'!$A$2:$E$20133,5,FALSE)","v":"CASP7"}]
["ENSGALG00000003025",47.1586795202251,-1.25741388136595,0.357769675229365,-3.51459044302687,0.000440432666619292,0.00159007532693306,{"$f":"VLOOKUP(A1904,'[1]SD vs SY0.45'!$A$2:$E$20133,5,FALSE)","v":"NA"}]
["ENSGALG00000003818",461.898361070014,-1.25758338898145,0.191743977302236,-6.55865913847813,{"v":5.42937464241533e-11,"d":"5.43E-11"},{"v":7.25599822503269e-10,"d":"7.26E-10"},{"$f":"VLOOKUP(A1905,'[1]SD vs SY0.45'!$A$2:$E$20133,5,FALSE)","v":"CYFIP2"}]
["ENSGALG00000000264",161.428019518457,-1.25783030233514,0.195365664466809,-6.4383386188561,{"v":1.2078829307066e-10,"d":"1.21E-10"},{"v":1.53295332235005E-9,"d":"1.53E-09"},{"$f":"VLOOKUP(A1906,'[1]SD vs SY0.45'!$A$2:$E$20133,5,FALSE)","v":"PJA1"}]
["ENSGALG00000016185",1989.31957587506,-1.25791339219861,0.265655647365268,-4.73512761604881,{"v":2.18917306994412E-6,"d":"2.19E-06"},{"v":1.33554919884626e-05,"d":"1.34E-05"},{"$f":"VLOOKUP(A1907,'[1]SD vs SY0.45'!$A$2:$E$20133,5,FALSE)","v":"SLC37A1"}]
["ENSGALG00000015301",879.496169556475,-1.25899605026827,0.144194265133262,-8.73124911801957,{"v":2.51875209083251e-18,"d":"2.52E-18"},{"v":9.58283207949776E-17,"d":"9.58E-17"},{"$f":"VLOOKUP(A1908,'[1]SD vs SY0.45'!$A$2:$E$20133,5,FALSE)","v":"LNPEP"}]
["ENSGALG00000016326",151.64198829757,-1.2596409408355,0.26260001097493,-4.79680460087931,{"v":1.61216726634249E-6,"d":"1.61E-06"},{"v":1.01084573602225E-5,"d":"1.01E-05"},{"$f":"VLOOKUP(A1909,'[1]SD vs SY0.45'!$A$2:$E$20133,5,FALSE)","v":"SLC51AL"}]
["ENSGALG00000031448",7250.81502235325,-1.26018383539361,0.314811764932048,-4.00297566917685,{"v":6.25507371813379e-05,"d":"6.26E-05"},0.000278792532010234,{"$f":"VLOOKUP(A1910,'[1]SD vs SY0.45'!$A$2:$E$20133,5,FALSE)","v":"MAPK4"}]
["ENSGALG00000035378",101.606782441822,-1.26097789946439,0.162513703765693,-7.7592096558357,{"v":8.54602736726115e-15,"d":"8.55E-15"},{"v":2.11365260077624E-13,"d":"2.11E-13"},{"$f":"VLOOKUP(A1911,'[1]SD vs SY0.45'!$A$2:$E$20133,5,FALSE)","v":"DNAJC5"}]
["ENSGALG00000008632",704.746925798134,-1.26132020841818,0.33081011329457,-3.81282239486745,0.000137388841775209,0.000564323125902567,{"$f":"VLOOKUP(A1912,'[1]SD vs SY0.45'!$A$2:$E$20133,5,FALSE)","v":"ACSS1"}]
["ENSGALG00000010199",114.53423476481,-1.26148241635549,0.21630980871829,-5.83183177790321,{"v":5.48221745601219E-9,"d":"5.48E-09"},{"v":5.38527202868271e-08,"d":"5.39E-08"},{"$f":"VLOOKUP(A1913,'[1]SD vs SY0.45'!$A$2:$E$20133,5,FALSE)","v":"MFSD8"}]
["ENSGALG00000025935",8564.23153468391,-1.26230973784926,0.496325540118378,-2.54331005724224,0.0109807740852034,0.0273371590806746,{"$f":"VLOOKUP(A1914,'[1]SD vs SY0.45'!$A$2:$E$20133,5,FALSE)","v":"XPNPEP2"}]
["ENSGALG00000029617",1765.89541151963,-1.26311899583512,0.419023124052889,-3.01443744588112,2.57456296370935E-3,0.00764411308914183,{"$f":"VLOOKUP(A1915,'[1]SD vs SY0.45'!$A$2:$E$20133,5,FALSE)","v":"COL17A1"}]
["ENSGALG00000026154",291.406179495092,-1.26412645368612,0.25922305857827,-4.87659724647694,{"v":1.0793149027553E-6,"d":"1.08E-06"},{"v":6.99703512833942e-06,"d":"7.00E-06"},{"$f":"VLOOKUP(A1916,'[1]SD vs SY0.45'!$A$2:$E$20133,5,FALSE)","v":"CARD19"}]
["ENSGALG00000002557",154.548689909976,-1.26510790509808,0.246653007238684,-5.12909986081719,{"v":2.91130885378868e-07,"d":"2.91E-07"},{"v":2.11088102755729E-6,"d":"2.11E-06"},{"$f":"VLOOKUP(A1917,'[1]SD vs SY0.45'!$A$2:$E$20133,5,FALSE)","v":"ADGRD1"}]
["ENSGALG00000008056",757.635054249028,-1.26515075000181,0.205294756138075,-6.16260626331297,{"v":7.1557279258465e-10,"d":"7.16E-10"},{"v":8.10531866102235e-09,"d":"8.11E-09"},{"$f":"VLOOKUP(A1918,'[1]SD vs SY0.45'!$A$2:$E$20133,5,FALSE)","v":"B4GALT5"}]
["ENSGALG00000003733",178.141327733346,-1.2656167613759,0.290793550694827,-4.35228621250992,{"v":1.3472522252344E-5,"d":"1.35E-05"},{"v":6.97370480504631e-05,"d":"6.97E-05"},{"$f":"VLOOKUP(A1919,'[1]SD vs SY0.45'!$A$2:$E$20133,5,FALSE)","v":"LIFR"}]
["ENSGALG00000016217",1436.13443097315,-1.26589983222923,0.132065422139914,-9.58539950667856,{"v":9.21005091363952E-22,"d":"9.21E-22"},{"v":5.19919335180033e-20,"d":"5.20E-20"},{"$f":"VLOOKUP(A1920,'[1]SD vs SY0.45'!$A$2:$E$20133,5,FALSE)","v":"KDM6A"}]
["ENSGALG00000015163",196.6477079443,-1.26613879988922,0.175136701866426,-7.22943156058108,{"v":4.85019856069875e-13,"d":"4.85E-13"},{"v":9.09713078477554e-12,"d":"9.10E-12"},{"$f":"VLOOKUP(A1921,'[1]SD vs SY0.45'!$A$2:$E$20133,5,FALSE)","v":"RNF138"}]
["ENSGALG00000028709",172.380576543051,-1.26677725539397,0.200832503714419,-6.30763064725473,{"v":2.83339382687693e-10,"d":"2.83E-10"},{"v":3.40905449013805e-09,"d":"3.41E-09"},{"$f":"VLOOKUP(A1922,'[1]SD vs SY0.45'!$A$2:$E$20133,5,FALSE)","v":"RNF144A"}]
["ENSGALG00000006623",2267.38741433293,-1.26680748339157,0.117563688778083,-10.7754996169169,{"v":4.49335996890728e-27,"d":"4.49E-27"},{"v":4.29264009776873e-25,"d":"4.29E-25"},{"$f":"VLOOKUP(A1923,'[1]SD vs SY0.45'!$A$2:$E$20133,5,FALSE)","v":"ATP11C"}]
["ENSGALG00000043036",685.787998513629,-1.26773614176871,0.178619625530405,-7.0974067827329,{"v":1.27119489681956E-12,"d":"1.27E-12"},{"v":2.21910297901623e-11,"d":"2.22E-11"},{"$f":"VLOOKUP(A1924,'[1]SD vs SY0.45'!$A$2:$E$20133,5,FALSE)","v":"VASH1"}]
["ENSGALG00000005265",27.0672280322544,-1.26826383890299,0.445747061581908,-2.84525451362945,0.00443759500001983,0.0123806906715893,{"$f":"VLOOKUP(A1925,'[1]SD vs SY0.45'!$A$2:$E$20133,5,FALSE)","v":"SYT9"}]
["ENSGALG00000005061",125.398794061907,-1.27044750355792,0.252156002128406,-5.03833933292995,{"v":4.69588367932712e-07,"d":"4.70E-07"},{"v":3.25029178075082E-6,"d":"3.25E-06"},{"$f":"VLOOKUP(A1926,'[1]SD vs SY0.45'!$A$2:$E$20133,5,FALSE)","v":"PPM1E"}]
["ENSGALG00000031016",176.99566459839,-1.27051747771051,0.142537243092509,-8.9135825146129,{"v":4.94096057426067E-19,"d":"4.94E-19"},{"v":2.04058150842447e-17,"d":"2.04E-17"},{"$f":"VLOOKUP(A1927,'[1]SD vs SY0.45'!$A$2:$E$20133,5,FALSE)","v":"GTF3C4"}]
["ENSGALG00000016937",59.8604257180427,-1.27070184846768,0.330149114068137,-3.84887250736475,0.00011866274345768,0.000495125778857374,{"$f":"VLOOKUP(A1928,'[1]SD vs SY0.45'!$A$2:$E$20133,5,FALSE)","v":"DIAPH3"}]
["ENSGALG00000022804",786.129691172197,-1.27157660356813,0.145571633130016,-8.73505762233521,{"v":2.43531954588586E-18,"d":"2.44E-18"},{"v":9.32663016394658e-17,"d":"9.33E-17"},{"$f":"VLOOKUP(A1929,'[1]SD vs SY0.45'!$A$2:$E$20133,5,FALSE)","v":"TRAPPC10"}]
["ENSGALG00000011705",210.414789855807,-1.27192483410574,0.21215923370517,-5.995142478094,{"v":2.03307112050072E-9,"d":"2.03E-09"},{"v":2.12945828747868e-08,"d":"2.13E-08"},{"$f":"VLOOKUP(A1930,'[1]SD vs SY0.45'!$A$2:$E$20133,5,FALSE)","v":"BRF1"}]
["ENSGALG00000014264",9.79544716660172,-1.27210106332515,0.539905263191864,-2.35615607042728,0.0184651578377152,0.0428128682923528,{"$f":"VLOOKUP(A1931,'[1]SD vs SY0.45'!$A$2:$E$20133,5,FALSE)","v":"NSUN7"}]
["ENSGALG00000010875",242.46406682566,-1.27363671492331,0.283068345546516,-4.49939647071566,{"v":6.81466578285988e-06,"d":"6.81E-06"},{"v":3.77105645978946e-05,"d":"3.77E-05"},{"$f":"VLOOKUP(A1932,'[1]SD vs SY0.45'!$A$2:$E$20133,5,FALSE)","v":"ITGB8"}]
["ENSGALG00000003955",667.926695900796,-1.27403627237483,0.137907001079099,-9.23837268888246,{"v":2.50274431722589e-20,"d":"2.50E-20"},{"v":1.22233751246086E-18,"d":"1.22E-18"},{"$f":"VLOOKUP(A1933,'[1]SD vs SY0.45'!$A$2:$E$20133,5,FALSE)","v":"CEP350"}]
["ENSGALG00000014979",783.600658199595,-1.27464899843375,0.33012454315833,-3.86111552397489,1.12870516934599E-4,0.000473457099624094,{"$f":"VLOOKUP(A1934,'[1]SD vs SY0.45'!$A$2:$E$20133,5,FALSE)","v":"FRK"}]
["ENSGALG00000008840",3073.65974550125,-1.27552400157281,0.328275572682942,-3.88552821992866,0.000102107630524702,0.000433091516839525,{"$f":"VLOOKUP(A1935,'[1]SD vs SY0.45'!$A$2:$E$20133,5,FALSE)","v":"ACSL5"}]
["ENSGALG00000000755",292.143296037295,-1.27567393084782,0.161380162879092,-7.90477533353078,{"v":2.68417264674983e-15,"d":"2.68E-15"},{"v":7.09266106520353e-14,"d":"7.09E-14"},{"$f":"VLOOKUP(A1936,'[1]SD vs SY0.45'!$A$2:$E$20133,5,FALSE)","v":"ACER3"}]
["ENSGALG00000029287",37.4925333236778,-1.27568790510301,0.314100258188671,-4.06140355458334,{"v":4.87785691154212e-05,"d":"4.88E-05"},0.000223363966607803,{"$f":"VLOOKUP(A1937,'[1]SD vs SY0.45'!$A$2:$E$20133,5,FALSE)","v":"TMEM67"}]
["ENSGALG00000004655",216.201251249589,-1.27784917196133,0.165482192537388,-7.72197390164877,{"v":1.14541850348568e-14,"d":"1.15E-14"},{"v":2.7545493112179e-13,"d":"2.75E-13"},{"$f":"VLOOKUP(A1938,'[1]SD vs SY0.45'!$A$2:$E$20133,5,FALSE)","v":"SMURF1"}]
["ENSGALG00000011141",143.59314199429,-1.27836354473081,0.45298872282815,-2.8220648336444,0.00477155298987818,0.013183377059433,{"$f":"VLOOKUP(A1939,'[1]SD vs SY0.45'!$A$2:$E$20133,5,FALSE)","v":"ITGB6"}]
["ENSGALG00000051484",19.1532083544819,-1.2790132122727,0.461341823761378,-2.77237646013697,0.00556486379396351,0.0151087268559718,{"$f":"VLOOKUP(A1940,'[1]SD vs SY0.45'!$A$2:$E$20133,5,FALSE)","v":"NA"}]
["ENSGALG00000016791",2225.67212404641,-1.27930334299282,0.35047261741622,-3.65022338242627,2.62012343981604E-4,0.00100498756338146,{"$f":"VLOOKUP(A1941,'[1]SD vs SY0.45'!$A$2:$E$20133,5,FALSE)","v":"SLC9A2"}]
["ENSGALG00000014718",757.771862202983,-1.27955516438438,0.157883750161809,-8.10441329822111,{"v":5.30006495565034E-16,"d":"5.30E-16"},{"v":1.52822934301646e-14,"d":"1.53E-14"},{"$f":"VLOOKUP(A1942,'[1]SD vs SY0.45'!$A$2:$E$20133,5,FALSE)","v":"MAP3K1"}]
["ENSGALG00000014913",3256.69674513378,-1.2802355297806,0.227402130590347,-5.62983084836122,{"v":1.80386440519599e-08,"d":"1.80E-08"},{"v":1.61752400274073e-07,"d":"1.62E-07"},{"$f":"VLOOKUP(A1943,'[1]SD vs SY0.45'!$A$2:$E$20133,5,FALSE)","v":"ROS1"}]
["ENSGALG00000046494",348.062193763293,-1.28143551851789,0.27703569711866,-4.6255249119359,{"v":3.7365089019269e-06,"d":"3.74E-06"},{"v":2.18448824067932E-5,"d":"2.18E-05"},{"$f":"VLOOKUP(A1944,'[1]SD vs SY0.45'!$A$2:$E$20133,5,FALSE)","v":"CASP10"}]
["ENSGALG00000011280",946.595081797401,-1.28183179932247,0.165334819670764,-7.7529452167125,{"v":8.97853597545928e-15,"d":"8.98E-15"},{"v":2.20610104438877e-13,"d":"2.21E-13"},{"$f":"VLOOKUP(A1945,'[1]SD vs SY0.45'!$A$2:$E$20133,5,FALSE)","v":"EEA1"}]
["ENSGALG00000026590",560.863462293079,-1.2825970615688,0.243463251247452,-5.26813412289968,{"v":1.37817400840148e-07,"d":"1.38E-07"},{"v":1.05934179858871e-06,"d":"1.06E-06"},{"$f":"VLOOKUP(A1946,'[1]SD vs SY0.45'!$A$2:$E$20133,5,FALSE)","v":"KLF13"}]
["ENSGALG00000012620",219.123158879027,-1.28308032754356,0.245821803520779,-5.21955460893488,{"v":1.79353926683695e-07,"d":"1.79E-07"},{"v":1.35230994069792E-6,"d":"1.35E-06"},{"$f":"VLOOKUP(A1947,'[1]SD vs SY0.45'!$A$2:$E$20133,5,FALSE)","v":"PTCH1"}]
["ENSGALG00000006911",3892.57599385423,-1.28354470514152,0.39603486827092,-3.24098913498563,0.00119115723790621,3.85888781357842E-3,{"$f":"VLOOKUP(A1948,'[1]SD vs SY0.45'!$A$2:$E$20133,5,FALSE)","v":"TMC5"}]
["ENSGALG00000006473",70.7994501346239,-1.2842410639845,0.268828902550973,-4.77716886762573,{"v":1.7778047022072E-6,"d":"1.78E-06"},{"v":1.10395322704559E-5,"d":"1.10E-05"},{"$f":"VLOOKUP(A1949,'[1]SD vs SY0.45'!$A$2:$E$20133,5,FALSE)","v":"PLXNA4"}]
["ENSGALG00000035472",854.559977367918,-1.28548837264813,0.174175768459238,-7.38040879061183,{"v":1.57804253076412E-13,"d":"1.58E-13"},{"v":3.20156656737408e-12,"d":"3.20E-12"},{"$f":"VLOOKUP(A1950,'[1]SD vs SY0.45'!$A$2:$E$20133,5,FALSE)","v":"ZNF292"}]
["ENSGALG00000051777",24.1156481008834,-1.2864016764601,0.367009297351725,-3.50509288386575,4.56448007244534E-4,0.00164141913173955,{"$f":"VLOOKUP(A1951,'[1]SD vs SY0.45'!$A$2:$E$20133,5,FALSE)","v":"NA"}]
["ENSGALG00000025804",1843.54023902026,-1.2871647981274,0.499418145379631,-2.57732885766289,0.00995671732749063,0.0251258990091552,{"$f":"VLOOKUP(A1952,'[1]SD vs SY0.45'!$A$2:$E$20133,5,FALSE)","v":"CLCN2"}]
["ENSGALG00000051512",53.2289083660399,-1.2876557920978,0.55894310037333,-2.30373322658021,0.0212376234624558,0.0482817153689485,{"$f":"VLOOKUP(A1953,'[1]SD vs SY0.45'!$A$2:$E$20133,5,FALSE)","v":"NA"}]
["ENSGALG00000031404",380.576220513462,-1.28902881157573,0.121998202614543,-10.5659655958085,{"v":4.28535498634111E-26,"d":"4.29E-26"},{"v":3.74419432902075e-24,"d":"3.74E-24"},{"$f":"VLOOKUP(A1954,'[1]SD vs SY0.45'!$A$2:$E$20133,5,FALSE)","v":"FAM160B1"}]
["ENSGALG00000015544",16257.8219797617,-1.28914139290153,0.509740891424674,-2.52901310173196,0.0114383757252889,0.0283182455838812,{"$f":"VLOOKUP(A1955,'[1]SD vs SY0.45'!$A$2:$E$20133,5,FALSE)","v":"ALDOB"}]
["ENSGALG00000009291",2969.50579003315,-1.28946809961337,0.419528816520107,-3.07361031909369,0.00211485478697004,0.00643411726702504,{"$f":"VLOOKUP(A1956,'[1]SD vs SY0.45'!$A$2:$E$20133,5,FALSE)","v":"EPHX1"}]
["ENSGALG00000039924",221.324640676115,-1.28964449703561,0.220997197217886,-5.83556946997893,{"v":5.36071547635697e-09,"d":"5.36E-09"},{"v":5.28083625991041e-08,"d":"5.28E-08"},{"$f":"VLOOKUP(A1957,'[1]SD vs SY0.45'!$A$2:$E$20133,5,FALSE)","v":"NA"}]
["ENSGALG00000008135",526.092564626094,-1.29021188841195,0.266341906646171,-4.84419408368195,{"v":1.27126620845866e-06,"d":"1.27E-06"},{"v":8.16229895364505E-6,"d":"8.16E-06"},{"$f":"VLOOKUP(A1958,'[1]SD vs SY0.45'!$A$2:$E$20133,5,FALSE)","v":"SATB2"}]
["ENSGALG00000053916",19537.3215764067,-1.29048376065412,0.323733819932253,-3.98624944691962,{"v":6.71259408170631e-05,"d":"6.71E-05"},2.971279870128E-4,{"$f":"VLOOKUP(A1959,'[1]SD vs SY0.45'!$A$2:$E$20133,5,FALSE)","v":"ABCB1"}]
["ENSGALG00000035013",584.698753101315,-1.29082682401415,0.124494055002582,-10.3685820498608,{"v":3.44600001315604e-25,"d":"3.45E-25"},{"v":2.7111132230201e-23,"d":"2.71E-23"},{"$f":"VLOOKUP(A1960,'[1]SD vs SY0.45'!$A$2:$E$20133,5,FALSE)","v":"WDR11"}]
["ENSGALG00000030855",8.83145953193391,-1.29107308616376,0.559581583528608,-2.30721153834713,0.0210430301701249,0.0479521842159844,{"$f":"VLOOKUP(A1961,'[1]SD vs SY0.45'!$A$2:$E$20133,5,FALSE)","v":"NA"}]
["ENSGALG00000015416",3908.82240274145,-1.29236740399952,0.337095335729773,-3.83383353911347,0.000126161533996906,0.000522527534922392,{"$f":"VLOOKUP(A1962,'[1]SD vs SY0.45'!$A$2:$E$20133,5,FALSE)","v":"SDR16C5"}]
["ENSGALG00000005685",178.172982228234,-1.29331608037287,0.194464310419594,-6.65066035810016,{"v":2.91780902888464e-11,"d":"2.92E-11"},{"v":4.07485506708571e-10,"d":"4.07E-10"},{"$f":"VLOOKUP(A1963,'[1]SD vs SY0.45'!$A$2:$E$20133,5,FALSE)","v":"KSR1"}]
["ENSGALG00000005977",693.948463996175,-1.29518445561146,0.167267772318987,-7.74317991837352,{"v":9.69606825021922e-15,"d":"9.70E-15"},{"v":2.35783970163023E-13,"d":"2.36E-13"},{"$f":"VLOOKUP(A1964,'[1]SD vs SY0.45'!$A$2:$E$20133,5,FALSE)","v":"BTBD8"}]
["ENSGALG00000015040",736.841231697228,-1.29532375819428,0.264438944504164,-4.89838499629122,{"v":9.66275664221832e-07,"d":"9.66E-07"},{"v":6.32252035839714e-06,"d":"6.32E-06"},{"$f":"VLOOKUP(A1965,'[1]SD vs SY0.45'!$A$2:$E$20133,5,FALSE)","v":"SLC16A10"}]
["ENSGALG00000006121",1197.56821328484,-1.29694651171308,0.179012575709232,-7.2450022383885,{"v":4.32432063883848e-13,"d":"4.32E-13"},{"v":8.16362246986804e-12,"d":"8.16E-12"},{"$f":"VLOOKUP(A1966,'[1]SD vs SY0.45'!$A$2:$E$20133,5,FALSE)","v":"PIK3C2A"}]
["ENSGALG00000041505",1566.72904624559,-1.29716704058124,0.108721763671417,-11.9310706226362,{"v":8.15182659544613e-33,"d":"8.15E-33"},{"v":1.24329657030721E-30,"d":"1.24E-30"},{"$f":"VLOOKUP(A1967,'[1]SD vs SY0.45'!$A$2:$E$20133,5,FALSE)","v":"PRRC2B"}]
["ENSGALG00000014884",13.1674405335581,-1.29755075051908,0.460721686894732,-2.81634398255611,0.00485736287745154,0.0133821848122722,{"$f":"VLOOKUP(A1968,'[1]SD vs SY0.45'!$A$2:$E$20133,5,FALSE)","v":"ISL1"}]
["ENSGALG00000033198",559.687747009059,-1.29809452392121,0.213671444626702,-6.07518953311269,{"v":1.23841361857631e-09,"d":"1.24E-09"},{"v":1.34914145276857E-8,"d":"1.35E-08"},{"$f":"VLOOKUP(A1969,'[1]SD vs SY0.45'!$A$2:$E$20133,5,FALSE)","v":"MYO5C"}]
["ENSGALG00000004228",302.882943183874,-1.2981574496937,0.225901123559685,-5.746573674525,{"v":9.10699600736092e-09,"d":"9.11E-09"},{"v":8.64791587001553e-08,"d":"8.65E-08"},{"$f":"VLOOKUP(A1970,'[1]SD vs SY0.45'!$A$2:$E$20133,5,FALSE)","v":"USP40"}]
["ENSGALG00000042679",405.468940594945,-1.29824250062111,0.555842916502002,-2.3356283980214,0.0195106172025643,0.0449253213218097,{"$f":"VLOOKUP(A1971,'[1]SD vs SY0.45'!$A$2:$E$20133,5,FALSE)","v":"RETREG1"}]
["ENSGALG00000034605",132.106885340963,-1.29850616386853,0.295167827297009,-4.3992130706099,{"v":1.08644117789068e-05,"d":"1.09E-05"},{"v":5.77321294620576e-05,"d":"5.77E-05"},{"$f":"VLOOKUP(A1972,'[1]SD vs SY0.45'!$A$2:$E$20133,5,FALSE)","v":"NA"}]
["ENSGALG00000010131",971.971060026337,-1.29880546070883,0.205292376185359,-6.32661321790214,{"v":2.50600448681331e-10,"d":"2.51E-10"},{"v":3.03848675120104e-09,"d":"3.04E-09"},{"$f":"VLOOKUP(A1973,'[1]SD vs SY0.45'!$A$2:$E$20133,5,FALSE)","v":"BTBD9"}]
["ENSGALG00000010402",2488.69898945047,-1.29887828203919,0.329687427437744,-3.93972646192116,{"v":8.1574566735428e-05,"d":"8.16E-05"},0.000353964809540526,{"$f":"VLOOKUP(A1974,'[1]SD vs SY0.45'!$A$2:$E$20133,5,FALSE)","v":"HPGDS"}]
["ENSGALG00000042168",69.0788169650458,-1.29923297805857,0.329117931816648,-3.94762136139811,{"v":7.89315084868548e-05,"d":"7.89E-05"},0.000343783100716669,{"$f":"VLOOKUP(A1975,'[1]SD vs SY0.45'!$A$2:$E$20133,5,FALSE)","v":"LOC100859636"}]
["ENSGALG00000030597",461.436599245508,-1.29948534986592,0.262933554444312,-4.94225757002479,{"v":7.72231000971451e-07,"d":"7.72E-07"},{"v":5.15225649036478E-6,"d":"5.15E-06"},{"$f":"VLOOKUP(A1976,'[1]SD vs SY0.45'!$A$2:$E$20133,5,FALSE)","v":"KIF11"}]
["ENSGALG00000004162",136.884443005605,-1.29960601563832,0.274715561880465,-4.73073315083553,{"v":2.23710429924996E-6,"d":"2.24E-06"},{"v":1.3633555012639E-5,"d":"1.36E-05"},{"$f":"VLOOKUP(A1977,'[1]SD vs SY0.45'!$A$2:$E$20133,5,FALSE)","v":"SLC16A6"}]
["ENSGALG00000009885",839.623344537001,-1.29993489393325,0.151906603398266,-8.55746139307124,{"v":1.15379999197118E-17,"d":"1.15E-17"},{"v":4.04458073798447e-16,"d":"4.04E-16"},{"$f":"VLOOKUP(A1978,'[1]SD vs SY0.45'!$A$2:$E$20133,5,FALSE)","v":"HELB"}]
["ENSGALG00000000843",822.604257406113,-1.29994570906301,0.184710066440186,-7.03776320433501,{"v":1.95350296595048e-12,"d":"1.95E-12"},{"v":3.29762680281369E-11,"d":"3.30E-11"},{"$f":"VLOOKUP(A1979,'[1]SD vs SY0.45'!$A$2:$E$20133,5,FALSE)","v":"DOT1L"}]
["ENSGALG00000030542",581.517663812112,-1.30024119558115,0.225630396000375,-5.76270404444528,{"v":8.27768747994971e-09,"d":"8.28E-09"},{"v":7.89057852049812e-08,"d":"7.89E-08"},{"$f":"VLOOKUP(A1980,'[1]SD vs SY0.45'!$A$2:$E$20133,5,FALSE)","v":"SEMA6D"}]
["ENSGALG00000038405",65.9866678904345,-1.30062536253319,0.36155017132775,-3.59735789297733,0.000321466023649278,1.20407793045885E-3,{"$f":"VLOOKUP(A1981,'[1]SD vs SY0.45'!$A$2:$E$20133,5,FALSE)","v":"CASR"}]
["ENSGALG00000041736",26.826880534902,-1.30278798131881,0.333689256057791,-3.90419516861276,{"v":9.4539467685647e-05,"d":"9.45E-05"},0.000404467944057663,{"$f":"VLOOKUP(A1982,'[1]SD vs SY0.45'!$A$2:$E$20133,5,FALSE)","v":"FSTL5"}]
["ENSGALG00000004821",672.221267220243,-1.30297486586053,0.141858805716249,-9.18501223298599,{"v":4.11480542901386E-20,"d":"4.11E-20"},{"v":1.97635696116751e-18,"d":"1.98E-18"},{"$f":"VLOOKUP(A1983,'[1]SD vs SY0.45'!$A$2:$E$20133,5,FALSE)","v":"PTPN11"}]
["ENSGALG00000001933",3368.63717302185,-1.30343909031338,0.279186066633269,-4.66871110736891,{"v":3.03095227325265e-06,"d":"3.03E-06"},{"v":1.80106518028175e-05,"d":"1.80E-05"},{"$f":"VLOOKUP(A1984,'[1]SD vs SY0.45'!$A$2:$E$20133,5,FALSE)","v":"CORO2A"}]
["ENSGALG00000052803",65.5708333331874,-1.30382126925771,0.372669695606287,-3.49859751042155,4.67712031792073E-4,0.0016752069127936,{"$f":"VLOOKUP(A1985,'[1]SD vs SY0.45'!$A$2:$E$20133,5,FALSE)","v":"NA"}]
["ENSGALG00000040000",260.991907400244,-1.30494027819753,0.145172102716962,-8.98891904005642,{"v":2.49673861806279e-19,"d":"2.50E-19"},{"v":1.06923138798664e-17,"d":"1.07E-17"},{"$f":"VLOOKUP(A1986,'[1]SD vs SY0.45'!$A$2:$E$20133,5,FALSE)","v":"ERO1B"}]
["ENSGALG00000048187",48.9578653264443,-1.30504552553965,0.409260548657212,-3.18878897519322,1.42870131672701E-3,0.00453796671427338,{"$f":"VLOOKUP(A1987,'[1]SD vs SY0.45'!$A$2:$E$20133,5,FALSE)","v":"NA"}]
["ENSGALG00000008689",414.362874102247,-1.30512828327894,0.24621013907001,-5.30087139469033,{"v":1.15251255823879E-7,"d":"1.15E-07"},{"v":9.0142761358965e-07,"d":"9.01E-07"},{"$f":"VLOOKUP(A1988,'[1]SD vs SY0.45'!$A$2:$E$20133,5,FALSE)","v":"NA"}]
["ENSGALG00000007080",669.62582256344,-1.30531867639953,0.407518473882241,-3.20309080460662,1.35961103902619E-3,0.00434151646199236,{"$f":"VLOOKUP(A1989,'[1]SD vs SY0.45'!$A$2:$E$20133,5,FALSE)","v":"NA"}]
["ENSGALG00000043223",14.9200161038979,-1.30613213320019,0.524709260567701,-2.48924924974078,0.0128013184297209,0.0311819169988171,{"$f":"VLOOKUP(A1990,'[1]SD vs SY0.45'!$A$2:$E$20133,5,FALSE)","v":"COL26A1"}]
["ENSGALG00000040808",92.1493538211857,-1.30637677467679,0.228349823378106,-5.72094497534894,{"v":1.05933203543123e-08,"d":"1.06E-08"},{"v":9.92916770891794e-08,"d":"9.93E-08"},{"$f":"VLOOKUP(A1991,'[1]SD vs SY0.45'!$A$2:$E$20133,5,FALSE)","v":"NA"}]
["ENSGALG00000006787",249.939618483058,-1.30686451767635,0.168615076968801,-7.75057925524751,{"v":9.14743050275e-15,"d":"9.15E-15"},{"v":2.2432492828112e-13,"d":"2.24E-13"},{"$f":"VLOOKUP(A1992,'[1]SD vs SY0.45'!$A$2:$E$20133,5,FALSE)","v":"CCDC71"}]
["ENSGALG00000006607",246.822707039052,-1.30692076315683,0.212546445266442,-6.14887142204853,{"v":7.80362053724938e-10,"d":"7.80E-10"},{"v":8.78766517364993e-09,"d":"8.79E-09"},{"$f":"VLOOKUP(A1993,'[1]SD vs SY0.45'!$A$2:$E$20133,5,FALSE)","v":"GUCD1"}]
["ENSGALG00000051433",16.9372379853123,-1.30706503200817,0.396724228192165,-3.2946438334869,0.000985464971828621,0.00325870663088327,{"$f":"VLOOKUP(A1994,'[1]SD vs SY0.45'!$A$2:$E$20133,5,FALSE)","v":"NA"}]
["ENSGALG00000048401",141.669589839274,-1.30745894652102,0.26412344139813,-4.95018139851588,{"v":7.41443417239799e-07,"d":"7.41E-07"},{"v":4.96972887260925e-06,"d":"4.97E-06"},{"$f":"VLOOKUP(A1995,'[1]SD vs SY0.45'!$A$2:$E$20133,5,FALSE)","v":"NA"}]
["ENSGALG00000006955",36.629953796485,-1.30787476478751,0.341541985719282,-3.82932353699692,0.000128495983482964,0.000531563089416677,{"$f":"VLOOKUP(A1996,'[1]SD vs SY0.45'!$A$2:$E$20133,5,FALSE)","v":"CCNJ"}]
["ENSGALG00000010122",898.873762054705,-1.3092949380165,0.361144897076492,-3.6254006317558,0.00028851382129927,0.00109576011597431,{"$f":"VLOOKUP(A1997,'[1]SD vs SY0.45'!$A$2:$E$20133,5,FALSE)","v":"SH2D4A"}]
["ENSGALG00000015439",1017.74893095748,-1.30994469745735,0.0950185848311239,-13.7861945616798,{"v":3.0861540137589e-43,"d":"3.09E-43"},{"v":1.16649912689622e-40,"d":"1.17E-40"},{"$f":"VLOOKUP(A1998,'[1]SD vs SY0.45'!$A$2:$E$20133,5,FALSE)","v":"SLC44A1"}]
["ENSGALG00000014971",72.4179188083762,-1.31097854789632,0.276243787754624,-4.74573042366768,{"v":2.07755254271714e-06,"d":"2.08E-06"},{"v":1.27281205286198E-5,"d":"1.27E-05"},{"$f":"VLOOKUP(A1999,'[1]SD vs SY0.45'!$A$2:$E$20133,5,FALSE)","v":"SLC2A9"}]
["ENSGALG00000020688",3911.12702369831,-1.311214451751,0.414975763864463,-3.15973742548315,1.57911380704615E-3,0.00495686076243209,{"$f":"VLOOKUP(A2000,'[1]SD vs SY0.45'!$A$2:$E$20133,5,FALSE)","v":"CYP4A22"}]
["ENSGALG00000013824",395.751755077741,-1.31171007248988,0.150060635273194,-8.74120031613781,{"v":2.30646641630826e-18,"d":"2.31E-18"},{"v":8.87224150007781e-17,"d":"8.87E-17"},{"$f":"VLOOKUP(A2001,'[1]SD vs SY0.45'!$A$2:$E$20133,5,FALSE)","v":"HECA"}]
["ENSGALG00000003689",683.768977253068,-1.31177398002912,0.397418668450934,-3.30073568295665,0.000964316829893699,3.20095011862576E-3,{"$f":"VLOOKUP(A2002,'[1]SD vs SY0.45'!$A$2:$E$20133,5,FALSE)","v":"PAPSS2"}]
["ENSGALG00000025284",23.5263418058751,-1.31203125378332,0.381253679260069,-3.44136024163672,0.000578797386149543,0.00202935070638881,{"$f":"VLOOKUP(A2003,'[1]SD vs SY0.45'!$A$2:$E$20133,5,FALSE)","v":"SNORD89"}]
["ENSGALG00000035094",9097.40609919361,-1.31304204861509,0.283218555240579,-4.63614415199501,{"v":3.54968462300883e-06,"d":"3.55E-06"},{"v":2.08086198719671e-05,"d":"2.08E-05"},{"$f":"VLOOKUP(A2004,'[1]SD vs SY0.45'!$A$2:$E$20133,5,FALSE)","v":"CDH17"}]
["ENSGALG00000013697",66.3231585835839,-1.3131713267452,0.398051026252645,-3.29900248997656,0.000970290506177545,0.00321832144809404,{"$f":"VLOOKUP(A2005,'[1]SD vs SY0.45'!$A$2:$E$20133,5,FALSE)","v":"CNDP1"}]
["ENSGALG00000034188",140.562064958734,-1.3140788096962,0.332438432420066,-3.95284865269651,{"v":7.72262861996703e-05,"d":"7.72E-05"},3.37116102976065E-4,{"$f":"VLOOKUP(A2006,'[1]SD vs SY0.45'!$A$2:$E$20133,5,FALSE)","v":"PAG1"}]
["ENSGALG00000014869",1433.51474449866,-1.31482343178817,0.125934495699252,-10.4405343785085,{"v":1.61896765437234E-25,"d":"1.62E-25"},{"v":1.32154885476863e-23,"d":"1.32E-23"},{"$f":"VLOOKUP(A2007,'[1]SD vs SY0.45'!$A$2:$E$20133,5,FALSE)","v":"NNT"}]
["ENSGALG00000051644",44.1349198154711,-1.31527049013536,0.265502028659357,-4.95389996369058,{"v":7.27406129591226e-07,"d":"7.27E-07"},{"v":4.87940215092695e-06,"d":"4.88E-06"},{"$f":"VLOOKUP(A2008,'[1]SD vs SY0.45'!$A$2:$E$20133,5,FALSE)","v":"NA"}]
["ENSGALG00000047695",11.8471258200305,-1.31584486901491,0.489104438485358,-2.6903147170158,7.13846628899716E-3,0.0187260883172591,{"$f":"VLOOKUP(A2009,'[1]SD vs SY0.45'!$A$2:$E$20133,5,FALSE)","v":"NA"}]
["ENSGALG00000016325",3176.49136113984,-1.31644536405121,0.375502021474813,-3.50582763544327,0.000455189891026009,0.00163791114140506,{"$f":"VLOOKUP(A2010,'[1]SD vs SY0.45'!$A$2:$E$20133,5,FALSE)","v":"GSTA3"}]
["ENSGALG00000010163",435.236048263359,-1.31909367732016,0.139399031416833,-9.46271766678051,{"v":3.00041679511578e-21,"d":"3.00E-21"},{"v":1.59535922986783e-19,"d":"1.60E-19"},{"$f":"VLOOKUP(A2011,'[1]SD vs SY0.45'!$A$2:$E$20133,5,FALSE)","v":"LGR5"}]
["ENSGALG00000041635",877.320380264919,-1.31927818709581,0.102612706801471,-12.8568695653675,{"v":7.86998095495533e-38,"d":"7.87E-38"},{"v":1.8744569707371E-35,"d":"1.87E-35"},{"$f":"VLOOKUP(A2012,'[1]SD vs SY0.45'!$A$2:$E$20133,5,FALSE)","v":"CAMK2D"}]
["ENSGALG00000004333",374.737946737071,-1.31937588038957,0.243916504300613,-5.40912917792358,{"v":6.33319380540913E-8,"d":"6.33E-08"},{"v":5.16487995753511E-7,"d":"5.16E-07"},{"$f":"VLOOKUP(A2013,'[1]SD vs SY0.45'!$A$2:$E$20133,5,FALSE)","v":"ABCA5"}]
["ENSGALG00000052679",22.1536429886695,-1.31937973855121,0.381099572762954,-3.46203415812243,0.00053610910928497,1.89265565139853E-3,{"$f":"VLOOKUP(A2014,'[1]SD vs SY0.45'!$A$2:$E$20133,5,FALSE)","v":"NA"}]
["ENSGALG00000051175",86.6370483393594,-1.31940261745707,0.483587248668104,-2.72836519385275,6.36490996181903E-3,0.0169422366053502,{"$f":"VLOOKUP(A2015,'[1]SD vs SY0.45'!$A$2:$E$20133,5,FALSE)","v":"NA"}]
["ENSGALG00000016896",393.451683385115,-1.31975981177152,0.179017626727903,-7.37223387380444,{"v":1.67792317514172e-13,"d":"1.68E-13"},{"v":3.38839143393602e-12,"d":"3.39E-12"},{"$f":"VLOOKUP(A2016,'[1]SD vs SY0.45'!$A$2:$E$20133,5,FALSE)","v":"ABCC4"}]
["ENSGALG00000010744",2315.24707702676,-1.32103123759673,0.16643643501548,-7.9371517268671,{"v":2.06876922273646e-15,"d":"2.07E-15"},{"v":5.53379853472598e-14,"d":"5.53E-14"},{"$f":"VLOOKUP(A2017,'[1]SD vs SY0.45'!$A$2:$E$20133,5,FALSE)","v":"GALNT7"}]
["ENSGALG00000007944",91.0115910889331,-1.32162775216019,0.257394194161188,-5.1346447672108,{"v":2.82677435071055E-7,"d":"2.83E-07"},{"v":2.05472933260052e-06,"d":"2.05E-06"},{"$f":"VLOOKUP(A2018,'[1]SD vs SY0.45'!$A$2:$E$20133,5,FALSE)","v":"HECW2"}]
["ENSGALG00000013026",206.38018168779,-1.3219142424914,0.179264252094302,-7.37410960103749,{"v":1.65447041042357E-13,"d":"1.65E-13"},{"v":3.34491593325985e-12,"d":"3.34E-12"},{"$f":"VLOOKUP(A2019,'[1]SD vs SY0.45'!$A$2:$E$20133,5,FALSE)","v":"HDHD5"}]
["ENSGALG00000010427",3187.60961392664,-1.32209535176815,0.465238357171401,-2.84175913569627,0.00448653737120175,0.0124911809884844,{"$f":"VLOOKUP(A2020,'[1]SD vs SY0.45'!$A$2:$E$20133,5,FALSE)","v":"TM4SF4"}]
["ENSGALG00000013168",49.5183228818725,-1.32234920696742,0.559015471397801,-2.36549661793962,0.0180059077528063,0.041893311668412,{"$f":"VLOOKUP(A2021,'[1]SD vs SY0.45'!$A$2:$E$20133,5,FALSE)","v":"IAPP"}]
["ENSGALG00000006868",348.155104503886,-1.32306492558898,0.177731209506011,-7.44419018621619,{"v":9.75408941052006e-14,"d":"9.75E-14"},{"v":2.05818389054262e-12,"d":"2.06E-12"},{"$f":"VLOOKUP(A2022,'[1]SD vs SY0.45'!$A$2:$E$20133,5,FALSE)","v":"CRACR2B"}]
["ENSGALG00000028373",131.870560683876,-1.32367218359696,0.22360775202125,-5.91961670215786,{"v":3.22692792063094e-09,"d":"3.23E-09"},{"v":3.28146490016154e-08,"d":"3.28E-08"},{"$f":"VLOOKUP(A2023,'[1]SD vs SY0.45'!$A$2:$E$20133,5,FALSE)","v":"GAS2L3"}]
["ENSGALG00000013272",301.969408752648,-1.32536278496485,0.203903827337982,-6.49994069394283,{"v":8.0351681956491e-11,"d":"8.04E-11"},{"v":1.04649789826031e-09,"d":"1.05E-09"},{"$f":"VLOOKUP(A2024,'[1]SD vs SY0.45'!$A$2:$E$20133,5,FALSE)","v":"PRMT8"}]
["ENSGALG00000041251",159.428157348079,-1.32571000694121,0.272337829846415,-4.86788782773531,{"v":1.1279732054355E-6,"d":"1.13E-06"},{"v":7.30158977025578e-06,"d":"7.30E-06"},{"$f":"VLOOKUP(A2025,'[1]SD vs SY0.45'!$A$2:$E$20133,5,FALSE)","v":"HDAC10"}]
["ENSGALG00000021092",17.5583237764478,-1.32580125503243,0.490915109717246,-2.70067314855323,0.00691993067450582,0.018227061753921,{"$f":"VLOOKUP(A2026,'[1]SD vs SY0.45'!$A$2:$E$20133,5,FALSE)","v":"THT2L"}]
["ENSGALG00000034317",410.949831417075,-1.32674628442217,0.159050557919257,-8.34166381922219,{"v":7.32524573135742e-17,"d":"7.33E-17"},{"v":2.29484770326327e-15,"d":"2.29E-15"},{"$f":"VLOOKUP(A2027,'[1]SD vs SY0.45'!$A$2:$E$20133,5,FALSE)","v":"SYNJ1"}]
["ENSGALG00000011170",474.327468095375,-1.32829679904112,0.370856531058687,-3.58169989685558,0.000341365794321806,1.26931716549898E-3,{"$f":"VLOOKUP(A2028,'[1]SD vs SY0.45'!$A$2:$E$20133,5,FALSE)","v":"WIPF3"}]
["ENSGALG00000015598",71.2273470512852,-1.32934956007032,0.305262596607355,-4.35477380735316,{"v":1.33204389552533E-5,"d":"1.33E-05"},{"v":6.90104886333701e-05,"d":"6.90E-05"},{"$f":"VLOOKUP(A2029,'[1]SD vs SY0.45'!$A$2:$E$20133,5,FALSE)","v":"RASGRF2"}]
["ENSGALG00000041706",1268.85133994309,-1.32967704117873,0.10652477630923,-12.4823265276692,{"v":9.3222329160881e-36,"d":"9.32E-36"},{"v":1.97665443551249e-33,"d":"1.98E-33"},{"$f":"VLOOKUP(A2030,'[1]SD vs SY0.45'!$A$2:$E$20133,5,FALSE)","v":"FAM13B"}]
["ENSGALG00000044889",1416.45079352741,-1.32986094736103,0.374227147146888,-3.55361965987744,0.000379968295518496,0.00139938757767001,{"$f":"VLOOKUP(A2031,'[1]SD vs SY0.45'!$A$2:$E$20133,5,FALSE)","v":"FYB2"}]
["ENSGALG00000030510",25.9335688575909,-1.33036343154088,0.320568019307578,-4.15001918910827,{"v":3.32447403166028e-05,"d":"3.32E-05"},0.000157801337669881,{"$f":"VLOOKUP(A2032,'[1]SD vs SY0.45'!$A$2:$E$20133,5,FALSE)","v":"NA"}]
["ENSGALG00000008025",549.550214493768,-1.33163586615767,0.15627134016293,-8.52130572867227,{"v":1.57764469917108e-17,"d":"1.58E-17"},{"v":5.36800555469425e-16,"d":"5.37E-16"},{"$f":"VLOOKUP(A2033,'[1]SD vs SY0.45'!$A$2:$E$20133,5,FALSE)","v":"SLF2"}]
["ENSGALG00000009507",23.8844456008821,-1.33175154141854,0.434898191326645,-3.06221448600665,2.19705960869574E-3,0.00664699415632381,{"$f":"VLOOKUP(A2034,'[1]SD vs SY0.45'!$A$2:$E$20133,5,FALSE)","v":"PLEKHH1"}]
["ENSGALG00000014876",81.9161457363235,-1.33239373166966,0.253166989381167,-5.26290467381439,{"v":1.41797108347307e-07,"d":"1.42E-07"},{"v":1.08704864322515e-06,"d":"1.09E-06"},{"$f":"VLOOKUP(A2035,'[1]SD vs SY0.45'!$A$2:$E$20133,5,FALSE)","v":"TBC1D32"}]
["ENSGALG00000038733",1991.35238601794,-1.33307520949526,0.334385761451993,-3.98663867655933,{"v":6.70159644613583e-05,"d":"6.70E-05"},0.000296716723730491,{"$f":"VLOOKUP(A2036,'[1]SD vs SY0.45'!$A$2:$E$20133,5,FALSE)","v":"TRAK1"}]
["ENSGALG00000006889",2833.56165228082,-1.3339800386554,0.390389695575585,-3.41704725758348,0.000633042898223713,2.19826580216012E-3,{"$f":"VLOOKUP(A2037,'[1]SD vs SY0.45'!$A$2:$E$20133,5,FALSE)","v":"TMC7"}]
["ENSGALG00000032684",85.0372153039369,-1.33419236979514,0.269769765091927,-4.94567050292128,{"v":7.58822185058695e-07,"d":"7.59E-07"},{"v":5.07447743523674e-06,"d":"5.07E-06"},{"$f":"VLOOKUP(A2038,'[1]SD vs SY0.45'!$A$2:$E$20133,5,FALSE)","v":"NA"}]
["ENSGALG00000001073",33.6324309839097,-1.33502831197319,0.350898827394089,-3.80459610505862,1.42035758982838E-4,0.000581624055919597,{"$f":"VLOOKUP(A2039,'[1]SD vs SY0.45'!$A$2:$E$20133,5,FALSE)","v":"NR6A1"}]
["ENSGALG00000013657",345.181073399177,-1.33632699727167,0.146670922838336,-9.11105603899832,{"v":8.15839269045047e-20,"d":"8.16E-20"},{"v":3.74274336962697e-18,"d":"3.74E-18"},{"$f":"VLOOKUP(A2040,'[1]SD vs SY0.45'!$A$2:$E$20133,5,FALSE)","v":"ZNF236"}]
["ENSGALG00000035266",63.3736999282543,-1.33633620526394,0.35370685934959,-3.77808959577783,0.000158036026502411,6.40506385267463E-4,{"$f":"VLOOKUP(A2041,'[1]SD vs SY0.45'!$A$2:$E$20133,5,FALSE)","v":"ANOS1"}]
["ENSGALG00000006982",507.03497415592,-1.33758799341904,0.182456191663413,-7.33100905606187,{"v":2.28426227142464e-13,"d":"2.28E-13"},{"v":4.49281313498419e-12,"d":"4.49E-12"},{"$f":"VLOOKUP(A2042,'[1]SD vs SY0.45'!$A$2:$E$20133,5,FALSE)","v":"EEF2K"}]
["ENSGALG00000008317",309.12498501828,-1.33820860429039,0.43964212896106,-3.04385889371606,2.33564663927085E-3,0.00700412006157336,{"$f":"VLOOKUP(A2043,'[1]SD vs SY0.45'!$A$2:$E$20133,5,FALSE)","v":"SDSL"}]
["ENSGALG00000015630",12.7862025477749,-1.33848508362983,0.523404125868609,-2.55726888168595,0.0105497636478332,0.0264116257084054,{"$f":"VLOOKUP(A2044,'[1]SD vs SY0.45'!$A$2:$E$20133,5,FALSE)","v":"EDIL3"}]
["ENSGALG00000034512",80.2503158062056,-1.33859826646153,0.339251025533726,-3.94574567418206,{"v":7.95520180737429e-05,"d":"7.96E-05"},0.000346052273767367,{"$f":"VLOOKUP(A2045,'[1]SD vs SY0.45'!$A$2:$E$20133,5,FALSE)","v":"NA"}]
["ENSGALG00000028512",577.053402295096,-1.3398019309256,0.244158038820203,-5.48743730658905,{"v":4.0780667962528e-08,"d":"4.08E-08"},{"v":3.44033708813427e-07,"d":"3.44E-07"},{"$f":"VLOOKUP(A2046,'[1]SD vs SY0.45'!$A$2:$E$20133,5,FALSE)","v":"LCOR"}]
["ENSGALG00000016920",4438.79708265794,-1.34022558189538,0.331908151863114,-4.03794114236795,{"v":5.39223773714609e-05,"d":"5.39E-05"},0.000244599106537331,{"$f":"VLOOKUP(A2047,'[1]SD vs SY0.45'!$A$2:$E$20133,5,FALSE)","v":"LMO7"}]
["ENSGALG00000002473",528.083324740355,-1.34057264018474,0.385244338146113,-3.47979842256968,0.000501791176005327,0.00178345118094943,{"$f":"VLOOKUP(A2048,'[1]SD vs SY0.45'!$A$2:$E$20133,5,FALSE)","v":"GPR157"}]
["ENSGALG00000007569",373.244494577083,-1.34123192484058,0.128660356870435,-10.4245935380954,{"v":1.91476261276418e-25,"d":"1.91E-25"},{"v":1.54846407200608E-23,"d":"1.55E-23"},{"$f":"VLOOKUP(A2049,'[1]SD vs SY0.45'!$A$2:$E$20133,5,FALSE)","v":"KBTBD8"}]
["ENSGALG00000054120",19.4843429058917,-1.34126541793864,0.451571364572716,-2.97021805004789,0.0029758843832842,0.00869754610391029,{"$f":"VLOOKUP(A2050,'[1]SD vs SY0.45'!$A$2:$E$20133,5,FALSE)","v":"NA"}]
["ENSGALG00000038780",788.901414085856,-1.34275555142532,0.129328559042114,-10.3825138188393,{"v":2.97827869780592e-25,"d":"2.98E-25"},{"v":2.36453569492016E-23,"d":"2.36E-23"},{"$f":"VLOOKUP(A2051,'[1]SD vs SY0.45'!$A$2:$E$20133,5,FALSE)","v":"PRDM2"}]
["ENSGALG00000009352",129.471947682399,-1.34338262215926,0.255209614396223,-5.26384017834691,{"v":1.41077100924099E-7,"d":"1.41E-07"},{"v":1.082005978724E-6,"d":"1.08E-06"},{"$f":"VLOOKUP(A2052,'[1]SD vs SY0.45'!$A$2:$E$20133,5,FALSE)","v":"DPF3"}]
["ENSGALG00000013209",241.320691120847,-1.34378578241855,0.193922731964895,-6.92949077605719,{"v":4.22358162815396e-12,"d":"4.22E-12"},{"v":6.79328527000119e-11,"d":"6.79E-11"},{"$f":"VLOOKUP(A2053,'[1]SD vs SY0.45'!$A$2:$E$20133,5,FALSE)","v":"SLC39A6"}]
["ENSGALG00000044996",41.1351430118666,-1.34405040168466,0.431444365594932,-3.11523456757004,0.0018379868513457,0.00566614847240207,{"$f":"VLOOKUP(A2054,'[1]SD vs SY0.45'!$A$2:$E$20133,5,FALSE)","v":"TMEM71"}]
["ENSGALG00000003374",2880.13125455144,-1.34405861441703,0.244634617203918,-5.49414727064842,{"v":3.92602770157816e-08,"d":"3.93E-08"},{"v":3.32012858206904e-07,"d":"3.32E-07"},{"$f":"VLOOKUP(A2055,'[1]SD vs SY0.45'!$A$2:$E$20133,5,FALSE)","v":"ESRP2"}]
["ENSGALG00000007167",291.778024674104,-1.34451608466631,0.162656815459615,-8.26596832642481,{"v":1.38565342580984e-16,"d":"1.39E-16"},{"v":4.25660002023952E-15,"d":"4.26E-15"},{"$f":"VLOOKUP(A2056,'[1]SD vs SY0.45'!$A$2:$E$20133,5,FALSE)","v":"CLEC16A"}]
["ENSGALG00000003736",247.643316469831,-1.34501544391706,0.356279007120201,-3.77517455992932,0.000159895653286997,0.00064653621481419,{"$f":"VLOOKUP(A2057,'[1]SD vs SY0.45'!$A$2:$E$20133,5,FALSE)","v":"ABCB9"}]
["ENSGALG00000016541",81.7700633383673,-1.3455043388787,0.222604843495458,-6.04436236764161,{"v":1.50002037543341E-9,"d":"1.50E-09"},{"v":1.61892329408198e-08,"d":"1.62E-08"},{"$f":"VLOOKUP(A2058,'[1]SD vs SY0.45'!$A$2:$E$20133,5,FALSE)","v":"BEND2"}]
["ENSGALG00000032836",242.01233613416,-1.34881397745179,0.315873952293297,-4.27010194306678,{"v":1.95383641166542e-05,"d":"1.95E-05"},{"v":9.77311671163023e-05,"d":"9.77E-05"},{"$f":"VLOOKUP(A2059,'[1]SD vs SY0.45'!$A$2:$E$20133,5,FALSE)","v":"MAOB"}]
["ENSGALG00000003378",159.458128231943,-1.34959921125319,0.179199062229097,-7.53128501045278,{"v":5.02433837729635e-14,"d":"5.02E-14"},{"v":1.11001488393967e-12,"d":"1.11E-12"},{"$f":"VLOOKUP(A2060,'[1]SD vs SY0.45'!$A$2:$E$20133,5,FALSE)","v":"NA"}]
["ENSGALG00000008778",390.793811513116,-1.34965378194439,0.273248789130792,-4.93928549962713,{"v":7.84093415463704e-07,"d":"7.84E-07"},{"v":5.22338399029403e-06,"d":"5.22E-06"},{"$f":"VLOOKUP(A2061,'[1]SD vs SY0.45'!$A$2:$E$20133,5,FALSE)","v":"SPRED2"}]
["ENSGALG00000054898",9.44231138356261,-1.34980549927147,0.587992685257838,-2.29561614134634,0.0216978390286278,0.0491993123618612,{"$f":"VLOOKUP(A2062,'[1]SD vs SY0.45'!$A$2:$E$20133,5,FALSE)","v":"NA"}]
["ENSGALG00000054598",16.3017436905187,-1.34997674154822,0.50757700728374,-2.65964912156388,0.00782220942415707,0.0203118775866556,{"$f":"VLOOKUP(A2063,'[1]SD vs SY0.45'!$A$2:$E$20133,5,FALSE)","v":"NA"}]
["ENSGALG00000019555",1559.39556935832,-1.35027652585264,0.399771274498271,-3.37762268574021,0.000731153292114749,0.00249657546936354,{"$f":"VLOOKUP(A2064,'[1]SD vs SY0.45'!$A$2:$E$20133,5,FALSE)","v":"SERPINB1"}]
["ENSGALG00000043493",252.51017815381,-1.35070287961717,0.49964914273261,-2.70330270603508,0.00686541916100881,0.0181136635739697,{"$f":"VLOOKUP(A2065,'[1]SD vs SY0.45'!$A$2:$E$20133,5,FALSE)","v":"IGFBP1"}]
["ENSGALG00000009130",922.652054404527,-1.35089665722071,0.221193801771735,-6.10729887727502,{"v":1.01331379306445E-9,"d":"1.01E-09"},{"v":1.11863409015947E-8,"d":"1.12E-08"},{"$f":"VLOOKUP(A2066,'[1]SD vs SY0.45'!$A$2:$E$20133,5,FALSE)","v":"GPCPD1"}]
["ENSGALG00000005475",1372.82903251204,-1.35147543055209,0.24394449308214,-5.54009403318248,{"v":3.02309274461548E-8,"d":"3.02E-08"},{"v":2.6072675372336E-7,"d":"2.61E-07"},{"$f":"VLOOKUP(A2067,'[1]SD vs SY0.45'!$A$2:$E$20133,5,FALSE)","v":"RHOGL"}]
["ENSGALG00000016980",497.912996538968,-1.35151555274604,0.148564030398236,-9.0971922956264,{"v":9.26971383221464e-20,"d":"9.27E-20"},{"v":4.23024972180357e-18,"d":"4.23E-18"},{"$f":"VLOOKUP(A2068,'[1]SD vs SY0.45'!$A$2:$E$20133,5,FALSE)","v":"COG3"}]
["ENSGALG00000003566",251.806066906318,-1.35181475354467,0.155879003763991,-8.67220549851209,{"v":4.23829868806096E-18,"d":"4.24E-18"},{"v":1.58475912450142E-16,"d":"1.58E-16"},{"$f":"VLOOKUP(A2069,'[1]SD vs SY0.45'!$A$2:$E$20133,5,FALSE)","v":"SMURF2"}]
["ENSGALG00000002403",429.064312473996,-1.35220598750481,0.309078818776638,-4.37495520675588,{"v":1.2145741620388E-5,"d":"1.21E-05"},{"v":6.37037736210215e-05,"d":"6.37E-05"},{"$f":"VLOOKUP(A2070,'[1]SD vs SY0.45'!$A$2:$E$20133,5,FALSE)","v":"ULK1"}]
["ENSGALG00000009981",248.860917809504,-1.3546324748425,0.309509170304672,-4.37671191942079,{"v":1.20483046110208E-5,"d":"1.20E-05"},{"v":6.32308699884751e-05,"d":"6.32E-05"},{"$f":"VLOOKUP(A2071,'[1]SD vs SY0.45'!$A$2:$E$20133,5,FALSE)","v":"PREPL"}]
["ENSGALG00000047009",537.158864816492,-1.35575399845098,0.124381621408602,-10.8999543750699,{"v":1.15315096093845E-27,"d":"1.15E-27"},{"v":1.14570490044781e-25,"d":"1.15E-25"},{"$f":"VLOOKUP(A2072,'[1]SD vs SY0.45'!$A$2:$E$20133,5,FALSE)","v":"ICE1"}]
["ENSGALG00000016926",92.5083333671179,-1.356053075349,0.365397218729819,-3.71117514266491,0.00020629929904223,0.000811154661340399,{"$f":"VLOOKUP(A2073,'[1]SD vs SY0.45'!$A$2:$E$20133,5,FALSE)","v":"KLF12"}]
["ENSGALG00000046970",36.8771491481529,-1.35717817152606,0.317316274896491,-4.27705188449214,{"v":1.89384674840045e-05,"d":"1.89E-05"},{"v":9.50312075452775e-05,"d":"9.50E-05"},{"$f":"VLOOKUP(A2074,'[1]SD vs SY0.45'!$A$2:$E$20133,5,FALSE)","v":"NA"}]
["ENSGALG00000049945",25.8571415054291,-1.35757107886366,0.49700332525043,-2.7315130702186,0.0063044240295165,0.0168095415735629,{"$f":"VLOOKUP(A2075,'[1]SD vs SY0.45'!$A$2:$E$20133,5,FALSE)","v":"NA"}]
["ENSGALG00000020002",338.833577554475,-1.35761966051422,0.272901775118626,-4.97475569707849,{"v":6.53299783709472e-07,"d":"6.53E-07"},{"v":4.41981452893252e-06,"d":"4.42E-06"},{"$f":"VLOOKUP(A2076,'[1]SD vs SY0.45'!$A$2:$E$20133,5,FALSE)","v":"SLC22A3"}]
["ENSGALG00000002789",122.968895555419,-1.35808114992966,0.212250018809814,-6.39849719470023,{"v":1.56913625878638e-10,"d":"1.57E-10"},{"v":1.95995489450566e-09,"d":"1.96E-09"},{"$f":"VLOOKUP(A2077,'[1]SD vs SY0.45'!$A$2:$E$20133,5,FALSE)","v":"MAP2"}]
["ENSGALG00000052604",142.677058210634,-1.35827812341437,0.2209460291348,-6.14755616443181,{"v":7.86858421818142e-10,"d":"7.87E-10"},{"v":8.84935794317725E-9,"d":"8.85E-09"},{"$f":"VLOOKUP(A2078,'[1]SD vs SY0.45'!$A$2:$E$20133,5,FALSE)","v":"NA"}]
["ENSGALG00000008369",1397.37999420381,-1.35924518568561,0.233546363446013,-5.82002290949741,{"v":5.88395619734328e-09,"d":"5.88E-09"},{"v":5.74743519119144e-08,"d":"5.75E-08"},{"$f":"VLOOKUP(A2079,'[1]SD vs SY0.45'!$A$2:$E$20133,5,FALSE)","v":"ABCC5"}]
["ENSGALG00000003353",746.924308457102,-1.3597591893342,0.167191467527262,-8.13294607341418,{"v":4.18981046068049E-16,"d":"4.19E-16"},{"v":1.21616418163358e-14,"d":"1.22E-14"},{"$f":"VLOOKUP(A2080,'[1]SD vs SY0.45'!$A$2:$E$20133,5,FALSE)","v":"RAI14"}]
["ENSGALG00000051534",241.311061277729,-1.36022001134109,0.212953246414248,-6.38741148230781,{"v":1.68717209124548e-10,"d":"1.69E-10"},{"v":2.09235814197469e-09,"d":"2.09E-09"},{"$f":"VLOOKUP(A2081,'[1]SD vs SY0.45'!$A$2:$E$20133,5,FALSE)","v":"NA"}]
["ENSGALG00000006068",997.945207763304,-1.36022570871885,0.150924822338447,-9.01260433932173,{"v":2.01220150209859E-19,"d":"2.01E-19"},{"v":8.68142618287546e-18,"d":"8.68E-18"},{"$f":"VLOOKUP(A2082,'[1]SD vs SY0.45'!$A$2:$E$20133,5,FALSE)","v":"TNRC6A"}]
["ENSGALG00000036883",160.052721402587,-1.36024318813368,0.264211472469651,-5.14831235532336,{"v":2.62840542464663E-7,"d":"2.63E-07"},{"v":1.92097877756751e-06,"d":"1.92E-06"},{"$f":"VLOOKUP(A2083,'[1]SD vs SY0.45'!$A$2:$E$20133,5,FALSE)","v":"MET"}]
["ENSGALG00000029788",1048.57569824695,-1.36069597544438,0.398026236003478,-3.41860875581199,0.000629421585347394,0.00218831295829537,{"$f":"VLOOKUP(A2084,'[1]SD vs SY0.45'!$A$2:$E$20133,5,FALSE)","v":"CCK"}]
["ENSGALG00000010010",119.661305367654,-1.36084063948671,0.284315504244947,-4.78637506280452,{"v":1.6982057044145e-06,"d":"1.70E-06"},{"v":1.05944393909777e-05,"d":"1.06E-05"},{"$f":"VLOOKUP(A2085,'[1]SD vs SY0.45'!$A$2:$E$20133,5,FALSE)","v":"RHOQ"}]
["ENSGALG00000030710",95.7182681715825,-1.36121804183852,0.307331020250538,-4.42915928476354,{"v":9.4601136716662e-06,"d":"9.46E-06"},{"v":5.09866696866895e-05,"d":"5.10E-05"},{"$f":"VLOOKUP(A2086,'[1]SD vs SY0.45'!$A$2:$E$20133,5,FALSE)","v":"L3MBTL1"}]
["ENSGALG00000010886",172.290902189291,-1.36155204706138,0.25234627062453,-5.39557031570819,{"v":6.83062351598012e-08,"d":"6.83E-08"},{"v":5.5393680537475e-07,"d":"5.54E-07"},{"$f":"VLOOKUP(A2087,'[1]SD vs SY0.45'!$A$2:$E$20133,5,FALSE)","v":"PAQR3"}]
["ENSGALG00000007769",531.222106960209,-1.36301600102204,0.164117434324842,-8.30512618375564,{"v":9.97134210372743e-17,"d":"9.97E-17"},{"v":3.10146198850642e-15,"d":"3.10E-15"},{"$f":"VLOOKUP(A2088,'[1]SD vs SY0.45'!$A$2:$E$20133,5,FALSE)","v":"FOXP1,FOXP1"}]
["ENSGALG00000009172",150.497717580322,-1.36322248374784,0.219222551044284,-6.21844092797033,{"v":5.0211890960131e-10,"d":"5.02E-10"},{"v":5.83969329848695e-09,"d":"5.84E-09"},{"$f":"VLOOKUP(A2089,'[1]SD vs SY0.45'!$A$2:$E$20133,5,FALSE)","v":"OSBPL6"}]
["ENSGALG00000043363",233.953047047122,-1.36487334298587,0.136810583894523,-9.97637247157829,{"v":1.93408754863568e-23,"d":"1.93E-23"},{"v":1.28786413638441e-21,"d":"1.29E-21"},{"$f":"VLOOKUP(A2090,'[1]SD vs SY0.45'!$A$2:$E$20133,5,FALSE)","v":"KIAA0556"}]
["ENSGALG00000006175",14852.6417179584,-1.36487993922506,0.445752791230485,-3.06196610784501,0.00219888348232259,0.00665135475072075,{"$f":"VLOOKUP(A2091,'[1]SD vs SY0.45'!$A$2:$E$20133,5,FALSE)","v":"DPEP1"}]
["ENSGALG00000016531",1030.7995169655,-1.36502662909246,0.174682818507634,-7.81431534454432,{"v":5.52625836689553e-15,"d":"5.53E-15"},{"v":1.40065676713138e-13,"d":"1.40E-13"},{"$f":"VLOOKUP(A2092,'[1]SD vs SY0.45'!$A$2:$E$20133,5,FALSE)","v":"ASXL2"}]
["ENSGALG00000008058",321.023434181676,-1.36579406063132,0.157018071351172,-8.69832401377996,{"v":3.36821658227363e-18,"d":"3.37E-18"},{"v":1.26760133584397e-16,"d":"1.27E-16"},{"$f":"VLOOKUP(A2093,'[1]SD vs SY0.45'!$A$2:$E$20133,5,FALSE)","v":"PAK3"}]
["ENSGALG00000053347",18.3957335601711,-1.36703495632992,0.4058480738013,-3.36834161494433,0.000756218326042976,0.00257256271471517,{"$f":"VLOOKUP(A2094,'[1]SD vs SY0.45'!$A$2:$E$20133,5,FALSE)","v":"NA"}]
["ENSGALG00000006165",308.941118155344,-1.367280345466,0.400914095115981,-3.41040727208769,0.000648659371824936,2.24604357307768E-3,{"$f":"VLOOKUP(A2095,'[1]SD vs SY0.45'!$A$2:$E$20133,5,FALSE)","v":"NA"}]
["ENSGALG00000013073",1339.72175002908,-1.36741386361808,0.357451634742287,-3.82545141975345,1.30532674513425E-4,0.000539090644124684,{"$f":"VLOOKUP(A2096,'[1]SD vs SY0.45'!$A$2:$E$20133,5,FALSE)","v":"UPP1"}]
["ENSGALG00000015170",1246.94294496607,-1.36745673935962,0.168608393749085,-8.11025304822368,{"v":5.05144523397723e-16,"d":"5.05E-16"},{"v":1.45896143327512e-14,"d":"1.46E-14"},{"$f":"VLOOKUP(A2097,'[1]SD vs SY0.45'!$A$2:$E$20133,5,FALSE)","v":"VPS13A"}]
["ENSGALG00000037682",264.147909837506,-1.36866644989917,0.2017340326116,-6.78450944632767,{"v":1.16481614340428e-11,"d":"1.16E-11"},{"v":1.74141515781343E-10,"d":"1.74E-10"},{"$f":"VLOOKUP(A2098,'[1]SD vs SY0.45'!$A$2:$E$20133,5,FALSE)","v":"CCSER2"}]
["ENSGALG00000051639",9.69822486981889,-1.36876770796964,0.53239738067334,-2.57095124367163,0.0101419604255248,0.0254934604479688,{"$f":"VLOOKUP(A2099,'[1]SD vs SY0.45'!$A$2:$E$20133,5,FALSE)","v":"ANKRD61"}]
["ENSGALG00000013571",34.7390293874177,-1.3695306086166,0.486519792874294,-2.81495353051434,0.00487842875236417,0.0134210823919867,{"$f":"VLOOKUP(A2100,'[1]SD vs SY0.45'!$A$2:$E$20133,5,FALSE)","v":"F11"}]
["ENSGALG00000015263",611.52603923307,-1.36978204602834,0.28905121039745,-4.7388905382713,{"v":2.14891541390626e-06,"d":"2.15E-06"},{"v":1.31421710522646e-05,"d":"1.31E-05"},{"$f":"VLOOKUP(A2101,'[1]SD vs SY0.45'!$A$2:$E$20133,5,FALSE)","v":"TMEM30CP"}]
["ENSGALG00000037200",401.715705185469,-1.36990352951033,0.287304451772961,-4.76812496658729,{"v":1.8594843399234999E-6,"d":"1.86E-06"},{"v":1.15015489926182E-5,"d":"1.15E-05"},{"$f":"VLOOKUP(A2102,'[1]SD vs SY0.45'!$A$2:$E$20133,5,FALSE)","v":"MACROD2"}]
["ENSGALG00000054207",13.2061172577433,-1.37025867520487,0.465153856538909,-2.94581815445026,0.0032210170269034,9.32536738523909E-3,{"$f":"VLOOKUP(A2103,'[1]SD vs SY0.45'!$A$2:$E$20133,5,FALSE)","v":"NA"}]
["ENSGALG00000015142",3869.57018364463,-1.37053770629751,0.316644453005275,-4.32831743392228,{"v":1.50252807333512E-5,"d":"1.50E-05"},{"v":7.69724679171415e-05,"d":"7.70E-05"},{"$f":"VLOOKUP(A2104,'[1]SD vs SY0.45'!$A$2:$E$20133,5,FALSE)","v":"DSG2"}]
["ENSGALG00000049372",630.37629787618,-1.37158162452871,0.166187424234069,-8.25322151089414,{"v":1.54180896353916e-16,"d":"1.54E-16"},{"v":4.70305832439567e-15,"d":"4.70E-15"},{"$f":"VLOOKUP(A2105,'[1]SD vs SY0.45'!$A$2:$E$20133,5,FALSE)","v":"NA"}]
["ENSGALG00000013865",621.741474381976,-1.37240108420015,0.19075161312644,-7.19470237607089,{"v":6.25971572925311e-13,"d":"6.26E-13"},{"v":1.15538935652361E-11,"d":"1.16E-11"},{"$f":"VLOOKUP(A2106,'[1]SD vs SY0.45'!$A$2:$E$20133,5,FALSE)","v":"IFNGR1"}]
["ENSGALG00000014103",1873.52999284314,-1.37278182382583,0.151098201399555,-9.0853617787,{"v":1.03354381053812E-19,"d":"1.03E-19"},{"v":4.66759122956526e-18,"d":"4.67E-18"},{"$f":"VLOOKUP(A2107,'[1]SD vs SY0.45'!$A$2:$E$20133,5,FALSE)","v":"FRYL"}]
["ENSGALG00000032417",110.136619903276,-1.37339937539721,0.180362934574007,-7.61464310081776,{"v":2.64421082293064e-14,"d":"2.64E-14"},{"v":6.07330166159776e-13,"d":"6.07E-13"},{"$f":"VLOOKUP(A2108,'[1]SD vs SY0.45'!$A$2:$E$20133,5,FALSE)","v":"NA"}]
["ENSGALG00000005426",336.978410914501,-1.37505422371327,0.193055745474733,-7.12257602244342,{"v":1.05928290491288e-12,"d":"1.06E-12"},{"v":1.87172275078458e-11,"d":"1.87E-11"},{"$f":"VLOOKUP(A2109,'[1]SD vs SY0.45'!$A$2:$E$20133,5,FALSE)","v":"FREM1"}]
["ENSGALG00000015442",84.4304326115882,-1.37514188673215,0.200480606996953,-6.85922647247896,{"v":6.92344056307619E-12,"d":"6.92E-12"},{"v":1.07799783112513e-10,"d":"1.08E-10"},{"$f":"VLOOKUP(A2110,'[1]SD vs SY0.45'!$A$2:$E$20133,5,FALSE)","v":"FSD1L"}]
["ENSGALG00000014346",262.067045337631,-1.3760608688097,0.18207488162348,-7.55766449792515,{"v":4.10370876675832e-14,"d":"4.10E-14"},{"v":9.14758773431114e-13,"d":"9.15E-13"},{"$f":"VLOOKUP(A2111,'[1]SD vs SY0.45'!$A$2:$E$20133,5,FALSE)","v":"TSPAN9"}]
["ENSGALG00000037872",478.40275466672,-1.37609764283942,0.11985726016516,-11.4811371538377,{"v":1.64107791114899e-30,"d":"1.64E-30"},{"v":2.12935982396623e-28,"d":"2.13E-28"},{"$f":"VLOOKUP(A2112,'[1]SD vs SY0.45'!$A$2:$E$20133,5,FALSE)","v":"ATAD2B"}]
["ENSGALG00000015167",756.996472019815,-1.37615072667036,0.13610949684763,-10.1106150455534,{"v":4.9572084021125e-24,"d":"4.96E-24"},{"v":3.51799928520531e-22,"d":"3.52E-22"},{"$f":"VLOOKUP(A2113,'[1]SD vs SY0.45'!$A$2:$E$20133,5,FALSE)","v":"PRUNE2"}]
["ENSGALG00000012208",173.950427083421,-1.37636670333359,0.252390970207083,-5.45331198736746,{"v":4.9440215358122E-8,"d":"4.94E-08"},{"v":4.10708716059132e-07,"d":"4.11E-07"},{"$f":"VLOOKUP(A2114,'[1]SD vs SY0.45'!$A$2:$E$20133,5,FALSE)","v":"GMFB"}]
["ENSGALG00000040724",3481.54597636936,-1.37641947245926,0.242809414163535,-5.66872366625875,{"v":1.43865176360304e-08,"d":"1.44E-08"},{"v":1.31031106410508E-7,"d":"1.31E-07"},{"$f":"VLOOKUP(A2115,'[1]SD vs SY0.45'!$A$2:$E$20133,5,FALSE)","v":"AKAP9"}]
["ENSGALG00000012874",440.105305223656,-1.37694418205299,0.199818218242366,-6.89098418635105,{"v":5.54076986281494e-12,"d":"5.54E-12"},{"v":8.78990562087257e-11,"d":"8.79E-11"},{"$f":"VLOOKUP(A2116,'[1]SD vs SY0.45'!$A$2:$E$20133,5,FALSE)","v":"DENND11"}]
["ENSGALG00000008459",707.44828233159,-1.37774862240864,0.137473672103236,-10.0219089323083,{"v":1.22121100188819E-23,"d":"1.22E-23"},{"v":8.32674340777646e-22,"d":"8.33E-22"},{"$f":"VLOOKUP(A2117,'[1]SD vs SY0.45'!$A$2:$E$20133,5,FALSE)","v":"BMPR2,BMPR2"}]
["ENSGALG00000026864",160.82923046177,-1.37925841625376,0.300370249951157,-4.59186093322504,{"v":4.39311076720341E-6,"d":"4.39E-06"},{"v":2.53175395788418E-5,"d":"2.53E-05"},{"$f":"VLOOKUP(A2118,'[1]SD vs SY0.45'!$A$2:$E$20133,5,FALSE)","v":"ZCCHC24"}]
["ENSGALG00000054475",51.8498123680745,-1.38010398906039,0.304953532900167,-4.52562059516194,{"v":6.02185301428092e-06,"d":"6.02E-06"},{"v":3.36013987032421e-05,"d":"3.36E-05"},{"$f":"VLOOKUP(A2119,'[1]SD vs SY0.45'!$A$2:$E$20133,5,FALSE)","v":"NA"}]
["ENSGALG00000014365",348.042630417896,-1.38089838482751,0.14694621416143,-9.39730494390623,{"v":5.59785061643237E-21,"d":"5.60E-21"},{"v":2.91406672658412E-19,"d":"2.91E-19"},{"$f":"VLOOKUP(A2120,'[1]SD vs SY0.45'!$A$2:$E$20133,5,FALSE)","v":"RBPJ"}]
["ENSGALG00000014170",1150.14463858611,-1.38197426578638,0.388783312536571,-3.55461312567623,0.000378535629445146,0.00139440656550058,{"$f":"VLOOKUP(A2121,'[1]SD vs SY0.45'!$A$2:$E$20133,5,FALSE)","v":"MOGAT2"}]
["ENSGALG00000005146",779.536361592029,-1.38227963677444,0.151529016790767,-9.12221082172733,{"v":7.36071710068999e-20,"d":"7.36E-20"},{"v":3.40374436781109e-18,"d":"3.40E-18"},{"$f":"VLOOKUP(A2122,'[1]SD vs SY0.45'!$A$2:$E$20133,5,FALSE)","v":"PDP2"}]
["ENSGALG00000043025",1127.26076084327,-1.3825220343609,0.361899852338709,-3.82017849807513,1.33355129869786E-4,0.000549311926805489,{"$f":"VLOOKUP(A2123,'[1]SD vs SY0.45'!$A$2:$E$20133,5,FALSE)","v":"NA"}]
["ENSGALG00000008934",567.487398003508,-1.38267275790639,0.164026062424216,-8.42959184334029,{"v":3.46872941876143e-17,"d":"3.47E-17"},{"v":1.11893874589991e-15,"d":"1.12E-15"},{"$f":"VLOOKUP(A2124,'[1]SD vs SY0.45'!$A$2:$E$20133,5,FALSE)","v":"PIK3CA"}]
["ENSGALG00000008181",620.070133203878,-1.38293912624138,0.143065964524148,-9.66644394312212,{"v":4.18673491102542e-22,"d":"4.19E-22"},{"v":2.46761897959318e-20,"d":"2.47E-20"},{"$f":"VLOOKUP(A2125,'[1]SD vs SY0.45'!$A$2:$E$20133,5,FALSE)","v":"MADD"}]
["ENSGALG00000038089",2463.99177357299,-1.38299419803009,0.24519173469308,-5.6404601067049,{"v":1.69596360270596E-8,"d":"1.70E-08"},{"v":1.52706986847481E-7,"d":"1.53E-07"},{"$f":"VLOOKUP(A2126,'[1]SD vs SY0.45'!$A$2:$E$20133,5,FALSE)","v":"EGFR"}]
["ENSGALG00000032534",46.2209218019089,-1.38353839097146,0.38885742719379,-3.55795799235682,0.000373749066031564,0.00137794211431103,{"$f":"VLOOKUP(A2127,'[1]SD vs SY0.45'!$A$2:$E$20133,5,FALSE)","v":"NA"}]
["ENSGALG00000015546",507.871317586997,-1.38377281878155,0.105889854644832,-13.0680396476404,{"v":5.01410665823493e-39,"d":"5.01E-39"},{"v":1.2820628303931e-36,"d":"1.28E-36"},{"$f":"VLOOKUP(A2128,'[1]SD vs SY0.45'!$A$2:$E$20133,5,FALSE)","v":"TBC1D14"}]
["ENSGALG00000047952",415.88507975147,-1.38392702369293,0.355357709502723,-3.89446179633912,{"v":9.84170006289851e-05,"d":"9.84E-05"},0.00041884618386265,{"$f":"VLOOKUP(A2129,'[1]SD vs SY0.45'!$A$2:$E$20133,5,FALSE)","v":"NA"}]
["ENSGALG00000009758",12.0528893895351,-1.38417174360242,0.591475694643385,-2.34020054608832,0.0192733874936022,0.0444320323987352,{"$f":"VLOOKUP(A2130,'[1]SD vs SY0.45'!$A$2:$E$20133,5,FALSE)","v":"SLC7A11"}]
["ENSGALG00000004221",1716.7543947406,-1.38501111063174,0.38311686660967,-3.61511390215775,3.00215597460409E-4,0.00113228819805729,{"$f":"VLOOKUP(A2131,'[1]SD vs SY0.45'!$A$2:$E$20133,5,FALSE)","v":"IL22RA1"}]
["ENSGALG00000010020",349.916568843791,-1.3852464372838,0.195042642348414,-7.10227476722382,{"v":1.22719932354549E-12,"d":"1.23E-12"},{"v":2.14877287396631e-11,"d":"2.15E-11"},{"$f":"VLOOKUP(A2132,'[1]SD vs SY0.45'!$A$2:$E$20133,5,FALSE)","v":"TTC7A"}]
["ENSGALG00000009356",299.22581010826,-1.38702788839278,0.193308990040842,-7.1751856346657,{"v":7.22091390414119e-13,"d":"7.22E-13"},{"v":1.31191253972103e-11,"d":"1.31E-11"},{"$f":"VLOOKUP(A2133,'[1]SD vs SY0.45'!$A$2:$E$20133,5,FALSE)","v":"SKIL"}]
["ENSGALG00000049288",39.0626472972975,-1.38724912341995,0.345346942112565,-4.01697236678523,{"v":5.89506335891721e-05,"d":"5.90E-05"},0.000264509591281273,{"$f":"VLOOKUP(A2134,'[1]SD vs SY0.45'!$A$2:$E$20133,5,FALSE)","v":"NA"}]
["ENSGALG00000019570",115.214298297654,-1.38753127180975,0.277853338854551,-4.99375417812086,{"v":5.92167619891116e-07,"d":"5.92E-07"},{"v":4.03607150413439e-06,"d":"4.04E-06"},{"$f":"VLOOKUP(A2135,'[1]SD vs SY0.45'!$A$2:$E$20133,5,FALSE)","v":"C1orf145"}]
["ENSGALG00000008990",378.278908714538,-1.38847025733513,0.145665301960456,-9.53192173186213,{"v":1.54398175688228E-21,"d":"1.54E-21"},{"v":8.4685207592783e-20,"d":"8.47E-20"},{"$f":"VLOOKUP(A2136,'[1]SD vs SY0.45'!$A$2:$E$20133,5,FALSE)","v":"RADX"}]
["ENSGALG00000011531",659.441887301602,-1.38940456231091,0.204237916301597,-6.80287278420515,{"v":1.02553204726495e-11,"d":"1.03E-11"},{"v":1.55051527876484E-10,"d":"1.55E-10"},{"$f":"VLOOKUP(A2137,'[1]SD vs SY0.45'!$A$2:$E$20133,5,FALSE)","v":"APAF1"}]
["ENSGALG00000012799",629.953796785434,-1.39003300794705,0.186531861368926,-7.45198701040045,{"v":9.19447805485105e-14,"d":"9.19E-14"},{"v":1.94482226204009e-12,"d":"1.94E-12"},{"$f":"VLOOKUP(A2138,'[1]SD vs SY0.45'!$A$2:$E$20133,5,FALSE)","v":"RREB1"}]
["ENSGALG00000014772",62.3503185717543,-1.39047717160942,0.230639154158303,-6.02879930202593,{"v":1.65182260464137E-9,"d":"1.65E-09"},{"v":1.7695773029513e-08,"d":"1.77E-08"},{"$f":"VLOOKUP(A2139,'[1]SD vs SY0.45'!$A$2:$E$20133,5,FALSE)","v":"WARS2"}]
["ENSGALG00000027269",56540.6792173502,-1.39066954587656,0.368320766087643,-3.77570225173143,0.000159557496752813,0.000645469100986777,{"$f":"VLOOKUP(A2140,'[1]SD vs SY0.45'!$A$2:$E$20133,5,FALSE)","v":"GUCA2B"}]
["ENSGALG00000011384",268.555892963784,-1.39149521974167,0.18594883648855,-7.4832155232515,{"v":7.25257953100022e-14,"d":"7.25E-14"},{"v":1.55679753463581E-12,"d":"1.56E-12"},{"$f":"VLOOKUP(A2141,'[1]SD vs SY0.45'!$A$2:$E$20133,5,FALSE)","v":"RCOR1"}]
["ENSGALG00000051074",11.6715895439688,-1.39191780709571,0.587037263977644,-2.37108935413122,0.0177357427898994,0.0413810198454082,{"$f":"VLOOKUP(A2142,'[1]SD vs SY0.45'!$A$2:$E$20133,5,FALSE)","v":"NA"}]
["ENSGALG00000011329",1741.20373465529,-1.39321985591986,0.191659571271686,-7.26924226468663,{"v":3.61509553975958E-13,"d":"3.62E-13"},{"v":6.89206865677629e-12,"d":"6.89E-12"},{"$f":"VLOOKUP(A2143,'[1]SD vs SY0.45'!$A$2:$E$20133,5,FALSE)","v":"AFDN"}]
["ENSGALG00000012757",13.1965809579313,-1.39507861218791,0.591889775023109,-2.35699055982753,0.018423715213326,0.0427395779071513,{"$f":"VLOOKUP(A2144,'[1]SD vs SY0.45'!$A$2:$E$20133,5,FALSE)","v":"PMCH"}]
["ENSGALG00000053933",26.0665703123539,-1.39580041053666,0.396577230221074,-3.51961813278731,4.32168530508171E-4,0.00156283574042129,{"$f":"VLOOKUP(A2145,'[1]SD vs SY0.45'!$A$2:$E$20133,5,FALSE)","v":"NA"}]
["ENSGALG00000028077",91.7721481509353,-1.39631592280229,0.289627319549706,-4.82107808397767,{"v":1.42784449192206E-6,"d":"1.43E-06"},{"v":9.06055919016382e-06,"d":"9.06E-06"},{"$f":"VLOOKUP(A2146,'[1]SD vs SY0.45'!$A$2:$E$20133,5,FALSE)","v":"NA"}]
["ENSGALG00000005468",928.480699346797,-1.39687243544554,0.171299245626236,-8.15457435518092,{"v":3.50411778618802e-16,"d":"3.50E-16"},{"v":1.03264569404154e-14,"d":"1.03E-14"},{"$f":"VLOOKUP(A2147,'[1]SD vs SY0.45'!$A$2:$E$20133,5,FALSE)","v":"SYNRG"}]
["ENSGALG00000013625",67.6401810360217,-1.39837185265373,0.280901569621389,-4.97815606562297,{"v":6.41928878638083e-07,"d":"6.42E-07"},{"v":4.34965604554963e-06,"d":"4.35E-06"},{"$f":"VLOOKUP(A2148,'[1]SD vs SY0.45'!$A$2:$E$20133,5,FALSE)","v":"IPCEF1"}]
["ENSGALG00000000573",390.098329410574,-1.39837682118862,0.1739942424496,-8.03691433406875,{"v":9.21290309191909E-16,"d":"9.21E-16"},{"v":2.56295593694715E-14,"d":"2.56E-14"},{"$f":"VLOOKUP(A2149,'[1]SD vs SY0.45'!$A$2:$E$20133,5,FALSE)","v":"PER3"}]
["ENSGALG00000008318",920.397767343915,-1.39853334806881,0.165335733037883,-8.45874828370204,{"v":2.70262697476732e-17,"d":"2.70E-17"},{"v":8.78328508603354E-16,"d":"8.78E-16"},{"$f":"VLOOKUP(A2150,'[1]SD vs SY0.45'!$A$2:$E$20133,5,FALSE)","v":"SLK"}]
["ENSGALG00000011009",21.0707539580918,-1.39857005044683,0.460112537721773,-3.0396260388204,0.00236872066168886,7.08985129020213E-3,{"$f":"VLOOKUP(A2151,'[1]SD vs SY0.45'!$A$2:$E$20133,5,FALSE)","v":"SCN2A"}]
["ENSGALG00000013651",65.4741213008878,-1.3995983382947,0.25034688802787,-5.59063605431713,{"v":2.26239334077268E-8,"d":"2.26E-08"},{"v":1.99676309725962e-07,"d":"2.00E-07"},{"$f":"VLOOKUP(A2152,'[1]SD vs SY0.45'!$A$2:$E$20133,5,FALSE)","v":"RNF217"}]
["ENSGALG00000010718",120.963350204636,-1.40025871805216,0.27981696051986,-5.00419529770703,{"v":5.60958642998197E-7,"d":"5.61E-07"},{"v":3.83387890165474e-06,"d":"3.83E-06"},{"$f":"VLOOKUP(A2153,'[1]SD vs SY0.45'!$A$2:$E$20133,5,FALSE)","v":"NA"}]
["ENSGALG00000010766",418.765793727051,-1.40042464208586,0.125063830012044,-11.1976791527255,{"v":4.18555137843584e-29,"d":"4.19E-29"},{"v":4.9171744470854e-27,"d":"4.92E-27"},{"$f":"VLOOKUP(A2154,'[1]SD vs SY0.45'!$A$2:$E$20133,5,FALSE)","v":"ATXN3L"}]
["ENSGALG00000005938",24.8079993010948,-1.40191985316095,0.551768570475883,-2.54077511510276,0.0110607036611192,0.0275085759627921,{"$f":"VLOOKUP(A2155,'[1]SD vs SY0.45'!$A$2:$E$20133,5,FALSE)","v":"C14H7ORF62"}]
["ENSGALG00000037129",135.411612466714,-1.40202242419243,0.288462760287057,-4.86032381717917,{"v":1.1719390047594E-6,"d":"1.17E-06"},{"v":7.55805025064974e-06,"d":"7.56E-06"},{"$f":"VLOOKUP(A2156,'[1]SD vs SY0.45'!$A$2:$E$20133,5,FALSE)","v":"FAM241A"}]
["ENSGALG00000004523",719.686806431565,-1.4028318286364,0.171433470283667,-8.18295182565675,{"v":2.7697391002853e-16,"d":"2.77E-16"},{"v":8.23204337378813e-15,"d":"8.23E-15"},{"$f":"VLOOKUP(A2157,'[1]SD vs SY0.45'!$A$2:$E$20133,5,FALSE)","v":"MFN2"}]
["ENSGALG00000010000",254.509064517737,-1.40304290107289,0.148036054189767,-9.47771074250828,{"v":2.59922642929383E-21,"d":"2.60E-21"},{"v":1.38628067258073E-19,"d":"1.39E-19"},{"$f":"VLOOKUP(A2158,'[1]SD vs SY0.45'!$A$2:$E$20133,5,FALSE)","v":"PRKCE"}]
["ENSGALG00000007028",285.236767959211,-1.40321038005169,0.235058222549734,-5.96962899162055,{"v":2.37793696628731e-09,"d":"2.38E-09"},{"v":2.45809691039461E-8,"d":"2.46E-08"},{"$f":"VLOOKUP(A2159,'[1]SD vs SY0.45'!$A$2:$E$20133,5,FALSE)","v":"CNKSR2L"}]
["ENSGALG00000016202",53.6294852134325,-1.40333964277389,0.448996632267605,-3.1255014891459,1.77502171312633E-3,0.0054934678757792,{"$f":"VLOOKUP(A2160,'[1]SD vs SY0.45'!$A$2:$E$20133,5,FALSE)","v":"HSF2BP"}]
["ENSGALG00000051546",76.741516499205,-1.40338034121894,0.31597383271059,-4.44144481579376,{"v":8.9356864187482e-06,"d":"8.94E-06"},{"v":4.83701057791952e-05,"d":"4.84E-05"},{"$f":"VLOOKUP(A2161,'[1]SD vs SY0.45'!$A$2:$E$20133,5,FALSE)","v":"NA"}]
["ENSGALG00000015944",8.06536977630313,-1.40495389169787,0.552702062362796,-2.54197331142877,0.0110228589903472,0.0274340751882574,{"$f":"VLOOKUP(A2162,'[1]SD vs SY0.45'!$A$2:$E$20133,5,FALSE)","v":"NA"}]
["ENSGALG00000039659",40.8684526154171,-1.40544004615148,0.372139433187666,-3.77664907508668,0.000158952437951199,0.000643470556148427,{"$f":"VLOOKUP(A2163,'[1]SD vs SY0.45'!$A$2:$E$20133,5,FALSE)","v":"PCLO"}]
["ENSGALG00000041830",16.5723137433606,-1.40552119485509,0.577317589847344,-2.43457192292849,0.0149094165034369,0.0355645527157713,{"$f":"VLOOKUP(A2164,'[1]SD vs SY0.45'!$A$2:$E$20133,5,FALSE)","v":"NA"}]
["ENSGALG00000011861",27.3884767215481,-1.40560839123284,0.394753431400274,-3.56072494733446,0.000369832327780027,1.36552870739251E-3,{"$f":"VLOOKUP(A2165,'[1]SD vs SY0.45'!$A$2:$E$20133,5,FALSE)","v":"SYT16"}]
["ENSGALG00000039222",203.907310453128,-1.40621250303708,0.135560097401018,-10.3733512294343,{"v":3.27822284350338E-25,"d":"3.28E-25"},{"v":2.59083911727242e-23,"d":"2.59E-23"},{"$f":"VLOOKUP(A2166,'[1]SD vs SY0.45'!$A$2:$E$20133,5,FALSE)","v":"DPY19L4"}]
["ENSGALG00000018819",115.207567791581,-1.40818391984954,0.244134817496982,-5.76805854358299,{"v":8.01899515192237e-09,"d":"8.02E-09"},{"v":7.66078399486122e-08,"d":"7.66E-08"},{"$f":"VLOOKUP(A2167,'[1]SD vs SY0.45'!$A$2:$E$20133,5,FALSE)","v":"TBCEL"}]
["ENSGALG00000011569",662.061529576438,-1.40823406422305,0.133962253248608,-10.5121706307047,{"v":7.59255767840742e-26,"d":"7.59E-26"},{"v":6.37738165963622e-24,"d":"6.38E-24"},{"$f":"VLOOKUP(A2168,'[1]SD vs SY0.45'!$A$2:$E$20133,5,FALSE)","v":"SCYL2"}]
["ENSGALG00000003743",355.416264251183,-1.40842618765351,0.19948412970394,-7.06034204196493,{"v":1.6609325409694E-12,"d":"1.66E-12"},{"v":2.84518562461428e-11,"d":"2.85E-11"},{"$f":"VLOOKUP(A2169,'[1]SD vs SY0.45'!$A$2:$E$20133,5,FALSE)","v":"VPS37B"}]
["ENSGALG00000007777",115.666411545218,-1.40935307150488,0.297562456252022,-4.7363269185788,{"v":2.17626433413001e-06,"d":"2.18E-06"},{"v":1.32871998541728e-05,"d":"1.33E-05"},{"$f":"VLOOKUP(A2170,'[1]SD vs SY0.45'!$A$2:$E$20133,5,FALSE)","v":"SLC39A10"}]
["ENSGALG00000007139",80.8534338780315,-1.40964421792172,0.222180064507847,-6.34460261339933,{"v":2.2300030988979e-10,"d":"2.23E-10"},{"v":2.71710328525142E-9,"d":"2.72E-09"},{"$f":"VLOOKUP(A2171,'[1]SD vs SY0.45'!$A$2:$E$20133,5,FALSE)","v":"FAM107A"}]
["ENSGALG00000012018",2219.62947864583,-1.41039980324354,0.283571636525944,-4.97369842951307,{"v":6.56874696151254e-07,"d":"6.57E-07"},{"v":4.44227162270784e-06,"d":"4.44E-06"},{"$f":"VLOOKUP(A2172,'[1]SD vs SY0.45'!$A$2:$E$20133,5,FALSE)","v":"UGT8"}]
["ENSGALG00000010769",4901.07896162995,-1.41046567903662,0.528112019962016,-2.67076988540815,0.00756775073402794,0.0197124317621789,{"$f":"VLOOKUP(A2173,'[1]SD vs SY0.45'!$A$2:$E$20133,5,FALSE)","v":"HPGD"}]
["ENSGALG00000008902",1000.11454686176,-1.410699541119,0.272225008287247,-5.18210854320356,{"v":2.19391471878827e-07,"d":"2.19E-07"},{"v":1.62806637710507E-6,"d":"1.63E-06"},{"$f":"VLOOKUP(A2174,'[1]SD vs SY0.45'!$A$2:$E$20133,5,FALSE)","v":"GIPC2"}]
["ENSGALG00000009847",383.100359054019,-1.41139184778424,0.187511534664592,-7.52696014305913,{"v":5.19352145706654E-14,"d":"5.19E-14"},{"v":1.14158985555014e-12,"d":"1.14E-12"},{"$f":"VLOOKUP(A2175,'[1]SD vs SY0.45'!$A$2:$E$20133,5,FALSE)","v":"STXBP6"}]
["ENSGALG00000016607",20.1472920991024,-1.41181464113523,0.401777015321577,-3.51392585264051,4.41536042631725E-4,1.59372787486772E-3,{"$f":"VLOOKUP(A2176,'[1]SD vs SY0.45'!$A$2:$E$20133,5,FALSE)","v":"CLCN4"}]
["ENSGALG00000043669",1210.15700540826,-1.41229482022287,0.12221274359234,-11.5560356367893,{"v":6.88128789309762e-31,"d":"6.88E-31"},{"v":9.2034578920991E-29,"d":"9.20E-29"},{"$f":"VLOOKUP(A2177,'[1]SD vs SY0.45'!$A$2:$E$20133,5,FALSE)","v":"WDFY3"}]
["ENSGALG00000013764",252.196920176439,-1.41236541689852,0.163342104881322,-8.64667085026665,{"v":5.3023628708757e-18,"d":"5.30E-18"},{"v":1.95322422109991e-16,"d":"1.95E-16"},{"$f":"VLOOKUP(A2178,'[1]SD vs SY0.45'!$A$2:$E$20133,5,FALSE)","v":"AASDH"}]
["ENSGALG00000007646",2036.7027356285,-1.41249442304641,0.324762705277437,-4.34931228276272,{"v":1.3656512543603e-05,"d":"1.37E-05"},{"v":7.06263484817445e-05,"d":"7.06E-05"},{"$f":"VLOOKUP(A2179,'[1]SD vs SY0.45'!$A$2:$E$20133,5,FALSE)","v":"VEGFRKDRL"}]
["ENSGALG00000053697",344.76381402779,-1.41419683464615,0.445073611389014,-3.17744480566401,1.48578967646467E-3,0.00470297198337725,{"$f":"VLOOKUP(A2180,'[1]SD vs SY0.45'!$A$2:$E$20133,5,FALSE)","v":"TMEM125"}]
["ENSGALG00000023742",129.909331775766,-1.41452130615196,0.506350000641791,-2.79356434158007,0.00521306572338453,0.0142442891058558,{"$f":"VLOOKUP(A2181,'[1]SD vs SY0.45'!$A$2:$E$20133,5,FALSE)","v":"AHR2"}]
["ENSGALG00000014537",213.169238248633,-1.41652544009497,0.311334762580352,-4.54984669349086,{"v":5.36850142081188e-06,"d":"5.37E-06"},{"v":3.0355165594685e-05,"d":"3.04E-05"},{"$f":"VLOOKUP(A2182,'[1]SD vs SY0.45'!$A$2:$E$20133,5,FALSE)","v":"BMF"}]
["ENSGALG00000035345",927.999885735219,-1.4165640157535,0.221639629150102,-6.39129392692743,{"v":1.64487849825507E-10,"d":"1.64E-10"},{"v":2.04574409507589e-09,"d":"2.05E-09"},{"$f":"VLOOKUP(A2183,'[1]SD vs SY0.45'!$A$2:$E$20133,5,FALSE)","v":"TXNRD1"}]
["ENSGALG00000008886",130.900044326721,-1.41944033885822,0.188657724426256,-7.52389197513648,{"v":5.31692794668024e-14,"d":"5.32E-14"},{"v":1.16724022991072E-12,"d":"1.17E-12"},{"$f":"VLOOKUP(A2184,'[1]SD vs SY0.45'!$A$2:$E$20133,5,FALSE)","v":"ZNF618"}]
["ENSGALG00000001856",39.1335536791533,-1.41973735123792,0.296359905774668,-4.79058510808607,{"v":1.66295667340974E-6,"d":"1.66E-06"},{"v":1.03931803309041E-5,"d":"1.04E-05"},{"$f":"VLOOKUP(A2185,'[1]SD vs SY0.45'!$A$2:$E$20133,5,FALSE)","v":"MOB3B"}]
["ENSGALG00000035932",34.815551539428,-1.42017881439122,0.363007133085738,-3.91226145425574,{"v":9.14358405668272e-05,"d":"9.14E-05"},0.00039225140881703,{"$f":"VLOOKUP(A2186,'[1]SD vs SY0.45'!$A$2:$E$20133,5,FALSE)","v":"ZC2HC1A"}]
["ENSGALG00000021601",473.649244124047,-1.42066013498227,0.163770307493155,-8.67471128758577,{"v":4.14600985234852e-18,"d":"4.15E-18"},{"v":1.55359209704275E-16,"d":"1.55E-16"},{"$f":"VLOOKUP(A2187,'[1]SD vs SY0.45'!$A$2:$E$20133,5,FALSE)","v":"EPS15L1"}]
["ENSGALG00000009901",434.366638487299,-1.42196217177068,0.1746148662047,-8.14341987413445,{"v":3.84266836804775e-16,"d":"3.84E-16"},{"v":1.12478913998731e-14,"d":"1.12E-14"},{"$f":"VLOOKUP(A2188,'[1]SD vs SY0.45'!$A$2:$E$20133,5,FALSE)","v":"DYRK2"}]
["ENSGALG00000014819",188.781217123989,-1.4251941438823,0.180382690994614,-7.90094734713128,{"v":2.76791566496122e-15,"d":"2.77E-15"},{"v":7.29178025252738e-14,"d":"7.29E-14"},{"$f":"VLOOKUP(A2189,'[1]SD vs SY0.45'!$A$2:$E$20133,5,FALSE)","v":"JMY"}]
["ENSGALG00000003168",165.711614237413,-1.42552177334939,0.17780560877652,-8.01730487108033,{"v":1.08090602351783e-15,"d":"1.08E-15"},{"v":2.99740239727345e-14,"d":"3.00E-14"},{"$f":"VLOOKUP(A2190,'[1]SD vs SY0.45'!$A$2:$E$20133,5,FALSE)","v":"MTMR12"}]
["ENSGALG00000034274",273.172712529664,-1.42652147986226,0.195352584465068,-7.30229130967727,{"v":2.82907910380448e-13,"d":"2.83E-13"},{"v":5.47154598196313e-12,"d":"5.47E-12"},{"$f":"VLOOKUP(A2191,'[1]SD vs SY0.45'!$A$2:$E$20133,5,FALSE)","v":"GRAMD4"}]
["ENSGALG00000012342",585.377720074362,-1.42677124660057,0.178968092594525,-7.97221016280877,{"v":1.55861455176479E-15,"d":"1.56E-15"},{"v":4.25220595263275e-14,"d":"4.25E-14"},{"$f":"VLOOKUP(A2192,'[1]SD vs SY0.45'!$A$2:$E$20133,5,FALSE)","v":"SASH1"}]
["ENSGALG00000005882",684.618491737489,-1.42719813887456,0.162575218933115,-8.77869424528788,{"v":1.65383456614068e-18,"d":"1.65E-18"},{"v":6.39004924477511e-17,"d":"6.39E-17"},{"$f":"VLOOKUP(A2193,'[1]SD vs SY0.45'!$A$2:$E$20133,5,FALSE)","v":"LRCH2"}]
["ENSGALG00000020879",567.799464855041,-1.42801457926259,0.132196679731048,-10.8021970155972,{"v":3.36064466889306e-27,"d":"3.36E-27"},{"v":3.22826126287534e-25,"d":"3.23E-25"},{"$f":"VLOOKUP(A2194,'[1]SD vs SY0.45'!$A$2:$E$20133,5,FALSE)","v":"SLC30A7"}]
["ENSGALG00000044940",1821.10294184508,-1.4291847131193,0.373795887858407,-3.82343615738404,0.000131604679250229,0.000543002030878911,{"$f":"VLOOKUP(A2195,'[1]SD vs SY0.45'!$A$2:$E$20133,5,FALSE)","v":"GCNT3"}]
["ENSGALG00000002165",171.505430057444,-1.42989488783222,0.202761449268349,-7.0521042978924,{"v":1.76232021555081e-12,"d":"1.76E-12"},{"v":2.9952552871732e-11,"d":"3.00E-11"},{"$f":"VLOOKUP(A2196,'[1]SD vs SY0.45'!$A$2:$E$20133,5,FALSE)","v":"UNC13B"}]
["ENSGALG00000021220",45.6447482551601,-1.43035616885871,0.321539577587841,-4.44846068278468,{"v":8.64878763011002e-06,"d":"8.65E-06"},{"v":4.69632949796137e-05,"d":"4.70E-05"},{"$f":"VLOOKUP(A2197,'[1]SD vs SY0.45'!$A$2:$E$20133,5,FALSE)","v":"PPP1R3D"}]
["ENSGALG00000010593",323.499805300025,-1.43050377039475,0.181661751565035,-7.87454573167337,{"v":3.41983103898536E-15,"d":"3.42E-15"},{"v":8.86149065198786e-14,"d":"8.86E-14"},{"$f":"VLOOKUP(A2198,'[1]SD vs SY0.45'!$A$2:$E$20133,5,FALSE)","v":"GALC"}]
["ENSGALG00000033338",1795.1685764639,-1.43242893576275,0.337900080185387,-4.23920862929912,{"v":2.24309123834739e-05,"d":"2.24E-05"},1.10828722253896E-4,{"$f":"VLOOKUP(A2199,'[1]SD vs SY0.45'!$A$2:$E$20133,5,FALSE)","v":"GPT2"}]
["ENSGALG00000014321",560.60383637723,-1.43370115669826,0.146768200719073,-9.76847266420118,{"v":1.53752373890298E-22,"d":"1.54E-22"},{"v":9.41300184799511e-21,"d":"9.41E-21"},{"$f":"VLOOKUP(A2200,'[1]SD vs SY0.45'!$A$2:$E$20133,5,FALSE)","v":"SMIM14"}]
["ENSGALG00000009027",53.3776509102824,-1.43401159104204,0.336344136000237,-4.26352487691663,{"v":2.01227085844026e-05,"d":"2.01E-05"},1.00394127448209E-4,{"$f":"VLOOKUP(A2201,'[1]SD vs SY0.45'!$A$2:$E$20133,5,FALSE)","v":"ST6GALNAC3"}]
["ENSGALG00000052494",22.8871581128398,-1.43428710700339,0.352078559950989,-4.07377009041122,{"v":4.62581484917727e-05,"d":"4.63E-05"},0.000213113520886712,{"$f":"VLOOKUP(A2202,'[1]SD vs SY0.45'!$A$2:$E$20133,5,FALSE)","v":"C4orf50"}]
["ENSGALG00000014857",1954.69715768731,-1.43456215337546,0.449349627808732,-3.19252996908254,0.00141032308937343,0.00448696936046402,{"$f":"VLOOKUP(A2203,'[1]SD vs SY0.45'!$A$2:$E$20133,5,FALSE)","v":"NA"}]
["ENSGALG00000007909",68.4212592629089,-1.43542085735093,0.306056853119281,-4.69004644961014,{"v":2.73143035969519e-06,"d":"2.73E-06"},{"v":1.63369039091917e-05,"d":"1.63E-05"},{"$f":"VLOOKUP(A2204,'[1]SD vs SY0.45'!$A$2:$E$20133,5,FALSE)","v":"IQCH"}]
["ENSGALG00000004065",519.615858679082,-1.43908110720884,0.225440260190241,-6.38342550702549,{"v":1.73169853488932E-10,"d":"1.73E-10"},{"v":2.13994615679606e-09,"d":"2.14E-09"},{"$f":"VLOOKUP(A2205,'[1]SD vs SY0.45'!$A$2:$E$20133,5,FALSE)","v":"SLC25A16"}]
["ENSGALG00000007554",694.445955902613,-1.44349196678528,0.179474718842651,-8.04287075134418,{"v":8.77578764785064e-16,"d":"8.78E-16"},{"v":2.45312893622474E-14,"d":"2.45E-14"},{"$f":"VLOOKUP(A2206,'[1]SD vs SY0.45'!$A$2:$E$20133,5,FALSE)","v":"RAB22A"}]
["ENSGALG00000045127",63.2994546838848,-1.44406724809457,0.338808529082017,-4.2621927258065,{"v":2.02430740795466E-5,"d":"2.02E-05"},1.00936716094372E-4,{"$f":"VLOOKUP(A2207,'[1]SD vs SY0.45'!$A$2:$E$20133,5,FALSE)","v":"NA"}]
["ENSGALG00000009249",678.850376536004,-1.44438773340952,0.0998495962308848,-14.4656341931481,{"v":1.99755284974991E-47,"d":"2.00E-47"},{"v":9.38687875637882e-45,"d":"9.39E-45"},{"$f":"VLOOKUP(A2208,'[1]SD vs SY0.45'!$A$2:$E$20133,5,FALSE)","v":"UBR1"}]
["ENSGALG00000002726",1810.95141627196,-1.44630229119464,0.204104941667208,-7.08607189703827,{"v":1.37972150663751E-12,"d":"1.38E-12"},{"v":2.39413351655753e-11,"d":"2.39E-11"},{"$f":"VLOOKUP(A2209,'[1]SD vs SY0.45'!$A$2:$E$20133,5,FALSE)","v":"KIF1B"}]
["ENSGALG00000013941",234.363509089365,-1.44689237058581,0.204961438639602,-7.05933945521326,{"v":1.6729593653839E-12,"d":"1.67E-12"},{"v":2.85734228741944e-11,"d":"2.86E-11"},{"$f":"VLOOKUP(A2210,'[1]SD vs SY0.45'!$A$2:$E$20133,5,FALSE)","v":"PDE7B"}]
["ENSGALG00000051922",1125.31467122703,-1.44714939297205,0.131815155006747,-10.9786267967289,{"v":4.84228383194191e-28,"d":"4.84E-28"},{"v":4.89492959220779e-26,"d":"4.89E-26"},{"$f":"VLOOKUP(A2211,'[1]SD vs SY0.45'!$A$2:$E$20133,5,FALSE)","v":"NA"}]
["ENSGALG00000052891",12.4355605053706,-1.44734677645754,0.502837326060412,-2.87835986201958,0.00399748844091908,0.0112539396894851,{"$f":"VLOOKUP(A2212,'[1]SD vs SY0.45'!$A$2:$E$20133,5,FALSE)","v":"NA"}]
["ENSGALG00000052837",191.433699078845,-1.44755604945425,0.153151865774264,-9.45176894931111,{"v":3.33152132393337e-21,"d":"3.33E-21"},{"v":1.76064319936868e-19,"d":"1.76E-19"},{"$f":"VLOOKUP(A2213,'[1]SD vs SY0.45'!$A$2:$E$20133,5,FALSE)","v":"NA"}]
["ENSGALG00000002655",1354.60263850357,-1.44799563950764,0.116415339555838,-12.438185938659,{"v":1.62144612908574e-35,"d":"1.62E-35"},{"v":3.35620045790641e-33,"d":"3.36E-33"},{"$f":"VLOOKUP(A2214,'[1]SD vs SY0.45'!$A$2:$E$20133,5,FALSE)","v":"ITGAV"}]
["ENSGALG00000042766",323.612298003424,-1.44853947639687,0.182114730691185,-7.95399400641119,{"v":1.80592867786223e-15,"d":"1.81E-15"},{"v":4.86063187646913E-14,"d":"4.86E-14"},{"$f":"VLOOKUP(A2215,'[1]SD vs SY0.45'!$A$2:$E$20133,5,FALSE)","v":"TRAPPC9"}]
["ENSGALG00000035461",407.755739435498,-1.44863794513341,0.167964099184847,-8.62468796703492,{"v":6.4267641665894e-18,"d":"6.43E-18"},{"v":2.34752412950609e-16,"d":"2.35E-16"},{"$f":"VLOOKUP(A2216,'[1]SD vs SY0.45'!$A$2:$E$20133,5,FALSE)","v":"CHORDC1"}]
["ENSGALG00000009698",452.732368383343,-1.44888454473868,0.240678034304001,-6.02001154334086,{"v":1.7440463271072e-09,"d":"1.74E-09"},{"v":1.85466259874085e-08,"d":"1.85E-08"},{"$f":"VLOOKUP(A2217,'[1]SD vs SY0.45'!$A$2:$E$20133,5,FALSE)","v":"SLC38A1"}]
["ENSGALG00000035466",53.9736294903875,-1.45174784796417,0.392498895721778,-3.69873103794216,0.000216680061554568,8.46991058958918E-4,{"$f":"VLOOKUP(A2218,'[1]SD vs SY0.45'!$A$2:$E$20133,5,FALSE)","v":"CACNB4"}]
["ENSGALG00000012089",35.9642451925017,-1.45223792600954,0.459513821961746,-3.16037920210905,0.00157563925752403,4.9468471958415E-3,{"$f":"VLOOKUP(A2219,'[1]SD vs SY0.45'!$A$2:$E$20133,5,FALSE)","v":"NA"}]
["ENSGALG00000007334",1162.39504217983,-1.45343791123601,0.366235490912183,-3.96858837360609,{"v":7.22996449391564e-05,"d":"7.23E-05"},3.17042604428023E-4,{"$f":"VLOOKUP(A2220,'[1]SD vs SY0.45'!$A$2:$E$20133,5,FALSE)","v":"ABAT"}]
["ENSGALG00000030268",1624.32135749018,-1.4535551028199,0.18050900325538,-8.05253520104725,{"v":8.10964032099202e-16,"d":"8.11E-16"},{"v":2.27790494767509e-14,"d":"2.28E-14"},{"$f":"VLOOKUP(A2221,'[1]SD vs SY0.45'!$A$2:$E$20133,5,FALSE)","v":"NKTR"}]
["ENSGALG00000016022",78.035941635763,-1.45425925366941,0.301051723095212,-4.8305960142586,{"v":1.36124951584725e-06,"d":"1.36E-06"},{"v":8.6727748497048e-06,"d":"8.67E-06"},{"$f":"VLOOKUP(A2222,'[1]SD vs SY0.45'!$A$2:$E$20133,5,FALSE)","v":"RUNX1"}]
["ENSGALG00000010672",30.2434365016263,-1.45502176310579,0.387995800038164,-3.75009668394006,0.000176766402080536,0.000706374955866303,{"$f":"VLOOKUP(A2223,'[1]SD vs SY0.45'!$A$2:$E$20133,5,FALSE)","v":"KCNK13"}]
["ENSGALG00000031843",2000.67817529428,-1.45510733734572,0.216226330411263,-6.72955663899999,{"v":1.70180833968342e-11,"d":"1.70E-11"},{"v":2.46989495843703e-10,"d":"2.47E-10"},{"$f":"VLOOKUP(A2224,'[1]SD vs SY0.45'!$A$2:$E$20133,5,FALSE)","v":"ARHGAP18"}]
["ENSGALG00000005354",142.90287151941,-1.45512347821539,0.199501656293337,-7.29379146645204,{"v":3.01351756087997e-13,"d":"3.01E-13"},{"v":5.80243962691253e-12,"d":"5.80E-12"},{"$f":"VLOOKUP(A2225,'[1]SD vs SY0.45'!$A$2:$E$20133,5,FALSE)","v":"ZBTB5"}]
["ENSGALG00000011573",292.063945581064,-1.4552139277309,0.13641911404822,-10.6672289868158,{"v":1.44882758213563e-26,"d":"1.45E-26"},{"v":1.31888822882682E-24,"d":"1.32E-24"},{"$f":"VLOOKUP(A2226,'[1]SD vs SY0.45'!$A$2:$E$20133,5,FALSE)","v":"MOB1B"}]
["ENSGALG00000019716",19884.5003574976,-1.455785243588,0.543299746308673,-2.67952498317733,0.00737267013061675,0.0192620008356174,{"$f":"VLOOKUP(A2227,'[1]SD vs SY0.45'!$A$2:$E$20133,5,FALSE)","v":"KRT40"}]
["ENSGALG00000040729",33.6652726225746,-1.45608204390422,0.346862865787284,-4.19786084797319,{"v":2.69448104356805e-05,"d":"2.69E-05"},0.000130899530328354,{"$f":"VLOOKUP(A2228,'[1]SD vs SY0.45'!$A$2:$E$20133,5,FALSE)","v":"NA"}]
["ENSGALG00000015051",290.795972094022,-1.4562604803425,0.160442544722954,-9.07652320559433,{"v":1.1209842387925e-19,"d":"1.12E-19"},{"v":5.03631859428558E-18,"d":"5.04E-18"},{"$f":"VLOOKUP(A2229,'[1]SD vs SY0.45'!$A$2:$E$20133,5,FALSE)","v":"CDK19"}]
["ENSGALG00000002427",940.627491580693,-1.4570851628156,0.517299468793598,-2.8167149798427,0.00485175605429607,0.0133719862937688,{"$f":"VLOOKUP(A2230,'[1]SD vs SY0.45'!$A$2:$E$20133,5,FALSE)","v":"SMIM5"}]
["ENSGALG00000014918",108.886727325469,-1.4574185104025,0.268058015941821,-5.43695179299847,{"v":5.41997945056733e-08,"d":"5.42E-08"},{"v":4.47045458761927e-07,"d":"4.47E-07"},{"$f":"VLOOKUP(A2231,'[1]SD vs SY0.45'!$A$2:$E$20133,5,FALSE)","v":"RFX6"}]
["ENSGALG00000033660",574.585615287809,-1.45924672758394,0.17379368094721,-8.39643144463458,{"v":4.60252246436949e-17,"d":"4.60E-17"},{"v":1.47373955963153E-15,"d":"1.47E-15"},{"$f":"VLOOKUP(A2232,'[1]SD vs SY0.45'!$A$2:$E$20133,5,FALSE)","v":"PRDM10"}]
["ENSGALG00000007912",217.058717894761,-1.45953932943033,0.267507598584543,-5.45606680764643,{"v":4.86796838278163e-08,"d":"4.87E-08"},{"v":4.0516690412362e-07,"d":"4.05E-07"},{"$f":"VLOOKUP(A2233,'[1]SD vs SY0.45'!$A$2:$E$20133,5,FALSE)","v":"ATP9A"}]
["ENSGALG00000011639",1067.20472282651,-1.45980327139524,0.208784840324206,-6.99190261672458,{"v":2.71183100800935e-12,"d":"2.71E-12"},{"v":4.48199674299036e-11,"d":"4.48E-11"},{"$f":"VLOOKUP(A2234,'[1]SD vs SY0.45'!$A$2:$E$20133,5,FALSE)","v":"CEP170B"}]
["ENSGALG00000004974",241.685089812291,-1.4600533314943,0.317823113169754,-4.5939180348865,{"v":4.35000297071892e-06,"d":"4.35E-06"},{"v":2.50857385246732E-5,"d":"2.51E-05"},{"$f":"VLOOKUP(A2235,'[1]SD vs SY0.45'!$A$2:$E$20133,5,FALSE)","v":"PPARG,PPARG"}]
["ENSGALG00000014903",191.276803246594,-1.46148627661812,0.273506746392404,-5.34351088554614,{"v":9.11633520186852e-08,"d":"9.12E-08"},{"v":7.2509478570397e-07,"d":"7.25E-07"},{"$f":"VLOOKUP(A2236,'[1]SD vs SY0.45'!$A$2:$E$20133,5,FALSE)","v":"ITGA2"}]
["ENSGALG00000003705",967.479158305508,-1.46272063660484,0.201323490555956,-7.26552392155298,{"v":3.71595160156358E-13,"d":"3.72E-13"},{"v":7.06884578735077e-12,"d":"7.07E-12"},{"$f":"VLOOKUP(A2237,'[1]SD vs SY0.45'!$A$2:$E$20133,5,FALSE)","v":"VPS13C"}]
["ENSGALG00000009445",623.570515668725,-1.46370019534206,0.263057619930795,-5.56418094152577,{"v":2.63386547226121E-8,"d":"2.63E-08"},{"v":2.29894673525129e-07,"d":"2.30E-07"},{"$f":"VLOOKUP(A2238,'[1]SD vs SY0.45'!$A$2:$E$20133,5,FALSE)","v":"INPP5F"}]
["ENSGALG00000025743",856.716818777952,-1.46387812424437,0.294663795334135,-4.96796059585266,{"v":6.76607066156653e-07,"d":"6.77E-07"},{"v":4.56765234032831e-06,"d":"4.57E-06"},{"$f":"VLOOKUP(A2239,'[1]SD vs SY0.45'!$A$2:$E$20133,5,FALSE)","v":"CDR2"}]
["ENSGALG00000033340",546.516274678658,-1.46423078840266,0.22192700220509,-6.59780366451087,{"v":4.17293368656306e-11,"d":"4.17E-11"},{"v":5.6595006246702e-10,"d":"5.66E-10"},{"$f":"VLOOKUP(A2240,'[1]SD vs SY0.45'!$A$2:$E$20133,5,FALSE)","v":"NA"}]
["ENSGALG00000044260",789.162671228779,-1.46427360278258,0.125207159604119,-11.6948072890747,{"v":1.35494421681582e-31,"d":"1.35E-31"},{"v":1.8405011795138e-29,"d":"1.84E-29"},{"$f":"VLOOKUP(A2241,'[1]SD vs SY0.45'!$A$2:$E$20133,5,FALSE)","v":"LOC776067"}]
["ENSGALG00000014347",486.324830665362,-1.46535680712734,0.400227690501853,-3.6613079052324,0.000250930968690678,0.000967022193813895,{"$f":"VLOOKUP(A2242,'[1]SD vs SY0.45'!$A$2:$E$20133,5,FALSE)","v":"PARP11"}]
["ENSGALG00000015094",19.0605983544974,-1.46698018032813,0.469305377268308,-3.12585419086183,1.7728943134697E-3,0.00548786067799494,{"$f":"VLOOKUP(A2243,'[1]SD vs SY0.45'!$A$2:$E$20133,5,FALSE)","v":"ZBTB20"}]
["ENSGALG00000009037",8.95381456686849,-1.46778960136428,0.607422331975963,-2.41642350650743,0.0156738191404508,0.0371788121957732,{"$f":"VLOOKUP(A2244,'[1]SD vs SY0.45'!$A$2:$E$20133,5,FALSE)","v":"SPTLC3"}]
["ENSGALG00000004704",28.4180000111904,-1.46834565558082,0.488328893738149,-3.00687850833618,2.63945228316592E-3,0.00782875415342985,{"$f":"VLOOKUP(A2245,'[1]SD vs SY0.45'!$A$2:$E$20133,5,FALSE)","v":"TDRD12"}]
["ENSGALG00000044780",411.108818553895,-1.46932096530666,0.284536648995455,-5.1639076037974,{"v":2.41847109150163e-07,"d":"2.42E-07"},{"v":1.78026913073407e-06,"d":"1.78E-06"},{"$f":"VLOOKUP(A2246,'[1]SD vs SY0.45'!$A$2:$E$20133,5,FALSE)","v":"NA"}]
["ENSGALG00000025672",56.3830566702909,-1.4697668673947,0.294482177510496,-4.99102145949838,{"v":6.00608237892025e-07,"d":"6.01E-07"},{"v":4.08769301711467e-06,"d":"4.09E-06"},{"$f":"VLOOKUP(A2247,'[1]SD vs SY0.45'!$A$2:$E$20133,5,FALSE)","v":"SNORD97"}]
["ENSGALG00000036710",28.8918087455254,-1.47113543684642,0.461649449091277,-3.18669379925015,0.00143909039988401,0.00456929597932492,{"$f":"VLOOKUP(A2248,'[1]SD vs SY0.45'!$A$2:$E$20133,5,FALSE)","v":"NA"}]
["ENSGALG00000010554",621.652104816044,-1.47235086489681,0.352497268303209,-4.1769142552058796,{"v":2.95490348915262E-5,"d":"2.95E-05"},0.00014227888940985,{"$f":"VLOOKUP(A2249,'[1]SD vs SY0.45'!$A$2:$E$20133,5,FALSE)","v":"RMDN2"}]
["ENSGALG00000009638",41.2268992185426,-1.4737411269898,0.280960405947844,-5.24536943922046,{"v":1.55969477094769e-07,"d":"1.56E-07"},{"v":1.18524532266029e-06,"d":"1.19E-06"},{"$f":"VLOOKUP(A2250,'[1]SD vs SY0.45'!$A$2:$E$20133,5,FALSE)","v":"ANO6"}]
["ENSGALG00000005509",1110.86945914496,-1.47421510893473,0.276850413162502,-5.32495181096014,{"v":1.00979806482586E-7,"d":"1.01E-07"},{"v":7.98061770596695e-07,"d":"7.98E-07"},{"$f":"VLOOKUP(A2251,'[1]SD vs SY0.45'!$A$2:$E$20133,5,FALSE)","v":"DPYD"}]
["ENSGALG00000006254",337.92050674804,-1.4742592252005,0.131668438080455,-11.1967548692243,{"v":4.22943801823195e-29,"d":"4.23E-29"},{"v":4.93538515590597e-27,"d":"4.94E-27"},{"$f":"VLOOKUP(A2252,'[1]SD vs SY0.45'!$A$2:$E$20133,5,FALSE)","v":"ERCC6"}]
["ENSGALG00000030943",359.426551111622,-1.47442485902676,0.229634921832307,-6.42073447392934,{"v":1.35618403303374E-10,"d":"1.36E-10"},{"v":1.71241625144209e-09,"d":"1.71E-09"},{"$f":"VLOOKUP(A2253,'[1]SD vs SY0.45'!$A$2:$E$20133,5,FALSE)","v":"KRAS"}]
["ENSGALG00000016806",1007.2065939996,-1.47500015037504,0.138986255997748,-10.6125612189952,{"v":2.60508416852158e-26,"d":"2.61E-26"},{"v":2.32279991990178e-24,"d":"2.32E-24"},{"$f":"VLOOKUP(A2254,'[1]SD vs SY0.45'!$A$2:$E$20133,5,FALSE)","v":"GCC2"}]
["ENSGALG00000047072",42.560159992657,-1.47521659826634,0.341843545651419,-4.31547301984351,{"v":1.5926150375788E-5,"d":"1.59E-05"},{"v":8.13717239447035e-05,"d":"8.14E-05"},{"$f":"VLOOKUP(A2255,'[1]SD vs SY0.45'!$A$2:$E$20133,5,FALSE)","v":"NA"}]
["ENSGALG00000053580",2222.06735934341,-1.47540747516018,0.338050708428305,-4.36445609600929,{"v":1.27439440053703e-05,"d":"1.27E-05"},{"v":6.63807532718313e-05,"d":"6.64E-05"},{"$f":"VLOOKUP(A2256,'[1]SD vs SY0.45'!$A$2:$E$20133,5,FALSE)","v":"NA"}]
["ENSGALG00000016922",199.320336211122,-1.47583831340493,0.185125971298512,-7.97207600345369,{"v":1.56030792993598e-15,"d":"1.56E-15"},{"v":4.25220595263275e-14,"d":"4.25E-14"},{"$f":"VLOOKUP(A2257,'[1]SD vs SY0.45'!$A$2:$E$20133,5,FALSE)","v":"COMMD6"}]
["ENSGALG00000005519",141.83004231546,-1.47605132935168,0.220295260134161,-6.70033176588892,{"v":2.07946879002345e-11,"d":"2.08E-11"},{"v":2.97333255362975e-10,"d":"2.97E-10"},{"$f":"VLOOKUP(A2258,'[1]SD vs SY0.45'!$A$2:$E$20133,5,FALSE)","v":"TLL2"}]
["ENSGALG00000005716",482.545180015925,-1.47612039569856,0.122357999290108,-12.0639468139612,{"v":1.63743687921091e-33,"d":"1.64E-33"},{"v":2.73751105950385E-31,"d":"2.74E-31"},{"$f":"VLOOKUP(A2259,'[1]SD vs SY0.45'!$A$2:$E$20133,5,FALSE)","v":"SBF2"}]
["ENSGALG00000011251",377.460049060133,-1.4776327084838,0.156791243454762,-9.42420428542705,{"v":4.33378988402268E-21,"d":"4.33E-21"},{"v":2.26962664799706e-19,"d":"2.27E-19"},{"$f":"VLOOKUP(A2260,'[1]SD vs SY0.45'!$A$2:$E$20133,5,FALSE)","v":"TBC1D5"}]
["ENSGALG00000009217",519.223226682198,-1.47886182634617,0.340515040769572,-4.3430146962199,{"v":1.4054072874909E-5,"d":"1.41E-05"},{"v":7.25744476020324e-05,"d":"7.26E-05"},{"$f":"VLOOKUP(A2261,'[1]SD vs SY0.45'!$A$2:$E$20133,5,FALSE)","v":"TBC1D24"}]
["ENSGALG00000015344",419.553838698655,-1.47888118076935,0.268504596282503,-5.5078430732462,{"v":3.63256999267984e-08,"d":"3.63E-08"},{"v":3.0899948367282e-07,"d":"3.09E-07"},{"$f":"VLOOKUP(A2262,'[1]SD vs SY0.45'!$A$2:$E$20133,5,FALSE)","v":"NXPE3"}]
["ENSGALG00000003748",3410.95441242368,-1.47977533988728,0.4440370392696,-3.33254933489641,0.000860542117435504,0.00288790692836346,{"$f":"VLOOKUP(A2263,'[1]SD vs SY0.45'!$A$2:$E$20133,5,FALSE)","v":"ANO5"}]
["ENSGALG00000008942",430.778205251778,-1.48039860970714,0.18341480844472,-8.07131453703382,{"v":6.95453001959568E-16,"d":"6.95E-16"},{"v":1.97256791926118E-14,"d":"1.97E-14"},{"$f":"VLOOKUP(A2264,'[1]SD vs SY0.45'!$A$2:$E$20133,5,FALSE)","v":"FOXN2"}]
["ENSGALG00000014751",13.2624453437193,-1.4805214625189,0.493827225958555,-2.99805556416031,0.00271708130822074,8.03296934297466E-3,{"$f":"VLOOKUP(A2265,'[1]SD vs SY0.45'!$A$2:$E$20133,5,FALSE)","v":"ADAMTS6"}]
["ENSGALG00000042759",268.639119456942,-1.48272097216493,0.143094500850816,-10.3618305619637,{"v":3.69815656833817E-25,"d":"3.70E-25"},{"v":2.89638956097729e-23,"d":"2.90E-23"},{"$f":"VLOOKUP(A2266,'[1]SD vs SY0.45'!$A$2:$E$20133,5,FALSE)","v":"PRKX"}]
["ENSGALG00000012111",2498.18068243507,-1.48291461005517,0.626487615997412,-2.36702940678926,0.0179315079784918,0.041760469556333,{"$f":"VLOOKUP(A2267,'[1]SD vs SY0.45'!$A$2:$E$20133,5,FALSE)","v":"TMEM37"}]
["ENSGALG00000031862",438.859180332309,-1.48328124761472,0.270021373316852,-5.49319940638249,{"v":3.94716677485709E-8,"d":"3.95E-08"},{"v":3.33314175397961e-07,"d":"3.33E-07"},{"$f":"VLOOKUP(A2268,'[1]SD vs SY0.45'!$A$2:$E$20133,5,FALSE)","v":"BCL11B"}]
["ENSGALG00000002527",355.062959975975,-1.48355423004835,0.125583913676688,-11.8132504921587,{"v":3.33417246230854e-32,"d":"3.33E-32"},{"v":4.79101294232716e-30,"d":"4.79E-30"},{"$f":"VLOOKUP(A2269,'[1]SD vs SY0.45'!$A$2:$E$20133,5,FALSE)","v":"TMEM201"}]
["ENSGALG00000016904",256.65973084796,-1.48491211160189,0.326103453496131,-4.55350011072333,{"v":5.27606438219658e-06,"d":"5.28E-06"},{"v":2.98708001110508e-05,"d":"2.99E-05"},{"$f":"VLOOKUP(A2270,'[1]SD vs SY0.45'!$A$2:$E$20133,5,FALSE)","v":"SLITRK6"}]
["ENSGALG00000048082",20.6623683376667,-1.48491623136399,0.560653416571587,-2.6485457636989,0.00808389035220796,0.0208909930965874,{"$f":"VLOOKUP(A2271,'[1]SD vs SY0.45'!$A$2:$E$20133,5,FALSE)","v":"NA"}]
["ENSGALG00000015662",419.328775170176,-1.48522635097945,0.315238241725871,-4.71144091798037,{"v":2.45971410730387e-06,"d":"2.46E-06"},{"v":1.4891033838333E-5,"d":"1.49E-05"},{"$f":"VLOOKUP(A2272,'[1]SD vs SY0.45'!$A$2:$E$20133,5,FALSE)","v":"LIPI"}]
["ENSGALG00000004323",592.807431392217,-1.48605064229113,0.177890371990326,-8.35374408218081,{"v":6.61325480845861E-17,"d":"6.61E-17"},{"v":2.08683595924991e-15,"d":"2.09E-15"},{"$f":"VLOOKUP(A2273,'[1]SD vs SY0.45'!$A$2:$E$20133,5,FALSE)","v":"RASAL2"}]
["ENSGALG00000006385",208.530733804185,-1.48661186142336,0.166702421549128,-8.91775804819518,{"v":4.75822570438168e-19,"d":"4.76E-19"},{"v":1.97449332510941e-17,"d":"1.97E-17"},{"$f":"VLOOKUP(A2274,'[1]SD vs SY0.45'!$A$2:$E$20133,5,FALSE)","v":"UBXN7"}]
["ENSGALG00000016415",953.378572639476,-1.48719140308788,0.350011258206097,-4.24898162050598,{"v":2.14744535262468e-05,"d":"2.15E-05"},1.06496384329964E-4,{"$f":"VLOOKUP(A2275,'[1]SD vs SY0.45'!$A$2:$E$20133,5,FALSE)","v":"MAP7D2"}]
["ENSGALG00000048936",310.714622185308,-1.48872055372558,0.200420189051705,-7.42799695364783,{"v":1.10254497226652E-13,"d":"1.10E-13"},{"v":2.29031653916343e-12,"d":"2.29E-12"},{"$f":"VLOOKUP(A2276,'[1]SD vs SY0.45'!$A$2:$E$20133,5,FALSE)","v":"NA"}]
["ENSGALG00000043735",223.165131044432,-1.48923256640262,0.490277638131259,-3.03752904594828,0.00238526415791146,0.00713568271053108,{"$f":"VLOOKUP(A2277,'[1]SD vs SY0.45'!$A$2:$E$20133,5,FALSE)","v":"NA"}]
["ENSGALG00000019352",864.533574063658,-1.48980976013787,0.353867840912892,-4.2100738973469,{"v":2.55287173764249e-05,"d":"2.55E-05"},0.000124717001692582,{"$f":"VLOOKUP(A2278,'[1]SD vs SY0.45'!$A$2:$E$20133,5,FALSE)","v":"NA"}]
["ENSGALG00000006034",148.838411042557,-1.49007008982117,0.289155019677128,-5.15318769663759,{"v":2.56095406213929e-07,"d":"2.56E-07"},{"v":1.87720523939358e-06,"d":"1.88E-06"},{"$f":"VLOOKUP(A2279,'[1]SD vs SY0.45'!$A$2:$E$20133,5,FALSE)","v":"PITPNM3"}]
["ENSGALG00000008983",436.807890578384,-1.49012943591625,0.134470839358262,-11.0814318035615,{"v":1.54383717474612e-28,"d":"1.54E-28"},{"v":1.63674981447017e-26,"d":"1.64E-26"},{"$f":"VLOOKUP(A2280,'[1]SD vs SY0.45'!$A$2:$E$20133,5,FALSE)","v":"GNB4"}]
["ENSGALG00000011389",161.939589691997,-1.49121528011398,0.226885703655972,-6.57253963597074,{"v":4.94642141402124e-11,"d":"4.95E-11"},{"v":6.64632373458944e-10,"d":"6.65E-10"},{"$f":"VLOOKUP(A2281,'[1]SD vs SY0.45'!$A$2:$E$20133,5,FALSE)","v":"TRAF3"}]
["ENSGALG00000014743",11.8312694807946,-1.49276221239348,0.486732250107752,-3.06690631669262,0.00216286632502487,0.00655838102427753,{"$f":"VLOOKUP(A2282,'[1]SD vs SY0.45'!$A$2:$E$20133,5,FALSE)","v":"RNF180"}]
["ENSGALG00000000438",482.886610002357,-1.49276332822668,0.202997399531173,-7.35360813327782,{"v":1.92926794453493e-13,"d":"1.93E-13"},{"v":3.85122637791376e-12,"d":"3.85E-12"},{"$f":"VLOOKUP(A2283,'[1]SD vs SY0.45'!$A$2:$E$20133,5,FALSE)","v":"ERMP1"}]
["ENSGALG00000030780",358.037918246952,-1.49285846533409,0.161421622290503,-9.24819391696774,{"v":2.28317830926518E-20,"d":"2.28E-20"},{"v":1.12777333134073e-18,"d":"1.13E-18"},{"$f":"VLOOKUP(A2284,'[1]SD vs SY0.45'!$A$2:$E$20133,5,FALSE)","v":"MGAT4A"}]
["ENSGALG00000032718",80.3336047974079,-1.49339284378219,0.39414675725362,-3.78892586656813,1.51300051210296E-4,0.000615933971059099,{"$f":"VLOOKUP(A2285,'[1]SD vs SY0.45'!$A$2:$E$20133,5,FALSE)","v":"NIPAL2"}]
["ENSGALG00000007079",47.1619622905781,-1.49420618740524,0.339748359805646,-4.39797910506473,{"v":1.09263495135981E-5,"d":"1.09E-05"},{"v":5.79903659929578e-05,"d":"5.80E-05"},{"$f":"VLOOKUP(A2286,'[1]SD vs SY0.45'!$A$2:$E$20133,5,FALSE)","v":"PAPPA"}]
["ENSGALG00000000255",974.672448162625,-1.4946256898726,0.0863185238738576,-17.315236901604,{"v":3.61033490837226e-67,"d":"3.61E-67"},{"v":6.27728930518685e-64,"d":"6.28E-64"},{"$f":"VLOOKUP(A2287,'[1]SD vs SY0.45'!$A$2:$E$20133,5,FALSE)","v":"MAN2A1"}]
["ENSGALG00000001463",340.75059277238,-1.49480528837094,0.186965827932873,-7.99507217387138,{"v":1.29497985338543e-15,"d":"1.29E-15"},{"v":3.56827491455032e-14,"d":"3.57E-14"},{"$f":"VLOOKUP(A2288,'[1]SD vs SY0.45'!$A$2:$E$20133,5,FALSE)","v":"PDIK1L"}]
["ENSGALG00000014094",747.767574835757,-1.49507651590836,0.176317561401789,-8.47945323212249,{"v":2.26254672059209e-17,"d":"2.26E-17"},{"v":7.53618770707561e-16,"d":"7.54E-16"},{"$f":"VLOOKUP(A2289,'[1]SD vs SY0.45'!$A$2:$E$20133,5,FALSE)","v":"STK38L"}]
["ENSGALG00000012944",424.555493152257,-1.49522556294509,0.333706805051639,-4.48065649339609,{"v":7.44137941881594e-06,"d":"7.44E-06"},{"v":4.08306269617784e-05,"d":"4.08E-05"},{"$f":"VLOOKUP(A2290,'[1]SD vs SY0.45'!$A$2:$E$20133,5,FALSE)","v":"DENND5B"}]
["ENSGALG00000052284",17.9011381527053,-1.49537440437286,0.645596926399426,-2.31626630057357,0.0205437331332383,0.0469312689512041,{"$f":"VLOOKUP(A2291,'[1]SD vs SY0.45'!$A$2:$E$20133,5,FALSE)","v":"H2A-VIII,H2A-VIII"}]
["ENSGALG00000050983",49.0456402358313,-1.49698744794845,0.399835656726886,-3.74400687573242,0.000181108693321913,0.00072091045118775,{"$f":"VLOOKUP(A2292,'[1]SD vs SY0.45'!$A$2:$E$20133,5,FALSE)","v":"NA"}]
["ENSGALG00000034007",1612.20084033712,-1.49862855269347,0.14748739943118,-10.1610616125397,{"v":2.95837443738979e-24,"d":"2.96E-24"},{"v":2.12550646045026e-22,"d":"2.13E-22"},{"$f":"VLOOKUP(A2293,'[1]SD vs SY0.45'!$A$2:$E$20133,5,FALSE)","v":"ITGA6"}]
["ENSGALG00000040266",80.01636292064,-1.49944097110997,0.266040052785163,-5.63614747257936,{"v":1.73896477266039e-08,"d":"1.74E-08"},{"v":1.56255196394038e-07,"d":"1.56E-07"},{"$f":"VLOOKUP(A2294,'[1]SD vs SY0.45'!$A$2:$E$20133,5,FALSE)","v":"GLI3"}]
["ENSGALG00000011007",220.636128660945,-1.5000065308229,0.271858268869906,-5.51760495297167,{"v":3.43650856068351e-08,"d":"3.44E-08"},{"v":2.93903464557817e-07,"d":"2.94E-07"},{"$f":"VLOOKUP(A2295,'[1]SD vs SY0.45'!$A$2:$E$20133,5,FALSE)","v":"OSBPL3"}]
["ENSGALG00000010899",31.6584173285598,-1.50040197916671,0.40133035244384,-3.73857090556506,0.000185069297784337,0.000734993120277813,{"$f":"VLOOKUP(A2296,'[1]SD vs SY0.45'!$A$2:$E$20133,5,FALSE)","v":"G6PC2"}]
["ENSGALG00000010051",477.35253872458,-1.50089179014536,0.188768757653665,-7.95095443123618,{"v":1.85080021436192E-15,"d":"1.85E-15"},{"v":4.9737037599862e-14,"d":"4.97E-14"},{"$f":"VLOOKUP(A2297,'[1]SD vs SY0.45'!$A$2:$E$20133,5,FALSE)","v":"MOCS1"}]
["ENSGALG00000003857",75.4081883999837,-1.50123028761889,0.257817804067837,-5.82283404765903,{"v":5.7858000069841e-09,"d":"5.79E-09"},{"v":5.65791365137416E-8,"d":"5.66E-08"},{"$f":"VLOOKUP(A2298,'[1]SD vs SY0.45'!$A$2:$E$20133,5,FALSE)","v":"NA"}]
["ENSGALG00000028304",309.226763315984,-1.50195274877245,0.389580715843315,-3.85530568555276,0.000115585108974034,4.83328112008543E-4,{"$f":"VLOOKUP(A2299,'[1]SD vs SY0.45'!$A$2:$E$20133,5,FALSE)","v":"MMR1L4"}]
["ENSGALG00000054191",36.2741500820854,-1.50248195957614,0.320795790794336,-4.6836087090039,{"v":2.81867853720802E-6,"d":"2.82E-06"},{"v":1.68297952357266e-05,"d":"1.68E-05"},{"$f":"VLOOKUP(A2300,'[1]SD vs SY0.45'!$A$2:$E$20133,5,FALSE)","v":"NA"}]
["ENSGALG00000032685",1582.13800096012,-1.50280124129319,0.219896334201029,-6.83413503346233,{"v":8.25012864526223e-12,"d":"8.25E-12"},{"v":1.26830227016069e-10,"d":"1.27E-10"},{"$f":"VLOOKUP(A2301,'[1]SD vs SY0.45'!$A$2:$E$20133,5,FALSE)","v":"HECTD4"}]
["ENSGALG00000046643",26.4793128390709,-1.5036577402856,0.387814534622592,-3.87725989112015,1.0563949705774E-4,0.000446898767723338,{"$f":"VLOOKUP(A2302,'[1]SD vs SY0.45'!$A$2:$E$20133,5,FALSE)","v":"NA"}]
["ENSGALG00000003753",354.634240905455,-1.50409581047437,0.131744904247991,-11.4167285562949,{"v":3.44976462580576E-30,"d":"3.45E-30"},{"v":4.34645344557136e-28,"d":"4.35E-28"},{"$f":"VLOOKUP(A2303,'[1]SD vs SY0.45'!$A$2:$E$20133,5,FALSE)","v":"CYLD"}]
["ENSGALG00000005647",2618.23207843624,-1.50479886410507,0.292227118533826,-5.1494155356115,{"v":2.61299409690128E-7,"d":"2.61E-07"},{"v":1.91051843409683e-06,"d":"1.91E-06"},{"$f":"VLOOKUP(A2304,'[1]SD vs SY0.45'!$A$2:$E$20133,5,FALSE)","v":"ABCD3"}]
["ENSGALG00000054039",50.0572657442279,-1.50791009501983,0.398260020281916,-3.78624521224207,0.000152940757361753,0.000622095874239585,{"$f":"VLOOKUP(A2305,'[1]SD vs SY0.45'!$A$2:$E$20133,5,FALSE)","v":"NA"}]
["ENSGALG00000009252",1129.59057098928,-1.50905040116797,0.228661503634276,-6.59949478676377,{"v":4.12561258576353e-11,"d":"4.13E-11"},{"v":5.60406453348988e-10,"d":"5.60E-10"},{"$f":"VLOOKUP(A2306,'[1]SD vs SY0.45'!$A$2:$E$20133,5,FALSE)","v":"PLD1"}]
["ENSGALG00000039861",2267.97184095401,-1.50911513296468,0.267345446214358,-5.6448133092743,{"v":1.65360586852234e-08,"d":"1.65E-08"},{"v":1.49047409206832E-7,"d":"1.49E-07"},{"$f":"VLOOKUP(A2307,'[1]SD vs SY0.45'!$A$2:$E$20133,5,FALSE)","v":"PLXNB2"}]
["ENSGALG00000004379",57.7333011407679,-1.50926689832736,0.312371426136802,-4.83164198785066,{"v":1.35411593778016e-06,"d":"1.35E-06"},{"v":8.63050359610835e-06,"d":"8.63E-06"},{"$f":"VLOOKUP(A2308,'[1]SD vs SY0.45'!$A$2:$E$20133,5,FALSE)","v":"BCL7A"}]
["ENSGALG00000034232",76.1424916781689,-1.51014429203417,0.270827030176781,-5.57604715839636,{"v":2.4604525254851E-8,"d":"2.46E-08"},{"v":2.1584201846927e-07,"d":"2.16E-07"},{"$f":"VLOOKUP(A2309,'[1]SD vs SY0.45'!$A$2:$E$20133,5,FALSE)","v":"NA"}]
["ENSGALG00000035602",54.3361011440386,-1.51147430920213,0.323781606476366,-4.66819077726843,{"v":3.0386368129526e-06,"d":"3.04E-06"},{"v":1.80439816484996e-05,"d":"1.80E-05"},{"$f":"VLOOKUP(A2310,'[1]SD vs SY0.45'!$A$2:$E$20133,5,FALSE)","v":"ZNF536"}]
["ENSGALG00000030031",52.4839720528295,-1.51245121937112,0.409210390989794,-3.6960234946938,0.000219002714736435,0.000855493192793168,{"$f":"VLOOKUP(A2311,'[1]SD vs SY0.45'!$A$2:$E$20133,5,FALSE)","v":"TTPA"}]
["ENSGALG00000008653",939.099912082998,-1.51250598210836,0.113057547333918,-13.3781955983986,{"v":8.10921587181675e-41,"d":"8.11E-41"},{"v":2.41788419321441e-38,"d":"2.42E-38"},{"$f":"VLOOKUP(A2312,'[1]SD vs SY0.45'!$A$2:$E$20133,5,FALSE)","v":"MGA"}]
["ENSGALG00000051263",25.1529586256816,-1.51267712456388,0.395072023921385,-3.82886418924182,1.28736020152102E-4,0.000532302778212748,{"$f":"VLOOKUP(A2313,'[1]SD vs SY0.45'!$A$2:$E$20133,5,FALSE)","v":"NA"}]
["ENSGALG00000012747",3902.49600957038,-1.51307942724457,0.416581344531484,-3.63213438889416,0.000281086662807975,0.00107035782002678,{"$f":"VLOOKUP(A2314,'[1]SD vs SY0.45'!$A$2:$E$20133,5,FALSE)","v":"NEDD9"}]
["ENSGALG00000047199",335.309256857308,-1.51329286139637,0.505475761430401,-2.99379906390375,0.00275527334368942,0.00813896323933535,{"$f":"VLOOKUP(A2315,'[1]SD vs SY0.45'!$A$2:$E$20133,5,FALSE)","v":"RP11-400G3.5"}]
["ENSGALG00000048914",16.5742664706126,-1.51481976378589,0.581312724686851,-2.60586032174319,9.1643825326702E-3,0.023363800453891,{"$f":"VLOOKUP(A2316,'[1]SD vs SY0.45'!$A$2:$E$20133,5,FALSE)","v":"NA"}]
["ENSGALG00000014892",169.329329760032,-1.5157932455376,0.248235164232474,-6.10627930262955,{"v":1.01980484814558E-9,"d":"1.02E-09"},{"v":1.12437202883369E-8,"d":"1.12E-08"},{"$f":"VLOOKUP(A2317,'[1]SD vs SY0.45'!$A$2:$E$20133,5,FALSE)","v":"CEP85L"}]
["ENSGALG00000010805",952.380417492668,-1.5179739090688,0.115939272614471,-13.0928362308815,{"v":3.61839638937178e-39,"d":"3.62E-39"},{"v":9.53228151848592e-37,"d":"9.53E-37"},{"$f":"VLOOKUP(A2318,'[1]SD vs SY0.45'!$A$2:$E$20133,5,FALSE)","v":"USP24"}]
["ENSGALG00000003047",320.530567942722,-1.51806779072748,0.154521903344337,-9.82428871164373,{"v":8.84965396495806e-23,"d":"8.85E-23"},{"v":5.53485372261604e-21,"d":"5.53E-21"},{"$f":"VLOOKUP(A2319,'[1]SD vs SY0.45'!$A$2:$E$20133,5,FALSE)","v":"SUGP2"}]
["ENSGALG00000047795",96.6816265310961,-1.52002708567186,0.292392851890362,-5.19857813159476,{"v":2.00818713091249e-07,"d":"2.01E-07"},{"v":1.4985557787629e-06,"d":"1.50E-06"},{"$f":"VLOOKUP(A2320,'[1]SD vs SY0.45'!$A$2:$E$20133,5,FALSE)","v":"NA"}]
["ENSGALG00000014687",835.357526139742,-1.52070236089534,0.522234141748107,-2.91191678086192,0.00359218324658631,0.0102708913185983,{"$f":"VLOOKUP(A2321,'[1]SD vs SY0.45'!$A$2:$E$20133,5,FALSE)","v":"EPHA1"}]
["ENSGALG00000047061",35.1643373478051,-1.52179336324942,0.508891908743619,-2.9904058938695,0.00278606961795354,0.00821597565253702,{"$f":"VLOOKUP(A2322,'[1]SD vs SY0.45'!$A$2:$E$20133,5,FALSE)","v":"NA"}]
["ENSGALG00000013094",1058.92625826944,-1.52277384082696,0.371719803930585,-4.09656366092168,{"v":4.19328211763558E-5,"d":"4.19E-05"},0.000194947756556,{"$f":"VLOOKUP(A2323,'[1]SD vs SY0.45'!$A$2:$E$20133,5,FALSE)","v":"DDC"}]
["ENSGALG00000004542",824.144848667494,-1.52283751464738,0.116440800278503,-13.0782123706215,{"v":4.38634669487273e-39,"d":"4.39E-39"},{"v":1.13828970125003E-36,"d":"1.14E-36"},{"$f":"VLOOKUP(A2324,'[1]SD vs SY0.45'!$A$2:$E$20133,5,FALSE)","v":"ZMYND8"}]
["ENSGALG00000043728",47.3367558946182,-1.52331048518836,0.273149800565908,-5.57683176788849,{"v":2.44938536207141e-08,"d":"2.45E-08"},{"v":2.14979622868933E-7,"d":"2.15E-07"},{"$f":"VLOOKUP(A2325,'[1]SD vs SY0.45'!$A$2:$E$20133,5,FALSE)","v":"SCN8A"}]
["ENSGALG00000012680",83.1884313539105,-1.52540273033373,0.218223619570377,-6.99008995147656,{"v":2.747100561002e-12,"d":"2.75E-12"},{"v":4.53167338274589E-11,"d":"4.53E-11"},{"$f":"VLOOKUP(A2326,'[1]SD vs SY0.45'!$A$2:$E$20133,5,FALSE)","v":"E2F3"}]
["ENSGALG00000004078",252.847605056991,-1.52772947121142,0.472239209768505,-3.23507544399018,0.00121610592910094,3.93205822031489E-3,{"$f":"VLOOKUP(A2327,'[1]SD vs SY0.45'!$A$2:$E$20133,5,FALSE)","v":"LOC416263"}]
["ENSGALG00000053663",6.55939293977234,-1.52805099235585,0.650845382321113,-2.34779416718969,0.0188849541868049,0.0436523130079734,{"$f":"VLOOKUP(A2328,'[1]SD vs SY0.45'!$A$2:$E$20133,5,FALSE)","v":"NA"}]
["ENSGALG00000015590",106.400859438283,-1.52869835782869,0.198737238452097,-7.69205796425092,{"v":1.44786991540354E-14,"d":"1.45E-14"},{"v":3.44470860040151e-13,"d":"3.44E-13"},{"$f":"VLOOKUP(A2329,'[1]SD vs SY0.45'!$A$2:$E$20133,5,FALSE)","v":"MANEA"}]
["ENSGALG00000031917",418.108302448986,-1.5289806665714,0.145174410056688,-10.5320260366435,{"v":6.14964037328698e-26,"d":"6.15E-26"},{"v":5.21579498391906e-24,"d":"5.22E-24"},{"$f":"VLOOKUP(A2330,'[1]SD vs SY0.45'!$A$2:$E$20133,5,FALSE)","v":"ANKIB1"}]
["ENSGALG00000015407",52.6453786804259,-1.52924506146944,0.272699189100226,-5.60780934668415,{"v":2.04903559595218e-08,"d":"2.05E-08"},{"v":1.82233155533609e-07,"d":"1.82E-07"},{"$f":"VLOOKUP(A2331,'[1]SD vs SY0.45'!$A$2:$E$20133,5,FALSE)","v":"PLAG1"}]
["ENSGALG00000010048",124.354257592381,-1.52956953819478,0.224230020481377,-6.82143066709399,{"v":9.01382704505575e-12,"d":"9.01E-12"},{"v":1.37597375621057e-10,"d":"1.38E-10"},{"$f":"VLOOKUP(A2332,'[1]SD vs SY0.45'!$A$2:$E$20133,5,FALSE)","v":"SUPT7L"}]
["ENSGALG00000007963",330.90487873968,-1.53049311874654,0.200293108407637,-7.64126699572547,{"v":2.15094496861696e-14,"d":"2.15E-14"},{"v":4.98646402257907e-13,"d":"4.99E-13"},{"$f":"VLOOKUP(A2333,'[1]SD vs SY0.45'!$A$2:$E$20133,5,FALSE)","v":"NFATC2"}]
["ENSGALG00000044020",360.581442915633,-1.53138276950984,0.247490882277484,-6.18763307729807,{"v":6.10742827094859e-10,"d":"6.11E-10"},{"v":6.98158154812512e-09,"d":"6.98E-09"},{"$f":"VLOOKUP(A2334,'[1]SD vs SY0.45'!$A$2:$E$20133,5,FALSE)","v":"NA"}]
["ENSGALG00000010502",128.861786292674,-1.53189424719233,0.269029855522854,-5.69414217695328,{"v":1.23993730245822E-8,"d":"1.24E-08"},{"v":1.14249018960472E-7,"d":"1.14E-07"},{"$f":"VLOOKUP(A2335,'[1]SD vs SY0.45'!$A$2:$E$20133,5,FALSE)","v":"SPATA6"}]
["ENSGALG00000005815",1826.97462818611,-1.53199242831889,0.293670703146597,-5.21670160456605,{"v":1.8213731842581E-7,"d":"1.82E-07"},{"v":1.3709892937476e-06,"d":"1.37E-06"},{"$f":"VLOOKUP(A2336,'[1]SD vs SY0.45'!$A$2:$E$20133,5,FALSE)","v":"TMEM41B"}]
["ENSGALG00000006757",114.772215310299,-1.53324852056916,0.221200723570042,-6.93148058389448,{"v":4.16458621416358e-12,"d":"4.16E-12"},{"v":6.72952235182734e-11,"d":"6.73E-11"},{"$f":"VLOOKUP(A2337,'[1]SD vs SY0.45'!$A$2:$E$20133,5,FALSE)","v":"XYLT1"}]
["ENSGALG00000004947",271.80914030828,-1.53349450465826,0.15985231676273,-9.5931953675369,{"v":8.53984079559476e-22,"d":"8.54E-22"},{"v":4.83655413397414e-20,"d":"4.84E-20"},{"$f":"VLOOKUP(A2338,'[1]SD vs SY0.45'!$A$2:$E$20133,5,FALSE)","v":"POLR3A"}]
["ENSGALG00000015027",758.456171602755,-1.53376169337593,0.11171089600889,-13.7297412174893,{"v":6.73737260586365e-43,"d":"6.74E-43"},{"v":2.29691563721865e-40,"d":"2.30E-40"},{"$f":"VLOOKUP(A2339,'[1]SD vs SY0.45'!$A$2:$E$20133,5,FALSE)","v":"JAK2"}]
["ENSGALG00000042151",6876.61238101489,-1.53502860754918,0.510838121824028,-3.00492179806026,0.00265649140484094,0.00787392022774793,{"$f":"VLOOKUP(A2340,'[1]SD vs SY0.45'!$A$2:$E$20133,5,FALSE)","v":"NA"}]
["ENSGALG00000030112",160.916157628585,-1.53814660861366,0.17193092973975,-8.94630542010061,{"v":3.67579068872114e-19,"d":"3.68E-19"},{"v":1.54374330204817E-17,"d":"1.54E-17"},{"$f":"VLOOKUP(A2341,'[1]SD vs SY0.45'!$A$2:$E$20133,5,FALSE)","v":"ASPH"}]
["ENSGALG00000033647",212.625101895531,-1.53822444178141,0.190312888759309,-8.08260781395013,{"v":6.33962479922384e-16,"d":"6.34E-16"},{"v":1.8033657214146E-14,"d":"1.80E-14"},{"$f":"VLOOKUP(A2342,'[1]SD vs SY0.45'!$A$2:$E$20133,5,FALSE)","v":"NA"}]
["ENSGALG00000011259",29.8383187859776,-1.53886379007051,0.428806222775476,-3.58871608744415,0.000332310491931355,0.00124068767945254,{"$f":"VLOOKUP(A2343,'[1]SD vs SY0.45'!$A$2:$E$20133,5,FALSE)","v":"RPE65"}]
["ENSGALG00000001450",18.6893522289873,-1.53952986031811,0.424581773351547,-3.62599140364747,0.000287854930199996,0.00109349654170577,{"$f":"VLOOKUP(A2344,'[1]SD vs SY0.45'!$A$2:$E$20133,5,FALSE)","v":"IGSF9B"}]
["ENSGALG00000043861",20.2400009790135,-1.54028818193581,0.486816196073751,-3.16400356922895,0.00155614887075718,0.00489272340250545,{"$f":"VLOOKUP(A2345,'[1]SD vs SY0.45'!$A$2:$E$20133,5,FALSE)","v":"IQCM"}]
["ENSGALG00000011227",726.548911426693,-1.54082682570892,0.326208778991512,-4.72343764160012,{"v":2.31891085270984e-06,"d":"2.32E-06"},{"v":1.41024494564764e-05,"d":"1.41E-05"},{"$f":"VLOOKUP(A2346,'[1]SD vs SY0.45'!$A$2:$E$20133,5,FALSE)","v":"CDS1"}]
["ENSGALG00000041684",545.509218242003,-1.54121806487161,0.127646136681679,-12.0741457982004,{"v":1.44658600106423e-33,"d":"1.45E-33"},{"v":2.44192143694211e-31,"d":"2.44E-31"},{"$f":"VLOOKUP(A2347,'[1]SD vs SY0.45'!$A$2:$E$20133,5,FALSE)","v":"FBXO30"}]
["ENSGALG00000015053",233.982487594306,-1.54122435778939,0.371801050704933,-4.14529317458149,{"v":3.39379209611252e-05,"d":"3.39E-05"},0.000160784368324546,{"$f":"VLOOKUP(A2348,'[1]SD vs SY0.45'!$A$2:$E$20133,5,FALSE)","v":"GLDC"}]
["ENSGALG00000016556",397.877596752059,-1.54140119702366,0.387474920963648,-3.97806700157576,{"v":6.94777957737823e-05,"d":"6.95E-05"},0.000306446076894661,{"$f":"VLOOKUP(A2349,'[1]SD vs SY0.45'!$A$2:$E$20133,5,FALSE)","v":"GVINP1"}]
["ENSGALG00000031700",83.1817284334723,-1.54189135517418,0.268640048267373,-5.73961836710048,{"v":9.48901412096368e-09,"d":"9.49E-09"},{"v":8.96660263702149e-08,"d":"8.97E-08"},{"$f":"VLOOKUP(A2350,'[1]SD vs SY0.45'!$A$2:$E$20133,5,FALSE)","v":"TRPS1"}]
["ENSGALG00000013748",117.316368230887,-1.54215913501093,0.267005224061542,-5.77576390286459,{"v":7.66047282446062e-09,"d":"7.66E-09"},{"v":7.35870944745286e-08,"d":"7.36E-08"},{"$f":"VLOOKUP(A2351,'[1]SD vs SY0.45'!$A$2:$E$20133,5,FALSE)","v":"CD226"}]
["ENSGALG00000052586",17.1227182787147,-1.54301652728243,0.557404417754677,-2.76821725507303,0.00563638688601171,0.0152766732325932,{"$f":"VLOOKUP(A2352,'[1]SD vs SY0.45'!$A$2:$E$20133,5,FALSE)","v":"NA"}]
["ENSGALG00000015056",2669.73888943084,-1.54322949495672,0.35629917602391,-4.33127438625667,{"v":1.4824880109847E-5,"d":"1.48E-05"},{"v":7.60578903717647E-5,"d":"7.61E-05"},{"$f":"VLOOKUP(A2353,'[1]SD vs SY0.45'!$A$2:$E$20133,5,FALSE)","v":"LAMA3"}]
["ENSGALG00000010179",58.8162737335829,-1.54334951275791,0.285511867387708,-5.40555293508039,{"v":6.46087654030563e-08,"d":"6.46E-08"},{"v":5.25914140478905e-07,"d":"5.26E-07"},{"$f":"VLOOKUP(A2354,'[1]SD vs SY0.45'!$A$2:$E$20133,5,FALSE)","v":"RFX3"}]
["ENSGALG00000007932",441.253352486589,-1.54505950635006,0.130058102265177,-11.8797635782799,{"v":1.50793246727385E-32,"d":"1.51E-32"},{"v":2.20322872340256e-30,"d":"2.20E-30"},{"$f":"VLOOKUP(A2355,'[1]SD vs SY0.45'!$A$2:$E$20133,5,FALSE)","v":"TRAF6"}]
["ENSGALG00000054822",222.589134539138,-1.54533243961871,0.333228273193915,-4.63745895510925,{"v":3.52718624338689E-6,"d":"3.53E-06"},{"v":2.07046546974233e-05,"d":"2.07E-05"},{"$f":"VLOOKUP(A2356,'[1]SD vs SY0.45'!$A$2:$E$20133,5,FALSE)","v":"NA"}]
["ENSGALG00000033416",26.257041080348,-1.54549390470327,0.513172930663219,-3.01164346822794,0.00259837583913515,0.00771349850009269,{"$f":"VLOOKUP(A2357,'[1]SD vs SY0.45'!$A$2:$E$20133,5,FALSE)","v":"HIC2"}]
["ENSGALG00000032526",1298.49759869194,-1.54558743184181,0.265616519249332,-5.8188678784356,{"v":5.92475412149614e-09,"d":"5.92E-09"},{"v":5.780042585625e-08,"d":"5.78E-08"},{"$f":"VLOOKUP(A2358,'[1]SD vs SY0.45'!$A$2:$E$20133,5,FALSE)","v":"B3GNT5"}]
["ENSGALG00000031564",13.3921953635366,-1.54788687357971,0.444101535851011,-3.48543463290115,0.000491338253244685,0.00175131164599535,{"$f":"VLOOKUP(A2359,'[1]SD vs SY0.45'!$A$2:$E$20133,5,FALSE)","v":"SOGA3"}]
["ENSGALG00000017065",219.438768710795,-1.54789589980721,0.215435173498093,-7.18497297666628,{"v":6.72204810314714e-13,"d":"6.72E-13"},{"v":1.22898265372681e-11,"d":"1.23E-11"},{"$f":"VLOOKUP(A2360,'[1]SD vs SY0.45'!$A$2:$E$20133,5,FALSE)","v":"STARD13"}]
["ENSGALG00000010246",662.519191032991,-1.55060896110617,0.141855318283468,-10.9309187689926,{"v":8.20137937695403e-28,"d":"8.20E-28"},{"v":8.19525190960343e-26,"d":"8.20E-26"},{"$f":"VLOOKUP(A2361,'[1]SD vs SY0.45'!$A$2:$E$20133,5,FALSE)","v":"OSBPL8"}]
["ENSGALG00000001639",434.436291656354,-1.5514008822709,0.16134022946404,-9.61571015130284,{"v":6.86340899112984e-22,"d":"6.86E-22"},{"v":3.93841888213777E-20,"d":"3.94E-20"},{"$f":"VLOOKUP(A2362,'[1]SD vs SY0.45'!$A$2:$E$20133,5,FALSE)","v":"MTF1"}]
["ENSGALG00000052144",1242.73691351503,-1.55208233886492,0.375952282602865,-4.12840248799461,{"v":3.6529229183225e-05,"d":"3.65E-05"},0.000172122956045727,{"$f":"VLOOKUP(A2363,'[1]SD vs SY0.45'!$A$2:$E$20133,5,FALSE)","v":"NA"}]
["ENSGALG00000017125",394.458864913654,-1.55279354801624,0.194361453726724,-7.98920525774361,{"v":1.35811412301455E-15,"d":"1.36E-15"},{"v":3.72453158625457e-14,"d":"3.72E-14"},{"$f":"VLOOKUP(A2364,'[1]SD vs SY0.45'!$A$2:$E$20133,5,FALSE)","v":"MICU2"}]
["ENSGALG00000015358",199.967545174533,-1.5541569521473,0.477521372082377,-3.25463328556358,1.13538868958278E-3,0.00369612491027443,{"$f":"VLOOKUP(A2365,'[1]SD vs SY0.45'!$A$2:$E$20133,5,FALSE)","v":"MYH15"}]
["ENSGALG00000005350",882.892683181004,-1.55758012320317,0.272936659637339,-5.70674575292592,{"v":1.15156596135846E-8,"d":"1.15E-08"},{"v":1.07013775361515E-7,"d":"1.07E-07"},{"$f":"VLOOKUP(A2366,'[1]SD vs SY0.45'!$A$2:$E$20133,5,FALSE)","v":"USP32"}]
["ENSGALG00000036017",573.402390430655,-1.55767983018464,0.144862857014442,-10.7527896542131,{"v":5.7495920734748e-27,"d":"5.75E-27"},{"v":5.37463211728528e-25,"d":"5.37E-25"},{"$f":"VLOOKUP(A2367,'[1]SD vs SY0.45'!$A$2:$E$20133,5,FALSE)","v":"NCOA2"}]
["ENSGALG00000003323",2356.31638278453,-1.55777397717957,0.626762190115725,-2.48543068127952,0.012939478456778,0.0314743581320648,{"$f":"VLOOKUP(A2368,'[1]SD vs SY0.45'!$A$2:$E$20133,5,FALSE)","v":"NECAB2,NECAB2"}]
["ENSGALG00000038924",505.39491172991,-1.55786658756985,0.119618680873713,-13.0236061473923,{"v":8.98264074456925e-39,"d":"8.98E-39"},{"v":2.23115963751179E-36,"d":"2.23E-36"},{"$f":"VLOOKUP(A2369,'[1]SD vs SY0.45'!$A$2:$E$20133,5,FALSE)","v":"IDE"}]
["ENSGALG00000009081",236.193998669836,-1.55786772012956,0.198280898295986,-7.8568724144271,{"v":3.93843653724374e-15,"d":"3.94E-15"},{"v":1.00999404237547E-13,"d":"1.01E-13"},{"$f":"VLOOKUP(A2370,'[1]SD vs SY0.45'!$A$2:$E$20133,5,FALSE)","v":"ZNF106"}]
["ENSGALG00000011686",881.203417431678,-1.55812874558513,0.520010439949543,-2.99634127679498,0.00273240443408842,0.00807552539444083,{"$f":"VLOOKUP(A2371,'[1]SD vs SY0.45'!$A$2:$E$20133,5,FALSE)","v":"SEMA5B"}]
["ENSGALG00000005359",10.0645818714204,-1.55821170000737,0.493779369079322,-3.15568409209306,1.60122184059396E-3,0.00501618059536169,{"$f":"VLOOKUP(A2372,'[1]SD vs SY0.45'!$A$2:$E$20133,5,FALSE)","v":"NA"}]
["ENSGALG00000001939",1282.36667447373,-1.55821661759754,0.119327107779178,-13.0583624006132,{"v":5.69394573554393e-39,"d":"5.69E-39"},{"v":1.43479180440438E-36,"d":"1.43E-36"},{"$f":"VLOOKUP(A2373,'[1]SD vs SY0.45'!$A$2:$E$20133,5,FALSE)","v":"HIPK1"}]
["ENSGALG00000016755",733.348681347517,-1.55830472439661,0.359210778238721,-4.33813465185336,{"v":1.43697111847906e-05,"d":"1.44E-05"},{"v":7.40284943318384e-05,"d":"7.40E-05"},{"$f":"VLOOKUP(A2374,'[1]SD vs SY0.45'!$A$2:$E$20133,5,FALSE)","v":"NA"}]
["ENSGALG00000003837",603.29470101829,-1.55858211718033,0.140965703448927,-11.056463232172,{"v":2.03983133261867e-28,"d":"2.04E-28"},{"v":2.13653899880968e-26,"d":"2.14E-26"},{"$f":"VLOOKUP(A2375,'[1]SD vs SY0.45'!$A$2:$E$20133,5,FALSE)","v":"ADCY7"}]
["ENSGALG00000025270",11.560970479961,-1.55865214208959,0.47250466672112,-3.29870211209899,0.000971329275539207,0.00322053816052635,{"$f":"VLOOKUP(A2376,'[1]SD vs SY0.45'!$A$2:$E$20133,5,FALSE)","v":"SNORA52"}]
["ENSGALG00000009875",53.1177232965264,-1.55881291199562,0.425121632932557,-3.6667456822714,0.000245656893172074,0.000948110189030601,{"$f":"VLOOKUP(A2377,'[1]SD vs SY0.45'!$A$2:$E$20133,5,FALSE)","v":"HMGA2"}]
["ENSGALG00000007625",423.893948800377,-1.55944642068347,0.176605296842851,-8.83012258726935,{"v":1.04561062006882e-18,"d":"1.05E-18"},{"v":4.18894743113746E-17,"d":"4.19E-17"},{"$f":"VLOOKUP(A2378,'[1]SD vs SY0.45'!$A$2:$E$20133,5,FALSE)","v":"FADD"}]
["ENSGALG00000039815",799.635228231019,-1.55965653657347,0.0989996018000125,-15.7541697968049,{"v":6.4298195499914e-56,"d":"6.43E-56"},{"v":4.14056564872964e-53,"d":"4.14E-53"},{"$f":"VLOOKUP(A2379,'[1]SD vs SY0.45'!$A$2:$E$20133,5,FALSE)","v":"MARF1"}]
["ENSGALG00000004669",478.599434467384,-1.56176935416855,0.441847437550757,-3.53463485683142,0.00040833900739225,1.48936234980681E-3,{"$f":"VLOOKUP(A2380,'[1]SD vs SY0.45'!$A$2:$E$20133,5,FALSE)","v":"ASPA"}]
["ENSGALG00000004373",1468.91447576383,-1.56254893065365,0.381874748923509,-4.09178385074796,{"v":4.28067558874661e-05,"d":"4.28E-05"},0.000198527891335122,{"$f":"VLOOKUP(A2381,'[1]SD vs SY0.45'!$A$2:$E$20133,5,FALSE)","v":"KCNJ16"}]
["ENSGALG00000034337",1032.33965035276,-1.56351318891048,0.459557215128959,-3.40221660641696,6.684163790321E-4,0.00230768377467765,{"$f":"VLOOKUP(A2382,'[1]SD vs SY0.45'!$A$2:$E$20133,5,FALSE)","v":"RHPN1"}]
["ENSGALG00000016284",653.756968330523,-1.56381892577593,0.112684662703589,-13.8778329566417,{"v":8.63142495336869e-44,"d":"8.63E-44"},{"v":3.41078603782322e-41,"d":"3.41E-41"},{"$f":"VLOOKUP(A2383,'[1]SD vs SY0.45'!$A$2:$E$20133,5,FALSE)","v":"TAB3"}]
["ENSGALG00000012730",35.5041832046603,-1.56465803422047,0.3356675550831,-4.66133235258056,{"v":3.14168919700554E-6,"d":"3.14E-06"},{"v":1.85987572585412e-05,"d":"1.86E-05"},{"$f":"VLOOKUP(A2384,'[1]SD vs SY0.45'!$A$2:$E$20133,5,FALSE)","v":"GFOD1"}]
["ENSGALG00000000195",329.357039585054,-1.56467463666844,0.232306521698513,-6.73538833618746,{"v":1.63492682250903e-11,"d":"1.63E-11"},{"v":2.37679537315757E-10,"d":"2.38E-10"},{"$f":"VLOOKUP(A2385,'[1]SD vs SY0.45'!$A$2:$E$20133,5,FALSE)","v":"SLC23A2"}]
["ENSGALG00000036259",152.676622521661,-1.5648022543281,0.198459207420964,-7.88475513261979,{"v":3.15152887409028E-15,"d":"3.15E-15"},{"v":8.20293900206702e-14,"d":"8.20E-14"},{"$f":"VLOOKUP(A2386,'[1]SD vs SY0.45'!$A$2:$E$20133,5,FALSE)","v":"NA"}]
["ENSGALG00000044330",1757.96808776903,-1.56519646344135,0.236058133658137,-6.63055510600659,{"v":3.34426792112853e-11,"d":"3.34E-11"},{"v":4.60751080385592e-10,"d":"4.61E-10"},{"$f":"VLOOKUP(A2387,'[1]SD vs SY0.45'!$A$2:$E$20133,5,FALSE)","v":"NA"}]
["ENSGALG00000001341",206.137298396643,-1.56521651116973,0.174855549737824,-8.95148317291958,{"v":3.50737583043624e-19,"d":"3.51E-19"},{"v":1.48016367873289e-17,"d":"1.48E-17"},{"$f":"VLOOKUP(A2388,'[1]SD vs SY0.45'!$A$2:$E$20133,5,FALSE)","v":"ZBTB44"}]
["ENSGALG00000002579",143.559295235127,-1.57174234435999,0.324485874392061,-4.8437928070204,{"v":1.27383768161234E-6,"d":"1.27E-06"},{"v":8.17579024370384e-06,"d":"8.18E-06"},{"$f":"VLOOKUP(A2389,'[1]SD vs SY0.45'!$A$2:$E$20133,5,FALSE)","v":"RIMBP2"}]
["ENSGALG00000009674",656.060550326783,-1.57307811945627,0.140820901226526,-11.1707715669693,{"v":5.66863182594046e-29,"d":"5.67E-29"},{"v":6.31798086907863e-27,"d":"6.32E-27"},{"$f":"VLOOKUP(A2390,'[1]SD vs SY0.45'!$A$2:$E$20133,5,FALSE)","v":"CLCN3"}]
["ENSGALG00000005499",37.9144286440248,-1.57369323732092,0.287571645005264,-5.47235189787961,{"v":4.44101864245033e-08,"d":"4.44E-08"},{"v":3.71766928918073e-07,"d":"3.72E-07"},{"$f":"VLOOKUP(A2391,'[1]SD vs SY0.45'!$A$2:$E$20133,5,FALSE)","v":"IL17RD"}]
["ENSGALG00000014262",161.288001692424,-1.57521797058538,0.223131464360876,-7.05959589830748,{"v":1.66987501993209e-12,"d":"1.67E-12"},{"v":2.85712715113766e-11,"d":"2.86E-11"},{"$f":"VLOOKUP(A2392,'[1]SD vs SY0.45'!$A$2:$E$20133,5,FALSE)","v":"NA"}]
["ENSGALG00000025302",6.38923140440665,-1.57567325153584,0.64243289008518,-2.45266591398663,0.0141801968990778,0.0340728418303297,{"$f":"VLOOKUP(A2393,'[1]SD vs SY0.45'!$A$2:$E$20133,5,FALSE)","v":"SNORD71"}]
["ENSGALG00000013177",118.441116467044,-1.57617746452654,0.347232074556464,-4.53926229752787,{"v":5.64513781771587e-06,"d":"5.65E-06"},{"v":3.17746880014975E-5,"d":"3.18E-05"},{"$f":"VLOOKUP(A2394,'[1]SD vs SY0.45'!$A$2:$E$20133,5,FALSE)","v":"BCAT1"}]
["ENSGALG00000005708",2351.63995188267,-1.57750974930297,0.312976441050481,-5.04034662803431,{"v":4.6468940978327e-07,"d":"4.65E-07"},{"v":3.22332105889943E-6,"d":"3.22E-06"},{"$f":"VLOOKUP(A2395,'[1]SD vs SY0.45'!$A$2:$E$20133,5,FALSE)","v":"HNF4beta"}]
["ENSGALG00000015347",13.257172549539,-1.57751136929497,0.584769757225786,-2.69766237019312,0.006982822213564,0.0183704539003234,{"$f":"VLOOKUP(A2396,'[1]SD vs SY0.45'!$A$2:$E$20133,5,FALSE)","v":"ZPLD1"}]
["ENSGALG00000040475",130.119562237043,-1.58139546898369,0.191031281030456,-8.27820166651959,{"v":1.25049326221365e-16,"d":"1.25E-16"},{"v":3.8618696891845e-15,"d":"3.86E-15"},{"$f":"VLOOKUP(A2397,'[1]SD vs SY0.45'!$A$2:$E$20133,5,FALSE)","v":"ATMIN"}]
["ENSGALG00000003302",55.5559095102158,-1.58152805720861,0.355166565848531,-4.45291930401774,{"v":8.47105974352972e-06,"d":"8.47E-06"},{"v":4.61134363684256e-05,"d":"4.61E-05"},{"$f":"VLOOKUP(A2398,'[1]SD vs SY0.45'!$A$2:$E$20133,5,FALSE)","v":"SLC38A8"}]
["ENSGALG00000046504",13.8649179102193,-1.58157806100429,0.677922142458746,-2.33297891003838,0.0196492522414181,0.0452026394180387,{"$f":"VLOOKUP(A2399,'[1]SD vs SY0.45'!$A$2:$E$20133,5,FALSE)","v":"NA"}]
["ENSGALG00000005363",1601.12838781896,-1.58355051162183,0.388397716131325,-4.07713651716324,{"v":4.55937257333619e-05,"d":"4.56E-05"},0.000210275360563916,{"$f":"VLOOKUP(A2400,'[1]SD vs SY0.45'!$A$2:$E$20133,5,FALSE)","v":"CHDH"}]
["ENSGALG00000040663",514.721782640736,-1.58444596228337,0.131735010148525,-12.0275237425266,{"v":2.5468523916279e-33,"d":"2.55E-33"},{"v":4.10019653085503e-31,"d":"4.10E-31"},{"$f":"VLOOKUP(A2401,'[1]SD vs SY0.45'!$A$2:$E$20133,5,FALSE)","v":"DDI1"}]
["ENSGALG00000003426",10.1722232646366,-1.58462956847089,0.579320554290653,-2.73532426345753,0.00623188524591145,0.0166416508632564,{"$f":"VLOOKUP(A2402,'[1]SD vs SY0.45'!$A$2:$E$20133,5,FALSE)","v":"RHBDL3"}]
["ENSGALG00000050618",13.3603140657733,-1.58467377060519,0.681605745675019,-2.32491257689712,0.0200766353323719,0.0460639296019992,{"$f":"VLOOKUP(A2403,'[1]SD vs SY0.45'!$A$2:$E$20133,5,FALSE)","v":"NA"}]
["ENSGALG00000008326",587.248940889713,-1.58525864911226,0.264256776463258,-5.99893281954368,{"v":1.9861850212175e-09,"d":"1.99E-09"},{"v":2.08663437848391E-8,"d":"2.09E-08"},{"$f":"VLOOKUP(A2404,'[1]SD vs SY0.45'!$A$2:$E$20133,5,FALSE)","v":"SYTL2L"}]
["ENSGALG00000009279",39.6857242816154,-1.58538429768482,0.277766276953988,-5.70761978405117,{"v":1.14566990609293E-8,"d":"1.15E-08"},{"v":1.06636845060159E-7,"d":"1.07E-07"},{"$f":"VLOOKUP(A2405,'[1]SD vs SY0.45'!$A$2:$E$20133,5,FALSE)","v":"SFMBT2"}]
["ENSGALG00000003144",1127.51255353612,-1.58671200292476,0.209336920491115,-7.57970452227087,{"v":3.46342826873677e-14,"d":"3.46E-14"},{"v":7.76013238511937e-13,"d":"7.76E-13"},{"$f":"VLOOKUP(A2406,'[1]SD vs SY0.45'!$A$2:$E$20133,5,FALSE)","v":"TRIM25"}]
["ENSGALG00000011391",500.734680227561,-1.58712459651556,0.575954705502431,-2.75564134011378,0.00585771900074765,0.0157830714808615,{"$f":"VLOOKUP(A2407,'[1]SD vs SY0.45'!$A$2:$E$20133,5,FALSE)","v":"AMN"}]
["ENSGALG00000003839",361.734419454682,-1.5872700412549,0.576354907928549,-2.75398026358383,0.00588753184485749,0.0158486632894469,{"$f":"VLOOKUP(A2408,'[1]SD vs SY0.45'!$A$2:$E$20133,5,FALSE)","v":"GRM2"}]
["ENSGALG00000019211",836.796625925457,-1.58811439849177,0.268990762560343,-5.90397374012243,{"v":3.54848669443272e-09,"d":"3.55E-09"},{"v":3.59542763147446E-8,"d":"3.60E-08"},{"$f":"VLOOKUP(A2409,'[1]SD vs SY0.45'!$A$2:$E$20133,5,FALSE)","v":"MAEL"}]
["ENSGALG00000006491",8.39574369843497,-1.58958649794031,0.634798088847922,-2.50408204729351,0.0122769560552006,0.0301162741008878,{"$f":"VLOOKUP(A2410,'[1]SD vs SY0.45'!$A$2:$E$20133,5,FALSE)","v":"ANKRD1"}]
["ENSGALG00000008274",231.167937958211,-1.59011102513589,0.207057006394103,-7.67958086918991,{"v":1.59609932233019E-14,"d":"1.60E-14"},{"v":3.77056778768411e-13,"d":"3.77E-13"},{"$f":"VLOOKUP(A2411,'[1]SD vs SY0.45'!$A$2:$E$20133,5,FALSE)","v":"CRBN"}]
["ENSGALG00000045878",333.05046569301,-1.5904710787382,0.582182878676306,-2.7319097434717,0.00629683883705586,0.016797044624101,{"$f":"VLOOKUP(A2412,'[1]SD vs SY0.45'!$A$2:$E$20133,5,FALSE)","v":"HEATR8L3"}]
["ENSGALG00000004449",6677.05738243967,-1.59357023829421,0.497177733040684,-3.20523252026616,0.00134953412632796,0.00431329960560004,{"$f":"VLOOKUP(A2413,'[1]SD vs SY0.45'!$A$2:$E$20133,5,FALSE)","v":"CYP3A5"}]
["ENSGALG00000037443",1003.82716813997,-1.59491905181231,0.306807086506545,-5.19844267605693,{"v":2.00965078671781E-7,"d":"2.01E-07"},{"v":1.49900464301427e-06,"d":"1.50E-06"},{"$f":"VLOOKUP(A2414,'[1]SD vs SY0.45'!$A$2:$E$20133,5,FALSE)","v":"CRAT"}]
["ENSGALG00000054404",34.9495044770506,-1.59551822298577,0.415957524947985,-3.83577198942437,0.000125170494810543,0.000518670017462087,{"$f":"VLOOKUP(A2415,'[1]SD vs SY0.45'!$A$2:$E$20133,5,FALSE)","v":"NA"}]
["ENSGALG00000014678",29.8550541858309,-1.59562953882203,0.316578008719429,-5.04024125136303,{"v":4.64945358984942e-07,"d":"4.65E-07"},{"v":3.22332105889943E-6,"d":"3.22E-06"},{"$f":"VLOOKUP(A2416,'[1]SD vs SY0.45'!$A$2:$E$20133,5,FALSE)","v":"ELL2"}]
["ENSGALG00000028762",515.374744199229,-1.59568494088218,0.17605594641956,-9.06351062451187,{"v":1.26318102827483e-19,"d":"1.26E-19"},{"v":5.63152013810628e-18,"d":"5.63E-18"},{"$f":"VLOOKUP(A2417,'[1]SD vs SY0.45'!$A$2:$E$20133,5,FALSE)","v":"ZFYVE26"}]
["ENSGALG00000026981",2632.5238250432,-1.59624923151063,0.37114810038699,-4.30084171209889,{"v":1.70150571214229E-5,"d":"1.70E-05"},{"v":8.62258228417898e-05,"d":"8.62E-05"},{"$f":"VLOOKUP(A2418,'[1]SD vs SY0.45'!$A$2:$E$20133,5,FALSE)","v":"NHSL1"}]
["ENSGALG00000039139",1294.70117734634,-1.5967845728814,0.158399362723574,-10.0807512443594,{"v":6.72102669938965e-24,"d":"6.72E-24"},{"v":4.71203593638257e-22,"d":"4.71E-22"},{"$f":"VLOOKUP(A2419,'[1]SD vs SY0.45'!$A$2:$E$20133,5,FALSE)","v":"TNS3"}]
["ENSGALG00000006138",754.503003843417,-1.59767125310838,0.331458417003528,-4.8201257568046,{"v":1.43467754766859E-6,"d":"1.43E-06"},{"v":9.09485919543148e-06,"d":"9.09E-06"},{"$f":"VLOOKUP(A2420,'[1]SD vs SY0.45'!$A$2:$E$20133,5,FALSE)","v":"HELZ2"}]
["ENSGALG00000030250",12.3769832221719,-1.59947847770349,0.519150593379187,-3.08095280656885,0.00206339350483323,0.00629628340971136,{"$f":"VLOOKUP(A2421,'[1]SD vs SY0.45'!$A$2:$E$20133,5,FALSE)","v":"SV2B"}]
["ENSGALG00000009911",238.890622542031,-1.60012117985502,0.129060479692828,-12.3982274330872,{"v":2.67168324613112e-35,"d":"2.67E-35"},{"v":5.40146006982346E-33,"d":"5.40E-33"},{"$f":"VLOOKUP(A2422,'[1]SD vs SY0.45'!$A$2:$E$20133,5,FALSE)","v":"BICRAL"}]
["ENSGALG00000022720",15.9347062831103,-1.60063291486405,0.566128254417736,-2.82733268013677,0.00469375371537587,0.0130014809382253,{"$f":"VLOOKUP(A2423,'[1]SD vs SY0.45'!$A$2:$E$20133,5,FALSE)","v":"GJB2"}]
["ENSGALG00000010364",534.025472016444,-1.60311890763657,0.443542988653194,-3.61434843667442,0.00030110389577912,1.13539220037119E-3,{"$f":"VLOOKUP(A2424,'[1]SD vs SY0.45'!$A$2:$E$20133,5,FALSE)","v":"AADAC"}]
["ENSGALG00000007302",306.190867287267,-1.60356831972652,0.25990969849069,-6.16971328518531,{"v":6.84139345868979e-10,"d":"6.84E-10"},{"v":7.76553089067862E-9,"d":"7.77E-09"},{"$f":"VLOOKUP(A2425,'[1]SD vs SY0.45'!$A$2:$E$20133,5,FALSE)","v":"ATXN7"}]
["ENSGALG00000046646",11.9453939011546,-1.60368287156438,0.544102195880821,-2.94739275765695,0.00320465887809176,0.00928552255139198,{"$f":"VLOOKUP(A2426,'[1]SD vs SY0.45'!$A$2:$E$20133,5,FALSE)","v":"LOC429054"}]
["ENSGALG00000032352",19.3577335653032,-1.60389118671419,0.432430285387722,-3.70901678469657,2.08065636388843E-4,0.000817545134439052,{"$f":"VLOOKUP(A2427,'[1]SD vs SY0.45'!$A$2:$E$20133,5,FALSE)","v":"NA"}]
["ENSGALG00000049017",35.6806955277832,-1.60419192534435,0.353998401492133,-4.53163607118717,{"v":5.85286178515335e-06,"d":"5.85E-06"},{"v":3.2721449472174e-05,"d":"3.27E-05"},{"$f":"VLOOKUP(A2428,'[1]SD vs SY0.45'!$A$2:$E$20133,5,FALSE)","v":"NA"}]
["ENSGALG00000007817",789.360961607081,-1.60493933140149,0.140574354349277,-11.4170137137091,{"v":3.43846720222328e-30,"d":"3.44E-30"},{"v":4.34645344557136e-28,"d":"4.35E-28"},{"$f":"VLOOKUP(A2429,'[1]SD vs SY0.45'!$A$2:$E$20133,5,FALSE)","v":"EHF"}]
["ENSGALG00000013102",1452.28090919225,-1.60736143082476,0.377641050153604,-4.25632073147497,{"v":2.07818524056052E-5,"d":"2.08E-05"},1.0344519546987E-4,{"$f":"VLOOKUP(A2430,'[1]SD vs SY0.45'!$A$2:$E$20133,5,FALSE)","v":"COBL"}]
["ENSGALG00000020884",35.8421885833255,-1.60744352980514,0.354601474158815,-4.53309883614645,{"v":5.81246007831646E-6,"d":"5.81E-06"},{"v":3.2537425428747e-05,"d":"3.25E-05"},{"$f":"VLOOKUP(A2431,'[1]SD vs SY0.45'!$A$2:$E$20133,5,FALSE)","v":"NA"}]
["ENSGALG00000010616",333.820287201594,-1.6077000249482,0.152523108226832,-10.5406980203762,{"v":5.60810903404316e-26,"d":"5.61E-26"},{"v":4.80335920073441e-24,"d":"4.80E-24"},{"$f":"VLOOKUP(A2432,'[1]SD vs SY0.45'!$A$2:$E$20133,5,FALSE)","v":"PTPN21"}]
["ENSGALG00000034803",174.053348630175,-1.60770634695814,0.175098963450781,-9.18170110932754,{"v":4.24334236542113E-20,"d":"4.24E-20"},{"v":2.032479165498e-18,"d":"2.03E-18"},{"$f":"VLOOKUP(A2433,'[1]SD vs SY0.45'!$A$2:$E$20133,5,FALSE)","v":"RNF151"}]
["ENSGALG00000008559",666.859526944662,-1.60785510717576,0.135309601423769,-11.8827865152023,{"v":1.45436909546746e-32,"d":"1.45E-32"},{"v":2.15366587003429E-30,"d":"2.15E-30"},{"$f":"VLOOKUP(A2434,'[1]SD vs SY0.45'!$A$2:$E$20133,5,FALSE)","v":"CUL4B"}]
["ENSGALG00000003647",2300.3129313127,-1.60843829187303,0.671522538114702,-2.39521118142768,0.0166107950084989,0.0390779032282651,{"$f":"VLOOKUP(A2435,'[1]SD vs SY0.45'!$A$2:$E$20133,5,FALSE)","v":"SLC13A2"}]
["ENSGALG00000014681",592.01556318764,-1.60974034117859,0.257392874308607,-6.2540206114974,{"v":4.00018184127675e-10,"d":"4.00E-10"},{"v":4.70894798065531e-09,"d":"4.71E-09"},{"$f":"VLOOKUP(A2436,'[1]SD vs SY0.45'!$A$2:$E$20133,5,FALSE)","v":"PCSK1"}]
["ENSGALG00000012685",346.418269131865,-1.61365354867941,0.168796152680327,-9.55977682581077,{"v":1.18010906728642E-21,"d":"1.18E-21"},{"v":6.5764603695221e-20,"d":"6.58E-20"},{"$f":"VLOOKUP(A2437,'[1]SD vs SY0.45'!$A$2:$E$20133,5,FALSE)","v":"KDM1B"}]
["ENSGALG00000021039",3586.0380378747,-1.61380716437801,0.533793075031265,-3.02328231643599,0.00250048852063813,7.4445195048519E-3,{"$f":"VLOOKUP(A2438,'[1]SD vs SY0.45'!$A$2:$E$20133,5,FALSE)","v":"HKDC1"}]
["ENSGALG00000016633",109.200164927546,-1.61476999027687,0.242659300542877,-6.65447393388308,{"v":2.84315135318156e-11,"d":"2.84E-11"},{"v":3.97698089925727e-10,"d":"3.98E-10"},{"$f":"VLOOKUP(A2439,'[1]SD vs SY0.45'!$A$2:$E$20133,5,FALSE)","v":"HMBOX1"}]
["ENSGALG00000010049",630.060314196335,-1.61506543172329,0.221210772606635,-7.3010252289804,{"v":2.85583186452737e-13,"d":"2.86E-13"},{"v":5.51714984761526e-12,"d":"5.52E-12"},{"$f":"VLOOKUP(A2440,'[1]SD vs SY0.45'!$A$2:$E$20133,5,FALSE)","v":"PTPRB"}]
["ENSGALG00000009439",70.6506089201268,-1.61664365128421,0.435486631748043,-3.71226929468535,2.05409266006306E-4,0.000808020567432496,{"$f":"VLOOKUP(A2441,'[1]SD vs SY0.45'!$A$2:$E$20133,5,FALSE)","v":"GPR85"}]
["ENSGALG00000052280",1061.1497647497,-1.61772472855342,0.251773032220535,-6.42532964823814,{"v":1.31584049415166e-10,"d":"1.32E-10"},{"v":1.66389226704108e-09,"d":"1.66E-09"},{"$f":"VLOOKUP(A2442,'[1]SD vs SY0.45'!$A$2:$E$20133,5,FALSE)","v":"HEATR5A"}]
["ENSGALG00000007151",734.190089349917,-1.6181273276546,0.225045852443342,-7.19021172834982,{"v":6.46909246837135e-13,"d":"6.47E-13"},{"v":1.18898637153882E-11,"d":"1.19E-11"},{"$f":"VLOOKUP(A2443,'[1]SD vs SY0.45'!$A$2:$E$20133,5,FALSE)","v":"BRWD3"}]
["ENSGALG00000006423",153.576032682525,-1.61880632220262,0.181103335151695,-8.93857819264721,{"v":3.9420948887699E-19,"d":"3.94E-19"},{"v":1.64762509209236E-17,"d":"1.65E-17"},{"$f":"VLOOKUP(A2444,'[1]SD vs SY0.45'!$A$2:$E$20133,5,FALSE)","v":"NA"}]
["ENSGALG00000002003",302.979480023984,-1.61881128283843,0.220814281762889,-7.33109864957335,{"v":2.28273548187196E-13,"d":"2.28E-13"},{"v":4.49281313498419e-12,"d":"4.49E-12"},{"$f":"VLOOKUP(A2445,'[1]SD vs SY0.45'!$A$2:$E$20133,5,FALSE)","v":"BMPR1A"}]
["ENSGALG00000015970",220.511318880753,-1.61950827749979,0.562958732536793,-2.87677974227702,0.00401755914676145,0.0112994663352865,{"$f":"VLOOKUP(A2446,'[1]SD vs SY0.45'!$A$2:$E$20133,5,FALSE)","v":"COL9A1"}]
["ENSGALG00000054619",104.895702219793,-1.62010698831327,0.218666188797944,-7.40904205272592,{"v":1.27214965563972e-13,"d":"1.27E-13"},{"v":2.60835684700565E-12,"d":"2.61E-12"},{"$f":"VLOOKUP(A2447,'[1]SD vs SY0.45'!$A$2:$E$20133,5,FALSE)","v":"GAB2"}]
["ENSGALG00000000470",1385.83075135602,-1.6211119275943,0.214695782179288,-7.55073952147108,{"v":4.32793659476194e-14,"d":"4.33E-14"},{"v":9.60648301801799e-13,"d":"9.61E-13"},{"$f":"VLOOKUP(A2448,'[1]SD vs SY0.45'!$A$2:$E$20133,5,FALSE)","v":"LMNA"}]
["ENSGALG00000035140",707.923831665388,-1.6223724237575,0.281027995667804,-5.77299218856212,{"v":7.78760533601128e-09,"d":"7.79E-09"},{"v":7.46433814648446e-08,"d":"7.46E-08"},{"$f":"VLOOKUP(A2449,'[1]SD vs SY0.45'!$A$2:$E$20133,5,FALSE)","v":"TMEM106B"}]
["ENSGALG00000005442",2037.55147190061,-1.62321105757493,0.431653534313722,-3.76044889834076,0.000169608721327784,0.000681216640731388,{"$f":"VLOOKUP(A2450,'[1]SD vs SY0.45'!$A$2:$E$20133,5,FALSE)","v":"PALMD"}]
["ENSGALG00000002647",5332.04584454237,-1.62471684301301,0.430158355308257,-3.77702030650716,1.58715795701746E-4,0.000642683558969,{"$f":"VLOOKUP(A2451,'[1]SD vs SY0.45'!$A$2:$E$20133,5,FALSE)","v":"PLS1"}]
["ENSGALG00000012877",538.629469425284,-1.62578318906095,0.135553975607831,-11.9936223321437,{"v":3.83748957063625E-33,"d":"3.84E-33"},{"v":6.12132396005986e-31,"d":"6.12E-31"},{"$f":"VLOOKUP(A2452,'[1]SD vs SY0.45'!$A$2:$E$20133,5,FALSE)","v":"CREB3L2"}]
["ENSGALG00000007354",149.924543200847,-1.62588005621514,0.266452869696728,-6.10194237377021,{"v":1.04787157565703e-09,"d":"1.05E-09"},{"v":1.15093765546107e-08,"d":"1.15E-08"},{"$f":"VLOOKUP(A2453,'[1]SD vs SY0.45'!$A$2:$E$20133,5,FALSE)","v":"CIT"}]
["ENSGALG00000051880",37.5887860534117,-1.62818073308488,0.643731886200218,-2.52928395810188,0.0114295514965786,0.0283084917195173,{"$f":"VLOOKUP(A2454,'[1]SD vs SY0.45'!$A$2:$E$20133,5,FALSE)","v":"NA"}]
["ENSGALG00000007550",319.760382097004,-1.62949873491791,0.25244024622016,-6.45498790037141,{"v":1.08227549445399E-10,"d":"1.08E-10"},{"v":1.38262483630209e-09,"d":"1.38E-09"},{"$f":"VLOOKUP(A2455,'[1]SD vs SY0.45'!$A$2:$E$20133,5,FALSE)","v":"TPCN2"}]
["ENSGALG00000047027",191.260838358183,-1.63047471004798,0.240801181890812,-6.77104114375689,{"v":1.27858903531596E-11,"d":"1.28E-11"},{"v":1.89473459221567E-10,"d":"1.89E-10"},{"$f":"VLOOKUP(A2456,'[1]SD vs SY0.45'!$A$2:$E$20133,5,FALSE)","v":"NA"}]
["ENSGALG00000014645",143.900593086002,-1.63135400278269,0.302941522702454,-5.38504589344456,{"v":7.24261662443529e-08,"d":"7.24E-08"},{"v":5.84349769137152e-07,"d":"5.84E-07"},{"$f":"VLOOKUP(A2457,'[1]SD vs SY0.45'!$A$2:$E$20133,5,FALSE)","v":"MEF2C"}]
["ENSGALG00000047011",7.96271970644408,-1.6320341760151,0.590742777916603,-2.7626815545183,0.00573286684765181,0.0154922840970037,{"$f":"VLOOKUP(A2458,'[1]SD vs SY0.45'!$A$2:$E$20133,5,FALSE)","v":"NA"}]
["ENSGALG00000001229",306.276254529804,-1.63234338526195,0.190799065383198,-8.55530073998832,{"v":1.17561834125481e-17,"d":"1.18E-17"},{"v":4.11277185098538e-16,"d":"4.11E-16"},{"$f":"VLOOKUP(A2459,'[1]SD vs SY0.45'!$A$2:$E$20133,5,FALSE)","v":"SKI"}]
["ENSGALG00000010270",440.341875692168,-1.63297565706451,0.12653622159607,-12.9052032411503,{"v":4.20704042295738e-38,"d":"4.21E-38"},{"v":1.01594183102722E-35,"d":"1.02E-35"},{"$f":"VLOOKUP(A2460,'[1]SD vs SY0.45'!$A$2:$E$20133,5,FALSE)","v":"AREL1"}]
["ENSGALG00000006586",148.458179735042,-1.63299722445604,0.197883866926875,-8.25230095720481,{"v":1.55373541276699E-16,"d":"1.55E-16"},{"v":4.72169958669927e-15,"d":"4.72E-15"},{"$f":"VLOOKUP(A2461,'[1]SD vs SY0.45'!$A$2:$E$20133,5,FALSE)","v":"PLAGL2"}]
["ENSGALG00000008627",87.9135489296185,-1.63476730769462,0.260466509504777,-6.27630519870976,{"v":3.46713297093886E-10,"d":"3.47E-10"},{"v":4.10927341279577e-09,"d":"4.11E-09"},{"$f":"VLOOKUP(A2462,'[1]SD vs SY0.45'!$A$2:$E$20133,5,FALSE)","v":"TTBK1"}]
["ENSGALG00000007171",527.749940684251,-1.63498563941753,0.268975056598013,-6.07857717402041,{"v":1.21253622378812e-09,"d":"1.21E-09"},{"v":1.32186559670078e-08,"d":"1.32E-08"},{"$f":"VLOOKUP(A2463,'[1]SD vs SY0.45'!$A$2:$E$20133,5,FALSE)","v":"CIITA"}]
["ENSGALG00000031795",8.50184616114504,-1.63505072762259,0.573602502794177,-2.85049440973113,0.00436513177035136,0.0121941751431714,{"$f":"VLOOKUP(A2464,'[1]SD vs SY0.45'!$A$2:$E$20133,5,FALSE)","v":"NA"}]
["ENSGALG00000009514",51.8964141008352,-1.63547849260321,0.451984451907871,-3.61843971778165,2.96384515758173E-4,1.12051262785113E-3,{"$f":"VLOOKUP(A2465,'[1]SD vs SY0.45'!$A$2:$E$20133,5,FALSE)","v":"NRCAM"}]
["ENSGALG00000001467",730.996167642327,-1.63659088062542,0.0964118349211455,-16.9749998220029,{"v":1.25754657048025e-64,"d":"1.26E-64"},{"v":1.45766414806267e-61,"d":"1.46E-61"},{"$f":"VLOOKUP(A2466,'[1]SD vs SY0.45'!$A$2:$E$20133,5,FALSE)","v":"ANKFY1"}]
["ENSGALG00000016795",209.754840533227,-1.63725604608112,0.188812546408428,-8.67133078402271,{"v":4.27098981177732e-18,"d":"4.27E-18"},{"v":1.59355579093073e-16,"d":"1.59E-16"},{"$f":"VLOOKUP(A2467,'[1]SD vs SY0.45'!$A$2:$E$20133,5,FALSE)","v":"TGFBRAP1"}]
["ENSGALG00000015795",19.8313225670227,-1.63789451527313,0.413715745307505,-3.9589852062694,{"v":7.52688984325627e-05,"d":"7.53E-05"},0.000329149984166743,{"$f":"VLOOKUP(A2468,'[1]SD vs SY0.45'!$A$2:$E$20133,5,FALSE)","v":"ADAMTS5"}]
["ENSGALG00000030054",232.006401256745,-1.63955413480175,0.215181838730668,-7.6193889989661,{"v":2.54879280718324E-14,"d":"2.55E-14"},{"v":5.86965040244966e-13,"d":"5.87E-13"},{"$f":"VLOOKUP(A2469,'[1]SD vs SY0.45'!$A$2:$E$20133,5,FALSE)","v":"PTPRN2"}]
["ENSGALG00000002888",577.49382461657,-1.64273529017143,0.281275859608935,-5.84029959931636,{"v":5.21070306167217e-09,"d":"5.21E-09"},{"v":5.14179875898377e-08,"d":"5.14E-08"},{"$f":"VLOOKUP(A2470,'[1]SD vs SY0.45'!$A$2:$E$20133,5,FALSE)","v":"CASZ1"}]
["ENSGALG00000015014",477.223091288897,-1.64302666264801,0.144960926022074,-11.3342726742641,{"v":8.87664425558361e-30,"d":"8.88E-30"},{"v":1.08688882867488E-27,"d":"1.09E-27"},{"$f":"VLOOKUP(A2471,'[1]SD vs SY0.45'!$A$2:$E$20133,5,FALSE)","v":"TNPO1"}]
["ENSGALG00000002439",299.498948909054,-1.64406971765724,0.14948482082798,-10.9982385405483,{"v":3.8966912430298e-28,"d":"3.90E-28"},{"v":3.96209185044205e-26,"d":"3.96E-26"},{"$f":"VLOOKUP(A2472,'[1]SD vs SY0.45'!$A$2:$E$20133,5,FALSE)","v":"BDP1"}]
["ENSGALG00000023773",107.626818667171,-1.64482027515636,0.362766622456091,-4.53410036463719,{"v":5.78495186357346E-6,"d":"5.78E-06"},{"v":3.24251960193268e-05,"d":"3.24E-05"},{"$f":"VLOOKUP(A2473,'[1]SD vs SY0.45'!$A$2:$E$20133,5,FALSE)","v":"NA"}]
["ENSGALG00000041547",130.892530914069,-1.64486015111659,0.163820804503465,-10.0406059908087,{"v":1.01051432279907E-23,"d":"1.01E-23"},{"v":6.94458993300686e-22,"d":"6.94E-22"},{"$f":"VLOOKUP(A2474,'[1]SD vs SY0.45'!$A$2:$E$20133,5,FALSE)","v":"DCP1A"}]
["ENSGALG00000014664",66.5254356402609,-1.64516325161431,0.283404124878477,-5.80500813924198,{"v":6.43628773061833e-09,"d":"6.44E-09"},{"v":6.24833806656957e-08,"d":"6.25E-08"},{"$f":"VLOOKUP(A2475,'[1]SD vs SY0.45'!$A$2:$E$20133,5,FALSE)","v":"KIAA0825"}]
["ENSGALG00000030791",515.50237910331,-1.64522495439331,0.147265565746576,-11.1718238140239,{"v":5.60186783080798e-29,"d":"5.60E-29"},{"v":6.31798086907863e-27,"d":"6.32E-27"},{"$f":"VLOOKUP(A2476,'[1]SD vs SY0.45'!$A$2:$E$20133,5,FALSE)","v":"DIAPH2"}]
["ENSGALG00000037506",695.551475843691,-1.64536432137328,0.313436088500262,-5.24944121541992,{"v":1.52561272917717e-07,"d":"1.53E-07"},{"v":1.16297869139579e-06,"d":"1.16E-06"},{"$f":"VLOOKUP(A2477,'[1]SD vs SY0.45'!$A$2:$E$20133,5,FALSE)","v":"SIPA1L2"}]
["ENSGALG00000010583",15.7462052637016,-1.64538285908574,0.521300144702084,-3.15630616221304,0.00159781048758306,0.005008316377791,{"$f":"VLOOKUP(A2478,'[1]SD vs SY0.45'!$A$2:$E$20133,5,FALSE)","v":"VIT"}]
["ENSGALG00000011320",673.670706225003,-1.6466584293673,0.336146123932791,-4.89863875299819,{"v":9.650288013971179E-7,"d":"9.65E-07"},{"v":6.31889161588378e-06,"d":"6.32E-06"},{"$f":"VLOOKUP(A2479,'[1]SD vs SY0.45'!$A$2:$E$20133,5,FALSE)","v":"TMCC3"}]
["ENSGALG00000014860",1870.87187681925,-1.64697719142761,0.181439069004829,-9.07730182072183,{"v":1.11299641249803e-19,"d":"1.11E-19"},{"v":5.01338565391275e-18,"d":"5.01E-18"},{"$f":"VLOOKUP(A2480,'[1]SD vs SY0.45'!$A$2:$E$20133,5,FALSE)","v":"YES1"}]
["ENSGALG00000011982",917.487087190089,-1.64779287064662,0.211292793211088,-7.79862315985584,{"v":6.25862530506676e-15,"d":"6.26E-15"},{"v":1.56348733016086E-13,"d":"1.56E-13"},{"$f":"VLOOKUP(A2481,'[1]SD vs SY0.45'!$A$2:$E$20133,5,FALSE)","v":"PDE5A,PDE5A"}]
["ENSGALG00000033512",267.063197429749,-1.64797249124798,0.24819580655359,-6.63980795699766,{"v":3.14092112197661e-11,"d":"3.14E-11"},{"v":4.34802512323307E-10,"d":"4.35E-10"},{"$f":"VLOOKUP(A2482,'[1]SD vs SY0.45'!$A$2:$E$20133,5,FALSE)","v":"CPEB4"}]
["ENSGALG00000040842",9.98397027877306,-1.64852049447757,0.60622046255348,-2.71934155362191,0.00654120252938325,0.0173398213719144,{"$f":"VLOOKUP(A2483,'[1]SD vs SY0.45'!$A$2:$E$20133,5,FALSE)","v":"HSPB2"}]
["ENSGALG00000030834",1230.43193856666,-1.64939641273502,0.330625444406626,-4.98871590386878,{"v":6.07819553969931e-07,"d":"6.08E-07"},{"v":4.13141461488475e-06,"d":"4.13E-06"},{"$f":"VLOOKUP(A2484,'[1]SD vs SY0.45'!$A$2:$E$20133,5,FALSE)","v":"ATP8B1"}]
["ENSGALG00000009304",491.310444659331,-1.65027324772033,0.184349295432575,-8.95188258706368,{"v":3.49470558579271E-19,"d":"3.49E-19"},{"v":1.4784050126564E-17,"d":"1.48E-17"},{"$f":"VLOOKUP(A2485,'[1]SD vs SY0.45'!$A$2:$E$20133,5,FALSE)","v":"RAB11FIP2"}]
["ENSGALG00000041564",439.08301905469,-1.65281654737457,0.26123440705674,-6.32694814590628,{"v":2.50057337874108e-10,"d":"2.50E-10"},{"v":3.03401739959324E-9,"d":"3.03E-09"},{"$f":"VLOOKUP(A2486,'[1]SD vs SY0.45'!$A$2:$E$20133,5,FALSE)","v":"MAN1A2"}]
["ENSGALG00000053989",18.4993463959277,-1.65596678480545,0.49607200943261,-3.33815807648468,0.000843357555745482,0.00283461392262646,{"$f":"VLOOKUP(A2487,'[1]SD vs SY0.45'!$A$2:$E$20133,5,FALSE)","v":"TRIQK"}]
["ENSGALG00000023454",31.0999732181868,-1.65598907080907,0.433038672704978,-3.82411358427857,0.000131243404518876,0.000541639941697055,{"$f":"VLOOKUP(A2488,'[1]SD vs SY0.45'!$A$2:$E$20133,5,FALSE)","v":"C9ORF152"}]
["ENSGALG00000013311",39.5951522410293,-1.65619010933824,0.379033076498258,-4.36951340669037,{"v":1.24523695456806E-5,"d":"1.25E-05"},{"v":6.50017744179291e-05,"d":"6.50E-05"},{"$f":"VLOOKUP(A2489,'[1]SD vs SY0.45'!$A$2:$E$20133,5,FALSE)","v":"ANO3"}]
["ENSGALG00000044599",17.8430172870294,-1.65878735639363,0.527057536377284,-3.14726048278383,0.00164808069284154,0.00514363292163631,{"$f":"VLOOKUP(A2490,'[1]SD vs SY0.45'!$A$2:$E$20133,5,FALSE)","v":"LOC776067"}]
["ENSGALG00000007620",302.336404145394,-1.65937338900064,0.230340547414196,-7.2040003708803,{"v":5.84712067391133e-13,"d":"5.85E-13"},{"v":1.08268250433755E-11,"d":"1.08E-11"},{"$f":"VLOOKUP(A2491,'[1]SD vs SY0.45'!$A$2:$E$20133,5,FALSE)","v":"GFRA3"}]
["ENSGALG00000029286",7.89195456322915,-1.66070218658376,0.624883110924307,-2.65762053342633,0.00786944443846843,0.0204065668085982,{"$f":"VLOOKUP(A2492,'[1]SD vs SY0.45'!$A$2:$E$20133,5,FALSE)","v":"NA"}]
["ENSGALG00000045960",19.7708457374867,-1.66079670511654,0.618651444743758,-2.68454348442431,0.00726289347012851,0.0190094729437189,{"$f":"VLOOKUP(A2493,'[1]SD vs SY0.45'!$A$2:$E$20133,5,FALSE)","v":"NA"}]
["ENSGALG00000028209",18.3301441239514,-1.6612251342364,0.550163490829133,-3.01951176682558,0.00253182457954372,0.00752878980067158,{"$f":"VLOOKUP(A2494,'[1]SD vs SY0.45'!$A$2:$E$20133,5,FALSE)","v":"NA"}]
["ENSGALG00000011855",55.1831836473265,-1.66360824322734,0.390777821069988,-4.25717160373179,{"v":2.07029444161784e-05,"d":"2.07E-05"},0.000103081928569328,{"$f":"VLOOKUP(A2495,'[1]SD vs SY0.45'!$A$2:$E$20133,5,FALSE)","v":"RHOJ"}]
["ENSGALG00000047598",7.19163091653752,-1.66365491683857,0.667469345148381,-2.49248138349895,0.0126853980348625,0.0309733205493827,{"$f":"VLOOKUP(A2496,'[1]SD vs SY0.45'!$A$2:$E$20133,5,FALSE)","v":"NA"}]
["ENSGALG00000042116",2024.2451698383,-1.66401806817407,0.227276698310356,-7.32155157367599,{"v":2.45120081553151e-13,"d":"2.45E-13"},{"v":4.79944015536558e-12,"d":"4.80E-12"},{"$f":"VLOOKUP(A2497,'[1]SD vs SY0.45'!$A$2:$E$20133,5,FALSE)","v":"FUT9"}]
["ENSGALG00000004310",261.323583776535,-1.6654111184096,0.184499489239441,-9.02664351687307,{"v":1.77017938003563e-19,"d":"1.77E-19"},{"v":7.73319318610036e-18,"d":"7.73E-18"},{"$f":"VLOOKUP(A2498,'[1]SD vs SY0.45'!$A$2:$E$20133,5,FALSE)","v":"TTYH3"}]
["ENSGALG00000041420",20.3013075251855,-1.6658215928607,0.463412712216292,-3.59468255606073,3.24787342936117E-4,0.00121520928160755,{"$f":"VLOOKUP(A2499,'[1]SD vs SY0.45'!$A$2:$E$20133,5,FALSE)","v":"NA"}]
["ENSGALG00000053205",11.9363371244419,-1.66631885958553,0.572489590766417,-2.91065354979599,3.6067369653071E-3,0.0103064058292291,{"$f":"VLOOKUP(A2500,'[1]SD vs SY0.45'!$A$2:$E$20133,5,FALSE)","v":"NA"}]
["ENSGALG00000008950",470.224386585607,-1.66738568909271,0.163291820307568,-10.2110790727429,{"v":1.76886584400197e-24,"d":"1.77E-24"},{"v":1.29769073542878e-22,"d":"1.30E-22"},{"$f":"VLOOKUP(A2501,'[1]SD vs SY0.45'!$A$2:$E$20133,5,FALSE)","v":"EHD4"}]
["ENSGALG00000037249",37.0966300885927,-1.66881719678656,0.380682978978486,-4.38374523931859,{"v":1.16656187954612E-5,"d":"1.17E-05"},{"v":6.14078455939097e-05,"d":"6.14E-05"},{"$f":"VLOOKUP(A2502,'[1]SD vs SY0.45'!$A$2:$E$20133,5,FALSE)","v":"KCNQ5"}]
["ENSGALG00000029324",789.442094705575,-1.67278388841983,0.304216612655313,-5.4986605557769,{"v":3.82687000348351e-08,"d":"3.83E-08"},{"v":3.24258229778595e-07,"d":"3.24E-07"},{"$f":"VLOOKUP(A2503,'[1]SD vs SY0.45'!$A$2:$E$20133,5,FALSE)","v":"NA"}]
["ENSGALG00000010581",807.505924522131,-1.67335215466148,0.132029773047665,-12.6740515872687,{"v":8.23486658328467e-37,"d":"8.23E-37"},{"v":1.88394243794172e-34,"d":"1.88E-34"},{"$f":"VLOOKUP(A2504,'[1]SD vs SY0.45'!$A$2:$E$20133,5,FALSE)","v":"SEL1L"}]
["ENSGALG00000008603",253.939170949129,-1.67385760821375,0.258595328085338,-6.4728841801093,{"v":9.61496542065457e-11,"d":"9.61E-11"},{"v":1.23741971701644E-9,"d":"1.24E-09"},{"$f":"VLOOKUP(A2505,'[1]SD vs SY0.45'!$A$2:$E$20133,5,FALSE)","v":"ITPKA"}]
["ENSGALG00000015064",429.315524696663,-1.67386085954237,0.171855793996511,-9.73991519643699,{"v":2.03724298412653e-22,"d":"2.04E-22"},{"v":1.23420013118495E-20,"d":"1.23E-20"},{"$f":"VLOOKUP(A2506,'[1]SD vs SY0.45'!$A$2:$E$20133,5,FALSE)","v":"TTC39C"}]
["ENSGALG00000050380",314.588843520554,-1.67465134330755,0.252137873582631,-6.64180798986048,{"v":3.09858459667576e-11,"d":"3.10E-11"},{"v":4.29283588704394e-10,"d":"4.29E-10"},{"$f":"VLOOKUP(A2507,'[1]SD vs SY0.45'!$A$2:$E$20133,5,FALSE)","v":"TMPPE"}]
["ENSGALG00000016902",12.1774832594895,-1.67465960282985,0.550143378732306,-3.04404209442411,0.00233422476818426,0.00700268834207757,{"$f":"VLOOKUP(A2508,'[1]SD vs SY0.45'!$A$2:$E$20133,5,FALSE)","v":"GPC5"}]
["ENSGALG00000054138",8.24483288088968,-1.67576181773378,0.699177665881925,-2.39676108020415,0.0165407050698911,0.0389587156665127,{"$f":"VLOOKUP(A2509,'[1]SD vs SY0.45'!$A$2:$E$20133,5,FALSE)","v":"NA"}]
["ENSGALG00000016768",193.428631543076,-1.67741312837663,0.134802299320372,-12.4435053172949,{"v":1.51697563028104E-35,"d":"1.52E-35"},{"v":3.17778979321643e-33,"d":"3.18E-33"},{"$f":"VLOOKUP(A2510,'[1]SD vs SY0.45'!$A$2:$E$20133,5,FALSE)","v":"LONRF2"}]
["ENSGALG00000010889",440.728364828593,-1.67762067596724,0.129676810231642,-12.9369366270693,{"v":2.78515283166887e-38,"d":"2.79E-38"},{"v":6.82048623721502e-36,"d":"6.82E-36"},{"$f":"VLOOKUP(A2511,'[1]SD vs SY0.45'!$A$2:$E$20133,5,FALSE)","v":"HOOK1"}]
["ENSGALG00000041098",13.3568360510307,-1.67813359395605,0.569957864541435,-2.94431167347117,3.23673865628473E-3,0.0093592507927528,{"$f":"VLOOKUP(A2512,'[1]SD vs SY0.45'!$A$2:$E$20133,5,FALSE)","v":"NA"}]
["ENSGALG00000040447",501.457322686411,-1.67889493535379,0.189303042301467,-8.86882173124368,{"v":7.3923910677599e-19,"d":"7.39E-19"},{"v":3.01010546827029E-17,"d":"3.01E-17"},{"$f":"VLOOKUP(A2513,'[1]SD vs SY0.45'!$A$2:$E$20133,5,FALSE)","v":"CDCP1"}]
["ENSGALG00000051466",763.951616291072,-1.68066605180222,0.177783127677174,-9.45346205661338,{"v":3.27805234189227e-21,"d":"3.28E-21"},{"v":1.73766756306344E-19,"d":"1.74E-19"},{"$f":"VLOOKUP(A2514,'[1]SD vs SY0.45'!$A$2:$E$20133,5,FALSE)","v":"NDFIP2"}]
["ENSGALG00000052183",19.1066634663124,-1.68237774154647,0.398018744911234,-4.22688067598846,{"v":2.36953239569732e-05,"d":"2.37E-05"},1.16645129569619E-4,{"$f":"VLOOKUP(A2515,'[1]SD vs SY0.45'!$A$2:$E$20133,5,FALSE)","v":"NA"}]
["ENSGALG00000038678",1639.76859037417,-1.68345576468339,0.339105294919783,-4.96440424229182,{"v":6.89122761759079e-07,"d":"6.89E-07"},{"v":4.64409979019578e-06,"d":"4.64E-06"},{"$f":"VLOOKUP(A2516,'[1]SD vs SY0.45'!$A$2:$E$20133,5,FALSE)","v":"EPB41L3"}]
["ENSGALG00000015490",83.2515501082489,-1.68413444114234,0.195476792526702,-8.61552115406378,{"v":6.96241650630816e-18,"d":"6.96E-18"},{"v":2.52725544457578e-16,"d":"2.53E-16"},{"$f":"VLOOKUP(A2517,'[1]SD vs SY0.45'!$A$2:$E$20133,5,FALSE)","v":"FBXL4"}]
["ENSGALG00000036447",20.3842593598826,-1.68418998827143,0.448483164912176,-3.75530258443756,1.73132183485956E-4,0.000693126703723306,{"$f":"VLOOKUP(A2518,'[1]SD vs SY0.45'!$A$2:$E$20133,5,FALSE)","v":"NA"}]
["ENSGALG00000001025",497.812524298255,-1.68661525596522,0.141942656444599,-11.8823706573613,{"v":1.46162404476935E-32,"d":"1.46E-32"},{"v":2.15366587003429E-30,"d":"2.15E-30"},{"$f":"VLOOKUP(A2519,'[1]SD vs SY0.45'!$A$2:$E$20133,5,FALSE)","v":"GOLGA1"}]
["ENSGALG00000041183",82.0715957460279,-1.68870024949991,0.306804644238981,-5.50415478125722,{"v":3.70943551178106e-08,"d":"3.71E-08"},{"v":3.15229497768022E-7,"d":"3.15E-07"},{"$f":"VLOOKUP(A2520,'[1]SD vs SY0.45'!$A$2:$E$20133,5,FALSE)","v":"SGPP1"}]
["ENSGALG00000053606",546.530726898713,-1.68893499280047,0.671106214199371,-2.51664335252112,0.0118478691754135,0.0292025796352408,{"$f":"VLOOKUP(A2521,'[1]SD vs SY0.45'!$A$2:$E$20133,5,FALSE)","v":"NA"}]
["ENSGALG00000006393",1531.45916278444,-1.68929840256432,0.736916283678139,-2.29238848425577,0.021883235938579,0.0495486161302349,{"$f":"VLOOKUP(A2522,'[1]SD vs SY0.45'!$A$2:$E$20133,5,FALSE)","v":"NA"}]
["ENSGALG00000008716",343.276992490894,-1.6898064025065,0.40690636303063,-4.15281390519641,{"v":3.28411802512479e-05,"d":"3.28E-05"},1.56013552193565E-4,{"$f":"VLOOKUP(A2523,'[1]SD vs SY0.45'!$A$2:$E$20133,5,FALSE)","v":"FLRT3"}]
["ENSGALG00000037875",62.7193064239186,-1.69100447574754,0.463646130660176,-3.64718772340396,0.00026512622881721,0.00101581087272914,{"$f":"VLOOKUP(A2524,'[1]SD vs SY0.45'!$A$2:$E$20133,5,FALSE)","v":"RBP1"}]
["ENSGALG00000009973",3273.76793138859,-1.69177239138489,0.659391568588681,-2.56565669319347,0.0102980696478712,0.0258335791325258,{"$f":"VLOOKUP(A2525,'[1]SD vs SY0.45'!$A$2:$E$20133,5,FALSE)","v":"SLC3A1"}]
["ENSGALG00000031973",309.815728887363,-1.69241515262319,0.217002210156454,-7.79906873484371,{"v":6.23656903852078e-15,"d":"6.24E-15"},{"v":1.56021907730591e-13,"d":"1.56E-13"},{"$f":"VLOOKUP(A2526,'[1]SD vs SY0.45'!$A$2:$E$20133,5,FALSE)","v":"ANKRD52"}]
["ENSGALG00000012166",935.259632118277,-1.69288021456302,0.282374924603519,-5.99515065631262,{"v":2.03296880536075e-09,"d":"2.03E-09"},{"v":2.12945828747868e-08,"d":"2.13E-08"},{"$f":"VLOOKUP(A2527,'[1]SD vs SY0.45'!$A$2:$E$20133,5,FALSE)","v":"SLC35F5"}]
["ENSGALG00000047872",15.2074907938714,-1.69439761101928,0.476529817087319,-3.55570113403585,3.76972418157211E-4,1.38894245274411E-3,{"$f":"VLOOKUP(A2528,'[1]SD vs SY0.45'!$A$2:$E$20133,5,FALSE)","v":"NA"}]
["ENSGALG00000006445",22.0011102122807,-1.69441654084953,0.352255362339418,-4.81019374579986,{"v":1.507840681033E-6,"d":"1.51E-06"},{"v":9.49884997142054e-06,"d":"9.50E-06"},{"$f":"VLOOKUP(A2529,'[1]SD vs SY0.45'!$A$2:$E$20133,5,FALSE)","v":"ARNT2"}]
["ENSGALG00000053252",14.2964587425031,-1.69554140554046,0.600320747200226,-2.82439248259888,0.00473703384142585,0.0131067484724493,{"$f":"VLOOKUP(A2530,'[1]SD vs SY0.45'!$A$2:$E$20133,5,FALSE)","v":"NA"}]
["ENSGALG00000048418",31.2713514380562,-1.6962601212396,0.41384625667056,-4.09876879130478,{"v":4.15353689299023e-05,"d":"4.15E-05"},0.0001933535367026,{"$f":"VLOOKUP(A2531,'[1]SD vs SY0.45'!$A$2:$E$20133,5,FALSE)","v":"NA"}]
["ENSGALG00000054073",6.22352675351384,-1.69675595101688,0.671046717909677,-2.52852134692247,0.0114544120605587,0.0283458386702154,{"$f":"VLOOKUP(A2532,'[1]SD vs SY0.45'!$A$2:$E$20133,5,FALSE)","v":"NA"}]
["ENSGALG00000029944",58.8486919321191,-1.69793731257488,0.467693870425467,-3.6304459389862,0.000282931963314395,1.07644158559024E-3,{"$f":"VLOOKUP(A2533,'[1]SD vs SY0.45'!$A$2:$E$20133,5,FALSE)","v":"FAM222A"}]
["ENSGALG00000040855",696.88143305163,-1.69913459903537,0.554746073387389,-3.06290513903076,0.00219199533833072,0.0066339813659802,{"$f":"VLOOKUP(A2534,'[1]SD vs SY0.45'!$A$2:$E$20133,5,FALSE)","v":"PTPRR"}]
["ENSGALG00000014178",175.515617821242,-1.69958771524547,0.29602332856178,-5.74139789422295,{"v":9.38981694271419e-09,"d":"9.39E-09"},{"v":8.87769152707839e-08,"d":"8.88E-08"},{"$f":"VLOOKUP(A2535,'[1]SD vs SY0.45'!$A$2:$E$20133,5,FALSE)","v":"SCUBE1"}]
["ENSGALG00000000906",723.833008208557,-1.70107990296722,0.210787735311634,-8.0701085404817,{"v":7.02357014688203e-16,"d":"7.02E-16"},{"v":1.98890576781495E-14,"d":"1.99E-14"},{"$f":"VLOOKUP(A2536,'[1]SD vs SY0.45'!$A$2:$E$20133,5,FALSE)","v":"RALGPS1"}]
["ENSGALG00000011717",2254.27658892889,-1.70468406241225,0.433974912400764,-3.92807052597091,{"v":8.56301023333688e-05,"d":"8.56E-05"},0.000369900767520567,{"$f":"VLOOKUP(A2537,'[1]SD vs SY0.45'!$A$2:$E$20133,5,FALSE)","v":"LOC417937"}]
["ENSGALG00000034070",14.6796246678833,-1.70499003249622,0.652615381433783,-2.61254956748091,0.00898696592966444,0.0229822586584903,{"$f":"VLOOKUP(A2538,'[1]SD vs SY0.45'!$A$2:$E$20133,5,FALSE)","v":"GAD1"}]
["ENSGALG00000030157",486.363967590209,-1.70716534813948,0.243738059012318,-7.0040983958652,{"v":2.48581373610241e-12,"d":"2.49E-12"},{"v":4.13992753157208e-11,"d":"4.14E-11"},{"$f":"VLOOKUP(A2539,'[1]SD vs SY0.45'!$A$2:$E$20133,5,FALSE)","v":"MCTP2"}]
["ENSGALG00000016529",36.5025995822688,-1.70783718558926,0.341504739222939,-5.00091796522438,{"v":5.70579884938463e-07,"d":"5.71E-07"},{"v":3.89504219058698e-06,"d":"3.90E-06"},{"$f":"VLOOKUP(A2540,'[1]SD vs SY0.45'!$A$2:$E$20133,5,FALSE)","v":"CDKL5"}]
["ENSGALG00000040948",81.9834092728658,-1.70875327679878,0.242420414461344,-7.04871856850674,{"v":1.80572942848109e-12,"d":"1.81E-12"},{"v":3.06304561687812e-11,"d":"3.06E-11"},{"$f":"VLOOKUP(A2541,'[1]SD vs SY0.45'!$A$2:$E$20133,5,FALSE)","v":"ZMAT3"}]
["ENSGALG00000041731",274.018574092549,-1.70976750276877,0.175281268165906,-9.75442225321223,{"v":1.7660336363631E-22,"d":"1.77E-22"},{"v":1.07363730193864E-20,"d":"1.07E-20"},{"$f":"VLOOKUP(A2542,'[1]SD vs SY0.45'!$A$2:$E$20133,5,FALSE)","v":"CAPN7"}]
["ENSGALG00000006648",677.514869464278,-1.71009352308272,0.104131182755615,-16.4224920703736,{"v":1.32030843668774e-60,"d":"1.32E-60"},{"v":1.09315251374713E-57,"d":"1.09E-57"},{"$f":"VLOOKUP(A2543,'[1]SD vs SY0.45'!$A$2:$E$20133,5,FALSE)","v":"SPECC1L"}]
["ENSGALG00000004370",80.1062397626335,-1.71304912471131,0.272155735234874,-6.29437084334427,{"v":3.08649140329228e-10,"d":"3.09E-10"},{"v":3.68830419443593e-09,"d":"3.69E-09"},{"$f":"VLOOKUP(A2544,'[1]SD vs SY0.45'!$A$2:$E$20133,5,FALSE)","v":"MAP2K6"}]
["ENSGALG00000004297",13.4850589837594,-1.7148250113018,0.667061451120131,-2.57071519936022,0.0101488750349523,0.0255071538353161,{"$f":"VLOOKUP(A2545,'[1]SD vs SY0.45'!$A$2:$E$20133,5,FALSE)","v":"DNAH1"}]
["ENSGALG00000027908",934.4594904792,-1.71484036384136,0.304989575641127,-5.6226195935928,{"v":1.88083270607529e-08,"d":"1.88E-08"},{"v":1.68047473075699e-07,"d":"1.68E-07"},{"$f":"VLOOKUP(A2546,'[1]SD vs SY0.45'!$A$2:$E$20133,5,FALSE)","v":"CYP2U1"}]
["ENSGALG00000036028",780.587425115725,-1.71536465647708,0.181741166968726,-9.43850358775489,{"v":3.78140945566431e-21,"d":"3.78E-21"},{"v":1.9923444304738e-19,"d":"1.99E-19"},{"$f":"VLOOKUP(A2547,'[1]SD vs SY0.45'!$A$2:$E$20133,5,FALSE)","v":"GNA13"}]
["ENSGALG00000009942",657.623322007268,-1.71605334633118,0.139579767107323,-12.2944276372929,{"v":9.70416826338062e-35,"d":"9.70E-35"},{"v":1.85413597357581E-32,"d":"1.85E-32"},{"$f":"VLOOKUP(A2548,'[1]SD vs SY0.45'!$A$2:$E$20133,5,FALSE)","v":"MDM2"}]
["ENSGALG00000032452",128.804078148769,-1.71736754338864,0.213126642021082,-8.05796744650422,{"v":7.75734693253901e-16,"d":"7.76E-16"},{"v":2.1824755844022e-14,"d":"2.18E-14"},{"$f":"VLOOKUP(A2549,'[1]SD vs SY0.45'!$A$2:$E$20133,5,FALSE)","v":"GAS7"}]
["ENSGALG00000034708",127.549284740073,-1.718072887605,0.318347055750784,-5.39685496243441,{"v":6.78191666676603E-8,"d":"6.78E-08"},{"v":5.50500397222507E-7,"d":"5.51E-07"},{"$f":"VLOOKUP(A2550,'[1]SD vs SY0.45'!$A$2:$E$20133,5,FALSE)","v":"USP12"}]
["ENSGALG00000015025",178.916301220419,-1.7196361530023,0.198719988304222,-8.65356408118191,{"v":4.9915595520608e-18,"d":"4.99E-18"},{"v":1.84655842407832e-16,"d":"1.85E-16"},{"$f":"VLOOKUP(A2551,'[1]SD vs SY0.45'!$A$2:$E$20133,5,FALSE)","v":"VANGL1"}]
["ENSGALG00000009382",362.076310810292,-1.72016768549745,0.453521203807657,-3.79291568080021,0.000148888723988644,6.06970279950891E-4,{"$f":"VLOOKUP(A2552,'[1]SD vs SY0.45'!$A$2:$E$20133,5,FALSE)","v":"CAPN8"}]
["ENSGALG00000000295",10.2932531538305,-1.72062938336694,0.663965639899985,-2.59144341208096,0.00955742583308762,0.0242378884130534,{"$f":"VLOOKUP(A2553,'[1]SD vs SY0.45'!$A$2:$E$20133,5,FALSE)","v":"IGFN1"}]
["ENSGALG00000010869",433.608694678987,-1.72097189410191,0.174332277221606,-9.87179150946476,{"v":5.51703188184879e-23,"d":"5.52E-23"},{"v":3.51372283258993e-21,"d":"3.51E-21"},{"$f":"VLOOKUP(A2554,'[1]SD vs SY0.45'!$A$2:$E$20133,5,FALSE)","v":"MYSM1"}]
["ENSGALG00000000636",852.949663647714,-1.72231642326834,0.10843621890499,-15.8832209446311,{"v":8.28143719196784e-57,"d":"8.28E-57"},{"v":5.75957393826979e-54,"d":"5.76E-54"},{"$f":"VLOOKUP(A2555,'[1]SD vs SY0.45'!$A$2:$E$20133,5,FALSE)","v":"MDM4"}]
["ENSGALG00000014509",376.660242948798,-1.72239230908443,0.320614772437959,-5.37215517546911,{"v":7.78011106652895e-08,"d":"7.78E-08"},{"v":6.23376917574834e-07,"d":"6.23E-07"},{"$f":"VLOOKUP(A2556,'[1]SD vs SY0.45'!$A$2:$E$20133,5,FALSE)","v":"BST1"}]
["ENSGALG00000004587",708.339310439256,-1.72351896161174,0.180013992243483,-9.57436108233491,{"v":1.02489019235215E-21,"d":"1.02E-21"},{"v":5.74831154013766E-20,"d":"5.75E-20"},{"$f":"VLOOKUP(A2557,'[1]SD vs SY0.45'!$A$2:$E$20133,5,FALSE)","v":"RC3H1"}]
["ENSGALG00000019228",419.507207723547,-1.72467611224862,0.189561728173529,-9.09822952589785,{"v":9.18162936359687e-20,"d":"9.18E-20"},{"v":4.20107867749628e-18,"d":"4.20E-18"},{"$f":"VLOOKUP(A2558,'[1]SD vs SY0.45'!$A$2:$E$20133,5,FALSE)","v":"SFT2D2"}]
["ENSGALG00000005415",190.170813461929,-1.72523709934978,0.168909136062874,-10.2139951666533,{"v":1.71648320149215e-24,"d":"1.72E-24"},{"v":1.26459717899763e-22,"d":"1.26E-22"},{"$f":"VLOOKUP(A2559,'[1]SD vs SY0.45'!$A$2:$E$20133,5,FALSE)","v":"TEAD1"}]
["ENSGALG00000015254",20.4968106320921,-1.72576426318608,0.476548685665972,-3.621380805561,0.000293034809548643,1.10953750732192E-3,{"$f":"VLOOKUP(A2560,'[1]SD vs SY0.45'!$A$2:$E$20133,5,FALSE)","v":"ST18"}]
["ENSGALG00000009907",391.239040843523,-1.72756432753528,0.153108192671364,-11.2832912295123,{"v":1.58695451211031e-29,"d":"1.59E-29"},{"v":1.91613736819875e-27,"d":"1.92E-27"},{"$f":"VLOOKUP(A2561,'[1]SD vs SY0.45'!$A$2:$E$20133,5,FALSE)","v":"G2E3"}]
["ENSGALG00000049973",762.828349845758,-1.72865205506657,0.464509620901324,-3.72145586933664,0.000198077485428633,0.000782899122334084,{"$f":"VLOOKUP(A2562,'[1]SD vs SY0.45'!$A$2:$E$20133,5,FALSE)","v":"TMEM252"}]
["ENSGALG00000003322",299.71604542705,-1.73004451709699,0.173081301395193,-9.99555990827004,{"v":1.59383946793234e-23,"d":"1.59E-23"},{"v":1.07829131630115e-21,"d":"1.08E-21"},{"$f":"VLOOKUP(A2563,'[1]SD vs SY0.45'!$A$2:$E$20133,5,FALSE)","v":"TBC1D2B"}]
["ENSGALG00000005462",162.700641016367,-1.7301049719094,0.377406730630181,-4.584192149993,{"v":4.55744995747873e-06,"d":"4.56E-06"},{"v":2.61692147987723e-05,"d":"2.62E-05"},{"$f":"VLOOKUP(A2564,'[1]SD vs SY0.45'!$A$2:$E$20133,5,FALSE)","v":"ZP4"}]
["ENSGALG00000009409",313.111316281283,-1.73104303732415,0.125638711676161,-13.7779432328627,{"v":3.45989623375173E-43,"d":"3.46E-43"},{"v":1.27994076204769e-40,"d":"1.28E-40"},{"$f":"VLOOKUP(A2565,'[1]SD vs SY0.45'!$A$2:$E$20133,5,FALSE)","v":"MYNN"}]
["ENSGALG00000002124",144.026030267045,-1.73344849452907,0.206704518469606,-8.38611805568224,{"v":5.02458767325792E-17,"d":"5.02E-17"},{"v":1.60004589514534e-15,"d":"1.60E-15"},{"$f":"VLOOKUP(A2566,'[1]SD vs SY0.45'!$A$2:$E$20133,5,FALSE)","v":"ZDHHC8"}]
["ENSGALG00000004288",426.890433625123,-1.73396877105977,0.197394489148693,-8.78428155992546,{"v":1.57367067178256E-18,"d":"1.57E-18"},{"v":6.12112124614839e-17,"d":"6.12E-17"},{"$f":"VLOOKUP(A2567,'[1]SD vs SY0.45'!$A$2:$E$20133,5,FALSE)","v":"HDAC4"}]
["ENSGALG00000041397",58.7460965003543,-1.73747957303193,0.510667554966858,-3.40236922462146,0.000668043182639638,0.00230724278017962,{"$f":"VLOOKUP(A2568,'[1]SD vs SY0.45'!$A$2:$E$20133,5,FALSE)","v":"NA"}]
["ENSGALG00000008615",31.8417511167847,-1.73910217659825,0.634523572976773,-2.74079994922727,0.0061289811428314,0.0164057072312572,{"$f":"VLOOKUP(A2569,'[1]SD vs SY0.45'!$A$2:$E$20133,5,FALSE)","v":"NA"}]
["ENSGALG00000045815",29.8506501141837,-1.73976402349897,0.508133404861482,-3.42383320374938,0.000617445057294247,0.00215097519759068,{"$f":"VLOOKUP(A2570,'[1]SD vs SY0.45'!$A$2:$E$20133,5,FALSE)","v":"NA"}]
["ENSGALG00000053979",22.6799184604091,-1.74220572959274,0.466283209682451,-3.73636814154046,1.86697278260735E-4,0.000740950827920429,{"$f":"VLOOKUP(A2571,'[1]SD vs SY0.45'!$A$2:$E$20133,5,FALSE)","v":"NA"}]
["ENSGALG00000015428",20.1113534772584,-1.74255618482079,0.350403658039946,-4.97299655650896,{"v":6.59258325475265E-7,"d":"6.59E-07"},{"v":4.45665805017046e-06,"d":"4.46E-06"},{"$f":"VLOOKUP(A2572,'[1]SD vs SY0.45'!$A$2:$E$20133,5,FALSE)","v":"NA"}]
["ENSGALG00000008842",463.582309903601,-1.74425498626298,0.151263536831853,-11.5312323299826,{"v":9.18198745547388e-31,"d":"9.18E-31"},{"v":1.21868103731545E-28,"d":"1.22E-28"},{"$f":"VLOOKUP(A2573,'[1]SD vs SY0.45'!$A$2:$E$20133,5,FALSE)","v":"PIKFYVE"}]
["ENSGALG00000048005",9.33057518605018,-1.74468734657089,0.676793283478263,-2.57787331695191,0.00994104356388809,0.0250899875809729,{"$f":"VLOOKUP(A2574,'[1]SD vs SY0.45'!$A$2:$E$20133,5,FALSE)","v":"NA"}]
["ENSGALG00000048397",6.62481041674222,-1.74558020268442,0.751475192790217,-2.32287135946978,0.0201860641377234,0.0462661609758233,{"$f":"VLOOKUP(A2575,'[1]SD vs SY0.45'!$A$2:$E$20133,5,FALSE)","v":"NA"}]
["ENSGALG00000011894",8728.44823174222,-1.74664245656886,0.530617837777046,-3.29171454899857,0.000995786285489543,0.00328783443710723,{"$f":"VLOOKUP(A2576,'[1]SD vs SY0.45'!$A$2:$E$20133,5,FALSE)","v":"CYP2D6"}]
["ENSGALG00000031341",59570.1144163762,-1.74690502445366,0.555423757853886,-3.14517519236765,0.00165987397819648,0.00517301108781184,{"$f":"VLOOKUP(A2577,'[1]SD vs SY0.45'!$A$2:$E$20133,5,FALSE)","v":"MGAM"}]
["ENSGALG00000013042",417.067789011563,-1.74748888377279,0.239453258126855,-7.29782880150675,{"v":2.92448408726063E-13,"d":"2.92E-13"},{"v":5.63725108926836e-12,"d":"5.64E-12"},{"$f":"VLOOKUP(A2578,'[1]SD vs SY0.45'!$A$2:$E$20133,5,FALSE)","v":"MICAL3"}]
["ENSGALG00000014937",283.658953731959,-1.74944735402579,0.132243007517646,-13.2290348417276,{"v":5.96484035154238e-40,"d":"5.96E-40"},{"v":1.62047936237918E-37,"d":"1.62E-37"},{"$f":"VLOOKUP(A2579,'[1]SD vs SY0.45'!$A$2:$E$20133,5,FALSE)","v":"KPNA5"}]
["ENSGALG00000044618",2904.06032969671,-1.74946145322143,0.718957129487345,-2.4333320881996,0.0149605725729599,0.0356767899226517,{"$f":"VLOOKUP(A2580,'[1]SD vs SY0.45'!$A$2:$E$20133,5,FALSE)","v":"NA"}]
["ENSGALG00000031604",142.317941738204,-1.74991151399057,0.238228806166075,-7.34550763256844,{"v":2.04979631207922E-13,"d":"2.05E-13"},{"v":4.06847128745678e-12,"d":"4.07E-12"},{"$f":"VLOOKUP(A2581,'[1]SD vs SY0.45'!$A$2:$E$20133,5,FALSE)","v":"TET1"}]
["ENSGALG00000011805",5103.32192227603,-1.75257570988837,0.436409835284568,-4.01589416229719,{"v":5.92208299617754e-05,"d":"5.92E-05"},0.000265311149328881,{"$f":"VLOOKUP(A2582,'[1]SD vs SY0.45'!$A$2:$E$20133,5,FALSE)","v":"UGT2A3"}]
["ENSGALG00000001608",24.8770812028153,-1.75268833415478,0.392426612754556,-4.46628306335329,{"v":7.95902887775813E-6,"d":"7.96E-06"},{"v":4.35442527053432e-05,"d":"4.35E-05"},{"$f":"VLOOKUP(A2583,'[1]SD vs SY0.45'!$A$2:$E$20133,5,FALSE)","v":"UNC5D"}]
["ENSGALG00000008479",126.708245199652,-1.75280420649972,0.240175536170984,-7.29801308844324,{"v":2.92048235003955e-13,"d":"2.92E-13"},{"v":5.63578541843926e-12,"d":"5.64E-12"},{"$f":"VLOOKUP(A2584,'[1]SD vs SY0.45'!$A$2:$E$20133,5,FALSE)","v":"PLEKHM3"}]
["ENSGALG00000047857",14.3141194754198,-1.75371605802706,0.447998273072509,-3.91455986202702,{"v":9.05692665929656e-05,"d":"9.06E-05"},0.000389013794034559,{"$f":"VLOOKUP(A2585,'[1]SD vs SY0.45'!$A$2:$E$20133,5,FALSE)","v":"NA"}]
["ENSGALG00000002110",117.794860397683,-1.75525697472692,0.254896897362749,-6.88614491932781,{"v":5.73245949367105e-12,"d":"5.73E-12"},{"v":9.06093392876896e-11,"d":"9.06E-11"},{"$f":"VLOOKUP(A2586,'[1]SD vs SY0.45'!$A$2:$E$20133,5,FALSE)","v":"TSTD2"}]
["ENSGALG00000016406",1135.46047612191,-1.75964607383223,0.10705579358734,-16.4367197221946,{"v":1.04419994076305E-60,"d":"1.04E-60"},{"v":9.07775218502361e-58,"d":"9.08E-58"},{"$f":"VLOOKUP(A2587,'[1]SD vs SY0.45'!$A$2:$E$20133,5,FALSE)","v":"RPS6KA3"}]
["ENSGALG00000002305",289.811027267789,-1.76012363480249,0.167017803171859,-10.5385390142591,{"v":5.73834021486998e-26,"d":"5.74E-26"},{"v":4.89080986842864E-24,"d":"4.89E-24"},{"$f":"VLOOKUP(A2588,'[1]SD vs SY0.45'!$A$2:$E$20133,5,FALSE)","v":"ZBTB41"}]
["ENSGALG00000052213",267.833615454748,-1.76052568042222,0.272109760578197,-6.46991007114679,{"v":9.80612600744555e-11,"d":"9.81E-11"},{"v":1.25922535370351e-09,"d":"1.26E-09"},{"$f":"VLOOKUP(A2589,'[1]SD vs SY0.45'!$A$2:$E$20133,5,FALSE)","v":"LOC112530674"}]
["ENSGALG00000010792",1271.65750384921,-1.76133568712489,0.480408397620395,-3.66632993063673,0.000246056428552393,0.0009494414388017,{"$f":"VLOOKUP(A2590,'[1]SD vs SY0.45'!$A$2:$E$20133,5,FALSE)","v":"AGMO"}]
["ENSGALG00000052696",41.6202811854497,-1.7617719558579,0.762332166966171,-2.31102927595089,0.0208312378808841,0.0475443335566988,{"$f":"VLOOKUP(A2591,'[1]SD vs SY0.45'!$A$2:$E$20133,5,FALSE)","v":"NA"}]
["ENSGALG00000053436",21.8869022612981,-1.76318186696687,0.492817728249309,-3.57775657387655,0.000346555973524327,0.0012866898807746,{"$f":"VLOOKUP(A2592,'[1]SD vs SY0.45'!$A$2:$E$20133,5,FALSE)","v":"NA"}]
["ENSGALG00000010665",184.746266158548,-1.76398583291386,0.225455057277793,-7.82411294833087,{"v":5.11248910385435e-15,"d":"5.11E-15"},{"v":1.30147654536919e-13,"d":"1.30E-13"},{"$f":"VLOOKUP(A2593,'[1]SD vs SY0.45'!$A$2:$E$20133,5,FALSE)","v":"FOXN3"}]
["ENSGALG00000012601",753.020927583867,-1.76437407763626,0.144620262671643,-12.2000475247527,{"v":3.10642598455485e-34,"d":"3.11E-34"},{"v":5.62619047848492e-32,"d":"5.63E-32"},{"$f":"VLOOKUP(A2594,'[1]SD vs SY0.45'!$A$2:$E$20133,5,FALSE)","v":"GOLM1"}]
["ENSGALG00000010738",91.9818912822168,-1.76455578974134,0.338632406329958,-5.21082966885923,{"v":1.87997995310049e-07,"d":"1.88E-07"},{"v":1.4107557809477e-06,"d":"1.41E-06"},{"$f":"VLOOKUP(A2595,'[1]SD vs SY0.45'!$A$2:$E$20133,5,FALSE)","v":"TC2N"}]
["ENSGALG00000003886",60.6348610517281,-1.7646830768114,0.280902326649295,-6.28219459005976,{"v":3.33826632046553e-10,"d":"3.34E-10"},{"v":3.97278826241849e-09,"d":"3.97E-09"},{"$f":"VLOOKUP(A2596,'[1]SD vs SY0.45'!$A$2:$E$20133,5,FALSE)","v":"SGCD"}]
["ENSGALG00000035287",176.609391354513,-1.76496949014622,0.184807487035491,-9.55031378034627,{"v":1.2930405617144E-21,"d":"1.29E-21"},{"v":7.15990326322558e-20,"d":"7.16E-20"},{"$f":"VLOOKUP(A2597,'[1]SD vs SY0.45'!$A$2:$E$20133,5,FALSE)","v":"STAM"}]
["ENSGALG00000002878",323.762371908361,-1.7651046734089,0.227769444615773,-7.74952354292505,{"v":9.22379784651105e-15,"d":"9.22E-15"},{"v":2.2587911712294e-13,"d":"2.26E-13"},{"$f":"VLOOKUP(A2598,'[1]SD vs SY0.45'!$A$2:$E$20133,5,FALSE)","v":"CREBRF"}]
["ENSGALG00000022871",2576.64360109976,-1.76536275757071,0.437705450689505,-4.03322086757151,{"v":5.50175238350091E-5,"d":"5.50E-05"},0.000248852676097634,{"$f":"VLOOKUP(A2599,'[1]SD vs SY0.45'!$A$2:$E$20133,5,FALSE)","v":"HHLA2"}]
["ENSGALG00000050520",19.4529715363412,-1.76648410857768,0.606573598185277,-2.9122337567322,0.00358853975246343,0.0102621612954082,{"$f":"VLOOKUP(A2600,'[1]SD vs SY0.45'!$A$2:$E$20133,5,FALSE)","v":"NA"}]
["ENSGALG00000041373",1110.04806012241,-1.76658214164752,0.233964956832366,-7.55062709204464,{"v":4.33167463399442E-14,"d":"4.33E-14"},{"v":9.60648301801799e-13,"d":"9.61E-13"},{"$f":"VLOOKUP(A2601,'[1]SD vs SY0.45'!$A$2:$E$20133,5,FALSE)","v":"ARAP2"}]
["ENSGALG00000010579",170.397959144631,-1.76710142273328,0.239372379054075,-7.38222776460806,{"v":1.55662595746102E-13,"d":"1.56E-13"},{"v":3.16180555167929e-12,"d":"3.16E-12"},{"$f":"VLOOKUP(A2602,'[1]SD vs SY0.45'!$A$2:$E$20133,5,FALSE)","v":"STON2"}]
["ENSGALG00000010896",140.485051887833,-1.7689962391119,0.208198117343816,-8.49669661609185,{"v":1.95062388517747E-17,"d":"1.95E-17"},{"v":6.54739333814298e-16,"d":"6.55E-16"},{"$f":"VLOOKUP(A2603,'[1]SD vs SY0.45'!$A$2:$E$20133,5,FALSE)","v":"TMEM161B"}]
["ENSGALG00000009480",257.780489548516,-1.76915613963446,0.195367077000185,-9.055549004466,{"v":1.35882491757782e-19,"d":"1.36E-19"},{"v":6.02701245967487E-18,"d":"6.03E-18"},{"$f":"VLOOKUP(A2604,'[1]SD vs SY0.45'!$A$2:$E$20133,5,FALSE)","v":"DOCK4"}]
["ENSGALG00000012709",144.585857325886,-1.77039632147468,0.19348666672367,-9.14996548058316,{"v":5.69517435948494e-20,"d":"5.70E-20"},{"v":2.69081512468382e-18,"d":"2.69E-18"},{"$f":"VLOOKUP(A2605,'[1]SD vs SY0.45'!$A$2:$E$20133,5,FALSE)","v":"ATXN1"}]
["ENSGALG00000005660",1325.00481733285,-1.77059177648694,0.10541597045319,-16.7962384530072,{"v":2.60019818207607e-63,"d":"2.60E-63"},{"v":2.65939092892686e-60,"d":"2.66E-60"},{"$f":"VLOOKUP(A2606,'[1]SD vs SY0.45'!$A$2:$E$20133,5,FALSE)","v":"NF1"}]
["ENSGALG00000051347",45.3847832785298,-1.7707661289462,0.33209758246163,-5.33206570135387,{"v":9.71017913823177e-08,"d":"9.71E-08"},{"v":7.69511780658322e-07,"d":"7.70E-07"},{"$f":"VLOOKUP(A2607,'[1]SD vs SY0.45'!$A$2:$E$20133,5,FALSE)","v":"LOC107051165"}]
["ENSGALG00000039391",117.263339667046,-1.77243499436677,0.189744010758367,-9.34119072998781,{"v":9.52567338408974e-21,"d":"9.53E-21"},{"v":4.81461869561536e-19,"d":"4.81E-19"},{"$f":"VLOOKUP(A2608,'[1]SD vs SY0.45'!$A$2:$E$20133,5,FALSE)","v":"ZC3H12B"}]
["ENSGALG00000004436",3113.55527805702,-1.77311385708253,0.524556510103991,-3.38021513970157,0.00072429111169505,0.00247503266813242,{"$f":"VLOOKUP(A2609,'[1]SD vs SY0.45'!$A$2:$E$20133,5,FALSE)","v":"CYP3A4"}]
["ENSGALG00000008872",180.532175600239,-1.77407926692694,0.177129616838586,-10.0157122145396,{"v":1.30022001114333E-23,"d":"1.30E-23"},{"v":8.83083020849573E-22,"d":"8.83E-22"},{"$f":"VLOOKUP(A2610,'[1]SD vs SY0.45'!$A$2:$E$20133,5,FALSE)","v":"FAM199X"}]
["ENSGALG00000016690",3896.62588257596,-1.77800471057691,0.698796240187649,-2.54438219372712,0.0109471231446815,0.0272846373446927,{"$f":"VLOOKUP(A2611,'[1]SD vs SY0.45'!$A$2:$E$20133,5,FALSE)","v":"CYP2AC1"}]
["ENSGALG00000015828",489.41271331179,-1.77933243450554,0.254460081993047,-6.99257982065006,{"v":2.69876872110373E-12,"d":"2.70E-12"},{"v":4.4646519271009e-11,"d":"4.46E-11"},{"$f":"VLOOKUP(A2612,'[1]SD vs SY0.45'!$A$2:$E$20133,5,FALSE)","v":"BACH1"}]
["ENSGALG00000047398",2613.42078632383,-1.7806137429235,0.326116499140381,-5.46005414512011,{"v":4.75989395997031e-08,"d":"4.76E-08"},{"v":3.96551395697191e-07,"d":"3.97E-07"},{"$f":"VLOOKUP(A2613,'[1]SD vs SY0.45'!$A$2:$E$20133,5,FALSE)","v":"NA"}]
["ENSGALG00000017092",731.622945328192,-1.78092353408639,0.142560814521319,-12.4923776569758,{"v":8.21609713592553e-36,"d":"8.22E-36"},{"v":1.76362075188071e-33,"d":"1.76E-33"},{"$f":"VLOOKUP(A2614,'[1]SD vs SY0.45'!$A$2:$E$20133,5,FALSE)","v":"PAN3"}]
["ENSGALG00000035108",648.506403789582,-1.78124370830448,0.210186729888721,-8.47457738767581,{"v":2.35934453798572E-17,"d":"2.36E-17"},{"v":7.78404620151001e-16,"d":"7.78E-16"},{"$f":"VLOOKUP(A2615,'[1]SD vs SY0.45'!$A$2:$E$20133,5,FALSE)","v":"KDM7A"}]
["ENSGALG00000050781",30.5918749388641,-1.78362944201434,0.402260724456403,-4.43401339870964,{"v":9.24948740099866e-06,"d":"9.25E-06"},{"v":4.99307177297846E-5,"d":"4.99E-05"},{"$f":"VLOOKUP(A2616,'[1]SD vs SY0.45'!$A$2:$E$20133,5,FALSE)","v":"NA"}]
["ENSGALG00000016426",807.150915634007,-1.78388211626874,0.4378620577013,-4.07407329521497,{"v":4.61979315640831e-05,"d":"4.62E-05"},2.12892508906629E-4,{"$f":"VLOOKUP(A2617,'[1]SD vs SY0.45'!$A$2:$E$20133,5,FALSE)","v":"MAP3K15"}]
["ENSGALG00000017872",9.60940854694832,-1.78409840043504,0.68535143015101,-2.60318768145261,0.00923613769973516,0.0235191456041733,{"$f":"VLOOKUP(A2618,'[1]SD vs SY0.45'!$A$2:$E$20133,5,FALSE)","v":"NA"}]
["ENSGALG00000004155",195.609552939879,-1.78445579196149,0.408347903066655,-4.36993989331252,{"v":1.24280740841296E-5,"d":"1.24E-05"},{"v":6.49104608293067e-05,"d":"6.49E-05"},{"$f":"VLOOKUP(A2619,'[1]SD vs SY0.45'!$A$2:$E$20133,5,FALSE)","v":"MYOM3"}]
["ENSGALG00000006567",202.827929603733,-1.785139733316,0.341666751483666,-5.22479792243216,{"v":1.74345406648007E-7,"d":"1.74E-07"},{"v":1.31854875397516e-06,"d":"1.32E-06"},{"$f":"VLOOKUP(A2620,'[1]SD vs SY0.45'!$A$2:$E$20133,5,FALSE)","v":"UBASH3B"}]
["ENSGALG00000051782",74.3079058154937,-1.785716556205,0.751877423594877,-2.37501020800323,0.0175484648700789,0.0409770559624042,{"$f":"VLOOKUP(A2621,'[1]SD vs SY0.45'!$A$2:$E$20133,5,FALSE)","v":"NA"}]
["ENSGALG00000015294",849.52282503953,-1.78610985495647,0.25751197252584,-6.93602645903094,{"v":4.03282100659131e-12,"d":"4.03E-12"},{"v":6.52873918450681e-11,"d":"6.53E-11"},{"$f":"VLOOKUP(A2622,'[1]SD vs SY0.45'!$A$2:$E$20133,5,FALSE)","v":"ADGRG7"}]
["ENSGALG00000051367",133.642514990299,-1.78772705285175,0.47370328504604,-3.77393847432997,0.000160690406156181,0.000649419783051269,{"$f":"VLOOKUP(A2623,'[1]SD vs SY0.45'!$A$2:$E$20133,5,FALSE)","v":"NA"}]
["ENSGALG00000014759",1655.95637809785,-1.78835766375728,0.394195744242489,-4.53672493901194,{"v":5.71345456970493e-06,"d":"5.71E-06"},{"v":3.20865098848384e-05,"d":"3.21E-05"},{"$f":"VLOOKUP(A2624,'[1]SD vs SY0.45'!$A$2:$E$20133,5,FALSE)","v":"STYK1"}]
["ENSGALG00000030719",413.503777908652,-1.78967319997534,0.283261217275149,-6.31810177613168,{"v":2.6479561219086e-10,"d":"2.65E-10"},{"v":3.19500437832233E-9,"d":"3.20E-09"},{"$f":"VLOOKUP(A2625,'[1]SD vs SY0.45'!$A$2:$E$20133,5,FALSE)","v":"CLMN"}]
["ENSGALG00000043541",161.955188496194,-1.7901740734963,0.14638041176313,-12.2296012966074,{"v":2.15996199217642e-34,"d":"2.16E-34"},{"v":4.03819990945928E-32,"d":"4.04E-32"},{"$f":"VLOOKUP(A2626,'[1]SD vs SY0.45'!$A$2:$E$20133,5,FALSE)","v":"SREK1"}]
["ENSGALG00000036920",736.897388304424,-1.79183619324541,0.30724225281143,-5.83199796528362,{"v":5.47675870692853e-09,"d":"5.48E-09"},{"v":5.38295102528922e-08,"d":"5.38E-08"},{"$f":"VLOOKUP(A2627,'[1]SD vs SY0.45'!$A$2:$E$20133,5,FALSE)","v":"SLC22A5"}]
["ENSGALG00000046980",13.3112371458863,-1.79316804344287,0.60005107989743,-2.98835899728634,2.8047988664581E-3,0.00826559964256051,{"$f":"VLOOKUP(A2628,'[1]SD vs SY0.45'!$A$2:$E$20133,5,FALSE)","v":"NA"}]
["ENSGALG00000015489",15.1950069032453,-1.79383386710601,0.488710021929681,-3.67054855970219,0.000242030481702351,0.000935775847311271,{"$f":"VLOOKUP(A2629,'[1]SD vs SY0.45'!$A$2:$E$20133,5,FALSE)","v":"FAXC"}]
["ENSGALG00000038583",21.9109388881056,-1.7954358985905,0.551518537947529,-3.25544070607708,1.13216534148632E-3,3.68632187124019E-3,{"$f":"VLOOKUP(A2630,'[1]SD vs SY0.45'!$A$2:$E$20133,5,FALSE)","v":"NA"}]
["ENSGALG00000054304",672.186576718765,-1.7955869451739,0.355569984254474,-5.04988335542078,{"v":4.42079922371031e-07,"d":"4.42E-07"},{"v":3.08073892194994e-06,"d":"3.08E-06"},{"$f":"VLOOKUP(A2631,'[1]SD vs SY0.45'!$A$2:$E$20133,5,FALSE)","v":"NA"}]
["ENSGALG00000009992",994.673547137644,-1.79682080851897,0.178018037996494,-10.0934760810832,{"v":5.90409522056466E-24,"d":"5.90E-24"},{"v":4.15605277732623e-22,"d":"4.16E-22"},{"$f":"VLOOKUP(A2632,'[1]SD vs SY0.45'!$A$2:$E$20133,5,FALSE)","v":"ARHGAP5"}]
["ENSGALG00000034377",9.24367844919739,-1.79831469468012,0.693019920983167,-2.59489610649128,0.00946195154426301,0.0240202878522559,{"$f":"VLOOKUP(A2633,'[1]SD vs SY0.45'!$A$2:$E$20133,5,FALSE)","v":"SLC30A8"}]
["ENSGALG00000003645",264.393771875548,-1.7984575059761,0.246199515929725,-7.30487831864565,{"v":2.77517771448534e-13,"d":"2.78E-13"},{"v":5.37926587756484e-12,"d":"5.38E-12"},{"$f":"VLOOKUP(A2634,'[1]SD vs SY0.45'!$A$2:$E$20133,5,FALSE)","v":"PITPNM2"}]
["ENSGALG00000008795",151.22468494072,-1.79881190857552,0.212549577056921,-8.4630227614793,{"v":2.60534837838809e-17,"d":"2.61E-17"},{"v":8.51488576222437e-16,"d":"8.51E-16"},{"$f":"VLOOKUP(A2635,'[1]SD vs SY0.45'!$A$2:$E$20133,5,FALSE)","v":"GPAM"}]
["ENSGALG00000048876",443.090287947412,-1.79893927361075,0.779429513559357,-2.30802047178799,0.0209979978889433,0.047874664213881,{"$f":"VLOOKUP(A2636,'[1]SD vs SY0.45'!$A$2:$E$20133,5,FALSE)","v":"LEAP2"}]
["ENSGALG00000000934",235.989867137593,-1.79930983091357,0.196782400670608,-9.14365220051062,{"v":6.03780299521793e-20,"d":"6.04E-20"},{"v":2.84005879465367E-18,"d":"2.84E-18"},{"$f":"VLOOKUP(A2637,'[1]SD vs SY0.45'!$A$2:$E$20133,5,FALSE)","v":"ZBTB43"}]
["ENSGALG00000029679",941.524802291452,-1.79976019487729,0.274003742496465,-6.56837814870543,{"v":5.08662318383364E-11,"d":"5.09E-11"},{"v":6.81889878930728e-10,"d":"6.82E-10"},{"$f":"VLOOKUP(A2638,'[1]SD vs SY0.45'!$A$2:$E$20133,5,FALSE)","v":"PLEKHA7"}]
["ENSGALG00000005259",871.614951709888,-1.80041373062678,0.446040992330246,-4.03643109396942,{"v":5.42704553339496e-05,"d":"5.43E-05"},0.000245793281294968,{"$f":"VLOOKUP(A2639,'[1]SD vs SY0.45'!$A$2:$E$20133,5,FALSE)","v":"VIPR1"}]
["ENSGALG00000010857",418.959210436754,-1.80166727466385,0.372764285612758,-4.83326151190216,{"v":1.34314160676895e-06,"d":"1.34E-06"},{"v":8.56683900106081e-06,"d":"8.57E-06"},{"$f":"VLOOKUP(A2640,'[1]SD vs SY0.45'!$A$2:$E$20133,5,FALSE)","v":"DAB1"}]
["ENSGALG00000040474",471.591863960333,-1.80500729271679,0.169425595372246,-10.6536871760787,{"v":1.67592528965048E-26,"d":"1.68E-26"},{"v":1.50980896430844e-24,"d":"1.51E-24"},{"$f":"VLOOKUP(A2641,'[1]SD vs SY0.45'!$A$2:$E$20133,5,FALSE)","v":"ITCH"}]
["ENSGALG00000017235",248.186871418193,-1.80575949224463,0.279832294992952,-6.45300604881973,{"v":1.09652980408683E-10,"d":"1.10E-10"},{"v":1.39980643932876e-09,"d":"1.40E-09"},{"$f":"VLOOKUP(A2642,'[1]SD vs SY0.45'!$A$2:$E$20133,5,FALSE)","v":"NOX4,NOX4"}]
["ENSGALG00000006655",977.531423162517,-1.80624375748874,0.245151812616244,-7.36785805584152,{"v":1.73391255892236E-13,"d":"1.73E-13"},{"v":3.4808786405897e-12,"d":"3.48E-12"},{"$f":"VLOOKUP(A2643,'[1]SD vs SY0.45'!$A$2:$E$20133,5,FALSE)","v":"MAP3K13"}]
["ENSGALG00000008076",317.365209999504,-1.80635702739869,0.242886575623503,-7.43703937840808,{"v":1.02966864434003E-13,"d":"1.03E-13"},{"v":2.15957161871412E-12,"d":"2.16E-12"},{"$f":"VLOOKUP(A2644,'[1]SD vs SY0.45'!$A$2:$E$20133,5,FALSE)","v":"TMEM164"}]
["ENSGALG00000031380",726.44849291859,-1.80803292919386,0.293532832630631,-6.15955943664065,{"v":7.29475984548275e-10,"d":"7.29E-10"},{"v":8.25742118707087e-09,"d":"8.26E-09"},{"$f":"VLOOKUP(A2645,'[1]SD vs SY0.45'!$A$2:$E$20133,5,FALSE)","v":"DENND3"}]
["ENSGALG00000005416",393.151436653314,-1.80946489214664,0.333935670222445,-5.41860320265068,{"v":6.00664627431557e-08,"d":"6.01E-08"},{"v":4.92397731124587e-07,"d":"4.92E-07"},{"$f":"VLOOKUP(A2646,'[1]SD vs SY0.45'!$A$2:$E$20133,5,FALSE)","v":"TTC39B"}]
["ENSGALG00000018296",54.8818024374607,-1.81013305358789,0.483128556744534,-3.74669025111062,0.000179183116875354,0.000714665739400632,{"$f":"VLOOKUP(A2647,'[1]SD vs SY0.45'!$A$2:$E$20133,5,FALSE)","v":"gga-mir-34a"}]
["ENSGALG00000052503",20.3848019368811,-1.81082113046901,0.518180458073504,-3.49457626634802,0.000474814929877968,1.69728766155186E-3,{"$f":"VLOOKUP(A2648,'[1]SD vs SY0.45'!$A$2:$E$20133,5,FALSE)","v":"NA"}]
["ENSGALG00000026482",22.1832771233501,-1.81166489340115,0.450242199038791,-4.0237563188631,{"v":5.72771823352967e-05,"d":"5.73E-05"},0.000257841303222039,{"$f":"VLOOKUP(A2649,'[1]SD vs SY0.45'!$A$2:$E$20133,5,FALSE)","v":"NA"}]
["ENSGALG00000049690",8.52671873638218,-1.81261624011798,0.634438882163889,-2.85703838632283,0.0042761412039709,0.0119647999860705,{"$f":"VLOOKUP(A2650,'[1]SD vs SY0.45'!$A$2:$E$20133,5,FALSE)","v":"NA"}]
["ENSGALG00000041403",429.69099308003,-1.81296052524437,0.133846416652676,-13.5450807767898,{"v":8.47206542304594e-42,"d":"8.47E-42"},{"v":2.77931700963207E-39,"d":"2.78E-39"},{"$f":"VLOOKUP(A2651,'[1]SD vs SY0.45'!$A$2:$E$20133,5,FALSE)","v":"DENND4A"}]
["ENSGALG00000009320",499.038005312392,-1.81359275577713,0.222894909199206,-8.1365373587617,{"v":4.0674337672265e-16,"d":"4.07E-16"},{"v":1.18459750269292E-14,"d":"1.18E-14"},{"$f":"VLOOKUP(A2652,'[1]SD vs SY0.45'!$A$2:$E$20133,5,FALSE)","v":"PSEN1"}]
["ENSGALG00000035478",406.465635398436,-1.81425166556824,0.164372360178804,-11.0374497488185,{"v":2.52086546878124e-28,"d":"2.52E-28"},{"v":2.62456813806583e-26,"d":"2.62E-26"},{"$f":"VLOOKUP(A2653,'[1]SD vs SY0.45'!$A$2:$E$20133,5,FALSE)","v":"FAM91A1"}]
["ENSGALG00000015303",84.744118050483,-1.81588588487095,0.206042762698805,-8.81315053771353,{"v":1.21676983102718E-18,"d":"1.22E-18"},{"v":4.8081766027431e-17,"d":"4.81E-17"},{"$f":"VLOOKUP(A2654,'[1]SD vs SY0.45'!$A$2:$E$20133,5,FALSE)","v":"AFG1L"}]
["ENSGALG00000052009",58.8328349141903,-1.81742380284824,0.665572022036068,-2.73061929088984,0.00632154504235214,0.0168474407804072,{"$f":"VLOOKUP(A2655,'[1]SD vs SY0.45'!$A$2:$E$20133,5,FALSE)","v":"NA"}]
["ENSGALG00000054937",98.3151160391452,-1.81935362824354,0.276732803153969,-6.57440537409396,{"v":4.8847982920587E-11,"d":"4.88E-11"},{"v":6.58387503131974e-10,"d":"6.58E-10"},{"$f":"VLOOKUP(A2656,'[1]SD vs SY0.45'!$A$2:$E$20133,5,FALSE)","v":"LOC416169"}]
["ENSGALG00000015136",352.431811707721,-1.82058346400763,0.289098968524317,-6.29744019254255,{"v":3.02601053125078e-10,"d":"3.03E-10"},{"v":3.62599897359457e-09,"d":"3.63E-09"},{"$f":"VLOOKUP(A2657,'[1]SD vs SY0.45'!$A$2:$E$20133,5,FALSE)","v":"ILDR1"}]
["ENSGALG00000009805",113.312986340423,-1.82064295103622,0.23357652155637,-7.79463166462489,{"v":6.4596627398709e-15,"d":"6.46E-15"},{"v":1.60908533034578e-13,"d":"1.61E-13"},{"$f":"VLOOKUP(A2658,'[1]SD vs SY0.45'!$A$2:$E$20133,5,FALSE)","v":"PPM1H"}]
["ENSGALG00000040546",601.970871456528,-1.82104694369688,0.152726042164813,-11.9236177267772,{"v":8.91514615367157e-33,"d":"8.92E-33"},{"v":1.34789257542511E-30,"d":"1.35E-30"},{"$f":"VLOOKUP(A2659,'[1]SD vs SY0.45'!$A$2:$E$20133,5,FALSE)","v":"NA"}]
["ENSGALG00000006425",1378.12166799756,-1.82220094371883,0.2379023140179,-7.65945027160068,{"v":1.86730634214946e-14,"d":"1.87E-14"},{"v":4.3814919528951e-13,"d":"4.38E-13"},{"$f":"VLOOKUP(A2660,'[1]SD vs SY0.45'!$A$2:$E$20133,5,FALSE)","v":"SLC6A6"}]
["ENSGALG00000015352",210.220289028981,-1.82481495353111,0.194557103294855,-9.37932834436562,{"v":6.63943140505982e-21,"d":"6.64E-21"},{"v":3.39528805411103e-19,"d":"3.40E-19"},{"$f":"VLOOKUP(A2661,'[1]SD vs SY0.45'!$A$2:$E$20133,5,FALSE)","v":"NA"}]
["ENSGALG00000052123",12.2243883477837,-1.82588416686923,0.575863690159106,-3.17068812997179,1.5207832077717E-3,0.00479714398286041,{"$f":"VLOOKUP(A2662,'[1]SD vs SY0.45'!$A$2:$E$20133,5,FALSE)","v":"NA"}]
["ENSGALG00000011379",109.880101490461,-1.82687050876184,0.23895148896098,-7.64536147778581,{"v":2.08359152536811e-14,"d":"2.08E-14"},{"v":4.84971965884543e-13,"d":"4.85E-13"},{"$f":"VLOOKUP(A2663,'[1]SD vs SY0.45'!$A$2:$E$20133,5,FALSE)","v":"SLC44A5"}]
["ENSGALG00000054962",7.74219555345874,-1.82824884768961,0.660510034176849,-2.76793500944772,0.00564127039314226,0.0152851438874185,{"$f":"VLOOKUP(A2664,'[1]SD vs SY0.45'!$A$2:$E$20133,5,FALSE)","v":"NA"}]
["ENSGALG00000049613",19.3497381116401,-1.82918763842166,0.431880428329366,-4.23540294589747,{"v":2.28142226856234e-05,"d":"2.28E-05"},1.12594632368701E-4,{"$f":"VLOOKUP(A2665,'[1]SD vs SY0.45'!$A$2:$E$20133,5,FALSE)","v":"NA"}]
["ENSGALG00000015181",183.918862472416,-1.83024064022767,0.195941093821935,-9.34076974119031,{"v":9.56362800659014E-21,"d":"9.56E-21"},{"v":4.81979130871254e-19,"d":"4.82E-19"},{"$f":"VLOOKUP(A2666,'[1]SD vs SY0.45'!$A$2:$E$20133,5,FALSE)","v":"GAREM1"}]
["ENSGALG00000032342",315.203060268864,-1.83073446535656,0.218295235391469,-8.38650675115977,{"v":5.00800963662715e-17,"d":"5.01E-17"},{"v":1.59769290921167E-15,"d":"1.60E-15"},{"$f":"VLOOKUP(A2667,'[1]SD vs SY0.45'!$A$2:$E$20133,5,FALSE)","v":"MIGA2"}]
["ENSGALG00000003026",987.749846151059,-1.83124851589884,0.184321782327893,-9.93506297937809,{"v":2.92990748010403e-23,"d":"2.93E-23"},{"v":1.89376584968657e-21,"d":"1.89E-21"},{"$f":"VLOOKUP(A2668,'[1]SD vs SY0.45'!$A$2:$E$20133,5,FALSE)","v":"NA"}]
["ENSGALG00000049668",198.48392334167,-1.83246063622765,0.235028059404954,-7.7967738867737,{"v":6.35098909951704e-15,"d":"6.35E-15"},{"v":1.58428475571453E-13,"d":"1.58E-13"},{"$f":"VLOOKUP(A2669,'[1]SD vs SY0.45'!$A$2:$E$20133,5,FALSE)","v":"MFSD4B"}]
["ENSGALG00000013732",210.202655692277,-1.8327435592924,0.278897930506783,-6.57137740664528,{"v":4.98519222367731e-11,"d":"4.99E-11"},{"v":6.69324611529555e-10,"d":"6.69E-10"},{"$f":"VLOOKUP(A2670,'[1]SD vs SY0.45'!$A$2:$E$20133,5,FALSE)","v":"SERAC1"}]
["ENSGALG00000011139",188.825301433967,-1.83301061833615,0.298558877824085,-6.1395280947438,{"v":8.27669856948744e-10,"d":"8.28E-10"},{"v":9.27833385091413e-09,"d":"9.28E-09"},{"$f":"VLOOKUP(A2671,'[1]SD vs SY0.45'!$A$2:$E$20133,5,FALSE)","v":"CCDC85C"}]
["ENSGALG00000012576",354.159678484754,-1.83376574346005,0.299769246962343,-6.11725773087861,{"v":9.51993326275187e-10,"d":"9.52E-10"},{"v":1.05833171124979E-8,"d":"1.06E-08"},{"$f":"VLOOKUP(A2672,'[1]SD vs SY0.45'!$A$2:$E$20133,5,FALSE)","v":"RASEF"}]
["ENSGALG00000004033",144.398538157566,-1.83879826301073,0.201440037230638,-9.12826609987867,{"v":6.9605116574704e-20,"d":"6.96E-20"},{"v":3.22726443169168E-18,"d":"3.23E-18"},{"$f":"VLOOKUP(A2673,'[1]SD vs SY0.45'!$A$2:$E$20133,5,FALSE)","v":"GALNT10"}]
["ENSGALG00000007075",2326.44815538292,-1.84058531386515,0.250006969739787,-7.36213600677162,{"v":1.80990423632575e-13,"d":"1.81E-13"},{"v":3.6254383591009e-12,"d":"3.63E-12"},{"$f":"VLOOKUP(A2674,'[1]SD vs SY0.45'!$A$2:$E$20133,5,FALSE)","v":"ATP13A3"}]
["ENSGALG00000053114",16.0574082158599,-1.84346425008022,0.490949815477765,-3.75489345746319,0.000173415229365461,0.000693940297578199,{"$f":"VLOOKUP(A2675,'[1]SD vs SY0.45'!$A$2:$E$20133,5,FALSE)","v":"NA"}]
["ENSGALG00000011614",6.84534462340828,-1.84442487987384,0.799720801022074,-2.30633600816259,0.0210918646096989,0.0480391740250405,{"$f":"VLOOKUP(A2676,'[1]SD vs SY0.45'!$A$2:$E$20133,5,FALSE)","v":"ANO4"}]
["ENSGALG00000011076",97.0870899854641,-1.84498619409246,0.3426216883131,-5.38490777736887,{"v":7.24818019914721e-08,"d":"7.25E-08"},{"v":5.84527407804139e-07,"d":"5.85E-07"},{"$f":"VLOOKUP(A2677,'[1]SD vs SY0.45'!$A$2:$E$20133,5,FALSE)","v":"SYNE3"}]
["ENSGALG00000009048",162.44308274517,-1.84514544661491,0.191189410697426,-9.6508767922038,{"v":4.87372187989957e-22,"d":"4.87E-22"},{"v":2.84360410489308e-20,"d":"2.84E-20"},{"$f":"VLOOKUP(A2678,'[1]SD vs SY0.45'!$A$2:$E$20133,5,FALSE)","v":"ABLIM1"}]
["ENSGALG00000031693",42.1318486605282,-1.84729053911748,0.347263072595649,-5.31957091005889,{"v":1.04012268969467E-7,"d":"1.04E-07"},{"v":8.19792076415285e-07,"d":"8.20E-07"},{"$f":"VLOOKUP(A2679,'[1]SD vs SY0.45'!$A$2:$E$20133,5,FALSE)","v":"KCNB2"}]
["ENSGALG00000050406",24.928934143953,-1.84752998875668,0.573966270890383,-3.21888250661601,0.00128691203918663,0.00413555287924294,{"$f":"VLOOKUP(A2680,'[1]SD vs SY0.45'!$A$2:$E$20133,5,FALSE)","v":"NA"}]
["ENSGALG00000025509",9.0967178953608,-1.84854496780289,0.648304067754651,-2.85135488075091,0.00435333526728118,0.0121651302301861,{"$f":"VLOOKUP(A2681,'[1]SD vs SY0.45'!$A$2:$E$20133,5,FALSE)","v":"gga-mir-1465"}]
["ENSGALG00000021378",174.08243253036,-1.85011351694862,0.28872073132508,-6.40796907259671,{"v":1.47470812936285E-10,"d":"1.47E-10"},{"v":1.84731630008875e-09,"d":"1.85E-09"},{"$f":"VLOOKUP(A2682,'[1]SD vs SY0.45'!$A$2:$E$20133,5,FALSE)","v":"UBAP1"}]
["ENSGALG00000042452",8740.04973537596,-1.85049060184849,0.455498504440473,-4.06256131207634,{"v":4.85371934819846e-05,"d":"4.85E-05"},2.22551736042E-4,{"$f":"VLOOKUP(A2683,'[1]SD vs SY0.45'!$A$2:$E$20133,5,FALSE)","v":"DPP4"}]
["ENSGALG00000016639",834.702610877631,-1.8546880967228,0.268504256098288,-6.90748118362743,{"v":4.93334366657476e-12,"d":"4.93E-12"},{"v":7.87658827646789e-11,"d":"7.88E-11"},{"$f":"VLOOKUP(A2684,'[1]SD vs SY0.45'!$A$2:$E$20133,5,FALSE)","v":"KIF13B"}]
["ENSGALG00000012223",22.6579335760471,-1.85516273060482,0.464347843206599,-3.99520048977468,{"v":6.46395283057778e-05,"d":"6.46E-05"},0.000286780071853411,{"$f":"VLOOKUP(A2685,'[1]SD vs SY0.45'!$A$2:$E$20133,5,FALSE)","v":"ZRANB3"}]
["ENSGALG00000003396",1303.74614225472,-1.85607776491875,0.153384795200669,-12.1007937096405,{"v":1.04594949271285e-33,"d":"1.05E-33"},{"v":1.78293370880376E-31,"d":"1.78E-31"},{"$f":"VLOOKUP(A2686,'[1]SD vs SY0.45'!$A$2:$E$20133,5,FALSE)","v":"NFATC3"}]
["ENSGALG00000010202",1027.03840677643,-1.85690848487001,0.398074945232812,-4.66472081980443,{"v":3.09036315164064e-06,"d":"3.09E-06"},{"v":1.83261064521063e-05,"d":"1.83E-05"},{"$f":"VLOOKUP(A2687,'[1]SD vs SY0.45'!$A$2:$E$20133,5,FALSE)","v":"ENTPD5"}]
["ENSGALG00000015492",2465.85417364821,-1.85770632326485,0.437779761150796,-4.24347237611324,{"v":2.20087475866135e-05,"d":"2.20E-05"},1.08928577935795E-4,{"$f":"VLOOKUP(A2688,'[1]SD vs SY0.45'!$A$2:$E$20133,5,FALSE)","v":"PDZK1"}]
["ENSGALG00000009836",356.440325293997,-1.85891829522922,0.172730024236772,-10.7619871151126,{"v":5.20358304450819e-27,"d":"5.20E-27"},{"v":4.94397258988327e-25,"d":"4.94E-25"},{"$f":"VLOOKUP(A2689,'[1]SD vs SY0.45'!$A$2:$E$20133,5,FALSE)","v":"ELMOD2"}]
["ENSGALG00000017204",142.235530527816,-1.85975362276694,0.1845047723192,-10.0797047111036,{"v":6.79299605914493e-24,"d":"6.79E-24"},{"v":4.74336636467281e-22,"d":"4.74E-22"},{"$f":"VLOOKUP(A2690,'[1]SD vs SY0.45'!$A$2:$E$20133,5,FALSE)","v":"SESN3"}]
["ENSGALG00000014878",1498.8873294287,-1.86054048376666,0.233660354925021,-7.96258519920373,{"v":1.68481523892673E-15,"d":"1.68E-15"},{"v":4.55581377281791e-14,"d":"4.56E-14"},{"$f":"VLOOKUP(A2691,'[1]SD vs SY0.45'!$A$2:$E$20133,5,FALSE)","v":"MAN1A1"}]
["ENSGALG00000014242",30.8077499118377,-1.86088264112676,0.521072006587354,-3.57125813246849,3.55270537138014E-4,0.0013165150957414,{"$f":"VLOOKUP(A2692,'[1]SD vs SY0.45'!$A$2:$E$20133,5,FALSE)","v":"BEND4"}]
["ENSGALG00000011213",931.424826545739,-1.86140212922841,0.36481065309667,-5.10237876396433,{"v":3.35410612989191e-07,"d":"3.35E-07"},{"v":2.3949832969376e-06,"d":"2.39E-06"},{"$f":"VLOOKUP(A2693,'[1]SD vs SY0.45'!$A$2:$E$20133,5,FALSE)","v":"DEGS2"}]
["ENSGALG00000027040",11.6530477680553,-1.86635410861672,0.637891060986156,-2.92581950549895,3.43550196231991E-3,0.00987486735309246,{"$f":"VLOOKUP(A2694,'[1]SD vs SY0.45'!$A$2:$E$20133,5,FALSE)","v":"NA"}]
["ENSGALG00000013377",310.325682605955,-1.86703390596152,0.215855509191604,-8.64946145203201,{"v":5.17430305762908e-18,"d":"5.17E-18"},{"v":1.91009781874728E-16,"d":"1.91E-16"},{"$f":"VLOOKUP(A2695,'[1]SD vs SY0.45'!$A$2:$E$20133,5,FALSE)","v":"LMBRD2"}]
["ENSGALG00000013043",109.981095484626,-1.86756870832381,0.233159885058978,-8.0098199904817,{"v":1.14876463214954E-15,"d":"1.15E-15"},{"v":3.18050488203568e-14,"d":"3.18E-14"},{"$f":"VLOOKUP(A2696,'[1]SD vs SY0.45'!$A$2:$E$20133,5,FALSE)","v":"ATPSCKMT"}]
["ENSGALG00000009848",769.525558219004,-1.87011799296417,0.42322002329887,-4.4187842966105,{"v":9.9257650406500192E-6,"d":"9.93E-06"},{"v":5.32338105989752e-05,"d":"5.32E-05"},{"$f":"VLOOKUP(A2697,'[1]SD vs SY0.45'!$A$2:$E$20133,5,FALSE)","v":"LPGAT1"}]
["ENSGALG00000049421",52.0229821154044,-1.87099375762024,0.330643709418286,-5.65864011419407,{"v":1.52577123053519e-08,"d":"1.53E-08"},{"v":1.38169710340184E-7,"d":"1.38E-07"},{"$f":"VLOOKUP(A2698,'[1]SD vs SY0.45'!$A$2:$E$20133,5,FALSE)","v":"NA"}]
["ENSGALG00000003446",292.413308153326,-1.87272306109993,0.252075769511576,-7.42920695919537,{"v":1.09250695518787E-13,"d":"1.09E-13"},{"v":2.27217923802052E-12,"d":"2.27E-12"},{"$f":"VLOOKUP(A2699,'[1]SD vs SY0.45'!$A$2:$E$20133,5,FALSE)","v":"PRLR"}]
["ENSGALG00000040530",7.10284095481541,-1.87580847832831,0.782175651335145,-2.39819339188886,0.0164761637598022,0.0388172167061899,{"$f":"VLOOKUP(A2700,'[1]SD vs SY0.45'!$A$2:$E$20133,5,FALSE)","v":"MUC6"}]
["ENSGALG00000045366",215.63082893604,-1.87623853290748,0.760054161284333,-2.46855899023962,0.0135658290438111,0.0328051557141506,{"$f":"VLOOKUP(A2701,'[1]SD vs SY0.45'!$A$2:$E$20133,5,FALSE)","v":"NA"}]
["ENSGALG00000045747",360.934392276238,-1.87833391590651,0.687388241512334,-2.73256625946054,0.00628430297422163,0.0167687501247378,{"$f":"VLOOKUP(A2702,'[1]SD vs SY0.45'!$A$2:$E$20133,5,FALSE)","v":"REEP6"}]
["ENSGALG00000002335",158.750318866771,-1.88099441356606,0.324346676119177,-5.79933309652574,{"v":6.65791665440588e-09,"d":"6.66E-09"},{"v":6.45268655909448e-08,"d":"6.45E-08"},{"$f":"VLOOKUP(A2703,'[1]SD vs SY0.45'!$A$2:$E$20133,5,FALSE)","v":"DOCK3"}]
["ENSGALG00000015701",1876.77767905527,-1.88137964957991,0.407356914978439,-4.61850426591995,{"v":3.86516035503351e-06,"d":"3.87E-06"},{"v":2.2491145613443e-05,"d":"2.25E-05"},{"$f":"VLOOKUP(A2704,'[1]SD vs SY0.45'!$A$2:$E$20133,5,FALSE)","v":"CXADR"}]
["ENSGALG00000003500",101.945611183918,-1.8866981414348,0.189123021594183,-9.97603636792162,{"v":1.94064763175197e-23,"d":"1.94E-23"},{"v":1.28786413638441e-21,"d":"1.29E-21"},{"$f":"VLOOKUP(A2705,'[1]SD vs SY0.45'!$A$2:$E$20133,5,FALSE)","v":"NA"}]
["ENSGALG00000037410",1822.17400893705,-1.88693070368244,0.36355526149941,-5.19021701377714,{"v":2.10049127463827E-7,"d":"2.10E-07"},{"v":1.56073682872374E-6,"d":"1.56E-06"},{"$f":"VLOOKUP(A2706,'[1]SD vs SY0.45'!$A$2:$E$20133,5,FALSE)","v":"HEPH"}]
["ENSGALG00000011443",957.640354882957,-1.88734736307682,0.342338547034156,-5.5131021014952,{"v":3.52563560689488e-08,"d":"3.53E-08"},{"v":3.00518595328798E-7,"d":"3.01E-07"},{"$f":"VLOOKUP(A2707,'[1]SD vs SY0.45'!$A$2:$E$20133,5,FALSE)","v":"EXOC3L4"}]
["ENSGALG00000038923",1477.56449251742,-1.88813043474099,0.491039070097152,-3.84517353042279,1.20467155894049E-4,0.000500971643035116,{"$f":"VLOOKUP(A2708,'[1]SD vs SY0.45'!$A$2:$E$20133,5,FALSE)","v":"LOC415787"}]
["ENSGALG00000010580",382.315017619051,-1.88915217430713,0.1877963254682,-10.0595800774975,{"v":8.33531154522154e-24,"d":"8.34E-24"},{"v":5.77394668672378e-22,"d":"5.77E-22"},{"$f":"VLOOKUP(A2709,'[1]SD vs SY0.45'!$A$2:$E$20133,5,FALSE)","v":"STRN"}]
["ENSGALG00000002182",1074.2571452764,-1.8916236546758,0.350792570939512,-5.39242792288774,{"v":6.95119855092908e-08,"d":"6.95E-08"},{"v":5.62665219762588e-07,"d":"5.63E-07"},{"$f":"VLOOKUP(A2710,'[1]SD vs SY0.45'!$A$2:$E$20133,5,FALSE)","v":"NR5A2"}]
["ENSGALG00000008501",73.4547564527761,-1.89479744871264,0.276117057391585,-6.86229770305522,{"v":6.77616609470873E-12,"d":"6.78E-12"},{"v":1.05665650124395e-10,"d":"1.06E-10"},{"$f":"VLOOKUP(A2711,'[1]SD vs SY0.45'!$A$2:$E$20133,5,FALSE)","v":"KLF7"}]
["ENSGALG00000051563",36.9353036465016,-1.89569667950396,0.809222075808613,-2.34261612006777,0.0191490741358596,0.044186456801618,{"$f":"VLOOKUP(A2712,'[1]SD vs SY0.45'!$A$2:$E$20133,5,FALSE)","v":"NA"}]
["ENSGALG00000023083",14.2804347389997,-1.89601376071946,0.529808263031951,-3.57867910528438,0.00034533517028628,0.00128270510697876,{"$f":"VLOOKUP(A2713,'[1]SD vs SY0.45'!$A$2:$E$20133,5,FALSE)","v":"KIAA1958"}]
["ENSGALG00000046952",380.788857716519,-1.89610395178896,0.276851710326286,-6.84880707276214,{"v":7.44683439162411e-12,"d":"7.45E-12"},{"v":1.1539938464097e-10,"d":"1.15E-10"},{"$f":"VLOOKUP(A2714,'[1]SD vs SY0.45'!$A$2:$E$20133,5,FALSE)","v":"NA"}]
["ENSGALG00000001730",1155.54842202281,-1.89685106176359,0.155729021268565,-12.1804596619942,{"v":3.95049067452626e-34,"d":"3.95E-34"},{"v":7.00889605693756e-32,"d":"7.01E-32"},{"$f":"VLOOKUP(A2715,'[1]SD vs SY0.45'!$A$2:$E$20133,5,FALSE)","v":"DGKD"}]
["ENSGALG00000014569",468.310535452325,-1.89884279902095,0.295212053773257,-6.43213166519071,{"v":1.25826669592456e-10,"d":"1.26E-10"},{"v":1.59456873484259e-09,"d":"1.59E-09"},{"$f":"VLOOKUP(A2716,'[1]SD vs SY0.45'!$A$2:$E$20133,5,FALSE)","v":"PNPLA2"}]
["ENSGALG00000030614",91.974816189153,-1.89958128044421,0.655379988789683,-2.89844260266818,0.00375020944215056,0.0106631057351875,{"$f":"VLOOKUP(A2717,'[1]SD vs SY0.45'!$A$2:$E$20133,5,FALSE)","v":"ADH1C"}]
["ENSGALG00000020813",525.841792069679,-1.90029384471271,0.16093398951091,-11.8079086368755,{"v":3.55288854825427e-32,"d":"3.55E-32"},{"v":5.02228237304853e-30,"d":"5.02E-30"},{"$f":"VLOOKUP(A2718,'[1]SD vs SY0.45'!$A$2:$E$20133,5,FALSE)","v":"CCDC50"}]
["ENSGALG00000010673",14.9904090203594,-1.90045613785074,0.784020592838494,-2.42398752687129,0.0153511327327999,0.0365030285592439,{"$f":"VLOOKUP(A2719,'[1]SD vs SY0.45'!$A$2:$E$20133,5,FALSE)","v":"SLC1A7"}]
["ENSGALG00000029862",3030.98970227926,-1.90095552357427,0.72270837911895,-2.6303216878317,0.00853041065222719,0.021947062741976,{"$f":"VLOOKUP(A2720,'[1]SD vs SY0.45'!$A$2:$E$20133,5,FALSE)","v":"NA"}]
["ENSGALG00000010934",541.630444353495,-1.90104613003815,0.193029932525586,-9.84845254393988,{"v":6.96073940773766e-23,"d":"6.96E-23"},{"v":4.40095913026672e-21,"d":"4.40E-21"},{"$f":"VLOOKUP(A2721,'[1]SD vs SY0.45'!$A$2:$E$20133,5,FALSE)","v":"PATJ"}]
["ENSGALG00000018318",17.8184680666907,-1.9012531825857,0.529612170856643,-3.58989707413717,0.000330808557315416,0.00123534544373779,{"$f":"VLOOKUP(A2722,'[1]SD vs SY0.45'!$A$2:$E$20133,5,FALSE)","v":"gga-mir-215"}]
["ENSGALG00000011490",200.115287433116,-1.90171269550053,0.210689373075881,-9.02614435525236,{"v":1.77826920551741e-19,"d":"1.78E-19"},{"v":7.74906432990756e-18,"d":"7.75E-18"},{"$f":"VLOOKUP(A2723,'[1]SD vs SY0.45'!$A$2:$E$20133,5,FALSE)","v":"CMTM6"}]
["ENSGALG00000044343",1577.01023465083,-1.90231763778482,0.248877262602655,-7.64359756247384,{"v":2.11234934668702E-14,"d":"2.11E-14"},{"v":4.91008263246621e-13,"d":"4.91E-13"},{"$f":"VLOOKUP(A2724,'[1]SD vs SY0.45'!$A$2:$E$20133,5,FALSE)","v":"UTRIM39L"}]
["ENSGALG00000048362",27.8836972536151,-1.90430552401197,0.652992249146902,-2.91627584630574,0.00354237159709872,0.0101518402767027,{"$f":"VLOOKUP(A2725,'[1]SD vs SY0.45'!$A$2:$E$20133,5,FALSE)","v":"NA"}]
["ENSGALG00000009784",115.742470769592,-1.90498830965825,0.245713682367889,-7.75287843680619,{"v":8.98326070873208e-15,"d":"8.98E-15"},{"v":2.20610104438877e-13,"d":"2.21E-13"},{"$f":"VLOOKUP(A2726,'[1]SD vs SY0.45'!$A$2:$E$20133,5,FALSE)","v":"PTPN14"}]
["ENSGALG00000014950",3179.68292325369,-1.90544113406119,0.516732699523406,-3.68747930181044,2.26486509651413E-4,0.000882348407642644,{"$f":"VLOOKUP(A2727,'[1]SD vs SY0.45'!$A$2:$E$20133,5,FALSE)","v":"SOT3A1L"}]
["ENSGALG00000009017",10.7170347939854,-1.90647592076226,0.67735394020527,-2.81459338700312,0.00488389852181154,0.0134340046826036,{"$f":"VLOOKUP(A2728,'[1]SD vs SY0.45'!$A$2:$E$20133,5,FALSE)","v":"STEAP2"}]
["ENSGALG00000010577",486.956601359012,-1.90708818177417,0.203701221423756,-9.36218334109487,{"v":7.81057134601174e-21,"d":"7.81E-21"},{"v":3.98247519041367e-19,"d":"3.98E-19"},{"$f":"VLOOKUP(A2729,'[1]SD vs SY0.45'!$A$2:$E$20133,5,FALSE)","v":"ARHGEF38"}]
["ENSGALG00000009791",134.170861802856,-1.91057533236274,0.216468114150368,-8.82612822614406,{"v":1.08361783530322e-18,"d":"1.08E-18"},{"v":4.32129892257272e-17,"d":"4.32E-17"},{"$f":"VLOOKUP(A2730,'[1]SD vs SY0.45'!$A$2:$E$20133,5,FALSE)","v":"PROX1"}]
["ENSGALG00000042505",1085.0058400116,-1.91167103827291,0.487755246596086,-3.91932439807455,{"v":8.8797530635513e-05,"d":"8.88E-05"},0.000382301342454637,{"$f":"VLOOKUP(A2731,'[1]SD vs SY0.45'!$A$2:$E$20133,5,FALSE)","v":"DSEL"}]
["ENSGALG00000007959",5008.13045051786,-1.91174976252891,0.519845643984859,-3.67753348450601,2.35500168893418E-4,0.000913370831262515,{"$f":"VLOOKUP(A2732,'[1]SD vs SY0.45'!$A$2:$E$20133,5,FALSE)","v":"SLC26A3"}]
["ENSGALG00000053860",4044.68430083051,-1.91272918627425,0.388507909708131,-4.923269612995,{"v":8.51100635761497e-07,"d":"8.51E-07"},{"v":5.63521963213448e-06,"d":"5.64E-06"},{"$f":"VLOOKUP(A2733,'[1]SD vs SY0.45'!$A$2:$E$20133,5,FALSE)","v":"LOC420486,LOC420486"}]
["ENSGALG00000017276",719.976236348375,-1.91319502437605,0.33652945164553,-5.68507456040204,{"v":1.30755600544044E-8,"d":"1.31E-08"},{"v":1.19844366191845E-7,"d":"1.20E-07"},{"$f":"VLOOKUP(A2734,'[1]SD vs SY0.45'!$A$2:$E$20133,5,FALSE)","v":"ARHGEF5"}]
["ENSGALG00000012380",382.283998843237,-1.91454818306721,0.120614946410702,-15.8732250027126,{"v":9.71196821877817e-57,"d":"9.71E-57"},{"v":6.49469197768831e-54,"d":"6.49E-54"},{"$f":"VLOOKUP(A2735,'[1]SD vs SY0.45'!$A$2:$E$20133,5,FALSE)","v":"SPOPL"}]
["ENSGALG00000026299",364.749524542027,-1.91510743659634,0.260322238830991,-7.35668010999125,{"v":1.8854043609432e-13,"d":"1.89E-13"},{"v":3.76799145100222e-12,"d":"3.77E-12"},{"$f":"VLOOKUP(A2736,'[1]SD vs SY0.45'!$A$2:$E$20133,5,FALSE)","v":"NA"}]
["ENSGALG00000010988",411.37895233432,-1.91553215363279,0.543733460782197,-3.52292491044633,0.000426812266311323,0.00154700539386178,{"$f":"VLOOKUP(A2737,'[1]SD vs SY0.45'!$A$2:$E$20133,5,FALSE)","v":"MPP6"}]
["ENSGALG00000052162",205.30439809969,-1.91554057957955,0.219750038389849,-8.71690668914141,{"v":2.85905582829768e-18,"d":"2.86E-18"},{"v":1.083015330863E-16,"d":"1.08E-16"},{"$f":"VLOOKUP(A2738,'[1]SD vs SY0.45'!$A$2:$E$20133,5,FALSE)","v":"PPM1L"}]
["ENSGALG00000001207",951.153495597622,-1.91612820229906,0.259789938638995,-7.37568287801062,{"v":1.63504787952468e-13,"d":"1.64E-13"},{"v":3.30949679642557e-12,"d":"3.31E-12"},{"$f":"VLOOKUP(A2739,'[1]SD vs SY0.45'!$A$2:$E$20133,5,FALSE)","v":"PLCH2"}]
["ENSGALG00000053997",632.983625114923,-1.91839144473645,0.126352874732301,-15.1828080587867,{"v":4.596740552723e-52,"d":"4.60E-52"},{"v":2.66411759967316e-49,"d":"2.66E-49"},{"$f":"VLOOKUP(A2740,'[1]SD vs SY0.45'!$A$2:$E$20133,5,FALSE)","v":"ZDBF2"}]
["ENSGALG00000041362",1092.07259911847,-1.91951159301435,0.177484251933256,-10.8151093525537,{"v":2.91944300662854e-27,"d":"2.92E-27"},{"v":2.85170536832868E-25,"d":"2.85E-25"},{"$f":"VLOOKUP(A2741,'[1]SD vs SY0.45'!$A$2:$E$20133,5,FALSE)","v":"SECISBP2L"}]
["ENSGALG00000050481",60.3940539769109,-1.9215356418627,0.241949891973413,-7.94187435336339,{"v":1.9914862125913e-15,"d":"1.99E-15"},{"v":5.33528055135976e-14,"d":"5.34E-14"},{"$f":"VLOOKUP(A2742,'[1]SD vs SY0.45'!$A$2:$E$20133,5,FALSE)","v":"NA"}]
["ENSGALG00000023934",9306.4995080819,-1.92206455895133,0.466319238620091,-4.12177838649552,{"v":3.75958786442112e-05,"d":"3.76E-05"},0.000176479357987824,{"$f":"VLOOKUP(A2743,'[1]SD vs SY0.45'!$A$2:$E$20133,5,FALSE)","v":"LOC421195"}]
["ENSGALG00000006672",457.267661751966,-1.92296976311284,0.204709321115376,-9.39366000842252,{"v":5.79507401666245e-21,"d":"5.80E-21"},{"v":2.99877833118185E-19,"d":"3.00E-19"},{"$f":"VLOOKUP(A2744,'[1]SD vs SY0.45'!$A$2:$E$20133,5,FALSE)","v":"LARP4B"}]
["ENSGALG00000029168",10.5428721698236,-1.92304520867852,0.679366211423879,-2.83064594079241,0.00464541128420806,0.0128860507336512,{"$f":"VLOOKUP(A2745,'[1]SD vs SY0.45'!$A$2:$E$20133,5,FALSE)","v":"CLTRN"}]
["ENSGALG00000000875",1145.5729533138,-1.9273466694864,0.373316339871675,-5.16277072187332,{"v":2.43321101041619e-07,"d":"2.43E-07"},{"v":1.78960405406541e-06,"d":"1.79E-06"},{"$f":"VLOOKUP(A2746,'[1]SD vs SY0.45'!$A$2:$E$20133,5,FALSE)","v":"PHLPP2"}]
["ENSGALG00000051535",72.4438409410981,-1.9278143413896,0.766039211248567,-2.51660008140766,0.0118493241690127,0.0292025796352408,{"$f":"VLOOKUP(A2747,'[1]SD vs SY0.45'!$A$2:$E$20133,5,FALSE)","v":"NA"}]
["ENSGALG00000045028",375.613118462743,-1.92867376557426,0.431209316981272,-4.47270893652332,{"v":7.72348737497184e-06,"d":"7.72E-06"},{"v":4.23221793219778e-05,"d":"4.23E-05"},{"$f":"VLOOKUP(A2748,'[1]SD vs SY0.45'!$A$2:$E$20133,5,FALSE)","v":"LRRC19"}]
["ENSGALG00000043909",98.2992738884475,-1.93593292699377,0.701184313950339,-2.76094728372786,0.00576339784107396,0.0155602792333467,{"$f":"VLOOKUP(A2749,'[1]SD vs SY0.45'!$A$2:$E$20133,5,FALSE)","v":"MSMB"}]
["ENSGALG00000037326",95.5591865002008,-1.93998448377582,0.219888832317041,-8.82256940169975,{"v":1.11862823562125e-18,"d":"1.12E-18"},{"v":4.44054546409742E-17,"d":"4.44E-17"},{"$f":"VLOOKUP(A2750,'[1]SD vs SY0.45'!$A$2:$E$20133,5,FALSE)","v":"MAP3K9"}]
["ENSGALG00000015140",155.363042986229,-1.94076946797945,0.651229520237534,-2.98016199768027,0.00288095981816786,0.00846278904519083,{"$f":"VLOOKUP(A2751,'[1]SD vs SY0.45'!$A$2:$E$20133,5,FALSE)","v":"DSC1"}]
["ENSGALG00000016036",961.331913794491,-1.94111933871316,0.252465511695106,-7.68865151394374,{"v":1.48693858423861E-14,"d":"1.49E-14"},{"v":3.53188540493944e-13,"d":"3.53E-13"},{"$f":"VLOOKUP(A2752,'[1]SD vs SY0.45'!$A$2:$E$20133,5,FALSE)","v":"DOP1B"}]
["ENSGALG00000036680",137.870114347106,-1.9432638794907,0.594827322695712,-3.26693782438233,1.0871755457062E-3,0.00355514786781901,{"$f":"VLOOKUP(A2753,'[1]SD vs SY0.45'!$A$2:$E$20133,5,FALSE)","v":"MYZAP"}]
["ENSGALG00000046879",37.3081489393673,-1.94436067169422,0.526925555258151,-3.69001019649093,2.24245063529518E-4,0.000874203793629537,{"$f":"VLOOKUP(A2754,'[1]SD vs SY0.45'!$A$2:$E$20133,5,FALSE)","v":"NA"}]
["ENSGALG00000039099",179.593412371848,-1.94467697409093,0.189672611216573,-10.2528085716628,{"v":1.14953873030555E-24,"d":"1.15E-24"},{"v":8.57812442224149e-23,"d":"8.58E-23"},{"$f":"VLOOKUP(A2755,'[1]SD vs SY0.45'!$A$2:$E$20133,5,FALSE)","v":"MAPK9"}]
["ENSGALG00000009341",237.921058425141,-1.94489555208798,0.228521080427096,-8.51079273935277,{"v":1.72748182404101e-17,"d":"1.73E-17"},{"v":5.8435265514788E-16,"d":"5.84E-16"},{"$f":"VLOOKUP(A2756,'[1]SD vs SY0.45'!$A$2:$E$20133,5,FALSE)","v":"CRAMP1"}]
["ENSGALG00000033260",904.924339346616,-1.94489925476145,0.261670839770682,-7.43261746882414,{"v":1.06469475727616E-13,"d":"1.06E-13"},{"v":2.22231065363272E-12,"d":"2.22E-12"},{"$f":"VLOOKUP(A2757,'[1]SD vs SY0.45'!$A$2:$E$20133,5,FALSE)","v":"ST3GAL5"}]
["ENSGALG00000009982",380.241228192753,-1.94575675701852,0.244194950616666,-7.96804664512882,{"v":1.61202023278911e-15,"d":"1.61E-15"},{"v":4.37940559179755e-14,"d":"4.38E-14"},{"$f":"VLOOKUP(A2758,'[1]SD vs SY0.45'!$A$2:$E$20133,5,FALSE)","v":"ZNF827"}]
["ENSGALG00000006372",713.040422831174,-1.94621714702317,0.187110184868453,-10.4014495437084,{"v":2.44189882365684E-25,"d":"2.44E-25"},{"v":1.95655736621758e-23,"d":"1.96E-23"},{"$f":"VLOOKUP(A2759,'[1]SD vs SY0.45'!$A$2:$E$20133,5,FALSE)","v":"RBM33"}]
["ENSGALG00000010001",327.250616652134,-1.94668144712315,0.532023053010348,-3.65901709730102,0.000253184450369385,0.000974782559471323,{"$f":"VLOOKUP(A2760,'[1]SD vs SY0.45'!$A$2:$E$20133,5,FALSE)","v":"EGLN3"}]
["ENSGALG00000005438",226.540541402715,-1.94696933851716,0.203820036716758,-9.55239420951922,{"v":1.26732993211786E-21,"d":"1.27E-21"},{"v":7.03995703825342e-20,"d":"7.04E-20"},{"$f":"VLOOKUP(A2761,'[1]SD vs SY0.45'!$A$2:$E$20133,5,FALSE)","v":"PARVA"}]
["ENSGALG00000051383",219.334190605327,-1.95074222859103,0.193684733774716,-10.0717397317438,{"v":7.36633770905621E-24,"d":"7.37E-24"},{"v":5.12314054989441e-22,"d":"5.12E-22"},{"$f":"VLOOKUP(A2762,'[1]SD vs SY0.45'!$A$2:$E$20133,5,FALSE)","v":"NA"}]
["ENSGALG00000053469",19.0011647700471,-1.95361158977944,0.576240659308679,-3.39027029457312,0.000698237424812946,0.00239452743692755,{"$f":"VLOOKUP(A2763,'[1]SD vs SY0.45'!$A$2:$E$20133,5,FALSE)","v":"NA"}]
["ENSGALG00000008204",82.5331839101644,-1.95504804021047,0.22065868067007,-8.86005496939261,{"v":7.99749952339269e-19,"d":"8.00E-19"},{"v":3.24131758072794e-17,"d":"3.24E-17"},{"$f":"VLOOKUP(A2764,'[1]SD vs SY0.45'!$A$2:$E$20133,5,FALSE)","v":"FEM1C"}]
["ENSGALG00000015951",63.2083980875783,-1.9557345752187,0.299391271021576,-6.53237006057453,{"v":6.47369561785214e-11,"d":"6.47E-11"},{"v":8.52067719209653e-10,"d":"8.52E-10"},{"$f":"VLOOKUP(A2765,'[1]SD vs SY0.45'!$A$2:$E$20133,5,FALSE)","v":"OGFRL1"}]
["ENSGALG00000011405",390.020027448996,-1.95681376887082,0.202267461898272,-9.67438732115491,{"v":3.87405084937916E-22,"d":"3.87E-22"},{"v":2.29109258905291e-20,"d":"2.29E-20"},{"$f":"VLOOKUP(A2766,'[1]SD vs SY0.45'!$A$2:$E$20133,5,FALSE)","v":"SLC4A7"}]
["ENSGALG00000015390",138.406244350133,-1.95730969664906,0.218359830621271,-8.96368938865804,{"v":3.13992607377341e-19,"d":"3.14E-19"},{"v":1.33808565305633E-17,"d":"1.34E-17"},{"$f":"VLOOKUP(A2767,'[1]SD vs SY0.45'!$A$2:$E$20133,5,FALSE)","v":"HOOK3"}]
["ENSGALG00000013803",391.58776275295,-1.95832167924161,0.220790992178957,-8.86957234946588,{"v":7.34273398413998e-19,"d":"7.34E-19"},{"v":2.9969041263437e-17,"d":"3.00E-17"},{"$f":"VLOOKUP(A2768,'[1]SD vs SY0.45'!$A$2:$E$20133,5,FALSE)","v":"ADGRG6"}]
["ENSGALG00000010036",326.050648905922,-1.95853606495152,0.445791242350479,-4.39339286843084,{"v":1.11595194195519e-05,"d":"1.12E-05"},{"v":5.90476458148961e-05,"d":"5.90E-05"},{"$f":"VLOOKUP(A2769,'[1]SD vs SY0.45'!$A$2:$E$20133,5,FALSE)","v":"FOSL2"}]
["ENSGALG00000034965",943.164443131919,-1.96467641222683,0.178288482327982,-11.0196485301422,{"v":3.072564298101E-28,"d":"3.07E-28"},{"v":3.14251032065189e-26,"d":"3.14E-26"},{"$f":"VLOOKUP(A2770,'[1]SD vs SY0.45'!$A$2:$E$20133,5,FALSE)","v":"DIP2B"}]
["ENSGALG00000041896",363.916249936768,-1.96574013066371,0.121109579049926,-16.2310871368264,{"v":3.04026748743668E-59,"d":"3.04E-59"},{"v":2.29831003495919e-56,"d":"2.30E-56"},{"$f":"VLOOKUP(A2771,'[1]SD vs SY0.45'!$A$2:$E$20133,5,FALSE)","v":"RFX7"}]
["ENSGALG00000015008",111.216363567064,-1.96755530694728,0.459592057775421,-4.28109074919812,{"v":1.85979491587806e-05,"d":"1.86E-05"},{"v":9.34303790880436e-05,"d":"9.34E-05"},{"$f":"VLOOKUP(A2772,'[1]SD vs SY0.45'!$A$2:$E$20133,5,FALSE)","v":"ZNF366"}]
["ENSGALG00000052453",7.36392415605566,-1.96958788846683,0.645429394522031,-3.05159310248861,0.00227630442719841,0.00685453846132642,{"$f":"VLOOKUP(A2773,'[1]SD vs SY0.45'!$A$2:$E$20133,5,FALSE)","v":"NA"}]
["ENSGALG00000038817",5.24659265888905,-1.97184078376505,0.769801957996171,-2.56149099555143,0.0104223942979429,0.0261190789360525,{"$f":"VLOOKUP(A2774,'[1]SD vs SY0.45'!$A$2:$E$20133,5,FALSE)","v":"CKS2"}]
["ENSGALG00000013149",79.4911382626484,-1.97214953845838,0.306638393606442,-6.43151536004182,{"v":1.2633801253571e-10,"d":"1.26E-10"},{"v":1.59988275597843E-9,"d":"1.60E-09"},{"$f":"VLOOKUP(A2775,'[1]SD vs SY0.45'!$A$2:$E$20133,5,FALSE)","v":"MOCOS"}]
["ENSGALG00000030789",306.438066629488,-1.9722434795545,0.259985774176678,-7.58596690838257,{"v":3.30016650771823e-14,"d":"3.30E-14"},{"v":7.45406126712855e-13,"d":"7.45E-13"},{"$f":"VLOOKUP(A2776,'[1]SD vs SY0.45'!$A$2:$E$20133,5,FALSE)","v":"PGAP1"}]
["ENSGALG00000037439",22.7511116928637,-1.97412896806622,0.486979615714725,-4.05382259207884,{"v":5.03874345018157e-05,"d":"5.04E-05"},2.30064685841142E-4,{"$f":"VLOOKUP(A2777,'[1]SD vs SY0.45'!$A$2:$E$20133,5,FALSE)","v":"SLC9A4"}]
["ENSGALG00000050857",373.721839492328,-1.97440101908256,0.413501844704524,-4.77483001434589,{"v":1.7985911162896e-06,"d":"1.80E-06"},{"v":1.11566549193461E-5,"d":"1.12E-05"},{"$f":"VLOOKUP(A2778,'[1]SD vs SY0.45'!$A$2:$E$20133,5,FALSE)","v":"PTPN20"}]
["ENSGALG00000022739",292.491794087276,-1.97585928477546,0.148892965357419,-13.2703333568003,{"v":3.44046833370013e-40,"d":"3.44E-40"},{"v":9.64829401903939e-38,"d":"9.65E-38"},{"$f":"VLOOKUP(A2779,'[1]SD vs SY0.45'!$A$2:$E$20133,5,FALSE)","v":"AKAP11"}]
["ENSGALG00000019622",62.4718830975109,-1.97613321394504,0.280788227735458,-7.03780649880676,{"v":1.95289625838046e-12,"d":"1.95E-12"},{"v":3.29762680281369E-11,"d":"3.30E-11"},{"$f":"VLOOKUP(A2780,'[1]SD vs SY0.45'!$A$2:$E$20133,5,FALSE)","v":"TRIM71"}]
["ENSGALG00000048828",70.6933467331579,-1.97664204477833,0.253372807786036,-7.80131878416698,{"v":6.12635343709507e-15,"d":"6.13E-15"},{"v":1.53706936812081e-13,"d":"1.54E-13"},{"$f":"VLOOKUP(A2781,'[1]SD vs SY0.45'!$A$2:$E$20133,5,FALSE)","v":"NA"}]
["ENSGALG00000047026",51.2518306706797,-1.97769083620855,0.766727071082978,-2.57939351667226,0.00989739671704662,0.0249907111122988,{"$f":"VLOOKUP(A2782,'[1]SD vs SY0.45'!$A$2:$E$20133,5,FALSE)","v":"NA"}]
["ENSGALG00000034898",1608.33403662206,-1.97863461492253,0.359391307371148,-5.50551606101916,{"v":3.68088398518423e-08,"d":"3.68E-08"},{"v":3.12956136187767e-07,"d":"3.13E-07"},{"$f":"VLOOKUP(A2783,'[1]SD vs SY0.45'!$A$2:$E$20133,5,FALSE)","v":"ITPK1"}]
["ENSGALG00000054272",30.6155001637977,-1.98018921583586,0.44636944441731,-4.43621139529565,{"v":9.15559417158898e-06,"d":"9.16E-06"},{"v":4.948346778409e-05,"d":"4.95E-05"},{"$f":"VLOOKUP(A2784,'[1]SD vs SY0.45'!$A$2:$E$20133,5,FALSE)","v":"NA"}]
["ENSGALG00000053987",12.165905794242,-1.98512133902635,0.842829294254479,-2.3553065283312,0.018507431798007,0.0428880070201184,{"$f":"VLOOKUP(A2785,'[1]SD vs SY0.45'!$A$2:$E$20133,5,FALSE)","v":"NA"}]
["ENSGALG00000054813",15.289847536039,-1.98623950091568,0.5095906978116,-3.89771538108022,{"v":9.71044472022072e-05,"d":"9.71E-05"},0.000414117003557708,{"$f":"VLOOKUP(A2786,'[1]SD vs SY0.45'!$A$2:$E$20133,5,FALSE)","v":"NA"}]
["ENSGALG00000003775",278.454162652004,-1.99342897679479,0.149149200810656,-13.3653346176856,{"v":9.64005218723471e-41,"d":"9.64E-41"},{"v":2.79352645632417e-38,"d":"2.79E-38"},{"$f":"VLOOKUP(A2787,'[1]SD vs SY0.45'!$A$2:$E$20133,5,FALSE)","v":"RICTOR"}]
["ENSGALG00000012067",85.7854138149423,-1.99799650995341,0.296397056214905,-6.74094586318948,{"v":1.57358835919598e-11,"d":"1.57E-11"},{"v":2.29337642928253e-10,"d":"2.29E-10"},{"$f":"VLOOKUP(A2788,'[1]SD vs SY0.45'!$A$2:$E$20133,5,FALSE)","v":"LMLN"}]
["ENSGALG00000014236",293.986999412611,-2.00022951348963,0.193647774894307,-10.3292150636967,{"v":5.19842211526702e-25,"d":"5.20E-25"},{"v":4.01710956969545e-23,"d":"4.02E-23"},{"$f":"VLOOKUP(A2789,'[1]SD vs SY0.45'!$A$2:$E$20133,5,FALSE)","v":"ATP8A1"}]
["ENSGALG00000050353",6.03358057882287,-2.00045404653316,0.820567283218286,-2.43789155069323,0.0147732053456716,0.0352832034814824,{"$f":"VLOOKUP(A2790,'[1]SD vs SY0.45'!$A$2:$E$20133,5,FALSE)","v":"NA"}]
["ENSGALG00000017227",42.1405361274755,-2.00138663288418,0.366830256552785,-5.45589301082144,{"v":4.87273274036426e-08,"d":"4.87E-08"},{"v":4.05369397879012e-07,"d":"4.05E-07"},{"$f":"VLOOKUP(A2791,'[1]SD vs SY0.45'!$A$2:$E$20133,5,FALSE)","v":"SLC36A4"}]
["ENSGALG00000004570",659.006289109201,-2.00419205376745,0.128796102372203,-15.5609682036465,{"v":1.34055569534107E-54,"d":"1.34E-54"},{"v":8.32437209817687e-52,"d":"8.32E-52"},{"$f":"VLOOKUP(A2792,'[1]SD vs SY0.45'!$A$2:$E$20133,5,FALSE)","v":"NCOA3"}]
["ENSGALG00000053471",14.1159283209911,-2.00578188458739,0.433842441643286,-4.62329567616757,{"v":3.77690757599764e-06,"d":"3.78E-06"},{"v":2.20514076641609e-05,"d":"2.21E-05"},{"$f":"VLOOKUP(A2793,'[1]SD vs SY0.45'!$A$2:$E$20133,5,FALSE)","v":"NA"}]
["ENSGALG00000005340",760.34537228573,-2.00746040432632,0.307041695279449,-6.53807100204832,{"v":6.23173407794536e-11,"d":"6.23E-11"},{"v":8.22087711784795e-10,"d":"8.22E-10"},{"$f":"VLOOKUP(A2794,'[1]SD vs SY0.45'!$A$2:$E$20133,5,FALSE)","v":"SLC35A3"}]
["ENSGALG00000004397",595.807092727967,-2.00800767583292,0.189165595060065,-10.6150786838131,{"v":2.5358069621891E-26,"d":"2.54E-26"},{"v":2.27268431193721E-24,"d":"2.27E-24"},{"$f":"VLOOKUP(A2795,'[1]SD vs SY0.45'!$A$2:$E$20133,5,FALSE)","v":"MLXIP"}]
["ENSGALG00000009645",240.573167565031,-2.008404845821,0.284145779019548,-7.06821988611285,{"v":1.56933744525292e-12,"d":"1.57E-12"},{"v":2.70160136149653E-11,"d":"2.70E-11"},{"$f":"VLOOKUP(A2796,'[1]SD vs SY0.45'!$A$2:$E$20133,5,FALSE)","v":"ESRRG"}]
["ENSGALG00000015605",48.6415007016578,-2.01016900128066,0.293067808013107,-6.85905768671378,{"v":6.93162463448492e-12,"d":"6.93E-12"},{"v":1.07799783112513e-10,"d":"1.08E-10"},{"$f":"VLOOKUP(A2797,'[1]SD vs SY0.45'!$A$2:$E$20133,5,FALSE)","v":"BACH2"}]
["ENSGALG00000005521",4247.5653573063,-2.01039951516769,0.253689099248074,-7.92465865157962,{"v":2.28773895334425e-15,"d":"2.29E-15"},{"v":6.09141151329196e-14,"d":"6.09E-14"},{"$f":"VLOOKUP(A2798,'[1]SD vs SY0.45'!$A$2:$E$20133,5,FALSE)","v":"PER2"}]
["ENSGALG00000002246",222.399814977224,-2.01451181533765,0.212266884221287,-9.49046679008834,{"v":2.30001986264732e-21,"d":"2.30E-21"},{"v":1.24193929664127e-19,"d":"1.24E-19"},{"$f":"VLOOKUP(A2799,'[1]SD vs SY0.45'!$A$2:$E$20133,5,FALSE)","v":"DENND1B"}]
["ENSGALG00000033411",51.1664534222448,-2.01590912747768,0.447368972511179,-4.50614425976381,{"v":6.60162146800418e-06,"d":"6.60E-06"},{"v":3.65665474559378e-05,"d":"3.66E-05"},{"$f":"VLOOKUP(A2800,'[1]SD vs SY0.45'!$A$2:$E$20133,5,FALSE)","v":"LOC100859549"}]
["ENSGALG00000033507",710.009597120619,-2.01976743215278,0.221555070063068,-9.11632232824925,{"v":7.77168617367229e-20,"d":"7.77E-20"},{"v":3.57477003972593e-18,"d":"3.57E-18"},{"$f":"VLOOKUP(A2801,'[1]SD vs SY0.45'!$A$2:$E$20133,5,FALSE)","v":"PLCG2"}]
["ENSGALG00000050687",21.0643543494707,-2.02065530593455,0.522876600995927,-3.86449747815411,1.11318140049881E-4,4.67848320291825E-4,{"$f":"VLOOKUP(A2802,'[1]SD vs SY0.45'!$A$2:$E$20133,5,FALSE)","v":"NA"}]
["ENSGALG00000007902",367.557649098562,-2.0237220838013,0.146983673973723,-13.7683460284377,{"v":3.95156589167388e-43,"d":"3.95E-43"},{"v":1.40216073792926e-40,"d":"1.40E-40"},{"$f":"VLOOKUP(A2803,'[1]SD vs SY0.45'!$A$2:$E$20133,5,FALSE)","v":"ATP7A"}]
["ENSGALG00000010390",117.808657474959,-2.02443876280355,0.197935562148822,-10.2277667581606,{"v":1.48913735132457e-24,"d":"1.49E-24"},{"v":1.10177153733959e-22,"d":"1.10E-22"},{"$f":"VLOOKUP(A2804,'[1]SD vs SY0.45'!$A$2:$E$20133,5,FALSE)","v":"CIPC"}]
["ENSGALG00000000901",251.564442371305,-2.02777370290971,0.438546744764529,-4.62384848848551,{"v":3.76685053143363e-06,"d":"3.77E-06"},{"v":2.20074698219209e-05,"d":"2.20E-05"},{"$f":"VLOOKUP(A2805,'[1]SD vs SY0.45'!$A$2:$E$20133,5,FALSE)","v":"NA"}]
["ENSGALG00000001546",2953.00529431124,-2.02822662858628,0.354890712343098,-5.71507384680569,{"v":1.09656393736859E-8,"d":"1.10E-08"},{"v":1.02403817333341e-07,"d":"1.02E-07"},{"$f":"VLOOKUP(A2806,'[1]SD vs SY0.45'!$A$2:$E$20133,5,FALSE)","v":"ZZEF1"}]
["ENSGALG00000015635",655.182693974887,-2.0309535199231,0.167455051720267,-12.1283502591239,{"v":7.47399527170689e-34,"d":"7.47E-34"},{"v":1.29357940830339e-31,"d":"1.29E-31"},{"$f":"VLOOKUP(A2807,'[1]SD vs SY0.45'!$A$2:$E$20133,5,FALSE)","v":"HTT"}]
["ENSGALG00000006710",18.614831950919,-2.03160390076884,0.481156740524436,-4.22233282766547,{"v":2.41786719348531E-5,"d":"2.42E-05"},1.18789084185163E-4,{"$f":"VLOOKUP(A2808,'[1]SD vs SY0.45'!$A$2:$E$20133,5,FALSE)","v":"RAB36"}]
["ENSGALG00000005042",601.265237962811,-2.0320067768073,0.139628839872561,-14.5529159925837,{"v":5.59656236195381e-48,"d":"5.60E-48"},{"v":2.78021227963688E-45,"d":"2.78E-45"},{"$f":"VLOOKUP(A2809,'[1]SD vs SY0.45'!$A$2:$E$20133,5,FALSE)","v":"IQSEC1"}]
["ENSGALG00000026578",59.026375569947,-2.03611578823965,0.29380635679404,-6.93012843716988,{"v":4.20458708643585e-12,"d":"4.20E-12"},{"v":6.77526929303615e-11,"d":"6.78E-11"},{"$f":"VLOOKUP(A2810,'[1]SD vs SY0.45'!$A$2:$E$20133,5,FALSE)","v":"LOC769510"}]
["ENSGALG00000019077",765.045031213218,-2.03765465925808,0.30533693532114,-6.6734627342577,{"v":2.4983704637103e-11,"d":"2.50E-11"},{"v":3.5259064328353e-10,"d":"3.53E-10"},{"$f":"VLOOKUP(A2811,'[1]SD vs SY0.45'!$A$2:$E$20133,5,FALSE)","v":"SPATA13"}]
["ENSGALG00000008442",15.6363180215126,-2.03773320100524,0.462428285696129,-4.40659290107585,{"v":1.05009281563551e-05,"d":"1.05E-05"},{"v":5.59373890485743e-05,"d":"5.59E-05"},{"$f":"VLOOKUP(A2812,'[1]SD vs SY0.45'!$A$2:$E$20133,5,FALSE)","v":"TENM1"}]
["ENSGALG00000055054",4.93638156773484,-2.03853684271728,0.875993723940476,-2.327113524909,0.0199592238577596,0.045812676596022,{"$f":"VLOOKUP(A2813,'[1]SD vs SY0.45'!$A$2:$E$20133,5,FALSE)","v":"NA"}]
["ENSGALG00000052648",477.352203008984,-2.04034974796285,0.0974241649899393,-20.9429534055904,{"v":2.17546985017317e-97,"d":"2.18E-97"},{"v":1.26082980949869E-93,"d":"1.26E-93"},{"$f":"VLOOKUP(A2814,'[1]SD vs SY0.45'!$A$2:$E$20133,5,FALSE)","v":"PRR14L"}]
["ENSGALG00000002706",817.592910329199,-2.0416323572386,0.203685831645437,-10.023438256582,{"v":1.20245509992193E-23,"d":"1.20E-23"},{"v":8.2311365442294e-22,"d":"8.23E-22"},{"$f":"VLOOKUP(A2815,'[1]SD vs SY0.45'!$A$2:$E$20133,5,FALSE)","v":"XRN1"}]
["ENSGALG00000053507",135.079350787352,-2.04405040333481,0.617996103677077,-3.30754577767192,0.000941173279618857,0.00313490034726687,{"$f":"VLOOKUP(A2816,'[1]SD vs SY0.45'!$A$2:$E$20133,5,FALSE)","v":"ZFP2"}]
["ENSGALG00000020253",80.9271450182993,-2.04540727188981,0.201239530500591,-10.1640431519681,{"v":2.86925361043941E-24,"d":"2.87E-24"},{"v":2.07002956534067E-22,"d":"2.07E-22"},{"$f":"VLOOKUP(A2817,'[1]SD vs SY0.45'!$A$2:$E$20133,5,FALSE)","v":"MAP9"}]
["ENSGALG00000053586",19.5109219907495,-2.04609455541345,0.888041148641724,-2.30405376884054,0.0212196254709875,0.0482534172199921,{"$f":"VLOOKUP(A2818,'[1]SD vs SY0.45'!$A$2:$E$20133,5,FALSE)","v":"NA"}]
["ENSGALG00000013063",29.2069331608777,-2.0465887249342,0.604379568288006,-3.38626391810607,0.000708512089769266,0.00242498025685398,{"$f":"VLOOKUP(A2819,'[1]SD vs SY0.45'!$A$2:$E$20133,5,FALSE)","v":"SRD5A1"}]
["ENSGALG00000002710",2051.47036587779,-2.04901911431184,0.386402476336658,-5.30281051440933,{"v":1.14033269652081E-7,"d":"1.14E-07"},{"v":8.93508994790777e-07,"d":"8.94E-07"},{"$f":"VLOOKUP(A2820,'[1]SD vs SY0.45'!$A$2:$E$20133,5,FALSE)","v":"IPMK"}]
["ENSGALG00000025633",9.25598362003637,-2.05016409879569,0.6564134861172,-3.12328150191241,0.00178846602438825,0.00553113816542839,{"$f":"VLOOKUP(A2821,'[1]SD vs SY0.45'!$A$2:$E$20133,5,FALSE)","v":"NA"}]
["ENSGALG00000010858",8.40634328132851,-2.05097327790755,0.536592461485191,-3.82221783778107,0.000132256773727516,5.45433710816015E-4,{"$f":"VLOOKUP(A2822,'[1]SD vs SY0.45'!$A$2:$E$20133,5,FALSE)","v":"LRP2"}]
["ENSGALG00000016419",452.089728618972,-2.05249518457915,0.326790725013892,-6.2807632759219,{"v":3.36914812211428e-10,"d":"3.37E-10"},{"v":4.00405867390301e-09,"d":"4.00E-09"},{"$f":"VLOOKUP(A2823,'[1]SD vs SY0.45'!$A$2:$E$20133,5,FALSE)","v":"ASAP2"}]
["ENSGALG00000042137",226.177595147574,-2.05280906980511,0.209288102514436,-9.80853209113268,{"v":1.03462613849951E-22,"d":"1.03E-22"},{"v":6.42465881074675e-21,"d":"6.42E-21"},{"$f":"VLOOKUP(A2824,'[1]SD vs SY0.45'!$A$2:$E$20133,5,FALSE)","v":"ELK4"}]
["ENSGALG00000015706",582.267872785648,-2.0533970078682,0.197338189786984,-10.4054719975121,{"v":2.34093095072343e-25,"d":"2.34E-25"},{"v":1.88434103889945e-23,"d":"1.88E-23"},{"$f":"VLOOKUP(A2825,'[1]SD vs SY0.45'!$A$2:$E$20133,5,FALSE)","v":"LETM1"}]
["ENSGALG00000042528",5.37488615735784,-2.05538012997343,0.859095578376343,-2.3924929678465,0.0167343487725739,0.0393455202310673,{"$f":"VLOOKUP(A2826,'[1]SD vs SY0.45'!$A$2:$E$20133,5,FALSE)","v":"NA"}]
["ENSGALG00000013575",769.492405222825,-2.05749874086061,0.869992280375646,-2.36496206606824,0.0180319177911648,0.0419426026267535,{"$f":"VLOOKUP(A2827,'[1]SD vs SY0.45'!$A$2:$E$20133,5,FALSE)","v":"IFI6"}]
["ENSGALG00000020251",550.107542448763,-2.0591947862197,0.360612478272528,-5.71027047118288,{"v":1.12796768165132E-8,"d":"1.13E-08"},{"v":1.05158037967139E-7,"d":"1.05E-07"},{"$f":"VLOOKUP(A2828,'[1]SD vs SY0.45'!$A$2:$E$20133,5,FALSE)","v":"FNIP2"}]
["ENSGALG00000038265",12.6691015542166,-2.06058838533898,0.774679843759959,-2.65992254985979,0.007815862198991,0.0203009256130649,{"$f":"VLOOKUP(A2829,'[1]SD vs SY0.45'!$A$2:$E$20133,5,FALSE)","v":"CREB5"}]
["ENSGALG00000006662",140.848729261672,-2.06066706886308,0.670305113982433,-3.07422250834428,2.11051958071668E-3,0.00642205179382585,{"$f":"VLOOKUP(A2830,'[1]SD vs SY0.45'!$A$2:$E$20133,5,FALSE)","v":"BPIFB3"}]
["ENSGALG00000029249",23.1324765614527,-2.06174377556776,0.450828934796367,-4.57322859389896,{"v":4.80265666196084e-06,"d":"4.80E-06"},{"v":2.74322573526653e-05,"d":"2.74E-05"},{"$f":"VLOOKUP(A2831,'[1]SD vs SY0.45'!$A$2:$E$20133,5,FALSE)","v":"NA"}]
["ENSGALG00000015611",376.28811916097,-2.06190023612931,0.152993652526121,-13.4770312498897,{"v":2.13526993196141E-41,"d":"2.14E-41"},{"v":6.75017060127509e-39,"d":"6.75E-39"},{"$f":"VLOOKUP(A2832,'[1]SD vs SY0.45'!$A$2:$E$20133,5,FALSE)","v":"CASP8AP2"}]
["ENSGALG00000016142",567.032546431349,-2.06282764693491,0.542049721548438,-3.80560595260923,0.000141457441938615,0.000579528874407801,{"$f":"VLOOKUP(A2833,'[1]SD vs SY0.45'!$A$2:$E$20133,5,FALSE)","v":"MX1,MX1"}]
["ENSGALG00000009315",34.664118168978,-2.06286938339151,0.405080257110565,-5.09249549238944,{"v":3.53381118590362e-07,"d":"3.53E-07"},{"v":2.5068288490129e-06,"d":"2.51E-06"},{"$f":"VLOOKUP(A2834,'[1]SD vs SY0.45'!$A$2:$E$20133,5,FALSE)","v":"PAPLN"}]
["ENSGALG00000007755",31.2333587005683,-2.06361978162878,0.311102255693447,-6.63325239165806,{"v":3.28369608794762e-11,"d":"3.28E-11"},{"v":4.53123999056709e-10,"d":"4.53E-10"},{"$f":"VLOOKUP(A2835,'[1]SD vs SY0.45'!$A$2:$E$20133,5,FALSE)","v":"NEXMIF"}]
["ENSGALG00000011524",76.7021180897353,-2.0654518373064,0.485380142904016,-4.25532825662966,{"v":2.08742540924176e-05,"d":"2.09E-05"},0.000103815977089492,{"$f":"VLOOKUP(A2836,'[1]SD vs SY0.45'!$A$2:$E$20133,5,FALSE)","v":"PPEF2"}]
["ENSGALG00000002356",219.287632020678,-2.06597437986836,0.210214191132906,-9.82794914431902,{"v":8.53389034510839e-23,"d":"8.53E-23"},{"v":5.35663362564619e-21,"d":"5.36E-21"},{"$f":"VLOOKUP(A2837,'[1]SD vs SY0.45'!$A$2:$E$20133,5,FALSE)","v":"CMTR2"}]
["ENSGALG00000013143",468.138205868061,-2.06640186384724,0.197944052711759,-10.4393228063097,{"v":1.63976253689816E-25,"d":"1.64E-25"},{"v":1.33226874902095E-23,"d":"1.33E-23"},{"$f":"VLOOKUP(A2838,'[1]SD vs SY0.45'!$A$2:$E$20133,5,FALSE)","v":"PDE3A"}]
["ENSGALG00000001662",623.085608453325,-2.0666347910581,0.250227289294559,-8.25903040745218,{"v":1.46860516822773e-16,"d":"1.47E-16"},{"v":4.49553486971402e-15,"d":"4.50E-15"},{"$f":"VLOOKUP(A2839,'[1]SD vs SY0.45'!$A$2:$E$20133,5,FALSE)","v":"ATP10B"}]
["ENSGALG00000015353",275.062703483147,-2.06715629097925,0.154526875660928,-13.3773253496377,{"v":8.20470278942026e-41,"d":"8.20E-41"},{"v":2.41788419321441e-38,"d":"2.42E-38"},{"$f":"VLOOKUP(A2840,'[1]SD vs SY0.45'!$A$2:$E$20133,5,FALSE)","v":"BBX"}]
["ENSGALG00000044975",1196.63746055221,-2.06800191350979,0.52511233161275,-3.93820862511159,{"v":8.20922036782193e-05,"d":"8.21E-05"},0.000355944425275112,{"$f":"VLOOKUP(A2841,'[1]SD vs SY0.45'!$A$2:$E$20133,5,FALSE)","v":"KY"}]
["ENSGALG00000029831",173.479155923766,-2.06860761046059,0.335285437767617,-6.16969118680997,{"v":6.84234964313547e-10,"d":"6.84E-10"},{"v":7.76553089067862E-9,"d":"7.77E-09"},{"$f":"VLOOKUP(A2842,'[1]SD vs SY0.45'!$A$2:$E$20133,5,FALSE)","v":"IFFO2"}]
["ENSGALG00000016870",270.976314951569,-2.07489179398515,0.221031725626551,-9.38730305843438,{"v":6.15561995413301e-21,"d":"6.16E-21"},{"v":3.16650189770742e-19,"d":"3.17E-19"},{"$f":"VLOOKUP(A2843,'[1]SD vs SY0.45'!$A$2:$E$20133,5,FALSE)","v":"TMTC4"}]
["ENSGALG00000002350",36.3097105288243,-2.07519896582198,0.420578807689435,-4.93415009953226,{"v":8.05005168053111e-07,"d":"8.05E-07"},{"v":5.35176914011244e-06,"d":"5.35E-06"},{"$f":"VLOOKUP(A2844,'[1]SD vs SY0.45'!$A$2:$E$20133,5,FALSE)","v":"DNAH3"}]
["ENSGALG00000043916",20.4348278270634,-2.07654130177814,0.807190211795901,-2.57255510712659,0.0100950883211779,0.0253903226732707,{"$f":"VLOOKUP(A2845,'[1]SD vs SY0.45'!$A$2:$E$20133,5,FALSE)","v":"NOBOX"}]
["ENSGALG00000003176",45.5000508386325,-2.0765593099893,0.621847305048866,-3.33933956636851,0.000839778428710473,0.00282586172633811,{"$f":"VLOOKUP(A2846,'[1]SD vs SY0.45'!$A$2:$E$20133,5,FALSE)","v":"NA"}]
["ENSGALG00000003195",184.039852276251,-2.07751337498723,0.182067502197893,-11.4106765342951,{"v":3.69841511432019E-30,"d":"3.70E-30"},{"v":4.62621176925792e-28,"d":"4.63E-28"},{"$f":"VLOOKUP(A2847,'[1]SD vs SY0.45'!$A$2:$E$20133,5,FALSE)","v":"TRADD"}]
["ENSGALG00000028685",2702.01640575967,-2.07771480296772,0.302322211424603,-6.87251787811788,{"v":6.30784718788992E-12,"d":"6.31E-12"},{"v":9.86281826041745E-11,"d":"9.86E-11"},{"$f":"VLOOKUP(A2848,'[1]SD vs SY0.45'!$A$2:$E$20133,5,FALSE)","v":"SEMA5A"}]
["ENSGALG00000005933",2785.78527868232,-2.07949680830444,0.46403836661204,-4.48130361178304,{"v":7.41884818763077e-06,"d":"7.42E-06"},{"v":4.07556124607697E-5,"d":"4.08E-05"},{"$f":"VLOOKUP(A2849,'[1]SD vs SY0.45'!$A$2:$E$20133,5,FALSE)","v":"SLC5A11"}]
["ENSGALG00000052726",22.978795775883,-2.08128141182983,0.429088275743606,-4.85047373579011,{"v":1.23166943111324E-6,"d":"1.23E-06"},{"v":7.91976198179216e-06,"d":"7.92E-06"},{"$f":"VLOOKUP(A2850,'[1]SD vs SY0.45'!$A$2:$E$20133,5,FALSE)","v":"NA"}]
["ENSGALG00000006912",127.029008289048,-2.08638296701214,0.245915150547088,-8.4841578990581,{"v":2.17286537283168e-17,"d":"2.17E-17"},{"v":7.26530966104314e-16,"d":"7.27E-16"},{"$f":"VLOOKUP(A2851,'[1]SD vs SY0.45'!$A$2:$E$20133,5,FALSE)","v":"CPEB3"}]
["ENSGALG00000014836",651.529136523364,-2.08649833459628,0.278733291712885,-7.4856445090367,{"v":7.11968697678127e-14,"d":"7.12E-14"},{"v":1.53376753211642E-12,"d":"1.53E-12"},{"$f":"VLOOKUP(A2852,'[1]SD vs SY0.45'!$A$2:$E$20133,5,FALSE)","v":"LPIN2,LPIN2"}]
["ENSGALG00000033783",1236.05651784837,-2.08977075178352,0.340007480680567,-6.14624933428106,{"v":7.93365398060919e-10,"d":"7.93E-10"},{"v":8.91677063741771e-09,"d":"8.92E-09"},{"$f":"VLOOKUP(A2853,'[1]SD vs SY0.45'!$A$2:$E$20133,5,FALSE)","v":"FER1L6"}]
["ENSGALG00000049542",17.0530272431926,-2.09012369591928,0.804121900274573,-2.5992622451964,0.00934243708122738,0.0237585130219834,{"$f":"VLOOKUP(A2854,'[1]SD vs SY0.45'!$A$2:$E$20133,5,FALSE)","v":"NA"}]
["ENSGALG00000031987",587.948528421702,-2.09016395789591,0.291887801023605,-7.16084725214975,{"v":8.01799510089199e-13,"d":"8.02E-13"},{"v":1.44915676527244E-11,"d":"1.45E-11"},{"$f":"VLOOKUP(A2855,'[1]SD vs SY0.45'!$A$2:$E$20133,5,FALSE)","v":"MYO5A"}]
["ENSGALG00000017389",80.2584882159577,-2.0914345177619,0.342343322351393,-6.10917281341094,{"v":1.00148840997721e-09,"d":"1.00E-09"},{"v":1.10698531368555e-08,"d":"1.11E-08"},{"$f":"VLOOKUP(A2856,'[1]SD vs SY0.45'!$A$2:$E$20133,5,FALSE)","v":"SIX4"}]
["ENSGALG00000005601",48.1836591289715,-2.09255691004786,0.332326071004287,-6.29669801025291,{"v":3.04052811283457e-10,"d":"3.04E-10"},{"v":3.64088583318559e-09,"d":"3.64E-09"},{"$f":"VLOOKUP(A2857,'[1]SD vs SY0.45'!$A$2:$E$20133,5,FALSE)","v":"DNAH12"}]
["ENSGALG00000008701",1650.81796589814,-2.09728615709445,0.480526341934878,-4.36456022088103,{"v":1.27378756412238e-05,"d":"1.27E-05"},{"v":6.63690272022648e-05,"d":"6.64E-05"},{"$f":"VLOOKUP(A2858,'[1]SD vs SY0.45'!$A$2:$E$20133,5,FALSE)","v":"XDH"}]
["ENSGALG00000029616",484.592128177515,-2.09760948258479,0.0988579988930661,-21.2184092948691,{"v":6.45718423107906e-100,"d":"6.46E-100"},{"v":5.61355311128858e-96,"d":"5.61E-96"},{"$f":"VLOOKUP(A2859,'[1]SD vs SY0.45'!$A$2:$E$20133,5,FALSE)","v":"HCFC2"}]
["ENSGALG00000009372",134.029249485626,-2.0994892432093,0.195217565209615,-10.7546123780151,{"v":5.63705179000089e-27,"d":"5.64E-27"},{"v":5.29791456609435e-25,"d":"5.30E-25"},{"$f":"VLOOKUP(A2860,'[1]SD vs SY0.45'!$A$2:$E$20133,5,FALSE)","v":"PHC3"}]
["ENSGALG00000033558",53.8556706594005,-2.10149910084768,0.307732619066315,-6.82897740000328,{"v":8.55220446779362e-12,"d":"8.55E-12"},{"v":1.3124199389367E-10,"d":"1.31E-10"},{"$f":"VLOOKUP(A2861,'[1]SD vs SY0.45'!$A$2:$E$20133,5,FALSE)","v":"RFK"}]
["ENSGALG00000031799",17.0902859960585,-2.10312991448909,0.65422987425839,-3.21466505465394,0.00130596810033313,0.00419100541906461,{"$f":"VLOOKUP(A2862,'[1]SD vs SY0.45'!$A$2:$E$20133,5,FALSE)","v":"NA"}]
["ENSGALG00000009880",149.219115287587,-2.10321480648056,0.195861648048719,-10.7382676875944,{"v":6.72952192868938e-27,"d":"6.73E-27"},{"v":6.22373392415544e-25,"d":"6.22E-25"},{"$f":"VLOOKUP(A2863,'[1]SD vs SY0.45'!$A$2:$E$20133,5,FALSE)","v":"INPP4B"}]
["ENSGALG00000007077",1236.59393746523,-2.10368695106794,0.235949300508136,-8.91584313467968,{"v":4.84118445267263e-19,"d":"4.84E-19"},{"v":2.00413509710998E-17,"d":"2.00E-17"},{"$f":"VLOOKUP(A2864,'[1]SD vs SY0.45'!$A$2:$E$20133,5,FALSE)","v":"CPT1A"}]
["ENSGALG00000014821",30.1670458891372,-2.1038224022271,0.515025360166419,-4.08489089070739,{"v":4.40975329543828e-05,"d":"4.41E-05"},0.000203970153093337,{"$f":"VLOOKUP(A2865,'[1]SD vs SY0.45'!$A$2:$E$20133,5,FALSE)","v":"THEMIS"}]
["ENSGALG00000037387",20.6769101209003,-2.10415287113276,0.584542061068462,-3.59966033459877,0.000318633118388044,1.1947539420774E-3,{"$f":"VLOOKUP(A2866,'[1]SD vs SY0.45'!$A$2:$E$20133,5,FALSE)","v":"CLSTN2"}]
["ENSGALG00000041233",111.420073908362,-2.10438829256414,0.221551916019023,-9.49839807471334,{"v":2.13143813684872e-21,"d":"2.13E-21"},{"v":1.15449579082208E-19,"d":"1.15E-19"},{"$f":"VLOOKUP(A2867,'[1]SD vs SY0.45'!$A$2:$E$20133,5,FALSE)","v":"NA"}]
["ENSGALG00000036160",4.34631400508027,-2.10731356672677,0.911803621127064,-2.31114849502567,0.0208246541242673,0.0475417885055981,{"$f":"VLOOKUP(A2868,'[1]SD vs SY0.45'!$A$2:$E$20133,5,FALSE)","v":"BOLL"}]
["ENSGALG00000049234",12.8912292263695,-2.10838990732006,0.753616069521993,-2.79769765081759,0.00514682663161503,0.0140859239168724,{"$f":"VLOOKUP(A2869,'[1]SD vs SY0.45'!$A$2:$E$20133,5,FALSE)","v":"NA"}]
["ENSGALG00000023552",52.8565831069183,-2.10913107625513,0.340324974874354,-6.19740316453062,{"v":5.7402332246146e-10,"d":"5.74E-10"},{"v":6.58781749679037e-09,"d":"6.59E-09"},{"$f":"VLOOKUP(A2870,'[1]SD vs SY0.45'!$A$2:$E$20133,5,FALSE)","v":"SPEF2"}]
["ENSGALG00000010840",444.423733720313,-2.10921188405987,0.119227825212373,-17.6906010010908,{"v":4.95441745490329e-70,"d":"4.95E-70"},{"v":1.23060651840576E-66,"d":"1.23E-66"},{"$f":"VLOOKUP(A2871,'[1]SD vs SY0.45'!$A$2:$E$20133,5,FALSE)","v":"SNX13"}]
["ENSGALG00000004532",134.199272875859,-2.10921364530944,0.204585256201167,-10.3097050318986,{"v":6.36965172378138e-25,"d":"6.37E-25"},{"v":4.87881649873951e-23,"d":"4.88E-23"},{"$f":"VLOOKUP(A2872,'[1]SD vs SY0.45'!$A$2:$E$20133,5,FALSE)","v":"ZNF507"}]
["ENSGALG00000044436",131.020770846701,-2.11362107311456,0.4419484130921,-4.78250630730083,{"v":1.73122953378033e-06,"d":"1.73E-06"},{"v":1.07811203093978E-5,"d":"1.08E-05"},{"$f":"VLOOKUP(A2873,'[1]SD vs SY0.45'!$A$2:$E$20133,5,FALSE)","v":"NA"}]
["ENSGALG00000050460",8.53120678004768,-2.11643814266798,0.675829748769332,-3.13161435483117,0.00173848067534166,0.00539285700306252,{"$f":"VLOOKUP(A2874,'[1]SD vs SY0.45'!$A$2:$E$20133,5,FALSE)","v":"NA"}]
["ENSGALG00000051803",6.13330799357457,-2.11736459970872,0.909527303878442,-2.3279835478053,0.0199129772913681,0.045730674437329,{"$f":"VLOOKUP(A2875,'[1]SD vs SY0.45'!$A$2:$E$20133,5,FALSE)","v":"NA"}]
["ENSGALG00000010350",113.463043955279,-2.11750083170521,0.171994527882437,-12.3114430312142,{"v":7.86050523076448e-35,"d":"7.86E-35"},{"v":1.51856227163669e-32,"d":"1.52E-32"},{"$f":"VLOOKUP(A2876,'[1]SD vs SY0.45'!$A$2:$E$20133,5,FALSE)","v":"GPATCH2L"}]
["ENSGALG00000049781",37.3008981180366,-2.11834613512551,0.306523638844746,-6.91087363803108,{"v":4.81677976895959e-12,"d":"4.82E-12"},{"v":7.71172650487111e-11,"d":"7.71E-11"},{"$f":"VLOOKUP(A2877,'[1]SD vs SY0.45'!$A$2:$E$20133,5,FALSE)","v":"NA"}]
["ENSGALG00000039300",917.967531244196,-2.11929167337338,0.145849247480385,-14.5307000892027,{"v":7.74250714378417E-48,"d":"7.74E-48"},{"v":3.73941588080487e-45,"d":"3.74E-45"},{"$f":"VLOOKUP(A2878,'[1]SD vs SY0.45'!$A$2:$E$20133,5,FALSE)","v":"NFAT5"}]
["ENSGALG00000017196",206.165978083142,-2.11999192659026,0.249021212563958,-8.51329854498146,{"v":1.69054076266906E-17,"d":"1.69E-17"},{"v":5.7297138870423e-16,"d":"5.73E-16"},{"$f":"VLOOKUP(A2879,'[1]SD vs SY0.45'!$A$2:$E$20133,5,FALSE)","v":"ARHGAP42"}]
["ENSGALG00000010639",17.7952992002029,-2.12063677845505,0.597241254052734,-3.55072052385016,0.000384178135278564,1.41249846438748E-3,{"$f":"VLOOKUP(A2880,'[1]SD vs SY0.45'!$A$2:$E$20133,5,FALSE)","v":"EML5"}]
["ENSGALG00000034311",336.022142228523,-2.12104133283973,0.151621686808784,-13.989036644307,{"v":1.8185861295458e-44,"d":"1.82E-44"},{"v":7.35343186846812e-42,"d":"7.35E-42"},{"$f":"VLOOKUP(A2881,'[1]SD vs SY0.45'!$A$2:$E$20133,5,FALSE)","v":"BTBD7"}]
["ENSGALG00000009479",257.020868141405,-2.12491018204836,0.852591556177533,-2.49229559764241,0.0126920359847398,0.0309851768697938,{"$f":"VLOOKUP(A2882,'[1]SD vs SY0.45'!$A$2:$E$20133,5,FALSE)","v":"SAMD9L"}]
["ENSGALG00000002314",15.0104253304233,-2.12503070528185,0.850504946803578,-2.49855184648634,0.0124701899832865,0.0305207197690599,{"$f":"VLOOKUP(A2883,'[1]SD vs SY0.45'!$A$2:$E$20133,5,FALSE)","v":"CDHR1"}]
["ENSGALG00000033186",289.484346807442,-2.12561807547504,0.550124220458643,-3.86388745745988,1.11596653209433E-4,0.000468905512168296,{"$f":"VLOOKUP(A2884,'[1]SD vs SY0.45'!$A$2:$E$20133,5,FALSE)","v":"LRRC58"}]
["ENSGALG00000019527",10313.4599052748,-2.12570721057388,0.776256586421899,-2.73840795396298,0.00617374398716355,0.0165041338722037,{"$f":"VLOOKUP(A2885,'[1]SD vs SY0.45'!$A$2:$E$20133,5,FALSE)","v":"SLC6A19"}]
["ENSGALG00000002492",769.457780233129,-2.12570900273408,0.232794368692888,-9.13127329784512,{"v":6.76983046243011e-20,"d":"6.77E-20"},{"v":3.14724711899124e-18,"d":"3.15E-18"},{"$f":"VLOOKUP(A2886,'[1]SD vs SY0.45'!$A$2:$E$20133,5,FALSE)","v":"H6PD"}]
["ENSGALG00000028357",9.18987303731104,-2.1263364982869,0.618301390080637,-3.43899679411944,5.83874148349373E-4,0.00204591290152167,{"$f":"VLOOKUP(A2887,'[1]SD vs SY0.45'!$A$2:$E$20133,5,FALSE)","v":"MMR1L2"}]
["ENSGALG00000026187",97.4587761870247,-2.12850205837795,0.388085059412658,-5.4846276782706,{"v":4.14341140321521e-08,"d":"4.14E-08"},{"v":3.49207436101322e-07,"d":"3.49E-07"},{"$f":"VLOOKUP(A2888,'[1]SD vs SY0.45'!$A$2:$E$20133,5,FALSE)","v":"NMNAT3"}]
["ENSGALG00000035605",69.111757878555,-2.12859815522842,0.279860833599976,-7.60591658306489,{"v":2.82891718075364e-14,"d":"2.83E-14"},{"v":6.47189250286362e-13,"d":"6.47E-13"},{"$f":"VLOOKUP(A2889,'[1]SD vs SY0.45'!$A$2:$E$20133,5,FALSE)","v":"NA"}]
["ENSGALG00000015333",130.776818963759,-2.1318337259027,0.199859015270442,-10.6666878300085,{"v":1.45728780403981E-26,"d":"1.46E-26"},{"v":1.3196803671271E-24,"d":"1.32E-24"},{"$f":"VLOOKUP(A2890,'[1]SD vs SY0.45'!$A$2:$E$20133,5,FALSE)","v":"PCGF3"}]
["ENSGALG00000003759",103.018542834787,-2.13585727611532,0.21692456744066,-9.8460829094408,{"v":7.12675523393526e-23,"d":"7.13E-23"},{"v":4.48959758160987e-21,"d":"4.49E-21"},{"$f":"VLOOKUP(A2891,'[1]SD vs SY0.45'!$A$2:$E$20133,5,FALSE)","v":"RORA"}]
["ENSGALG00000033256",1444.02657414559,-2.13742594894086,0.417121025213816,-5.1242345020734,{"v":2.98748980848174e-07,"d":"2.99E-07"},{"v":2.15981227858928e-06,"d":"2.16E-06"},{"$f":"VLOOKUP(A2892,'[1]SD vs SY0.45'!$A$2:$E$20133,5,FALSE)","v":"PCSK5"}]
["ENSGALG00000053112",213.060900253964,-2.14011205091867,0.377567849916826,-5.66815223115556,{"v":1.44345692710015e-08,"d":"1.44E-08"},{"v":1.31399924562777e-07,"d":"1.31E-07"},{"$f":"VLOOKUP(A2893,'[1]SD vs SY0.45'!$A$2:$E$20133,5,FALSE)","v":"NA"}]
["ENSGALG00000049190",34.8100763086391,-2.141819974373,0.299784076838017,-7.14454215502009,{"v":9.02963448141816e-13,"d":"9.03E-13"},{"v":1.60858867549608e-11,"d":"1.61E-11"},{"$f":"VLOOKUP(A2894,'[1]SD vs SY0.45'!$A$2:$E$20133,5,FALSE)","v":"NA"}]
["ENSGALG00000001690",22.0524730319946,-2.14574398966774,0.77307569986902,-2.77559363207417,0.00551010308271156,0.0149764205563711,{"$f":"VLOOKUP(A2895,'[1]SD vs SY0.45'!$A$2:$E$20133,5,FALSE)","v":"GABRB2"}]
["ENSGALG00000006521",1877.88024231836,-2.14681601291568,0.350675891891607,-6.12193784219205,{"v":9.24440885956038e-10,"d":"9.24E-10"},{"v":1.03099767056559e-08,"d":"1.03E-08"},{"$f":"VLOOKUP(A2896,'[1]SD vs SY0.45'!$A$2:$E$20133,5,FALSE)","v":"TRPM5"}]
["ENSGALG00000005103",880.394282021181,-2.14687853746231,0.361239990772711,-5.94308103283367,{"v":2.79714072130248e-09,"d":"2.80E-09"},{"v":2.87094957032386e-08,"d":"2.87E-08"},{"$f":"VLOOKUP(A2897,'[1]SD vs SY0.45'!$A$2:$E$20133,5,FALSE)","v":"GDPD1"}]
["ENSGALG00000009807",169.311922941032,-2.14913158294361,0.309373040842966,-6.94673193594294,{"v":3.73845086707e-12,"d":"3.74E-12"},{"v":6.074807965023E-11,"d":"6.07E-11"},{"$f":"VLOOKUP(A2898,'[1]SD vs SY0.45'!$A$2:$E$20133,5,FALSE)","v":"FLVCR1"}]
["ENSGALG00000007994",310.631946446551,-2.14942021102452,0.321680145830266,-6.68185537368744,{"v":2.35935816032473E-11,"d":"2.36E-11"},{"v":3.35148368738285e-10,"d":"3.35E-10"},{"$f":"VLOOKUP(A2899,'[1]SD vs SY0.45'!$A$2:$E$20133,5,FALSE)","v":"PARD6B"}]
["ENSGALG00000010868",119.398846591811,-2.15048470266723,0.331675124142999,-6.48370814128364,{"v":8.9495268136627e-11,"d":"8.95E-11"},{"v":1.15864052650151E-9,"d":"1.16E-09"},{"$f":"VLOOKUP(A2900,'[1]SD vs SY0.45'!$A$2:$E$20133,5,FALSE)","v":"MACC1"}]
["ENSGALG00000004663",657.271682238696,-2.15069921384043,0.134560133538896,-15.9831828140892,{"v":1.67376994094289e-57,"d":"1.67E-57"},{"v":1.21257658179892e-54,"d":"1.21E-54"},{"$f":"VLOOKUP(A2901,'[1]SD vs SY0.45'!$A$2:$E$20133,5,FALSE)","v":"ARFGEF2"}]
["ENSGALG00000016265",12.718210809364,-2.15497411335917,0.632458892854555,-3.40729514234966,0.00065610139118049,0.00227017609720501,{"$f":"VLOOKUP(A2902,'[1]SD vs SY0.45'!$A$2:$E$20133,5,FALSE)","v":"LANCL3"}]
["ENSGALG00000002759",788.278263603017,-2.15767256184627,0.119610320271604,-18.0391838843567,{"v":9.59504469132842e-73,"d":"9.60E-73"},{"v":2.78048403413545E-69,"d":"2.78E-69"},{"$f":"VLOOKUP(A2903,'[1]SD vs SY0.45'!$A$2:$E$20133,5,FALSE)","v":"PEAK1"}]
["ENSGALG00000008956",470.387881845006,-2.16680150685765,0.291978974083994,-7.4210874726696,{"v":1.16162562482188E-13,"d":"1.16E-13"},{"v":2.40442675461643e-12,"d":"2.40E-12"},{"$f":"VLOOKUP(A2904,'[1]SD vs SY0.45'!$A$2:$E$20133,5,FALSE)","v":"CCDC186"}]
["ENSGALG00000011296",371.964371080617,-2.16995908171854,0.358010314713688,-6.06116358254627,{"v":1.35140301298046E-9,"d":"1.35E-09"},{"v":1.46397783094649E-8,"d":"1.46E-08"},{"$f":"VLOOKUP(A2905,'[1]SD vs SY0.45'!$A$2:$E$20133,5,FALSE)","v":"FRMD1"}]
["ENSGALG00000041236",254.072616173759,-2.17150473660203,0.256187470180009,-8.47623318609703,{"v":2.32602315729896E-17,"d":"2.33E-17"},{"v":7.70334564494418e-16,"d":"7.70E-16"},{"$f":"VLOOKUP(A2906,'[1]SD vs SY0.45'!$A$2:$E$20133,5,FALSE)","v":"CBX7"}]
["ENSGALG00000047312",38.9604989995551,-2.17533015807688,0.300543582779242,-7.23798571229093,{"v":4.55397401505759e-13,"d":"4.55E-13"},{"v":8.55999418376284e-12,"d":"8.56E-12"},{"$f":"VLOOKUP(A2907,'[1]SD vs SY0.45'!$A$2:$E$20133,5,FALSE)","v":"NA"}]
["ENSGALG00000046737",11.4584819101113,-2.17668117212136,0.672041648100785,-3.23890815141106,0.00119988206533583,0.003884257953825,{"$f":"VLOOKUP(A2908,'[1]SD vs SY0.45'!$A$2:$E$20133,5,FALSE)","v":"NA"}]
["ENSGALG00000001253",476.094501243734,-2.17724358431397,0.147896544119361,-14.7213959411845,{"v":4.69860111562598e-49,"d":"4.70E-49"},{"v":2.40278169404085e-46,"d":"2.40E-46"},{"$f":"VLOOKUP(A2909,'[1]SD vs SY0.45'!$A$2:$E$20133,5,FALSE)","v":"RC3H2"}]
["ENSGALG00000011177",48.7266283764101,-2.1790793132731,0.345928150233865,-6.29922517667306,{"v":2.99137164494705e-10,"d":"2.99E-10"},{"v":3.58943953006863e-09,"d":"3.59E-09"},{"$f":"VLOOKUP(A2910,'[1]SD vs SY0.45'!$A$2:$E$20133,5,FALSE)","v":"NA"}]
["ENSGALG00000053358",121.446626989428,-2.18236272015795,0.363578378069066,-6.00245463371143,{"v":1.94356576301915E-9,"d":"1.94E-09"},{"v":2.04680665788092e-08,"d":"2.05E-08"},{"$f":"VLOOKUP(A2911,'[1]SD vs SY0.45'!$A$2:$E$20133,5,FALSE)","v":"NA"}]
["ENSGALG00000014695",36.7115150079925,-2.18412480578576,0.770967326032633,-2.83296675752159,0.00461181817159489,0.0128051233710508,{"$f":"VLOOKUP(A2912,'[1]SD vs SY0.45'!$A$2:$E$20133,5,FALSE)","v":"CLCN1"}]
["ENSGALG00000015083",1114.76335446973,-2.18423873717602,0.238540348857236,-9.1566845929418,{"v":5.3516209217044e-20,"d":"5.35E-20"},{"v":2.53538509443255e-18,"d":"2.54E-18"},{"$f":"VLOOKUP(A2913,'[1]SD vs SY0.45'!$A$2:$E$20133,5,FALSE)","v":"DENND4C"}]
["ENSGALG00000015669",244.903479600187,-2.18545986911436,0.27937316959414,-7.82272639956546,{"v":5.16913728752905e-15,"d":"5.17E-15"},{"v":1.31397353827877E-13,"d":"1.31E-13"},{"$f":"VLOOKUP(A2914,'[1]SD vs SY0.45'!$A$2:$E$20133,5,FALSE)","v":"PTBP3"}]
["ENSGALG00000012994",154.203356596619,-2.1859094014548,0.177356414421182,-12.3249526022992,{"v":6.64825622428764e-35,"d":"6.65E-35"},{"v":1.29880034799651e-32,"d":"1.30E-32"},{"$f":"VLOOKUP(A2915,'[1]SD vs SY0.45'!$A$2:$E$20133,5,FALSE)","v":"ERC1"}]
["ENSGALG00000008074",72.874137346634,-2.18605390310716,0.243088147065239,-8.99284448665643,{"v":2.4091300012107e-19,"d":"2.41E-19"},{"v":1.03682037948145E-17,"d":"1.04E-17"},{"$f":"VLOOKUP(A2916,'[1]SD vs SY0.45'!$A$2:$E$20133,5,FALSE)","v":"AMMECR1"}]
["ENSGALG00000015616",60.1577669965673,-2.18729462672742,0.613313536359013,-3.56635635292264,0.000361979077664859,1.33909153688487E-3,{"$f":"VLOOKUP(A2917,'[1]SD vs SY0.45'!$A$2:$E$20133,5,FALSE)","v":"ACOT12"}]
["ENSGALG00000001172",91.5693579812307,-2.18740240216275,0.466389252915679,-4.69007891688754,{"v":2.73099698272391E-6,"d":"2.73E-06"},{"v":1.63369039091917e-05,"d":"1.63E-05"},{"$f":"VLOOKUP(A2918,'[1]SD vs SY0.45'!$A$2:$E$20133,5,FALSE)","v":"KBP"}]
["ENSGALG00000011185",108.629799603091,-2.19140752232476,0.208618222129115,-10.5043917063414,{"v":8.24526476017685e-26,"d":"8.25E-26"},{"v":6.89232780698053e-24,"d":"6.89E-24"},{"$f":"VLOOKUP(A2919,'[1]SD vs SY0.45'!$A$2:$E$20133,5,FALSE)","v":"PLEKHA8"}]
["ENSGALG00000051830",9.55317513296438,-2.19253593232358,0.77518738954109,-2.82839473642825,0.00467820831801055,0.0129646171541679,{"$f":"VLOOKUP(A2920,'[1]SD vs SY0.45'!$A$2:$E$20133,5,FALSE)","v":"NA"}]
["ENSGALG00000041663",709.291372107722,-2.19322422189822,0.46228107526547,-4.74435216851293,{"v":2.09174670503918e-06,"d":"2.09E-06"},{"v":1.28105670871843E-5,"d":"1.28E-05"},{"$f":"VLOOKUP(A2921,'[1]SD vs SY0.45'!$A$2:$E$20133,5,FALSE)","v":"KLB"}]
["ENSGALG00000006025",7.42879248130744,-2.19405742299199,0.909222232058182,-2.41311457818773,0.0158168464707353,0.0374873922555446,{"$f":"VLOOKUP(A2922,'[1]SD vs SY0.45'!$A$2:$E$20133,5,FALSE)","v":"XIRP1"}]
["ENSGALG00000008946",192.841709683626,-2.19649206340927,0.179196240292711,-12.2574673431841,{"v":1.53213953309144E-34,"d":"1.53E-34"},{"v":2.89557718063706e-32,"d":"2.90E-32"},{"$f":"VLOOKUP(A2923,'[1]SD vs SY0.45'!$A$2:$E$20133,5,FALSE)","v":"NHLRC2"}]
["ENSGALG00000011069",12.9756493446906,-2.19721392556541,0.624067259153452,-3.5207966662855,0.000430252404612088,0.00155785059537492,{"$f":"VLOOKUP(A2924,'[1]SD vs SY0.45'!$A$2:$E$20133,5,FALSE)","v":"FIGN"}]
["ENSGALG00000008498",1461.50828262002,-2.19860365404356,0.354102931012046,-6.20893943961386,{"v":5.33433732434692e-10,"d":"5.33E-10"},{"v":6.17086647095276e-09,"d":"6.17E-09"},{"$f":"VLOOKUP(A2925,'[1]SD vs SY0.45'!$A$2:$E$20133,5,FALSE)","v":"MALRD1"}]
["ENSGALG00000033788",5.49347597680843,-2.19988068029489,0.800931355683611,-2.74665321151929,0.00602067578402621,0.0161445851105589,{"$f":"VLOOKUP(A2926,'[1]SD vs SY0.45'!$A$2:$E$20133,5,FALSE)","v":"NA"}]
["ENSGALG00000030350",240.139674716937,-2.20165913785903,0.317652478870025,-6.93103087276673,{"v":4.17784853948849e-12,"d":"4.18E-12"},{"v":6.74468454559762e-11,"d":"6.74E-11"},{"$f":"VLOOKUP(A2927,'[1]SD vs SY0.45'!$A$2:$E$20133,5,FALSE)","v":"VAMP2"}]
["ENSGALG00000008417",39.874716790016,-2.20561761737734,0.498731547845557,-4.42245457883158,{"v":9.75858688155786e-06,"d":"9.76E-06"},{"v":5.24166049149356e-05,"d":"5.24E-05"},{"$f":"VLOOKUP(A2928,'[1]SD vs SY0.45'!$A$2:$E$20133,5,FALSE)","v":"CFAP58"}]
["ENSGALG00000035052",298.003035805695,-2.20648502885406,0.5628183897923,-3.92042098991884,{"v":8.83944139737986e-05,"d":"8.84E-05"},0.000380801208067997,{"$f":"VLOOKUP(A2929,'[1]SD vs SY0.45'!$A$2:$E$20133,5,FALSE)","v":"BMP3"}]
["ENSGALG00000010230",295.212958183952,-2.20703265126496,0.287447216568996,-7.67804495589961,{"v":1.61534808834023e-14,"d":"1.62E-14"},{"v":3.81086257964337e-13,"d":"3.81E-13"},{"$f":"VLOOKUP(A2930,'[1]SD vs SY0.45'!$A$2:$E$20133,5,FALSE)","v":"TESK2"}]
["ENSGALG00000003131",141.552340593006,-2.21055192505437,0.197398768723754,-11.19840786924,{"v":4.15126941501532e-29,"d":"4.15E-29"},{"v":4.91007628019533e-27,"d":"4.91E-27"},{"$f":"VLOOKUP(A2931,'[1]SD vs SY0.45'!$A$2:$E$20133,5,FALSE)","v":"DGKE"}]
["ENSGALG00000005004",170.728514477071,-2.21535086530301,0.24358464482468,-9.09478865918459,{"v":9.47706038795743E-20,"d":"9.48E-20"},{"v":4.30228848473671e-18,"d":"4.30E-18"},{"$f":"VLOOKUP(A2932,'[1]SD vs SY0.45'!$A$2:$E$20133,5,FALSE)","v":"SAMD8"}]
["ENSGALG00000046005",7.80753709196987,-2.21725231749385,0.682047610178503,-3.25087616231594,0.00115049959180835,0.00373971516223066,{"$f":"VLOOKUP(A2933,'[1]SD vs SY0.45'!$A$2:$E$20133,5,FALSE)","v":"NA"}]
["ENSGALG00000016147",228.613095705433,-2.22155563410579,0.205255099704658,-10.8233882485862,{"v":2.66730542472609e-27,"d":"2.67E-27"},{"v":2.62013782032274e-25,"d":"2.62E-25"},{"$f":"VLOOKUP(A2934,'[1]SD vs SY0.45'!$A$2:$E$20133,5,FALSE)","v":"ZBTB21"}]
["ENSGALG00000030147",817.709332701862,-2.22374443517265,0.195380901654761,-11.3815854893638,{"v":5.16520387997031e-30,"d":"5.17E-30"},{"v":6.41481427578884e-28,"d":"6.41E-28"},{"$f":"VLOOKUP(A2935,'[1]SD vs SY0.45'!$A$2:$E$20133,5,FALSE)","v":"AFF4"}]
["ENSGALG00000009966",101.060282082112,-2.22488219893896,0.194271735603097,-11.4524235449487,{"v":2.28661667142384e-30,"d":"2.29E-30"},{"v":2.94499289378121e-28,"d":"2.94E-28"},{"$f":"VLOOKUP(A2936,'[1]SD vs SY0.45'!$A$2:$E$20133,5,FALSE)","v":"FRS2"}]
["ENSGALG00000029664",108.429912376272,-2.22652520533488,0.196000799536756,-11.3597761366139,{"v":6.63143495920465e-30,"d":"6.63E-30"},{"v":8.17735883941073e-28,"d":"8.18E-28"},{"$f":"VLOOKUP(A2937,'[1]SD vs SY0.45'!$A$2:$E$20133,5,FALSE)","v":"SAMD12"}]
["ENSGALG00000014337",43.3192278984134,-2.22800672354482,0.45667910155851,-4.8787139940087,{"v":1.06779769765556e-06,"d":"1.07E-06"},{"v":6.93530017524734e-06,"d":"6.94E-06"},{"$f":"VLOOKUP(A2938,'[1]SD vs SY0.45'!$A$2:$E$20133,5,FALSE)","v":"NWD2"}]
["ENSGALG00000012683",37.2530176370411,-2.23021087329601,0.286186226126245,-7.79286586738874,{"v":6.55061503778749e-15,"d":"6.55E-15"},{"v":1.62707919517159e-13,"d":"1.63E-13"},{"$f":"VLOOKUP(A2939,'[1]SD vs SY0.45'!$A$2:$E$20133,5,FALSE)","v":"RNF144B"}]
["ENSGALG00000049787",4.76204899554842,-2.23462992309712,0.783395814798467,-2.85249152584762,0.00433779689869995,0.0121256068613659,{"$f":"VLOOKUP(A2940,'[1]SD vs SY0.45'!$A$2:$E$20133,5,FALSE)","v":"NA"}]
["ENSGALG00000040130",26.1326192396067,-2.23584703388297,0.40778745558169,-5.48287350010223,{"v":4.1847225897457e-08,"d":"4.18E-08"},{"v":3.52177016785617e-07,"d":"3.52E-07"},{"$f":"VLOOKUP(A2941,'[1]SD vs SY0.45'!$A$2:$E$20133,5,FALSE)","v":"NA"}]
["ENSGALG00000008940",8760.06866575447,-2.23680256544125,0.529890780298513,-4.22125209308444,{"v":2.42949047506405e-05,"d":"2.43E-05"},0.000119259036956348,{"$f":"VLOOKUP(A2942,'[1]SD vs SY0.45'!$A$2:$E$20133,5,FALSE)","v":"SPTBN5"}]
["ENSGALG00000010055",337.173029623479,-2.23941884055141,0.189588135338706,-11.8120199692381,{"v":3.38333854623142e-32,"d":"3.38E-32"},{"v":4.82181207404309e-30,"d":"4.82E-30"},{"$f":"VLOOKUP(A2943,'[1]SD vs SY0.45'!$A$2:$E$20133,5,FALSE)","v":"DAAM2"}]
["ENSGALG00000050395",60.2745466893517,-2.25257883610174,0.314925834270578,-7.1527280107683,{"v":8.50700606752224e-13,"d":"8.51E-13"},{"v":1.52643255413838e-11,"d":"1.53E-11"},{"$f":"VLOOKUP(A2944,'[1]SD vs SY0.45'!$A$2:$E$20133,5,FALSE)","v":"NA"}]
["ENSGALG00000033126",452.311074466912,-2.25339922792014,0.163821035606189,-13.7552495598741,{"v":4.73643498760249e-43,"d":"4.74E-43"},{"v":1.64704790258889E-40,"d":"1.65E-40"},{"$f":"VLOOKUP(A2945,'[1]SD vs SY0.45'!$A$2:$E$20133,5,FALSE)","v":"DGCR8"}]
["ENSGALG00000051701",7.94112968855751,-2.25427071328402,0.81158389727754,-2.77761882763566,5.47588137180164E-3,0.0148950484060568,{"$f":"VLOOKUP(A2946,'[1]SD vs SY0.45'!$A$2:$E$20133,5,FALSE)","v":"NA"}]
["ENSGALG00000051748",58.8056631113649,-2.25666435769923,0.561791095644785,-4.01691015609491,{"v":5.89661917021099e-05,"d":"5.90E-05"},2.6451113909303E-4,{"$f":"VLOOKUP(A2947,'[1]SD vs SY0.45'!$A$2:$E$20133,5,FALSE)","v":"METTL11B"}]
["ENSGALG00000050230",6.84427428675635,-2.25923967253562,0.909154909555868,-2.48498869531407,0.012955554870655,0.0315046479071437,{"$f":"VLOOKUP(A2948,'[1]SD vs SY0.45'!$A$2:$E$20133,5,FALSE)","v":"NA"}]
["ENSGALG00000007337",158.675596086842,-2.26399427657813,0.202226033890789,-11.1953650725346,{"v":4.296288892825e-29,"d":"4.30E-29"},{"v":4.97997166530322e-27,"d":"4.98E-27"},{"$f":"VLOOKUP(A2949,'[1]SD vs SY0.45'!$A$2:$E$20133,5,FALSE)","v":"LPP"}]
["ENSGALG00000015019",151.790654517636,-2.26453305159301,0.196946953071941,-11.4981877925566,{"v":1.34714142199315e-30,"d":"1.35E-30"},{"v":1.76110886497706e-28,"d":"1.76E-28"},{"$f":"VLOOKUP(A2950,'[1]SD vs SY0.45'!$A$2:$E$20133,5,FALSE)","v":"NA"}]
["ENSGALG00000016412",74.38611668309,-2.26648351992755,0.312871287012073,-7.24414036702606,{"v":4.35190531808341E-13,"d":"4.35E-13"},{"v":8.20678717630328e-12,"d":"8.21E-12"},{"$f":"VLOOKUP(A2951,'[1]SD vs SY0.45'!$A$2:$E$20133,5,FALSE)","v":"MBOAT2"}]
["ENSGALG00000015889",558.145120077369,-2.26740526027827,0.125602401205321,-18.0522445313109,{"v":7.57488909038269e-73,"d":"7.57E-73"},{"v":2.63409193228968e-69,"d":"2.63E-69"},{"$f":"VLOOKUP(A2952,'[1]SD vs SY0.45'!$A$2:$E$20133,5,FALSE)","v":"PHIP"}]
["ENSGALG00000005662",183.408270107136,-2.26752213888085,0.402832428308395,-5.62894637952263,{"v":1.81313747344468e-08,"d":"1.81E-08"},{"v":1.62416389751585e-07,"d":"1.62E-07"},{"$f":"VLOOKUP(A2953,'[1]SD vs SY0.45'!$A$2:$E$20133,5,FALSE)","v":"AMPD3"}]
["ENSGALG00000031503",186.855602260315,-2.26809699552556,0.188409073745198,-12.0381516157385,{"v":2.23916566908309e-33,"d":"2.24E-33"},{"v":3.6819718100405e-31,"d":"3.68E-31"},{"$f":"VLOOKUP(A2954,'[1]SD vs SY0.45'!$A$2:$E$20133,5,FALSE)","v":"LRP6"}]
["ENSGALG00000008599",1277.24179638476,-2.27042577349152,0.348171311191407,-6.52100187612343,{"v":6.98393112907504e-11,"d":"6.98E-11"},{"v":9.15068655171271e-10,"d":"9.15E-10"},{"$f":"VLOOKUP(A2955,'[1]SD vs SY0.45'!$A$2:$E$20133,5,FALSE)","v":"LOC101747844"}]
["ENSGALG00000011664",235.933616674801,-2.27401421675877,0.360186894519374,-6.31342853213237,{"v":2.72920391838872e-10,"d":"2.73E-10"},{"v":3.28847321753463e-09,"d":"3.29E-09"},{"$f":"VLOOKUP(A2956,'[1]SD vs SY0.45'!$A$2:$E$20133,5,FALSE)","v":"RASSF6"}]
["ENSGALG00000014943",7.07856500855261,-2.27640091275457,0.747048454419184,-3.04719312286701,0.00230989251089769,0.00694485579923537,{"$f":"VLOOKUP(A2957,'[1]SD vs SY0.45'!$A$2:$E$20133,5,FALSE)","v":"FAM169A"}]
["ENSGALG00000006728",10103.7468356871,-2.27694210237887,0.516553354657128,-4.40795143783401,{"v":1.04352934352061E-5,"d":"1.04E-05"},{"v":5.56218414953794e-05,"d":"5.56E-05"},{"$f":"VLOOKUP(A2958,'[1]SD vs SY0.45'!$A$2:$E$20133,5,FALSE)","v":"SLC5A1"}]
["ENSGALG00000046789",29.0820240517038,-2.28023889718879,0.603484319574,-3.77845591547169,0.000157803780323462,0.000639714229070653,{"$f":"VLOOKUP(A2959,'[1]SD vs SY0.45'!$A$2:$E$20133,5,FALSE)","v":"NA"}]
["ENSGALG00000053335",189.938732450895,-2.28133518815945,0.215309428606271,-10.5956121054561,{"v":3.12291221757518E-26,"d":"3.12E-26"},{"v":2.74232700641311e-24,"d":"2.74E-24"},{"$f":"VLOOKUP(A2960,'[1]SD vs SY0.45'!$A$2:$E$20133,5,FALSE)","v":"NA"}]
["ENSGALG00000054063",9.42398005387653,-2.28295704422782,0.612186688025809,-3.72918439567829,0.000192100543019429,0.000760831922888113,{"$f":"VLOOKUP(A2961,'[1]SD vs SY0.45'!$A$2:$E$20133,5,FALSE)","v":"SNORD21"}]
["ENSGALG00000053883",10.735086812985,-2.28509235782461,0.693778740843594,-3.29369037028444,0.000988813568671336,3.26915792327221E-3,{"$f":"VLOOKUP(A2962,'[1]SD vs SY0.45'!$A$2:$E$20133,5,FALSE)","v":"NA"}]
["ENSGALG00000034971",531.324687834408,-2.28603533194164,0.400771839985743,-5.70408173394359,{"v":1.16971942919192e-08,"d":"1.17E-08"},{"v":1.08584686147143e-07,"d":"1.09E-07"},{"$f":"VLOOKUP(A2963,'[1]SD vs SY0.45'!$A$2:$E$20133,5,FALSE)","v":"SLC45A4"}]
["ENSGALG00000021158",5932.08825384408,-2.28744157147534,0.744900381312232,-3.07080198757012,0.00213484678146523,0.00648812812258975,{"$f":"VLOOKUP(A2964,'[1]SD vs SY0.45'!$A$2:$E$20133,5,FALSE)","v":"SLC7A9"}]
["ENSGALG00000000215",203.947069231499,-2.28817033954164,0.152482972483737,-15.006071184674,{"v":6.70004827934169e-51,"d":"6.70E-51"},{"v":3.75786256235206e-48,"d":"3.76E-48"},{"$f":"VLOOKUP(A2965,'[1]SD vs SY0.45'!$A$2:$E$20133,5,FALSE)","v":"DCP2"}]
["ENSGALG00000013402",109.97854564492,-2.28903335901142,0.19119162602124,-11.9724561511765,{"v":4.95400396204597e-33,"d":"4.95E-33"},{"v":7.75993395388228e-31,"d":"7.76E-31"},{"$f":"VLOOKUP(A2966,'[1]SD vs SY0.45'!$A$2:$E$20133,5,FALSE)","v":"AHRR"}]
["ENSGALG00000017876",9.89604317188885,-2.28981314015064,0.58755784746404,-3.89717055100823,{"v":9.73230829770247e-05,"d":"9.73E-05"},0.000414947632104348,{"$f":"VLOOKUP(A2967,'[1]SD vs SY0.45'!$A$2:$E$20133,5,FALSE)","v":"NA"}]
["ENSGALG00000004660",11.2735958662657,-2.28990401449502,0.663738878336878,-3.45000735866612,0.000560571273095536,1.97061316726892E-3,{"$f":"VLOOKUP(A2968,'[1]SD vs SY0.45'!$A$2:$E$20133,5,FALSE)","v":"TRPV3"}]
["ENSGALG00000022909",227.287809189464,-2.29371052145739,0.288542818856115,-7.94928992012507,{"v":1.87583590350197e-15,"d":"1.88E-15"},{"v":5.03320352688097e-14,"d":"5.03E-14"},{"$f":"VLOOKUP(A2969,'[1]SD vs SY0.45'!$A$2:$E$20133,5,FALSE)","v":"PTPN3"}]
["ENSGALG00000054302",8.17591368525778,-2.29574955010437,0.617210395454538,-3.7195574912728,0.000199572118510628,0.000788090035099771,{"$f":"VLOOKUP(A2970,'[1]SD vs SY0.45'!$A$2:$E$20133,5,FALSE)","v":"NA"}]
["ENSGALG00000005472",133.554039676382,-2.29592634570227,0.337119389152459,-6.81042508849577,{"v":9.73107746055278e-12,"d":"9.73E-12"},{"v":1.4738174547616e-10,"d":"1.47E-10"},{"$f":"VLOOKUP(A2971,'[1]SD vs SY0.45'!$A$2:$E$20133,5,FALSE)","v":"NAT"}]
["ENSGALG00000005527",290.117938752009,-2.29717611163238,0.223139878673611,-10.2947806787709,{"v":7.438890123548e-25,"d":"7.44E-25"},{"v":5.57499924905729e-23,"d":"5.57E-23"},{"$f":"VLOOKUP(A2972,'[1]SD vs SY0.45'!$A$2:$E$20133,5,FALSE)","v":"APPL1"}]
["ENSGALG00000041662",12.7432870741549,-2.29795533320926,0.702816211351964,-3.269639055122,0.00107684794795083,3.52668210039952E-3,{"$f":"VLOOKUP(A2973,'[1]SD vs SY0.45'!$A$2:$E$20133,5,FALSE)","v":"OPN4-1"}]
["ENSGALG00000015681",629.404313888872,-2.2991440105769,0.242267814623916,-9.49009266520182,{"v":2.30828979102958e-21,"d":"2.31E-21"},{"v":1.242545962744e-19,"d":"1.24E-19"},{"$f":"VLOOKUP(A2974,'[1]SD vs SY0.45'!$A$2:$E$20133,5,FALSE)","v":"NRIP1"}]
["ENSGALG00000014267",932.277174582431,-2.30003161495229,0.265282932612945,-8.6701077687048,{"v":4.31711586523258e-18,"d":"4.32E-18"},{"v":1.60731677834687E-16,"d":"1.61E-16"},{"$f":"VLOOKUP(A2975,'[1]SD vs SY0.45'!$A$2:$E$20133,5,FALSE)","v":"RBM47"}]
["ENSGALG00000041644",191.899428449826,-2.30109732211406,0.148348170896146,-15.5114640660112,{"v":2.9018594163958e-54,"d":"2.90E-54"},{"v":1.73981481630599e-51,"d":"1.74E-51"},{"$f":"VLOOKUP(A2976,'[1]SD vs SY0.45'!$A$2:$E$20133,5,FALSE)","v":"ATP11A"}]
["ENSGALG00000042621",1360.26459906408,-2.3045564392091,0.206409035531669,-11.1649978561888,{"v":6.04926598844856e-29,"d":"6.05E-29"},{"v":6.65687264184526e-27,"d":"6.66E-27"},{"$f":"VLOOKUP(A2977,'[1]SD vs SY0.45'!$A$2:$E$20133,5,FALSE)","v":"HNF4G"}]
["ENSGALG00000047058",506.830137309683,-2.30892167017265,0.251858629078886,-9.16753052542608,{"v":4.83978726795099E-20,"d":"4.84E-20"},{"v":2.30546249939353E-18,"d":"2.31E-18"},{"$f":"VLOOKUP(A2978,'[1]SD vs SY0.45'!$A$2:$E$20133,5,FALSE)","v":"NA"}]
["ENSGALG00000054791",4.85610529562655,-2.31202182827344,0.829274565625069,-2.78800523265867,0.00530336871891744,0.0144710721776236,{"$f":"VLOOKUP(A2979,'[1]SD vs SY0.45'!$A$2:$E$20133,5,FALSE)","v":"NA"}]
["ENSGALG00000008727",43.4886792078586,-2.31741299848238,0.566640707771089,-4.08973970048507,{"v":4.31857566344883E-5,"d":"4.32E-05"},0.000200232200161026,{"$f":"VLOOKUP(A2980,'[1]SD vs SY0.45'!$A$2:$E$20133,5,FALSE)","v":"PLA2G4B"}]
["ENSGALG00000046568",8.04525372909945,-2.32516392666404,0.781771154196561,-2.97422578740916,0.00293728854573232,0.00860064599943547,{"$f":"VLOOKUP(A2981,'[1]SD vs SY0.45'!$A$2:$E$20133,5,FALSE)","v":"NA"}]
["ENSGALG00000009955",1199.23895636067,-2.3254772153995,0.457784038533378,-5.07985648178065,{"v":3.77720112543528e-07,"d":"3.78E-07"},{"v":2.66318718442592e-06,"d":"2.66E-06"},{"$f":"VLOOKUP(A2982,'[1]SD vs SY0.45'!$A$2:$E$20133,5,FALSE)","v":"ABCG5"}]
["ENSGALG00000015737",5.52335233291314,-2.32571817247667,0.84771624911486,-2.74351019566401,0.00607861605326099,0.0162823751838005,{"$f":"VLOOKUP(A2983,'[1]SD vs SY0.45'!$A$2:$E$20133,5,FALSE)","v":"NCAM2"}]
["ENSGALG00000052243",129.06874516254,-2.32577600980535,0.5462543152471,-4.25767988442027,{"v":2.06559437883867e-05,"d":"2.07E-05"},1.02893759334276E-4,{"$f":"VLOOKUP(A2984,'[1]SD vs SY0.45'!$A$2:$E$20133,5,FALSE)","v":"CYP2C18"}]
["ENSGALG00000013793",480.249162557144,-2.32768755200856,0.236016932544582,-9.86237524110215,{"v":6.05986039379587e-23,"d":"6.06E-23"},{"v":3.84535739660324e-21,"d":"3.85E-21"},{"$f":"VLOOKUP(A2985,'[1]SD vs SY0.45'!$A$2:$E$20133,5,FALSE)","v":"CLOCK"}]
["ENSGALG00000022866",192.852910315985,-2.33246427229991,0.198423641202723,-11.7549716261728,{"v":6.65831137229254e-32,"d":"6.66E-32"},{"v":9.1879412563532e-30,"d":"9.19E-30"},{"$f":"VLOOKUP(A2986,'[1]SD vs SY0.45'!$A$2:$E$20133,5,FALSE)","v":"ZNF654"}]
["ENSGALG00000051378",33.0802379441429,-2.33483427093371,0.393752218942011,-5.92970441463739,{"v":3.03480491834101e-09,"d":"3.03E-09"},{"v":3.09842355344657E-8,"d":"3.10E-08"},{"$f":"VLOOKUP(A2987,'[1]SD vs SY0.45'!$A$2:$E$20133,5,FALSE)","v":"NA"}]
["ENSGALG00000002390",370.757571433148,-2.33842952225083,0.694836918021598,-3.36543649538516,0.00076422656716677,2.59574278635058E-3,{"$f":"VLOOKUP(A2988,'[1]SD vs SY0.45'!$A$2:$E$20133,5,FALSE)","v":"CA6"}]
["ENSGALG00000030703",1594.4563013031,-2.34073576738457,0.458180944122643,-5.10875844447607,{"v":3.24282614178463e-07,"d":"3.24E-07"},{"v":2.32220008761159e-06,"d":"2.32E-06"},{"$f":"VLOOKUP(A2989,'[1]SD vs SY0.45'!$A$2:$E$20133,5,FALSE)","v":"CYBRD1"}]
["ENSGALG00000009511",21955.3039997165,-2.3409907106803,0.467301130538758,-5.00959778971932,{"v":5.45439065255185e-07,"d":"5.45E-07"},{"v":3.73809579329598e-06,"d":"3.74E-06"},{"$f":"VLOOKUP(A2990,'[1]SD vs SY0.45'!$A$2:$E$20133,5,FALSE)","v":"SI"}]
["ENSGALG00000005347",95.1348932672887,-2.34489216323787,0.669178211578474,-3.50413704849517,0.000458089542176044,1.6456204276477E-3,{"$f":"VLOOKUP(A2991,'[1]SD vs SY0.45'!$A$2:$E$20133,5,FALSE)","v":"ADAMTS18"}]
["ENSGALG00000033720",271.725434236822,-2.3457903755357,0.461042627096152,-5.0880119053427,{"v":3.61836660868553e-07,"d":"3.62E-07"},{"v":2.56054294770921E-6,"d":"2.56E-06"},{"$f":"VLOOKUP(A2992,'[1]SD vs SY0.45'!$A$2:$E$20133,5,FALSE)","v":"CA7"}]
["ENSGALG00000000690",515.719122533732,-2.34600807670618,0.673945518366415,-3.48100553052522,0.00049953517671018,0.00177688586691078,{"$f":"VLOOKUP(A2993,'[1]SD vs SY0.45'!$A$2:$E$20133,5,FALSE)","v":"GDPD4"}]
["ENSGALG00000009006",94.9076761072359,-2.34727989809496,0.552981001615306,-4.24477494025717,{"v":2.18812927173661e-05,"d":"2.19E-05"},0.000108328598085662,{"$f":"VLOOKUP(A2994,'[1]SD vs SY0.45'!$A$2:$E$20133,5,FALSE)","v":"STEAP1"}]
["ENSGALG00000003136",98.9996753068367,-2.34831417142002,0.349407142384899,-6.72085337292039,{"v":1.80663324988777e-11,"d":"1.81E-11"},{"v":2.60896447805636e-10,"d":"2.61E-10"},{"$f":"VLOOKUP(A2995,'[1]SD vs SY0.45'!$A$2:$E$20133,5,FALSE)","v":"IKZF2"}]
["ENSGALG00000044730",123.853970039373,-2.35238476259089,0.286713221756273,-8.20466090883868,{"v":2.31242618220958e-16,"d":"2.31E-16"},{"v":6.92016420483271e-15,"d":"6.92E-15"},{"$f":"VLOOKUP(A2996,'[1]SD vs SY0.45'!$A$2:$E$20133,5,FALSE)","v":"NA"}]
["ENSGALG00000006074",59.5988990450281,-2.35313203109967,0.273990694846872,-8.58836477061673,{"v":8.82158187386284e-18,"d":"8.82E-18"},{"v":3.14950398441177e-16,"d":"3.15E-16"},{"$f":"VLOOKUP(A2997,'[1]SD vs SY0.45'!$A$2:$E$20133,5,FALSE)","v":"SOX6"}]
["ENSGALG00000053258",32.1821572548147,-2.35399836625535,0.766195162474332,-3.07232214655781,2.12400363846014E-3,0.00645743158977207,{"$f":"VLOOKUP(A2998,'[1]SD vs SY0.45'!$A$2:$E$20133,5,FALSE)","v":"NA"}]
["ENSGALG00000017268",24.2600837527243,-2.35415508242239,0.393290461211473,-5.98579247300014,{"v":2.15338790746406E-9,"d":"2.15E-09"},{"v":2.24466160354182e-08,"d":"2.24E-08"},{"$f":"VLOOKUP(A2999,'[1]SD vs SY0.45'!$A$2:$E$20133,5,FALSE)","v":"KCTD21"}]
["ENSGALG00000010331",2096.72257256122,-2.35484660162797,0.756088301852332,-3.11451267776378,0.00184249038568871,0.00567902505512667,{"$f":"VLOOKUP(A3000,'[1]SD vs SY0.45'!$A$2:$E$20133,5,FALSE)","v":"MME"}]
["ENSGALG00000016858",3827.18336163491,-2.35556689586842,0.67386592923004,-3.49560171199024,0.00047299414403885,0.0016925188685745,{"$f":"VLOOKUP(A3001,'[1]SD vs SY0.45'!$A$2:$E$20133,5,FALSE)","v":"SLC10A2"}]
["ENSGALG00000003999",506.432158676585,-2.35983195899523,0.193079818709737,-12.2220539399969,{"v":2.37019596737616E-34,"d":"2.37E-34"},{"v":4.33795760892308e-32,"d":"4.34E-32"},{"$f":"VLOOKUP(A3002,'[1]SD vs SY0.45'!$A$2:$E$20133,5,FALSE)","v":"NAV2"}]
["ENSGALG00000008466",95.1204624402998,-2.36524066835186,0.269120877999925,-8.78876691370086,{"v":1.51210419656925E-18,"d":"1.51E-18"},{"v":5.89483310891246e-17,"d":"5.89E-17"},{"$f":"VLOOKUP(A3003,'[1]SD vs SY0.45'!$A$2:$E$20133,5,FALSE)","v":"FAM117B"}]
["ENSGALG00000006341",739.368462538543,-2.36550700076609,0.918727819160756,-2.57476365843253,0.0100308602383093,0.0252763140526787,{"$f":"VLOOKUP(A3004,'[1]SD vs SY0.45'!$A$2:$E$20133,5,FALSE)","v":"SLC25A48"}]
["ENSGALG00000011136",416.075506419891,-2.36871293027834,0.350243210795892,-6.76305166599998,{"v":1.35115025924619E-11,"d":"1.35E-11"},{"v":1.99426566702152E-10,"d":"1.99E-10"},{"$f":"VLOOKUP(A3005,'[1]SD vs SY0.45'!$A$2:$E$20133,5,FALSE)","v":"CAPN9"}]
["ENSGALG00000002175",101.890160301602,-2.36963445432007,0.287951245700227,-8.22929051255779,{"v":1.88325535661399e-16,"d":"1.88E-16"},{"v":5.69463667572999e-15,"d":"5.69E-15"},{"$f":"VLOOKUP(A3006,'[1]SD vs SY0.45'!$A$2:$E$20133,5,FALSE)","v":"KIF14"}]
["ENSGALG00000042339",21.159447469635,-2.36965294510055,0.564909443197622,-4.19474833291392,{"v":2.73174720850905e-05,"d":"2.73E-05"},1.32635824390804E-4,{"$f":"VLOOKUP(A3007,'[1]SD vs SY0.45'!$A$2:$E$20133,5,FALSE)","v":"NA"}]
["ENSGALG00000053422",803.277850957378,-2.37249861300569,0.536912788539729,-4.4187783633508,{"v":9.92603749708849e-06,"d":"9.93E-06"},{"v":5.32338105989752e-05,"d":"5.32E-05"},{"$f":"VLOOKUP(A3008,'[1]SD vs SY0.45'!$A$2:$E$20133,5,FALSE)","v":"CEP350L"}]
["ENSGALG00000014845",13.5972304083564,-2.37429200606445,0.531553002368355,-4.46670792091419,{"v":7.94324597831542e-06,"d":"7.94E-06"},{"v":4.34715825700253e-05,"d":"4.35E-05"},{"$f":"VLOOKUP(A3009,'[1]SD vs SY0.45'!$A$2:$E$20133,5,FALSE)","v":"PLCXD3"}]
["ENSGALG00000030032",98.6832316726435,-2.3763972745718,0.417678760287864,-5.68953344176273,{"v":1.27386941407167e-08,"d":"1.27E-08"},{"v":1.16941750277001E-7,"d":"1.17E-07"},{"$f":"VLOOKUP(A3010,'[1]SD vs SY0.45'!$A$2:$E$20133,5,FALSE)","v":"SLC4A10"}]
["ENSGALG00000007395",1139.79994598953,-2.37843391376634,0.539692438815334,-4.4070172985695,{"v":1.04803821009433e-05,"d":"1.05E-05"},{"v":5.58450516669021e-05,"d":"5.58E-05"},{"$f":"VLOOKUP(A3011,'[1]SD vs SY0.45'!$A$2:$E$20133,5,FALSE)","v":"ABCC2"}]
["ENSGALG00000016300",581.820298918547,-2.37901551591442,0.518766118520442,-4.58591151384277,{"v":4.52010021978734e-06,"d":"4.52E-06"},{"v":2.5989081521641e-05,"d":"2.60E-05"},{"$f":"VLOOKUP(A3012,'[1]SD vs SY0.45'!$A$2:$E$20133,5,FALSE)","v":"TINAG"}]
["ENSGALG00000050570",15.3844433437809,-2.37998308700047,0.786432199227814,-3.02630422474734,2.47563080021656E-3,0.00737935757300965,{"$f":"VLOOKUP(A3013,'[1]SD vs SY0.45'!$A$2:$E$20133,5,FALSE)","v":"NA"}]
["ENSGALG00000050071",9.31675758454884,-2.38000690887592,0.759080345488741,-3.13538207519197,1.71630416245947E-3,0.00533167419558385,{"$f":"VLOOKUP(A3014,'[1]SD vs SY0.45'!$A$2:$E$20133,5,FALSE)","v":"NA"}]
["ENSGALG00000015898",976.770945744817,-2.38090780281104,0.308320166066392,-7.72219291779425,{"v":1.14345151409673e-14,"d":"1.14E-14"},{"v":2.75362762819942e-13,"d":"2.75E-13"},{"$f":"VLOOKUP(A3015,'[1]SD vs SY0.45'!$A$2:$E$20133,5,FALSE)","v":"MYO6"}]
["ENSGALG00000016361",232.930028325795,-2.38285890469533,0.337212541746801,-7.06634128242038,{"v":1.59071920727048E-12,"d":"1.59E-12"},{"v":2.73569088593589E-11,"d":"2.74E-11"},{"$f":"VLOOKUP(A3016,'[1]SD vs SY0.45'!$A$2:$E$20133,5,FALSE)","v":"FAM110C"}]
["ENSGALG00000009207",443.822753502082,-2.38311240699036,0.194973048154586,-12.2227786329774,{"v":2.3491571763138e-34,"d":"2.35E-34"},{"v":4.33795760892308e-32,"d":"4.34E-32"},{"$f":"VLOOKUP(A3017,'[1]SD vs SY0.45'!$A$2:$E$20133,5,FALSE)","v":"TRIM2"}]
["ENSGALG00000052012",52.1945637076321,-2.38556954042413,0.301850710620619,-7.90314369483935,{"v":2.71955767154483e-15,"d":"2.72E-15"},{"v":7.17525785055386e-14,"d":"7.18E-14"},{"$f":"VLOOKUP(A3018,'[1]SD vs SY0.45'!$A$2:$E$20133,5,FALSE)","v":"NA"}]
["ENSGALG00000029521",24.0480699479062,-2.38972773490334,1.02614281378442,-2.32884516930933,0.0198672695282235,0.0456377613009938,{"$f":"VLOOKUP(A3019,'[1]SD vs SY0.45'!$A$2:$E$20133,5,FALSE)","v":"SKOR1"}]
["ENSGALG00000029132",19.7409830360681,-2.39012223530411,0.401293627750554,-5.95604333091932,{"v":2.58417841152549E-9,"d":"2.58E-09"},{"v":2.66495314597827e-08,"d":"2.66E-08"},{"$f":"VLOOKUP(A3020,'[1]SD vs SY0.45'!$A$2:$E$20133,5,FALSE)","v":"gga-mir-6626"}]
["ENSGALG00000040680",6.86120500557151,-2.40143961597613,0.81040494580699,-2.96325883547614,0.00304400485595231,0.00888022020645013,{"$f":"VLOOKUP(A3021,'[1]SD vs SY0.45'!$A$2:$E$20133,5,FALSE)","v":"NA"}]
["ENSGALG00000044606",5943.62414643836,-2.40193829858854,0.854655775320677,-2.81041603876988,0.00494774964810058,0.0135924095891006,{"$f":"VLOOKUP(A3022,'[1]SD vs SY0.45'!$A$2:$E$20133,5,FALSE)","v":"MEP1B"}]
["ENSGALG00000049050",3.18781725705107,-2.40264650452285,1.03074362956799,-2.33098360795095,0.01975422405033,0.0454140808625001,{"$f":"VLOOKUP(A3023,'[1]SD vs SY0.45'!$A$2:$E$20133,5,FALSE)","v":"NA"}]
["ENSGALG00000013304",13427.2548146262,-2.40569454635431,1.00581992559068,-2.39177459617488,0.0167671361568931,0.0394012969806596,{"$f":"VLOOKUP(A3024,'[1]SD vs SY0.45'!$A$2:$E$20133,5,FALSE)","v":"SLC5A12"}]
["ENSGALG00000048060",4.32204729805101,-2.40751056168808,0.894704747395034,-2.69084362042074,0.00712715946536936,0.0187077176365303,{"$f":"VLOOKUP(A3025,'[1]SD vs SY0.45'!$A$2:$E$20133,5,FALSE)","v":"NA"}]
["ENSGALG00000002227",506.004603425062,-2.41169661316353,0.201391035417302,-11.9751934745569,{"v":4.79318143907749e-33,"d":"4.79E-33"},{"v":7.57627688011275e-31,"d":"7.58E-31"},{"$f":"VLOOKUP(A3026,'[1]SD vs SY0.45'!$A$2:$E$20133,5,FALSE)","v":"DMXL1"}]
["ENSGALG00000010909",692.023950231124,-2.41345234096746,0.392517052509884,-6.14865602789751,{"v":7.81422342408442e-10,"d":"7.81E-10"},{"v":8.79390955822368e-09,"d":"8.79E-09"},{"$f":"VLOOKUP(A3027,'[1]SD vs SY0.45'!$A$2:$E$20133,5,FALSE)","v":"PRKG2"}]
["ENSGALG00000007800",53.1465823926752,-2.41694132098453,0.362122252078923,-6.67437945917161,{"v":2.48280449628604E-11,"d":"2.48E-11"},{"v":3.50678487221164e-10,"d":"3.51E-10"},{"$f":"VLOOKUP(A3028,'[1]SD vs SY0.45'!$A$2:$E$20133,5,FALSE)","v":"ZDHHC15"}]
["ENSGALG00000035619",1967.90028691863,-2.42295962505534,0.465208729455616,-5.20832794322382,{"v":1.90549928285673E-7,"d":"1.91E-07"},{"v":1.42682670245607E-6,"d":"1.43E-06"},{"$f":"VLOOKUP(A3029,'[1]SD vs SY0.45'!$A$2:$E$20133,5,FALSE)","v":"MTTP"}]
["ENSGALG00000006689",628.974419137461,-2.42620213176166,0.210540155349803,-11.5237025817267,{"v":1.002103443756e-30,"d":"1.00E-30"},{"v":1.3199676194383E-28,"d":"1.32E-28"},{"$f":"VLOOKUP(A3030,'[1]SD vs SY0.45'!$A$2:$E$20133,5,FALSE)","v":"ABHD2"}]
["ENSGALG00000008370",839.433542093634,-2.42630258956834,0.503258040950265,-4.82118991081977,{"v":1.42704417777958E-6,"d":"1.43E-06"},{"v":9.05878682696372E-6,"d":"9.06E-06"},{"$f":"VLOOKUP(A3031,'[1]SD vs SY0.45'!$A$2:$E$20133,5,FALSE)","v":"TRAK2"}]
["ENSGALG00000047951",9.6611671116624,-2.4267551319954,1.00569801195738,-2.41300579611592,0.0158215679655903,0.0374934717483602,{"$f":"VLOOKUP(A3032,'[1]SD vs SY0.45'!$A$2:$E$20133,5,FALSE)","v":"NA"}]
["ENSGALG00000054198",141.015101141979,-2.42737814644974,0.235581409794743,-10.3037762978185,{"v":6.77483894296161e-25,"d":"6.77E-25"},{"v":5.14384824023029e-23,"d":"5.14E-23"},{"$f":"VLOOKUP(A3033,'[1]SD vs SY0.45'!$A$2:$E$20133,5,FALSE)","v":"NA"}]
["ENSGALG00000040557",37.6890437494626,-2.42907302521512,0.56407877290954,-4.30626561727516,{"v":1.66033675172836e-05,"d":"1.66E-05"},{"v":8.43115511165334e-05,"d":"8.43E-05"},{"$f":"VLOOKUP(A3034,'[1]SD vs SY0.45'!$A$2:$E$20133,5,FALSE)","v":"TFEC"}]
["ENSGALG00000031410",15947.75558617,-2.43440176819153,0.517375438486018,-4.70529056291357,{"v":2.53504636341777e-06,"d":"2.54E-06"},{"v":1.5293841471459e-05,"d":"1.53E-05"},{"$f":"VLOOKUP(A3035,'[1]SD vs SY0.45'!$A$2:$E$20133,5,FALSE)","v":"ENPEP"}]
["ENSGALG00000006217",258.783142808892,-2.43754759284793,0.846114571312093,-2.88087178201878,0.00396576932252728,0.0111773109435535,{"$f":"VLOOKUP(A3036,'[1]SD vs SY0.45'!$A$2:$E$20133,5,FALSE)","v":"S100B"}]
["ENSGALG00000029701",156.29766191108,-2.43796904142533,0.196609937294366,-12.4000295965467,{"v":2.61227093440726e-35,"d":"2.61E-35"},{"v":5.34347702782812e-33,"d":"5.34E-33"},{"$f":"VLOOKUP(A3037,'[1]SD vs SY0.45'!$A$2:$E$20133,5,FALSE)","v":"INO80D"}]
["ENSGALG00000050631",154.606929664731,-2.43877623133268,0.253305277573208,-9.62781452758261,{"v":6.10132901821292e-22,"d":"6.10E-22"},{"v":3.53612692132227e-20,"d":"3.54E-20"},{"$f":"VLOOKUP(A3038,'[1]SD vs SY0.45'!$A$2:$E$20133,5,FALSE)","v":"NA"}]
["ENSGALG00000052720",11.8026947374668,-2.441614962849,0.583442197911589,-4.18484465400116,{"v":2.85361182558883E-5,"d":"2.85E-05"},0.000137936471536039,{"$f":"VLOOKUP(A3039,'[1]SD vs SY0.45'!$A$2:$E$20133,5,FALSE)","v":"NA"}]
["ENSGALG00000006502",265.75828278311,-2.44274146277087,0.142755812172231,-17.1113275571839,{"v":1.22182664019197E-65,"d":"1.22E-65"},{"v":1.63414613792444E-62,"d":"1.63E-62"},{"$f":"VLOOKUP(A3040,'[1]SD vs SY0.45'!$A$2:$E$20133,5,FALSE)","v":"PCGF5"}]
["ENSGALG00000009282",242.228337860522,-2.44442260368577,0.180596841618024,-13.5352455878265,{"v":9.68582086366437E-42,"d":"9.69E-42"},{"v":3.11865495104689e-39,"d":"3.12E-39"},{"$f":"VLOOKUP(A3041,'[1]SD vs SY0.45'!$A$2:$E$20133,5,FALSE)","v":"ELMSAN1"}]
["ENSGALG00000035026",306.816508098402,-2.45790451309924,0.411256782253143,-5.97656894467046,{"v":2.27886134180793e-09,"d":"2.28E-09"},{"v":2.36505160970655e-08,"d":"2.37E-08"},{"$f":"VLOOKUP(A3042,'[1]SD vs SY0.45'!$A$2:$E$20133,5,FALSE)","v":"SLC22A4"}]
["ENSGALG00000037687",54.0442073844496,-2.4585425368771,0.441867162890096,-5.56398561231989,{"v":2.63681695944689e-08,"d":"2.64E-08"},{"v":2.30031384542461e-07,"d":"2.30E-07"},{"$f":"VLOOKUP(A3043,'[1]SD vs SY0.45'!$A$2:$E$20133,5,FALSE)","v":"NA"}]
["ENSGALG00000006382",1322.65819285002,-2.46138276857012,0.347242464709824,-7.088369133156,{"v":1.35701617012319e-12,"d":"1.36E-12"},{"v":2.35708692806512e-11,"d":"2.36E-11"},{"$f":"VLOOKUP(A3044,'[1]SD vs SY0.45'!$A$2:$E$20133,5,FALSE)","v":"PTPRJ"}]
["ENSGALG00000008516",2358.6073145417,-2.4680006720234,0.897208874818907,-2.75075374451857,0.00594583222322972,0.0159611216404655,{"$f":"VLOOKUP(A3045,'[1]SD vs SY0.45'!$A$2:$E$20133,5,FALSE)","v":"CPO"}]
["ENSGALG00000054579",23.0065337759641,-2.46852978345009,0.561540094945775,-4.39599915601479,{"v":1.10264361930363E-5,"d":"1.10E-05"},{"v":5.84145783328219e-05,"d":"5.84E-05"},{"$f":"VLOOKUP(A3046,'[1]SD vs SY0.45'!$A$2:$E$20133,5,FALSE)","v":"NA"}]
["ENSGALG00000017291",811.403985237702,-2.46976944627535,0.230235256992241,-10.7271556864924,{"v":7.58963960125658e-27,"d":"7.59E-27"},{"v":6.98206686492318e-25,"d":"6.98E-25"},{"$f":"VLOOKUP(A3047,'[1]SD vs SY0.45'!$A$2:$E$20133,5,FALSE)","v":"FAR2"}]
["ENSGALG00000023407",151.860480705402,-2.47012862277459,0.206352988545937,-11.9704039189367,{"v":5.07808082626988E-33,"d":"5.08E-33"},{"v":7.88326708271021e-31,"d":"7.88E-31"},{"$f":"VLOOKUP(A3048,'[1]SD vs SY0.45'!$A$2:$E$20133,5,FALSE)","v":"ZBTB34"}]
["ENSGALG00000020679",1162.96836084424,-2.47028202979801,0.865801776305687,-2.85317274392589,0.00432850850457046,0.0121035344755495,{"$f":"VLOOKUP(A3049,'[1]SD vs SY0.45'!$A$2:$E$20133,5,FALSE)","v":"PLEKHS1"}]
["ENSGALG00000039738",250.251865573712,-2.4725015831873,0.47967177756982,-5.1545696428375,{"v":2.54214071717271e-07,"d":"2.54E-07"},{"v":1.86420078656609e-06,"d":"1.86E-06"},{"$f":"VLOOKUP(A3050,'[1]SD vs SY0.45'!$A$2:$E$20133,5,FALSE)","v":"SLC9A3"}]
["ENSGALG00000016205",741.191531929424,-2.47480059645552,0.235257684899384,-10.5195313705223,{"v":7.022197672222e-26,"d":"7.02E-26"},{"v":5.92693936538465e-24,"d":"5.93E-24"},{"$f":"VLOOKUP(A3051,'[1]SD vs SY0.45'!$A$2:$E$20133,5,FALSE)","v":"PDXK"}]
["ENSGALG00000031129",1175.93430802614,-2.47602701681597,0.41270760064278,-5.99947035857742,{"v":1.97962160552832e-09,"d":"1.98E-09"},{"v":2.08099642414274E-8,"d":"2.08E-08"},{"$f":"VLOOKUP(A3052,'[1]SD vs SY0.45'!$A$2:$E$20133,5,FALSE)","v":"HMCN1"}]
["ENSGALG00000043724",380.041062602015,-2.48719111024933,0.151933700963489,-16.370239745868,{"v":3.11982575662394e-60,"d":"3.12E-60"},{"v":2.46565501956457e-57,"d":"2.47E-57"},{"$f":"VLOOKUP(A3053,'[1]SD vs SY0.45'!$A$2:$E$20133,5,FALSE)","v":"NFX1"}]
["ENSGALG00000050373",3.73034805650515,-2.48806931610748,0.940325430098339,-2.64596621176913,0.0081457952420863,0.0210353396515898,{"$f":"VLOOKUP(A3054,'[1]SD vs SY0.45'!$A$2:$E$20133,5,FALSE)","v":"NA"}]
["ENSGALG00000011990",263.661938713501,-2.48970853934445,0.254804597746259,-9.77105029252164,{"v":1.49890039381625e-22,"d":"1.50E-22"},{"v":9.20896860328024e-21,"d":"9.21E-21"},{"$f":"VLOOKUP(A3055,'[1]SD vs SY0.45'!$A$2:$E$20133,5,FALSE)","v":"USP53"}]
["ENSGALG00000050912",8.78209981117304,-2.49415416703785,0.784988743809453,-3.17731201460804,0.00148647020791504,0.00470426965872202,{"$f":"VLOOKUP(A3056,'[1]SD vs SY0.45'!$A$2:$E$20133,5,FALSE)","v":"NA"}]
["ENSGALG00000007211",9.89140189329651,-2.49449719822069,0.794773286837275,-3.1386273790697,0.00169741142725172,0.00527864290567442,{"$f":"VLOOKUP(A3057,'[1]SD vs SY0.45'!$A$2:$E$20133,5,FALSE)","v":"CDH22"}]
["ENSGALG00000028886",6.57224269118871,-2.49471591517289,1.02028399749263,-2.44511912497275,0.0144804304501615,0.0346601382484799,{"$f":"VLOOKUP(A3058,'[1]SD vs SY0.45'!$A$2:$E$20133,5,FALSE)","v":"PLGL"}]
["ENSGALG00000007097",110.830685120706,-2.49649492382749,0.185808476936832,-13.4358505326762,{"v":3.72760655512444e-41,"d":"3.73E-41"},{"v":1.15735527096337E-38,"d":"1.16E-38"},{"$f":"VLOOKUP(A3059,'[1]SD vs SY0.45'!$A$2:$E$20133,5,FALSE)","v":"RPS6KA6"}]
["ENSGALG00000054081",34.6391114560571,-2.49690919470706,0.331717879949804,-7.52720714085384,{"v":5.18371020258159e-14,"d":"5.18E-14"},{"v":1.14087556066185e-12,"d":"1.14E-12"},{"$f":"VLOOKUP(A3060,'[1]SD vs SY0.45'!$A$2:$E$20133,5,FALSE)","v":"NA"}]
["ENSGALG00000041036",36.3352264744008,-2.49775119656649,0.349254423443559,-7.1516666043605,{"v":8.57305850117478e-13,"d":"8.57E-13"},{"v":1.53669864082398e-11,"d":"1.54E-11"},{"$f":"VLOOKUP(A3061,'[1]SD vs SY0.45'!$A$2:$E$20133,5,FALSE)","v":"FTO"}]
["ENSGALG00000013437",64.1413075203004,-2.50155378657469,0.334080504431117,-7.48787718347833,{"v":6.99964787149571e-14,"d":"7.00E-14"},{"v":1.50996125982253e-12,"d":"1.51E-12"},{"$f":"VLOOKUP(A3062,'[1]SD vs SY0.45'!$A$2:$E$20133,5,FALSE)","v":"GAN"}]
["ENSGALG00000014421",608.315349314906,-2.50221419837618,0.202327744350769,-12.3671333677213,{"v":3.93620057459402e-35,"d":"3.94E-35"},{"v":7.86651947016854e-33,"d":"7.87E-33"},{"$f":"VLOOKUP(A3063,'[1]SD vs SY0.45'!$A$2:$E$20133,5,FALSE)","v":"LCORL"}]
["ENSGALG00000003765",690.01268370693,-2.50501752382784,0.354918907100351,-7.05799965488894,{"v":1.68916479038117E-12,"d":"1.69E-12"},{"v":2.88218922574656e-11,"d":"2.88E-11"},{"$f":"VLOOKUP(A3064,'[1]SD vs SY0.45'!$A$2:$E$20133,5,FALSE)","v":"A1CF"}]
["ENSGALG00000001343",968.872030364658,-2.51026141335783,1.02552512510155,-2.44778148473863,0.0143738799863922,0.0344572799287745,{"$f":"VLOOKUP(A3065,'[1]SD vs SY0.45'!$A$2:$E$20133,5,FALSE)","v":"LAMB3"}]
["ENSGALG00000046969",48.2564817324494,-2.51215404555524,0.340447392702663,-7.37897865985211,{"v":1.59508392864769e-13,"d":"1.60E-13"},{"v":3.23236879573396e-12,"d":"3.23E-12"},{"$f":"VLOOKUP(A3066,'[1]SD vs SY0.45'!$A$2:$E$20133,5,FALSE)","v":"NA"}]
["ENSGALG00000011986",11879.417016868,-2.51754716381021,0.797793331855848,-3.15563826279899,1.60147342755235E-3,0.00501618059536169,{"$f":"VLOOKUP(A3067,'[1]SD vs SY0.45'!$A$2:$E$20133,5,FALSE)","v":"FABP2"}]
["ENSGALG00000048496",11.9116823489213,-2.51918597692571,0.646880669706422,-3.89435964761323,{"v":9.84584791756213e-05,"d":"9.85E-05"},0.000418864100177766,{"$f":"VLOOKUP(A3068,'[1]SD vs SY0.45'!$A$2:$E$20133,5,FALSE)","v":"NA"}]
["ENSGALG00000016342",22.1637017023974,-2.52414605178668,1.01045416664682,-2.4980312171536,0.0124885195743633,0.0305569785870328,{"$f":"VLOOKUP(A3069,'[1]SD vs SY0.45'!$A$2:$E$20133,5,FALSE)","v":"MYOM2"}]
["ENSGALG00000002931",1105.67485832335,-2.53131340546088,1.07693293240752,-2.35048379456839,0.0187490240606222,0.0433727090662637,{"$f":"VLOOKUP(A3070,'[1]SD vs SY0.45'!$A$2:$E$20133,5,FALSE)","v":"REG4"}]
["ENSGALG00000016001",346.956495832796,-2.53135669686041,0.238587361752158,-10.6097685907184,{"v":2.6841301870785e-26,"d":"2.68E-26"},{"v":2.36898332805756e-24,"d":"2.37E-24"},{"$f":"VLOOKUP(A3071,'[1]SD vs SY0.45'!$A$2:$E$20133,5,FALSE)","v":"LZTS3"}]
["ENSGALG00000003336",267.713671915449,-2.53447556925867,0.432316601758873,-5.8625450860485,{"v":4.55825785106337e-09,"d":"4.56E-09"},{"v":4.5366015601854e-08,"d":"4.54E-08"},{"$f":"VLOOKUP(A3072,'[1]SD vs SY0.45'!$A$2:$E$20133,5,FALSE)","v":"DAPK2"}]
["ENSGALG00000000498",4877.06778528318,-2.54281126340432,0.888266867663741,-2.86266589014206,0.00420093285524367,0.0117733106953774,{"$f":"VLOOKUP(A3073,'[1]SD vs SY0.45'!$A$2:$E$20133,5,FALSE)","v":"ACE"}]
["ENSGALG00000004205",939.193995866939,-2.54786906184414,0.250855079469102,-10.1567369783236,{"v":3.09253544618573e-24,"d":"3.09E-24"},{"v":2.2127536544375e-22,"d":"2.21E-22"},{"$f":"VLOOKUP(A3074,'[1]SD vs SY0.45'!$A$2:$E$20133,5,FALSE)","v":"SOAT1"}]
["ENSGALG00000051908",4.40490234616786,-2.54958952168478,1.03784684754358,-2.45661441061294,0.0140253134437277,0.0337519895980753,{"$f":"VLOOKUP(A3075,'[1]SD vs SY0.45'!$A$2:$E$20133,5,FALSE)","v":"NA"}]
["ENSGALG00000017021",327.95772345493,-2.55622970921128,0.411859236970658,-6.206561562181,{"v":5.41564118767038e-10,"d":"5.42E-10"},{"v":6.24829152820338E-9,"d":"6.25E-09"},{"$f":"VLOOKUP(A3076,'[1]SD vs SY0.45'!$A$2:$E$20133,5,FALSE)","v":"ATP7B"}]
["ENSGALG00000050835",14.5783692487161,-2.55908094312575,0.987484064590867,-2.59151619240157,0.0095554044732674,0.0242362972394895,{"$f":"VLOOKUP(A3077,'[1]SD vs SY0.45'!$A$2:$E$20133,5,FALSE)","v":"NA"}]
["ENSGALG00000034950",175.785591598796,-2.55971476426717,0.217572703282147,-11.7648708944327,{"v":5.92168635016148e-32,"d":"5.92E-32"},{"v":8.3032548846982e-30,"d":"8.30E-30"},{"$f":"VLOOKUP(A3078,'[1]SD vs SY0.45'!$A$2:$E$20133,5,FALSE)","v":"SMPD3"}]
["ENSGALG00000016128",269.723346823024,-2.56110557811822,0.462414076004905,-5.53855453589404,{"v":3.04978281191925e-08,"d":"3.05E-08"},{"v":2.62507790845743e-07,"d":"2.63E-07"},{"$f":"VLOOKUP(A3079,'[1]SD vs SY0.45'!$A$2:$E$20133,5,FALSE)","v":"B3GALT5"}]
["ENSGALG00000009176",12.081345909795,-2.56573341814465,0.541502953612002,-4.73817068038201,{"v":2.156561409342E-6,"d":"2.16E-06"},{"v":1.31842943826404E-5,"d":"1.32E-05"},{"$f":"VLOOKUP(A3080,'[1]SD vs SY0.45'!$A$2:$E$20133,5,FALSE)","v":"TTBK2"}]
["ENSGALG00000014700",225.36314506254,-2.56645638648715,0.148780043960152,-17.2500042221692,{"v":1.1189119108637E-66,"d":"1.12E-66"},{"v":1.76859285401702e-63,"d":"1.77E-63"},{"$f":"VLOOKUP(A3081,'[1]SD vs SY0.45'!$A$2:$E$20133,5,FALSE)","v":"DHX29"}]
["ENSGALG00000026727",752.640005006962,-2.56831226470456,0.443156025674004,-5.79550342522899,{"v":6.81165377622009e-09,"d":"6.81E-09"},{"v":6.58333653180315e-08,"d":"6.58E-08"},{"$f":"VLOOKUP(A3082,'[1]SD vs SY0.45'!$A$2:$E$20133,5,FALSE)","v":"SLC30A10"}]
["ENSGALG00000039121",68.8865397045522,-2.57380909726115,0.299468455888304,-8.59459167285763,{"v":8.35613967699576e-18,"d":"8.36E-18"},{"v":2.98946914740587e-16,"d":"2.99E-16"},{"$f":"VLOOKUP(A3083,'[1]SD vs SY0.45'!$A$2:$E$20133,5,FALSE)","v":"PPM1F"}]
["ENSGALG00000016554",10280.805577653,-2.57438295954644,0.846648836328323,-3.04067382967277,2.36049389976255E-3,0.00706975479127358,{"$f":"VLOOKUP(A3084,'[1]SD vs SY0.45'!$A$2:$E$20133,5,FALSE)","v":"ACE2"}]
["ENSGALG00000008914",47.6236724303696,-2.58121913288021,0.875965004321545,-2.9467149031592,0.00321169163164095,0.00930384578462866,{"$f":"VLOOKUP(A3085,'[1]SD vs SY0.45'!$A$2:$E$20133,5,FALSE)","v":"NRAP"}]
["ENSGALG00000053190",3.43841263435606,-2.58209722896385,1.10655750191021,-2.33345056583727,0.0196245099826807,0.0451576700726402,{"$f":"VLOOKUP(A3086,'[1]SD vs SY0.45'!$A$2:$E$20133,5,FALSE)","v":"NA"}]
["ENSGALG00000046779",25.1748715531346,-2.59023098834892,0.456688644650695,-5.67176569570741,{"v":1.41333190770226e-08,"d":"1.41E-08"},{"v":1.28859999366645e-07,"d":"1.29E-07"},{"$f":"VLOOKUP(A3087,'[1]SD vs SY0.45'!$A$2:$E$20133,5,FALSE)","v":"NA"}]
["ENSGALG00000005540",630.729059090244,-2.59071182975641,0.254169801690928,-10.192838852299,{"v":2.13438736238536E-24,"d":"2.13E-24"},{"v":1.55926861637791E-22,"d":"1.56E-22"},{"$f":"VLOOKUP(A3088,'[1]SD vs SY0.45'!$A$2:$E$20133,5,FALSE)","v":"MICAL2"}]
["ENSGALG00000007636",1648.41418551957,-2.60599729501111,1.089323510692,-2.39230795023935,0.0167427878219595,0.0393600394619267,{"$f":"VLOOKUP(A3089,'[1]SD vs SY0.45'!$A$2:$E$20133,5,FALSE)","v":"PCK1"}]
["ENSGALG00000034500",772.321983112872,-2.60778316121771,0.426565819793504,-6.1134367551533,{"v":9.75080252428243e-10,"d":"9.75E-10"},{"v":1.08192216649457e-08,"d":"1.08E-08"},{"$f":"VLOOKUP(A3090,'[1]SD vs SY0.45'!$A$2:$E$20133,5,FALSE)","v":"CIDEA"}]
["ENSGALG00000052733",7.63808274336014,-2.61093086455184,1.00878444738131,-2.58819500174642,0.00964803455005791,0.0244465544113226,{"$f":"VLOOKUP(A3091,'[1]SD vs SY0.45'!$A$2:$E$20133,5,FALSE)","v":"NA"}]
["ENSGALG00000040957",78.883474219493,-2.61408971225603,0.262368324936197,-9.96343485019288,{"v":2.20316570871494e-23,"d":"2.20E-23"},{"v":1.45651871397059E-21,"d":"1.46E-21"},{"$f":"VLOOKUP(A3092,'[1]SD vs SY0.45'!$A$2:$E$20133,5,FALSE)","v":"AGO2"}]
["ENSGALG00000008427",16.8156781517826,-2.62260426287066,0.666688049193779,-3.93378022306258,{"v":8.36202477336854e-05,"d":"8.36E-05"},0.000362208581800097,{"$f":"VLOOKUP(A3093,'[1]SD vs SY0.45'!$A$2:$E$20133,5,FALSE)","v":"GNAT3"}]
["ENSGALG00000034828",6.98512711038926,-2.62269818307153,0.686374198667261,-3.82109086874775,0.000132862683257802,0.000547542894952217,{"$f":"VLOOKUP(A3094,'[1]SD vs SY0.45'!$A$2:$E$20133,5,FALSE)","v":"NA"}]
["ENSGALG00000015554",37.5835944060652,-2.62394191140121,0.421611163722651,-6.22360633962559,{"v":4.85855241462158e-10,"d":"4.86E-10"},{"v":5.66570428122236E-9,"d":"5.67E-09"},{"$f":"VLOOKUP(A3095,'[1]SD vs SY0.45'!$A$2:$E$20133,5,FALSE)","v":"SORCS2"}]
["ENSGALG00000000311",895.128550731029,-2.62476268083719,0.37227693680476,-7.05056483854581,{"v":1.781929560957E-12,"d":"1.78E-12"},{"v":3.02562590589447e-11,"d":"3.03E-11"},{"$f":"VLOOKUP(A3096,'[1]SD vs SY0.45'!$A$2:$E$20133,5,FALSE)","v":"DOCK5"}]
["ENSGALG00000012932",495.362500278375,-2.62770252050626,0.292281082621634,-8.99032704045337,{"v":2.46495848513816e-19,"d":"2.46E-19"},{"v":1.05822797978018E-17,"d":"1.06E-17"},{"$f":"VLOOKUP(A3097,'[1]SD vs SY0.45'!$A$2:$E$20133,5,FALSE)","v":"FGD4"}]
["ENSGALG00000002504",114.423646334184,-2.63711708586356,0.19771461901584,-13.3379974581054,{"v":1.39147338486739E-40,"d":"1.39E-40"},{"v":3.96615536765397e-38,"d":"3.97E-38"},{"$f":"VLOOKUP(A3098,'[1]SD vs SY0.45'!$A$2:$E$20133,5,FALSE)","v":"RO60"}]
["ENSGALG00000001806",568.888907415376,-2.63947923409665,0.475708547991596,-5.5485217687181,{"v":2.88095018891648E-8,"d":"2.88E-08"},{"v":2.49333404353862e-07,"d":"2.49E-07"},{"$f":"VLOOKUP(A3099,'[1]SD vs SY0.45'!$A$2:$E$20133,5,FALSE)","v":"FUT6"}]
["ENSGALG00000050022",7.67803913888977,-2.63953029218888,0.718076674786419,-3.6758334936502,2.37074117607648E-4,0.000919065258159235,{"$f":"VLOOKUP(A3100,'[1]SD vs SY0.45'!$A$2:$E$20133,5,FALSE)","v":"NA"}]
["ENSGALG00000001252",1388.1158696277,-2.6395701498505,0.976939174971088,-2.70187767823786,0.00689491233677929,0.0181749303819863,{"$f":"VLOOKUP(A3101,'[1]SD vs SY0.45'!$A$2:$E$20133,5,FALSE)","v":"CREB3L3"}]
["ENSGALG00000031560",370.707339247467,-2.63963131723059,0.141168406978036,-18.6984565012573,{"v":5.09585353265337e-78,"d":"5.10E-78"},{"v":2.2150401343061E-74,"d":"2.22E-74"},{"$f":"VLOOKUP(A3102,'[1]SD vs SY0.45'!$A$2:$E$20133,5,FALSE)","v":"USF3"}]
["ENSGALG00000010999",428.476959366305,-2.63999336043652,0.111349960613988,-23.7089743532867,{"v":2.91363937643769e-124,"d":"2.91E-124"},{"v":5.06594478381221e-120,"d":"5.07E-120"},{"$f":"VLOOKUP(A3103,'[1]SD vs SY0.45'!$A$2:$E$20133,5,FALSE)","v":"DICER1"}]
["ENSGALG00000015141",305.214365182132,-2.65397345893307,0.368684368917024,-7.19849736708088,{"v":6.08797215431891e-13,"d":"6.09E-13"},{"v":1.12608055156535e-11,"d":"1.13E-11"},{"$f":"VLOOKUP(A3104,'[1]SD vs SY0.45'!$A$2:$E$20133,5,FALSE)","v":"GDA"}]
["ENSGALG00000014726",10.4356504175328,-2.65853981222389,0.644983459114673,-4.12187285527151,{"v":3.75804610386467e-05,"d":"3.76E-05"},1.76454624920051E-4,{"$f":"VLOOKUP(A3105,'[1]SD vs SY0.45'!$A$2:$E$20133,5,FALSE)","v":"RAB3C"}]
["ENSGALG00000015045",7.45262637684825,-2.65965787003412,0.956390903900919,-2.78093179178716,0.00542031241687661,0.0147600582603342,{"$f":"VLOOKUP(A3106,'[1]SD vs SY0.45'!$A$2:$E$20133,5,FALSE)","v":"LOC101750948"}]
["ENSGALG00000054648",35.9216320973397,-2.66156534440817,0.784480295873403,-3.39277526587829,0.000691883767719922,2.37695772956852E-3,{"$f":"VLOOKUP(A3107,'[1]SD vs SY0.45'!$A$2:$E$20133,5,FALSE)","v":"LOC112531454"}]
["ENSGALG00000038222",182.417148982713,-2.66381438173572,0.179500943075457,-14.8401135731968,{"v":8.06193556078238e-50,"d":"8.06E-50"},{"v":4.24766283622192e-47,"d":"4.25E-47"},{"$f":"VLOOKUP(A3108,'[1]SD vs SY0.45'!$A$2:$E$20133,5,FALSE)","v":"NA"}]
["ENSGALG00000025695",18.2763415239065,-2.66725202645262,0.524516959959312,-5.08515878430227,{"v":3.67318638424522e-07,"d":"3.67E-07"},{"v":2.59616632775901e-06,"d":"2.60E-06"},{"$f":"VLOOKUP(A3109,'[1]SD vs SY0.45'!$A$2:$E$20133,5,FALSE)","v":"SCARNA13"}]
["ENSGALG00000023670",55.756962056996,-2.67941807671756,0.322304796769719,-8.31330499443966,{"v":9.30729056548561e-17,"d":"9.31E-17"},{"v":2.90010503695517e-15,"d":"2.90E-15"},{"$f":"VLOOKUP(A3110,'[1]SD vs SY0.45'!$A$2:$E$20133,5,FALSE)","v":"NAALADL2"}]
["ENSGALG00000050226",19.0677809516055,-2.68213215280503,0.639734042356898,-4.19257374974694,{"v":2.75807375795156e-05,"d":"2.76E-05"},0.000133801976644821,{"$f":"VLOOKUP(A3111,'[1]SD vs SY0.45'!$A$2:$E$20133,5,FALSE)","v":"NA"}]
["ENSGALG00000005251",198.868700000919,-2.68698777861755,0.194652818557671,-13.8040013934936,{"v":2.41090231999109e-43,"d":"2.41E-43"},{"v":9.31519080837447e-41,"d":"9.32E-41"},{"$f":"VLOOKUP(A3112,'[1]SD vs SY0.45'!$A$2:$E$20133,5,FALSE)","v":"CMTM4"}]
["ENSGALG00000016285",1348.28019581311,-2.69615517161485,0.473246483542846,-5.69714781910418,{"v":1.21828294952911E-8,"d":"1.22E-08"},{"v":1.12671732146078E-7,"d":"1.13E-07"},{"$f":"VLOOKUP(A3113,'[1]SD vs SY0.45'!$A$2:$E$20133,5,FALSE)","v":"GK"}]
["ENSGALG00000050582",77.1384301664293,-2.6983377247016,0.241325915330069,-11.181301108963,{"v":5.03463789490642e-29,"d":"5.03E-29"},{"v":5.75902954465381e-27,"d":"5.76E-27"},{"$f":"VLOOKUP(A3114,'[1]SD vs SY0.45'!$A$2:$E$20133,5,FALSE)","v":"NA"}]
["ENSGALG00000004087",133.153408144001,-2.70919312527045,0.310758694008654,-8.71799623792667,{"v":2.83168363449999e-18,"d":"2.83E-18"},{"v":1.07498871949894E-16,"d":"1.07E-16"},{"$f":"VLOOKUP(A3115,'[1]SD vs SY0.45'!$A$2:$E$20133,5,FALSE)","v":"THSD4"}]
["ENSGALG00000007278",8.44768741504521,-2.71072025130803,0.633717886329772,-4.2774873643024,{"v":1.89014683399607E-5,"d":"1.89E-05"},{"v":9.48729301463327E-5,"d":"9.49E-05"},{"$f":"VLOOKUP(A3116,'[1]SD vs SY0.45'!$A$2:$E$20133,5,FALSE)","v":"GRIN2A"}]
["ENSGALG00000042784",498.393416993236,-2.71157049000701,0.479799447374747,-5.65146647175927,{"v":1.59084720856657E-8,"d":"1.59E-08"},{"v":1.43539493592875e-07,"d":"1.44E-07"},{"$f":"VLOOKUP(A3117,'[1]SD vs SY0.45'!$A$2:$E$20133,5,FALSE)","v":"TPPP"}]
["ENSGALG00000037587",1117.52349032154,-2.71667878632432,0.674537838074103,-4.02746685653811,{"v":5.63810120972455e-05,"d":"5.64E-05"},0.000254358240097251,{"$f":"VLOOKUP(A3118,'[1]SD vs SY0.45'!$A$2:$E$20133,5,FALSE)","v":"ENPP3"}]
["ENSGALG00000005524",42.2886143934234,-2.71669874677342,0.767143461624222,-3.54131773608751,3.98133820169857E-4,1.45703067381463E-3,{"$f":"VLOOKUP(A3119,'[1]SD vs SY0.45'!$A$2:$E$20133,5,FALSE)","v":"NTSR1"}]
["ENSGALG00000005327",870.77508866439,-2.72227705393316,0.545958234902139,-4.98623682161533,{"v":6.15666728364588e-07,"d":"6.16E-07"},{"v":4.17985060760449e-06,"d":"4.18E-06"},{"$f":"VLOOKUP(A3120,'[1]SD vs SY0.45'!$A$2:$E$20133,5,FALSE)","v":"RBP2"}]
["ENSGALG00000010187",2345.00668178826,-2.72589702859771,0.489925399918875,-5.563902237053,{"v":2.63807776371811e-08,"d":"2.64E-08"},{"v":2.30031384542461e-07,"d":"2.30E-07"},{"$f":"VLOOKUP(A3121,'[1]SD vs SY0.45'!$A$2:$E$20133,5,FALSE)","v":"SLC1A1"}]
["ENSGALG00000017137",6.63734114338039,-2.72865091221196,0.834872709042209,-3.26834364407761,0.00108178930715208,3.54019775709642E-3,{"$f":"VLOOKUP(A3122,'[1]SD vs SY0.45'!$A$2:$E$20133,5,FALSE)","v":"GJA3"}]
["ENSGALG00000005821",38.1840304902131,-2.72883872464712,0.322131172240711,-8.47120353384492,{"v":2.42870438201042E-17,"d":"2.43E-17"},{"v":7.982586595466e-16,"d":"7.98E-16"},{"$f":"VLOOKUP(A3123,'[1]SD vs SY0.45'!$A$2:$E$20133,5,FALSE)","v":"FAM219A"}]
["ENSGALG00000031105",1966.5892718731,-2.73252143629035,0.312917251081702,-8.73240905333435,{"v":2.49304699665691e-18,"d":"2.49E-18"},{"v":9.52672706173048e-17,"d":"9.53E-17"},{"$f":"VLOOKUP(A3124,'[1]SD vs SY0.45'!$A$2:$E$20133,5,FALSE)","v":"SLC4A4"}]
["ENSGALG00000051937",14.7790543891854,-2.74005887300886,0.532075573489383,-5.14975505272567,{"v":2.60826866413916e-07,"d":"2.61E-07"},{"v":1.90786568209455e-06,"d":"1.91E-06"},{"$f":"VLOOKUP(A3125,'[1]SD vs SY0.45'!$A$2:$E$20133,5,FALSE)","v":"NA"}]
["ENSGALG00000041470",409.676062245954,-2.74079340332023,0.485589806243806,-5.64425646518644,{"v":1.65896623717457e-08,"d":"1.66E-08"},{"v":1.49453087905462E-7,"d":"1.49E-07"},{"$f":"VLOOKUP(A3126,'[1]SD vs SY0.45'!$A$2:$E$20133,5,FALSE)","v":"PPARA"}]
["ENSGALG00000015345",704.410988493696,-2.74402099034735,0.433927235694979,-6.3236892377878,{"v":2.55391093852435e-10,"d":"2.55E-10"},{"v":3.0879589351963E-9,"d":"3.09E-09"},{"$f":"VLOOKUP(A3127,'[1]SD vs SY0.45'!$A$2:$E$20133,5,FALSE)","v":"NA"}]
["ENSGALG00000051086",5.01088509672476,-2.75065996706165,1.06136126334205,-2.59163402892648,0.009552132555928,0.0242315332287599,{"$f":"VLOOKUP(A3128,'[1]SD vs SY0.45'!$A$2:$E$20133,5,FALSE)","v":"NA"}]
["ENSGALG00000028214",16.3557908949049,-2.75261739275432,0.728180982648695,-3.78012809774558,0.000156747692907087,0.000636174635054976,{"$f":"VLOOKUP(A3129,'[1]SD vs SY0.45'!$A$2:$E$20133,5,FALSE)","v":"OTOP3"}]
["ENSGALG00000034077",394.483392692632,-2.75302311443277,0.394287668020145,-6.98227040236041,{"v":2.90447402326082E-12,"d":"2.90E-12"},{"v":4.76865815320451E-11,"d":"4.77E-11"},{"$f":"VLOOKUP(A3130,'[1]SD vs SY0.45'!$A$2:$E$20133,5,FALSE)","v":"KCNK5"}]
["ENSGALG00000013079",12.5956781119427,-2.75805849573839,0.945893180628719,-2.91582448443613,0.00354750004888191,0.0101598391286295,{"$f":"VLOOKUP(A3131,'[1]SD vs SY0.45'!$A$2:$E$20133,5,FALSE)","v":"NA"}]
["ENSGALG00000049586",44.2677420215032,-2.76096216719837,0.486671615257774,-5.67315224607044,{"v":1.4019353037763E-8,"d":"1.40E-08"},{"v":1.27887980728009e-07,"d":"1.28E-07"},{"$f":"VLOOKUP(A3132,'[1]SD vs SY0.45'!$A$2:$E$20133,5,FALSE)","v":"NA"}]
["ENSGALG00000006322",10187.1801554753,-2.76512690520947,0.841469668582298,-3.28606842106162,1.015963285754E-3,0.00334619315199941,{"$f":"VLOOKUP(A3133,'[1]SD vs SY0.45'!$A$2:$E$20133,5,FALSE)","v":"CLCA1"}]
["ENSGALG00000015113",22.4669363901389,-2.7721579382476,0.453683250194261,-6.11033785589526,{"v":9.94204418674602e-10,"d":"9.94E-10"},{"v":1.10033305076355E-8,"d":"1.10E-08"},{"$f":"VLOOKUP(A3134,'[1]SD vs SY0.45'!$A$2:$E$20133,5,FALSE)","v":"PTAR1"}]
["ENSGALG00000008786",837.00206015313,-2.77945474912444,0.161410935152889,-17.2197425564243,{"v":1.88826212255081e-66,"d":"1.89E-66"},{"v":2.73593446039925e-63,"d":"2.74E-63"},{"$f":"VLOOKUP(A3135,'[1]SD vs SY0.45'!$A$2:$E$20133,5,FALSE)","v":"NBEAL1"}]
["ENSGALG00000048321",91.2560972877268,-2.78197473367247,0.222020498502135,-12.5302607301628,{"v":5.09947541662177e-36,"d":"5.10E-36"},{"v":1.1223364439089E-33,"d":"1.12E-33"},{"$f":"VLOOKUP(A3136,'[1]SD vs SY0.45'!$A$2:$E$20133,5,FALSE)","v":"NA"}]
["ENSGALG00000010592",677.410808194399,-2.78421290486101,0.232969577380012,-11.9509720375184,{"v":6.41702592571224e-33,"d":"6.42E-33"},{"v":9.87370174958926e-31,"d":"9.87E-31"},{"$f":"VLOOKUP(A3137,'[1]SD vs SY0.45'!$A$2:$E$20133,5,FALSE)","v":"TET2"}]
["ENSGALG00000049485",3.75338424268829,-2.78465365515546,1.0939434397891,-2.54551885762238,0.010911547004393,0.0272051037842453,{"$f":"VLOOKUP(A3138,'[1]SD vs SY0.45'!$A$2:$E$20133,5,FALSE)","v":"NA"}]
["ENSGALG00000004116",4.81866363366226,-2.78701874027347,1.08381261633791,-2.57149501515357,0.010126047310485,0.0254608220661465,{"$f":"VLOOKUP(A3139,'[1]SD vs SY0.45'!$A$2:$E$20133,5,FALSE)","v":"TRPM8"}]
["ENSGALG00000012978",99.5481980927791,-2.78713546963582,0.330217373126197,-8.44030537597028,{"v":3.16509653936293e-17,"d":"3.17E-17"},{"v":1.02670771511013E-15,"d":"1.03E-15"},{"$f":"VLOOKUP(A3140,'[1]SD vs SY0.45'!$A$2:$E$20133,5,FALSE)","v":"CDYL2"}]
["ENSGALG00000011722",11.2731613812105,-2.79012713367871,0.930808543841614,-2.99753064380281,0.00272176493865488,0.00804544831492559,{"$f":"VLOOKUP(A3141,'[1]SD vs SY0.45'!$A$2:$E$20133,5,FALSE)","v":"STRA8"}]
["ENSGALG00000046177",19.0398175847743,-2.79292651796338,0.815124752411666,-3.42637922563399,0.000611685718763977,0.00213176580319689,{"$f":"VLOOKUP(A3142,'[1]SD vs SY0.45'!$A$2:$E$20133,5,FALSE)","v":"NA"}]
["ENSGALG00000054253",15.5763373837664,-2.79914479250928,0.755931478488778,-3.70290809704763,0.000213142110164304,0.000834850612621482,{"$f":"VLOOKUP(A3143,'[1]SD vs SY0.45'!$A$2:$E$20133,5,FALSE)","v":"NA"}]
["ENSGALG00000015375",31.3308419875067,-2.80323797198478,0.454078602427409,-6.17346414695441,{"v":6.68097058372916e-10,"d":"6.68E-10"},{"v":7.6022274567604e-09,"d":"7.60E-09"},{"$f":"VLOOKUP(A3144,'[1]SD vs SY0.45'!$A$2:$E$20133,5,FALSE)","v":"PLCXD2"}]
["ENSGALG00000009639",631.103871371441,-2.80643779754139,0.654985907282602,-4.28473004737568,{"v":1.8296120684189E-5,"d":"1.83E-05"},{"v":9.20470631759244e-05,"d":"9.20E-05"},{"$f":"VLOOKUP(A3145,'[1]SD vs SY0.45'!$A$2:$E$20133,5,FALSE)","v":"DDX60"}]
["ENSGALG00000025506",7.8351928580642,-2.81358723781818,0.715082403803804,-3.93463357908348,{"v":8.33237174854587e-05,"d":"8.33E-05"},0.000361014073241881,{"$f":"VLOOKUP(A3146,'[1]SD vs SY0.45'!$A$2:$E$20133,5,FALSE)","v":"gga-mir-1744"}]
["ENSGALG00000022887",162.928638367351,-2.82227059626888,0.392352106085106,-7.19320873393423,{"v":6.32860764477672e-13,"d":"6.33E-13"},{"v":1.16686639575538E-11,"d":"1.17E-11"},{"$f":"VLOOKUP(A3147,'[1]SD vs SY0.45'!$A$2:$E$20133,5,FALSE)","v":"KBTBD11"}]
["ENSGALG00000054498",51.5517421098543,-2.8259196091009,0.301964600814646,-9.3584466572475,{"v":8.09175164460528e-21,"d":"8.09E-21"},{"v":4.11378028785825e-19,"d":"4.11E-19"},{"$f":"VLOOKUP(A3148,'[1]SD vs SY0.45'!$A$2:$E$20133,5,FALSE)","v":"NA"}]
["ENSGALG00000038596",7.25820794272482,-2.83735667154103,0.834661194199269,-3.39941127161548,0.000675310869141057,0.00232922636019749,{"$f":"VLOOKUP(A3149,'[1]SD vs SY0.45'!$A$2:$E$20133,5,FALSE)","v":"C14orf132"}]
["ENSGALG00000013771",850.840453335023,-2.84219405375729,0.427396574990038,-6.65001598064639,{"v":2.93061198279314e-11,"d":"2.93E-11"},{"v":4.08945028449633e-10,"d":"4.09E-10"},{"$f":"VLOOKUP(A3150,'[1]SD vs SY0.45'!$A$2:$E$20133,5,FALSE)","v":"CRACD"}]
["ENSGALG00000009884",18.1157430469693,-2.84832339992227,0.570794350843553,-4.9901043969914,{"v":6.03466692775287e-07,"d":"6.03E-07"},{"v":4.1034319074243e-06,"d":"4.10E-06"},{"$f":"VLOOKUP(A3151,'[1]SD vs SY0.45'!$A$2:$E$20133,5,FALSE)","v":"SYT14"}]
["ENSGALG00000001239",464.499089796862,-2.85615046212257,0.200826423187724,-14.2219854179883,{"v":6.69268360203628e-46,"d":"6.69E-46"},{"v":3.06066075737511e-43,"d":"3.06E-43"},{"$f":"VLOOKUP(A3152,'[1]SD vs SY0.45'!$A$2:$E$20133,5,FALSE)","v":"SLC26A2"}]
["ENSGALG00000051827",5.1360142849448,-2.86196847852472,0.902019907279582,-3.17284403085535,1.50953595021578E-3,0.0047677205388559,{"$f":"VLOOKUP(A3153,'[1]SD vs SY0.45'!$A$2:$E$20133,5,FALSE)","v":"NA"}]
["ENSGALG00000047002",4.41791579653925,-2.87004519653559,1.15422105137249,-2.48656459100516,0.0128983152970275,0.0313830126041727,{"$f":"VLOOKUP(A3154,'[1]SD vs SY0.45'!$A$2:$E$20133,5,FALSE)","v":"NA"}]
["ENSGALG00000018534",181.340073808961,-2.87457561857951,0.816233153359723,-3.52175797656267,0.00042869532920138,0.0015535068130105,{"$f":"VLOOKUP(A3155,'[1]SD vs SY0.45'!$A$2:$E$20133,5,FALSE)","v":"AQP7"}]
["ENSGALG00000047408",4.70046686510638,-2.88155087701436,1.0673562962594,-2.69970851075024,0.00694002517821165,0.0182689201776784,{"$f":"VLOOKUP(A3156,'[1]SD vs SY0.45'!$A$2:$E$20133,5,FALSE)","v":"NA"}]
["ENSGALG00000012873",227.000453473225,-2.88440205618105,0.984672128875162,-2.9293020200298,0.0033972415270208,0.0097729712823148,{"$f":"VLOOKUP(A3157,'[1]SD vs SY0.45'!$A$2:$E$20133,5,FALSE)","v":"SERPINB5"}]
["ENSGALG00000051990",17.9592193064946,-2.88491682449998,0.624444352960675,-4.6199742392124,{"v":3.83787692300982E-6,"d":"3.84E-06"},{"v":2.23473429539088E-5,"d":"2.23E-05"},{"$f":"VLOOKUP(A3158,'[1]SD vs SY0.45'!$A$2:$E$20133,5,FALSE)","v":"NA"}]
["ENSGALG00000049274",4.61473168459512,-2.89652151263608,0.986537628366462,-2.93604767760579,0.00332423225637186,0.00958196721510901,{"$f":"VLOOKUP(A3159,'[1]SD vs SY0.45'!$A$2:$E$20133,5,FALSE)","v":"NA"}]
["ENSGALG00000033619",11.2787286914422,-2.90050538228185,0.682567178138062,-4.24940646896321,{"v":2.14337680339693e-05,"d":"2.14E-05"},0.000106324942883487,{"$f":"VLOOKUP(A3160,'[1]SD vs SY0.45'!$A$2:$E$20133,5,FALSE)","v":"NA"}]
["ENSGALG00000001936",1128.27434037906,-2.90078890938134,0.392602979358546,-7.38860645968808,{"v":1.48375601713369e-13,"d":"1.48E-13"},{"v":3.01731764560274e-12,"d":"3.02E-12"},{"$f":"VLOOKUP(A3161,'[1]SD vs SY0.45'!$A$2:$E$20133,5,FALSE)","v":"MYO7B"}]
["ENSGALG00000049699",27.5180287313849,-2.90771454928661,0.372363172244196,-7.80881345424711,{"v":5.77288689863951e-15,"d":"5.77E-15"},{"v":1.45468383342964e-13,"d":"1.45E-13"},{"$f":"VLOOKUP(A3162,'[1]SD vs SY0.45'!$A$2:$E$20133,5,FALSE)","v":"NA"}]
["ENSGALG00000001935",5.70898506450021,-2.92890985493708,0.909128447553207,-3.22166781032959,0.00127446804853434,0.0041005136861337,{"$f":"VLOOKUP(A3163,'[1]SD vs SY0.45'!$A$2:$E$20133,5,FALSE)","v":"NA"}]
["ENSGALG00000053627",558.386469671537,-2.93764396782062,0.167541279501077,-17.5338518159147,{"v":7.90298263023234e-69,"d":"7.90E-69"},{"v":1.71761448739812E-65,"d":"1.72E-65"},{"$f":"VLOOKUP(A3164,'[1]SD vs SY0.45'!$A$2:$E$20133,5,FALSE)","v":"NA"}]
["ENSGALG00000016483",1583.58345665811,-2.94948541813344,0.79683476634138,-3.70150192075056,0.000214327033626773,0.000839302732808268,{"$f":"VLOOKUP(A3165,'[1]SD vs SY0.45'!$A$2:$E$20133,5,FALSE)","v":"LOC421965"}]
["ENSGALG00000020869",33.0393058367005,-2.95570609611231,0.450649193445104,-6.5587737404269,{"v":5.42520440254575e-11,"d":"5.43E-11"},{"v":7.25599822503269e-10,"d":"7.26E-10"},{"$f":"VLOOKUP(A3166,'[1]SD vs SY0.45'!$A$2:$E$20133,5,FALSE)","v":"NA"}]
["ENSGALG00000046093",41.7096370654636,-2.96600461210607,0.344774524440343,-8.60273715675673,{"v":7.78370951440522e-18,"d":"7.78E-18"},{"v":2.80197427177978e-16,"d":"2.80E-16"},{"$f":"VLOOKUP(A3167,'[1]SD vs SY0.45'!$A$2:$E$20133,5,FALSE)","v":"NA"}]
["ENSGALG00000025677",3.78103707607021,-2.9769761103608,1.1583903204336,-2.56992488442625,0.010172056841048,0.0255580277883383,{"$f":"VLOOKUP(A3168,'[1]SD vs SY0.45'!$A$2:$E$20133,5,FALSE)","v":"SCARNA8"}]
["ENSGALG00000029264",9.49911933515986,-3.00543986731152,0.749576679944521,-4.00951623459519,{"v":6.08432700618164e-05,"d":"6.08E-05"},0.000271809336219117,{"$f":"VLOOKUP(A3169,'[1]SD vs SY0.45'!$A$2:$E$20133,5,FALSE)","v":"PI15"}]
["ENSGALG00000005824",1513.0147970666,-3.01992061505429,0.853660020112686,-3.53761514408939,0.000403758096488572,0.0014751296540548,{"$f":"VLOOKUP(A3170,'[1]SD vs SY0.45'!$A$2:$E$20133,5,FALSE)","v":"SUSD2"}]
["ENSGALG00000047328",19.4524501040645,-3.02449919583804,0.533902031314716,-5.66489546479214,{"v":1.47114195256182E-8,"d":"1.47E-08"},{"v":1.33710115677953e-07,"d":"1.34E-07"},{"$f":"VLOOKUP(A3171,'[1]SD vs SY0.45'!$A$2:$E$20133,5,FALSE)","v":"NA"}]
["ENSGALG00000008188",198.489177429724,-3.03709039031577,0.474568504409997,-6.39968805787397,{"v":1.55694709773778e-10,"d":"1.56E-10"},{"v":1.94670168235155e-09,"d":"1.95E-09"},{"$f":"VLOOKUP(A3172,'[1]SD vs SY0.45'!$A$2:$E$20133,5,FALSE)","v":"TRIM36"}]
["ENSGALG00000015016",83.7267112030273,-3.03795222431757,0.28119761564058,-10.8036201423579,{"v":3.30894479025244e-27,"d":"3.31E-27"},{"v":3.19625683711773e-25,"d":"3.20E-25"},{"$f":"VLOOKUP(A3173,'[1]SD vs SY0.45'!$A$2:$E$20133,5,FALSE)","v":"SLC22A15"}]
["ENSGALG00000045131",3.54919796958222,-3.03887579675702,1.28430663859798,-2.36616062350532,0.0179736445699,0.0418406424068618,{"$f":"VLOOKUP(A3174,'[1]SD vs SY0.45'!$A$2:$E$20133,5,FALSE)","v":"NA"}]
["ENSGALG00000004246",338.792680473678,-3.04744464189614,0.505883298100227,-6.02400722328724,{"v":1.7015076717287E-9,"d":"1.70E-09"},{"v":1.81832291876748e-08,"d":"1.82E-08"},{"$f":"VLOOKUP(A3175,'[1]SD vs SY0.45'!$A$2:$E$20133,5,FALSE)","v":"SLC6A4"}]
["ENSGALG00000047701",8.36126261666904,-3.05331244547291,1.11426837401799,-2.74019483696091,0.0061402772681071,0.0164298246938409,{"$f":"VLOOKUP(A3176,'[1]SD vs SY0.45'!$A$2:$E$20133,5,FALSE)","v":"C7orf57"}]
["ENSGALG00000049414",10398.2600657072,-3.05438633578333,0.867353918626282,-3.5214994366093,0.000429113579404303,1.55437454272971E-3,{"$f":"VLOOKUP(A3177,'[1]SD vs SY0.45'!$A$2:$E$20133,5,FALSE)","v":"CYP2C23a"}]
["ENSGALG00000053629",24.5386914670209,-3.05530619516561,0.95358736651277,-3.2040128701985,1.35526418161453E-3,0.00432922622188717,{"$f":"VLOOKUP(A3178,'[1]SD vs SY0.45'!$A$2:$E$20133,5,FALSE)","v":"NA"}]
["ENSGALG00000048514",5.65790583902093,-3.06419636984734,1.09243314005863,-2.80492806148567,0.00503278109440578,0.0138020449350841,{"$f":"VLOOKUP(A3179,'[1]SD vs SY0.45'!$A$2:$E$20133,5,FALSE)","v":"NA"}]
["ENSGALG00000001895",873.045559030811,-3.08244571638971,0.21962050339214,-14.0353276164106,{"v":9.4757519347013e-45,"d":"9.48E-45"},{"v":4.01841216801589e-42,"d":"4.02E-42"},{"$f":"VLOOKUP(A3180,'[1]SD vs SY0.45'!$A$2:$E$20133,5,FALSE)","v":"PANK3"}]
["ENSGALG00000041456",148.695807520146,-3.11392791082534,0.379377850048131,-8.20798554905163,{"v":2.24930277326647e-16,"d":"2.25E-16"},{"v":6.74286677910071E-15,"d":"6.74E-15"},{"$f":"VLOOKUP(A3181,'[1]SD vs SY0.45'!$A$2:$E$20133,5,FALSE)","v":"SLC35G1"}]
["ENSGALG00000006076",156.761288701863,-3.11634344408386,0.23529160411582,-13.2446011229108,{"v":4.84850947171635e-40,"d":"4.85E-40"},{"v":1.33811165372591E-37,"d":"1.34E-37"},{"$f":"VLOOKUP(A3182,'[1]SD vs SY0.45'!$A$2:$E$20133,5,FALSE)","v":"RASGEF1C"}]
["ENSGALG00000013205",412.306733638496,-3.13243752142854,0.365903306513268,-8.56083414844724,{"v":1.12053803782636E-17,"d":"1.12E-17"},{"v":3.93591815428019e-16,"d":"3.94E-16"},{"$f":"VLOOKUP(A3183,'[1]SD vs SY0.45'!$A$2:$E$20133,5,FALSE)","v":"ETNK1"}]
["ENSGALG00000010032",2749.00146681031,-3.13755024431108,0.705153566666573,-4.44945667529276,{"v":8.60877929641563e-06,"d":"8.61E-06"},{"v":4.67606515547575E-5,"d":"4.68E-05"},{"$f":"VLOOKUP(A3184,'[1]SD vs SY0.45'!$A$2:$E$20133,5,FALSE)","v":"NA"}]
["ENSGALG00000045936",302.287715475596,-3.14111966320165,0.514119745416507,-6.10970438541883,{"v":9.98158523201559e-10,"d":"9.98E-10"},{"v":1.10400650400162E-8,"d":"1.10E-08"},{"$f":"VLOOKUP(A3185,'[1]SD vs SY0.45'!$A$2:$E$20133,5,FALSE)","v":"FAM83F"}]
["ENSGALG00000053919",2.85429108292047,-3.14323419153072,1.26008348915057,-2.49446502441643,0.0126147157852118,0.030831046297087,{"$f":"VLOOKUP(A3186,'[1]SD vs SY0.45'!$A$2:$E$20133,5,FALSE)","v":"LRRC18"}]
["ENSGALG00000025681",14.3620061153574,-3.15533361055557,0.789112518805929,-3.99858516416666,{"v":6.37222527459078e-05,"d":"6.37E-05"},0.000283505324588817,{"$f":"VLOOKUP(A3187,'[1]SD vs SY0.45'!$A$2:$E$20133,5,FALSE)","v":"SNORD123"}]
["ENSGALG00000048881",3.49646909936637,-3.15612301482173,1.24278649694283,-2.53955367441276,0.0110994012673866,0.0275929782436448,{"$f":"VLOOKUP(A3188,'[1]SD vs SY0.45'!$A$2:$E$20133,5,FALSE)","v":"NA"}]
["ENSGALG00000034675",52.4643832539025,-3.16401686961371,0.903117769911365,-3.50343772985913,4.59294027461607E-4,1.64926585201879E-3,{"$f":"VLOOKUP(A3189,'[1]SD vs SY0.45'!$A$2:$E$20133,5,FALSE)","v":"XKR9"}]
["ENSGALG00000012755",13.698050424092,-3.16748394156378,0.596091489338624,-5.31375468064167,{"v":1.07389169155093E-7,"d":"1.07E-07"},{"v":8.44875784660455e-07,"d":"8.45E-07"},{"$f":"VLOOKUP(A3190,'[1]SD vs SY0.45'!$A$2:$E$20133,5,FALSE)","v":"IGF-I,IGF-I"}]
["ENSGALG00000007133",20.8257600647019,-3.17163649395581,0.59981357923099,-5.28770371958253,{"v":1.23861382853195e-07,"d":"1.24E-07"},{"v":9.62277865803624e-07,"d":"9.62E-07"},{"$f":"VLOOKUP(A3191,'[1]SD vs SY0.45'!$A$2:$E$20133,5,FALSE)","v":"SMIM10L1"}]
["ENSGALG00000054719",23.7700513098723,-3.18035401272832,0.485899795729164,-6.54528781588751,{"v":5.93809124385695e-11,"d":"5.94E-11"},{"v":7.8696628021473e-10,"d":"7.87E-10"},{"$f":"VLOOKUP(A3192,'[1]SD vs SY0.45'!$A$2:$E$20133,5,FALSE)","v":"NA"}]
["ENSGALG00000028658",13.7051853839518,-3.18192804904514,0.627033760504218,-5.07457213545639,{"v":3.88368882554073e-07,"d":"3.88E-07"},{"v":2.73051749331487e-06,"d":"2.73E-06"},{"$f":"VLOOKUP(A3193,'[1]SD vs SY0.45'!$A$2:$E$20133,5,FALSE)","v":"KBTBD3"}]
["ENSGALG00000014372",266.001206812529,-3.18457301199137,1.04645914256618,-3.04318905770367,0.00234085217504499,0.00701730978750125,{"$f":"VLOOKUP(A3194,'[1]SD vs SY0.45'!$A$2:$E$20133,5,FALSE)","v":"SLC34A2"}]
["ENSGALG00000012187",851.941120612026,-3.18622060357351,0.248227484515481,-12.8358896670638,{"v":1.03210479445644E-37,"d":"1.03E-37"},{"v":2.42502784611003e-35,"d":"2.43E-35"},{"$f":"VLOOKUP(A3195,'[1]SD vs SY0.45'!$A$2:$E$20133,5,FALSE)","v":"MGAT5"}]
["ENSGALG00000049573",13.379765470137,-3.18732310143751,0.754396298267878,-4.22499833145487,{"v":2.38942548397903e-05,"d":"2.39E-05"},0.000117557840661979,{"$f":"VLOOKUP(A3196,'[1]SD vs SY0.45'!$A$2:$E$20133,5,FALSE)","v":"NA"}]
["ENSGALG00000047346",20.7253520511575,-3.18741322968553,0.51223578240482,-6.22255090169885,{"v":4.8913601179744e-10,"d":"4.89E-10"},{"v":5.69632139124052e-09,"d":"5.70E-09"},{"$f":"VLOOKUP(A3197,'[1]SD vs SY0.45'!$A$2:$E$20133,5,FALSE)","v":"NA"}]
["ENSGALG00000004173",6.26299622189724,-3.18861451759239,0.980748437507608,-3.25120529959311,0.00114916843187439,0.00373608667258789,{"$f":"VLOOKUP(A3198,'[1]SD vs SY0.45'!$A$2:$E$20133,5,FALSE)","v":"NA"}]
["ENSGALG00000049474",3.8785950814714,-3.21332030982699,1.35373011544943,-2.37367867727474,0.0176118695520529,0.0411085482482942,{"$f":"VLOOKUP(A3199,'[1]SD vs SY0.45'!$A$2:$E$20133,5,FALSE)","v":"NA"}]
["ENSGALG00000041565",36.5458562263495,-3.21606044030067,0.415105016403041,-7.7475826916485,{"v":9.36583423508061e-15,"d":"9.37E-15"},{"v":2.29034823973765e-13,"d":"2.29E-13"},{"$f":"VLOOKUP(A3200,'[1]SD vs SY0.45'!$A$2:$E$20133,5,FALSE)","v":"NA"}]
["ENSGALG00000015324",1.91831345259627,-3.23165632617739,1.38666491063909,-2.33052434036711,0.0197784550951251,0.0454637756132919,{"$f":"VLOOKUP(A3201,'[1]SD vs SY0.45'!$A$2:$E$20133,5,FALSE)","v":"FAM172BP"}]
["ENSGALG00000015154",221.511575012533,-3.2488524751949,0.555882791957185,-5.84449190045288,{"v":5.08116762584291e-09,"d":"5.08E-09"},{"v":5.02824482131649e-08,"d":"5.03E-08"},{"$f":"VLOOKUP(A3202,'[1]SD vs SY0.45'!$A$2:$E$20133,5,FALSE)","v":"TRPM6"}]
["ENSGALG00000052076",2.99254932411722,-3.24968939914729,1.41741166996028,-2.29269270743225,0.0218657026892982,0.0495218148572134,{"$f":"VLOOKUP(A3203,'[1]SD vs SY0.45'!$A$2:$E$20133,5,FALSE)","v":"LOC112530989"}]
["ENSGALG00000052725",105.155393226331,-3.2747538439719,0.25875837615086,-12.6556438198649,{"v":1.041185024473e-36,"d":"1.04E-36"},{"v":2.35104987279378e-34,"d":"2.35E-34"},{"$f":"VLOOKUP(A3204,'[1]SD vs SY0.45'!$A$2:$E$20133,5,FALSE)","v":"NA"}]
["ENSGALG00000025667",4.34403475899972,-3.28386730621745,1.0178980500285,-3.22612594269681,0.00125478129309949,0.00404390775590748,{"$f":"VLOOKUP(A3205,'[1]SD vs SY0.45'!$A$2:$E$20133,5,FALSE)","v":"SNORA66"}]
["ENSGALG00000016258",67.0605398043875,-3.31059609947419,0.383525885518537,-8.63200170960607,{"v":6.02874832246016e-18,"d":"6.03E-18"},{"v":2.20744189901265e-16,"d":"2.21E-16"},{"$f":"VLOOKUP(A3206,'[1]SD vs SY0.45'!$A$2:$E$20133,5,FALSE)","v":"SYTL5"}]
["ENSGALG00000051737",2.65533151596035,-3.32219274405361,1.44274353024822,-2.30269113976344,0.0212962270665534,0.048402287582505,{"$f":"VLOOKUP(A3207,'[1]SD vs SY0.45'!$A$2:$E$20133,5,FALSE)","v":"LOC112533548"}]
["ENSGALG00000015730",176.734321202014,-3.3583702106258,1.32318552517538,-2.53809473178803,0.0111457809823383,0.0276845277057022,{"$f":"VLOOKUP(A3208,'[1]SD vs SY0.45'!$A$2:$E$20133,5,FALSE)","v":"TMPRSS15"}]
["ENSGALG00000013846",203.552794402731,-3.35914479356652,0.204000937461009,-16.4663203776137,{"v":6.40496898240365e-61,"d":"6.40E-61"},{"v":5.86122082616065E-58,"d":"5.86E-58"},{"$f":"VLOOKUP(A3209,'[1]SD vs SY0.45'!$A$2:$E$20133,5,FALSE)","v":"ARFGEF3"}]
["ENSGALG00000047827",401.770141666899,-3.38458819829732,0.464752319091661,-7.28256333376098,{"v":3.27536084675097e-13,"d":"3.28E-13"},{"v":6.27879813037036e-12,"d":"6.28E-12"},{"$f":"VLOOKUP(A3210,'[1]SD vs SY0.45'!$A$2:$E$20133,5,FALSE)","v":"TMEM86A"}]
["ENSGALG00000047052",6.8810468019777,-3.38726367381095,1.42911173436981,-2.37018813319353,0.0177790359743067,0.0414764656494393,{"$f":"VLOOKUP(A3211,'[1]SD vs SY0.45'!$A$2:$E$20133,5,FALSE)","v":"NA"}]
["ENSGALG00000048426",5.46814355506812,-3.40611548044308,1.04002922089074,-3.27501902064434,1.05654859656914E-3,3.4666544118099E-3,{"$f":"VLOOKUP(A3212,'[1]SD vs SY0.45'!$A$2:$E$20133,5,FALSE)","v":"NA"}]
["ENSGALG00000046652",3.56656515328736,-3.41098280092105,1.3854568814235,-2.46199130890051,0.0138168014818058,0.0333193796621578,{"$f":"VLOOKUP(A3213,'[1]SD vs SY0.45'!$A$2:$E$20133,5,FALSE)","v":"NA"}]
["ENSGALG00000002466",999.873185637726,-3.43838267015791,0.781865298659051,-4.39766629374006,{"v":1.09421042645202e-05,"d":"1.09E-05"},{"v":5.80562608627444e-05,"d":"5.81E-05"},{"$f":"VLOOKUP(A3214,'[1]SD vs SY0.45'!$A$2:$E$20133,5,FALSE)","v":"SLC2A5"}]
["ENSGALG00000027760",8.49157683319226,-3.44478174212695,0.829493701144778,-4.1528726949618,{"v":3.28327411317962e-05,"d":"3.28E-05"},1.56013552193565E-4,{"$f":"VLOOKUP(A3215,'[1]SD vs SY0.45'!$A$2:$E$20133,5,FALSE)","v":"gga-mir-6572"}]
["ENSGALG00000002142",101.336284222184,-3.45702758245757,0.243106746635523,-14.2202042119403,{"v":6.86523089305972e-46,"d":"6.87E-46"},{"v":3.06066075737511e-43,"d":"3.06E-43"},{"$f":"VLOOKUP(A3216,'[1]SD vs SY0.45'!$A$2:$E$20133,5,FALSE)","v":"DGKQ"}]
["ENSGALG00000019175",117.701579063181,-3.46490173977962,1.2178725893173,-2.84504452286092,4.44052157953519E-3,0.0123838791862349,{"$f":"VLOOKUP(A3217,'[1]SD vs SY0.45'!$A$2:$E$20133,5,FALSE)","v":"LOC418544"}]
["ENSGALG00000050849",4.6476576786493,-3.48320823387865,1.00770324314158,-3.45658134732159,0.000547074057595649,0.00192823365891254,{"$f":"VLOOKUP(A3218,'[1]SD vs SY0.45'!$A$2:$E$20133,5,FALSE)","v":"NA"}]
["ENSGALG00000049649",7.01038400051424,-3.48791090555133,1.0383506709019,-3.35908764090436,0.00078200262569806,2.64784413885339E-3,{"$f":"VLOOKUP(A3219,'[1]SD vs SY0.45'!$A$2:$E$20133,5,FALSE)","v":"NA"}]
["ENSGALG00000048303",4.66359182128497,-3.50632776631811,1.03175250377951,-3.39841944019885,0.000677764206859578,0.00233537382981834,{"$f":"VLOOKUP(A3220,'[1]SD vs SY0.45'!$A$2:$E$20133,5,FALSE)","v":"NA"}]
["ENSGALG00000013753",27.5068815653948,-3.50948367440938,0.719534051323577,-4.87743932056268,{"v":1.07471893690877e-06,"d":"1.07E-06"},{"v":6.97201901539644e-06,"d":"6.97E-06"},{"$f":"VLOOKUP(A3221,'[1]SD vs SY0.45'!$A$2:$E$20133,5,FALSE)","v":"DOK6"}]
["ENSGALG00000041179",22.0735818422151,-3.51603188640815,0.501474979554591,-7.0113804870805,{"v":2.35978019206935e-12,"d":"2.36E-12"},{"v":3.94135429390104e-11,"d":"3.94E-11"},{"$f":"VLOOKUP(A3222,'[1]SD vs SY0.45'!$A$2:$E$20133,5,FALSE)","v":"NA"}]
["ENSGALG00000051507",2.86139172438123,-3.52967266073834,1.31188484920695,-2.69053542532493,0.00713374606106212,0.0187221800398018,{"$f":"VLOOKUP(A3223,'[1]SD vs SY0.45'!$A$2:$E$20133,5,FALSE)","v":"NA"}]
["ENSGALG00000053079",3.15878471368115,-3.57039967401645,1.3683595476865,-2.60925549871227,0.00907394643753121,0.0231604090882788,{"$f":"VLOOKUP(A3224,'[1]SD vs SY0.45'!$A$2:$E$20133,5,FALSE)","v":"NA"}]
["ENSGALG00000016707",748.778466607593,-3.58850351387289,0.333573866562011,-10.7577477542168,{"v":5.4485518859419e-27,"d":"5.45E-27"},{"v":5.14858541526477e-25,"d":"5.15E-25"},{"$f":"VLOOKUP(A3225,'[1]SD vs SY0.45'!$A$2:$E$20133,5,FALSE)","v":"CLIC5"}]
["ENSGALG00000016959",39.7691977814988,-3.5934985988605,0.534595110894992,-6.72190696402825,{"v":1.79361469732062e-11,"d":"1.79E-11"},{"v":2.59231743493879e-10,"d":"2.59E-10"},{"$f":"VLOOKUP(A3226,'[1]SD vs SY0.45'!$A$2:$E$20133,5,FALSE)","v":"DGKH"}]
["ENSGALG00000052265",1.51249293940026,-3.61670983736639,1.5029409580568,-2.40642176791997,0.0161096539805394,0.0380897387643531,{"$f":"VLOOKUP(A3227,'[1]SD vs SY0.45'!$A$2:$E$20133,5,FALSE)","v":"NA"}]
["ENSGALG00000053109",6.41406176669139,-3.61909047327308,1.58016021096287,-2.29033135258342,0.0220021156505802,0.0497594673278666,{"$f":"VLOOKUP(A3228,'[1]SD vs SY0.45'!$A$2:$E$20133,5,FALSE)","v":"NA"}]
["ENSGALG00000054690",9.32977168825757,-3.62158580702339,0.8915867247614,-4.06195573177984,{"v":4.86633065890999e-05,"d":"4.87E-05"},2.22894866086586E-4,{"$f":"VLOOKUP(A3229,'[1]SD vs SY0.45'!$A$2:$E$20133,5,FALSE)","v":"NA"}]
["ENSGALG00000047368",3.28031100096977,-3.62722807811612,1.47422913496349,-2.46042354752807,0.0138773135104805,0.0334560246820196,{"$f":"VLOOKUP(A3230,'[1]SD vs SY0.45'!$A$2:$E$20133,5,FALSE)","v":"NA"}]
["ENSGALG00000008048",2.84018373486436,-3.63132994893146,1.5103832104051,-2.4042441175955,0.0162059472140724,0.0382635529890111,{"$f":"VLOOKUP(A3231,'[1]SD vs SY0.45'!$A$2:$E$20133,5,FALSE)","v":"CPA2"}]
["ENSGALG00000009958",333.648596767857,-3.66766105902284,0.491354016550998,-7.4643962102265,{"v":8.36824451114999e-14,"d":"8.37E-14"},{"v":1.78307190337457E-12,"d":"1.78E-12"},{"$f":"VLOOKUP(A3232,'[1]SD vs SY0.45'!$A$2:$E$20133,5,FALSE)","v":"ABCG8"}]
["ENSGALG00000051776",2.00760153487977,-3.70246109343231,1.49016408754024,-2.4845995983864,0.0129697221663441,0.0315346887576876,{"$f":"VLOOKUP(A3233,'[1]SD vs SY0.45'!$A$2:$E$20133,5,FALSE)","v":"NA"}]
["ENSGALG00000051640",17.7721005626977,-3.71478761536594,0.645650470289116,-5.75355828936746,{"v":8.73842989294901e-09,"d":"8.74E-09"},{"v":8.31154707596852E-8,"d":"8.31E-08"},{"$f":"VLOOKUP(A3234,'[1]SD vs SY0.45'!$A$2:$E$20133,5,FALSE)","v":"NA"}]
["ENSGALG00000051915",4.27810888964826,-3.73875144880478,1.23553937895109,-3.02600751744457,0.00247806141722849,0.00738407092739533,{"$f":"VLOOKUP(A3235,'[1]SD vs SY0.45'!$A$2:$E$20133,5,FALSE)","v":"NA"}]
["ENSGALG00000048228",2.16101853905209,-3.7526205085502,1.46159498057022,-2.56748316629151,0.0102439763150996,0.0257201467423301,{"$f":"VLOOKUP(A3236,'[1]SD vs SY0.45'!$A$2:$E$20133,5,FALSE)","v":"NA"}]
["ENSGALG00000052333",43.6176688786008,-3.78955042012854,0.447789758242532,-8.46278940144058,{"v":2.61056887706456e-17,"d":"2.61E-17"},{"v":8.51594016238677e-16,"d":"8.52E-16"},{"$f":"VLOOKUP(A3237,'[1]SD vs SY0.45'!$A$2:$E$20133,5,FALSE)","v":"NA"}]
["ENSGALG00000054595",2.03863590022421,-3.78973846486805,1.49350703547359,-2.53747613828034,0.0111654979514656,0.0277295404773792,{"$f":"VLOOKUP(A3238,'[1]SD vs SY0.45'!$A$2:$E$20133,5,FALSE)","v":"NA"}]
["ENSGALG00000016491",9354.82706816312,-3.7933158173816,0.943637386562581,-4.01988716364835,{"v":5.82260219731451E-5,"d":"5.82E-05"},0.000261528246976769,{"$f":"VLOOKUP(A3239,'[1]SD vs SY0.45'!$A$2:$E$20133,5,FALSE)","v":"APOB"}]
["ENSGALG00000049257",10.1690078940573,-3.81880962685828,1.11761928641129,-3.41691457304803,6.33351502267412E-4,0.00219889827674191,{"$f":"VLOOKUP(A3240,'[1]SD vs SY0.45'!$A$2:$E$20133,5,FALSE)","v":"NA"}]
["ENSGALG00000009383",1.60266139238245,-3.83305971713207,1.53868400965416,-2.49112858331036,0.0127338026393818,0.0310696921822805,{"$f":"VLOOKUP(A3241,'[1]SD vs SY0.45'!$A$2:$E$20133,5,FALSE)","v":"SAMD7"}]
["ENSGALG00000043386",1.82812053690858,-3.83652025920655,1.56563036001501,-2.45046363253313,0.0142672374286576,0.034258314759297,{"$f":"VLOOKUP(A3242,'[1]SD vs SY0.45'!$A$2:$E$20133,5,FALSE)","v":"PEX5L"}]
["ENSGALG00000051292",3.83410386934284,-3.85539507372274,1.44451947429013,-2.66898102956859,0.00760817472658581,0.0198092343901188,{"$f":"VLOOKUP(A3243,'[1]SD vs SY0.45'!$A$2:$E$20133,5,FALSE)","v":"NA"}]
["ENSGALG00000016884",3128.646923291,-3.89262293912127,1.10614616355382,-3.51908551272743,0.000433037105363764,0.0015656511022998,{"$f":"VLOOKUP(A3244,'[1]SD vs SY0.45'!$A$2:$E$20133,5,FALSE)","v":"SLC15A1"}]
["ENSGALG00000053563",2.58452557136979,-3.9006682138546,1.6331838944259,-2.38838273336376,0.0169227079700118,0.039702485963378,{"$f":"VLOOKUP(A3245,'[1]SD vs SY0.45'!$A$2:$E$20133,5,FALSE)","v":"NA"}]
["ENSGALG00000047560",2.70433976602794,-3.90914413129818,1.39232218245384,-2.80764336053934,0.0049905461312629,0.0136970206131441,{"$f":"VLOOKUP(A3246,'[1]SD vs SY0.45'!$A$2:$E$20133,5,FALSE)","v":"NA"}]
["ENSGALG00000020390",9.48740612246291,-3.91117681763933,1.66165176701066,-2.35378849846235,0.0185831812129958,0.0430405983415955,{"$f":"VLOOKUP(A3247,'[1]SD vs SY0.45'!$A$2:$E$20133,5,FALSE)","v":"SPIA5"}]
["ENSGALG00000053415",1.38063458191319,-3.91973140677592,1.65014001191283,-2.37539322631914,0.0175302634450851,0.040940052453955,{"$f":"VLOOKUP(A3248,'[1]SD vs SY0.45'!$A$2:$E$20133,5,FALSE)","v":"NA"}]
["ENSGALG00000008874",539.212652879329,-3.95283266263392,0.745874335945864,-5.29959602058331,{"v":1.16059187257486E-7,"d":"1.16E-07"},{"v":9.07338619085391e-07,"d":"9.07E-07"},{"$f":"VLOOKUP(A3249,'[1]SD vs SY0.45'!$A$2:$E$20133,5,FALSE)","v":"SLC13A1"}]
["ENSGALG00000052903",2.28584956857896,-4.0018447295907,1.6276633444875,-2.45864400838416,0.0139462831094595,0.0335943508484583,{"$f":"VLOOKUP(A3250,'[1]SD vs SY0.45'!$A$2:$E$20133,5,FALSE)","v":"NA"}]
["ENSGALG00000049455",2.06965196517385,-4.01626800085841,1.51611993780945,-2.64904372055239,0.00807198884140556,0.0208680164719574,{"$f":"VLOOKUP(A3251,'[1]SD vs SY0.45'!$A$2:$E$20133,5,FALSE)","v":"NA"}]
["ENSGALG00000027599",1.49717187649075,-4.0163746846955,1.55977306329544,-2.57497374407136,0.0100247696206717,0.0252646281192374,{"$f":"VLOOKUP(A3252,'[1]SD vs SY0.45'!$A$2:$E$20133,5,FALSE)","v":"NA"}]
["ENSGALG00000011796",921.96219842393,-4.01802651310515,1.25750888989879,-3.19522712354626,1.39720838665403E-3,0.00444850068096567,{"$f":"VLOOKUP(A3253,'[1]SD vs SY0.45'!$A$2:$E$20133,5,FALSE)","v":"NA"}]
["ENSGALG00000050782",1.59001988558114,-4.03766409479871,1.49782948247441,-2.69567673893593,0.00702458010670639,0.0184747200597949,{"$f":"VLOOKUP(A3254,'[1]SD vs SY0.45'!$A$2:$E$20133,5,FALSE)","v":"NA"}]
["ENSGALG00000052324",8.07643734217562,-4.04345814210922,1.25639678938858,-3.21829709870315,0.0012895417069521,0.00414287909437846,{"$f":"VLOOKUP(A3255,'[1]SD vs SY0.45'!$A$2:$E$20133,5,FALSE)","v":"NA"}]
["ENSGALG00000017875",10.894377461619,-4.05476239879937,0.826152489394802,-4.90800723940164,{"v":9.20064592522692e-07,"d":"9.20E-07"},{"v":6.04302819396113e-06,"d":"6.04E-06"},{"$f":"VLOOKUP(A3256,'[1]SD vs SY0.45'!$A$2:$E$20133,5,FALSE)","v":"NA"}]
["ENSGALG00000050689",3.86370696222854,-4.0731435682388,1.40645170999503,-2.89604224538445,0.00377901523375009,0.0107292191164619,{"$f":"VLOOKUP(A3257,'[1]SD vs SY0.45'!$A$2:$E$20133,5,FALSE)","v":"NA"}]
["ENSGALG00000039177",148.195635777668,-4.08292983938092,0.244945134430549,-16.6687525713583,{"v":2.21161967399513E-62,"d":"2.21E-62"},{"v":2.13630173731963e-59,"d":"2.14E-59"},{"$f":"VLOOKUP(A3258,'[1]SD vs SY0.45'!$A$2:$E$20133,5,FALSE)","v":"NA"}]
["ENSGALG00000009468",1.66882765047022,-4.09230986344722,1.67915029181224,-2.43713137734119,0.0148042996356326,0.0353526105980971,{"$f":"VLOOKUP(A3259,'[1]SD vs SY0.45'!$A$2:$E$20133,5,FALSE)","v":"LOC425001"}]
["ENSGALG00000035751",4.07215031199325,-4.09846992396824,1.43373593544535,-2.85859468444945,0.00425522096671661,0.0119106502495125,{"$f":"VLOOKUP(A3260,'[1]SD vs SY0.45'!$A$2:$E$20133,5,FALSE)","v":"ONECUT2"}]
["ENSGALG00000047958",1.75712716174202,-4.12107663091931,1.54795551031461,-2.66227071996515,0.00776154265873409,0.020177921980773,{"$f":"VLOOKUP(A3261,'[1]SD vs SY0.45'!$A$2:$E$20133,5,FALSE)","v":"NA"}]
["ENSGALG00000014967",7.95948862862758,-4.14276117651246,0.986633455962287,-4.1988857680403,{"v":2.68231583343583E-5,"d":"2.68E-05"},1.30381396130693E-4,{"$f":"VLOOKUP(A3262,'[1]SD vs SY0.45'!$A$2:$E$20133,5,FALSE)","v":"SV2C"}]
["ENSGALG00000054465",11.7555671744625,-4.15886375604272,1.51052828410608,-2.75325116371714,5.90066079541286E-3,0.015879088260307,{"$f":"VLOOKUP(A3263,'[1]SD vs SY0.45'!$A$2:$E$20133,5,FALSE)","v":"NA"}]
["ENSGALG00000025513",1.9931150840242,-4.16066975859971,1.51222712006667,-2.75135242807726,0.0059349753823242,0.0159368983741268,{"$f":"VLOOKUP(A3264,'[1]SD vs SY0.45'!$A$2:$E$20133,5,FALSE)","v":"gga-mir-1598"}]
["ENSGALG00000050082",1.545484137843,-4.16679907603592,1.71137462342894,-2.43476736127315,0.0149013667176621,0.0355502281997792,{"$f":"VLOOKUP(A3265,'[1]SD vs SY0.45'!$A$2:$E$20133,5,FALSE)","v":"NA"}]
["ENSGALG00000046758",11.1720461396497,-4.17123895141111,1.2919056120331,-3.22874899881171,0.00124332968224485,0.0040104363199423,{"$f":"VLOOKUP(A3266,'[1]SD vs SY0.45'!$A$2:$E$20133,5,FALSE)","v":"NA"}]
["ENSGALG00000032097",2.94819132247931,-4.18006913891591,1.37562130164839,-3.03867723908243,0.00237619283104497,0.00711099221228554,{"$f":"VLOOKUP(A3267,'[1]SD vs SY0.45'!$A$2:$E$20133,5,FALSE)","v":"TBX20"}]
["ENSGALG00000032558",2.23237923217844,-4.24242799004365,1.44247908132884,-2.94106725356144,0.0032708351043381,0.00944057270237825,{"$f":"VLOOKUP(A3268,'[1]SD vs SY0.45'!$A$2:$E$20133,5,FALSE)","v":"INSC"}]
["ENSGALG00000055096",2.68533259532153,-4.25816352533858,1.4218323089063,-2.99484228812753,0.00274586777182952,0.00811393659904825,{"$f":"VLOOKUP(A3269,'[1]SD vs SY0.45'!$A$2:$E$20133,5,FALSE)","v":"NA"}]
["ENSGALG00000007109",1620.45026444652,-4.25846962827393,1.2635593919103,-3.37021722567058,0.00075108949449539,0.0025556150764758,{"$f":"VLOOKUP(A3270,'[1]SD vs SY0.45'!$A$2:$E$20133,5,FALSE)","v":"APOA4"}]
["ENSGALG00000017930",1.91441999914803,-4.26047438212745,1.63502383360935,-2.60575674467226,0.00916715407947124,0.0233674399618482,{"$f":"VLOOKUP(A3271,'[1]SD vs SY0.45'!$A$2:$E$20133,5,FALSE)","v":"7SK"}]
["ENSGALG00000006302",2.04251597957177,-4.29112020544233,1.64888183182382,-2.60244252961168,0.00925623275051931,0.0235634141776397,{"$f":"VLOOKUP(A3272,'[1]SD vs SY0.45'!$A$2:$E$20133,5,FALSE)","v":"NA"}]
["ENSGALG00000053523",1.80271912968908,-4.32529806500225,1.57189786628015,-2.75164064904417,0.00592975500595121,0.0159302611694181,{"$f":"VLOOKUP(A3273,'[1]SD vs SY0.45'!$A$2:$E$20133,5,FALSE)","v":"NA"}]
["ENSGALG00000031737",466.314673071123,-4.35304793975101,0.425296187579301,-10.2353326149658,{"v":1.37721120240528e-24,"d":"1.38E-24"},{"v":1.0233150075308E-22,"d":"1.02E-22"},{"$f":"VLOOKUP(A3274,'[1]SD vs SY0.45'!$A$2:$E$20133,5,FALSE)","v":"NA"}]
["ENSGALG00000008704",750.240686571627,-4.38238863133449,1.21074373858181,-3.61958397279656,0.000295077044412487,0.00111677229269419,{"$f":"VLOOKUP(A3275,'[1]SD vs SY0.45'!$A$2:$E$20133,5,FALSE)","v":"CUBN"}]
["ENSGALG00000003751",165.00696089566,-4.38708998697209,1.26427583240838,-3.47004180141204,0.000520377371142997,1.84310477736062E-3,{"$f":"VLOOKUP(A3276,'[1]SD vs SY0.45'!$A$2:$E$20133,5,FALSE)","v":"ASAH2"}]
["ENSGALG00000012260",284.437377439168,-4.3988244630827,1.42869740900118,-3.07890560686183,0.00207762498340232,0.00633415142669055,{"$f":"VLOOKUP(A3277,'[1]SD vs SY0.45'!$A$2:$E$20133,5,FALSE)","v":"LCT"}]
["ENSGALG00000025300",3.10463863789249,-4.40776943236097,1.45980646932626,-3.0194203991953,0.00253258835013979,0.00752977319491801,{"$f":"VLOOKUP(A3278,'[1]SD vs SY0.45'!$A$2:$E$20133,5,FALSE)","v":"gga-mir-1772"}]
["ENSGALG00000050216",22.6742190870465,-4.42118610830179,0.659809436546699,-6.70070154110151,{"v":2.07421303738702e-11,"d":"2.07E-11"},{"v":2.96825860749368E-10,"d":"2.97E-10"},{"$f":"VLOOKUP(A3279,'[1]SD vs SY0.45'!$A$2:$E$20133,5,FALSE)","v":"NA"}]
["ENSGALG00000051582",4.66319149831305,-4.42149820353835,1.40970889754902,-3.13646186898994,1.70999671454939E-3,0.00531492900891495,{"$f":"VLOOKUP(A3280,'[1]SD vs SY0.45'!$A$2:$E$20133,5,FALSE)","v":"NA"}]
["ENSGALG00000041014",5.57810426802579,-4.45854753876083,1.1248769817163,-3.9635867843594,{"v":7.38320058863878e-05,"d":"7.38E-05"},0.000323191612876794,{"$f":"VLOOKUP(A3281,'[1]SD vs SY0.45'!$A$2:$E$20133,5,FALSE)","v":"NA"}]
["ENSGALG00000015018",4.01349519487332,-4.47250596536788,1.50690788895374,-2.96800222372794,0.00299742162077054,0.00875198877990585,{"$f":"VLOOKUP(A3282,'[1]SD vs SY0.45'!$A$2:$E$20133,5,FALSE)","v":"CASQ2"}]
["ENSGALG00000032003",1.99115818020671,-4.47831598985885,1.74619211855176,-2.56461814383462,0.0103289408593218,0.0258998117567102,{"$f":"VLOOKUP(A3283,'[1]SD vs SY0.45'!$A$2:$E$20133,5,FALSE)","v":"gga-mir-16-2"}]
["ENSGALG00000051960",1.58981851007063,-4.49231784755648,1.78438112589213,-2.51757754123883,0.0118164956370131,0.029138194531378,{"$f":"VLOOKUP(A3284,'[1]SD vs SY0.45'!$A$2:$E$20133,5,FALSE)","v":"NA"}]
["ENSGALG00000054156",2.41879999681961,-4.50645537813264,1.6393544722477,-2.7489206601876,0.00597918571608492,0.0160407501999026,{"$f":"VLOOKUP(A3285,'[1]SD vs SY0.45'!$A$2:$E$20133,5,FALSE)","v":"NA"}]
["ENSGALG00000055018",2.20374027283244,-4.54094326343483,1.68240377274741,-2.69908052810614,0.00695313492383333,0.0183006595399167,{"$f":"VLOOKUP(A3286,'[1]SD vs SY0.45'!$A$2:$E$20133,5,FALSE)","v":"NA"}]
["ENSGALG00000053729",6.75742868615531,-4.54289683017734,1.11753740775642,-4.06509598573322,{"v":4.80126981077465e-05,"d":"4.80E-05"},2.20495716323135E-4,{"$f":"VLOOKUP(A3287,'[1]SD vs SY0.45'!$A$2:$E$20133,5,FALSE)","v":"NA"}]
["ENSGALG00000037997",2.31812910941036,-4.54800934015771,1.62556382560436,-2.79780422553807,5.14512880353463E-3,0.0140857116213284,{"$f":"VLOOKUP(A3288,'[1]SD vs SY0.45'!$A$2:$E$20133,5,FALSE)","v":"NA"}]
["ENSGALG00000014853",2.0619042517366,-4.56505939143457,1.53400636170491,-2.97590642737682,0.00292123980587954,0.00856374919993719,{"$f":"VLOOKUP(A3289,'[1]SD vs SY0.45'!$A$2:$E$20133,5,FALSE)","v":"CLVS2"}]
["ENSGALG00000034813",4.20207636857054,-4.6111085436361,1.503830339379,-3.06624252942006,0.00216767408455317,0.00657066759207216,{"$f":"VLOOKUP(A3290,'[1]SD vs SY0.45'!$A$2:$E$20133,5,FALSE)","v":"NA"}]
["ENSGALG00000048606",11.8282672779757,-4.6261802106876,1.46019818694823,-3.16818651881508,0.00153393074943354,0.00483423127431592,{"$f":"VLOOKUP(A3291,'[1]SD vs SY0.45'!$A$2:$E$20133,5,FALSE)","v":"NA"}]
["ENSGALG00000025640",1.88339258388681,-4.75096615171929,1.50072367046079,-3.16578344516983,1.54665892092435E-3,0.00486552535880436,{"$f":"VLOOKUP(A3292,'[1]SD vs SY0.45'!$A$2:$E$20133,5,FALSE)","v":"U4"}]
["ENSGALG00000016299",149.493183663122,-4.7580641390141,0.537224292270111,-8.85675537661984,{"v":8.23770351131602e-19,"d":"8.24E-19"},{"v":3.33090583607562e-17,"d":"3.33E-17"},{"$f":"VLOOKUP(A3293,'[1]SD vs SY0.45'!$A$2:$E$20133,5,FALSE)","v":"FAM83B"}]
["ENSGALG00000025330",2.10997603604419,-4.76665312454634,1.43791544670205,-3.3149745595118,0.000916514653565688,0.00306038799338326,{"$f":"VLOOKUP(A3294,'[1]SD vs SY0.45'!$A$2:$E$20133,5,FALSE)","v":"gga-mir-1783"}]
["ENSGALG00000050856",5.61618960160977,-4.78059948775893,1.55449893192561,-3.07533147149676,0.00210268722695793,0.00640230677643053,{"$f":"VLOOKUP(A3295,'[1]SD vs SY0.45'!$A$2:$E$20133,5,FALSE)","v":"NA"}]
["ENSGALG00000053956",2.19343421039806,-4.81396160585823,1.48094266504896,-3.25060633302713,1.15159195000464E-3,0.00374256621209918,{"$f":"VLOOKUP(A3296,'[1]SD vs SY0.45'!$A$2:$E$20133,5,FALSE)","v":"NA"}]
["ENSGALG00000048408",2.51334706097511,-4.81450843283357,1.45914011447969,-3.29955182854413,9.68393439508201E-4,0.00321325510166586,{"$f":"VLOOKUP(A3297,'[1]SD vs SY0.45'!$A$2:$E$20133,5,FALSE)","v":"NA"}]
["ENSGALG00000049077",2.97545715603478,-4.87137332793491,1.40211472686583,-3.47430437366845,0.000512179683534019,0.00181740166481755,{"$f":"VLOOKUP(A3298,'[1]SD vs SY0.45'!$A$2:$E$20133,5,FALSE)","v":"NA"}]
["ENSGALG00000049623",2.58811013724378,-5.14400995729773,1.39298965807697,-3.69278402568979,0.000221812391129445,0.000865302231224516,{"$f":"VLOOKUP(A3299,'[1]SD vs SY0.45'!$A$2:$E$20133,5,FALSE)","v":"NA"}]
["ENSGALG00000048887",53.3494357571433,-5.39380733983195,1.39348777347752,-3.87072455352188,0.00010851234827201,0.000457715720379775,{"$f":"VLOOKUP(A3300,'[1]SD vs SY0.45'!$A$2:$E$20133,5,FALSE)","v":"NA"}]
["ENSGALG00000030684",4.69597514601057,-5.67714430104391,1.74360110665488,-3.25598801203767,0.0011299852240128,3.68129156640633E-3,{"$f":"VLOOKUP(A3301,'[1]SD vs SY0.45'!$A$2:$E$20133,5,FALSE)","v":"NA"}]
["ENSGALG00000053686",4.61204272285263,-5.93593496638008,1.33603410261675,-4.44295168420775,{"v":8.8733097111005E-6,"d":"8.87E-06"},{"v":4.80773561691818e-05,"d":"4.81E-05"},{"$f":"VLOOKUP(A3302,'[1]SD vs SY0.45'!$A$2:$E$20133,5,FALSE)","v":"NA"}]
["ENSGALG00000020827",6.60630663407142,-6.01492524244874,1.73482450171705,-3.46716641164304,0.000525976151269727,0.00186066070033098,{"$f":"VLOOKUP(A3303,'[1]SD vs SY0.45'!$A$2:$E$20133,5,FALSE)","v":"ATP13A4"}]
["ENSGALG00000041392",112.191031633457,-6.32422226610782,1.83005046806873,-3.4557638581311,0.000548735825606291,1.93369878391094E-3,{"$f":"VLOOKUP(A3304,'[1]SD vs SY0.45'!$A$2:$E$20133,5,FALSE)","v":"NA"}]
["ENSGALG00000035914",146.652454760933,-6.68556348633619,1.53486803227926,-4.35579043001385,{"v":1.3258758640707E-5,"d":"1.33E-05"},{"v":6.8732867169342e-05,"d":"6.87E-05"},{"$f":"VLOOKUP(A3305,'[1]SD vs SY0.45'!$A$2:$E$20133,5,FALSE)","v":"NA"}]
["ENSGALG00000013743",1082.25050525092,-7.36166246937621,1.5579459687383,-4.72523605894887,{"v":2.29848196898377e-06,"d":"2.30E-06"},{"v":1.3983102167502e-05,"d":"1.40E-05"},{"$f":"VLOOKUP(A3306,'[1]SD vs SY0.45'!$A$2:$E$20133,5,FALSE)","v":"ENPP7"}]

{"sheet":"SS0.45 vs SY0.45","index":3,"n_rows":587,"n_cols":5,"rows_kept":587}
["gene_id","log2FoldChange","pvalue","padj","gene"]
["ENSGALG00000034973",1.58613236269049,{"v":3.48886032014428e-16,"d":"3.49E-16"},{"v":5.15514000904518e-12,"d":"5.16E-12"},"FZD7"]
["ENSGALG00000032903",1.94719096586279,{"v":1.76118380777142e-15,"d":"1.76E-15"},{"v":1.30116259718152e-11,"d":"1.30E-11"},"RTN4RL2"]
["ENSGALG00000009958",-2.93646605431593,{"v":4.38770625225534e-15,"d":"4.39E-15"},{"v":2.16109158611083E-11,"d":"2.16E-11"},"ABCG8"]
["ENSGALG00000037869",1.16026866019277,{"v":9.2393395890427e-15,"d":"9.24E-15"},{"v":3.41301204419237e-11,"d":"3.41E-11"},"LOC107055115"]
["ENSGALG00000036498",1.49221539254012,{"v":1.38656994586319E-13,"d":"1.39E-13"},{"v":4.0975915040149e-10,"d":"4.10E-10"},"EHD2"]
["ENSGALG00000037257",2.30869189220827,{"v":8.76143364924751e-13,"d":"8.76E-13"},{"v":2.15764906002135e-09,"d":"2.16E-09"},"HLX"]
["ENSGALG00000026146",2.41858967187226,{"v":1.13527803438038e-11,"d":"1.14E-11"},{"v":2.39640974800065E-8,"d":"2.40E-08"},"CRLF1"]
["ENSGALG00000036125",1.16528868459193,{"v":1.61491286445159e-11,"d":"1.61E-11"},{"v":2.98274406064208e-08,"d":"2.98E-08"},"SHE"]
["ENSGALG00000042103",2.10283627184491,{"v":2.71772437424293e-11,"d":"2.72E-11"},{"v":4.01570953538135e-08,"d":"4.02E-08"},"C5H11ORF96"]
["ENSGALG00000043576",1.09171755271659,{"v":6.74543426624292e-11,"d":"6.75E-11"},{"v":9.06095788345504e-08,"d":"9.06E-08"},"AGAP3"]
["ENSGALG00000041834",1.38179452411591,{"v":8.8612138701499e-11,"d":"8.86E-11"},{"v":1.09111080121112E-7,"d":"1.09E-07"},"AEBP1"]
["ENSGALG00000023612",1.16600421865512,{"v":2.29162462180945e-10,"d":"2.29E-10"},{"v":2.41864610084689e-07,"d":"2.42E-07"},"LZTS2"]
["ENSGALG00000040180",2.69620461719985,{"v":2.76741288148068E-10,"d":"2.77E-10"},{"v":2.72608618245057e-07,"d":"2.73E-07"},"CEBPD"]
["ENSGALG00000049001",1.93667430933377,{"v":3.49246236572371e-10,"d":"3.49E-10"},{"v":3.22528899474584e-07,"d":"3.23E-07"},"ANKRD39"]
["ENSGALG00000043829",1.23628192756647,{"v":3.83867845575353e-10,"d":"3.84E-10"},{"v":3.33648899189495e-07,"d":"3.34E-07"},"EXTL1"]
["ENSGALG00000011902",1.45810740971512,{"v":4.59942545397544e-10,"d":"4.60E-10"},{"v":3.77561725044117e-07,"d":"3.78E-07"},"TAGLN"]
["ENSGALG00000050508",1.2080129791799,{"v":6.61982639287983e-10,"d":"6.62E-10"},{"v":4.65189725909743e-07,"d":"4.65E-07"},"NOS3"]
["ENSGALG00000013073",-1.69907140670942,{"v":6.92621411072979e-10,"d":"6.93E-10"},{"v":4.65189725909743e-07,"d":"4.65E-07"},"UPP1"]
["ENSGALG00000027330",1.13609831198087,{"v":6.40791383805534e-10,"d":"6.41E-10"},{"v":4.65189725909743e-07,"d":"4.65E-07"},"SYNPO"]
["ENSGALG00000027070",1.01106672259154,{"v":7.38444803542049e-10,"d":"7.38E-10"},{"v":4.74402626832057e-07,"d":"4.74E-07"},"TIMP2"]
["ENSGALG00000011468",1.74170181239641,{"v":8.84720541039612e-10,"d":"8.85E-10"},{"v":5.44692946433388e-07,"d":"5.45E-07"},"IGFBP5"]
["ENSGALG00000003529",1.1328215084487,{"v":1.04204238515008E-9,"d":"1.04E-09"},{"v":6.158887313191e-07,"d":"6.16E-07"},"SYNC"]
["ENSGALG00000033522",1.13979889741343,{"v":1.12547532469898E-9,"d":"1.13E-09"},{"v":6.39616284528928E-7,"d":"6.40E-07"},"AOC3"]
["ENSGALG00000034326",1.70006070195567,{"v":1.21483866381488E-9,"d":"1.21E-09"},{"v":6.64831707278837E-7,"d":"6.65E-07"},"TMEM158"]
["ENSGALG00000030932",1.74991085695729,{"v":1.5232566230396e-09,"d":"1.52E-09"},{"v":8.030859474786e-07,"d":"8.03E-07"},"NKX2-3"]
["ENSGALG00000055075",1.07009444759521,{"v":1.57617030839736E-9,"d":"1.58E-09"},{"v":8.030859474786e-07,"d":"8.03E-07"},"FMNL3"]
["ENSGALG00000036731",1.21333248215682,{"v":2.576472775811e-09,"d":"2.58E-09"},{"v":1.22806328178656e-06,"d":"1.23E-06"},"GAS2L1"]
["ENSGALG00000007728",1.18030925125675,{"v":2.67882652711897E-9,"d":"2.68E-09"},{"v":1.23694814889719e-06,"d":"1.24E-06"},"PRODH"]
["ENSGALG00000011986",-2.39703276393665,{"v":4.23550358846132e-09,"d":"4.24E-09"},{"v":1.78810860066013E-6,"d":"1.79E-06"},"FABP2"]
["ENSGALG00000008933",-1.22362188273861,{"v":7.36409929664317e-09,"d":"7.36E-09"},{"v":2.79004951813332e-06,"d":"2.79E-06"},"CASP7"]
["ENSGALG00000029999",1.17393478096963,{"v":7.24673137561658e-09,"d":"7.25E-09"},{"v":2.79004951813332e-06,"d":"2.79E-06"},"CCDC102A"]
["ENSGALG00000030064",1.03916343682972,{"v":8.5670483811037e-09,"d":"8.57E-09"},{"v":3.16466767197971e-06,"d":"3.16E-06"},"FYTTD1L"]
["ENSGALG00000038458",1.37857981003322,{"v":1.04675027615307E-8,"d":"1.05E-08"},{"v":3.7723858732775e-06,"d":"3.77E-06"},"LOXL1"]
["ENSGALG00000034737",1.37506785105821,{"v":1.23276522432042e-08,"d":"1.23E-08"},{"v":4.33698546537108e-06,"d":"4.34E-06"},"GLIS2"]
["ENSGALG00000040291",1.11393807927519,{"v":1.39456738826839E-8,"d":"1.39E-08"},{"v":4.6832108475122e-06,"d":"4.68E-06"},"LOC107056274"]
["ENSGALG00000027980",2.05748794229355,{"v":1.60932217078791e-08,"d":"1.61E-08"},{"v":5.28429875456935E-6,"d":"5.28E-06"},"NANOS1"]
["ENSGALG00000021634",1.35038584860656,{"v":1.65574977424123e-08,"d":"1.66E-08"},{"v":5.31855623134532e-06,"d":"5.32E-06"},"MAP7D1"]
["ENSGALG00000049976",1.67829782083165,{"v":2.08104924809974E-8,"d":"2.08E-08"},{"v":6.40616326873369e-06,"d":"6.41E-06"},"AMIGO1"]
["ENSGALG00000045936",-2.03436542566452,{"v":2.45752662982621e-08,"d":"2.46E-08"},{"v":7.20547937744066e-06,"d":"7.21E-06"},"FAM83F"]
["ENSGALG00000003726",1.10181099318762,{"v":2.48700222150429e-08,"d":"2.49E-08"},{"v":7.20547937744066e-06,"d":"7.21E-06"},"EGFLAM"]
["ENSGALG00000004833",1.06103293871237,{"v":3.00490174442553e-08,"d":"3.00E-08"},{"v":8.53854387992917e-06,"d":"8.54E-06"},"P3H1"]
["ENSGALG00000030587",1.15877085169197,{"v":3.20547220270491e-08,"d":"3.21E-08"},{"v":8.93661457871089e-06,"d":"8.94E-06"},"SPTBB4L"]
["ENSGALG00000029694",1.17765561516922,{"v":3.37435072496462e-08,"d":"3.37E-08"},{"v":9.0967174497536e-06,"d":"9.10E-06"},"SNTA1"]
["ENSGALG00000044343",-1.2719739089291,{"v":3.38602774591532E-8,"d":"3.39E-08"},{"v":9.0967174497536e-06,"d":"9.10E-06"},"UTRIM39L"]
["ENSGALG00000002103",1.39338722150068,{"v":3.73306366683588E-8,"d":"3.73E-08"},{"v":9.84995513235125e-06,"d":"9.85E-06"},"TPPP3"]
["ENSGALG00000031067",1.0280329669454,{"v":4.94863646172631e-08,"d":"4.95E-08"},{"v":1.23933987048251e-05,"d":"1.24E-05"},"TMEM132A"]
["ENSGALG00000026471",1.08888675008056,{"v":6.10366597320825e-08,"d":"6.10E-08"},{"v":1.43155187968453e-05,"d":"1.43E-05"},"CRIP2"]
["ENSGALG00000053999",1.67459883169906,{"v":6.46553112591366e-08,"d":"6.47E-08"},{"v":1.46976442948462e-05,"d":"1.47E-05"},"VPS37D"]
["ENSGALG00000002467",1.50521522633211,{"v":6.65845672380476E-8,"d":"6.66E-08"},{"v":1.49068722046878E-5,"d":"1.49E-05"},"MTSS2"]
["ENSGALG00000049504",1.52035862876252,{"v":7.59940621073083E-8,"d":"7.60E-08"},{"v":1.65130626720233e-05,"d":"1.65E-05"},"LOC107049937"]
["ENSGALG00000015294",-1.37196467084052,{"v":9.41929371311741e-08,"d":"9.42E-08"},{"v":1.96027442119751e-05,"d":"1.96E-05"},"ADGRG7"]
["ENSGALG00000026055",1.1478341097155,{"v":1.02584541887524E-7,"d":"1.03E-07"},{"v":2.07642354921926E-5,"d":"2.08E-05"},"PALM"]
["ENSGALG00000035202",1.04010878542238,{"v":1.04431845628619E-7,"d":"1.04E-07"},{"v":2.08524993379523E-5,"d":"2.09E-05"},"AP3B2"]
["ENSGALG00000038850",1.18966012773961,{"v":1.09581283731065e-07,"d":"1.10E-07"},{"v":2.13049085317134e-05,"d":"2.13E-05"},"WNK2"]
["ENSGALG00000014421",-1.30041197077935,{"v":1.17510386007289e-07,"d":"1.18E-07"},{"v":2.22606854313295E-5,"d":"2.23E-05"},"LCORL"]
["ENSGALG00000052302",1.16251806511544,{"v":1.17113619408771E-7,"d":"1.17E-07"},{"v":2.22606854313295E-5,"d":"2.23E-05"},"PDE4DIP"]
["ENSGALG00000012932",-1.51629802217722,{"v":1.19402974865482E-7,"d":"1.19E-07"},{"v":2.23328905900299E-5,"d":"2.23E-05"},"FGD4"]
["ENSGALG00000026983",1.1858040519121,{"v":1.42814925806523e-07,"d":"1.43E-07"},{"v":2.59619578225016e-05,"d":"2.60E-05"},"CHRD"]
["ENSGALG00000048178",1.25299251851077,{"v":1.44076918072898e-07,"d":"1.44E-07"},{"v":2.59619578225016e-05,"d":"2.60E-05"},"SLC27A3"]
["ENSGALG00000016884",-2.89468493646329,{"v":1.92760612346952e-07,"d":"1.93E-07"},{"v":3.27382851498686e-05,"d":"3.27E-05"},"SLC15A1"]
["ENSGALG00000003765",-1.79586663793595,{"v":1.97412624537932E-7,"d":"1.97E-07"},{"v":3.31473743201418e-05,"d":"3.31E-05"},"A1CF"]
["ENSGALG00000011865",1.19114786532524,{"v":2.28859306140239e-07,"d":"2.29E-07"},{"v":3.75736123058686E-5,"d":"3.76E-05"},"SMTN"]
["ENSGALG00000041634",1.4435332648657,{"v":2.33632794334774E-7,"d":"2.34E-07"},{"v":3.79358040559408e-05,"d":"3.79E-05"},"ACTG2"]
["ENSGALG00000027462",1.34236837121891,{"v":2.44930192448838e-07,"d":"2.45E-07"},{"v":3.93379187350438e-05,"d":"3.93E-05"},"P3H4"]
["ENSGALG00000008014",1.37609714032993,{"v":2.76800850619903e-07,"d":"2.77E-07"},{"v":4.35107379655285e-05,"d":"4.35E-05"},"CEBPB"]
["ENSGALG00000033941",1.26251037219706,{"v":2.8872230650321E-7,"d":"2.89E-07"},{"v":4.44391750092858e-05,"d":"4.44E-05"},"RORC"]
["ENSGALG00000035619",-1.97152366444208,{"v":3.02326054641187e-07,"d":"3.02E-07"},{"v":4.60532967358575e-05,"d":"4.61E-05"},"MTTP"]
["ENSGALG00000028236",1.35838665421618,{"v":3.13829192476554E-7,"d":"3.14E-07"},{"v":4.73177566125873e-05,"d":"4.73E-05"},"PRRX2"]
["ENSGALG00000007964",1.03893127082246,{"v":3.72329182798639e-07,"d":"3.72E-07"},{"v":5.44706535151751E-5,"d":"5.45E-05"},"CASTOR1"]
["ENSGALG00000026119",1.35250770259067,{"v":4.73777981855644e-07,"d":"4.74E-07"},{"v":6.79664413582427e-05,"d":"6.80E-05"},"MN1"]
["ENSGALG00000016285",-1.91662946735134,{"v":5.12208500440147e-07,"d":"5.12E-07"},{"v":7.20799314524153e-05,"d":"7.21E-05"},"GK"]
["ENSGALG00000026159",1.20297313350975,{"v":5.25500678858297e-07,"d":"5.26E-07"},{"v":7.25682058954224e-05,"d":"7.26E-05"},"PDLIM7"]
["ENSGALG00000001956",1.08645147654915,{"v":6.13116426993838e-07,"d":"6.13E-07"},{"v":8.23582575023723e-05,"d":"8.24E-05"},"OLFML3"]
["ENSGALG00000050931",1.42098486261933,{"v":6.25750369203553e-07,"d":"6.26E-07"},{"v":8.25543522799259e-05,"d":"8.26E-05"},"NACAD"]
["ENSGALG00000026449",1.35817363764169,{"v":6.22825524599905e-07,"d":"6.23E-07"},{"v":8.25543522799259e-05,"d":"8.26E-05"},"H2A2BL"]
["ENSGALG00000042836",1.40706734977544,{"v":6.44506988523523e-07,"d":"6.45E-07"},{"v":8.42764182515361e-05,"d":"8.43E-05"},"KCNH2"]
["ENSGALG00000048115",1.09206743586185,{"v":7.20205169554716e-07,"d":"7.20E-07"},{"v":9.33486981170218e-05,"d":"9.33E-05"},"OLFM2"]
["ENSGALG00000012166",-1.31397310120673,{"v":7.64622852898729e-07,"d":"7.65E-07"},{"v":9.62786366832998e-05,"d":"9.63E-05"},"SLC35F5"]
["ENSGALG00000034560",1.06641414885457,{"v":7.74697748638668e-07,"d":"7.75E-07"},{"v":9.62786366832998e-05,"d":"9.63E-05"},"SCARF2"]
["ENSGALG00000005340",-1.36687050023791,{"v":9.08893443800406e-07,"d":"9.09E-07"},0.00010830491552899,"SLC35A3"]
["ENSGALG00000026499",1.08215211354413,{"v":9.72665731190656e-07,"d":"9.73E-07"},0.000114064355905342,"TNFRSF25"]
["ENSGALG00000009955",-1.81987972222848,{"v":1.00326228672571e-06,"d":"1.00E-06"},1.16726012194166E-4,"ABCG5"]
["ENSGALG00000037826",1.51321070760807,{"v":1.02637831288244e-06,"d":"1.03E-06"},0.000118482546493367,"TESPA1"]
["ENSGALG00000047356",1.14924603613882,{"v":1.1658325245845e-06,"d":"1.17E-06"},1.31498789185195E-4,"VASN"]
["ENSGALG00000007014",1.62594825957584,{"v":1.30451996075824e-06,"d":"1.30E-06"},0.000143847663732565,"PYROXD2"]
["ENSGALG00000041898",1.28289793932059,{"v":1.52337398339897e-06,"d":"1.52E-06"},0.000163111405642776,"FAM43A"]
["ENSGALG00000039032",2.16279820882341,{"v":1.56411626385297E-6,"d":"1.56E-06"},0.000164189727707261,"FJX1"]
["ENSGALG00000005647",-1.1903588500642,{"v":1.56678069888494E-6,"d":"1.57E-06"},0.000164189727707261,"ABCD3"]
["ENSGALG00000036142",1.08451686700491,{"v":1.68365287165031e-06,"d":"1.68E-06"},0.000174047008311468,"LOXL3"]
["ENSGALG00000040521",1.21724903470645,{"v":1.76108914843269E-6,"d":"1.76E-06"},0.000180707314286399,"HOXA2"]
["ENSGALG00000003131",-1.29377793241284,{"v":1.81420997233264e-06,"d":"1.81E-06"},1.83607990076624E-4,"DGKE"]
["ENSGALG00000001926",1.34440625130908,{"v":1.83781488967562e-06,"d":"1.84E-06"},0.000184731651767666,"HSPB1"]
["ENSGALG00000055006",1.19157706089227,{"v":1.86544312681615E-6,"d":"1.87E-06"},0.000185637677422433,"AHDC1"]
["ENSGALG00000012171",-1.1132981178898,{"v":1.89879527420999E-6,"d":"1.90E-06"},0.000185805291203489,"GPR39"]
["ENSGALG00000033558",-1.64059288472263,{"v":1.98648434172003e-06,"d":"1.99E-06"},0.00019080556154931,"RFK"]
["ENSGALG00000054723",1.1843031716719,{"v":1.9719784155799E-6,"d":"1.97E-06"},0.00019080556154931,"AMOTL2"]
["ENSGALG00000000690",-1.91128409932368,{"v":2.19235525109573e-06,"d":"2.19E-06"},0.000205026842975889,"GDPD4"]
["ENSGALG00000008609",1.00262953603912,{"v":2.30243688384991e-06,"d":"2.30E-06"},0.000213967342111738,"PTK7"]
["ENSGALG00000002371",1.1762562902533,{"v":2.3762295654961e-06,"d":"2.38E-06"},0.000219444800373565,"RUSC2"]
["ENSGALG00000039571",1.45801912965193,{"v":2.6868319928932e-06,"d":"2.69E-06"},0.000240609875921151,"PRPH"]
["ENSGALG00000040672",1.11418513686982,{"v":2.74351256536337e-06,"d":"2.74E-06"},2.42463865952678E-4,"IGFBP4"]
["ENSGALG00000007582",1.03016116929214,{"v":2.91928452107082e-06,"d":"2.92E-06"},0.0002551033357567,"DPYSL3"]
["ENSGALG00000054913",1.21897407518121,{"v":3.00305167198048e-06,"d":"3.00E-06"},0.000256491858411466,"LOC107056280"]
["ENSGALG00000002142",-1.85205642623382,{"v":2.99910156610018E-6,"d":"3.00E-06"},0.000256491858411466,"DGKQ"]
["ENSGALG00000014759",-1.44108005949569,{"v":3.43667002578816E-6,"d":"3.44E-06"},2.87426128495147E-4,"STYK1"]
["ENSGALG00000011086",1.37490986524579,{"v":3.60954409108981e-06,"d":"3.61E-06"},0.000299632716235635,"ACTA1"]
["ENSGALG00000007666",1.40373690181583,{"v":3.76784785700722e-06,"d":"3.77E-06"},0.00030589956008318,"KCNIP2,KCNIP2"]
["ENSGALG00000033279",2.98282928284264,{"v":3.82768283689778e-06,"d":"3.83E-06"},0.000307833789242456,"RAX"]
["ENSGALG00000014860",-1.1134917757253,{"v":4.00821525129759e-06,"d":"4.01E-06"},0.000318416067490178,"YES1"]
["ENSGALG00000042275",1.09716354653854,{"v":4.44798042868214e-06,"d":"4.45E-06"},0.000349592334118124,"TLE1L"]
["ENSGALG00000015662",-1.62813720117811,{"v":4.64811133842401e-06,"d":"4.65E-06"},3.58558473973897E-4,"LIPI"]
["ENSGALG00000044485",1.32821706628469,{"v":4.62436944025891e-06,"d":"4.62E-06"},3.58558473973897E-4,"F2RL3"]
["ENSGALG00000053653",1.75923361648141,{"v":4.69889772553794e-06,"d":"4.70E-06"},0.000359745662137557,"ZNF467"]
["ENSGALG00000030847",1.39450165118465,{"v":4.85650557054254e-06,"d":"4.86E-06"},0.000369895496445034,"FZD2"]
["ENSGALG00000049652",-1.20172139606047,{"v":5.00543650446872e-06,"d":"5.01E-06"},0.000377348621377703,"LOC769668"]
["ENSGALG00000016707",-1.9682112058037,{"v":5.24980820068263E-6,"d":"5.25E-06"},0.000391773565521649,"CLIC5"]
["ENSGALG00000010187",-1.9289942441018,{"v":5.37750630469589e-06,"d":"5.38E-06"},0.000397290165790933,"SLC1A1"]
["ENSGALG00000013468",-1.07552858571823,{"v":5.66512279691925e-06,"d":"5.67E-06"},4.09864413776939E-4,"TLR3"]
["ENSGALG00000034456",1.14643258406332,{"v":5.74187423198608e-06,"d":"5.74E-06"},4.09864413776939E-4,"PRELP"]
["ENSGALG00000033338",-1.29600392873117,{"v":5.94182808241496e-06,"d":"5.94E-06"},0.000422098325700785,"GPT2"]
["ENSGALG00000045540",1.03414412151787,{"v":6.10634101881555e-06,"d":"6.11E-06"},0.000429529616043472,"CLC2DL5"]
["ENSGALG00000040113",3.68101282316156,{"v":6.09389660610304e-06,"d":"6.09E-06"},0.000429529616043472,"SFT2D3"]
["ENSGALG00000040866",1.36202731565282,{"v":6.37610778833307E-6,"d":"6.38E-06"},0.000439964419736224,"P3H2"]
["ENSGALG00000050072",1.02066933886283,{"v":6.43153185320956e-06,"d":"6.43E-06"},0.000439964419736224,"EMID1"]
["ENSGALG00000001171",1.30191503963231,{"v":6.6851302286389e-06,"d":"6.69E-06"},4.55204996582342E-4,"SEMA6B"]
["ENSGALG00000055081",1.10658980260737,{"v":7.1336688653202e-06,"d":"7.13E-06"},0.000469467338252326,"SEMA4C"]
["ENSGALG00000033953",1.02773174070526,{"v":7.36740440779119e-06,"d":"7.37E-06"},0.000477459506708432,"SHROOM4"]
["ENSGALG00000030652",1.4048095822476,{"v":7.43681264919123e-06,"d":"7.44E-06"},0.000477766711758477,"TPBGL"]
["ENSGALG00000041266",1.25328961472837,{"v":7.42278183003137e-06,"d":"7.42E-06"},0.000477766711758477,"CNN1"]
["ENSGALG00000046858",1.10752611012423,{"v":8.08835121834711e-06,"d":"8.09E-06"},0.000512933380267369,"MOGS"]
["ENSGALG00000018534",-2.56710129566191,{"v":8.50362397590801e-06,"d":"8.50E-06"},0.000534678927097944,"AQP7"]
["ENSGALG00000051466",-1.18008777997759,{"v":8.5697302253141e-06,"d":"8.57E-06"},0.000536552261903564,"NDFIP2"]
["ENSGALG00000033260",-1.12804211190356,{"v":8.64661444054653e-06,"d":"8.65E-06"},0.000539081750943103,"ST3GAL5"]
["ENSGALG00000047569",2.77221933282221,{"v":8.99210367779282e-06,"d":"8.99E-06"},0.000558266066987675,"LOC107050990"]
["ENSGALG00000000318",1.21600848203132,{"v":9.04538409787297e-06,"d":"9.05E-06"},0.000559224248661803,"CSRP1"]
["ENSGALG00000005815",-1.18079912324104,{"v":9.32496542194395e-06,"d":"9.32E-06"},0.000571724850932132,"TMEM41B"]
["ENSGALG00000030703",-1.78497640980009,{"v":9.94999127634026e-06,"d":"9.95E-06"},0.000592826899593563,"CYBRD1"]
["ENSGALG00000030530",1.23456537640429,{"v":1.0132947501391E-5,"d":"1.01E-05"},0.000598897729122211,"HAND2"]
["ENSGALG00000042784",-1.29096845888798,{"v":1.01951350654287E-5,"d":"1.02E-05"},0.00060017257261663,"TPPP"]
["ENSGALG00000008874",-2.63286847637343,{"v":1.02767261423099e-05,"d":"1.03E-05"},0.000602575021741153,"SLC13A1"]
["ENSGALG00000030350",-1.15794638383669,{"v":1.04987934083141E-5,"d":"1.05E-05"},0.000613162732811263,"VAMP2"]
["ENSGALG00000017136",-1.09854111035637,{"v":1.11013671870156E-5,"d":"1.11E-05"},0.000640757037325554,"GJB6"]
["ENSGALG00000003446",-1.08465925121938,{"v":1.19337325225184e-05,"d":"1.19E-05"},0.000675604719359125,"PRLR"]
["ENSGALG00000012710",1.22187249616801,{"v":1.20635608434724E-5,"d":"1.21E-05"},6.77761121761021E-4,"NCS1"]
["ENSGALG00000014988",1.20851100416521,{"v":1.22365981723554e-05,"d":"1.22E-05"},0.000684878691646681,"POPDC2"]
["ENSGALG00000045028",-1.42030734927549,{"v":1.28208563889727e-05,"d":"1.28E-05"},0.000706872343057239,"LRRC19"]
["ENSGALG00000043072",1.1232845059934,{"v":1.27969762421664E-5,"d":"1.28E-05"},0.000706872343057239,"POU6F1"]
["ENSGALG00000019527",-1.99052424253089,{"v":1.30064821217794E-5,"d":"1.30E-05"},0.000714437843239449,"SLC6A19"]
["ENSGALG00000053468",1.46329648191815,{"v":1.41751308081916e-05,"d":"1.42E-05"},0.000768612373145701,"ANKRD66"]
["ENSGALG00000003144",-1.15714485588647,{"v":1.4200810629993E-5,"d":"1.42E-05"},0.000768612373145701,"TRIM25"]
["ENSGALG00000047827",-2.58171847595346,{"v":1.53191209280102E-5,"d":"1.53E-05"},0.00082311029393556,"TMEM86A"]
["ENSGALG00000033405",1.29292459109402,{"v":1.55178795621485e-05,"d":"1.55E-05"},0.000825097980174594,"DBN1"]
["ENSGALG00000034118",1.00212412784019,{"v":1.54320669706083E-5,"d":"1.54E-05"},0.000825097980174594,"SOX18"]
["ENSGALG00000028015",1.14757778550689,{"v":1.56064067341238e-05,"d":"1.56E-05"},0.00082652425054987,"HES1"]
["ENSGALG00000016299",-2.72160731760033,{"v":1.59680715065581e-05,"d":"1.60E-05"},0.000842657944931793,"FAM83B"]
["ENSGALG00000009006",-1.92684179281121,{"v":1.65086207606179e-05,"d":"1.65E-05"},0.00085981735016053,"STEAP1"]
["ENSGALG00000038529",1.25405278284452,{"v":1.65841868432425E-5,"d":"1.66E-05"},0.00085981735016053,"PLPPR3"]
["ENSGALG00000011664",-1.56763244673482,{"v":1.70658921714343e-05,"d":"1.71E-05"},0.000878625863153705,"RASSF6"]
["ENSGALG00000016690",-1.62256519856239,{"v":1.71557743848572E-5,"d":"1.72E-05"},0.000879622802649748,"CYP2AC1"]
["ENSGALG00000004669",-1.2175384497295,{"v":1.74561903098179e-05,"d":"1.75E-05"},0.000889422993165064,"ASPA"]
["ENSGALG00000041456",-1.78316122659448,{"v":1.77034518592523e-05,"d":"1.77E-05"},0.000898921665540591,"SLC35G1"]
["ENSGALG00000011376",1.22945528079898,{"v":1.8021082861565E-5,"d":"1.80E-05"},0.000911916165624947,"ANKRD9"]
["ENSGALG00000050491",1.85928819343804,{"v":1.83941795096649e-05,"d":"1.84E-05"},0.000924463933451728,"SLC35E4"]
["ENSGALG00000015701",-1.45212539106796,{"v":1.88656445098619e-05,"d":"1.89E-05"},0.000932303556112772,"CXADR"]
["ENSGALG00000032893",1.14620330093019,{"v":1.87897457796211e-05,"d":"1.88E-05"},0.000932303556112772,"SHISA4"]
["ENSGALG00000040030",1.08987923368936,{"v":1.91486857625624e-05,"d":"1.91E-05"},0.000943136602758742,"PHLDB1"]
["ENSGALG00000007959",-1.76724576372473,{"v":1.92589618045266e-05,"d":"1.93E-05"},0.000945416676490646,"SLC26A3"]
["ENSGALG00000022871",-1.14952631130794,{"v":2.03783978715058e-05,"d":"2.04E-05"},0.00099049739128082,"HHLA2"]
["ENSGALG00000011894",-1.37050976711732,{"v":2.07488867182684E-5,"d":"2.07E-05"},0.000994272938117881,"CYP2D6"]
["ENSGALG00000037029",1.02995836028251,{"v":2.12421130692409e-05,"d":"2.12E-05"},0.00100923942993924,"PDE4C"]
["ENSGALG00000054034",1.04102607688784,{"v":2.22265009728561e-05,"d":"2.22E-05"},0.00104591967635325,"TNKS1BP1"]
["ENSGALG00000027874",1.73112928979294,{"v":2.31063905068924e-05,"d":"2.31E-05"},1.07364788091145E-3,"CHAC1"]
["ENSGALG00000004246",-2.00863768583676,{"v":2.35445304429008e-05,"d":"2.35E-05"},1.09057674553073E-3,"SLC6A4"]
["ENSGALG00000049511",1.54714159547687,{"v":2.43470190820438e-05,"d":"2.43E-05"},0.00111717875361177,"AMIGO3"]
["ENSGALG00000003172",-1.16571315946691,{"v":2.46052075383143e-05,"d":"2.46E-05"},1.12211897094485E-3,"SLC16A9"]
["ENSGALG00000025764",1.00807378060214,{"v":2.61147741280088e-05,"d":"2.61E-05"},1.1728629255789E-3,"FKBP10"]
["ENSGALG00000003336",-1.31343592547009,{"v":2.6414667131159e-05,"d":"2.64E-05"},1.17733379446169E-3,"DAPK2"]
["ENSGALG00000053916",-1.08136143895517,{"v":2.65369712562132E-5,"d":"2.65E-05"},0.00117750837021564,"ABCB1"]
["ENSGALG00000011443",-1.35852865293675,{"v":2.67845890326649e-05,"d":"2.68E-05"},1.1814002613333E-3,"EXOC3L4"]
["ENSGALG00000041663",-1.47137802950918,{"v":2.72647881610023e-05,"d":"2.73E-05"},1.19900151746122E-3,"KLB"]
["ENSGALG00000012601",-1.13393564032568,{"v":2.74417906150105e-05,"d":"2.74E-05"},1.19906655026447E-3,"GOLM1"]
["ENSGALG00000000684",1.05362258144818,{"v":2.7590865395907e-05,"d":"2.76E-05"},1.19906655026447E-3,"KLHDC8A"]
["ENSGALG00000040316",1.0844943373107,{"v":2.77121123235674E-5,"d":"2.77E-05"},1.20080402256021E-3,"GPC1"]
["ENSGALG00000017021",-1.69905092841808,{"v":2.80440593005212E-5,"d":"2.80E-05"},1.20810209977989E-3,"ATP7B"]
["ENSGALG00000029968",1.01547530097086,{"v":2.81369279282917E-5,"d":"2.81E-05"},1.2085792065943E-3,"GADD45B"]
["ENSGALG00000047771",1.06995716010664,{"v":2.87557599122846e-05,"d":"2.88E-05"},1.2280205446934E-3,"PGF"]
["ENSGALG00000029528",1.10174208001904,{"v":2.90844781170885e-05,"d":"2.91E-05"},0.00123492025476465,"KIRREL1"]
["ENSGALG00000030027",1.14836637738319,{"v":3.03997494208447e-05,"d":"3.04E-05"},0.00127973418074758,"MCAM"]
["ENSGALG00000041459",1.66854629156388,{"v":3.0901166341604e-05,"d":"3.09E-05"},1.29714668711233E-3,"DDIT4"]
["ENSGALG00000010840",-1.38647586802595,{"v":3.1449336504401e-05,"d":"3.14E-05"},0.00131641755294342,"SNX13"]
["ENSGALG00000010909",-1.54343752520539,{"v":3.17565081809395e-05,"d":"3.18E-05"},0.00132552023977842,"PRKG2"]
["ENSGALG00000037713",2.82126999053327,{"v":3.18713751838983e-05,"d":"3.19E-05"},1.32656743582333E-3,"FNDC10"]
["ENSGALG00000053106",1.33026762027513,{"v":3.29232088056495e-05,"d":"3.29E-05"},1.36649812728168E-3,"FAM181B"]
["ENSGALG00000016554",-1.88400000795601,{"v":3.42037794173416e-05,"d":"3.42E-05"},1.40778563975108E-3,"ACE2"]
["ENSGALG00000037402",1.36381337723292,{"v":3.53748320220323e-05,"d":"3.54E-05"},0.0014418211884071,"NOV"]
["ENSGALG00000005708",-1.07907255579052,{"v":3.53832328024365e-05,"d":"3.54E-05"},0.0014418211884071,"HNF4beta"]
["ENSGALG00000025438",1.55733495934973,{"v":3.60009169998795E-5,"d":"3.60E-05"},1.45341406991863E-3,"gga-mir-1600"]
["ENSGALG00000043628",1.11434833728429,{"v":3.59396509781633e-05,"d":"3.59E-05"},1.45341406991863E-3,"UBE2M"]
["ENSGALG00000015706",-1.05285005764357,{"v":3.7729892435226e-05,"d":"3.77E-05"},0.00149462973357346,"LETM1"]
["ENSGALG00000030502",1.38957463042919,{"v":3.81544657012173e-05,"d":"3.82E-05"},0.00149938932234358,"ADAMTS4"]
["ENSGALG00000028037",1.31098745213701,{"v":3.87576680204655e-05,"d":"3.88E-05"},1.51858547144622E-3,"FOS"]
["ENSGALG00000052243",-1.55619972009107,{"v":3.90917501209695e-05,"d":"3.91E-05"},1.52280312199538E-3,"CYP2C18"]
["ENSGALG00000029066",1.01198096295373,{"v":3.97314461304563e-05,"d":"3.97E-05"},0.00153683729849116,"LOC419584"]
["ENSGALG00000051456",1.08089213595348,{"v":4.15995927522965e-05,"d":"4.16E-05"},0.00159242378888066,"RTN2"]
["ENSGALG00000043198",1.13572627032154,{"v":4.35763921568605e-05,"d":"4.36E-05"},0.00165098659105069,"SPEG"]
["ENSGALG00000050315",1.29301328427019,{"v":4.42189791953031e-05,"d":"4.42E-05"},0.00167104766391253,"CLC2DL3"]
["ENSGALG00000007383",1.05355826247138,{"v":4.4375248990381e-05,"d":"4.44E-05"},1.67267520173946E-3,"HSPB8"]
["ENSGALG00000027269",-1.59365334685973,{"v":4.56645961327312E-5,"d":"4.57E-05"},0.00171689585866981,"GUCA2B"]
["ENSGALG00000009320",-1.10853538427718,{"v":4.63909294816348e-05,"d":"4.64E-05"},0.00173537309878642,"PSEN1"]
["ENSGALG00000004205",-1.4215398021862,{"v":4.79157319958888E-5,"d":"4.79E-05"},0.00178788599992741,"SOAT1"]
["ENSGALG00000015669",-1.45038621696081,{"v":4.85744082040999e-05,"d":"4.86E-05"},1.8061951332935E-3,"PTBP3"]
["ENSGALG00000035717",1.17992600943893,{"v":4.8650897607662e-05,"d":"4.87E-05"},1.8061951332935E-3,"HSPG2"]
["ENSGALG00000001918",1.15352643482915,{"v":4.88124718406653E-5,"d":"4.88E-05"},0.00180765183939266,"DNAJB5"]
["ENSGALG00000006802",1.15137934288575,{"v":4.90711819871573e-05,"d":"4.91E-05"},1.81252051628525E-3,"LAMB2"]
["ENSGALG00000012018",-1.07179124742922,{"v":5.03270907640581e-05,"d":"5.03E-05"},1.83613109414746E-3,"UGT8"]
["ENSGALG00000053422",-2.07943101612216,{"v":5.18354391393589e-05,"d":"5.18E-05"},0.00188186842438125,"CEP350L"]
["ENSGALG00000030344",1.03716588975324,{"v":5.20855284132847E-5,"d":"5.21E-05"},0.00188631315645758,"ISYNA1"]
["ENSGALG00000008599",-1.83599163572168,{"v":5.2566887054119e-05,"d":"5.26E-05"},1.89909125455174E-3,"LOC101747844"]
["ENSGALG00000041228",1.17102881528476,{"v":5.42763051439515e-05,"d":"5.43E-05"},1.94656962331803E-3,"SELENOP2"]
["ENSGALG00000005933",-1.64411171153102,{"v":5.48251940166043e-05,"d":"5.48E-05"},0.00196149410844878,"SLC5A11"]
["ENSGALG00000015970",-2.17079268727357,{"v":5.81615135390318e-05,"d":"5.82E-05"},0.00206585222128061,"COL9A1"]
["ENSGALG00000008716",-1.50934179600497,{"v":6.02360578411696e-05,"d":"6.02E-05"},2.11412824385065E-3,"FLRT3"]
["ENSGALG00000015416",-1.20989106796389,{"v":6.10515249244413e-05,"d":"6.11E-05"},0.00212823994051868,"SDR16C5"]
["ENSGALG00000004221",-1.07754606771756,{"v":6.11200690337825e-05,"d":"6.11E-05"},0.00212823994051868,"IL22RA1"]
["ENSGALG00000006076",-1.90473367189984,{"v":6.16246970630261e-05,"d":"6.16E-05"},0.00213522623646288,"RASGEF1C"]
["ENSGALG00000015016",-1.74674241988967,{"v":6.25011492545004e-05,"d":"6.25E-05"},2.1527202363275E-3,"SLC22A15"]
["ENSGALG00000050857",-1.45463757415649,{"v":6.290123660348e-05,"d":"6.29E-05"},0.00216146202803028,"PTPN20"]
["ENSGALG00000015822",-2.21244601624663,{"v":6.31682648366145e-05,"d":"6.32E-05"},0.00216560158057034,"MAP3K7CL"]
["ENSGALG00000001239",-1.5311152155893,{"v":6.71469411081868e-05,"d":"6.71E-05"},0.002291369981096,"SLC26A2"]
["ENSGALG00000005327",-2.1177943569867,{"v":6.83684141376225e-05,"d":"6.84E-05"},0.00232767669884219,"RBP2"]
["ENSGALG00000011455",-1.85228282133224,{"v":7.13122384179445e-05,"d":"7.13E-05"},2.41123486238798E-3,"CL2"]
["ENSGALG00000043909",-2.9791251153471,{"v":7.33363357975144e-05,"d":"7.33E-05"},0.0024500805261905,"MSMB"]
["ENSGALG00000033791",1.6136077063453,{"v":7.35575643531597e-05,"d":"7.36E-05"},0.0024500805261905,"MAP3K12"]
["ENSGALG00000043724",-1.29598633965023,{"v":7.63798063980296e-05,"d":"7.64E-05"},0.00252480541238766,"NFX1"]
["ENSGALG00000002182",-1.39418697695263,{"v":7.63696246191687e-05,"d":"7.64E-05"},0.00252480541238766,"NR5A2"]
["ENSGALG00000032656",1.17882093498867,{"v":7.82559411048691e-05,"d":"7.83E-05"},0.00257500547508632,"TCF7L1"]
["ENSGALG00000008844",-1.01606884248097,{"v":8.01780648118874e-05,"d":"8.02E-05"},0.00261525625973609,"SLC31A1"]
["ENSGALG00000015898",-1.41526841965015,{"v":8.09679953199947e-05,"d":"8.10E-05"},0.00262364714659702,"MYO6"]
["ENSGALG00000030845",1.0658838172811,{"v":8.15998636625385e-05,"d":"8.16E-05"},0.00263833607325529,"ENHO"]
["ENSGALG00000037587",-1.65931422101871,{"v":8.27419405840523e-05,"d":"8.27E-05"},0.00265529072687601,"ENPP3"]
["ENSGALG00000010792",-1.62646294825913,{"v":8.38994911068829e-05,"d":"8.39E-05"},0.00268333091037944,"AGMO"]
["ENSGALG00000014950",-1.49058522778858,{"v":8.4315888885634e-05,"d":"8.43E-05"},0.00268502494434079,"SOT3A1L"]
["ENSGALG00000022440",1.22878795663281,{"v":8.49898616163794e-05,"d":"8.50E-05"},2.68910106047885E-3,"EVA1B"]
["ENSGALG00000030442",1.74791468618147,{"v":8.61559430918046e-05,"d":"8.62E-05"},0.00271437146081984,"FOXC1"]
["ENSGALG00000008608",-1.43820804116588,{"v":8.68843535845205e-05,"d":"8.69E-05"},0.00272861383267565,"FETUB"]
["ENSGALG00000028949",1.27712831618816,{"v":8.69773358953865e-05,"d":"8.70E-05"},0.00272861383267565,"CORO6"]
["ENSGALG00000028567",1.11040291380738,{"v":8.84949206195116e-05,"d":"8.85E-05"},0.00277034098956335,"MYL9"]
["ENSGALG00000010999",-1.38438696811146,{"v":8.8772743276271e-05,"d":"8.88E-05"},2.77316290623717E-3,"DICER1"]
["ENSGALG00000000438",-1.00235345778151,{"v":8.91521868318849E-5,"d":"8.92E-05"},0.00277914074394078,"ERMP1"]
["ENSGALG00000010988",-1.30241150121938,{"v":9.06133014894506E-5,"d":"9.06E-05"},0.00281697666536887,"MPP6"]
["ENSGALG00000004663",-1.17726673095957,{"v":9.09378633852835e-05,"d":"9.09E-05"},0.00281697666536887,"ARFGEF2"]
["ENSGALG00000017276",-1.3389864993153,{"v":9.33613386323755e-05,"d":"9.34E-05"},0.0028679982112931,"ARHGEF5"]
["ENSGALG00000017291",-1.54277023325961,{"v":9.45000590070294e-05,"d":"9.45E-05"},0.00289695616574246,"FAR2"]
["ENSGALG00000033391",1.28742190127753,{"v":9.51072698554913e-05,"d":"9.51E-05"},0.00290352276732384,"ISL2"]
["ENSGALG00000043641",1.38479688313371,{"v":9.67377213629883e-05,"d":"9.67E-05"},2.93335380617762E-3,"JUND"]
["ENSGALG00000031129",-1.23198303042645,{"v":9.81474383955845e-05,"d":"9.81E-05"},0.00295361822756244,"HMCN1"]
["ENSGALG00000011306",1.1525688669397,{"v":9.9023888465704e-05,"d":"9.90E-05"},0.00297393694302692,"DES"]
["ENSGALG00000014347",-1.38331215393743,{"v":9.96824231799514e-05,"d":"9.97E-05"},0.00297557067657972,"PARP11"]
["ENSGALG00000015141",-1.88411544288576,{"v":9.9499184340716e-05,"d":"9.95E-05"},0.00297557067657972,"GDA"]
["ENSGALG00000031410",-1.7506931835769,1.00658434363951E-4,0.00299351435746352,"ENPEP"]
["ENSGALG00000008840",-1.03437403655816,0.000100891320385546,0.00299351435746352,"ACSL5"]
["ENSGALG00000010343",-1.05116368148275,1.00779607562113E-4,0.00299351435746352,"TSPAN1"]
["ENSGALG00000013043",-1.11614342339222,1.02307246483397E-4,0.00302944263334402,"ATPSCKMT"]
["ENSGALG00000053510",1.40454623122988,1.06405311130211E-4,3.12573534246519E-3,"LOC107055489"]
["ENSGALG00000039121",-1.28397615041108,0.00010663929913246,0.00312639342059769,"PPM1F"]
["ENSGALG00000041564",-1.39377162283155,1.08634617124586E-4,0.00317337233046569,"MAN1A2"]
["ENSGALG00000034500",-1.81619346485507,1.0867125062369E-4,0.00317337233046569,"CIDEA"]
["ENSGALG00000008498",-1.45173019005295,1.10566163829304E-4,3.20657182278019E-3,"MALRD1"]
["ENSGALG00000015136",-1.23881743556015,0.000111303172812595,0.00321842599115244,"ILDR1"]
["ENSGALG00000046461",1.24146585156363,1.11802408315662E-4,0.00322654762748482,"LRRC15"]
["ENSGALG00000034077",-1.7096688243492,1.12192861989763E-4,0.00323150434456283,"KCNK5"]
["ENSGALG00000050950",1.78229129422027,1.13333798492912E-4,0.00325168972141993,"gga-mir-145"]
["ENSGALG00000033256",-1.49740034847369,1.20015425975589E-4,0.00341028448887558,"PCSK5"]
["ENSGALG00000000337",1.06873045377973,0.000120925981471379,0.00342299291613236,"CTXN1"]
["ENSGALG00000013265",-1.69100791481036,0.000122766503078175,0.0034541889551978,"GYS2"]
["ENSGALG00000012886",-1.18525074972736,0.00012331434890579,0.0034541889551978,"MARVELD3"]
["ENSGALG00000039008",1.04574607917895,1.2343068275206E-4,0.0034541889551978,"LOC776594"]
["ENSGALG00000010580",-1.18425925942397,0.000126743766735759,0.00350705224211155,"STRN"]
["ENSGALG00000038923",-1.37514733250282,0.000126643070915421,0.00350705224211155,"LOC415787"]
["ENSGALG00000011296",-1.14766558591174,0.00012779256181131,0.00351728800883589,"FRMD1"]
["ENSGALG00000021620",1.38145785471441,0.000127827805951873,0.00351728800883589,"TMEM59L"]
["ENSGALG00000040832",1.04375621376418,0.000130206744592856,0.00357608709684765,"CFD"]
["ENSGALG00000041965",1.32001089574807,1.3088462079889E-4,3.58803554160372E-3,"MIOX"]
["ENSGALG00000008204",-1.32724698885488,0.000140155843713403,3.79293543353342E-3,"FEM1C"]
["ENSGALG00000008188",-1.85128031858675,0.000145375543921043,0.00391269405642502,"TRIM36"]
["ENSGALG00000045312",1.00062975324262,1.4580429150613E-4,0.00391709856599015,"SEMA6C"]
["ENSGALG00000012873",-2.69305919575742,1.47756545344725E-4,0.00394316384880472,"SERPINB5"]
["ENSGALG00000007077",-1.3428401571724,0.000147226504657456,0.00394316384880472,"CPT1A"]
["ENSGALG00000052868",1.08010823620416,0.000148877327943178,0.00395649531958344,"PEAR1"]
["ENSGALG00000025681",-3.30077059640491,1.51288753051283E-4,0.00399900288924107,"SNORD123"]
["ENSGALG00000028721",1.24294966326793,0.000153236992854069,0.0040288786590956,"LMOD1"]
["ENSGALG00000026836",1.1444682422109,1.5364646537902E-4,0.0040324692228071,"COL16A1"]
["ENSGALG00000006521",-1.51004663654117,0.000158476166982849,0.00412261240024398,"TRPM5"]
["ENSGALG00000011136",-1.77932344285567,1.61049724419069E-4,0.00417668381536529,"CAPN9"]
["ENSGALG00000054037",1.21435882394918,0.000163674029177946,0.00422805499149183,"LOC107054771"]
["ENSGALG00000012396",1.01765260214811,1.64355988171917E-4,0.00423087819029311,"PTGER2"]
["ENSGALG00000035761",-1.2535169882534,0.000169656235378313,0.00433709434939439,"ACCSL"]
["ENSGALG00000030834",-1.10895301761367,1.77882227483621E-4,0.00452038632326882,"ATP8B1"]
["ENSGALG00000047711",1.69587756287364,0.000178049867362104,0.00452038632326882,"gga-mir-143"]
["ENSGALG00000013205",-1.5738641233829,0.000193231426106157,0.00484522540256174,"ETNK1"]
["ENSGALG00000028506",1.10516061162564,0.000193795899628721,0.00484522540256174,"NHSL2"]
["ENSGALG00000053254",-1.08386013382551,0.0001948313716662,0.00486288572253341,"EHHADH"]
["ENSGALG00000013846",-2.078713857135,1.95164573761204E-4,0.00486298776036349,"ARFGEF3"]
["ENSGALG00000003174",1.24456658275592,0.00019720201129989,0.00489190191113864,"RIMS3"]
["ENSGALG00000042452",-1.41394621271135,2.02040711062916E-4,0.00497153596453574,"DPP4"]
["ENSGALG00000031859",1.34065638847857,2.04955049674211E-4,0.0050222484477382,"NKX3-2"]
["ENSGALG00000032882",1.0187694646731,0.000205310903844899,0.00502263893247057,"EVA1C"]
["ENSGALG00000028140",1.10057722296945,0.000208068398988715,0.00505899420980272,"CNTFR"]
["ENSGALG00000033720",-1.89921137568626,0.000207873553606421,0.00505899420980272,"CA7"]
["ENSGALG00000045096",1.6536757716438,0.000207164859942486,0.00505899420980272,"NPW"]
["ENSGALG00000010857",-1.20018706057147,0.00021068942960619,5.07854324936552E-3,"DAB1"]
["ENSGALG00000039865",1.06720078907423,2.10042627523789E-4,5.07854324936552E-3,"HAX1"]
["ENSGALG00000023934",-1.32102088103708,2.13737426593761E-4,0.00512588055706003,"LOC421195"]
["ENSGALG00000002579",-1.00244332959117,0.000214040897652006,0.00512588055706003,"RIMBP2"]
["ENSGALG00000044975",-1.59441675385017,0.000225534284444538,0.005281290946042,"KY"]
["ENSGALG00000014836",-1.24495907378754,0.000230265228262037,0.00538354274177193,"LPIN2,LPIN2"]
["ENSGALG00000017326",1.04454456139626,0.000230714209722314,0.00538551842473445,"ARHGEF17"]
["ENSGALG00000001207",-1.04795917965355,0.000236136312623354,0.00546032888156914,"PLCH2"]
["ENSGALG00000031375",1.86066664587132,2.42550937724152E-4,0.00557376773843246,"CHST7"]
["ENSGALG00000023936",-1.05887851144312,0.000249355891753817,0.00568593002554691,"LOC771069"]
["ENSGALG00000017378",1.34900914341755,0.000249788165618044,0.00568701068593561,"CRTAC1"]
["ENSGALG00000016205",-1.32206406718461,0.000260952508425758,5.91385623389417E-3,"PDXK"]
["ENSGALG00000014687",-1.2059627310259,0.000267588905652083,0.00598168482589286,"EPHA1"]
["ENSGALG00000016483",-2.03991901849315,0.000271091624847778,0.0060508305872368,"LOC421965"]
["ENSGALG00000039322",1.08270475833971,0.000275209096291719,0.00613346848688755,"DDR2"]
["ENSGALG00000034971",-1.47722523933072,0.00027608682539106,0.00614173018745351,"SLC45A4"]
["ENSGALG00000002647",-1.22679027519018,0.000276411110899877,0.00614173018745351,"PLS1"]
["ENSGALG00000015492",-1.35433281788639,0.000282061213751169,0.00622050223042876,"PDZK1"]
["ENSGALG00000023407",-1.12552781032064,0.000283823450145348,0.00625003770394584,"ZBTB34"]
["ENSGALG00000031560",-1.2103960091204,0.000288376346104822,0.00631266502228866,"USF3"]
["ENSGALG00000032060",1.110966756664,0.000289730677734629,0.0063329297251581,"GPR153"]
["ENSGALG00000039474",1.04587608384314,0.000298395159626147,0.00649350055763763,"ID4"]
["ENSGALG00000006217",-1.87775612668968,0.000300671855545032,6.53342255519617E-3,"S100B"]
["ENSGALG00000031734",-1.12676329843737,3.05002108031509E-4,0.00661778435869835,"AQP11"]
["ENSGALG00000000433",1.1008056707222,0.000308773105791984,0.00667022136137771,"TUBA4A"]
["ENSGALG00000015951",-1.14996937274831,3.16441725401338E-4,0.00679759731243517,"OGFRL1"]
["ENSGALG00000029768",1.03602357357639,0.000326511700332411,0.00693180586797658,"PTGDR"]
["ENSGALG00000001021",1.13297659246512,0.00033153624160088,0.00700813522884348,"MYOCD"]
["ENSGALG00000027822",1.18822936413663,0.000333609116158516,0.00702194914580944,"LOC101747660"]
["ENSGALG00000002860",-1.46139897973502,0.000335764480593761,0.00705137593983208,"MLN"]
["ENSGALG00000028095",1.63220956134454,0.00034033090294162,0.00710197481307996,"HOXA1"]
["ENSGALG00000011227",-1.14437019187051,0.000344373222069113,0.00713267204700186,"CDS1"]
["ENSGALG00000041644",-1.49840298567698,0.000346364600579564,0.00715787879463446,"ATP11A"]
["ENSGALG00000034986",1.13420190170361,0.000346894164109558,0.00715881029173579,"HEYL"]
["ENSGALG00000016361",-1.43805582310836,0.000347951669252865,0.00715982704632852,"FAM110C"]
["ENSGALG00000016805",-1.00271954694299,0.000350124363441616,0.00717536420834024,"SULT1C3"]
["ENSGALG00000028983",1.16614042617309,0.000365521909524584,0.00738279911412123,"HOXA9"]
["ENSGALG00000009639",-3.27774237155326,0.000365742349183591,0.00738279911412123,"DDX60"]
["ENSGALG00000047701",-4.01831096923339,0.000371841805785229,0.00743482344016582,"C7orf57"]
["ENSGALG00000040249",1.14246872996969,0.000387872536972478,7.68325677855168E-3,"BHLHE22"]
["ENSGALG00000046995",1.50493049151538,0.000388426692851794,7.68325677855168E-3,"NECTIN4"]
["ENSGALG00000053507",-1.5638414794954,0.000390980312277511,0.00772342927033757,"ZFP2"]
["ENSGALG00000054988",1.33794974309575,0.000393944993664755,0.00775090709239735,"SLC22A31"]
["ENSGALG00000005251",-1.31488754780509,0.00040147267882873,0.00785158297647896,"CMTM4"]
["ENSGALG00000006728",-1.44558075538404,0.000400955938730385,0.00785158297647896,"SLC5A1"]
["ENSGALG00000003833",1.1259481914281,0.000415670188077814,0.0080616544413578,"CACNA1E"]
["ENSGALG00000006479",1.26547552067126,0.00041574043613391,0.0080616544413578,"CCM2L"]
["ENSGALG00000030776",1.29706515340135,4.24467608317318E-4,0.00819680301873953,"METTL7A"]
["ENSGALG00000008661",1.43122102920461,0.000428265355409118,0.00819695452270095,"CYR61,CYR61"]
["ENSGALG00000007955",-1.42407436359714,4.38630861438732E-4,0.00837365582508877,"SLC16A5"]
["ENSGALG00000013575",-4.40279318555381,0.000440161433204765,0.0083920326929466,"IFI6"]
["ENSGALG00000014267",-1.43944067493709,0.000464372716658172,8.75200415987391E-3,"RBM47"]
["ENSGALG00000012187",-1.89851910861201,0.000463930988955197,8.75200415987391E-3,"MGAT5"]
["ENSGALG00000032955",1.03812698987101,0.000481290938143469,0.00903628322999732,"TUFT1"]
["ENSGALG00000020679",-1.84725712662564,0.000492938294103389,0.00920816211589339,"PLEKHS1"]
["ENSGALG00000021158",-1.52666454868625,0.000498025387193644,9.24475266479057E-3,"SLC7A9"]
["ENSGALG00000050380",-1.20460163597689,0.000498801985771088,0.00924755099341732,"TMPPE"]
["ENSGALG00000022866",-1.20316750186376,0.000501673914639556,0.00925434926680909,"ZNF654"]
["ENSGALG00000015083",-1.13307871144628,4.9991643019579E-4,0.00925434926680909,"DENND4C"]
["ENSGALG00000005553",1.1895014911109,0.000509589569322298,0.00936529288097795,"NLGN3"]
["ENSGALG00000052737",-1.07232171627772,0.000511488970487178,0.00938852301604787,"LOC112531693,LOC112531693,LOC112531693"]
["ENSGALG00000016326",-1.2106898077452,0.000514287202039648,0.00941649033127365,"SLC51AL"]
["ENSGALG00000031895",1.03751158577539,0.00051952185542798,0.00947903757930572,"SDK2"]
["ENSGALG00000016426",-1.09153772504579,0.000521579969201166,0.00949121382378871,"MAP3K15"]
["ENSGALG00000011213",-1.25379474730484,0.000521184947311164,0.00949121382378871,"DEGS2"]
["ENSGALG00000048343",-1.08569429296949,0.000536092943028468,9.69232702176916E-3,"CES1L2"]
["ENSGALG00000008946",-1.12560306956614,5.40000158688543E-4,0.00971868738706689,"NHLRC2"]
["ENSGALG00000054873",2.35695363297181,0.000539118515339941,0.00971868738706689,"NPPC"]
["ENSGALG00000010051",-1.0619565630009,5.42567794343112E-4,0.00975301913529661,"MOCS1"]
["ENSGALG00000035901",1.77051983388378,0.000545877235303915,0.00980058569726688,"GDF6"]
["ENSGALG00000005472",-1.42882755587053,0.000554173331663292,0.00990163647068811,"NAT"]
["ENSGALG00000012111",-1.5347943589674,0.000557917178245471,0.00994592472253733,"TMEM37"]
["ENSGALG00000011805",-1.37527198690127,0.000566794094855289,0.0100781582979323,"UGT2A3"]
["ENSGALG00000013803",-1.02606216065064,5.67611570327229E-4,0.0100805631768692,"ADGRG6"]
["ENSGALG00000052016",1.3003728947553,0.000570024422018456,0.0100991377215164,"ADRA2B"]
["ENSGALG00000005004",-1.19665336261137,0.000573750525076764,0.0101408346393951,"SAMD8"]
["ENSGALG00000035557",3.65688223730676,0.00057818081643337,0.0102017766370216,"BARX1,BARX1"]
["ENSGALG00000002427",-1.22294091548379,5.84524710363814E-4,0.0102596358888704,"SMIM5"]
["ENSGALG00000052286",1.08842755300199,0.00058776338180992,0.0102778600350573,"MGAT1"]
["ENSGALG00000002201",1.02021470841681,5.8718267845298E-4,0.0102778600350573,"PPL"]
["ENSGALG00000031105",-1.71292999736526,0.00059295324322356,0.0103374253486991,"SLC4A4"]
["ENSGALG00000013090",1.76952738374137,0.000591938563168945,0.0103374253486991,"LOXL4"]
["ENSGALG00000041182",1.42086699811419,5.98386835844767E-4,0.0103654910743755,"TBX1"]
["ENSGALG00000002710",-1.17275526424257,0.000603302706265615,0.0104261997517903,"IPMK"]
["ENSGALG00000029679",-1.02521871978058,0.000605031956019825,0.0104438693716693,"PLEKHA7"]
["ENSGALG00000048331",2.81745426222477,0.000620998481392847,0.0106572282939149,"LRFN1"]
["ENSGALG00000010364",-1.31886651942208,0.000642113256552039,0.010868116241481,"AADAC"]
["ENSGALG00000022909",-1.24736165280703,0.000656810992350724,0.0110914733976849,"PTPN3"]
["ENSGALG00000001895",-1.64326598547541,0.000676004210060058,0.0113507252361902,"PANK3"]
["ENSGALG00000011490",-1.05349112250569,0.000684729392853524,0.0114711581732468,"CMTM6"]
["ENSGALG00000013753",-2.22131419129871,0.000711881777154604,0.0118055725468422,"DOK6"]
["ENSGALG00000014700",-1.52908212630353,0.000713605995755957,0.0118170812928302,"DHX29"]
["ENSGALG00000006382",-1.53273050958219,0.00073279532721448,0.0120162866145796,"PTPRJ"]
["ENSGALG00000026585",1.35333715627997,0.000738807356141821,0.0120559074045097,"TAFA3"]
["ENSGALG00000009992",-1.03735798384704,0.000741852881408639,0.0120855768199493,"ARHGAP5"]
["ENSGALG00000008940",-1.34492129570024,0.000752045526011516,0.0122112359256551,"SPTBN5"]
["ENSGALG00000001445",-1.51184202003729,0.000756835417055127,0.0122755215394144,"FABP6"]
["ENSGALG00000026605",1.01534791831163,0.000772893593821918,0.012453953917462,"BAG2"]
["ENSGALG00000016791",-1.00533347493976,0.000776806504864541,0.0124761879520418,"SLC9A2"]
["ENSGALG00000014236",-1.17738401083074,0.000783596814062199,0.0125063595073391,"ATP8A1"]
["ENSGALG00000001662",-1.39592641506534,0.000787350318604476,0.0125365175729523,"ATP10B"]
["ENSGALG00000010202",-1.26767250985061,8.01009043976471E-4,0.01269925926373,"ENTPD5"]
["ENSGALG00000036806",1.41404258941033,0.000801907046475158,0.0126998697949806,"GDF11"]
["ENSGALG00000005442",-1.08285442788647,0.00080447553653408,0.0127269063467105,"PALMD"]
["ENSGALG00000016258",-1.86434337336835,0.000831170967910022,0.0130161912355011,"SYTL5"]
["ENSGALG00000011391",-1.40469621400703,0.000834988251906439,0.0130282855440016,"AMN"]
["ENSGALG00000042621",-1.22431420032923,0.000846727143160393,0.013155878304246,"HNF4G"]
["ENSGALG00000026187",-1.16188110061081,0.000851658136915748,0.013204722592935,"NMNAT3"]
["ENSGALG00000042686",1.00395943431759,0.000860199421145987,0.013261582187643,"FOXD3"]
["ENSGALG00000007075",-1.05292267132759,0.000872402435650655,0.0133167545342707,"ATP13A3"]
["ENSGALG00000008786",-1.33699175904165,0.000873580301322873,0.0133209726856004,"NBEAL1"]
["ENSGALG00000014170",-1.18872563315406,0.000887142869056687,0.0134443510297754,"MOGAT2"]
["ENSGALG00000006796",1.18087898421211,0.000885253160177826,0.0134443510297754,"SRPX2"]
["ENSGALG00000013771",-1.56057041780137,0.000891787612076015,0.0134443510297754,"CRACD"]
["ENSGALG00000007994",-1.24652088760912,0.000894409654999273,0.0134443510297754,"PARD6B"]
["ENSGALG00000001592",-1.05872500799425,0.000893262417692081,0.0134443510297754,"ACER1"]
["ENSGALG00000019555",-1.26556973501677,0.000901012969363727,0.013516109274435,"SERPINB1"]
["ENSGALG00000004373",-1.36784544458554,9.13247498420273E-4,0.0136718794697649,"KCNJ16"]
["ENSGALG00000009207",-1.37545016585321,0.000923409023467044,0.0137525445631215,"TRIM2"]
["ENSGALG00000020688",-1.33627702828683,0.000927118568743891,0.013754120453574,"CYP4A22"]
["ENSGALG00000005363",-1.24105591309504,0.000942042650650004,0.0139196222060045,"CHDH"]
["ENSGALG00000006341",-1.8545129682967,0.000952948463447238,0.0139967857812091,"SLC25A48"]
["ENSGALG00000006689",-1.37286617415216,0.000957080415497906,0.0140003053546807,"ABHD2"]
["ENSGALG00000012004",1.4282421834904,0.000973427862286133,0.0141568603278936,"PRSS12"]
["ENSGALG00000010592",-1.53433705162662,0.00100850467795317,0.0144816959391993,"TET2"]
["ENSGALG00000003839",-1.51520129858476,1.00826871527224E-3,0.0144816959391993,"GRM2"]
["ENSGALG00000015491",-1.09583841123949,0.00105415938842252,0.0150640803900688,"GPR89A,GPR89A"]
["ENSGALG00000006776",1.01834326438912,1.05355728635028E-3,0.0150640803900688,"KLHDC8B"]
["ENSGALG00000015154",-1.73099354185261,1.06883048471127E-3,0.0152295460386632,"TRPM6"]
["ENSGALG00000035026",-1.2944643598611,0.00109017667030002,0.0154888946926472,"SLC22A4"]
["ENSGALG00000027908",-1.15309742840738,1.10345817352792E-3,0.0156475028522539,"CYP2U1"]
["ENSGALG00000039022",1.05729992994588,0.00110579701040202,0.0156656343487059,"PDE1B"]
["ENSGALG00000039102",-1.02374021507511,0.00111234939509641,0.0157283011119086,"TOX"]
["ENSGALG00000005540",-1.34392440990754,1.1392561400951E-3,0.0159712037249005,"MICAL2"]
["ENSGALG00000053697",-1.38276810477619,1.16994225066759E-3,0.0163703283104775,"TMEM125"]
["ENSGALG00000041604",1.04306653053796,0.00117390421888647,0.0164102258640175,"NPTXR"]
["ENSGALG00000006502",-1.07004010493449,1.19054040678933E-3,0.0165842199735443,"PCGF5"]
["ENSGALG00000012978",-1.47555506559736,1.20860685404882E-3,0.0167213247897241,"CDYL2"]
["ENSGALG00000034950",-1.52946081700307,0.00123275270021351,0.0169443292077719,"SMPD3"]
["ENSGALG00000028357",-2.10561214697722,1.25512924278817E-3,0.0172358640255,"MMR1L2"]
["ENSGALG00000052151",1.54254410324038,1.26225019380679E-3,0.0173014924524018,"GDF15"]
["ENSGALG00000033783",-1.42345779781355,0.00126938522510848,0.0173831659742381,"FER1L6"]
["ENSGALG00000028685",-1.32662937518939,0.00128598865923433,0.0174945175771775,"SEMA5A"]
["ENSGALG00000004449",-1.27109356303508,0.00128788188589331,0.0174945175771775,"CYP3A5"]
["ENSGALG00000015389",-1.2897382962173,0.00129323099558887,0.0175470901660433,"TMPRSS7"]
["ENSGALG00000054856",-2.20235216178507,1.3365279468838E-3,0.0179431330952252,"ADH1L"]
["ENSGALG00000037410",-1.135396405726,0.00134417469863065,0.0179844739534374,"HEPH"]
["ENSGALG00000011838",-1.01140051200781,0.00136931044586359,0.0181950819676982,"GUCY2C"]
["ENSGALG00000043662",1.01327347524087,0.00139023959041334,0.0184069714945766,"NDRG4"]
["ENSGALG00000045878",-1.43046720482179,0.00139174666383593,0.018410428562972,"HEATR8L3"]
["ENSGALG00000010122",-1.10725736745774,1.4307117720565E-3,0.0187618005298747,"SH2D4A"]
["ENSGALG00000022887",-1.73979060260911,1.43390495348394E-3,0.018783137936772,"KBTBD11"]
["ENSGALG00000053116",2.06160274638545,0.00144891154974749,0.0189293696366657,"LRRC61"]
["ENSGALG00000030031",-1.52494316353003,0.00145568172750083,0.0189842481955448,"TTPA"]
["ENSGALG00000016105",1.02980461744037,0.00146133575493313,0.0190157577288253,"DYSF"]
["ENSGALG00000016325",-1.13041664583348,0.00146945624506694,0.0190964691971056,"GSTA3"]
["ENSGALG00000049414",-2.6155423338412,1.47188697492928E-3,0.0191112495092751,"CYP2C23a"]
["ENSGALG00000014878",-1.30693581211119,0.00154975019637966,0.019912268610179,"MAN1A1"]
["ENSGALG00000033971",1.10661050052134,1.55364923912048E-3,0.019937828938755,"TLE2"]
["ENSGALG00000041643",1.13880530762123,1.60554122332663E-3,0.0204336581532078,"NFIC,NFIC"]
["ENSGALG00000041555",1.44495888800033,0.00164688863516119,0.0208164469402409,"COL1A1"]
["ENSGALG00000013149",-1.02613016498212,1.66119340968088E-3,0.0209613952360758,"MOCOS"]
["ENSGALG00000016858",-1.49509785022067,1.67300073098406E-3,0.021038518128528,"SLC10A2"]
["ENSGALG00000015366",-1.07701235112297,0.00166908578981243,0.021038518128528,"MAT2A"]
["ENSGALG00000012200",-1.08195162165822,1.67043435495613E-3,0.021038518128528,"GCH1"]
["ENSGALG00000016142",-2.5832959730682,1.68574619212897E-3,0.0211268750932126,"MX1,MX1"]
["ENSGALG00000028145",1.41925592956786,1.68845635067584E-3,0.0211429076589714,"BORCS6"]
["ENSGALG00000002504",-1.18913229444469,0.00169763162185358,0.0212218315097364,"RO60"]
["ENSGALG00000005795",-1.66568790986095,0.00172017275003372,0.021341118853483,"CYP2C23b"]
["ENSGALG00000003302",-1.37622402888463,0.00179980769913723,0.0220953274792908,"SLC38A8"]
["ENSGALG00000001311",1.11582210592923,1.80194736571976E-3,0.0220959122621371,"ARHGAP44"]
["ENSGALG00000033507",-1.00694850744951,1.81545563752907E-3,0.022187901158089,"PLCG2"]
["ENSGALG00000043861",-1.46982500414077,0.00181882196907773,0.0222106722438781,"IQCM"]
["ENSGALG00000041470",-1.59095580357286,1.86293673965866E-3,0.0225814218746484,"PPARA"]
["ENSGALG00000013063",-1.71608449710828,0.00187160710383333,0.02264935836711,"SRD5A1"]
["ENSGALG00000016300",-1.70824168548502,0.00190367391036896,0.0229434630502543,"TINAG"]
["ENSGALG00000002492",-1.35724579129483,0.0019794947429693,0.0237026047991203,"H6PD"]
["ENSGALG00000029072",1.07292711648775,2.03543814125327E-3,0.0241765546424102,"NTN3"]
["ENSGALG00000001936",-1.60759897438089,0.00206227609184045,0.0243582666131371,"MYO7B"]
["ENSGALG00000049063",1.1733468192856,0.00211625548334065,0.0248963304314025,"INAFM2"]
["ENSGALG00000021592",1.27118266523519,0.00213306628836509,0.0250343029999068,"TLCD2"]
["ENSGALG00000007314",1.41337530271804,0.00220682762312534,0.0257161553306782,"DSCAML1"]
["ENSGALG00000036920",-1.35321093697388,2.22575082055487E-3,0.0258347950703211,"SLC22A5"]
["ENSGALG00000017268",-1.5982779566003,0.00224986011567477,0.0259718227103206,"KCTD21"]
["ENSGALG00000015134",-3.36855189252449,0.00229157067181822,0.0263194997266622,"APOV1"]
["ENSGALG00000004495",1.88989978156395,0.00229354366034991,0.0263194997266622,"DNAI2"]
["ENSGALG00000011341",-1.20286286326104,0.00232541186214995,0.0265330391313727,"UNC93A"]
["ENSGALG00000010926",-1.79180786266017,0.0023549009252289,0.0268280771558846,"SPP1"]
["ENSGALG00000015333",-1.02548641816977,0.00237067511137863,0.0269427762964413,"PCGF3"]
["ENSGALG00000007395",-1.32415466733782,0.00237226258538645,0.0269427762964413,"ABCC2"]
["ENSGALG00000000498",-1.5301453802782,0.00237194271196046,0.0269427762964413,"ACE"]
["ENSGALG00000009973",-1.30313421445638,0.00237659817833941,0.0269712862389732,"SLC3A1"]
["ENSGALG00000002175",-1.44084071991219,0.00259078097804508,0.0289134288002977,"KIF14"]
["ENSGALG00000008727",-1.26207801030137,0.00261382338140212,0.0290608384376206,"PLA2G4B"]
["ENSGALG00000004262",-1.31443199236278,0.00262145494724949,0.0291237731583147,"TMIGD1"]
["ENSGALG00000054766",1.69117144593902,2.63613592044795E-3,0.0292648717960473,"ITGA2B"]
["ENSGALG00000013377",-1.24323929221124,0.00272263348417541,0.0300209715154005,"LMBRD2"]
["ENSGALG00000028283",1.277388342455,2.72662617755261E-3,0.0300213326374943,"CCDC92B"]
["ENSGALG00000016959",-1.9769159437937,2.73800738358752E-3,0.0300794030482447,"DGKH"]
["ENSGALG00000027513",1.53727451267065,0.00274845244804954,0.0301248841570908,"HOXD9"]
["ENSGALG00000006073",1.25775367424124,0.00275513663377084,0.0301331598079926,"NDUFAB1"]
["ENSGALG00000040238",1.04381212804839,2.87212065357012E-3,0.0309996017364149,"IMP3"]
["ENSGALG00000001727",1.24186198688214,0.00289059994964066,0.0311535411056823,"LZTS1"]
["ENSGALG00000000875",-1.0092393378441,0.00293841693506637,0.0315767626418477,"PHLPP2"]
["ENSGALG00000008701",-1.45733454311615,2.94896114892734E-3,0.0316440449793394,"XDH"]
["ENSGALG00000010402",-1.0604389791201,0.00295636141272857,0.031700432681043,"HPGDS"]
["ENSGALG00000015375",-1.40440630425599,2.9967616292354E-3,0.0320406294020132,"PLCXD2"]
["ENSGALG00000045288",1.41116098936932,0.00305590105250057,0.0326021616980133,"CAMK2N1"]
["ENSGALG00000005118",1.11156789510858,0.00311802576284194,0.0330473281099525,"FAM124B"]
["ENSGALG00000001252",-2.34854351088011,0.0031500274892564,0.0332938527762894,"CREB3L3"]
["ENSGALG00000010554",-1.01100370984473,0.0032383205147262,0.0338962068133268,"RMDN2"]
["ENSGALG00000003999",-1.32086439813891,0.00325309858393441,0.0339723794519073,"NAV2"]
["ENSGALG00000039738",-1.41735399392098,0.00328023143299661,0.0340787770579303,"SLC9A3"]
["ENSGALG00000038884",-1.17872966909357,3.34412415373327E-3,0.0345061302343315,"SRL"]
["ENSGALG00000030251",1.50278106111448,3.36988244283374E-3,0.0346750577822502,"ADCY8"]
["ENSGALG00000012911",1.13714704070187,3.46174221033096E-3,0.0353466485243752,"SYT10"]
["ENSGALG00000005824",-2.34655217264194,0.00348763622862169,0.0354668361418541,"SUSD2"]
["ENSGALG00000036749",1.0207533462272,0.0035040313534551,0.0356090559000361,"MRPS28"]
["ENSGALG00000015889",-1.04683947458832,0.00361066898129205,0.0363428098552938,"PHIP"]
["ENSGALG00000054364",1.27087093134552,0.00360893063370234,0.0363428098552938,"LOC107055293"]
["ENSGALG00000047167",1.23426108756354,0.00362142422341457,0.0363587225690039,"DNAJC30"]
["ENSGALG00000002515",1.13266929425806,0.00367421515974677,0.0366180145177635,"OLFM1"]
["ENSGALG00000037875",-1.22477874106631,0.00374889508596723,0.0371966469243695,"RBP1"]
["ENSGALG00000003432",-1.28014233263215,0.00375419789094477,0.0372045795014084,"AGXT2"]
["ENSGALG00000004532",-1.03583661000801,0.00376044915899964,0.0372415527971707,"ZNF507"]
["ENSGALG00000051505",1.11102314424659,0.00378107399899299,0.0374207296779105,"ZNF503"]
["ENSGALG00000004231",-1.11661464524654,0.00378735937009405,0.0374578460860172,"IFNLR1"]
["ENSGALG00000010769",-1.31731834225212,3.79996796068699E-3,0.0375072321891189,"HPGD"]
["ENSGALG00000042356",1.04467076333643,0.00383067127777321,0.037734665866918,"FSTL3"]
["ENSGALG00000006322",-2.48604833472649,0.00399960443587329,0.0390086832636724,"CLCA1"]
["ENSGALG00000010868",-1.18186980909219,0.00400776595349391,0.0390520372812262,"MACC1"]
["ENSGALG00000016902",-1.7913803348425,4.04690380498938E-3,0.0392626727659377,"GPC5"]
["ENSGALG00000034094",1.29554208706752,0.00404354971898753,0.0392626727659377,"SP5"]
["ENSGALG00000029140",2.19156992343896,0.00404053279983494,0.0392626727659377,"CRABP2"]
["ENSGALG00000034337",-1.00975757166027,0.00406770548823923,0.0394127319962117,"RHPN1"]
["ENSGALG00000016639",-1.0878386662733,0.00407371366023574,0.0394228376567814,"KIF13B"]
["ENSGALG00000001608",-1.28145840757831,0.00409873235216396,0.0395061116996573,"UNC5D"]
["ENSGALG00000009217",-1.01333025123423,0.00414207195607331,0.039690826992827,"TBC1D24"]
["ENSGALG00000025695",-1.72989754872294,0.00423704423569217,0.0402097402868256,"SCARNA13"]
["ENSGALG00000036418",-1.00147530629007,0.00430659059808448,0.0406868175686037,"ANXA13"]
["ENSGALG00000008317",-1.2384015129687,4.32137799553376E-3,0.0407743813933633,"SDSL"]
["ENSGALG00000034860",-1.00374559029491,0.00435621222338897,0.0410155623182729,"BCHE"]
["ENSGALG00000030789",-1.03628183624127,0.00443111862907683,0.0414656167594928,"PGAP1"]
["ENSGALG00000000215",-1.00655671311053,4.44881397139185E-3,0.0415597368279424,"DCP2"]
["ENSGALG00000008085",1.21442596641004,0.0044581895681301,0.041613524357985,"NEFH"]
["ENSGALG00000030546",2.03735951728763,0.00451671955231508,0.0420006596003824,"CLEC19A"]
["ENSGALG00000029788",-2.23772062952971,0.00457612865760254,0.0423177220357665,"CCK"]
["ENSGALG00000007755",-1.12147584484434,0.00463872929003893,0.042758492819473,"NEXMIF"]
["ENSGALG00000050224",-1.0577647581101,0.00465785441390463,0.042908015473725,"GOLT1A"]
["ENSGALG00000009645",-1.10310533996209,0.00468216409645965,0.0430246621202038,"ESRRG"]
["ENSGALG00000037777",1.05872973494499,0.00470045513757957,0.0431390839210408,"MSC"]
["ENSGALG00000047412",1.03810615248276,4.70524912193952E-3,0.0431562762419481,"LOC112530987"]
["ENSGALG00000030147",-1.09298836457584,0.00471367062051022,0.0431799114002846,"AFF4"]
["ENSGALG00000000311",-1.37544329958762,0.00479671283578969,0.0437507585565608,"DOCK5"]
["ENSGALG00000032402",1.12551335682227,0.00492200365054787,0.0445013906761349,"VSTM2B"]
["ENSGALG00000021039",-1.19600279636445,0.00494672148266417,0.0446405665740147,"HKDC1"]
["ENSGALG00000032428",-1.53714687094802,5.00307781852937E-3,0.0448787792427328,"LOC100858381"]
["ENSGALG00000043727",1.26992683915404,0.0050054296285885,0.0448787792427328,"NR4A1"]
["ENSGALG00000011289",-1.22091887577849,0.00504091318645849,0.0451695168242029,"NKIRAS1"]
["ENSGALG00000009291",-1.0602375349121,0.0051030580896635,0.045505604304688,"EPHX1"]
["ENSGALG00000004917",1.32586080030074,0.00518739932187315,0.046146304864538,"DOC2B"]
["ENSGALG00000051748",-1.2757032011728,0.00519482054047177,0.0461760973331046,"METTL11B"]
["ENSGALG00000009511",-1.28910509128999,0.00520008325551204,0.0461760973331046,"SI"]
["ENSGALG00000006175",-1.44967520885307,0.00522282350875338,0.0463219928963625,"DPEP1"]
["ENSGALG00000048876",-1.46698662664111,5.26005937271329E-3,0.0465383066162095,"LEAP2"]
["ENSGALG00000027429",1.01178134686771,0.00531549481973132,0.0467788871092019,"HSD17B1"]
["ENSGALG00000027655",1.20731196256478,0.00535561123392453,0.0470018071037548,"TRABD2B"]
["ENSGALG00000025935",-1.18753701897324,0.00536216274865103,0.0470215529816425,"XPNPEP2"]
["ENSGALG00000005662",-1.11623720668352,0.00538903090209382,0.0470699841208348,"AMPD3"]
["ENSGALG00000016147",-1.06525207184064,0.00565596610375262,0.0485107063783356,"ZBTB21"]
["ENSGALG00000039356",1.04547498933912,0.00565673707971523,0.0485107063783356,"HEPACAM"]
["ENSGALG00000030890",1.56294659830104,0.00566770545416674,0.0485484149511697,"RRS1"]
["ENSGALG00000034983",1.0460718802497,0.00572685504168473,0.0489259543886606,"CDX2"]
["ENSGALG00000049668",-1.19537049027082,5.72982825532024E-3,0.0489259543886606,"MFSD4B"]
["ENSGALG00000003195",-1.15765575536173,0.00575234358886156,0.0490459485683891,"TRADD"]
["ENSGALG00000006992",1.38615302265563,0.00580791210920267,0.0493205226009073,"MMP9"]