Workbook

Sheet Legends
B4: Sheet1. Acyltransferase domains of 6 selected acyltransferases for protein-ligand docking
B6: Sheet2. NODE_3996 AT_PII-8 docking result
B8: Sheet3. NODE_16506 AT_PII-7 docking result
B10: Sheet4. NODE_34024 AT_PII-6 docking result
B12: Sheet5. NODE_37534 AT_PII-1 docking result
B14: Sheet6. NODE_48592 AT_PII-10 docking result
B16: Sheet7. NODE_59938 AT_PII-5 docking result
B18: Sheet8. NODE_48592 AT_PII-10 interactions

Sheet AT domains
A1: ID | B1: length | C1: Family
A2: 3996 | B2: 2193 | C2: MBOAT, membrane-bound O-acyltransferase family
A3: 16506 | B3: 1324 | C3: Acyltransferase
A4: 34024 | B4: 833 | C4: Acyltransferase
A5: 37534 | B5: 628 | C5: MBOAT, membrane-bound O-acyltransferase family
A6: 48592 | B6: 618 | C6: MBOAT, membrane-bound O-acyltransferase family
A7: 59938 | B7: 512 | C7: Choline/Carnitine o-acyltransferase

Sheet 3996
C1: Triplicates of Docking score
B2: Compounds | C2: BA_1 | D2: BA_2 | E2: BA_3 | G2: Comp_name | H2: average
A3: 6-cinnamoylcatalpol | B3: 6440892.log | C3: -7.7 | D3: -7.6 | E3: -6.6 | G3: 6-cinnamoylcatalpol | H3: -7.3
A4: 6-ferrulloylcatalpol | B4: PIKU0008.log | C4: -7.2 | D4: -7.1 | E4: -7.2 | G4: vanilloyl_CoA | H4: -7.3
A5: Catalpol | B5: 24721256.log | C5: -6.9 | D5: -6.8 | E5: -6.4 | G5: 6-ferrulloylcatalpol | H5: -7.2
A6: 6-vannilloylcatalpol | B6: PIKU0076.log | C6: -6.8 | D6: -6.7 | E6: -7.2 | G6: 6-vannilloylcatalpol | H6: -6.9
A7: Cinnamic acid | B7: PIKU0011.log | C7: -5.7 | D7: -5.6 | E7: -6.2 | G7: Cinnamoyl_CoA | H7: -6.9
A8: Vanillic acid | B8: PIKU0012.log | C8: -5.7 | D8: -5.2 | E8: -5.2 | G8: Catalpol | H8: -6.7
A9: vanilloyl_CoA | B9: vanilloyl_CoA.log | C9: -7.4 | D9: -7.3 | E9: -7.1 | G9: Cinnamic acid | H9: -5.8
A10: Cinnamoyl_CoA | B10: Cinnamoyl_CoA.log | C10: -6.5 | D10: -7.5 | E10: -6.7 | G10: Vanillic acid | H10: -5.4

Sheet 16506
C1: Triplicates of Docking score
B2: Compounds | C2: BA_1 | D2: BA_2 | E2: BA_3 | H2: Comp_name | I2: average
A3: =INDEX('3996'!A:A,MATCH('16506'!B3,'3996'!B:B,0)) -> 6-vannilloylcatalpol | B3: PIKU0076.log | C3: -7.4 | D3: -7.1 | E3: -7.8 | H3: 6-ferrulloylcatalpol | I3: -7.9
A4: =INDEX('3996'!A:A,MATCH('16506'!B4,'3996'!B:B,0)) -> 6-ferrulloylcatalpol | B4: PIKU0008.log | C4: -8.4 | D4: -7.9 | E4: -7.3 | H4: 6-vannilloylcatalpol | I4: -7.4
A5: =INDEX('3996'!A:A,MATCH('16506'!B5,'3996'!B:B,0)) -> Catalpol | B5: 24721256.log | C5: -6.5 | D5: -7.4 | E5: -6.6 | H5: 6-cinnamoylcatalpol | I5: -7.1
A6: =INDEX('3996'!A:A,MATCH('16506'!B6,'3996'!B:B,0)) -> 6-cinnamoylcatalpol | B6: 6440892.log | C6: -7.3 | D6: -7.4 | E6: -6.6 | H6: vanilloyl_CoA | I6: -6.9
A7: =INDEX('3996'!A:A,MATCH('16506'!B7,'3996'!B:B,0)) -> Cinnamic acid | B7: PIKU0011.log | C7: -7 | D7: -6.7 | E7: -5.7 | H7: Cinnamoyl_CoA | I7: -6.9
A8: =INDEX('3996'!A:A,MATCH('16506'!B8,'3996'!B:B,0)) -> Vanillic acid | B8: PIKU0012.log | C8: -5.3 | D8: -6.3 | E8: -5.2 | H8: Catalpol | I8: -6.8
A9: vanilloyl_CoA | B9: vanilloyl_CoA.log | C9: -7 | D9: -7.1 | E9: -6.6 | H9: Cinnamic acid | I9: -6.5
A10: Cinnamoyl_CoA | B10: Cinnamoyl_CoA.log | C10: -6.8 | D10: -6.3 | E10: -7.6 | H10: Vanillic acid | I10: -5.6

Sheet 34024
C1: Triplicates of Docking score
B2: Compounds | C2: BA_1 | D2: BA_2 | E2: BA_3 | G2: Comp_name | H2: average
A3: =INDEX('3996'!A:A,MATCH('34024'!B3,'3996'!B:B,0)) -> 6-cinnamoylcatalpol | B3: 6440892.log | C3: -7.1 | D3: -6.7 | E3: -6.9 | G3: 6-ferrulloylcatalpol | H3: -7
A4: =INDEX('3996'!A:A,MATCH('34024'!B4,'3996'!B:B,0)) -> 6-ferrulloylcatalpol | B4: PIKU0008.log | C4: -6.9 | D4: -6.9 | E4: -7.1 | G4: 6-cinnamoylcatalpol | H4: -6.9
A5: =INDEX('3996'!A:A,MATCH('34024'!B5,'3996'!B:B,0)) -> 6-vannilloylcatalpol | B5: PIKU0076.log | C5: -6.6 | D5: -6.8 | E5: -6.8 | G5: Cinnamoyl_CoA | H5: -6.9
A6: =INDEX('3996'!A:A,MATCH('34024'!B6,'3996'!B:B,0)) -> Catalpol | B6: 24721256.log | C6: -6.3 | D6: -6 | E6: -6 | G6: 6-vannilloylcatalpol | H6: -6.7
A7: =INDEX('3996'!A:A,MATCH('34024'!B7,'3996'!B:B,0)) -> Cinnamic acid | B7: PIKU0011.log | C7: -6.1 | D7: -6.2 | E7: -6 | G7: Catalpol | H7: -6.1
A8: =INDEX('3996'!A:A,MATCH('34024'!B8,'3996'!B:B,0)) -> Vanillic acid | B8: PIKU0012.log | C8: -5.3 | D8: -5.3 | E8: -5.5 | G8: Cinnamic acid | H8: -6.1
A9: vanilloyl_CoA | B9: vanilloyl_CoA.log | C9: -4.8 | D9: -6.1 | E9: -6.6 | G9: vanilloyl_CoA | H9: -5.8
A10: Cinnamoyl_CoA | B10: Cinnamoyl_CoA.log | C10: -7.5 | D10: -6.2 | E10: -7.1 | G10: Vanillic acid | H10: -5.4

Sheet 37534
C1: Triplicates of Docking score
B2: Compounds | C2: BA_1 | D2: BA_2 | E2: BA_3 | H2: Comp_name | I2: average
A3: =INDEX('3996'!A:A,MATCH('37534'!B3,'3996'!B:B,0)) -> 6-ferrulloylcatalpol | B3: PIKU0008.log | C3: -8.1 | D3: -8.4 | E3: -8.4 | H3: 6-cinnamoylcatalpol | I3: -8.4
A4: =INDEX('3996'!A:A,MATCH('37534'!B4,'3996'!B:B,0)) -> 6-cinnamoylcatalpol | B4: 6440892.log | C4: -7.6 | D4: -8.8 | E4: -8.8 | H4: 6-ferrulloylcatalpol | I4: -8.3
A5: =INDEX('3996'!A:A,MATCH('37534'!B5,'3996'!B:B,0)) -> 6-vannilloylcatalpol | B5: PIKU0076.log | C5: -7.5 | D5: -7.6 | E5: -7.6 | H5: 6-vannilloylcatalpol | I5: -7.6
A6: =INDEX('3996'!A:A,MATCH('37534'!B6,'3996'!B:B,0)) -> Catalpol | B6: 24721256.log | C6: -6.5 | D6: -6.8 | E6: -6.8 | H6: Cinnamoyl_CoA | I6: -7.1
A7: =INDEX('3996'!A:A,MATCH('37534'!B7,'3996'!B:B,0)) -> Cinnamic acid | B7: PIKU0011.log | C7: -5.6 | D7: -5.8 | E7: -5.8 | H7: vanilloyl_CoA | I7: -7
A8: =INDEX('3996'!A:A,MATCH('37534'!B8,'3996'!B:B,0)) -> Vanillic acid | B8: PIKU0012.log | C8: -5.4 | D8: -5.6 | E8: -5.6 | H8: Catalpol | I8: -6.7
A9: vanilloyl_CoA | B9: vanilloyl_CoA.log | C9: -7.8 | D9: -6.8 | E9: -6.4 | H9: Cinnamic acid | I9: -5.7
A10: Cinnamoyl_CoA | B10: Cinnamoyl_CoA.log | C10: -6.8 | D10: -7 | E10: -7.6 | H10: Vanillic acid | I10: -5.5

Sheet 48592
C1: Triplicates of Docking score
B2: Compounds | C2: BA_1 | D2: BA_2 | E2: BA_3 | H2: Comp_name | I2: average
A3: =INDEX('3996'!A:A,MATCH('48592'!B3,'3996'!B:B,0)) -> 6-ferrulloylcatalpol | B3: PIKU0008.log | C3: -8.1 | D3: -7.9 | E3: -7.7 | H3: vanilloyl_CoA | I3: -8
A4: =INDEX('3996'!A:A,MATCH('48592'!B4,'3996'!B:B,0)) -> 6-cinnamoylcatalpol | B4: 6440892.log | C4: -7.9 | D4: -7.7 | E4: -7.9 | H4: 6-ferrulloylcatalpol | I4: -7.9
A5: =INDEX('3996'!A:A,MATCH('48592'!B5,'3996'!B:B,0)) -> 6-vannilloylcatalpol | B5: PIKU0076.log | C5: -7.8 | D5: -7.8 | E5: -7.8 | H5: 6-cinnamoylcatalpol | I5: -7.8
A6: =INDEX('3996'!A:A,MATCH('48592'!B6,'3996'!B:B,0)) -> Catalpol | B6: 24721256.log | C6: -6.8 | D6: -7 | E6: -7 | H6: 6-vannilloylcatalpol | I6: -7.8
A7: =INDEX('3996'!A:A,MATCH('48592'!B7,'3996'!B:B,0)) -> Cinnamic acid | B7: PIKU0011.log | C7: -5.9 | D7: -5.9 | E7: -5.8 | H7: Cinnamoyl_CoA | I7: -7.7
A8: =INDEX('3996'!A:A,MATCH('48592'!B8,'3996'!B:B,0)) -> Vanillic acid | B8: PIKU0012.log | C8: -5.5 | D8: -5.5 | E8: -5.5 | H8: Catalpol | I8: -6.9
A9: vanilloyl_CoA | B9: vanilloyl_CoA.log | C9: -8.4 | D9: -8 | E9: -7.6 | H9: Cinnamic acid | I9: -5.9
A10: Cinnamoyl_CoA | B10: Cinnamoyl_CoA.log | C10: -7.8 | D10: -8 | E10: -7.2 | H10: Vanillic acid | I10: -5.5
A12: Hydrogen Bonds
A13: Residues | B13: Distance H-A | C13: Distance D-A | D13: Donor Angle
A14: TRP114 | B14: 2.29 | C14: 2.99 | D14: 125.83
A15: ASP143 | B15: 2.29 | C15: 3.19 | D15: 161.01
A16: ALA146 | B16: 2.13 | C16: 2.94 | D16: 139.32
A17: TRP149 | B17: 2.18 | C17: 3.1 | D17: 150.68
A18: ASN150 | B18: 1.94 | C18: 2.81 | D18: 145.31
A19: VAL153 | B19: 2.93 | C19: 3.48 | D19: 116.91
A20: HIS188 | B20: 2.69 | C20: 3.25 | D20: 115.08
A22: Hydrophobic Interactions
A23: Residue | B23: Distance | C23: Ligand Atom | D23: Protein Atom
A24: TYR106 | B24: 3.9 | C24: 2090 | D24: 1027
A25: TRP149 | B25: 3.45 | C25: 2099 | D25: 1479
A27: Salt Bridges
A28: Residue | B28: Distance | C28: Ligand Group | D28: Ligand Atoms
A29: HIS154 | B29: 4.99 | C29: Phosphate | D29: 2045, 2045, 2066, 2054, 2071, 2063

Sheet 59938
C1: Triplicates of Docking score
B2: Compounds | C2: BA_1 | D2: BA_2 | E2: BA_3 | H2: Comp_name | I2: average
A3: =INDEX('3996'!A:A,MATCH('59938'!B3,'3996'!B:B,0)) -> 6-vannilloylcatalpol | B3: PIKU0076.log | C3: -7.1 | D3: -6.8 | E3: -6.7 | H3: 6-vannilloylcatalpol | I3: -6.9
A4: =INDEX('3996'!A:A,MATCH('59938'!B4,'3996'!B:B,0)) -> 6-ferrulloylcatalpol | B4: PIKU0008.log | C4: -6.6 | D4: -6.7 | E4: -6.3 | H4: 6-cinnamoylcatalpol | I4: -6.6
A5: =INDEX('3996'!A:A,MATCH('59938'!B5,'3996'!B:B,0)) -> 6-cinnamoylcatalpol | B5: 6440892.log | C5: -6.3 | D5: -7.2 | E5: -6.4 | H5: 6-ferrulloylcatalpol | I5: -6.5
A6: =INDEX('3996'!A:A,MATCH('59938'!B6,'3996'!B:B,0)) -> Catalpol | B6: 24721256.log | C6: -5.8 | D6: -5.5 | E6: -5.8 | H6: Cinnamoyl_CoA | I6: -6.1
A7: =INDEX('3996'!A:A,MATCH('59938'!B7,'3996'!B:B,0)) -> Cinnamic acid | B7: PIKU0011.log | C7: -5.3 | D7: -5.3 | E7: -5.3 | H7: vanilloyl_CoA | I7: -6
A8: =INDEX('3996'!A:A,MATCH('59938'!B8,'3996'!B:B,0)) -> Vanillic acid | B8: PIKU0012.log | C8: -4.9 | D8: -4.9 | E8: -4.8 | H8: Catalpol | I8: -5.7
A9: vanilloyl_CoA | B9: vanilloyl_CoA.log | C9: -6.3 | D9: -5.7 | E9: -5.9 | H9: Cinnamic acid | I9: -5.3
A10: Cinnamoyl_CoA | B10: Cinnamoyl_CoA.log | C10: -6.5 | D10: -5.8 | E10: -6 | H10: Vanillic acid | I10: -4.9

Sheet 48592 interactions
A1: Bonds | B1: Residues | C1: Distances
A2: Hydrogen Bonds | B2: TRP114 | C2: 2.99 | F2: Table Interactions between Vanilloyl-CoA and shortlisted Acyltransferase with transcript identifier NODE_48592/618bp
B3: ASP143 | C3: 3.19
B4: ALA146 | C4: 2.94
B5: TRP149 | C5: 3.1
B6: ASN150 | C6: 2.81
B7: THR180 | C7: 2.85
B8: HIS188 | C8: 3.25
A9: Hydrophobic Interaction | B9: TYR106 | C9: 3.9
B10: TRP149 | C10: 3.45
B11: VAL153 | C11: 3.48
A12: Salt Bridge | B12: HIS154 | C12: 2.89
