Workbook

Sheet da
A1: repno | B1: replyno | C1: author | D1: type | E1: email | F1: State | G1: A | H1: B | I1: C | J1: D | K1: E | L1: F | M1: G | N1: H | O1: I | P1: J | Q1: Cik | R1: Core | S1: x | T1: Mean | U1: Rank | V1: Alaska | W1: Mean | X1: h | Y1: Ag | Z1: Pi | AA1: x | AB1: h2 | AC1: Ag2 | AD1: PI2 | AE1: x2 | AF1: Alaska | AG1: Ag | AH1: State | AI1: Alaska | AN1: Mean | AO1: h | AP1: Ag | AQ1: Pi | AR1: x | AS1: h2 | AT1: Ag2 | AU1: PI2 | AV1: x2
A2: 3 | B2: 498 | C2: AK | D2: rasch | E2: 2014 | F2: AK | G2: 76 | H2: 79 | I2: 71 | J2: 66 | K2: 71 | L2: 73 | M2: 56 | N2: 88 | O2: 50 | P2: 69 | Q2: 6.6 | R2: 8 | S2: 7.27 | T2: =AVERAGE(G2:J2) -> 73 | U2: =RANK(T2,T$2:T$52,0) -> 42 | V2: Alaska | W2: =AVERAGE(J2:M2) -> 66.5 | X2: 6 | Y2: 7.53 | Z2: 0.24 | AA2: 7.27 | AB2: 9 | AC2: 9.01 | AD2: 0.3 | AE2: 8.12 | AF2: Alaska | AG2: 7.53 | AH2: AK | AI2: Alaska | AM2: Mean | AO2: 0.77470341 | AP2: 0.9329096 | AQ2: 0.80829775 | AR2: 0.9460246 | AS2: 0.68411759 | AT2: 0.92407914 | AU2: 0.83953861 | AV2: 0.94573417
A3: 3 | B3: 499 | C3: AL | D3: rasch | E3: 2014 | F3: AL | G3: 81 | H3: 86 | I3: 69 | J3: 73 | K3: 66 | L3: 72 | M3: 72 | N3: 86 | O3: 52 | P3: 72 | Q3: 6.6 | R3: 9 | S3: 7.71 | T3: =AVERAGE(G3:J3) -> 77.25 | U3: =RANK(T3,T$2:T$52,0) -> 12 | V3: Alabama | W3: =AVERAGE(J3:M3) -> 70.75 | X3: 7 | Y3: 7.74 | Z3: 0.25 | AA3: 7.71 | AB3: 9 | AC3: 9.4 | AD3: 0.32 | AE3: 8.62 | AF3: Alabama | AG3: 7.74 | AH3: AL | AI3: Alabama | AM3: h | AN3: 0.77470341 | AP3: 0.771517 | AQ3: 0.59964391 | AR3: 0.65502014 | AS3: 0.41075952 | AT3: 0.7720928 | AU3: 0.71470142 | AV3: 0.6545467
A4: 3 | B4: 500 | C4: AR | D4: rasch | E4: 2014 | F4: AR | G4: 80 | H4: 84 | I4: 68 | J4: 70 | K4: 64 | L4: 73 | M4: 67 | N4: 83 | O4: 51 | P4: 71 | Q4: 6.4 | R4: 9 | S4: 7.59 | T4: =AVERAGE(G4:J4) -> 75.5 | U4: =RANK(T4,T$2:T$52,0) -> 26 | V4: Arkansas | W4: =AVERAGE(J4:M4) -> 68.5 | X4: 6 | Y4: 7.56 | Z4: 0.25 | AA4: 7.59 | AB4: 9 | AC4: 9.17 | AD4: 0.31 | AE4: 8.49 | AF4: Arkansas | AG4: 7.56 | AH4: AR | AI4: Arkansas | AM4: Ag | AN4: 0.9329096 | AO4: 0.771517 | AQ4: 0.87906073 | AR4: 0.82612054 | AS4: 0.77982101 | AT4: 0.96405606 | AU4: 0.90534767 | AV4: 0.82519539
A5: 3 | B5: 501 | C5: AZ | D5: rasch | E5: 2014 | F5: AZ | G5: 77 | H5: 78 | I5: 66 | J5: 70 | K5: 64 | L5: 70 | M5: 57 | N5: 86 | O5: 51 | P5: 70 | Q5: 5.7 | R5: 9 | S5: 7.16 | T5: =AVERAGE(G5:J5) -> 72.75 | U5: =RANK(T5,T$2:T$52,0) -> 43 | V5: Arizona | W5: =AVERAGE(J5:M5) -> 65.25 | X5: 6 | Y5: 7.39 | Z5: 0.24 | AA5: 7.16 | AB5: 9 | AC5: 9.08 | AD5: 0.3 | AE5: 8.01 | AF5: Arizona | AG5: 7.39 | AH5: AZ | AI5: Arizona | AM5: Pi | AN5: 0.80829775 | AO5: 0.59964391 | AP5: 0.87906073 | AR5: 0.71384697 | AS5: 0.71463383 | AT5: 0.86719509 | AU5: 0.86443782 | AV5: 0.7146086
A6: 3 | B6: 502 | C6: CA | D6: rasch | E6: 2014 | F6: CA | G6: 75 | H6: 78 | I6: 62 | J6: 69 | K6: 61 | L6: 70 | M6: 51 | N6: 85 | O6: 49 | P6: 68 | Q6: 4.9 | R6: 10 | S6: 7 | T6: =AVERAGE(G6:J6) -> 71 | U6: =RANK(T6,T$2:T$52,0) -> 46 | V6: California | W6: =AVERAGE(J6:M6) -> 62.75 | X6: 6 | Y6: 7.24 | Z6: 0.24 | AA6: 7 | AB6: 8 | AC6: 8.88 | AD6: 0.3 | AE6: 7.83 | AF6: California | AG6: 7.24 | AH6: CA | AI6: California | AM6: x | AN6: 0.9460246 | AO6: 0.65502014 | AP6: 0.82612054 | AQ6: 0.71384697 | AS6: 0.58509604 | AT6: 0.83021612 | AU6: 0.76046222 | AV6: 0.99991503
A7: 3 | B7: 503 | C7: CO | D7: rasch | E7: 2014 | F7: CO | G7: 79 | H7: 81 | I7: 70 | J7: 71 | K7: 67 | L7: 75 | M7: 65 | N7: 88 | O7: 55 | P7: 74 | Q7: 6.5 | R7: 9 | S7: 7.65 | T7: =AVERAGE(G7:J7) -> 75.25 | U7: =RANK(T7,T$2:T$52,0) -> 28 | V7: Colorado | W7: =AVERAGE(J7:M7) -> 69.5 | X7: 7 | Y7: 7.69 | Z7: 0.25 | AA7: 7.65 | AB7: 9 | AC7: 9.31 | AD7: 0.31 | AE7: 8.55 | AF7: Colorado | AG7: 7.69 | AH7: CO | AI7: Colorado | AM7: h2 | AN7: 0.68411759 | AO7: 0.41075952 | AP7: 0.77982101 | AQ7: 0.71463383 | AR7: 0.58509604 | AT7: 0.72509942 | AU7: 0.7059067 | AV7: 0.58273537
A8: 3 | B8: 504 | C8: CT | D8: rasch | E8: 2014 | F8: CT | G8: 79 | H8: 80 | I8: 64 | J8: 71 | K8: 64 | L8: 71 | M8: 52 | N8: 87 | O8: 51 | P8: 68 | Q8: 6.4 | R8: 8 | S8: 7.16 | T8: =AVERAGE(G8:J8) -> 73.5 | U8: =RANK(T8,T$2:T$52,0) -> 39 | V8: Connecticut | W8: =AVERAGE(J8:M8) -> 64.5 | X8: 6 | Y8: 7.43 | Z8: 0.25 | AA8: 7.16 | AB8: 9 | AC8: 9.12 | AD8: 0.31 | AE8: 8 | AF8: Connecticut | AG8: 7.43 | AH8: CT | AI8: Connecticut | AM8: Ag2 | AN8: 0.92407914 | AO8: 0.7720928 | AP8: 0.96405606 | AQ8: 0.86719509 | AR8: 0.83021612 | AS8: 0.72509942 | AU8: 0.91505214 | AV8: 0.82966244
A9: 3 | B9: 505 | C9: DC | D9: rasch | E9: 2014 | F9: DC | G9: 70 | H9: 77 | I9: 52 | J9: 64 | K9: 56 | L9: 60 | M9: 54 | N9: 80 | O9: 41 | P9: 58 | Q9: 5.2 | R9: 9 | S9: 6.84 | T9: =AVERAGE(G9:J9) -> 65.75 | U9: =RANK(T9,T$2:T$52,0) -> 51 | V9: District of Columbia | W9: =AVERAGE(J9:M9) -> 58.5 | X9: 5 | Y9: 6.82 | Z9: 0.23 | AA9: 6.84 | AB9: 8 | AC9: 8.11 | AD9: 0.28 | AE9: 7.65 | AF9: District of Columbia | AG9: 6.82 | AH9: DC | AI9: District of Columbia | AM9: PI2 | AN9: 0.83953861 | AO9: 0.71470142 | AP9: 0.90534767 | AQ9: 0.86443782 | AR9: 0.76046222 | AS9: 0.7059067 | AT9: 0.91505214 | AV9: 0.75932606
A10: 3 | B10: 506 | C10: DE | D10: rasch | E10: 2014 | F10: DE | G10: 79 | H10: 79 | I10: 67 | J10: 69 | K10: 63 | L10: 70 | M10: 55 | N10: 87 | O10: 51 | P10: 69 | Q10: 5.1 | R10: 10 | S10: 7.14 | T10: =AVERAGE(G10:J10) -> 73.5 | U10: =RANK(T10,T$2:T$52,0) -> 39 | V10: Delaware | W10: =AVERAGE(J10:M10) -> 64.25 | X10: 6 | Y10: 7.43 | Z10: 0.24 | AA10: 7.14 | AB10: 9 | AC10: 9.11 | AD10: 0.31 | AE10: 7.98 | AF10: Delaware | AG10: 7.43 | AH10: DE | AI10: Delaware | AM10: x2 | AN10: 0.94573417 | AO10: 0.6545467 | AP10: 0.82519539 | AQ10: 0.7146086 | AR10: 0.99991503 | AS10: 0.58273537 | AT10: 0.82966244 | AU10: 0.75932606
A11: 3 | B11: 507 | C11: FL | D11: rasch | E11: 2014 | F11: FL | G11: 76 | H11: 77 | I11: 63 | J11: 68 | K11: 61 | L11: 70 | M11: 59 | N11: 84 | O11: 49 | P11: 67 | Q11: 5.9 | R11: 9 | S11: 7.29 | T11: =AVERAGE(G11:J11) -> 71 | U11: =RANK(T11,T$2:T$52,0) -> 46 | V11: Florida | W11: =AVERAGE(J11:M11) -> 64.5 | X11: 6 | Y11: 7.21 | Z11: 0.24 | AA11: 7.29 | AB11: 8 | AC11: 8.84 | AD11: 0.3 | AE11: 8.15 | AF11: Florida | AG11: 7.21 | AH11: FL | AI11: Florida | AM11: Mean | AN11: =AVERAGE(AN2:AN10) -> 0.85692561 | AO11: =AVERAGE(AO2:AO10) -> 0.66912311 | AP11: =AVERAGE(AP2:AP10) -> 0.8605035 | AQ11: =AVERAGE(AQ2:AQ10) -> 0.77021559 | AR11: =AVERAGE(AR2:AR10) -> 0.78958771 | AS11: =AVERAGE(AS2:AS10) -> 0.64852118 | AT11: =AVERAGE(AT2:AT10) -> 0.85343165 | AU11: =AVERAGE(AU2:AU10) -> 0.80809658 | AV11: =AVERAGE(AV2:AV10) -> 0.78896547
A12: 3 | B12: 508 | C12: GA | D12: rasch | E12: 2014 | F12: GA | G12: 79 | H12: 83 | I12: 66 | J12: 71 | K12: 64 | L12: 72 | M12: 68 | N12: 85 | O12: 51 | P12: 71 | Q12: 6.4 | R12: 9 | S12: 7.59 | T12: =AVERAGE(G12:J12) -> 74.75 | U12: =RANK(T12,T$2:T$52,0) -> 33 | V12: Georgia | W12: =AVERAGE(J12:M12) -> 68.75 | X12: 6 | Y12: 7.56 | Z12: 0.25 | AA12: 7.59 | AB12: 9 | AC12: 9.15 | AD12: 0.31 | AE12: 8.49 | AF12: Georgia | AG12: 7.56 | AH12: GA | AI12: Georgia
A13: 3 | B13: 509 | C13: HI | D13: rasch | E13: 2014 | F13: HI | G13: 81 | H13: 83 | I13: 70 | J13: 72 | K13: 66 | L13: 76 | M13: 61 | N13: 84 | O13: 53 | P13: 70 | Q13: 6.1 | R13: 9 | S13: 7.41 | T13: =AVERAGE(G13:J13) -> 76.5 | U13: =RANK(T13,T$2:T$52,0) -> 17 | V13: Hawaii | W13: =AVERAGE(J13:M13) -> 68.75 | X13: 7 | Y13: 7.66 | Z13: 0.25 | AA13: 7.41 | AB13: 9 | AC13: 9.21 | AD13: 0.31 | AE13: 8.28 | AF13: Hawaii | AG13: 7.66 | AH13: HI | AI13: Hawaii
A14: 3 | B14: 510 | C14: IA | D14: rasch | E14: 2014 | F14: IA | G14: 82 | H14: 84 | I14: 72 | J14: 73 | K14: 67 | L14: 79 | M14: 66 | N14: 88 | O14: 55 | P14: 76 | Q14: 6.6 | R14: 9 | S14: 7.71 | T14: =AVERAGE(G14:J14) -> 77.75 | U14: =RANK(T14,T$2:T$52,0) -> 6 | V14: Iowa | W14: =AVERAGE(J14:M14) -> 71.25 | X14: 7 | Y14: 7.91 | Z14: 0.25 | AA14: 7.71 | AB14: 9 | AC14: 9.54 | AD14: 0.32 | AE14: 8.62 | AF14: Iowa | AG14: 7.91 | AH14: IA | AI14: Iowa
A15: 3 | B15: 511 | C15: ID | D15: rasch | E15: 2014 | F15: ID | G15: 81 | H15: 84 | I15: 75 | J15: 73 | K15: 70 | L15: 77 | M15: 63 | N15: 89 | O15: 57 | P15: 73 | Q15: 5.7 | R15: 10 | S15: 7.55 | T15: =AVERAGE(G15:J15) -> 78.25 | U15: =RANK(T15,T$2:T$52,0) -> 4 | V15: Idaho | W15: =AVERAGE(J15:M15) -> 70.75 | X15: 7 | Y15: 7.89 | Z15: 0.25 | AA15: 7.55 | AB15: 9 | AC15: 9.51 | AD15: 0.32 | AE15: 8.44 | AF15: Idaho | AG15: 7.89 | AH15: ID | AI15: Idaho
A16: 3 | B16: 512 | C16: IL | D16: rasch | E16: 2014 | F16: IL | G16: 80 | H16: 81 | I16: 68 | J16: 72 | K16: 64 | L16: 74 | M16: 61 | N16: 87 | O16: 52 | P16: 71 | Q16: 6.1 | R16: 9 | S16: 7.41 | T16: =AVERAGE(G16:J16) -> 75.25 | U16: =RANK(T16,T$2:T$52,0) -> 28 | V16: Illinois | W16: =AVERAGE(J16:M16) -> 67.75 | X16: 6 | Y16: 7.61 | Z16: 0.25 | AA16: 7.41 | AB16: 9 | AC16: 9.14 | AD16: 0.31 | AE16: 8.28 | AF16: Illinois | AG16: 7.61 | AH16: IL | AI16: Illinois
A17: 3 | B17: 513 | C17: IN | D17: rasch | E17: 2014 | F17: IN | G17: 82 | H17: 83 | I17: 71 | J17: 72 | K17: 65 | L17: 76 | M17: 62 | N17: 88 | O17: 55 | P17: 75 | Q17: 6.2 | R17: 9 | S17: 7.47 | T17: =AVERAGE(G17:J17) -> 77 | U17: =RANK(T17,T$2:T$52,0) -> 14 | V17: Indiana | W17: =AVERAGE(J17:M17) -> 68.75 | X17: 7 | Y17: 7.81 | Z17: 0.25 | AA17: 7.47 | AB17: 9 | AC17: 9.36 | AD17: 0.32 | AE17: 8.35 | AF17: Indiana | AG17: 7.81 | AH17: IN | AI17: Indiana
A18: 3 | B18: 514 | C18: KS | D18: rasch | E18: 2014 | F18: KS | G18: 81 | H18: 85 | I18: 72 | J18: 73 | K18: 66 | L18: 76 | M18: 67 | N18: 87 | O18: 57 | P18: 76 | Q18: 6.6 | R18: 9 | S18: 7.71 | T18: =AVERAGE(G18:J18) -> 77.75 | U18: =RANK(T18,T$2:T$52,0) -> 6 | V18: Kansas | W18: =AVERAGE(J18:M18) -> 70.5 | X18: 7 | Y18: 7.86 | Z18: 0.25 | AA18: 7.71 | AB18: 9 | AC18: 9.49 | AD18: 0.32 | AE18: 8.62 | AF18: Kansas | AG18: 7.86 | AH18: KS | AI18: Kansas
A19: 3 | B19: 515 | C19: KY | D19: rasch | E19: 2014 | F19: KY | G19: 81 | H19: 84 | I19: 70 | J19: 72 | K19: 66 | L19: 75 | M19: 66 | N19: 87 | O19: 53 | P19: 73 | Q19: 6.6 | R19: 9 | S19: 7.71 | T19: =AVERAGE(G19:J19) -> 76.75 | U19: =RANK(T19,T$2:T$52,0) -> 15 | V19: Kentucky | W19: =AVERAGE(J19:M19) -> 69.75 | X19: 7 | Y19: 7.74 | Z19: 0.25 | AA19: 7.71 | AB19: 9 | AC19: 9.36 | AD19: 0.32 | AE19: 8.62 | AF19: Kentucky | AG19: 7.74 | AH19: KY | AI19: Kentucky
A20: 3 | B20: 516 | C20: LA | D20: rasch | E20: 2014 | F20: LA | G20: 84 | H20: 87 | I20: 73 | J20: 76 | K20: 69 | L20: 76 | M20: 74 | N20: 86 | O20: 58 | P20: 76 | Q20: 6.9 | R20: 9 | S20: 7.88 | T20: =AVERAGE(G20:J20) -> 80 | U20: =RANK(T20,T$2:T$52,0) -> 2 | V20: Louisiana | W20: =AVERAGE(J20:M20) -> 73.75 | X20: 7 | Y20: 7.99 | Z20: 0.26 | AA20: 7.88 | AB20: 9 | AC20: 9.74 | AD20: 0.32 | AE20: 8.81 | AF20: Louisiana | AG20: 7.99 | AH20: LA | AI20: Louisiana
A21: 3 | B21: 517 | C21: MA | D21: rasch | E21: 2014 | F21: MA | G21: 80 | H21: 81 | I21: 66 | J21: 71 | K21: 64 | L21: 72 | M21: 53 | N21: 89 | O21: 53 | P21: 70 | Q21: 5.3 | R21: 10 | S21: 7.28 | T21: =AVERAGE(G21:J21) -> 74.5 | U21: =RANK(T21,T$2:T$52,0) -> 36 | V21: Massachusetts | W21: =AVERAGE(J21:M21) -> 65 | X21: 6 | Y21: 7.56 | Z21: 0.25 | AA21: 7.28 | AB21: 9 | AC21: 9.27 | AD21: 0.31 | AE21: 8.14 | AF21: Massachusetts | AG21: 7.56 | AH21: MA | AI21: Massachusetts
A22: 3 | B22: 518 | C22: MD | D22: rasch | E22: 2014 | F22: MD | G22: 76 | H22: 79 | I22: 60 | J22: 68 | K22: 60 | L22: 66 | M22: 57 | N22: 86 | O22: 48 | P22: 65 | Q22: 5.7 | R22: 9 | S22: 7.16 | T22: =AVERAGE(G22:J22) -> 70.75 | U22: =RANK(T22,T$2:T$52,0) -> 48 | V22: Maryland | W22: =AVERAGE(J22:M22) -> 62.75 | X22: 6 | Y22: 7.14 | Z22: 0.24 | AA22: 7.16 | AB22: 8 | AC22: 8.75 | AD22: 0.3 | AE22: 8.01 | AF22: Maryland | AG22: 7.14 | AH22: MD | AI22: Maryland
A23: 3 | B23: 519 | C23: ME | D23: rasch | E23: 2014 | F23: ME | G23: 83 | H23: 83 | I23: 71 | J23: 73 | K23: 69 | L23: 80 | M23: 59 | N23: 89 | O23: 57 | P23: 75 | Q23: 5.7 | R23: 10 | S23: 7.55 | T23: =AVERAGE(G23:J23) -> 77.5 | U23: =RANK(T23,T$2:T$52,0) -> 9 | V23: Maine | W23: =AVERAGE(J23:M23) -> 70.25 | X23: 7 | Y23: 7.91 | Z23: 0.26 | AA23: 7.55 | AB23: 9 | AC23: 9.47 | AD23: 0.32 | AE23: 8.44 | AF23: Maine | AG23: 7.91 | AH23: ME | AI23: Maine
... A52: 3 | B52: 550 | C52: WY | D52: rasch | E52: 2014 | F52: WY | G52: 78 | H52: 81 | I52: 73 | J52: 71 | K52: 67 | L52: 74 | M52: 64 | N52: 89 | O52: 52 | P52: 68 | Q52: 6.4 | R52: 9 | S52: 7.59 | T52: =AVERAGE(G52:J52) -> 75.75 | U52: =RANK(T52,T$2:T$52,0) -> 23 | V52: Wyoming | W52: =AVERAGE(J52:M52) -> 69 | X52: 6 | Y52: 7.63 | Z52: 0.25 | AA52: 7.59 | AB52: 9 | AC52: 9.24 | AD52: 0.31 | AE52: 8.49 | AF52: Wyoming | AG52: 7.63 | AH52: WY | AI52: Wyoming

Sheet 工作表2
A1: repno | B1: replyno | C1: author | D1: type | E1: email | F1: item1 | G1: item2 | H1: item3 | I1: item4 | J1: item5 | K1: item6 | L1: item7 | M1: item8 | N1: item9 | O1: item10 | P1: dd | Q1: Gini | R1: =CORREL(P2:P492,Q2:Q492) -> #REF! | S1: =CORREL(Q2:Q492,R2:R492) -> #REF!
A2: 3 | B2: 498 | C2: AK | D2: rasch | E2: 2014 | F2: =da!G2/8 -> 9.5 | G2: =da!H2/8 -> 9.875 | H2: =da!I2/8 -> 8.875 | I2: =da!J2/8 -> 8.25 | J2: =da!K2/8 -> 8.875 | K2: =da!L2/8 -> 9.125 | L2: =da!M2/8 -> 7 | M2: =da!N2/8 -> 11 | ... O2: =da!P2/8 -> 8.625 | P2: =AVERAGE(F2:O2) -> 8.7375 | Q2: 0.05 | R2: =_xlfn.VAR.S(F2:O2) -> 1.8487847 | S2: =R2*1000+20 -> 1868.7847
A3: 3 | B3: 499 | C3: AL | D3: rasch | E3: 2014 | F3: =da!G3/8 -> 10.125 | G3: =da!H3/8 -> 10.75 | H3: =da!I3/8 -> 8.625 | I3: =da!J3/8 -> 9.125 | J3: =da!K3/8 -> 8.25 | K3: =da!L3/8 -> 9 | L3: =da!M3/8 -> 9 | M3: =da!N3/8 -> 10.75 | ... O3: =da!P3/8 -> 9 | P3: =AVERAGE(F3:O3) -> 9.1125 | Q3: 0.04 | R3: =_xlfn.VAR.S(F3:O3) -> 1.5814236 | S3: =R3*1000+20 -> 1601.4236
A4: 3 | B4: 500 | C4: AR | D4: rasch | E4: 2014 | F4: =da!G4/8 -> 10 | G4: =da!H4/8 -> 10.5 | H4: =da!I4/8 -> 8.5 | I4: =da!J4/8 -> 8.75 | J4: =da!K4/8 -> 8 | K4: =da!L4/8 -> 9.125 | L4: =da!M4/8 -> 8.375 | M4: =da!N4/8 -> 10.375 | ... O4: =da!P4/8 -> 8.875 | P4: =AVERAGE(F4:O4) -> 8.8875 | Q4: 0.04 | R4: =_xlfn.VAR.S(F4:O4) -> 1.5154514 | S4: =R4*1000+20 -> 1535.4514
A5: 3 | B5: 501 | C5: AZ | D5: rasch | E5: 2014 | F5: =da!G5/8 -> 9.625 | G5: =da!H5/8 -> 9.75 | H5: =da!I5/8 -> 8.25 | I5: =da!J5/8 -> 8.75 | J5: =da!K5/8 -> 8 | K5: =da!L5/8 -> 8.75 | L5: =da!M5/8 -> 7.125 | M5: =da!N5/8 -> 10.75 | ... O5: =da!P5/8 -> 8.75 | P5: =AVERAGE(F5:O5) -> 8.6125 | Q5: 0.05 | R5: =_xlfn.VAR.S(F5:O5) -> 1.6300347 | S5: =R5*1000+20 -> 1650.0347
A6: 3 | B6: 502 | C6: CA | D6: rasch | E6: 2014 | F6: =da!G6/8 -> 9.375 | G6: =da!H6/8 -> 9.75 | H6: =da!I6/8 -> 7.75 | I6: =da!J6/8 -> 8.625 | J6: =da!K6/8 -> 7.625 | K6: =da!L6/8 -> 8.75 | L6: =da!M6/8 -> 6.375 | M6: =da!N6/8 -> 10.625 | ... O6: =da!P6/8 -> 8.5 | P6: =AVERAGE(F6:O6) -> 8.35 | Q6: 0.06 | R6: =_xlfn.VAR.S(F6:O6) -> 2.0201389 | S6: =R6*1000+20 -> 2040.1389
A7: 3 | B7: 503 | C7: CO | D7: rasch | E7: 2014 | F7: =da!G7/8 -> 9.875 | G7: =da!H7/8 -> 10.125 | H7: =da!I7/8 -> 8.75 | I7: =da!J7/8 -> 8.875 | J7: =da!K7/8 -> 8.375 | K7: =da!L7/8 -> 9.375 | L7: =da!M7/8 -> 8.125 | M7: =da!N7/8 -> 11 | ... O7: =da!P7/8 -> 9.25 | P7: =AVERAGE(F7:O7) -> 9.0625 | Q7: 0.04 | R7: =_xlfn.VAR.S(F7:O7) -> 1.3272569 | S7: =R7*1000+20 -> 1347.2569
A8: 3 | B8: 504 | C8: CT | D8: rasch | E8: 2014 | F8: =da!G8/8 -> 9.875 | G8: =da!H8/8 -> 10 | H8: =da!I8/8 -> 8 | I8: =da!J8/8 -> 8.875 | J8: =da!K8/8 -> 8 | K8: =da!L8/8 -> 8.875 | L8: =da!M8/8 -> 6.5 | M8: =da!N8/8 -> 10.875 | ... O8: =da!P8/8 -> 8.5 | P8: =AVERAGE(F8:O8) -> 8.5875 | Q8: 0.06 | R8: =_xlfn.VAR.S(F8:O8) -> 2.1112847 | S8: =R8*1000+20 -> 2131.2847
A9: 3 | B9: 505 | C9: DC | D9: rasch | E9: 2014 | F9: =da!G9/8 -> 8.75 | G9: =da!H9/8 -> 9.625 | H9: =da!I9/8 -> 6.5 | I9: =da!J9/8 -> 8 | J9: =da!K9/8 -> 7 | K9: =da!L9/8 -> 7.5 | L9: =da!M9/8 -> 6.75 | M9: =da!N9/8 -> 10 | ... O9: =da!P9/8 -> 7.25 | P9: =AVERAGE(F9:O9) -> 7.65 | Q9: 0.06 | R9: =_xlfn.VAR.S(F9:O9) -> 2.2076389 | S9: =R9*1000+20 -> 2227.6389
A10: 3 | B10: 506 | C10: DE | D10: rasch | E10: 2014 | F10: =da!G10/8 -> 9.875 | G10: =da!H10/8 -> 9.875 | H10: =da!I10/8 -> 8.375 | I10: =da!J10/8 -> 8.625 | J10: =da!K10/8 -> 7.875 | K10: =da!L10/8 -> 8.75 | L10: =da!M10/8 -> 6.875 | M10: =da!N10/8 -> 10.875 | ... O10: =da!P10/8 -> 8.625 | P10: =AVERAGE(F10:O10) -> 8.6125 | Q10: 0.05 | R10: =_xlfn.VAR.S(F10:O10) -> 1.8835069 | S10: =R10*1000+20 -> 1903.5069
A11: 3 | B11: 507 | C11: FL | D11: rasch | E11: 2014 | F11: =da!G11/8 -> 9.5 | G11: =da!H11/8 -> 9.625 | H11: =da!I11/8 -> 7.875 | I11: =da!J11/8 -> 8.5 | J11: =da!K11/8 -> 7.625 | K11: =da!L11/8 -> 8.75 | L11: =da!M11/8 -> 7.375 | M11: =da!N11/8 -> 10.5 | ... O11: =da!P11/8 -> 8.375 | P11: =AVERAGE(F11:O11) -> 8.425 | Q11: 0.05 | R11: =_xlfn.VAR.S(F11:O11) -> 1.5944444 | S11: =R11*1000+20 -> 1614.4444
A12: 3 | B12: 508 | C12: GA | D12: rasch | E12: 2014 | F12: =da!G12/8 -> 9.875 | G12: =da!H12/8 -> 10.375 | H12: =da!I12/8 -> 8.25 | I12: =da!J12/8 -> 8.875 | J12: =da!K12/8 -> 8 | K12: =da!L12/8 -> 9 | L12: =da!M12/8 -> 8.5 | M12: =da!N12/8 -> 10.625 | ... O12: =da!P12/8 -> 8.875 | P12: =AVERAGE(F12:O12) -> 8.875 | Q12: 0.04 | R12: =_xlfn.VAR.S(F12:O12) -> 1.5416667 | S12: =R12*1000+20 -> 1561.6667
A13: 3 | B13: 509 | C13: HI | D13: rasch | E13: 2014 | F13: =da!G13/8 -> 10.125 | G13: =da!H13/8 -> 10.375 | H13: =da!I13/8 -> 8.75 | I13: =da!J13/8 -> 9 | J13: =da!K13/8 -> 8.25 | K13: =da!L13/8 -> 9.5 | L13: =da!M13/8 -> 7.625 | M13: =da!N13/8 -> 10.5 | ... O13: =da!P13/8 -> 8.75 | P13: =AVERAGE(F13:O13) -> 8.95 | Q13: 0.05 | R13: =_xlfn.VAR.S(F13:O13) -> 1.5388889 | S13: =R13*1000+20 -> 1558.8889
... A27: 3 | B27: 523 | C27: MS | D27: rasch | E27: 2014 | F27: =da!G27/8 -> 10.125 | G27: =da!H27/8 -> 10.75 | H27: =da!I27/8 -> 8.75 | I27: =da!J27/8 -> 9.125 | J27: =da!K27/8 -> 8.25 | K27: =da!L27/8 -> 9.25 | L27: =da!M27/8 -> 9 | M27: =da!N27/8 -> 10.625 | ... O27: =da!P27/8 -> 8.875 | P27: =AVERAGE(F27:O27) -> 9.1125 | Q27: 0.04 | R27: =_xlfn.VAR.S(F27:O27) -> 1.6057292 | S27: =R27*1000+20 -> 1625.7292
A28: 3 | B28: 524 | C28: MT | D28: rasch | E28: 2014 | F28: =da!#REF!/8 -> #REF! | G28: =da!#REF!/8 -> #REF! | H28: =da!#REF!/8 -> #REF! | I28: =da!#REF!/8 -> #REF! | J28: =da!#REF!/8 -> #REF! | K28: =da!#REF!/8 -> #REF! | L28: =da!#REF!/8 -> #REF! | M28: =da!#REF!/8 -> #REF! | ... O28: =da!#REF!/8 -> #REF! | P28: =AVERAGE(F28:O28) -> #REF! | Q28: 0.05 | R28: =_xlfn.VAR.S(F28:O28) -> #REF! | S28: =R28*1000+20 -> #REF!
A29: 3 | B29: 525 | C29: NC | D29: rasch | E29: 2014 | F29: =da!G28/8 -> 9.875 | G29: =da!H28/8 -> 10.5 | H29: =da!I28/8 -> 9 | I29: =da!J28/8 -> 9 | J29: =da!K28/8 -> 8.125 | K29: =da!L28/8 -> 9.125 | L29: =da!M28/8 -> 7.625 | M29: =da!N28/8 -> 10.625 | ... O29: =da!P28/8 -> 8.5 | P29: =AVERAGE(F29:O29) -> 8.8875 | Q29: 0.05 | R29: =_xlfn.VAR.S(F29:O29) -> 1.6335069 | S29: =R29*1000+20 -> 1653.5069
A30: 3 | B30: 526 | C30: ND | D30: rasch | E30: 2014 | F30: =da!G29/8 -> 10.125 | G30: =da!H29/8 -> 10.375 | H30: =da!I29/8 -> 8.5 | I30: =da!J29/8 -> 8.875 | J30: =da!K29/8 -> 8.25 | K30: =da!L29/8 -> 9 | L30: =da!M29/8 -> 8 | M30: =da!N29/8 -> 10.875 | ... O30: =da!P29/8 -> 8.875 | P30: =AVERAGE(F30:O30) -> 8.9375 | Q30: 0.04 | R30: =_xlfn.VAR.S(F30:O30) -> 1.6362847 | S30: =R30*1000+20 -> 1656.2847
A31: 3 | B31: 527 | C31: NE | D31: rasch | E31: 2014 | F31: =da!G30/8 -> 10.125 | G31: =da!H30/8 -> 10.25 | H31: =da!I30/8 -> 9.125 | I31: =da!J30/8 -> 9.125 | J31: =da!K30/8 -> 7.625 | K31: =da!L30/8 -> 9.125 | L31: =da!M30/8 -> 8.125 | M31: =da!N30/8 -> 10.125 | ... O31: =da!P30/8 -> 8.625 | P31: =AVERAGE(F31:O31) -> 8.875 | Q31: 0.04 | R31: =_xlfn.VAR.S(F31:O31) -> 1.4479167 | S31: =R31*1000+20 -> 1467.9167
A32: 3 | B32: 528 | C32: NH | D32: rasch | E32: 2014 | F32: =da!G31/8 -> 10.375 | G32: =da!H31/8 -> 10.75 | H32: =da!I31/8 -> 9.625 | I32: =da!J31/8 -> 9.25 | J32: =da!K31/8 -> 8.5 | K32: =da!L31/8 -> 10 | L32: =da!M31/8 -> 8.625 | M32: =da!N31/8 -> 11 | ... O32: =da!P31/8 -> 9.625 | P32: =AVERAGE(F32:O32) -> 9.5 | Q32: 0.05 | R32: =_xlfn.VAR.S(F32:O32) -> 1.3055556 | S32: =R32*1000+20 -> 1325.5556
A33: 3 | B33: 529 | C33: NJ | D33: rasch | E33: 2014 | F33: =da!G32/8 -> 10.125 | G33: =da!H32/8 -> 10.125 | H33: =da!I32/8 -> 8.875 | I33: =da!J32/8 -> 9 | J33: =da!K32/8 -> 8.375 | K33: =da!L32/8 -> 9.5 | L33: =da!M32/8 -> 7.125 | M33: =da!N32/8 -> 11.125 | ... O33: =da!P32/8 -> 9.125 | P33: =AVERAGE(F33:O33) -> 9.0125 | Q33: 0.06 | R33: =_xlfn.VAR.S(F33:O33) -> 1.8105903 | S33: =R33*1000+20 -> 1830.5903
A34: 3 | B34: 530 | C34: NM | D34: rasch | E34: 2014 | F34: =da!G33/8 -> 9.625 | G34: =da!H33/8 -> 9.75 | H34: =da!I33/8 -> 7.625 | I34: =da!J33/8 -> 8.625 | J34: =da!K33/8 -> 7.5 | K34: =da!L33/8 -> 8.5 | L34: =da!M33/8 -> 6.625 | M34: =da!N33/8 -> 10.375 | ... O34: =da!P33/8 -> 8 | P34: =AVERAGE(F34:O34) -> 8.25 | Q34: 0.05 | R34: =_xlfn.VAR.S(F34:O34) -> 2.0173611 | S34: =R34*1000+20 -> 2037.3611
A35: 3 | B35: 531 | C35: NV | D35: rasch | E35: 2014 | F35: =da!G34/8 -> 9.5 | G35: =da!H34/8 -> 9.75 | H35: =da!I34/8 -> 8.375 | I35: =da!J34/8 -> 8.5 | J35: =da!K34/8 -> 8 | K35: =da!L34/8 -> 8.875 | L35: =da!M34/8 -> 7.75 | M35: =da!N34/8 -> 10.5 | ... O35: =da!P34/8 -> 8.25 | P35: =AVERAGE(F35:O35) -> 8.55 | Q35: 0.05 | R35: =_xlfn.VAR.S(F35:O35) -> 1.5354167 | S35: =R35*1000+20 -> 1555.4167
A36: 3 | B36: 532 | C36: NY | D36: rasch | E36: 2014 | F36: =da!G35/8 -> 9.125 | G36: =da!H35/8 -> 9.375 | H36: =da!I35/8 -> 7.5 | I36: =da!J35/8 -> 8.25 | J36: =da!K35/8 -> 7.5 | K36: =da!L35/8 -> 8.625 | L36: =da!M35/8 -> 6.75 | M36: =da!N35/8 -> 10.5 | ... O36: =da!P35/8 -> 8.25 | P36: =AVERAGE(F36:O36) -> 8.1875 | Q36: 0.06 | R36: =_xlfn.VAR.S(F36:O36) -> 1.7369792 | S36: =R36*1000+20 -> 1756.9792
A37: 3 | B37: 533 | C37: OH | D37: rasch | E37: 2014 | F37: =da!G36/8 -> 9.5 | G37: =da!H36/8 -> 9.625 | H37: =da!I36/8 -> 7.75 | I37: =da!J36/8 -> 8.375 | J37: =da!K36/8 -> 7.5 | K37: =da!L36/8 -> 8.75 | L37: =da!M36/8 -> 6.5 | M37: =da!N36/8 -> 10.625 | ... O37: =da!P36/8 -> 8 | P37: =AVERAGE(F37:O37) -> 8.25 | Q37: 0.05 | R37: =_xlfn.VAR.S(F37:O37) -> 2.1041667 | S37: =R37*1000+20 -> 2124.1667
A38: 3 | B38: 534 | C38: OK | D38: rasch | E38: 2014 | F38: =da!G37/8 -> 10.125 | G38: =da!H37/8 -> 10.125 | H38: =da!I37/8 -> 8.75 | I38: =da!J37/8 -> 9 | J38: =da!K37/8 -> 8.125 | K38: =da!L37/8 -> 9.375 | L38: =da!M37/8 -> 7.5 | M38: =da!N37/8 -> 11 | ... O38: =da!P37/8 -> 9.125 | P38: =AVERAGE(F38:O38) -> 8.975 | Q38: 0.04 | R38: =_xlfn.VAR.S(F38:O38) -> 1.7111111 | S38: =R38*1000+20 -> 1731.1111
A39: 3 | B39: 535 | C39: OR | D39: rasch | E39: 2014 | F39: =da!G38/8 -> 10 | G39: =da!H38/8 -> 10.625 | H39: =da!I38/8 -> 9 | I39: =da!J38/8 -> 9.125 | J39: =da!K38/8 -> 8.25 | K39: =da!L38/8 -> 9.25 | L39: =da!M38/8 -> 8.75 | M39: =da!N38/8 -> 10.75 | ... O39: =da!P38/8 -> 9.125 | P39: =AVERAGE(F39:O39) -> 9.15 | Q39: 0.05 | R39: =_xlfn.VAR.S(F39:O39) -> 1.4263889 | S39: =R39*1000+20 -> 1446.3889
A40: 3 | B40: 536 | C40: PA | D40: rasch | E40: 2014 | F40: =da!G39/8 -> 9.875 | G40: =da!H39/8 -> 10.125 | H40: =da!I39/8 -> 8.625 | I40: =da!J39/8 -> 8.75 | J40: =da!K39/8 -> 8.125 | K40: =da!L39/8 -> 9.25 | L40: =da!M39/8 -> 7 | M40: =da!N39/8 -> 11 | ... O40: =da!P39/8 -> 8.875 | P40: =AVERAGE(F40:O40) -> 8.8125 | Q40: 0.05 | R40: =_xlfn.VAR.S(F40:O40) -> 1.8862847 | S40: =R40*1000+20 -> 1906.2847
... A52: 3 | B52: 550 | C52: WY | D52: rasch | E52: 2014 | F52: =da!G51/8 -> 9.875 | G52: =da!H51/8 -> 10.25 | H52: =da!I51/8 -> 8.5 | I52: =da!J51/8 -> 8.75 | J52: =da!K51/8 -> 8.125 | K52: =da!L51/8 -> 9.25 | L52: =da!M51/8 -> 7.25 | M52: =da!N51/8 -> 10.875 | ... O52: =da!P51/8 -> 8.375 | P52: =AVERAGE(F52:O52) -> 8.75 | Q52: 0.05 | R52: =_xlfn.VAR.S(F52:O52) -> 1.9305556 | S52: =R52*1000+20 -> 1950.5556
F53: =da!G52/8 -> 9.75 | G53: =da!H52/8 -> 10.125 | H53: =da!I52/8 -> 9.125 | I53: =da!J52/8 -> 8.875 | J53: =da!K52/8 -> 8.375 | K53: =da!L52/8 -> 9.25 | L53: =da!M52/8 -> 8 | M53: =da!N52/8 -> 11.125 | ... O53: =da!P52/8 -> 8.5 | P53: =AVERAGE(F53:O53) -> 8.9625 | Q53: 1.05

Sheet 工作表3
A1: 3.16 | B1: ALL | C1: 3.16 | H1: ALL | I1: 3.16 | J1: 3.16 | K1: ALL | L1: 3.16 | M1: state | N1: 7.71 | O1: Ag | P1: 7.16 | Q1: 7 | R1: 7.65 | S1: 7.16 | T1: 6.84 | U1: 7.14 | V1: 7.29 | W1: 7.59 | X1: 7.41 | Y1: 7.71 | Z1: 7.55 | AA1: 7.41 | AB1: 7.47 | AC1: 7.71 | AD1: 7.71 | AE1: 7.88 | AF1: 7.28 | AG1: 7.16 | AH1: 7.55 | AI1: 7.41 | AJ1: 7.77 | AK1: 7.59 | AL1: 7.71 | AM1: 7.41 | AN1: 7.59 | AO1: 7.41 | AP1: 7.82 | AQ1: 7.35 | AR1: 6.93 | AS1: 7.47 | AT1: 6.97 | AU1: 6.93 | AV1: 7.35 | AW1: 7.71 | AX1: 7.21 | AY1: 7.14 | AZ1: 7.21 | BA1: 7.71 | BB1: 7.82 | BC1: 7.65 | BD1: 7.71 | BE1: 7.62 | BF1: 7.41 | BG1: 7.28 | BH1: 7.14 | BI1: 7.65 | BJ1: 7.22 | BK1: 7.59
A2: 7.27 | B2: AK | C2: 7.27 | D2: =VLOOKUP(B2,E$2:G$899,2,FALSE) -> Alaska | E2: ME | F2: Maine | G2: ME | H2: Alaska | I2: 7.27 | J2: 7.27 | K2: AK | L2: 7.27 | M2: =VLOOKUP(K2,E$2:ME$4000,2,FALSE) -> Alaska | N2: AL | O2: 7.53 | P2: AZ | Q2: CA | R2: CO | S2: CT | T2: DC | U2: DE | V2: FL | W2: GA | X2: HI | Y2: IA | Z2: ID | AA2: IL | AB2: IN | AC2: KS | AD2: KY | AE2: LA | AF2: MA | AG2: MD | AH2: ME | AI2: MI | AJ2: MN | AK2: MO | AL2: MS | AM2: MT | AN2: NC | AO2: ND | AP2: NE | AQ2: NH | AR2: NJ | AS2: NM | AT2: NV | AU2: NY | AV2: OH | AW2: OK | AX2: OR | AY2: PA | AZ2: RI | BA2: SC | BB2: SD | BC2: TN | BD2: TX | BE2: UT | BF2: VA | BG2: VT | BH2: WA | BI2: WI | BJ2: WV | BK2: WY
A3: 7.71 | B3: AL | C3: 7.71 | D3: =VLOOKUP(B3,E$2:G$899,2,FALSE) -> Alabama | E3: MA | F3: Massachusetts | G3: MA | H3: Alabama | I3: 7.71 | J3: 7.71 | K3: AL | L3: 7.71 | M3: =VLOOKUP(K3,E$2:ME$4000,2,FALSE) -> Alabama | N3: DC | O3: 7.74 | P3: FL | Q3: GA | R3: HI | S3: IA | T3: ID | U3: IL | V3: IN | W3: KS | X3: KY | Y3: LA | Z3: MA | AA3: MD | AB3: ME | AC3: MI | AD3: MN | AE3: MO | AF3: MS | AG3: MT | AH3: NC | AI3: ND | AJ3: NE | AK3: NH | AL3: NJ | AM3: NM | AN3: NV | AO3: NY | AP3: OH | AQ3: OK | AR3: OR | AS3: PA | AT3: RI | AU3: SC | AV3: SD | AW3: TN | AX3: TX | AY3: UT | AZ3: VA | BA3: VT | BB3: WA | BC3: WI | BD3: WV | BE3: WY
A4: 7.59 | B4: AR | C4: 7.59 | D4: =VLOOKUP(B4,E$2:G$899,2,FALSE) -> Arkansas | E4: MI | F4: Michigan | G4: MI | H4: Arkansas | I4: 7.59 | J4: 7.59 | K4: AR | L4: 7.59 | M4: =VLOOKUP(K4,E$2:ME$4000,2,FALSE) -> Arkansas | O4: 7.56
A5: 7.16 | B5: AZ | C5: 7.16 | D5: =VLOOKUP(B5,E$2:G$899,2,FALSE) -> Arizona | E5: MT | F5: Montana | G5: MT | H5: Arizona | I5: 7.16 | J5: 7.16 | K5: AZ | L5: 7.16 | M5: =VLOOKUP(K5,E$2:ME$4000,2,FALSE) -> Arizona | O5: 7.39
A6: 7 | B6: CA | C6: 7 | D6: =VLOOKUP(B6,E$2:G$899,2,FALSE) -> California | E6: NV | F6: Nevada | G6: NV | H6: California | I6: 7 | J6: 7 | K6: CA | L6: 7 | M6: =VLOOKUP(K6,E$2:ME$4000,2,FALSE) -> California | O6: 7.24
A7: 7.65 | B7: CO | C7: 7.65 | D7: =VLOOKUP(B7,E$2:G$899,2,FALSE) -> Colorado | E7: NJ | F7: New+Jersey | G7: NJ | H7: Colorado | I7: 7.65 | J7: 7.65 | K7: CO | L7: 7.65 | M7: =VLOOKUP(K7,E$2:ME$4000,2,FALSE) -> Colorado | O7: 7.69
A8: 7.16 | B8: CT | C8: 7.16 | D8: =VLOOKUP(B8,E$2:G$899,2,FALSE) -> Connecticut | E8: NY | F8: New+York | G8: NY | H8: Connecticut | I8: 7.16 | J8: 7.16 | K8: CT | L8: 7.16 | M8: =VLOOKUP(K8,E$2:ME$4000,2,FALSE) -> Connecticut | O8: 7.43
A9: 6.84 | B9: DC | C9: 6.84 | D9: =VLOOKUP(B9,E$2:G$899,2,FALSE) -> District+of+Columbia | E9: NC | F9: North+Carolina | G9: NC | H9: District+of+Columbia | I9: 6.84 | J9: 6.84 | K9: DC | L9: 6.84 | M9: =VLOOKUP(K9,E$2:ME$4000,2,FALSE) -> District+of+Columbia | O9: 6.82
A10: 7.14 | B10: DE | C10: 7.14 | D10: =VLOOKUP(B10,E$2:G$899,2,FALSE) -> Delaware | E10: OH | F10: Ohio | G10: OH | H10: Delaware | I10: 7.14 | J10: 7.14 | K10: DE | L10: 7.14 | M10: =VLOOKUP(K10,E$2:ME$4000,2,FALSE) -> Delaware | O10: 7.43
A11: 7.29 | B11: FL | C11: 7.29 | D11: =VLOOKUP(B11,E$2:G$899,2,FALSE) -> Florida | E11: PA | F11: Pennsylvania | G11: PA | H11: Florida | I11: 7.29 | J11: 7.29 | K11: FL | L11: 7.29 | M11: =VLOOKUP(K11,E$2:ME$4000,2,FALSE) -> Florida | O11: 7.21
A12: 7.59 | B12: GA | C12: 7.59 | D12: =VLOOKUP(B12,E$2:G$899,2,FALSE) -> Georgia | E12: RI | F12: Rhode+Island | G12: RI | H12: Georgia | I12: 7.59 | J12: 7.59 | K12: GA | L12: 7.59 | M12: =VLOOKUP(K12,E$2:ME$4000,2,FALSE) -> Georgia | O12: 7.56
A13: 7.41 | B13: HI | C13: 7.41 | D13: =VLOOKUP(B13,E$2:G$899,2,FALSE) -> Hawaii | E13: TN | F13: Tennessee | G13: TN | H13: Hawaii | I13: 7.41 | J13: 7.41 | K13: HI | L13: 7.41 | M13: =VLOOKUP(K13,E$2:ME$4000,2,FALSE) -> Hawaii | O13: 7.66
A14: 7.71 | B14: IA | C14: 7.71 | D14: =VLOOKUP(B14,E$2:G$899,2,FALSE) -> Iowa | E14: TX | F14: Texas | G14: TX | H14: Iowa | I14: 7.71 | J14: 7.71 | K14: IA | L14: 7.71 | M14: =VLOOKUP(K14,E$2:ME$4000,2,FALSE) -> Iowa | O14: 7.91
A15: 7.55 | B15: ID | C15: 7.55 | D15: =VLOOKUP(B15,E$2:G$899,2,FALSE) -> Idaho | E15: UT | F15: Utah | G15: UT | H15: Idaho | I15: 7.55 | J15: 7.55 | K15: ID | L15: 7.55 | M15: =VLOOKUP(K15,E$2:ME$4000,2,FALSE) -> Idaho | O15: 7.89
... A52: 7.59 | B52: WY | C52: 7.59 | D52: =VLOOKUP(B52,E$2:G$899,2,FALSE) -> Wyoming | E52: WV | F52: West+Virginia | G52: WV | H52: Wyoming | I52: 7.59 | J52: 7.59 | K52: WY | L52: 7.59 | M52: =VLOOKUP(K52,E$2:ME$4000,2,FALSE) -> Wyoming | O52: 7.63
E53: WY | F53: Wyoming | G53: WY | M53: =VLOOKUP(K53,E$2:ME$4000,2,FALSE) -> #N/A

Sheet 工作表4
A1: ALL | B1: 3.16 | C1: state | F1: 1 | G1: 10 | H1: 1 | I1: 6.6 | J1: 6.6 | K1: 6.4 | L1: 5.7 | M1: 4.9 | N1: 6.5 | O1: 6.4 | P1: 5.2 | Q1: 5.1 | R1: 5.9 | S1: 6.4 | T1: 6.1 | U1: 6.6 | V1: 5.7 | W1: 6.1 | X1: 6.2 | Y1: 6.6 | Z1: 6.6 | AA1: 6.9 | AB1: 5.3 | AC1: 5.7 | AD1: 5.7 | AE1: 6.1 | AF1: 6.7 | AG1: 6.4 | AH1: 6.6 | AI1: 6.1 | AJ1: 6.4 | AK1: 6.1 | AL1: 6.8 | AM1: 5.4 | AN1: 6 | AO1: 6.2 | AP1: 5.4 | AQ1: 6 | AR1: 6 | AS1: 6.6 | AT1: 6.5 | AU1: 5.1 | AV1: 5.2 | AW1: 6.6 | AX1: 6.8 | AY1: 6.5 | AZ1: 6.6 | BA1: 5.8 | BB1: 6.1 | BC1: 5.3 | BD1: 5.1 | BE1: 6.5 | BF1: 5.8 | BG1: 6.4
A2: AK | B2: 7.27 | C2: Alaska | F2: 6.6 | G2: 8 | H2: 10 | I2: 8 | J2: 9 | K2: 9 | L2: 9 | M2: 10 | N2: 9 | O2: 8 | P2: 9 | Q2: 10 | R2: 9 | S2: 9 | T2: 9 | U2: 9 | V2: 10 | W2: 9 | X2: 9 | Y2: 9 | Z2: 9 | AA2: 9 | AB2: 10 | AC2: 9 | AD2: 10 | AE2: 9 | AF2: 9 | AG2: 9 | AH2: 9 | AI2: 9 | AJ2: 9 | AK2: 9 | AL2: 9 | AM2: 10 | AN2: 8 | AO2: 9 | AP2: 9 | AQ2: 8 | AR2: 9 | AS2: 9 | AT2: 8 | AU2: 10 | AV2: 10 | AW2: 9 | AX2: 9 | AY2: 9 | AZ2: 9 | BA2: 10 | BB2: 9 | BC2: 10 | BD2: 10 | BE2: 9 | BF2: 9 | BG2: 9
A3: AL | B3: 7.71 | C3: Alabama | F3: 6.6 | G3: 9
A4: AR | B4: 7.59 | C4: Arkansas | F4: 6.4 | G4: 9
A5: AZ | B5: 7.16 | C5: Arizona | F5: 5.7 | G5: 9
A6: CA | B6: 7 | C6: California | F6: 4.9 | G6: 10
A7: CO | B7: 7.65 | C7: Colorado | F7: 6.5 | G7: 9
A8: CT | B8: 7.16 | C8: Connecticut | F8: 6.4 | G8: 8
A9: DC | B9: 6.84 | C9: District+of+Columbia | F9: 5.2 | G9: 9
A10: DE | B10: 7.14 | C10: Delaware | F10: 5.1 | G10: 10
A11: FL | B11: 7.29 | C11: Florida | F11: 5.9 | G11: 9
A12: GA | B12: 7.59 | C12: Georgia | F12: 6.4 | G12: 9
A13: HI | B13: 7.41 | C13: Hawaii | F13: 6.1 | G13: 9
A14: IA | B14: 7.71 | C14: Iowa | F14: 6.6 | G14: 9
... A52: WY | B52: 7.59 | C52: Wyoming | F52: 6.4 | G52: 9
C53: #N/A

Sheet 工作表5
C1: 1 | D1: 10 | E1: 3.16 | F1: ALL | G1: 10 | H1: 1 | I1: 6.6 | J1: 6.6 | K1: 6.4 | L1: 5.7 | M1: 4.9 | N1: 6.5 | O1: 6.4 | P1: 5.2 | Q1: 5.1 | R1: 5.9 | S1: 6.4 | T1: 6.1 | U1: 6.6 | V1: 5.7 | W1: 6.1 | X1: 6.2 | Y1: 6.6 | Z1: 6.6 | AA1: 6.9 | AB1: 5.3 | AC1: 5.7 | AD1: 5.7 | AE1: 6.1 | AF1: 6.7 | AG1: 6.4 | AH1: 6.6 | AI1: 6.1 | AJ1: 6.4 | AK1: 6.1 | AL1: 6.8 | AM1: 5.4 | AN1: 6 | AO1: 6.2 | AP1: 5.4 | AQ1: 6 | AR1: 6 | AS1: 6.6 | AT1: 6.5 | AU1: 5.1 | AV1: 5.2 | AW1: 6.6 | AX1: 6.8 | AY1: 6.5 | AZ1: 6.6 | BA1: 5.8 | BB1: 6.1 | BC1: 5.3 | BD1: 5.1 | BE1: 6.5 | BF1: 5.8 | BG1: 6.4
A2: =INT(B2) -> 0 | B2: 0.24 | C2: 6.6 | D2: 8 | E2: 7.27 | F2: AK | G2: 8 | H2: 10 | I2: 8 | J2: 9 | K2: 9 | L2: 9 | M2: 10 | N2: 9 | O2: 8 | P2: 9 | Q2: 10 | R2: 9 | S2: 9 | T2: 9 | U2: 9 | V2: 10 | W2: 9 | X2: 9 | Y2: 9 | Z2: 9 | AA2: 9 | AB2: 10 | AC2: 9 | AD2: 10 | AE2: 9 | AF2: 9 | AG2: 9 | AH2: 9 | AI2: 9 | AJ2: 9 | AK2: 9 | AL2: 9 | AM2: 10 | AN2: 8 | AO2: 9 | AP2: 9 | AQ2: 8 | AR2: 9 | AS2: 9 | AT2: 8 | AU2: 10 | AV2: 10 | AW2: 9 | AX2: 9 | AY2: 9 | AZ2: 9 | BA2: 10 | BB2: 9 | BC2: 10 | BD2: 10 | BE2: 9 | BF2: 9 | BG2: 9
A3: =INT(B3) -> 0 | B3: 0.25 | C3: 6.6 | D3: 9 | E3: 7.71 | F3: AL | G3: 9 | H3: 3.16 | I3: 7.27 | J3: 7.71 | K3: 7.59 | L3: 7.16 | M3: 7 | N3: 7.65 | O3: 7.16 | P3: 6.84 | Q3: 7.14 | R3: 7.29 | S3: 7.59 | T3: 7.41 | U3: 7.71 | V3: 7.55 | W3: 7.41 | X3: 7.47 | Y3: 7.71 | Z3: 7.71 | AA3: 7.88 | AB3: 7.28 | AC3: 7.16 | AD3: 7.55 | AE3: 7.41 | AF3: 7.77 | AG3: 7.59 | AH3: 7.71 | AI3: 7.41 | AJ3: 7.59 | AK3: 7.41 | AL3: 7.82 | AM3: 7.35 | AN3: 6.93 | AO3: 7.47 | AP3: 6.97 | AQ3: 6.93 | AR3: 7.35 | AS3: 7.71 | AT3: 7.21 | AU3: 7.14 | AV3: 7.21 | AW3: 7.71 | AX3: 7.82 | AY3: 7.65 | AZ3: 7.71 | BA3: 7.62 | BB3: 7.41 | BC3: 7.28 | BD3: 7.14 | BE3: 7.65 | BF3: 7.22 | BG3: 7.59
A4: =INT(B4) -> 0 | B4: 0.25 | C4: 6.4 | D4: 9 | E4: 7.59 | F4: AR | G4: 9 | H4: ALL | I4: AK | J4: AL | K4: AR | L4: AZ | M4: CA | N4: CO | O4: CT | P4: DC | Q4: DE | R4: FL | S4: GA | T4: HI | U4: IA | V4: ID | W4: IL | X4: IN | Y4: KS | Z4: KY | AA4: LA | AB4: MA | AC4: MD | AD4: ME | AE4: MI | AF4: MN | AG4: MO | AH4: MS | AI4: MT | AJ4: NC | AK4: ND | AL4: NE | AM4: NH | AN4: NJ | AO4: NM | AP4: NV | AQ4: NY | AR4: OH | AS4: OK | AT4: OR | AU4: PA | AV4: RI | AW4: SC | AX4: SD | AY4: TN | AZ4: TX | BA4: UT | BB4: VA | BC4: VT | BD4: WA | BE4: WI | BF4: WV | BG4: WY
A5: =INT(B5) -> 0 | B5: 0.24 | C5: 5.7 | D5: 9 | E5: 7.16 | F5: AZ | G5: 9 | H5: 6.39 | I5: 7.35 | J5: 6.39 | K5: 6.38 | L5: 6.38 | M5: 7.34 | N5: 6.39 | O5: 5.38 | P5: 6.39 | Q5: 6.37 | R5: 6.39 | S5: 7.34 | T5: 7.37 | U5: 7.36 | V5: 6.4 | W5: 7.36 | X5: 7.36 | Y5: 7.35 | Z5: 7.37 | AA5: 6.4 | AB5: 6.37 | AC5: 7.37 | AD5: 7.34 | AE5: 7.36 | AF5: 6.39 | AG5: 7.35 | AH5: 6.4 | AI5: 6.39 | AJ5: 6.39 | AK5: 7.38 | AL5: 7.35 | AM5: 6.37 | AN5: 6.37 | AO5: 6.36 | AP5: 6.37 | AQ5: 7.35 | AR5: 7.35 | AS5: 6.39 | AT5: 6.4 | AU5: 6.4 | AV5: 6.39 | AW5: 7.38 | AX5: 6.39 | AY5: 7.34 | AZ5: 6.4 | BA5: 6.39 | BB5: 6.4 | BC5: 6.39 | BD5: 7.37 | BE5: 6.39 | BF5: 6.39
A6: =INT(B6) -> 0 | B6: 0.24 | C6: 4.9 | D6: 10 | E6: 7 | F6: CA | G6: 10
A7: =INT(B7) -> 0 | B7: 0.25 | C7: 6.5 | D7: 9 | E7: 7.65 | F7: CO | G7: 9 | H7: 7.53 | I7: 7.74 | J7: 7.56 | K7: 7.39 | L7: 7.24 | M7: 7.69 | N7: 7.43 | O7: 6.82 | P7: 7.43 | Q7: 7.21 | R7: 7.56 | S7: 7.66 | T7: 7.91 | U7: 7.89 | V7: 7.61 | W7: 7.81 | X7: 7.86 | Y7: 7.74 | Z7: 7.99 | AA7: 7.56 | AB7: 7.14 | AC7: 7.91 | AD7: 7.7 | AE7: 7.89 | AF7: 7.59 | AG7: 7.74 | AH7: 7.61 | AI7: 7.61 | AJ7: 7.6 | AK7: 8.07 | AL7: 7.76 | AM7: 7.14 | AN7: 7.29 | AO7: 7.04 | AP7: 7.16 | AQ7: 7.71 | AR7: 7.76 | AS7: 7.6 | AT7: 7.54 | AU7: 7.56 | AV7: 7.59 | AW7: 8.07 | AX7: 7.63 | AY7: 7.73 | AZ7: 7.76 | BA7: 7.5 | BB7: 7.71 | BC7: 7.49 | BD7: 7.97 | BE7: 7.53 | BF7: 7.63
A8: =INT(B8) -> 0 | B8: 0.25 | C8: 6.4 | D8: 8 | E8: 7.16 | F8: CT | G8: 8 | H8: 8.1 | I8: 8.43 | J8: 8.23 | K8: 8.03 | L8: 7.93 | M8: 8.27 | N8: 8.2 | O8: 7.57 | P8: 8.17 | Q8: 7.9 | R8: 8.23 | S8: 8.27 | T8: 8.47 | U8: 8.47 | V8: 8.27 | W8: 8.43 | X8: 8.43 | Y8: 8.4 | Z8: 8.57 | AA8: 8.33 | AB8: 8.03 | AC8: 8.5 | AD8: 8.33 | AE8: 8.47 | AF8: 8.3 | AG8: 8.4 | AH8: 8.27 | AI8: 8.37 | AJ8: 8.13 | AK8: 8.57 | AL8: 8.37 | AM8: 7.93 | AN8: 7.93 | AO8: 7.73 | AP8: 7.93 | AQ8: 8.33 | AR8: 8.37 | AS8: 8.27 | AT8: 8.23 | AU8: 8.27 | AV8: 8.3 | AW8: 8.57 | AX8: 8.3 | AY8: 8.3 | AZ8: 8.43 | BA8: 8.27 | BB8: 8.33 | BC8: 8.2 | BD8: 8.53 | BE8: 8.27 | BF8: 8.27
A9: =INT(B9) -> 0 | B9: 0.23 | C9: 5.2 | D9: 9 | E9: 6.84 | F9: DC | G9: 9 | H9: 0.24 | I9: 0.25 | J9: 0.25 | K9: 0.24 | L9: 0.24 | M9: 0.25 | N9: 0.25 | O9: 0.23 | P9: 0.24 | Q9: 0.24 | R9: 0.25 | S9: 0.25 | T9: 0.25 | U9: 0.25 | V9: 0.25 | W9: 0.25 | X9: 0.25 | Y9: 0.25 | Z9: 0.26 | AA9: 0.25 | AB9: 0.24 | AC9: 0.26 | AD9: 0.25 | AE9: 0.25 | AF9: 0.25 | AG9: 0.25 | AH9: 0.25 | AI9: 0.25 | AJ9: 0.24 | AK9: 0.26 | AL9: 0.25 | AM9: 0.24 | AN9: 0.24 | AO9: 0.23 | AP9: 0.24 | AQ9: 0.25 | AR9: 0.25 | AS9: 0.25 | AT9: 0.25 | AU9: 0.25 | AV9: 0.25 | AW9: 0.26 | AX9: 0.25 | AY9: 0.25 | AZ9: 0.25 | BA9: 0.25 | BB9: 0.25 | BC9: 0.25 | BD9: 0.26 | BE9: 0.25 | BF9: 0.25
A10: =INT(B10) -> 0 | B10: 0.24 | C10: 5.1 | D10: 10 | E10: 7.14 | F10: DE | G10: 10
A11: =INT(B11) -> 0 | B11: 0.24 | C11: 5.9 | D11: 9 | E11: 7.29 | F11: FL | G11: 9
A12: =INT(B12) -> 0 | B12: 0.25 | C12: 6.4 | D12: 9 | E12: 7.59 | F12: GA | G12: 9
A13: =INT(B13) -> 0 | B13: 0.25 | C13: 6.1 | D13: 9 | E13: 7.41 | F13: HI | G13: 9
A14: =INT(B14) -> 0 | B14: 0.25 | C14: 6.6 | D14: 9 | E14: 7.71 | F14: IA | G14: 9
A15: =INT(B15) -> 0 | B15: 0.25 | C15: 5.7 | D15: 10 | E15: 7.55 | F15: ID | G15: 10
A16: =INT(B16) -> 0 | B16: 0.25 | C16: 6.1 | D16: 9 | E16: 7.41 | F16: IL | G16: 9
A17: =INT(B17) -> 0 | B17: 0.25 | C17: 6.2 | D17: 9 | E17: 7.47 | F17: IN | G17: 9
A18: =INT(B18) -> 0 | B18: 0.25 | C18: 6.6 | D18: 9 | E18: 7.71 | F18: KS | G18: 9
A19: =INT(B19) -> 0 | B19: 0.25 | C19: 6.6 | D19: 9 | E19: 7.71 | F19: KY | G19: 9
A20: =INT(B20) -> 0 | B20: 0.26 | C20: 6.9 | D20: 9 | E20: 7.88 | F20: LA | G20: 9
A21: =INT(B21) -> 0 | B21: 0.25 | C21: 5.3 | D21: 10 | E21: 7.28 | F21: MA | G21: 10
... A52: =INT(B52) -> 0 | B52: 0.25 | C52: 6.4 | D52: 9 | E52: 7.59 | F52: WY | G52: 9

Sheet 工作表6
A1: 7.53 | B1: AK | C1: 2 | D1: 1 | E1: 7.27 | F1: 2 | G1: ALL | H1: 7.53 | I1: 7.74 | J1: 7.56 | K1: 7.39 | L1: 7.24 | M1: 7.69 | N1: 7.43 | O1: 6.82 | P1: 7.43 | Q1: 7.21 | R1: 7.56 | S1: 7.66 | T1: 7.91 | U1: 7.89 | V1: 7.61 | W1: 7.81 | X1: 7.86 | Y1: 7.74 | Z1: 7.99 | AA1: 7.56 | AB1: 7.14 | AC1: 7.91 | AD1: 7.7 | AE1: 7.89 | AF1: 7.59 | AG1: 7.74 | AH1: 7.61 | AI1: 7.61 | AJ1: 7.6 | AK1: 8.07 | AL1: 7.76 | AM1: 7.14 | AN1: 7.29 | AO1: 7.04 | AP1: 7.16 | AQ1: 7.71 | AR1: 7.76 | AS1: 7.6 | AT1: 7.54 | AU1: 7.56 | AV1: 7.59 | AW1: 8.07 | AX1: 7.63 | AY1: 7.73 | AZ1: 7.76 | BA1: 7.5 | BB1: 7.71 | BC1: 7.49 | BD1: 7.97 | BE1: 7.53 | BF1: 7.63
A2: 7.74 | B2: AL | C2: 6.9 | D2: 7 | E2: 7.71 | F2: 7.53 | G2: AK | H2: AK | I2: AL | J2: AR | K2: AZ | L2: CA | M2: CO | N2: CT | O2: DC | P2: DE | Q2: FL | R2: GA | S2: HI | T2: IA | U2: ID | V2: IL | W2: IN | X2: KS | Y2: KY | Z2: LA | AA2: MA | AB2: MD | AC2: ME | AD2: MI | AE2: MN | AF2: MO | AG2: MS | AH2: MT | AI2: NC | AJ2: ND | AK2: NE | AL2: NH | AM2: NJ | AN2: NM | AO2: NV | AP2: NY | AQ2: OH | AR2: OK | AS2: OR | AT2: PA | AU2: RI | AV2: SC | AW2: SD | AX2: TN | AY2: TX | AZ2: UT | BA2: VA | BB2: VT | BC2: WA | BD2: WI | BE2: WV | BF2: WY
A3: 7.56 | B3: AR | C3: 7.2 | D3: 7 | E3: 7.59 | F3: 7.74 | G3: AL | H3: 2 | I3: 6.9 | J3: 7.2 | K3: 6.8 | L3: 6.6 | M3: 6.2 | N3: 7 | O3: 6.4 | P3: 5.8 | Q3: 6.7 | R3: 6.3 | S3: 6.8 | T3: 7 | U3: 7.2 | V3: 7.3 | W3: 6.8 | X3: 7.1 | Y3: 7.2 | Z3: 7 | AA3: 7.4 | AB3: 6.6 | AC3: 6 | AD3: 7.1 | AE3: 7.1 | AF3: 7.1 | AG3: 6.8 | AH3: 7.1 | AI3: 6.8 | AJ3: 6.8 | AK3: 6.9 | AL3: 7.4 | AM3: 7.1 | AN3: 6.1 | AO3: 6.6 | AP3: 6 | AQ3: 6.2 | AR3: 7 | AS3: 7.2 | AT3: 6.9 | AU3: 6.7 | AV3: 6.7 | AW3: 6.8 | AX3: 7.4 | AY3: 6.9 | AZ3: 7 | BA3: 6.9 | BB3: 6.5 | BC3: 6.9 | BD3: 6.6 | BE3: 7.3 | BF3: 6.7 | BG3: 6.8
A4: 7.39 | B4: AZ | C4: 6.8 | D4: 7 | E4: 7.16 | F4: 7.56 | G4: AR | H4: 1 | I4: 7 | J4: 7 | K4: 7 | L4: 7 | M4: 7 | N4: 7 | O4: 7 | P4: 6 | Q4: 7 | R4: 7 | S4: 7 | T4: 7 | U4: 7 | V4: 7 | W4: 7 | X4: 7 | Y4: 7 | Z4: 7 | AA4: 7 | AB4: 7 | AC4: 7 | AD4: 7 | AE4: 7 | AF4: 7 | AG4: 7 | AH4: 7 | AI4: 7 | AJ4: 7 | AK4: 7 | AL4: 7 | AM4: 7 | AN4: 7 | AO4: 7 | AP4: 7 | AQ4: 7 | AR4: 7 | AS4: 7 | AT4: 7 | AU4: 7 | AV4: 7 | AW4: 7 | AX4: 7 | AY4: 7 | AZ4: 7 | BA4: 7 | BB4: 7 | BC4: 7 | BD4: 7 | BE4: 7 | BF4: 7 | BG4: 7
A5: 7.24 | B5: CA | C5: 6.6 | D5: 7 | E5: 7 | F5: 7.39 | G5: AZ | H5: 7.27 | I5: 7.71 | J5: 7.59 | K5: 7.16 | L5: 7 | M5: 7.65 | N5: 7.16 | O5: 6.84 | P5: 7.14 | Q5: 7.29 | R5: 7.59 | S5: 7.41 | T5: 7.71 | U5: 7.55 | V5: 7.41 | W5: 7.47 | X5: 7.71 | Y5: 7.71 | Z5: 7.88 | AA5: 7.28 | AB5: 7.16 | AC5: 7.55 | AD5: 7.41 | AE5: 7.77 | AF5: 7.59 | AG5: 7.71 | AH5: 7.41 | AI5: 7.59 | AJ5: 7.41 | AK5: 7.82 | AL5: 7.35 | AM5: 6.93 | AN5: 7.47 | AO5: 6.97 | AP5: 6.93 | AQ5: 7.35 | AR5: 7.71 | AS5: 7.21 | AT5: 7.14 | AU5: 7.21 | AV5: 7.71 | AW5: 7.82 | AX5: 7.65 | AY5: 7.71 | AZ5: 7.62 | BA5: 7.41 | BB5: 7.28 | BC5: 7.14 | BD5: 7.65 | BE5: 7.22 | BF5: 7.59
A6: 7.69 | B6: CO | C6: 6.2 | D6: 7 | E6: 7.65 | F6: 7.24 | G6: CA | H6: AK | I6: AL | J6: AR | K6: AZ | L6: CA | M6: CO | N6: CT | O6: DC | P6: DE | Q6: FL | R6: GA | S6: HI | T6: IA | U6: ID | V6: IL | W6: IN | X6: KS | Y6: KY | Z6: LA | AA6: MA | AB6: MD | AC6: ME | AD6: MI | AE6: MN | AF6: MO | AG6: MS | AH6: MT | AI6: NC | AJ6: ND | AK6: NE | AL6: NH | AM6: NJ | AN6: NM | AO6: NV | AP6: NY | AQ6: OH | AR6: OK | AS6: OR | AT6: PA | AU6: RI | AV6: SC | AW6: SD | AX6: TN | AY6: TX | AZ6: UT | BA6: VA | BB6: VT | BC6: WA | BD6: WI | BE6: WV | BF6: WY
A7: 7.43 | B7: CT | C7: 7 | D7: 7 | E7: 7.16 | F7: 7.69 | G7: CO | H7: 2 | I7: 7.53 | J7: 7.74 | K7: 7.56 | L7: 7.39 | M7: 7.24 | N7: 7.69 | O7: 7.43 | P7: 6.82 | Q7: 7.43 | R7: 7.21 | S7: 7.56 | T7: 7.66 | U7: 7.91 | V7: 7.89 | W7: 7.61 | X7: 7.81 | Y7: 7.86 | Z7: 7.74 | AA7: 7.99 | AB7: 7.56 | AC7: 7.14 | AD7: 7.91 | AE7: 7.7 | AF7: 7.89 | AG7: 7.59 | AH7: 7.74 | AI7: 7.61 | AJ7: 7.61 | AK7: 7.6 | AL7: 8.07 | AM7: 7.76 | AN7: 7.14 | AO7: 7.29 | AP7: 7.04 | AQ7: 7.16 | AR7: 7.71 | AS7: 7.76 | AT7: 7.6 | AU7: 7.54 | AV7: 7.56 | AW7: 7.59 | AX7: 8.07 | AY7: 7.63 | AZ7: 7.73 | BA7: 7.76 | BB7: 7.5 | BC7: 7.71 | BD7: 7.49 | BE7: 7.97 | BF7: 7.53 | BG7: 7.63
A8: 6.82 | B8: DC | C8: 6.4 | D8: 7 | E8: 6.84 | F8: 7.43 | G8: CT | H8: ALL | I8: AK | J8: AL | K8: AR | L8: AZ | M8: CA | N8: CO | O8: CT | P8: DC | Q8: DE | R8: FL | S8: GA | T8: HI | U8: IA | V8: ID | W8: IL | X8: IN | Y8: KS | Z8: KY | AA8: LA | AB8: MA | AC8: MD | AD8: ME | AE8: MI | AF8: MN | AG8: MO | AH8: MS | AI8: MT | AJ8: NC | AK8: ND | AL8: NE | AM8: NH | AN8: NJ | AO8: NM | AP8: NV | AQ8: NY | AR8: OH | AS8: OK | AT8: OR | AU8: PA | AV8: RI | AW8: SC | AX8: SD | AY8: TN | AZ8: TX | BA8: UT | BB8: VA | BC8: VT | BD8: WA | BE8: WI | BF8: WV | BG8: WY
A9: 7.43 | B9: DE | C9: 5.8 | D9: 6 | E9: 7.14 | F9: 6.82 | G9: DC | H9: 2 | I9: 6.9 | J9: 7.2 | K9: 6.8 | L9: 6.6 | M9: 6.2 | N9: 7 | O9: 6.4 | P9: 5.8 | Q9: 6.7 | R9: 6.3 | S9: 6.8 | T9: 7 | U9: 7.2 | V9: 7.3 | W9: 6.8 | X9: 7.1 | Y9: 7.2 | Z9: 7 | AA9: 7.4 | AB9: 6.6 | AC9: 6 | AD9: 7.1 | AE9: 7.1 | AF9: 7.1 | AG9: 6.8 | AH9: 7.1 | AI9: 6.8 | AJ9: 6.8 | AK9: 6.9 | AL9: 7.4 | AM9: 7.1 | AN9: 6.1 | AO9: 6.6 | AP9: 6 | AQ9: 6.2 | AR9: 7 | AS9: 7.2 | AT9: 6.9 | AU9: 6.7 | AV9: 6.7 | AW9: 6.8 | AX9: 7.4 | AY9: 6.9 | AZ9: 7 | BA9: 6.9 | BB9: 6.5 | BC9: 6.9 | BD9: 6.6 | BE9: 7.3 | BF9: 6.7 | BG9: 6.8
A10: 7.21 | B10: FL | C10: 6.7 | D10: 7 | E10: 7.29 | F10: 7.43 | G10: DE | H10: 1 | I10: 7 | J10: 7 | K10: 7 | L10: 7 | M10: 7 | N10: 7 | O10: 7 | P10: 6 | Q10: 7 | R10: 7 | S10: 7 | T10: 7 | U10: 7 | V10: 7 | W10: 7 | X10: 7 | Y10: 7 | Z10: 7 | AA10: 7 | AB10: 7 | AC10: 7 | AD10: 7 | AE10: 7 | AF10: 7 | AG10: 7 | AH10: 7 | AI10: 7 | AJ10: 7 | AK10: 7 | AL10: 7 | AM10: 7 | AN10: 7 | AO10: 7 | AP10: 7 | AQ10: 7 | AR10: 7 | AS10: 7 | AT10: 7 | AU10: 7 | AV10: 7 | AW10: 7 | AX10: 7 | AY10: 7 | AZ10: 7 | BA10: 7 | BB10: 7 | BC10: 7 | BD10: 7 | BE10: 7 | BF10: 7 | BG10: 7
A11: 7.56 | B11: GA | C11: 6.3 | D11: 7 | E11: 7.59 | F11: 7.21 | G11: FL
A12: 7.66 | B12: HI | C12: 6.8 | D12: 7 | E12: 7.41 | F12: 7.56 | G12: GA
A13: 7.91 | B13: IA | C13: 7 | D13: 7 | E13: 7.71 | F13: 7.66 | G13: HI
A14: 7.89 | B14: ID | C14: 7.2 | D14: 7 | E14: 7.55 | F14: 7.91 | G14: IA
A15: 7.61 | B15: IL | C15: 7.3 | D15: 7 | E15: 7.41 | F15: 7.89 | G15: ID
A16: 7.81 | B16: IN | C16: 6.8 | D16: 7 | E16: 7.47 | F16: 7.61 | G16: IL
A17: 7.86 | B17: KS | C17: 7.1 | D17: 7 | E17: 7.71 | F17: 7.81 | G17: IN
A18: 7.74 | B18: KY | C18: 7.2 | D18: 7 | E18: 7.71 | F18: 7.86 | G18: KS
A19: 7.99 | B19: LA | C19: 7 | D19: 7 | E19: 7.88 | F19: 7.74 | G19: KY
A20: 7.56 | B20: MA | C20: 7.4 | D20: 7 | E20: 7.28 | F20: 7.99 | G20: LA
A21: 7.14 | B21: MD | C21: 6.6 | D21: 7 | E21: 7.16 | F21: 7.56 | G21: MA
A22: 7.91 | B22: ME | C22: 6 | D22: 7 | E22: 7.55 | F22: 7.14 | G22: MD
... A51: 7.63 | B51: WY | C51: 6.7 | D51: 7 | E51: 7.59 | F51: 7.53 | G51: WV
C52: 6.8 | D52: 7 | F52: 7.63 | G52: WY

Sheet 工作表7
A1: Comm. with Nurses
A2: Comm. with Doctors
A3: Responsiveness of Hospital Staff
A4: Pain Management
A5: Comm. About Medicines
A6: Cleanliness of Hosp. Env.
A7: Quietness of Hosp. Env.
A8: Discharge Information
A9: Overall Hospital Rating
A10: Recommend the Hospital
